{"text_format":"3","workbook":"xlsx","n_sheets":7,"sheets":["Instruction","CSG Prawdhan","School Intro","PEEO Intro","Expenditure","UC School Level","UC Peeo Level"],"not_rendered":{"images":4,"defined_names":4,"comments":1},"read":"whole","date_system":"1900"}

{"sheet":"Instruction","index":0,"n_rows":30,"n_cols":8,"rows_kept":30,"merged":[[4,0,4,9],[5,0,5,9],[6,0,6,9],[7,0,7,9],[9,1,9,9],[10,1,10,9],[11,1,11,9],[12,0,12,9],[13,0,13,9],[14,5,16,9],[17,0,17,9],[19,0,19,9],[20,0,20,9],[21,0,21,9],[26,1,26,2],[26,7,26,9],[29,0,29,9]]}
["गुरुजनों सादर नमस्कार,"]
["आपकी सेवार्थ मेरा एक और छोटा सा प्रयास ----------------"]
["सुधार अपेक्षित हो तो अवगत करावे ताकि अपडेट किया जा सके | साभार "]
[]
["कम्पोजिट स्कूल ग्रांट (Composite School Grant) "]
["उपयोगिता प्रमाण पत्र ऑटो रेडी"]
["इस प्रोग्राम से आप उपयोगिता प्रमाण पत्र (विद्यालय स्तर एवं पीईईओ स्तर) एवं खर्च विवरण माहवार तैयार कर सकते है | जैसे ही आप Expenditure fill करोगे आप का माहवार खर्च विवरण तैयार होता जायेगा |"]
["प्रयोग में लेना का तरीका "]
[]
[8,"सर्वप्रथम आप School Intro वाली शीट में अपने विद्यालय का नाम यूडाईस कोड, सत्र, CSG में प्राप्त होने वाली राशि भरेंगे | इसके बाद कोनसी क़िस्त में कितने प्रतिशत राशि तथा दिनाक लिखनी है |"]
[8,"इसके बाद PEEO Intro वाली शीट में अधीनस्थ विद्यालयों के नाम, डाईस कोड, विद्यालय का प्रकार (ड्राप डाउन से चुने), प्राप्त राशि एवं व्यय राशि भरेंगे|"]
[8,"फिर Expenditure वाली शीट में दिनाक, बिल संख्या व दिनाक, नाम सामग्री, मात्रा/संख्या, दर, उपयोग का विवरण, पृ.स. आदि की एंट्री करनी है |"]
["Password- \"csg\""]
["For More Detail click on SUBSCRIBE Button below"]
[{"$nulls":5},"Ashwini Kumar ExcelProgrammeMaker"]
[]
[]
["बस आपके दोनों प्रकार के उपयोगिता प्रमाण पत्र तैयार हो गये है आप इनका प्रिंट ले सकते है |"]
[]
["For any Problem you can Contact-"]
["Ashwini Kumar, Senior Teacher"]
["Government Senior Secondary School, Rooppura (Kuchaman City)"]
[]
[]
[]
[]
[null,"+91 9166023711",{"$nulls":5},"sspkctakumar@gmail.com"]
[]
[]
["श्री दिलीप कुमार पारीक (अग्रज), प्रधानाचार्य राउमावि शिव (कुचामन सिटी) का आभार जिन्होंने ये प्रोग्राम बनाने के लिए कहा तथा इसे बनाने में भी मेरी सहायता की |"]

{"sheet":"CSG Prawdhan","index":1,"n_rows":43,"n_cols":3,"rows_kept":43,"merged":[[0,0,0,2],[1,0,1,2],[2,0,2,2],[3,0,3,2],[11,0,11,2],[12,0,12,2],[32,0,32,2],[33,0,33,2],[35,0,35,2],[36,0,36,2]]}
[{"$f":"'School Intro'!A1","v":"jktdh; mPp ek/;fed fo|ky;] :iiqjk ¼dqpkeu flVh½ ukxkSj"}]
["कम्पोजिट स्कूल ग्रांट (Composite School Grant)"]
["CSG"]
["वित्तीय प्रावधान"]
["S.No.","Number of Students in School","School Grant"]
[1,"1-15","Rs. 12500 (Including atleast RS. 1250 for Swachhta Action Plan)"]
[2,"16-100","Rs. 25000 (Including atleast RS. 2500 for Swachhta Action Plan)"]
[3,"101-250","Rs. 50000 (Including atleast RS. 5000 for Swachhta Action Plan)"]
[4,"251-1000","Rs. 75000 (Including atleast RS. 7500 for Swachhta Action Plan)"]
[5,"Above 1000","Rs. 100000 (Including atleast RS. 10000 for Swachhta Action Plan)"]
[]
["विद्यालय स्तर "]
["CSG की राशि का उपयोग निम्न सामग्री क्रय करने में आवश्यकतानुसार किया जा सकता है -"]
["1. विद्यालय के अक्रियाशील उपकरणों के प्रतिस्थापन हेतु |"]
["2. दरी पट्टी / दरी |"]
["3. श्यामपट्ट मरम्मत एवं रंग रोशन / ग्रीन बोर्ड / आदमकद दर्पण / कार्मिको का फोटो युक्त विवरण |"]
["4. चोंक / डस्टर |"]
["5. परीक्षा सम्बन्धी स्टेशनरी |"]
["6. पेयजल वयवस्था, विद्युत व्यय |"]
["7. एक दैनिक समाचार पत्र (अनिवार्य) |"]
["8. विज्ञान/गणित किट प्रतिस्थापन पर व्यय |"]
["9. विज्ञान व गणित विषय के ई कंटेंट क्रय कर कल्प लैब हेतु उपलब्ध करवाना |"]
["10. प्रतियोगिता का आयोजन / खेल सामग्री / उपलब्धि प्रमाण पत्र मुद्रण |"]
["11.अग्निशमन यंत्र के सिलेंडर में गैस भरवाने हेतु |"]
["12. शाला स्वस्थ कार्यक्रम में रैफर किये गये विद्यार्थियों को अस्पताल ले जाने का किराया |"]
["13. प्रयोगशाला सम्बन्धी उपकरणों के रख रखाव एवं मरम्मत हेतु |"]
["14. इन्टरनेट सम्बन्धी कार्य |"]
["15. वार्षिक टूट फुट, मरम्मत व सौन्द्रयन (विद्यालय भवन, शौचालय / मूत्रालय व अन्य व्यवस्थाये |"]
["16. शिक्षण सम्बन्धी सामग्री में उपयोग"]
["17. अन्य उपयोज्य सामग्री यथा - झाड़ू, मटका, बाल्टी, मग आदि |"]
["18. छात्र हित में अन्य आवृति मदों हेतु |"]
[]
["विद्यालय स्वच्छता एक्शन प्लान -"]
["10 प्रतिशत राशि निर्धारित है |"]
["1. विद्यालय के शौचालयों/मूत्रालयो का नियमित उपयोग एवं रख रखाव |"]
["2. शौचालयों/ मूत्रालयो की साफ़ सफाई व सफाई हेतु वांछित सामग्री यथा ब्रश, एसिड, टॉयलेट क्लीनर आदि क्रय करने के लिए |"]
["3. MDM से पूर्व व शौचालय उपयोग उपरांत छात्र/छात्राओ को हाथ धोने के लिए साबुन की व्यवस्था करने के लिए |"]
["4. शौचालयों/ मूत्रालयो की माइनर रिपेयर करवाने के लिए |"]
["5. शौचालयों/ मूत्रालयो में रनिंग वाटर सुविधा या पानी की टंकी रखने के लिए |"]
["6. बेकार पानी तथा सूखे कचरे के निस्तारण की व्यवस्था हेतु |"]
["7. कक्षा कक्षों एवं विद्यालय परिसर में कचरा पात्र क्रय या तैयार करने हेतु |"]
["8. बालिका शौचालय के साथ इन्सिनरेटर लगाने या निर्माण के लिए |"]
["9- पेयजल स्रोत को ठीक करवाने के लिए |"]

{"sheet":"School Intro","index":2,"n_rows":30,"n_cols":8,"rows_kept":30,"merged":[[0,0,0,7],[1,2,1,3],[3,0,3,5],[3,6,3,7],[9,2,9,3],[9,4,9,5],[11,2,11,7],[12,2,12,7],[15,0,15,7]]}
["jktdh; mPp ek/;fed fo|ky;] :iiqjk ¼dqpkeu flVh½ ukxkSj"]
["यू-डाईस कोड-",null,"08140912304",{"$nulls":3},"सत्र -","2019-20"]
[]
["कम्पोजिट स्कूल ग्रांट (Composite School Grant) प्राप्त होने वाली राशि",{"$nulls":5},{"v":75000,"d":"₹ 75,000.00"}]
[]
[null,null,"क़िस्त","प्रथम","द्वितीय","तृतीय"]
[null,null,"प्रतिशत",{"v":0.25,"d":"25.00%"},{"v":0.5,"d":"50.00%"},{"v":0.25,"d":"25.00%"}]
[null,null,"दिनाक को प्राप्त","2020-07-01","2020-09-01","2020-12-01"]
[null,null,"राशि",{"$f":"G4*D7","v":{"v":18750,"d":"₹ 18,750.00"}},{"$f":"G4*E7","v":{"v":37500,"d":"₹ 37,500.00"}},{"$f":"G4*F7","v":{"v":18750,"d":"₹ 18,750.00"}}]
[null,null,"अब तक प्राप्त राशि -",null,{"$f":"SUM(D9:F9)","v":{"v":75000,"d":"₹ 75,000.00"}}]
[]
["बैंक का नाम -",null,"स्टेट बैंक ऑफ़ इंडिया, कुचामन सिटी (नागौर)"]
["शाखा-",null,"कुचामन सिटी"]
["खाता संख्या-"]
[]
[]
[]
[null,null,"माह का नाम","खर्च राशि","शेष राशि","विवि"]
[null,null,"APR",{"$f":"IF(SUMIF(Table2[माह],'School Intro'!C19,Table2[राशि])=0,\"\",SUMIF(Table2[माह],'School Intro'!C19,Table2[राशि]))","v":{"v":400,"d":"₹ 400.00"}},{"$f":"IFERROR($E$10-SUM($D$19:D19),\"\")","v":{"v":74600,"d":"₹ 74,600.00"}}]
[null,null,"MAY",{"$f":"IF(SUMIF(Table2[माह],'School Intro'!C20,Table2[राशि])=0,\"\",SUMIF(Table2[माह],'School Intro'!C20,Table2[राशि]))","v":{"v":500,"d":"₹ 500.00"}},{"$f":"IFERROR($E$10-SUM($D$19:D20),\"\")","v":{"v":74100,"d":"₹ 74,100.00"}}]
[null,null,"JUN",{"$f":"IF(SUMIF(Table2[माह],'School Intro'!C21,Table2[राशि])=0,\"\",SUMIF(Table2[माह],'School Intro'!C21,Table2[राशि]))","v":""},{"$f":"IFERROR($E$10-SUM($D$19:D21),\"\")","v":{"v":74100,"d":"₹ 74,100.00"}}]
[null,null,"JUL",{"$f":"IF(SUMIF(Table2[माह],'School Intro'!C22,Table2[राशि])=0,\"\",SUMIF(Table2[माह],'School Intro'!C22,Table2[राशि]))","v":""},{"$f":"IFERROR($E$10-SUM($D$19:D22),\"\")","v":{"v":74100,"d":"₹ 74,100.00"}}]
[null,null,"AUG",{"$f":"IF(SUMIF(Table2[माह],'School Intro'!C23,Table2[राशि])=0,\"\",SUMIF(Table2[माह],'School Intro'!C23,Table2[राशि]))","v":""},{"$f":"IFERROR($E$10-SUM($D$19:D23),\"\")","v":{"v":74100,"d":"₹ 74,100.00"}}]
[null,null,"SEP",{"$f":"IF(SUMIF(Table2[माह],'School Intro'!C24,Table2[राशि])=0,\"\",SUMIF(Table2[माह],'School Intro'!C24,Table2[राशि]))","v":""},{"$f":"IFERROR($E$10-SUM($D$19:D24),\"\")","v":{"v":74100,"d":"₹ 74,100.00"}}]
[null,null,"OCT",{"$f":"IF(SUMIF(Table2[माह],'School Intro'!C25,Table2[राशि])=0,\"\",SUMIF(Table2[माह],'School Intro'!C25,Table2[राशि]))","v":""},{"$f":"IFERROR($E$10-SUM($D$19:D25),\"\")","v":{"v":74100,"d":"₹ 74,100.00"}}]
[null,null,"NOV",{"$f":"IF(SUMIF(Table2[माह],'School Intro'!C26,Table2[राशि])=0,\"\",SUMIF(Table2[माह],'School Intro'!C26,Table2[राशि]))","v":""},{"$f":"IFERROR($E$10-SUM($D$19:D26),\"\")","v":{"v":74100,"d":"₹ 74,100.00"}}]
[null,null,"DEC",{"$f":"IF(SUMIF(Table2[माह],'School Intro'!C27,Table2[राशि])=0,\"\",SUMIF(Table2[माह],'School Intro'!C27,Table2[राशि]))","v":""},{"$f":"IFERROR($E$10-SUM($D$19:D27),\"\")","v":{"v":74100,"d":"₹ 74,100.00"}}]
[null,null,"JAN",{"$f":"IF(SUMIF(Table2[माह],'School Intro'!C28,Table2[राशि])=0,\"\",SUMIF(Table2[माह],'School Intro'!C28,Table2[राशि]))","v":""},{"$f":"IFERROR($E$10-SUM($D$19:D28),\"\")","v":{"v":74100,"d":"₹ 74,100.00"}}]
[null,null,"FEB",{"$f":"IF(SUMIF(Table2[माह],'School Intro'!C29,Table2[राशि])=0,\"\",SUMIF(Table2[माह],'School Intro'!C29,Table2[राशि]))","v":""},{"$f":"IFERROR($E$10-SUM($D$19:D29),\"\")","v":{"v":74100,"d":"₹ 74,100.00"}}]
[null,null,"MAR",{"$f":"IF(SUMIF(Table2[माह],'School Intro'!C30,Table2[राशि])=0,\"\",SUMIF(Table2[माह],'School Intro'!C30,Table2[राशि]))","v":""},{"$f":"IFERROR($E$10-SUM($D$19:D30),\"\")","v":{"v":74100,"d":"₹ 74,100.00"}}]

{"sheet":"PEEO Intro","index":3,"n_rows":29,"n_cols":8,"rows_kept":29,"merged":[[0,1,0,7],[1,1,1,7],[2,4,2,5]]}
[null,"ihbZbZvks jktdh; mPp ek/;fed fo|ky;] :iiqjk CykWd& dqpkeu flVh] ftyk& ukxkSj"]
[null,"कम्पोजिट स्कूल ग्रांट (पीईईओ स्तर)"]
[null,"uke ihbZbZvks","jktdh; mPp ek/;fed fo|ky;] :iiqjk","uke CykWd","dqpkeu flVh",null,"uke ftyk","ukXkkSj"]
[null,"क्र.सं.","विद्यालय का नाम","डाईस कोड","विद्यालय का प्रकार","प्राप्त राशि","व्यय राशि","शेष राशि"]
[null,{"$f":"IF(C5=\"\",\"\",ROWS($A$5:A5))","v":1},"jkmekfo] :iiqjk","08140912304","उच्च माध्यमिक",{"v":50000,"d":"50000.00"},{"v":45000,"d":"45000.00"},{"$f":"IF(Table1[[#This Row],[प्राप्त राशि]]-Table1[[#This Row],[व्यय राशि]]=0,\"\",Table1[[#This Row],[प्राप्त राशि]]-Table1[[#This Row],[व्यय राशि]])","v":{"v":5000,"d":"5000.00"}}]
[null,{"$f":"IF(C6=\"\",\"\",ROWS($A$5:A6))","v":2},"jkekfo] cjokyk","08140912305","माध्यमिक",{"v":25000,"d":"25000.00"},{"v":20000,"d":"20000.00"},{"$f":"IF(Table1[[#This Row],[प्राप्त राशि]]-Table1[[#This Row],[व्यय राशि]]=0,\"\",Table1[[#This Row],[प्राप्त राशि]]-Table1[[#This Row],[व्यय राशि]])","v":{"v":5000,"d":"5000.00"}}]
[null,{"$f":"IF(C7=\"\",\"\",ROWS($A$5:A7))","v":3},"jkmizkfo] VksjMk","08140912306","उच्च प्राथमिक",{"v":12500,"d":"12500.00"},{"v":12000,"d":"12000.00"},{"$f":"IF(Table1[[#This Row],[प्राप्त राशि]]-Table1[[#This Row],[व्यय राशि]]=0,\"\",Table1[[#This Row],[प्राप्त राशि]]-Table1[[#This Row],[व्यय राशि]])","v":{"v":500,"d":"500.00"}}]
[null,{"$f":"IF(C8=\"\",\"\",ROWS($A$5:A8))","v":4},"jkmizkfo] jkoka","08140912307","उच्च प्राथमिक",{"v":12500,"d":"12500.00"},{"v":12000,"d":"12000.00"},{"$f":"IF(Table1[[#This Row],[प्राप्त राशि]]-Table1[[#This Row],[व्यय राशि]]=0,\"\",Table1[[#This Row],[प्राप्त राशि]]-Table1[[#This Row],[व्यय राशि]])","v":{"v":500,"d":"500.00"}}]
[null,{"$f":"IF(C9=\"\",\"\",ROWS($A$5:A9))","v":5},"jkmizkfo] tljkuk","08140912308","उच्च प्राथमिक",{"v":12500,"d":"12500.00"},{"v":12000,"d":"12000.00"},{"$f":"IF(Table1[[#This Row],[प्राप्त राशि]]-Table1[[#This Row],[व्यय राशि]]=0,\"\",Table1[[#This Row],[प्राप्त राशि]]-Table1[[#This Row],[व्यय राशि]])","v":{"v":500,"d":"500.00"}}]
[null,{"$f":"IF(C10=\"\",\"\",ROWS($A$5:A10))","v":6},"jkizkfo] csfj;ksa dh dksBh","08140912309","प्राथमिक",{"v":10500,"d":"10500.00"},{"v":10000,"d":"10000.00"},{"$f":"IF(Table1[[#This Row],[प्राप्त राशि]]-Table1[[#This Row],[व्यय राशि]]=0,\"\",Table1[[#This Row],[प्राप्त राशि]]-Table1[[#This Row],[व्यय राशि]])","v":{"v":500,"d":"500.00"}}]
[null,{"$f":"IF(C11=\"\",\"\",ROWS($A$5:A11))","v":7},"jkizkfo] jsckjh ukMk","08140912310","प्राथमिक",{"v":10500,"d":"10500.00"},{"v":10000,"d":"10000.00"},{"$f":"IF(Table1[[#This Row],[प्राप्त राशि]]-Table1[[#This Row],[व्यय राशि]]=0,\"\",Table1[[#This Row],[प्राप्त राशि]]-Table1[[#This Row],[व्यय राशि]])","v":{"v":500,"d":"500.00"}}]
[null,{"$f":"IF(C12=\"\",\"\",ROWS($A$5:A12))","v":""},{"$nulls":5},{"$f":"IF(Table1[[#This Row],[प्राप्त राशि]]-Table1[[#This Row],[व्यय राशि]]=0,\"\",Table1[[#This Row],[प्राप्त राशि]]-Table1[[#This Row],[व्यय राशि]])","v":""}]
[null,{"$f":"IF(C13=\"\",\"\",ROWS($A$5:A13))","v":""},{"$nulls":5},{"$f":"IF(Table1[[#This Row],[प्राप्त राशि]]-Table1[[#This Row],[व्यय राशि]]=0,\"\",Table1[[#This Row],[प्राप्त राशि]]-Table1[[#This Row],[व्यय राशि]])","v":""}]
[null,{"$f":"IF(C14=\"\",\"\",ROWS($A$5:A14))","v":""},{"$nulls":5},{"$f":"IF(Table1[[#This Row],[प्राप्त राशि]]-Table1[[#This Row],[व्यय राशि]]=0,\"\",Table1[[#This Row],[प्राप्त राशि]]-Table1[[#This Row],[व्यय राशि]])","v":""}]
[null,{"$f":"IF(C15=\"\",\"\",ROWS($A$5:A15))","v":""},{"$nulls":5},{"$f":"IF(Table1[[#This Row],[प्राप्त राशि]]-Table1[[#This Row],[व्यय राशि]]=0,\"\",Table1[[#This Row],[प्राप्त राशि]]-Table1[[#This Row],[व्यय राशि]])","v":""}]
[null,{"$f":"IF(C16=\"\",\"\",ROWS($A$5:A16))","v":""},{"$nulls":5},{"$f":"IF(Table1[[#This Row],[प्राप्त राशि]]-Table1[[#This Row],[व्यय राशि]]=0,\"\",Table1[[#This Row],[प्राप्त राशि]]-Table1[[#This Row],[व्यय राशि]])","v":""}]
[null,{"$f":"IF(C17=\"\",\"\",ROWS($A$5:A17))","v":""},{"$nulls":5},{"$f":"IF(Table1[[#This Row],[प्राप्त राशि]]-Table1[[#This Row],[व्यय राशि]]=0,\"\",Table1[[#This Row],[प्राप्त राशि]]-Table1[[#This Row],[व्यय राशि]])","v":""}]
[null,{"$f":"IF(C18=\"\",\"\",ROWS($A$5:A18))","v":""},{"$nulls":5},{"$f":"IF(Table1[[#This Row],[प्राप्त राशि]]-Table1[[#This Row],[व्यय राशि]]=0,\"\",Table1[[#This Row],[प्राप्त राशि]]-Table1[[#This Row],[व्यय राशि]])","v":""}]
[null,{"$f":"IF(C19=\"\",\"\",ROWS($A$5:A19))","v":""},{"$nulls":5},{"$f":"IF(Table1[[#This Row],[प्राप्त राशि]]-Table1[[#This Row],[व्यय राशि]]=0,\"\",Table1[[#This Row],[प्राप्त राशि]]-Table1[[#This Row],[व्यय राशि]])","v":""}]
[null,{"$f":"IF(C20=\"\",\"\",ROWS($A$5:A20))","v":""},{"$nulls":5},{"$f":"IF(Table1[[#This Row],[प्राप्त राशि]]-Table1[[#This Row],[व्यय राशि]]=0,\"\",Table1[[#This Row],[प्राप्त राशि]]-Table1[[#This Row],[व्यय राशि]])","v":""}]
[null,{"$f":"IF(C21=\"\",\"\",ROWS($A$5:A21))","v":""},{"$nulls":5},{"$f":"IF(Table1[[#This Row],[प्राप्त राशि]]-Table1[[#This Row],[व्यय राशि]]=0,\"\",Table1[[#This Row],[प्राप्त राशि]]-Table1[[#This Row],[व्यय राशि]])","v":""}]
[null,{"$f":"IF(C22=\"\",\"\",ROWS($A$5:A22))","v":""},{"$nulls":5},{"$f":"IF(Table1[[#This Row],[प्राप्त राशि]]-Table1[[#This Row],[व्यय राशि]]=0,\"\",Table1[[#This Row],[प्राप्त राशि]]-Table1[[#This Row],[व्यय राशि]])","v":""}]
[null,{"$f":"IF(C23=\"\",\"\",ROWS($A$5:A23))","v":""},{"$nulls":5},{"$f":"IF(Table1[[#This Row],[प्राप्त राशि]]-Table1[[#This Row],[व्यय राशि]]=0,\"\",Table1[[#This Row],[प्राप्त राशि]]-Table1[[#This Row],[व्यय राशि]])","v":""}]
[]
[]
[{"$nulls":3},"उच्च माध्यमिक",{"$f":"COUNTIF(Table1[विद्यालय का प्रकार],D26)","v":1}]
[{"$nulls":3},"माध्यमिक",{"$f":"COUNTIF(Table1[विद्यालय का प्रकार],D27)","v":1}]
[{"$nulls":3},"उच्च प्राथमिक",{"$f":"COUNTIF(Table1[विद्यालय का प्रकार],D28)","v":3}]
[{"$nulls":3},"प्राथमिक",{"$f":"COUNTIF(Table1[विद्यालय का प्रकार],D29)","v":2}]

{"sheet":"Expenditure","index":4,"n_rows":608,"n_cols":13,"rows_kept":608,"merged":[[0,1,0,9],[0,11,0,12]]}
[null,{"$f":"'School Intro'!A1","v":"jktdh; mPp ek/;fed fo|ky;] :iiqjk ¼dqpkeu flVh½ ukxkSj"},{"$nulls":8},"शेष राशि-",{"$f":"'School Intro'!E10-SUM(Table2[राशि])","v":74100}]
[null,"क्र.स.","भुगतान दिनाक","माह","बिल संख्या व दिनाक","फर्म का नाम","नाम सामग्री","मात्रा/संख्या","दर","राशि","उपयोग का विवरण","पृ.स."," दिनाक"]
[null,{"$f":"IF(C3=\"\",\"\",ROWS($A$3:A3))","v":1},"2020-04-01",{"$f":"IF(Table2[[#This Row],[भुगतान दिनाक]]=\"\",\"\",TEXT(Table2[[#This Row],[भुगतान दिनाक]],\"mmm\"))","v":"Apr"},"321/15-01-2020","Jh ';ke fiz.VlZ] dqpkeu flVh","QysDl",2,200,{"$f":"IF(PRODUCT(Table2[[#This Row],[मात्रा/संख्या]],Table2[[#This Row],[दर]])=0,\"\",PRODUCT(Table2[[#This Row],[मात्रा/संख्या]],Table2[[#This Row],[दर]]))","v":{"v":400,"d":"400.00"}},"laLFkkiu MkVk",15,"2020-07-15"]
[null,{"$f":"IF(C4=\"\",\"\",ROWS($A$3:A4))","v":2},"2020-05-02",{"$f":"IF(Table2[[#This Row],[भुगतान दिनाक]]=\"\",\"\",TEXT(Table2[[#This Row],[भुगतान दिनाक]],\"mmm\"))","v":"May"},"321/15-01-2020","Jh ';ke fiz.VlZ] dqpkeu flVh","QysDl",5,100,{"$f":"IF(PRODUCT(Table2[[#This Row],[मात्रा/संख्या]],Table2[[#This Row],[दर]])=0,\"\",PRODUCT(Table2[[#This Row],[मात्रा/संख्या]],Table2[[#This Row],[दर]]))","v":{"v":500,"d":"500.00"}},"laLFkkiu MkVk",15,"2020-07-15"]
[null,{"$f":"IF(C5=\"\",\"\",ROWS($A$3:A5))","v":""},null,{"$f":"IF(Table2[[#This Row],[भुगतान दिनाक]]=\"\",\"\",TEXT(Table2[[#This Row],[भुगतान दिनाक]],\"mmm\"))","v":""},{"$nulls":5},{"$f":"IF(PRODUCT(Table2[[#This Row],[मात्रा/संख्या]],Table2[[#This Row],[दर]])=0,\"\",PRODUCT(Table2[[#This Row],[मात्रा/संख्या]],Table2[[#This Row],[दर]]))","v":""}]
[null,{"$f":"IF(C6=\"\",\"\",ROWS($A$3:A6))","v":""},null,{"$f":"IF(Table2[[#This Row],[भुगतान दिनाक]]=\"\",\"\",TEXT(Table2[[#This Row],[भुगतान दिनाक]],\"mmm\"))","v":""},{"$nulls":5},{"$f":"IF(PRODUCT(Table2[[#This Row],[मात्रा/संख्या]],Table2[[#This Row],[दर]])=0,\"\",PRODUCT(Table2[[#This Row],[मात्रा/संख्या]],Table2[[#This Row],[दर]]))","v":""}]
[null,{"$f":"IF(C7=\"\",\"\",ROWS($A$3:A7))","v":""},null,{"$f":"IF(Table2[[#This Row],[भुगतान दिनाक]]=\"\",\"\",TEXT(Table2[[#This Row],[भुगतान दिनाक]],\"mmm\"))","v":""},{"$nulls":5},{"$f":"IF(PRODUCT(Table2[[#This Row],[मात्रा/संख्या]],Table2[[#This Row],[दर]])=0,\"\",PRODUCT(Table2[[#This Row],[मात्रा/संख्या]],Table2[[#This Row],[दर]]))","v":""}]
[null,{"$f":"IF(C8=\"\",\"\",ROWS($A$3:A8))","v":""},null,{"$f":"IF(Table2[[#This Row],[भुगतान दिनाक]]=\"\",\"\",TEXT(Table2[[#This Row],[भुगतान दिनाक]],\"mmm\"))","v":""},{"$nulls":5},{"$f":"IF(PRODUCT(Table2[[#This Row],[मात्रा/संख्या]],Table2[[#This Row],[दर]])=0,\"\",PRODUCT(Table2[[#This Row],[मात्रा/संख्या]],Table2[[#This Row],[दर]]))","v":""}]
[null,{"$f":"IF(C9=\"\",\"\",ROWS($A$3:A9))","v":""},null,{"$f":"IF(Table2[[#This Row],[भुगतान दिनाक]]=\"\",\"\",TEXT(Table2[[#This Row],[भुगतान दिनाक]],\"mmm\"))","v":""},{"$nulls":5},{"$f":"IF(PRODUCT(Table2[[#This Row],[मात्रा/संख्या]],Table2[[#This Row],[दर]])=0,\"\",PRODUCT(Table2[[#This Row],[मात्रा/संख्या]],Table2[[#This Row],[दर]]))","v":""}]
[null,{"$f":"IF(C10=\"\",\"\",ROWS($A$3:A10))","v":""},null,{"$f":"IF(Table2[[#This Row],[भुगतान दिनाक]]=\"\",\"\",TEXT(Table2[[#This Row],[भुगतान दिनाक]],\"mmm\"))","v":""},{"$nulls":5},{"$f":"IF(PRODUCT(Table2[[#This Row],[मात्रा/संख्या]],Table2[[#This Row],[दर]])=0,\"\",PRODUCT(Table2[[#This Row],[मात्रा/संख्या]],Table2[[#This Row],[दर]]))","v":""}]
[null,{"$f":"IF(C11=\"\",\"\",ROWS($A$3:A11))","v":""},null,{"$f":"IF(Table2[[#This Row],[भुगतान दिनाक]]=\"\",\"\",TEXT(Table2[[#This Row],[भुगतान दिनाक]],\"mmm\"))","v":""},{"$nulls":5},{"$f":"IF(PRODUCT(Table2[[#This Row],[मात्रा/संख्या]],Table2[[#This Row],[दर]])=0,\"\",PRODUCT(Table2[[#This Row],[मात्रा/संख्या]],Table2[[#This Row],[दर]]))","v":""}]
[null,{"$f":"IF(C12=\"\",\"\",ROWS($A$3:A12))","v":""},null,{"$f":"IF(Table2[[#This Row],[भुगतान दिनाक]]=\"\",\"\",TEXT(Table2[[#This Row],[भुगतान दिनाक]],\"mmm\"))","v":""},{"$nulls":5},{"$f":"IF(PRODUCT(Table2[[#This Row],[मात्रा/संख्या]],Table2[[#This Row],[दर]])=0,\"\",PRODUCT(Table2[[#This Row],[मात्रा/संख्या]],Table2[[#This Row],[दर]]))","v":""}]
[null,{"$f":"IF(C13=\"\",\"\",ROWS($A$3:A13))","v":""},null,{"$f":"IF(Table2[[#This Row],[भुगतान दिनाक]]=\"\",\"\",TEXT(Table2[[#This Row],[भुगतान दिनाक]],\"mmm\"))","v":""},{"$nulls":5},{"$f":"IF(PRODUCT(Table2[[#This Row],[मात्रा/संख्या]],Table2[[#This Row],[दर]])=0,\"\",PRODUCT(Table2[[#This Row],[मात्रा/संख्या]],Table2[[#This Row],[दर]]))","v":""}]
[null,{"$f":"IF(C14=\"\",\"\",ROWS($A$3:A14))","v":""},null,{"$f":"IF(Table2[[#This Row],[भुगतान दिनाक]]=\"\",\"\",TEXT(Table2[[#This Row],[भुगतान दिनाक]],\"mmm\"))","v":""},{"$nulls":5},{"$f":"IF(PRODUCT(Table2[[#This Row],[मात्रा/संख्या]],Table2[[#This Row],[दर]])=0,\"\",PRODUCT(Table2[[#This Row],[मात्रा/संख्या]],Table2[[#This Row],[दर]]))","v":""}]
[null,{"$f":"IF(C15=\"\",\"\",ROWS($A$3:A15))","v":""},null,{"$f":"IF(Table2[[#This Row],[भुगतान दिनाक]]=\"\",\"\",TEXT(Table2[[#This Row],[भुगतान दिनाक]],\"mmm\"))","v":""},{"$nulls":5},{"$f":"IF(PRODUCT(Table2[[#This Row],[मात्रा/संख्या]],Table2[[#This Row],[दर]])=0,\"\",PRODUCT(Table2[[#This Row],[मात्रा/संख्या]],Table2[[#This Row],[दर]]))","v":""}]
[null,{"$f":"IF(C16=\"\",\"\",ROWS($A$3:A16))","v":""},null,{"$f":"IF(Table2[[#This Row],[भुगतान दिनाक]]=\"\",\"\",TEXT(Table2[[#This Row],[भुगतान दिनाक]],\"mmm\"))","v":""},{"$nulls":5},{"$f":"IF(PRODUCT(Table2[[#This Row],[मात्रा/संख्या]],Table2[[#This Row],[दर]])=0,\"\",PRODUCT(Table2[[#This Row],[मात्रा/संख्या]],Table2[[#This Row],[दर]]))","v":""}]
[null,{"$f":"IF(C17=\"\",\"\",ROWS($A$3:A17))","v":""},null,{"$f":"IF(Table2[[#This Row],[भुगतान दिनाक]]=\"\",\"\",TEXT(Table2[[#This Row],[भुगतान दिनाक]],\"mmm\"))","v":""},{"$nulls":5},{"$f":"IF(PRODUCT(Table2[[#This Row],[मात्रा/संख्या]],Table2[[#This Row],[दर]])=0,\"\",PRODUCT(Table2[[#This Row],[मात्रा/संख्या]],Table2[[#This Row],[दर]]))","v":""}]
[null,{"$f":"IF(C18=\"\",\"\",ROWS($A$3:A18))","v":""},null,{"$f":"IF(Table2[[#This Row],[भुगतान दिनाक]]=\"\",\"\",TEXT(Table2[[#This Row],[भुगतान दिनाक]],\"mmm\"))","v":""},{"$nulls":5},{"$f":"IF(PRODUCT(Table2[[#This Row],[मात्रा/संख्या]],Table2[[#This Row],[दर]])=0,\"\",PRODUCT(Table2[[#This Row],[मात्रा/संख्या]],Table2[[#This Row],[दर]]))","v":""}]
[null,{"$f":"IF(C19=\"\",\"\",ROWS($A$3:A19))","v":""},null,{"$f":"IF(Table2[[#This Row],[भुगतान दिनाक]]=\"\",\"\",TEXT(Table2[[#This Row],[भुगतान दिनाक]],\"mmm\"))","v":""},{"$nulls":5},{"$f":"IF(PRODUCT(Table2[[#This Row],[मात्रा/संख्या]],Table2[[#This Row],[दर]])=0,\"\",PRODUCT(Table2[[#This Row],[मात्रा/संख्या]],Table2[[#This Row],[दर]]))","v":""}]
[null,{"$f":"IF(C20=\"\",\"\",ROWS($A$3:A20))","v":""},null,{"$f":"IF(Table2[[#This Row],[भुगतान दिनाक]]=\"\",\"\",TEXT(Table2[[#This Row],[भुगतान दिनाक]],\"mmm\"))","v":""},{"$nulls":5},{"$f":"IF(PRODUCT(Table2[[#This Row],[मात्रा/संख्या]],Table2[[#This Row],[दर]])=0,\"\",PRODUCT(Table2[[#This Row],[मात्रा/संख्या]],Table2[[#This Row],[दर]]))","v":""}]
[null,{"$f":"IF(C21=\"\",\"\",ROWS($A$3:A21))","v":""},null,{"$f":"IF(Table2[[#This Row],[भुगतान दिनाक]]=\"\",\"\",TEXT(Table2[[#This Row],[भुगतान दिनाक]],\"mmm\"))","v":""},{"$nulls":5},{"$f":"IF(PRODUCT(Table2[[#This Row],[मात्रा/संख्या]],Table2[[#This Row],[दर]])=0,\"\",PRODUCT(Table2[[#This Row],[मात्रा/संख्या]],Table2[[#This Row],[दर]]))","v":""}]
[null,{"$f":"IF(C22=\"\",\"\",ROWS($A$3:A22))","v":""},null,{"$f":"IF(Table2[[#This Row],[भुगतान दिनाक]]=\"\",\"\",TEXT(Table2[[#This Row],[भुगतान दिनाक]],\"mmm\"))","v":""},{"$nulls":5},{"$f":"IF(PRODUCT(Table2[[#This Row],[मात्रा/संख्या]],Table2[[#This Row],[दर]])=0,\"\",PRODUCT(Table2[[#This Row],[मात्रा/संख्या]],Table2[[#This Row],[दर]]))","v":""}]
[null,{"$f":"IF(C23=\"\",\"\",ROWS($A$3:A23))","v":""},null,{"$f":"IF(Table2[[#This Row],[भुगतान दिनाक]]=\"\",\"\",TEXT(Table2[[#This Row],[भुगतान दिनाक]],\"mmm\"))","v":""},{"$nulls":5},{"$f":"IF(PRODUCT(Table2[[#This Row],[मात्रा/संख्या]],Table2[[#This Row],[दर]])=0,\"\",PRODUCT(Table2[[#This Row],[मात्रा/संख्या]],Table2[[#This Row],[दर]]))","v":""}]
[null,{"$f":"IF(C24=\"\",\"\",ROWS($A$3:A24))","v":""},null,{"$f":"IF(Table2[[#This Row],[भुगतान दिनाक]]=\"\",\"\",TEXT(Table2[[#This Row],[भुगतान दिनाक]],\"mmm\"))","v":""},{"$nulls":5},{"$f":"IF(PRODUCT(Table2[[#This Row],[मात्रा/संख्या]],Table2[[#This Row],[दर]])=0,\"\",PRODUCT(Table2[[#This Row],[मात्रा/संख्या]],Table2[[#This Row],[दर]]))","v":""}]
[null,{"$f":"IF(C25=\"\",\"\",ROWS($A$3:A25))","v":""},null,{"$f":"IF(Table2[[#This Row],[भुगतान दिनाक]]=\"\",\"\",TEXT(Table2[[#This Row],[भुगतान दिनाक]],\"mmm\"))","v":""},{"$nulls":5},{"$f":"IF(PRODUCT(Table2[[#This Row],[मात्रा/संख्या]],Table2[[#This Row],[दर]])=0,\"\",PRODUCT(Table2[[#This Row],[मात्रा/संख्या]],Table2[[#This Row],[दर]]))","v":""}]
[null,{"$f":"IF(C26=\"\",\"\",ROWS($A$3:A26))","v":""},null,{"$f":"IF(Table2[[#This Row],[भुगतान दिनाक]]=\"\",\"\",TEXT(Table2[[#This Row],[भुगतान दिनाक]],\"mmm\"))","v":""},{"$nulls":5},{"$f":"IF(PRODUCT(Table2[[#This Row],[मात्रा/संख्या]],Table2[[#This Row],[दर]])=0,\"\",PRODUCT(Table2[[#This Row],[मात्रा/संख्या]],Table2[[#This Row],[दर]]))","v":""}]
[null,{"$f":"IF(C27=\"\",\"\",ROWS($A$3:A27))","v":""},null,{"$f":"IF(Table2[[#This Row],[भुगतान दिनाक]]=\"\",\"\",TEXT(Table2[[#This Row],[भुगतान दिनाक]],\"mmm\"))","v":""},{"$nulls":5},{"$f":"IF(PRODUCT(Table2[[#This Row],[मात्रा/संख्या]],Table2[[#This Row],[दर]])=0,\"\",PRODUCT(Table2[[#This Row],[मात्रा/संख्या]],Table2[[#This Row],[दर]]))","v":""}]
[null,{"$f":"IF(C28=\"\",\"\",ROWS($A$3:A28))","v":""},null,{"$f":"IF(Table2[[#This Row],[भुगतान दिनाक]]=\"\",\"\",TEXT(Table2[[#This Row],[भुगतान दिनाक]],\"mmm\"))","v":""},{"$nulls":5},{"$f":"IF(PRODUCT(Table2[[#This Row],[मात्रा/संख्या]],Table2[[#This Row],[दर]])=0,\"\",PRODUCT(Table2[[#This Row],[मात्रा/संख्या]],Table2[[#This Row],[दर]]))","v":""}]
[null,{"$f":"IF(C29=\"\",\"\",ROWS($A$3:A29))","v":""},null,{"$f":"IF(Table2[[#This Row],[भुगतान दिनाक]]=\"\",\"\",TEXT(Table2[[#This Row],[भुगतान दिनाक]],\"mmm\"))","v":""},{"$nulls":5},{"$f":"IF(PRODUCT(Table2[[#This Row],[मात्रा/संख्या]],Table2[[#This Row],[दर]])=0,\"\",PRODUCT(Table2[[#This Row],[मात्रा/संख्या]],Table2[[#This Row],[दर]]))","v":""}]
[null,{"$f":"IF(C30=\"\",\"\",ROWS($A$3:A30))","v":""},null,{"$f":"IF(Table2[[#This Row],[भुगतान दिनाक]]=\"\",\"\",TEXT(Table2[[#This Row],[भुगतान दिनाक]],\"mmm\"))","v":""},{"$nulls":5},{"$f":"IF(PRODUCT(Table2[[#This Row],[मात्रा/संख्या]],Table2[[#This Row],[दर]])=0,\"\",PRODUCT(Table2[[#This Row],[मात्रा/संख्या]],Table2[[#This Row],[दर]]))","v":""}]
[null,{"$f":"IF(C31=\"\",\"\",ROWS($A$3:A31))","v":""},null,{"$f":"IF(Table2[[#This Row],[भुगतान दिनाक]]=\"\",\"\",TEXT(Table2[[#This Row],[भुगतान दिनाक]],\"mmm\"))","v":""},{"$nulls":5},{"$f":"IF(PRODUCT(Table2[[#This Row],[मात्रा/संख्या]],Table2[[#This Row],[दर]])=0,\"\",PRODUCT(Table2[[#This Row],[मात्रा/संख्या]],Table2[[#This Row],[दर]]))","v":""}]
[null,{"$f":"IF(C32=\"\",\"\",ROWS($A$3:A32))","v":""},null,{"$f":"IF(Table2[[#This Row],[भुगतान दिनाक]]=\"\",\"\",TEXT(Table2[[#This Row],[भुगतान दिनाक]],\"mmm\"))","v":""},{"$nulls":5},{"$f":"IF(PRODUCT(Table2[[#This Row],[मात्रा/संख्या]],Table2[[#This Row],[दर]])=0,\"\",PRODUCT(Table2[[#This Row],[मात्रा/संख्या]],Table2[[#This Row],[दर]]))","v":""}]
[null,{"$f":"IF(C33=\"\",\"\",ROWS($A$3:A33))","v":""},null,{"$f":"IF(Table2[[#This Row],[भुगतान दिनाक]]=\"\",\"\",TEXT(Table2[[#This Row],[भुगतान दिनाक]],\"mmm\"))","v":""},{"$nulls":5},{"$f":"IF(PRODUCT(Table2[[#This Row],[मात्रा/संख्या]],Table2[[#This Row],[दर]])=0,\"\",PRODUCT(Table2[[#This Row],[मात्रा/संख्या]],Table2[[#This Row],[दर]]))","v":""}]
[null,{"$f":"IF(C34=\"\",\"\",ROWS($A$3:A34))","v":""},null,{"$f":"IF(Table2[[#This Row],[भुगतान दिनाक]]=\"\",\"\",TEXT(Table2[[#This Row],[भुगतान दिनाक]],\"mmm\"))","v":""},{"$nulls":5},{"$f":"IF(PRODUCT(Table2[[#This Row],[मात्रा/संख्या]],Table2[[#This Row],[दर]])=0,\"\",PRODUCT(Table2[[#This Row],[मात्रा/संख्या]],Table2[[#This Row],[दर]]))","v":""}]
[null,{"$f":"IF(C35=\"\",\"\",ROWS($A$3:A35))","v":""},null,{"$f":"IF(Table2[[#This Row],[भुगतान दिनाक]]=\"\",\"\",TEXT(Table2[[#This Row],[भुगतान दिनाक]],\"mmm\"))","v":""},{"$nulls":5},{"$f":"IF(PRODUCT(Table2[[#This Row],[मात्रा/संख्या]],Table2[[#This Row],[दर]])=0,\"\",PRODUCT(Table2[[#This Row],[मात्रा/संख्या]],Table2[[#This Row],[दर]]))","v":""}]
[null,{"$f":"IF(C36=\"\",\"\",ROWS($A$3:A36))","v":""},null,{"$f":"IF(Table2[[#This Row],[भुगतान दिनाक]]=\"\",\"\",TEXT(Table2[[#This Row],[भुगतान दिनाक]],\"mmm\"))","v":""},{"$nulls":5},{"$f":"IF(PRODUCT(Table2[[#This Row],[मात्रा/संख्या]],Table2[[#This Row],[दर]])=0,\"\",PRODUCT(Table2[[#This Row],[मात्रा/संख्या]],Table2[[#This Row],[दर]]))","v":""}]
[null,{"$f":"IF(C37=\"\",\"\",ROWS($A$3:A37))","v":""},null,{"$f":"IF(Table2[[#This Row],[भुगतान दिनाक]]=\"\",\"\",TEXT(Table2[[#This Row],[भुगतान दिनाक]],\"mmm\"))","v":""},{"$nulls":5},{"$f":"IF(PRODUCT(Table2[[#This Row],[मात्रा/संख्या]],Table2[[#This Row],[दर]])=0,\"\",PRODUCT(Table2[[#This Row],[मात्रा/संख्या]],Table2[[#This Row],[दर]]))","v":""}]
[null,{"$f":"IF(C38=\"\",\"\",ROWS($A$3:A38))","v":""},null,{"$f":"IF(Table2[[#This Row],[भुगतान दिनाक]]=\"\",\"\",TEXT(Table2[[#This Row],[भुगतान दिनाक]],\"mmm\"))","v":""},{"$nulls":5},{"$f":"IF(PRODUCT(Table2[[#This Row],[मात्रा/संख्या]],Table2[[#This Row],[दर]])=0,\"\",PRODUCT(Table2[[#This Row],[मात्रा/संख्या]],Table2[[#This Row],[दर]]))","v":""}]
[null,{"$f":"IF(C39=\"\",\"\",ROWS($A$3:A39))","v":""},null,{"$f":"IF(Table2[[#This Row],[भुगतान दिनाक]]=\"\",\"\",TEXT(Table2[[#This Row],[भुगतान दिनाक]],\"mmm\"))","v":""},{"$nulls":5},{"$f":"IF(PRODUCT(Table2[[#This Row],[मात्रा/संख्या]],Table2[[#This Row],[दर]])=0,\"\",PRODUCT(Table2[[#This Row],[मात्रा/संख्या]],Table2[[#This Row],[दर]]))","v":""}]
[null,{"$f":"IF(C40=\"\",\"\",ROWS($A$3:A40))","v":""},null,{"$f":"IF(Table2[[#This Row],[भुगतान दिनाक]]=\"\",\"\",TEXT(Table2[[#This Row],[भुगतान दिनाक]],\"mmm\"))","v":""},{"$nulls":5},{"$f":"IF(PRODUCT(Table2[[#This Row],[मात्रा/संख्या]],Table2[[#This Row],[दर]])=0,\"\",PRODUCT(Table2[[#This Row],[मात्रा/संख्या]],Table2[[#This Row],[दर]]))","v":""}]
[null,{"$f":"IF(C41=\"\",\"\",ROWS($A$3:A41))","v":""},null,{"$f":"IF(Table2[[#This Row],[भुगतान दिनाक]]=\"\",\"\",TEXT(Table2[[#This Row],[भुगतान दिनाक]],\"mmm\"))","v":""},{"$nulls":5},{"$f":"IF(PRODUCT(Table2[[#This Row],[मात्रा/संख्या]],Table2[[#This Row],[दर]])=0,\"\",PRODUCT(Table2[[#This Row],[मात्रा/संख्या]],Table2[[#This Row],[दर]]))","v":""}]
[null,{"$f":"IF(C42=\"\",\"\",ROWS($A$3:A42))","v":""},null,{"$f":"IF(Table2[[#This Row],[भुगतान दिनाक]]=\"\",\"\",TEXT(Table2[[#This Row],[भुगतान दिनाक]],\"mmm\"))","v":""},{"$nulls":5},{"$f":"IF(PRODUCT(Table2[[#This Row],[मात्रा/संख्या]],Table2[[#This Row],[दर]])=0,\"\",PRODUCT(Table2[[#This Row],[मात्रा/संख्या]],Table2[[#This Row],[दर]]))","v":""}]
[null,{"$f":"IF(C43=\"\",\"\",ROWS($A$3:A43))","v":""},null,{"$f":"IF(Table2[[#This Row],[भुगतान दिनाक]]=\"\",\"\",TEXT(Table2[[#This Row],[भुगतान दिनाक]],\"mmm\"))","v":""},{"$nulls":5},{"$f":"IF(PRODUCT(Table2[[#This Row],[मात्रा/संख्या]],Table2[[#This Row],[दर]])=0,\"\",PRODUCT(Table2[[#This Row],[मात्रा/संख्या]],Table2[[#This Row],[दर]]))","v":""}]
[null,{"$f":"IF(C44=\"\",\"\",ROWS($A$3:A44))","v":""},null,{"$f":"IF(Table2[[#This Row],[भुगतान दिनाक]]=\"\",\"\",TEXT(Table2[[#This Row],[भुगतान दिनाक]],\"mmm\"))","v":""},{"$nulls":5},{"$f":"IF(PRODUCT(Table2[[#This Row],[मात्रा/संख्या]],Table2[[#This Row],[दर]])=0,\"\",PRODUCT(Table2[[#This Row],[मात्रा/संख्या]],Table2[[#This Row],[दर]]))","v":""}]
[null,{"$f":"IF(C45=\"\",\"\",ROWS($A$3:A45))","v":""},null,{"$f":"IF(Table2[[#This Row],[भुगतान दिनाक]]=\"\",\"\",TEXT(Table2[[#This Row],[भुगतान दिनाक]],\"mmm\"))","v":""},{"$nulls":5},{"$f":"IF(PRODUCT(Table2[[#This Row],[मात्रा/संख्या]],Table2[[#This Row],[दर]])=0,\"\",PRODUCT(Table2[[#This Row],[मात्रा/संख्या]],Table2[[#This Row],[दर]]))","v":""}]
[null,{"$f":"IF(C46=\"\",\"\",ROWS($A$3:A46))","v":""},null,{"$f":"IF(Table2[[#This Row],[भुगतान दिनाक]]=\"\",\"\",TEXT(Table2[[#This Row],[भुगतान दिनाक]],\"mmm\"))","v":""},{"$nulls":5},{"$f":"IF(PRODUCT(Table2[[#This Row],[मात्रा/संख्या]],Table2[[#This Row],[दर]])=0,\"\",PRODUCT(Table2[[#This Row],[मात्रा/संख्या]],Table2[[#This Row],[दर]]))","v":""}]
[null,{"$f":"IF(C47=\"\",\"\",ROWS($A$3:A47))","v":""},null,{"$f":"IF(Table2[[#This Row],[भुगतान दिनाक]]=\"\",\"\",TEXT(Table2[[#This Row],[भुगतान दिनाक]],\"mmm\"))","v":""},{"$nulls":5},{"$f":"IF(PRODUCT(Table2[[#This Row],[मात्रा/संख्या]],Table2[[#This Row],[दर]])=0,\"\",PRODUCT(Table2[[#This Row],[मात्रा/संख्या]],Table2[[#This Row],[दर]]))","v":""}]
[null,{"$f":"IF(C48=\"\",\"\",ROWS($A$3:A48))","v":""},null,{"$f":"IF(Table2[[#This Row],[भुगतान दिनाक]]=\"\",\"\",TEXT(Table2[[#This Row],[भुगतान दिनाक]],\"mmm\"))","v":""},{"$nulls":5},{"$f":"IF(PRODUCT(Table2[[#This Row],[मात्रा/संख्या]],Table2[[#This Row],[दर]])=0,\"\",PRODUCT(Table2[[#This Row],[मात्रा/संख्या]],Table2[[#This Row],[दर]]))","v":""}]
[null,{"$f":"IF(C49=\"\",\"\",ROWS($A$3:A49))","v":""},null,{"$f":"IF(Table2[[#This Row],[भुगतान दिनाक]]=\"\",\"\",TEXT(Table2[[#This Row],[भुगतान दिनाक]],\"mmm\"))","v":""},{"$nulls":5},{"$f":"IF(PRODUCT(Table2[[#This Row],[मात्रा/संख्या]],Table2[[#This Row],[दर]])=0,\"\",PRODUCT(Table2[[#This Row],[मात्रा/संख्या]],Table2[[#This Row],[दर]]))","v":""}]
[null,{"$f":"IF(C50=\"\",\"\",ROWS($A$3:A50))","v":""},null,{"$f":"IF(Table2[[#This Row],[भुगतान दिनाक]]=\"\",\"\",TEXT(Table2[[#This Row],[भुगतान दिनाक]],\"mmm\"))","v":""},{"$nulls":5},{"$f":"IF(PRODUCT(Table2[[#This Row],[मात्रा/संख्या]],Table2[[#This Row],[दर]])=0,\"\",PRODUCT(Table2[[#This Row],[मात्रा/संख्या]],Table2[[#This Row],[दर]]))","v":""}]
[null,{"$f":"IF(C51=\"\",\"\",ROWS($A$3:A51))","v":""},null,{"$f":"IF(Table2[[#This Row],[भुगतान दिनाक]]=\"\",\"\",TEXT(Table2[[#This Row],[भुगतान दिनाक]],\"mmm\"))","v":""},{"$nulls":5},{"$f":"IF(PRODUCT(Table2[[#This Row],[मात्रा/संख्या]],Table2[[#This Row],[दर]])=0,\"\",PRODUCT(Table2[[#This Row],[मात्रा/संख्या]],Table2[[#This Row],[दर]]))","v":""}]
[null,{"$f":"IF(C52=\"\",\"\",ROWS($A$3:A52))","v":""},null,{"$f":"IF(Table2[[#This Row],[भुगतान दिनाक]]=\"\",\"\",TEXT(Table2[[#This Row],[भुगतान दिनाक]],\"mmm\"))","v":""},{"$nulls":5},{"$f":"IF(PRODUCT(Table2[[#This Row],[मात्रा/संख्या]],Table2[[#This Row],[दर]])=0,\"\",PRODUCT(Table2[[#This Row],[मात्रा/संख्या]],Table2[[#This Row],[दर]]))","v":""}]
[null,{"$f":"IF(C53=\"\",\"\",ROWS($A$3:A53))","v":""},null,{"$f":"IF(Table2[[#This Row],[भुगतान दिनाक]]=\"\",\"\",TEXT(Table2[[#This Row],[भुगतान दिनाक]],\"mmm\"))","v":""},{"$nulls":5},{"$f":"IF(PRODUCT(Table2[[#This Row],[मात्रा/संख्या]],Table2[[#This Row],[दर]])=0,\"\",PRODUCT(Table2[[#This Row],[मात्रा/संख्या]],Table2[[#This Row],[दर]]))","v":""}]
[null,{"$f":"IF(C54=\"\",\"\",ROWS($A$3:A54))","v":""},null,{"$f":"IF(Table2[[#This Row],[भुगतान दिनाक]]=\"\",\"\",TEXT(Table2[[#This Row],[भुगतान दिनाक]],\"mmm\"))","v":""},{"$nulls":5},{"$f":"IF(PRODUCT(Table2[[#This Row],[मात्रा/संख्या]],Table2[[#This Row],[दर]])=0,\"\",PRODUCT(Table2[[#This Row],[मात्रा/संख्या]],Table2[[#This Row],[दर]]))","v":""}]
[null,{"$f":"IF(C55=\"\",\"\",ROWS($A$3:A55))","v":""},null,{"$f":"IF(Table2[[#This Row],[भुगतान दिनाक]]=\"\",\"\",TEXT(Table2[[#This Row],[भुगतान दिनाक]],\"mmm\"))","v":""},{"$nulls":5},{"$f":"IF(PRODUCT(Table2[[#This Row],[मात्रा/संख्या]],Table2[[#This Row],[दर]])=0,\"\",PRODUCT(Table2[[#This Row],[मात्रा/संख्या]],Table2[[#This Row],[दर]]))","v":""}]
[null,{"$f":"IF(C56=\"\",\"\",ROWS($A$3:A56))","v":""},null,{"$f":"IF(Table2[[#This Row],[भुगतान दिनाक]]=\"\",\"\",TEXT(Table2[[#This Row],[भुगतान दिनाक]],\"mmm\"))","v":""},{"$nulls":5},{"$f":"IF(PRODUCT(Table2[[#This Row],[मात्रा/संख्या]],Table2[[#This Row],[दर]])=0,\"\",PRODUCT(Table2[[#This Row],[मात्रा/संख्या]],Table2[[#This Row],[दर]]))","v":""}]
[null,{"$f":"IF(C57=\"\",\"\",ROWS($A$3:A57))","v":""},null,{"$f":"IF(Table2[[#This Row],[भुगतान दिनाक]]=\"\",\"\",TEXT(Table2[[#This Row],[भुगतान दिनाक]],\"mmm\"))","v":""},{"$nulls":5},{"$f":"IF(PRODUCT(Table2[[#This Row],[मात्रा/संख्या]],Table2[[#This Row],[दर]])=0,\"\",PRODUCT(Table2[[#This Row],[मात्रा/संख्या]],Table2[[#This Row],[दर]]))","v":""}]
[null,{"$f":"IF(C58=\"\",\"\",ROWS($A$3:A58))","v":""},null,{"$f":"IF(Table2[[#This Row],[भुगतान दिनाक]]=\"\",\"\",TEXT(Table2[[#This Row],[भुगतान दिनाक]],\"mmm\"))","v":""},{"$nulls":5},{"$f":"IF(PRODUCT(Table2[[#This Row],[मात्रा/संख्या]],Table2[[#This Row],[दर]])=0,\"\",PRODUCT(Table2[[#This Row],[मात्रा/संख्या]],Table2[[#This Row],[दर]]))","v":""}]
[null,{"$f":"IF(C59=\"\",\"\",ROWS($A$3:A59))","v":""},null,{"$f":"IF(Table2[[#This Row],[भुगतान दिनाक]]=\"\",\"\",TEXT(Table2[[#This Row],[भुगतान दिनाक]],\"mmm\"))","v":""},{"$nulls":5},{"$f":"IF(PRODUCT(Table2[[#This Row],[मात्रा/संख्या]],Table2[[#This Row],[दर]])=0,\"\",PRODUCT(Table2[[#This Row],[मात्रा/संख्या]],Table2[[#This Row],[दर]]))","v":""}]
[null,{"$f":"IF(C60=\"\",\"\",ROWS($A$3:A60))","v":""},null,{"$f":"IF(Table2[[#This Row],[भुगतान दिनाक]]=\"\",\"\",TEXT(Table2[[#This Row],[भुगतान दिनाक]],\"mmm\"))","v":""},{"$nulls":5},{"$f":"IF(PRODUCT(Table2[[#This Row],[मात्रा/संख्या]],Table2[[#This Row],[दर]])=0,\"\",PRODUCT(Table2[[#This Row],[मात्रा/संख्या]],Table2[[#This Row],[दर]]))","v":""}]
[null,{"$f":"IF(C61=\"\",\"\",ROWS($A$3:A61))","v":""},null,{"$f":"IF(Table2[[#This Row],[भुगतान दिनाक]]=\"\",\"\",TEXT(Table2[[#This Row],[भुगतान दिनाक]],\"mmm\"))","v":""},{"$nulls":5},{"$f":"IF(PRODUCT(Table2[[#This Row],[मात्रा/संख्या]],Table2[[#This Row],[दर]])=0,\"\",PRODUCT(Table2[[#This Row],[मात्रा/संख्या]],Table2[[#This Row],[दर]]))","v":""}]
[null,{"$f":"IF(C62=\"\",\"\",ROWS($A$3:A62))","v":""},null,{"$f":"IF(Table2[[#This Row],[भुगतान दिनाक]]=\"\",\"\",TEXT(Table2[[#This Row],[भुगतान दिनाक]],\"mmm\"))","v":""},{"$nulls":5},{"$f":"IF(PRODUCT(Table2[[#This Row],[मात्रा/संख्या]],Table2[[#This Row],[दर]])=0,\"\",PRODUCT(Table2[[#This Row],[मात्रा/संख्या]],Table2[[#This Row],[दर]]))","v":""}]
[null,{"$f":"IF(C63=\"\",\"\",ROWS($A$3:A63))","v":""},null,{"$f":"IF(Table2[[#This Row],[भुगतान दिनाक]]=\"\",\"\",TEXT(Table2[[#This Row],[भुगतान दिनाक]],\"mmm\"))","v":""},{"$nulls":5},{"$f":"IF(PRODUCT(Table2[[#This Row],[मात्रा/संख्या]],Table2[[#This Row],[दर]])=0,\"\",PRODUCT(Table2[[#This Row],[मात्रा/संख्या]],Table2[[#This Row],[दर]]))","v":""}]
[null,{"$f":"IF(C64=\"\",\"\",ROWS($A$3:A64))","v":""},null,{"$f":"IF(Table2[[#This Row],[भुगतान दिनाक]]=\"\",\"\",TEXT(Table2[[#This Row],[भुगतान दिनाक]],\"mmm\"))","v":""},{"$nulls":5},{"$f":"IF(PRODUCT(Table2[[#This Row],[मात्रा/संख्या]],Table2[[#This Row],[दर]])=0,\"\",PRODUCT(Table2[[#This Row],[मात्रा/संख्या]],Table2[[#This Row],[दर]]))","v":""}]
[null,{"$f":"IF(C65=\"\",\"\",ROWS($A$3:A65))","v":""},null,{"$f":"IF(Table2[[#This Row],[भुगतान दिनाक]]=\"\",\"\",TEXT(Table2[[#This Row],[भुगतान दिनाक]],\"mmm\"))","v":""},{"$nulls":5},{"$f":"IF(PRODUCT(Table2[[#This Row],[मात्रा/संख्या]],Table2[[#This Row],[दर]])=0,\"\",PRODUCT(Table2[[#This Row],[मात्रा/संख्या]],Table2[[#This Row],[दर]]))","v":""}]
[null,{"$f":"IF(C66=\"\",\"\",ROWS($A$3:A66))","v":""},null,{"$f":"IF(Table2[[#This Row],[भुगतान दिनाक]]=\"\",\"\",TEXT(Table2[[#This Row],[भुगतान दिनाक]],\"mmm\"))","v":""},{"$nulls":5},{"$f":"IF(PRODUCT(Table2[[#This Row],[मात्रा/संख्या]],Table2[[#This Row],[दर]])=0,\"\",PRODUCT(Table2[[#This Row],[मात्रा/संख्या]],Table2[[#This Row],[दर]]))","v":""}]
[null,{"$f":"IF(C67=\"\",\"\",ROWS($A$3:A67))","v":""},null,{"$f":"IF(Table2[[#This Row],[भुगतान दिनाक]]=\"\",\"\",TEXT(Table2[[#This Row],[भुगतान दिनाक]],\"mmm\"))","v":""},{"$nulls":5},{"$f":"IF(PRODUCT(Table2[[#This Row],[मात्रा/संख्या]],Table2[[#This Row],[दर]])=0,\"\",PRODUCT(Table2[[#This Row],[मात्रा/संख्या]],Table2[[#This Row],[दर]]))","v":""}]
[null,{"$f":"IF(C68=\"\",\"\",ROWS($A$3:A68))","v":""},null,{"$f":"IF(Table2[[#This Row],[भुगतान दिनाक]]=\"\",\"\",TEXT(Table2[[#This Row],[भुगतान दिनाक]],\"mmm\"))","v":""},{"$nulls":5},{"$f":"IF(PRODUCT(Table2[[#This Row],[मात्रा/संख्या]],Table2[[#This Row],[दर]])=0,\"\",PRODUCT(Table2[[#This Row],[मात्रा/संख्या]],Table2[[#This Row],[दर]]))","v":""}]
[null,{"$f":"IF(C69=\"\",\"\",ROWS($A$3:A69))","v":""},null,{"$f":"IF(Table2[[#This Row],[भुगतान दिनाक]]=\"\",\"\",TEXT(Table2[[#This Row],[भुगतान दिनाक]],\"mmm\"))","v":""},{"$nulls":5},{"$f":"IF(PRODUCT(Table2[[#This Row],[मात्रा/संख्या]],Table2[[#This Row],[दर]])=0,\"\",PRODUCT(Table2[[#This Row],[मात्रा/संख्या]],Table2[[#This Row],[दर]]))","v":""}]
[null,{"$f":"IF(C70=\"\",\"\",ROWS($A$3:A70))","v":""},null,{"$f":"IF(Table2[[#This Row],[भुगतान दिनाक]]=\"\",\"\",TEXT(Table2[[#This Row],[भुगतान दिनाक]],\"mmm\"))","v":""},{"$nulls":5},{"$f":"IF(PRODUCT(Table2[[#This Row],[मात्रा/संख्या]],Table2[[#This Row],[दर]])=0,\"\",PRODUCT(Table2[[#This Row],[मात्रा/संख्या]],Table2[[#This Row],[दर]]))","v":""}]
[null,{"$f":"IF(C71=\"\",\"\",ROWS($A$3:A71))","v":""},null,{"$f":"IF(Table2[[#This Row],[भुगतान दिनाक]]=\"\",\"\",TEXT(Table2[[#This Row],[भुगतान दिनाक]],\"mmm\"))","v":""},{"$nulls":5},{"$f":"IF(PRODUCT(Table2[[#This Row],[मात्रा/संख्या]],Table2[[#This Row],[दर]])=0,\"\",PRODUCT(Table2[[#This Row],[मात्रा/संख्या]],Table2[[#This Row],[दर]]))","v":""}]
[null,{"$f":"IF(C72=\"\",\"\",ROWS($A$3:A72))","v":""},null,{"$f":"IF(Table2[[#This Row],[भुगतान दिनाक]]=\"\",\"\",TEXT(Table2[[#This Row],[भुगतान दिनाक]],\"mmm\"))","v":""},{"$nulls":5},{"$f":"IF(PRODUCT(Table2[[#This Row],[मात्रा/संख्या]],Table2[[#This Row],[दर]])=0,\"\",PRODUCT(Table2[[#This Row],[मात्रा/संख्या]],Table2[[#This Row],[दर]]))","v":""}]
[null,{"$f":"IF(C73=\"\",\"\",ROWS($A$3:A73))","v":""},null,{"$f":"IF(Table2[[#This Row],[भुगतान दिनाक]]=\"\",\"\",TEXT(Table2[[#This Row],[भुगतान दिनाक]],\"mmm\"))","v":""},{"$nulls":5},{"$f":"IF(PRODUCT(Table2[[#This Row],[मात्रा/संख्या]],Table2[[#This Row],[दर]])=0,\"\",PRODUCT(Table2[[#This Row],[मात्रा/संख्या]],Table2[[#This Row],[दर]]))","v":""}]
[null,{"$f":"IF(C74=\"\",\"\",ROWS($A$3:A74))","v":""},null,{"$f":"IF(Table2[[#This Row],[भुगतान दिनाक]]=\"\",\"\",TEXT(Table2[[#This Row],[भुगतान दिनाक]],\"mmm\"))","v":""},{"$nulls":5},{"$f":"IF(PRODUCT(Table2[[#This Row],[मात्रा/संख्या]],Table2[[#This Row],[दर]])=0,\"\",PRODUCT(Table2[[#This Row],[मात्रा/संख्या]],Table2[[#This Row],[दर]]))","v":""}]
[null,{"$f":"IF(C75=\"\",\"\",ROWS($A$3:A75))","v":""},null,{"$f":"IF(Table2[[#This Row],[भुगतान दिनाक]]=\"\",\"\",TEXT(Table2[[#This Row],[भुगतान दिनाक]],\"mmm\"))","v":""},{"$nulls":5},{"$f":"IF(PRODUCT(Table2[[#This Row],[मात्रा/संख्या]],Table2[[#This Row],[दर]])=0,\"\",PRODUCT(Table2[[#This Row],[मात्रा/संख्या]],Table2[[#This Row],[दर]]))","v":""}]
[null,{"$f":"IF(C76=\"\",\"\",ROWS($A$3:A76))","v":""},null,{"$f":"IF(Table2[[#This Row],[भुगतान दिनाक]]=\"\",\"\",TEXT(Table2[[#This Row],[भुगतान दिनाक]],\"mmm\"))","v":""},{"$nulls":5},{"$f":"IF(PRODUCT(Table2[[#This Row],[मात्रा/संख्या]],Table2[[#This Row],[दर]])=0,\"\",PRODUCT(Table2[[#This Row],[मात्रा/संख्या]],Table2[[#This Row],[दर]]))","v":""}]
[null,{"$f":"IF(C77=\"\",\"\",ROWS($A$3:A77))","v":""},null,{"$f":"IF(Table2[[#This Row],[भुगतान दिनाक]]=\"\",\"\",TEXT(Table2[[#This Row],[भुगतान दिनाक]],\"mmm\"))","v":""},{"$nulls":5},{"$f":"IF(PRODUCT(Table2[[#This Row],[मात्रा/संख्या]],Table2[[#This Row],[दर]])=0,\"\",PRODUCT(Table2[[#This Row],[मात्रा/संख्या]],Table2[[#This Row],[दर]]))","v":""}]
[null,{"$f":"IF(C78=\"\",\"\",ROWS($A$3:A78))","v":""},null,{"$f":"IF(Table2[[#This Row],[भुगतान दिनाक]]=\"\",\"\",TEXT(Table2[[#This Row],[भुगतान दिनाक]],\"mmm\"))","v":""},{"$nulls":5},{"$f":"IF(PRODUCT(Table2[[#This Row],[मात्रा/संख्या]],Table2[[#This Row],[दर]])=0,\"\",PRODUCT(Table2[[#This Row],[मात्रा/संख्या]],Table2[[#This Row],[दर]]))","v":""}]
[null,{"$f":"IF(C79=\"\",\"\",ROWS($A$3:A79))","v":""},null,{"$f":"IF(Table2[[#This Row],[भुगतान दिनाक]]=\"\",\"\",TEXT(Table2[[#This Row],[भुगतान दिनाक]],\"mmm\"))","v":""},{"$nulls":5},{"$f":"IF(PRODUCT(Table2[[#This Row],[मात्रा/संख्या]],Table2[[#This Row],[दर]])=0,\"\",PRODUCT(Table2[[#This Row],[मात्रा/संख्या]],Table2[[#This Row],[दर]]))","v":""}]
[null,{"$f":"IF(C80=\"\",\"\",ROWS($A$3:A80))","v":""},null,{"$f":"IF(Table2[[#This Row],[भुगतान दिनाक]]=\"\",\"\",TEXT(Table2[[#This Row],[भुगतान दिनाक]],\"mmm\"))","v":""},{"$nulls":5},{"$f":"IF(PRODUCT(Table2[[#This Row],[मात्रा/संख्या]],Table2[[#This Row],[दर]])=0,\"\",PRODUCT(Table2[[#This Row],[मात्रा/संख्या]],Table2[[#This Row],[दर]]))","v":""}]
[null,{"$f":"IF(C81=\"\",\"\",ROWS($A$3:A81))","v":""},null,{"$f":"IF(Table2[[#This Row],[भुगतान दिनाक]]=\"\",\"\",TEXT(Table2[[#This Row],[भुगतान दिनाक]],\"mmm\"))","v":""},{"$nulls":5},{"$f":"IF(PRODUCT(Table2[[#This Row],[मात्रा/संख्या]],Table2[[#This Row],[दर]])=0,\"\",PRODUCT(Table2[[#This Row],[मात्रा/संख्या]],Table2[[#This Row],[दर]]))","v":""}]
[null,{"$f":"IF(C82=\"\",\"\",ROWS($A$3:A82))","v":""},null,{"$f":"IF(Table2[[#This Row],[भुगतान दिनाक]]=\"\",\"\",TEXT(Table2[[#This Row],[भुगतान दिनाक]],\"mmm\"))","v":""},{"$nulls":5},{"$f":"IF(PRODUCT(Table2[[#This Row],[मात्रा/संख्या]],Table2[[#This Row],[दर]])=0,\"\",PRODUCT(Table2[[#This Row],[मात्रा/संख्या]],Table2[[#This Row],[दर]]))","v":""}]
[null,{"$f":"IF(C83=\"\",\"\",ROWS($A$3:A83))","v":""},null,{"$f":"IF(Table2[[#This Row],[भुगतान दिनाक]]=\"\",\"\",TEXT(Table2[[#This Row],[भुगतान दिनाक]],\"mmm\"))","v":""},{"$nulls":5},{"$f":"IF(PRODUCT(Table2[[#This Row],[मात्रा/संख्या]],Table2[[#This Row],[दर]])=0,\"\",PRODUCT(Table2[[#This Row],[मात्रा/संख्या]],Table2[[#This Row],[दर]]))","v":""}]
[null,{"$f":"IF(C84=\"\",\"\",ROWS($A$3:A84))","v":""},null,{"$f":"IF(Table2[[#This Row],[भुगतान दिनाक]]=\"\",\"\",TEXT(Table2[[#This Row],[भुगतान दिनाक]],\"mmm\"))","v":""},{"$nulls":5},{"$f":"IF(PRODUCT(Table2[[#This Row],[मात्रा/संख्या]],Table2[[#This Row],[दर]])=0,\"\",PRODUCT(Table2[[#This Row],[मात्रा/संख्या]],Table2[[#This Row],[दर]]))","v":""}]
[null,{"$f":"IF(C85=\"\",\"\",ROWS($A$3:A85))","v":""},null,{"$f":"IF(Table2[[#This Row],[भुगतान दिनाक]]=\"\",\"\",TEXT(Table2[[#This Row],[भुगतान दिनाक]],\"mmm\"))","v":""},{"$nulls":5},{"$f":"IF(PRODUCT(Table2[[#This Row],[मात्रा/संख्या]],Table2[[#This Row],[दर]])=0,\"\",PRODUCT(Table2[[#This Row],[मात्रा/संख्या]],Table2[[#This Row],[दर]]))","v":""}]
[null,{"$f":"IF(C86=\"\",\"\",ROWS($A$3:A86))","v":""},null,{"$f":"IF(Table2[[#This Row],[भुगतान दिनाक]]=\"\",\"\",TEXT(Table2[[#This Row],[भुगतान दिनाक]],\"mmm\"))","v":""},{"$nulls":5},{"$f":"IF(PRODUCT(Table2[[#This Row],[मात्रा/संख्या]],Table2[[#This Row],[दर]])=0,\"\",PRODUCT(Table2[[#This Row],[मात्रा/संख्या]],Table2[[#This Row],[दर]]))","v":""}]
[null,{"$f":"IF(C87=\"\",\"\",ROWS($A$3:A87))","v":""},null,{"$f":"IF(Table2[[#This Row],[भुगतान दिनाक]]=\"\",\"\",TEXT(Table2[[#This Row],[भुगतान दिनाक]],\"mmm\"))","v":""},{"$nulls":5},{"$f":"IF(PRODUCT(Table2[[#This Row],[मात्रा/संख्या]],Table2[[#This Row],[दर]])=0,\"\",PRODUCT(Table2[[#This Row],[मात्रा/संख्या]],Table2[[#This Row],[दर]]))","v":""}]
[null,{"$f":"IF(C88=\"\",\"\",ROWS($A$3:A88))","v":""},null,{"$f":"IF(Table2[[#This Row],[भुगतान दिनाक]]=\"\",\"\",TEXT(Table2[[#This Row],[भुगतान दिनाक]],\"mmm\"))","v":""},{"$nulls":5},{"$f":"IF(PRODUCT(Table2[[#This Row],[मात्रा/संख्या]],Table2[[#This Row],[दर]])=0,\"\",PRODUCT(Table2[[#This Row],[मात्रा/संख्या]],Table2[[#This Row],[दर]]))","v":""}]
[null,{"$f":"IF(C89=\"\",\"\",ROWS($A$3:A89))","v":""},null,{"$f":"IF(Table2[[#This Row],[भुगतान दिनाक]]=\"\",\"\",TEXT(Table2[[#This Row],[भुगतान दिनाक]],\"mmm\"))","v":""},{"$nulls":5},{"$f":"IF(PRODUCT(Table2[[#This Row],[मात्रा/संख्या]],Table2[[#This Row],[दर]])=0,\"\",PRODUCT(Table2[[#This Row],[मात्रा/संख्या]],Table2[[#This Row],[दर]]))","v":""}]
[null,{"$f":"IF(C90=\"\",\"\",ROWS($A$3:A90))","v":""},null,{"$f":"IF(Table2[[#This Row],[भुगतान दिनाक]]=\"\",\"\",TEXT(Table2[[#This Row],[भुगतान दिनाक]],\"mmm\"))","v":""},{"$nulls":5},{"$f":"IF(PRODUCT(Table2[[#This Row],[मात्रा/संख्या]],Table2[[#This Row],[दर]])=0,\"\",PRODUCT(Table2[[#This Row],[मात्रा/संख्या]],Table2[[#This Row],[दर]]))","v":""}]
[null,{"$f":"IF(C91=\"\",\"\",ROWS($A$3:A91))","v":""},null,{"$f":"IF(Table2[[#This Row],[भुगतान दिनाक]]=\"\",\"\",TEXT(Table2[[#This Row],[भुगतान दिनाक]],\"mmm\"))","v":""},{"$nulls":5},{"$f":"IF(PRODUCT(Table2[[#This Row],[मात्रा/संख्या]],Table2[[#This Row],[दर]])=0,\"\",PRODUCT(Table2[[#This Row],[मात्रा/संख्या]],Table2[[#This Row],[दर]]))","v":""}]
[null,{"$f":"IF(C92=\"\",\"\",ROWS($A$3:A92))","v":""},null,{"$f":"IF(Table2[[#This Row],[भुगतान दिनाक]]=\"\",\"\",TEXT(Table2[[#This Row],[भुगतान दिनाक]],\"mmm\"))","v":""},{"$nulls":5},{"$f":"IF(PRODUCT(Table2[[#This Row],[मात्रा/संख्या]],Table2[[#This Row],[दर]])=0,\"\",PRODUCT(Table2[[#This Row],[मात्रा/संख्या]],Table2[[#This Row],[दर]]))","v":""}]
[null,{"$f":"IF(C93=\"\",\"\",ROWS($A$3:A93))","v":""},null,{"$f":"IF(Table2[[#This Row],[भुगतान दिनाक]]=\"\",\"\",TEXT(Table2[[#This Row],[भुगतान दिनाक]],\"mmm\"))","v":""},{"$nulls":5},{"$f":"IF(PRODUCT(Table2[[#This Row],[मात्रा/संख्या]],Table2[[#This Row],[दर]])=0,\"\",PRODUCT(Table2[[#This Row],[मात्रा/संख्या]],Table2[[#This Row],[दर]]))","v":""}]
[null,{"$f":"IF(C94=\"\",\"\",ROWS($A$3:A94))","v":""},null,{"$f":"IF(Table2[[#This Row],[भुगतान दिनाक]]=\"\",\"\",TEXT(Table2[[#This Row],[भुगतान दिनाक]],\"mmm\"))","v":""},{"$nulls":5},{"$f":"IF(PRODUCT(Table2[[#This Row],[मात्रा/संख्या]],Table2[[#This Row],[दर]])=0,\"\",PRODUCT(Table2[[#This Row],[मात्रा/संख्या]],Table2[[#This Row],[दर]]))","v":""}]
[null,{"$f":"IF(C95=\"\",\"\",ROWS($A$3:A95))","v":""},null,{"$f":"IF(Table2[[#This Row],[भुगतान दिनाक]]=\"\",\"\",TEXT(Table2[[#This Row],[भुगतान दिनाक]],\"mmm\"))","v":""},{"$nulls":5},{"$f":"IF(PRODUCT(Table2[[#This Row],[मात्रा/संख्या]],Table2[[#This Row],[दर]])=0,\"\",PRODUCT(Table2[[#This Row],[मात्रा/संख्या]],Table2[[#This Row],[दर]]))","v":""}]
[null,{"$f":"IF(C96=\"\",\"\",ROWS($A$3:A96))","v":""},null,{"$f":"IF(Table2[[#This Row],[भुगतान दिनाक]]=\"\",\"\",TEXT(Table2[[#This Row],[भुगतान दिनाक]],\"mmm\"))","v":""},{"$nulls":5},{"$f":"IF(PRODUCT(Table2[[#This Row],[मात्रा/संख्या]],Table2[[#This Row],[दर]])=0,\"\",PRODUCT(Table2[[#This Row],[मात्रा/संख्या]],Table2[[#This Row],[दर]]))","v":""}]
[null,{"$f":"IF(C97=\"\",\"\",ROWS($A$3:A97))","v":""},null,{"$f":"IF(Table2[[#This Row],[भुगतान दिनाक]]=\"\",\"\",TEXT(Table2[[#This Row],[भुगतान दिनाक]],\"mmm\"))","v":""},{"$nulls":5},{"$f":"IF(PRODUCT(Table2[[#This Row],[मात्रा/संख्या]],Table2[[#This Row],[दर]])=0,\"\",PRODUCT(Table2[[#This Row],[मात्रा/संख्या]],Table2[[#This Row],[दर]]))","v":""}]
[null,{"$f":"IF(C98=\"\",\"\",ROWS($A$3:A98))","v":""},null,{"$f":"IF(Table2[[#This Row],[भुगतान दिनाक]]=\"\",\"\",TEXT(Table2[[#This Row],[भुगतान दिनाक]],\"mmm\"))","v":""},{"$nulls":5},{"$f":"IF(PRODUCT(Table2[[#This Row],[मात्रा/संख्या]],Table2[[#This Row],[दर]])=0,\"\",PRODUCT(Table2[[#This Row],[मात्रा/संख्या]],Table2[[#This Row],[दर]]))","v":""}]
[null,{"$f":"IF(C99=\"\",\"\",ROWS($A$3:A99))","v":""},null,{"$f":"IF(Table2[[#This Row],[भुगतान दिनाक]]=\"\",\"\",TEXT(Table2[[#This Row],[भुगतान दिनाक]],\"mmm\"))","v":""},{"$nulls":5},{"$f":"IF(PRODUCT(Table2[[#This Row],[मात्रा/संख्या]],Table2[[#This Row],[दर]])=0,\"\",PRODUCT(Table2[[#This Row],[मात्रा/संख्या]],Table2[[#This Row],[दर]]))","v":""}]
[null,{"$f":"IF(C100=\"\",\"\",ROWS($A$3:A100))","v":""},null,{"$f":"IF(Table2[[#This Row],[भुगतान दिनाक]]=\"\",\"\",TEXT(Table2[[#This Row],[भुगतान दिनाक]],\"mmm\"))","v":""},{"$nulls":5},{"$f":"IF(PRODUCT(Table2[[#This Row],[मात्रा/संख्या]],Table2[[#This Row],[दर]])=0,\"\",PRODUCT(Table2[[#This Row],[मात्रा/संख्या]],Table2[[#This Row],[दर]]))","v":""}]
[null,{"$f":"IF(C101=\"\",\"\",ROWS($A$3:A101))","v":""},null,{"$f":"IF(Table2[[#This Row],[भुगतान दिनाक]]=\"\",\"\",TEXT(Table2[[#This Row],[भुगतान दिनाक]],\"mmm\"))","v":""},{"$nulls":5},{"$f":"IF(PRODUCT(Table2[[#This Row],[मात्रा/संख्या]],Table2[[#This Row],[दर]])=0,\"\",PRODUCT(Table2[[#This Row],[मात्रा/संख्या]],Table2[[#This Row],[दर]]))","v":""}]
[null,{"$f":"IF(C102=\"\",\"\",ROWS($A$3:A102))","v":""},null,{"$f":"IF(Table2[[#This Row],[भुगतान दिनाक]]=\"\",\"\",TEXT(Table2[[#This Row],[भुगतान दिनाक]],\"mmm\"))","v":""},{"$nulls":5},{"$f":"IF(PRODUCT(Table2[[#This Row],[मात्रा/संख्या]],Table2[[#This Row],[दर]])=0,\"\",PRODUCT(Table2[[#This Row],[मात्रा/संख्या]],Table2[[#This Row],[दर]]))","v":""}]
[null,{"$f":"IF(C103=\"\",\"\",ROWS($A$3:A103))","v":""},null,{"$f":"IF(Table2[[#This Row],[भुगतान दिनाक]]=\"\",\"\",TEXT(Table2[[#This Row],[भुगतान दिनाक]],\"mmm\"))","v":""},{"$nulls":5},{"$f":"IF(PRODUCT(Table2[[#This Row],[मात्रा/संख्या]],Table2[[#This Row],[दर]])=0,\"\",PRODUCT(Table2[[#This Row],[मात्रा/संख्या]],Table2[[#This Row],[दर]]))","v":""}]
[null,{"$f":"IF(C104=\"\",\"\",ROWS($A$3:A104))","v":""},null,{"$f":"IF(Table2[[#This Row],[भुगतान दिनाक]]=\"\",\"\",TEXT(Table2[[#This Row],[भुगतान दिनाक]],\"mmm\"))","v":""},{"$nulls":5},{"$f":"IF(PRODUCT(Table2[[#This Row],[मात्रा/संख्या]],Table2[[#This Row],[दर]])=0,\"\",PRODUCT(Table2[[#This Row],[मात्रा/संख्या]],Table2[[#This Row],[दर]]))","v":""}]
[null,{"$f":"IF(C105=\"\",\"\",ROWS($A$3:A105))","v":""},null,{"$f":"IF(Table2[[#This Row],[भुगतान दिनाक]]=\"\",\"\",TEXT(Table2[[#This Row],[भुगतान दिनाक]],\"mmm\"))","v":""},{"$nulls":5},{"$f":"IF(PRODUCT(Table2[[#This Row],[मात्रा/संख्या]],Table2[[#This Row],[दर]])=0,\"\",PRODUCT(Table2[[#This Row],[मात्रा/संख्या]],Table2[[#This Row],[दर]]))","v":""}]
[null,{"$f":"IF(C106=\"\",\"\",ROWS($A$3:A106))","v":""},null,{"$f":"IF(Table2[[#This Row],[भुगतान दिनाक]]=\"\",\"\",TEXT(Table2[[#This Row],[भुगतान दिनाक]],\"mmm\"))","v":""},{"$nulls":5},{"$f":"IF(PRODUCT(Table2[[#This Row],[मात्रा/संख्या]],Table2[[#This Row],[दर]])=0,\"\",PRODUCT(Table2[[#This Row],[मात्रा/संख्या]],Table2[[#This Row],[दर]]))","v":""}]
[null,{"$f":"IF(C107=\"\",\"\",ROWS($A$3:A107))","v":""},null,{"$f":"IF(Table2[[#This Row],[भुगतान दिनाक]]=\"\",\"\",TEXT(Table2[[#This Row],[भुगतान दिनाक]],\"mmm\"))","v":""},{"$nulls":5},{"$f":"IF(PRODUCT(Table2[[#This Row],[मात्रा/संख्या]],Table2[[#This Row],[दर]])=0,\"\",PRODUCT(Table2[[#This Row],[मात्रा/संख्या]],Table2[[#This Row],[दर]]))","v":""}]
[null,{"$f":"IF(C108=\"\",\"\",ROWS($A$3:A108))","v":""},null,{"$f":"IF(Table2[[#This Row],[भुगतान दिनाक]]=\"\",\"\",TEXT(Table2[[#This Row],[भुगतान दिनाक]],\"mmm\"))","v":""},{"$nulls":5},{"$f":"IF(PRODUCT(Table2[[#This Row],[मात्रा/संख्या]],Table2[[#This Row],[दर]])=0,\"\",PRODUCT(Table2[[#This Row],[मात्रा/संख्या]],Table2[[#This Row],[दर]]))","v":""}]
[null,{"$f":"IF(C109=\"\",\"\",ROWS($A$3:A109))","v":""},null,{"$f":"IF(Table2[[#This Row],[भुगतान दिनाक]]=\"\",\"\",TEXT(Table2[[#This Row],[भुगतान दिनाक]],\"mmm\"))","v":""},{"$nulls":5},{"$f":"IF(PRODUCT(Table2[[#This Row],[मात्रा/संख्या]],Table2[[#This Row],[दर]])=0,\"\",PRODUCT(Table2[[#This Row],[मात्रा/संख्या]],Table2[[#This Row],[दर]]))","v":""}]
[null,{"$f":"IF(C110=\"\",\"\",ROWS($A$3:A110))","v":""},null,{"$f":"IF(Table2[[#This Row],[भुगतान दिनाक]]=\"\",\"\",TEXT(Table2[[#This Row],[भुगतान दिनाक]],\"mmm\"))","v":""},{"$nulls":5},{"$f":"IF(PRODUCT(Table2[[#This Row],[मात्रा/संख्या]],Table2[[#This Row],[दर]])=0,\"\",PRODUCT(Table2[[#This Row],[मात्रा/संख्या]],Table2[[#This Row],[दर]]))","v":""}]
[null,{"$f":"IF(C111=\"\",\"\",ROWS($A$3:A111))","v":""},null,{"$f":"IF(Table2[[#This Row],[भुगतान दिनाक]]=\"\",\"\",TEXT(Table2[[#This Row],[भुगतान दिनाक]],\"mmm\"))","v":""},{"$nulls":5},{"$f":"IF(PRODUCT(Table2[[#This Row],[मात्रा/संख्या]],Table2[[#This Row],[दर]])=0,\"\",PRODUCT(Table2[[#This Row],[मात्रा/संख्या]],Table2[[#This Row],[दर]]))","v":""}]
[null,{"$f":"IF(C112=\"\",\"\",ROWS($A$3:A112))","v":""},null,{"$f":"IF(Table2[[#This Row],[भुगतान दिनाक]]=\"\",\"\",TEXT(Table2[[#This Row],[भुगतान दिनाक]],\"mmm\"))","v":""},{"$nulls":5},{"$f":"IF(PRODUCT(Table2[[#This Row],[मात्रा/संख्या]],Table2[[#This Row],[दर]])=0,\"\",PRODUCT(Table2[[#This Row],[मात्रा/संख्या]],Table2[[#This Row],[दर]]))","v":""}]
[null,{"$f":"IF(C113=\"\",\"\",ROWS($A$3:A113))","v":""},null,{"$f":"IF(Table2[[#This Row],[भुगतान दिनाक]]=\"\",\"\",TEXT(Table2[[#This Row],[भुगतान दिनाक]],\"mmm\"))","v":""},{"$nulls":5},{"$f":"IF(PRODUCT(Table2[[#This Row],[मात्रा/संख्या]],Table2[[#This Row],[दर]])=0,\"\",PRODUCT(Table2[[#This Row],[मात्रा/संख्या]],Table2[[#This Row],[दर]]))","v":""}]
[null,{"$f":"IF(C114=\"\",\"\",ROWS($A$3:A114))","v":""},null,{"$f":"IF(Table2[[#This Row],[भुगतान दिनाक]]=\"\",\"\",TEXT(Table2[[#This Row],[भुगतान दिनाक]],\"mmm\"))","v":""},{"$nulls":5},{"$f":"IF(PRODUCT(Table2[[#This Row],[मात्रा/संख्या]],Table2[[#This Row],[दर]])=0,\"\",PRODUCT(Table2[[#This Row],[मात्रा/संख्या]],Table2[[#This Row],[दर]]))","v":""}]
[null,{"$f":"IF(C115=\"\",\"\",ROWS($A$3:A115))","v":""},null,{"$f":"IF(Table2[[#This Row],[भुगतान दिनाक]]=\"\",\"\",TEXT(Table2[[#This Row],[भुगतान दिनाक]],\"mmm\"))","v":""},{"$nulls":5},{"$f":"IF(PRODUCT(Table2[[#This Row],[मात्रा/संख्या]],Table2[[#This Row],[दर]])=0,\"\",PRODUCT(Table2[[#This Row],[मात्रा/संख्या]],Table2[[#This Row],[दर]]))","v":""}]
[null,{"$f":"IF(C116=\"\",\"\",ROWS($A$3:A116))","v":""},null,{"$f":"IF(Table2[[#This Row],[भुगतान दिनाक]]=\"\",\"\",TEXT(Table2[[#This Row],[भुगतान दिनाक]],\"mmm\"))","v":""},{"$nulls":5},{"$f":"IF(PRODUCT(Table2[[#This Row],[मात्रा/संख्या]],Table2[[#This Row],[दर]])=0,\"\",PRODUCT(Table2[[#This Row],[मात्रा/संख्या]],Table2[[#This Row],[दर]]))","v":""}]
[null,{"$f":"IF(C117=\"\",\"\",ROWS($A$3:A117))","v":""},null,{"$f":"IF(Table2[[#This Row],[भुगतान दिनाक]]=\"\",\"\",TEXT(Table2[[#This Row],[भुगतान दिनाक]],\"mmm\"))","v":""},{"$nulls":5},{"$f":"IF(PRODUCT(Table2[[#This Row],[मात्रा/संख्या]],Table2[[#This Row],[दर]])=0,\"\",PRODUCT(Table2[[#This Row],[मात्रा/संख्या]],Table2[[#This Row],[दर]]))","v":""}]
[null,{"$f":"IF(C118=\"\",\"\",ROWS($A$3:A118))","v":""},null,{"$f":"IF(Table2[[#This Row],[भुगतान दिनाक]]=\"\",\"\",TEXT(Table2[[#This Row],[भुगतान दिनाक]],\"mmm\"))","v":""},{"$nulls":5},{"$f":"IF(PRODUCT(Table2[[#This Row],[मात्रा/संख्या]],Table2[[#This Row],[दर]])=0,\"\",PRODUCT(Table2[[#This Row],[मात्रा/संख्या]],Table2[[#This Row],[दर]]))","v":""}]
[null,{"$f":"IF(C119=\"\",\"\",ROWS($A$3:A119))","v":""},null,{"$f":"IF(Table2[[#This Row],[भुगतान दिनाक]]=\"\",\"\",TEXT(Table2[[#This Row],[भुगतान दिनाक]],\"mmm\"))","v":""},{"$nulls":5},{"$f":"IF(PRODUCT(Table2[[#This Row],[मात्रा/संख्या]],Table2[[#This Row],[दर]])=0,\"\",PRODUCT(Table2[[#This Row],[मात्रा/संख्या]],Table2[[#This Row],[दर]]))","v":""}]
[null,{"$f":"IF(C120=\"\",\"\",ROWS($A$3:A120))","v":""},null,{"$f":"IF(Table2[[#This Row],[भुगतान दिनाक]]=\"\",\"\",TEXT(Table2[[#This Row],[भुगतान दिनाक]],\"mmm\"))","v":""},{"$nulls":5},{"$f":"IF(PRODUCT(Table2[[#This Row],[मात्रा/संख्या]],Table2[[#This Row],[दर]])=0,\"\",PRODUCT(Table2[[#This Row],[मात्रा/संख्या]],Table2[[#This Row],[दर]]))","v":""}]
[null,{"$f":"IF(C121=\"\",\"\",ROWS($A$3:A121))","v":""},null,{"$f":"IF(Table2[[#This Row],[भुगतान दिनाक]]=\"\",\"\",TEXT(Table2[[#This Row],[भुगतान दिनाक]],\"mmm\"))","v":""},{"$nulls":5},{"$f":"IF(PRODUCT(Table2[[#This Row],[मात्रा/संख्या]],Table2[[#This Row],[दर]])=0,\"\",PRODUCT(Table2[[#This Row],[मात्रा/संख्या]],Table2[[#This Row],[दर]]))","v":""}]
[null,{"$f":"IF(C122=\"\",\"\",ROWS($A$3:A122))","v":""},null,{"$f":"IF(Table2[[#This Row],[भुगतान दिनाक]]=\"\",\"\",TEXT(Table2[[#This Row],[भुगतान दिनाक]],\"mmm\"))","v":""},{"$nulls":5},{"$f":"IF(PRODUCT(Table2[[#This Row],[मात्रा/संख्या]],Table2[[#This Row],[दर]])=0,\"\",PRODUCT(Table2[[#This Row],[मात्रा/संख्या]],Table2[[#This Row],[दर]]))","v":""}]
[null,{"$f":"IF(C123=\"\",\"\",ROWS($A$3:A123))","v":""},null,{"$f":"IF(Table2[[#This Row],[भुगतान दिनाक]]=\"\",\"\",TEXT(Table2[[#This Row],[भुगतान दिनाक]],\"mmm\"))","v":""},{"$nulls":5},{"$f":"IF(PRODUCT(Table2[[#This Row],[मात्रा/संख्या]],Table2[[#This Row],[दर]])=0,\"\",PRODUCT(Table2[[#This Row],[मात्रा/संख्या]],Table2[[#This Row],[दर]]))","v":""}]
[null,{"$f":"IF(C124=\"\",\"\",ROWS($A$3:A124))","v":""},null,{"$f":"IF(Table2[[#This Row],[भुगतान दिनाक]]=\"\",\"\",TEXT(Table2[[#This Row],[भुगतान दिनाक]],\"mmm\"))","v":""},{"$nulls":5},{"$f":"IF(PRODUCT(Table2[[#This Row],[मात्रा/संख्या]],Table2[[#This Row],[दर]])=0,\"\",PRODUCT(Table2[[#This Row],[मात्रा/संख्या]],Table2[[#This Row],[दर]]))","v":""}]
[null,{"$f":"IF(C125=\"\",\"\",ROWS($A$3:A125))","v":""},null,{"$f":"IF(Table2[[#This Row],[भुगतान दिनाक]]=\"\",\"\",TEXT(Table2[[#This Row],[भुगतान दिनाक]],\"mmm\"))","v":""},{"$nulls":5},{"$f":"IF(PRODUCT(Table2[[#This Row],[मात्रा/संख्या]],Table2[[#This Row],[दर]])=0,\"\",PRODUCT(Table2[[#This Row],[मात्रा/संख्या]],Table2[[#This Row],[दर]]))","v":""}]
[null,{"$f":"IF(C126=\"\",\"\",ROWS($A$3:A126))","v":""},null,{"$f":"IF(Table2[[#This Row],[भुगतान दिनाक]]=\"\",\"\",TEXT(Table2[[#This Row],[भुगतान दिनाक]],\"mmm\"))","v":""},{"$nulls":5},{"$f":"IF(PRODUCT(Table2[[#This Row],[मात्रा/संख्या]],Table2[[#This Row],[दर]])=0,\"\",PRODUCT(Table2[[#This Row],[मात्रा/संख्या]],Table2[[#This Row],[दर]]))","v":""}]
[null,{"$f":"IF(C127=\"\",\"\",ROWS($A$3:A127))","v":""},null,{"$f":"IF(Table2[[#This Row],[भुगतान दिनाक]]=\"\",\"\",TEXT(Table2[[#This Row],[भुगतान दिनाक]],\"mmm\"))","v":""},{"$nulls":5},{"$f":"IF(PRODUCT(Table2[[#This Row],[मात्रा/संख्या]],Table2[[#This Row],[दर]])=0,\"\",PRODUCT(Table2[[#This Row],[मात्रा/संख्या]],Table2[[#This Row],[दर]]))","v":""}]
[null,{"$f":"IF(C128=\"\",\"\",ROWS($A$3:A128))","v":""},null,{"$f":"IF(Table2[[#This Row],[भुगतान दिनाक]]=\"\",\"\",TEXT(Table2[[#This Row],[भुगतान दिनाक]],\"mmm\"))","v":""},{"$nulls":5},{"$f":"IF(PRODUCT(Table2[[#This Row],[मात्रा/संख्या]],Table2[[#This Row],[दर]])=0,\"\",PRODUCT(Table2[[#This Row],[मात्रा/संख्या]],Table2[[#This Row],[दर]]))","v":""}]
[null,{"$f":"IF(C129=\"\",\"\",ROWS($A$3:A129))","v":""},null,{"$f":"IF(Table2[[#This Row],[भुगतान दिनाक]]=\"\",\"\",TEXT(Table2[[#This Row],[भुगतान दिनाक]],\"mmm\"))","v":""},{"$nulls":5},{"$f":"IF(PRODUCT(Table2[[#This Row],[मात्रा/संख्या]],Table2[[#This Row],[दर]])=0,\"\",PRODUCT(Table2[[#This Row],[मात्रा/संख्या]],Table2[[#This Row],[दर]]))","v":""}]
[null,{"$f":"IF(C130=\"\",\"\",ROWS($A$3:A130))","v":""},null,{"$f":"IF(Table2[[#This Row],[भुगतान दिनाक]]=\"\",\"\",TEXT(Table2[[#This Row],[भुगतान दिनाक]],\"mmm\"))","v":""},{"$nulls":5},{"$f":"IF(PRODUCT(Table2[[#This Row],[मात्रा/संख्या]],Table2[[#This Row],[दर]])=0,\"\",PRODUCT(Table2[[#This Row],[मात्रा/संख्या]],Table2[[#This Row],[दर]]))","v":""}]
[null,{"$f":"IF(C131=\"\",\"\",ROWS($A$3:A131))","v":""},null,{"$f":"IF(Table2[[#This Row],[भुगतान दिनाक]]=\"\",\"\",TEXT(Table2[[#This Row],[भुगतान दिनाक]],\"mmm\"))","v":""},{"$nulls":5},{"$f":"IF(PRODUCT(Table2[[#This Row],[मात्रा/संख्या]],Table2[[#This Row],[दर]])=0,\"\",PRODUCT(Table2[[#This Row],[मात्रा/संख्या]],Table2[[#This Row],[दर]]))","v":""}]
[null,{"$f":"IF(C132=\"\",\"\",ROWS($A$3:A132))","v":""},null,{"$f":"IF(Table2[[#This Row],[भुगतान दिनाक]]=\"\",\"\",TEXT(Table2[[#This Row],[भुगतान दिनाक]],\"mmm\"))","v":""},{"$nulls":5},{"$f":"IF(PRODUCT(Table2[[#This Row],[मात्रा/संख्या]],Table2[[#This Row],[दर]])=0,\"\",PRODUCT(Table2[[#This Row],[मात्रा/संख्या]],Table2[[#This Row],[दर]]))","v":""}]
[null,{"$f":"IF(C133=\"\",\"\",ROWS($A$3:A133))","v":""},null,{"$f":"IF(Table2[[#This Row],[भुगतान दिनाक]]=\"\",\"\",TEXT(Table2[[#This Row],[भुगतान दिनाक]],\"mmm\"))","v":""},{"$nulls":5},{"$f":"IF(PRODUCT(Table2[[#This Row],[मात्रा/संख्या]],Table2[[#This Row],[दर]])=0,\"\",PRODUCT(Table2[[#This Row],[मात्रा/संख्या]],Table2[[#This Row],[दर]]))","v":""}]
[null,{"$f":"IF(C134=\"\",\"\",ROWS($A$3:A134))","v":""},null,{"$f":"IF(Table2[[#This Row],[भुगतान दिनाक]]=\"\",\"\",TEXT(Table2[[#This Row],[भुगतान दिनाक]],\"mmm\"))","v":""},{"$nulls":5},{"$f":"IF(PRODUCT(Table2[[#This Row],[मात्रा/संख्या]],Table2[[#This Row],[दर]])=0,\"\",PRODUCT(Table2[[#This Row],[मात्रा/संख्या]],Table2[[#This Row],[दर]]))","v":""}]
[null,{"$f":"IF(C135=\"\",\"\",ROWS($A$3:A135))","v":""},null,{"$f":"IF(Table2[[#This Row],[भुगतान दिनाक]]=\"\",\"\",TEXT(Table2[[#This Row],[भुगतान दिनाक]],\"mmm\"))","v":""},{"$nulls":5},{"$f":"IF(PRODUCT(Table2[[#This Row],[मात्रा/संख्या]],Table2[[#This Row],[दर]])=0,\"\",PRODUCT(Table2[[#This Row],[मात्रा/संख्या]],Table2[[#This Row],[दर]]))","v":""}]
[null,{"$f":"IF(C136=\"\",\"\",ROWS($A$3:A136))","v":""},null,{"$f":"IF(Table2[[#This Row],[भुगतान दिनाक]]=\"\",\"\",TEXT(Table2[[#This Row],[भुगतान दिनाक]],\"mmm\"))","v":""},{"$nulls":5},{"$f":"IF(PRODUCT(Table2[[#This Row],[मात्रा/संख्या]],Table2[[#This Row],[दर]])=0,\"\",PRODUCT(Table2[[#This Row],[मात्रा/संख्या]],Table2[[#This Row],[दर]]))","v":""}]
[null,{"$f":"IF(C137=\"\",\"\",ROWS($A$3:A137))","v":""},null,{"$f":"IF(Table2[[#This Row],[भुगतान दिनाक]]=\"\",\"\",TEXT(Table2[[#This Row],[भुगतान दिनाक]],\"mmm\"))","v":""},{"$nulls":5},{"$f":"IF(PRODUCT(Table2[[#This Row],[मात्रा/संख्या]],Table2[[#This Row],[दर]])=0,\"\",PRODUCT(Table2[[#This Row],[मात्रा/संख्या]],Table2[[#This Row],[दर]]))","v":""}]
[null,{"$f":"IF(C138=\"\",\"\",ROWS($A$3:A138))","v":""},null,{"$f":"IF(Table2[[#This Row],[भुगतान दिनाक]]=\"\",\"\",TEXT(Table2[[#This Row],[भुगतान दिनाक]],\"mmm\"))","v":""},{"$nulls":5},{"$f":"IF(PRODUCT(Table2[[#This Row],[मात्रा/संख्या]],Table2[[#This Row],[दर]])=0,\"\",PRODUCT(Table2[[#This Row],[मात्रा/संख्या]],Table2[[#This Row],[दर]]))","v":""}]
[null,{"$f":"IF(C139=\"\",\"\",ROWS($A$3:A139))","v":""},null,{"$f":"IF(Table2[[#This Row],[भुगतान दिनाक]]=\"\",\"\",TEXT(Table2[[#This Row],[भुगतान दिनाक]],\"mmm\"))","v":""},{"$nulls":5},{"$f":"IF(PRODUCT(Table2[[#This Row],[मात्रा/संख्या]],Table2[[#This Row],[दर]])=0,\"\",PRODUCT(Table2[[#This Row],[मात्रा/संख्या]],Table2[[#This Row],[दर]]))","v":""}]
[null,{"$f":"IF(C140=\"\",\"\",ROWS($A$3:A140))","v":""},null,{"$f":"IF(Table2[[#This Row],[भुगतान दिनाक]]=\"\",\"\",TEXT(Table2[[#This Row],[भुगतान दिनाक]],\"mmm\"))","v":""},{"$nulls":5},{"$f":"IF(PRODUCT(Table2[[#This Row],[मात्रा/संख्या]],Table2[[#This Row],[दर]])=0,\"\",PRODUCT(Table2[[#This Row],[मात्रा/संख्या]],Table2[[#This Row],[दर]]))","v":""}]
[null,{"$f":"IF(C141=\"\",\"\",ROWS($A$3:A141))","v":""},null,{"$f":"IF(Table2[[#This Row],[भुगतान दिनाक]]=\"\",\"\",TEXT(Table2[[#This Row],[भुगतान दिनाक]],\"mmm\"))","v":""},{"$nulls":5},{"$f":"IF(PRODUCT(Table2[[#This Row],[मात्रा/संख्या]],Table2[[#This Row],[दर]])=0,\"\",PRODUCT(Table2[[#This Row],[मात्रा/संख्या]],Table2[[#This Row],[दर]]))","v":""}]
[null,{"$f":"IF(C142=\"\",\"\",ROWS($A$3:A142))","v":""},null,{"$f":"IF(Table2[[#This Row],[भुगतान दिनाक]]=\"\",\"\",TEXT(Table2[[#This Row],[भुगतान दिनाक]],\"mmm\"))","v":""},{"$nulls":5},{"$f":"IF(PRODUCT(Table2[[#This Row],[मात्रा/संख्या]],Table2[[#This Row],[दर]])=0,\"\",PRODUCT(Table2[[#This Row],[मात्रा/संख्या]],Table2[[#This Row],[दर]]))","v":""}]
[null,{"$f":"IF(C143=\"\",\"\",ROWS($A$3:A143))","v":""},null,{"$f":"IF(Table2[[#This Row],[भुगतान दिनाक]]=\"\",\"\",TEXT(Table2[[#This Row],[भुगतान दिनाक]],\"mmm\"))","v":""},{"$nulls":5},{"$f":"IF(PRODUCT(Table2[[#This Row],[मात्रा/संख्या]],Table2[[#This Row],[दर]])=0,\"\",PRODUCT(Table2[[#This Row],[मात्रा/संख्या]],Table2[[#This Row],[दर]]))","v":""}]
[null,{"$f":"IF(C144=\"\",\"\",ROWS($A$3:A144))","v":""},null,{"$f":"IF(Table2[[#This Row],[भुगतान दिनाक]]=\"\",\"\",TEXT(Table2[[#This Row],[भुगतान दिनाक]],\"mmm\"))","v":""},{"$nulls":5},{"$f":"IF(PRODUCT(Table2[[#This Row],[मात्रा/संख्या]],Table2[[#This Row],[दर]])=0,\"\",PRODUCT(Table2[[#This Row],[मात्रा/संख्या]],Table2[[#This Row],[दर]]))","v":""}]
[null,{"$f":"IF(C145=\"\",\"\",ROWS($A$3:A145))","v":""},null,{"$f":"IF(Table2[[#This Row],[भुगतान दिनाक]]=\"\",\"\",TEXT(Table2[[#This Row],[भुगतान दिनाक]],\"mmm\"))","v":""},{"$nulls":5},{"$f":"IF(PRODUCT(Table2[[#This Row],[मात्रा/संख्या]],Table2[[#This Row],[दर]])=0,\"\",PRODUCT(Table2[[#This Row],[मात्रा/संख्या]],Table2[[#This Row],[दर]]))","v":""}]
[null,{"$f":"IF(C146=\"\",\"\",ROWS($A$3:A146))","v":""},null,{"$f":"IF(Table2[[#This Row],[भुगतान दिनाक]]=\"\",\"\",TEXT(Table2[[#This Row],[भुगतान दिनाक]],\"mmm\"))","v":""},{"$nulls":5},{"$f":"IF(PRODUCT(Table2[[#This Row],[मात्रा/संख्या]],Table2[[#This Row],[दर]])=0,\"\",PRODUCT(Table2[[#This Row],[मात्रा/संख्या]],Table2[[#This Row],[दर]]))","v":""}]
[null,{"$f":"IF(C147=\"\",\"\",ROWS($A$3:A147))","v":""},null,{"$f":"IF(Table2[[#This Row],[भुगतान दिनाक]]=\"\",\"\",TEXT(Table2[[#This Row],[भुगतान दिनाक]],\"mmm\"))","v":""},{"$nulls":5},{"$f":"IF(PRODUCT(Table2[[#This Row],[मात्रा/संख्या]],Table2[[#This Row],[दर]])=0,\"\",PRODUCT(Table2[[#This Row],[मात्रा/संख्या]],Table2[[#This Row],[दर]]))","v":""}]
[null,{"$f":"IF(C148=\"\",\"\",ROWS($A$3:A148))","v":""},null,{"$f":"IF(Table2[[#This Row],[भुगतान दिनाक]]=\"\",\"\",TEXT(Table2[[#This Row],[भुगतान दिनाक]],\"mmm\"))","v":""},{"$nulls":5},{"$f":"IF(PRODUCT(Table2[[#This Row],[मात्रा/संख्या]],Table2[[#This Row],[दर]])=0,\"\",PRODUCT(Table2[[#This Row],[मात्रा/संख्या]],Table2[[#This Row],[दर]]))","v":""}]
[null,{"$f":"IF(C149=\"\",\"\",ROWS($A$3:A149))","v":""},null,{"$f":"IF(Table2[[#This Row],[भुगतान दिनाक]]=\"\",\"\",TEXT(Table2[[#This Row],[भुगतान दिनाक]],\"mmm\"))","v":""},{"$nulls":5},{"$f":"IF(PRODUCT(Table2[[#This Row],[मात्रा/संख्या]],Table2[[#This Row],[दर]])=0,\"\",PRODUCT(Table2[[#This Row],[मात्रा/संख्या]],Table2[[#This Row],[दर]]))","v":""}]
[null,{"$f":"IF(C150=\"\",\"\",ROWS($A$3:A150))","v":""},null,{"$f":"IF(Table2[[#This Row],[भुगतान दिनाक]]=\"\",\"\",TEXT(Table2[[#This Row],[भुगतान दिनाक]],\"mmm\"))","v":""},{"$nulls":5},{"$f":"IF(PRODUCT(Table2[[#This Row],[मात्रा/संख्या]],Table2[[#This Row],[दर]])=0,\"\",PRODUCT(Table2[[#This Row],[मात्रा/संख्या]],Table2[[#This Row],[दर]]))","v":""}]
[null,{"$f":"IF(C151=\"\",\"\",ROWS($A$3:A151))","v":""},null,{"$f":"IF(Table2[[#This Row],[भुगतान दिनाक]]=\"\",\"\",TEXT(Table2[[#This Row],[भुगतान दिनाक]],\"mmm\"))","v":""},{"$nulls":5},{"$f":"IF(PRODUCT(Table2[[#This Row],[मात्रा/संख्या]],Table2[[#This Row],[दर]])=0,\"\",PRODUCT(Table2[[#This Row],[मात्रा/संख्या]],Table2[[#This Row],[दर]]))","v":""}]
[null,{"$f":"IF(C152=\"\",\"\",ROWS($A$3:A152))","v":""},null,{"$f":"IF(Table2[[#This Row],[भुगतान दिनाक]]=\"\",\"\",TEXT(Table2[[#This Row],[भुगतान दिनाक]],\"mmm\"))","v":""},{"$nulls":5},{"$f":"IF(PRODUCT(Table2[[#This Row],[मात्रा/संख्या]],Table2[[#This Row],[दर]])=0,\"\",PRODUCT(Table2[[#This Row],[मात्रा/संख्या]],Table2[[#This Row],[दर]]))","v":""}]
[null,{"$f":"IF(C153=\"\",\"\",ROWS($A$3:A153))","v":""},null,{"$f":"IF(Table2[[#This Row],[भुगतान दिनाक]]=\"\",\"\",TEXT(Table2[[#This Row],[भुगतान दिनाक]],\"mmm\"))","v":""},{"$nulls":5},{"$f":"IF(PRODUCT(Table2[[#This Row],[मात्रा/संख्या]],Table2[[#This Row],[दर]])=0,\"\",PRODUCT(Table2[[#This Row],[मात्रा/संख्या]],Table2[[#This Row],[दर]]))","v":""}]
[null,{"$f":"IF(C154=\"\",\"\",ROWS($A$3:A154))","v":""},null,{"$f":"IF(Table2[[#This Row],[भुगतान दिनाक]]=\"\",\"\",TEXT(Table2[[#This Row],[भुगतान दिनाक]],\"mmm\"))","v":""},{"$nulls":5},{"$f":"IF(PRODUCT(Table2[[#This Row],[मात्रा/संख्या]],Table2[[#This Row],[दर]])=0,\"\",PRODUCT(Table2[[#This Row],[मात्रा/संख्या]],Table2[[#This Row],[दर]]))","v":""}]
[null,{"$f":"IF(C155=\"\",\"\",ROWS($A$3:A155))","v":""},null,{"$f":"IF(Table2[[#This Row],[भुगतान दिनाक]]=\"\",\"\",TEXT(Table2[[#This Row],[भुगतान दिनाक]],\"mmm\"))","v":""},{"$nulls":5},{"$f":"IF(PRODUCT(Table2[[#This Row],[मात्रा/संख्या]],Table2[[#This Row],[दर]])=0,\"\",PRODUCT(Table2[[#This Row],[मात्रा/संख्या]],Table2[[#This Row],[दर]]))","v":""}]
[null,{"$f":"IF(C156=\"\",\"\",ROWS($A$3:A156))","v":""},null,{"$f":"IF(Table2[[#This Row],[भुगतान दिनाक]]=\"\",\"\",TEXT(Table2[[#This Row],[भुगतान दिनाक]],\"mmm\"))","v":""},{"$nulls":5},{"$f":"IF(PRODUCT(Table2[[#This Row],[मात्रा/संख्या]],Table2[[#This Row],[दर]])=0,\"\",PRODUCT(Table2[[#This Row],[मात्रा/संख्या]],Table2[[#This Row],[दर]]))","v":""}]
[null,{"$f":"IF(C157=\"\",\"\",ROWS($A$3:A157))","v":""},null,{"$f":"IF(Table2[[#This Row],[भुगतान दिनाक]]=\"\",\"\",TEXT(Table2[[#This Row],[भुगतान दिनाक]],\"mmm\"))","v":""},{"$nulls":5},{"$f":"IF(PRODUCT(Table2[[#This Row],[मात्रा/संख्या]],Table2[[#This Row],[दर]])=0,\"\",PRODUCT(Table2[[#This Row],[मात्रा/संख्या]],Table2[[#This Row],[दर]]))","v":""}]
[null,{"$f":"IF(C158=\"\",\"\",ROWS($A$3:A158))","v":""},null,{"$f":"IF(Table2[[#This Row],[भुगतान दिनाक]]=\"\",\"\",TEXT(Table2[[#This Row],[भुगतान दिनाक]],\"mmm\"))","v":""},{"$nulls":5},{"$f":"IF(PRODUCT(Table2[[#This Row],[मात्रा/संख्या]],Table2[[#This Row],[दर]])=0,\"\",PRODUCT(Table2[[#This Row],[मात्रा/संख्या]],Table2[[#This Row],[दर]]))","v":""}]
[null,{"$f":"IF(C159=\"\",\"\",ROWS($A$3:A159))","v":""},null,{"$f":"IF(Table2[[#This Row],[भुगतान दिनाक]]=\"\",\"\",TEXT(Table2[[#This Row],[भुगतान दिनाक]],\"mmm\"))","v":""},{"$nulls":5},{"$f":"IF(PRODUCT(Table2[[#This Row],[मात्रा/संख्या]],Table2[[#This Row],[दर]])=0,\"\",PRODUCT(Table2[[#This Row],[मात्रा/संख्या]],Table2[[#This Row],[दर]]))","v":""}]
[null,{"$f":"IF(C160=\"\",\"\",ROWS($A$3:A160))","v":""},null,{"$f":"IF(Table2[[#This Row],[भुगतान दिनाक]]=\"\",\"\",TEXT(Table2[[#This Row],[भुगतान दिनाक]],\"mmm\"))","v":""},{"$nulls":5},{"$f":"IF(PRODUCT(Table2[[#This Row],[मात्रा/संख्या]],Table2[[#This Row],[दर]])=0,\"\",PRODUCT(Table2[[#This Row],[मात्रा/संख्या]],Table2[[#This Row],[दर]]))","v":""}]
[null,{"$f":"IF(C161=\"\",\"\",ROWS($A$3:A161))","v":""},null,{"$f":"IF(Table2[[#This Row],[भुगतान दिनाक]]=\"\",\"\",TEXT(Table2[[#This Row],[भुगतान दिनाक]],\"mmm\"))","v":""},{"$nulls":5},{"$f":"IF(PRODUCT(Table2[[#This Row],[मात्रा/संख्या]],Table2[[#This Row],[दर]])=0,\"\",PRODUCT(Table2[[#This Row],[मात्रा/संख्या]],Table2[[#This Row],[दर]]))","v":""}]
[null,{"$f":"IF(C162=\"\",\"\",ROWS($A$3:A162))","v":""},null,{"$f":"IF(Table2[[#This Row],[भुगतान दिनाक]]=\"\",\"\",TEXT(Table2[[#This Row],[भुगतान दिनाक]],\"mmm\"))","v":""},{"$nulls":5},{"$f":"IF(PRODUCT(Table2[[#This Row],[मात्रा/संख्या]],Table2[[#This Row],[दर]])=0,\"\",PRODUCT(Table2[[#This Row],[मात्रा/संख्या]],Table2[[#This Row],[दर]]))","v":""}]
[null,{"$f":"IF(C163=\"\",\"\",ROWS($A$3:A163))","v":""},null,{"$f":"IF(Table2[[#This Row],[भुगतान दिनाक]]=\"\",\"\",TEXT(Table2[[#This Row],[भुगतान दिनाक]],\"mmm\"))","v":""},{"$nulls":5},{"$f":"IF(PRODUCT(Table2[[#This Row],[मात्रा/संख्या]],Table2[[#This Row],[दर]])=0,\"\",PRODUCT(Table2[[#This Row],[मात्रा/संख्या]],Table2[[#This Row],[दर]]))","v":""}]
[null,{"$f":"IF(C164=\"\",\"\",ROWS($A$3:A164))","v":""},null,{"$f":"IF(Table2[[#This Row],[भुगतान दिनाक]]=\"\",\"\",TEXT(Table2[[#This Row],[भुगतान दिनाक]],\"mmm\"))","v":""},{"$nulls":5},{"$f":"IF(PRODUCT(Table2[[#This Row],[मात्रा/संख्या]],Table2[[#This Row],[दर]])=0,\"\",PRODUCT(Table2[[#This Row],[मात्रा/संख्या]],Table2[[#This Row],[दर]]))","v":""}]
[null,{"$f":"IF(C165=\"\",\"\",ROWS($A$3:A165))","v":""},null,{"$f":"IF(Table2[[#This Row],[भुगतान दिनाक]]=\"\",\"\",TEXT(Table2[[#This Row],[भुगतान दिनाक]],\"mmm\"))","v":""},{"$nulls":5},{"$f":"IF(PRODUCT(Table2[[#This Row],[मात्रा/संख्या]],Table2[[#This Row],[दर]])=0,\"\",PRODUCT(Table2[[#This Row],[मात्रा/संख्या]],Table2[[#This Row],[दर]]))","v":""}]
[null,{"$f":"IF(C166=\"\",\"\",ROWS($A$3:A166))","v":""},null,{"$f":"IF(Table2[[#This Row],[भुगतान दिनाक]]=\"\",\"\",TEXT(Table2[[#This Row],[भुगतान दिनाक]],\"mmm\"))","v":""},{"$nulls":5},{"$f":"IF(PRODUCT(Table2[[#This Row],[मात्रा/संख्या]],Table2[[#This Row],[दर]])=0,\"\",PRODUCT(Table2[[#This Row],[मात्रा/संख्या]],Table2[[#This Row],[दर]]))","v":""}]
[null,{"$f":"IF(C167=\"\",\"\",ROWS($A$3:A167))","v":""},null,{"$f":"IF(Table2[[#This Row],[भुगतान दिनाक]]=\"\",\"\",TEXT(Table2[[#This Row],[भुगतान दिनाक]],\"mmm\"))","v":""},{"$nulls":5},{"$f":"IF(PRODUCT(Table2[[#This Row],[मात्रा/संख्या]],Table2[[#This Row],[दर]])=0,\"\",PRODUCT(Table2[[#This Row],[मात्रा/संख्या]],Table2[[#This Row],[दर]]))","v":""}]
[null,{"$f":"IF(C168=\"\",\"\",ROWS($A$3:A168))","v":""},null,{"$f":"IF(Table2[[#This Row],[भुगतान दिनाक]]=\"\",\"\",TEXT(Table2[[#This Row],[भुगतान दिनाक]],\"mmm\"))","v":""},{"$nulls":5},{"$f":"IF(PRODUCT(Table2[[#This Row],[मात्रा/संख्या]],Table2[[#This Row],[दर]])=0,\"\",PRODUCT(Table2[[#This Row],[मात्रा/संख्या]],Table2[[#This Row],[दर]]))","v":""}]
[null,{"$f":"IF(C169=\"\",\"\",ROWS($A$3:A169))","v":""},null,{"$f":"IF(Table2[[#This Row],[भुगतान दिनाक]]=\"\",\"\",TEXT(Table2[[#This Row],[भुगतान दिनाक]],\"mmm\"))","v":""},{"$nulls":5},{"$f":"IF(PRODUCT(Table2[[#This Row],[मात्रा/संख्या]],Table2[[#This Row],[दर]])=0,\"\",PRODUCT(Table2[[#This Row],[मात्रा/संख्या]],Table2[[#This Row],[दर]]))","v":""}]
[null,{"$f":"IF(C170=\"\",\"\",ROWS($A$3:A170))","v":""},null,{"$f":"IF(Table2[[#This Row],[भुगतान दिनाक]]=\"\",\"\",TEXT(Table2[[#This Row],[भुगतान दिनाक]],\"mmm\"))","v":""},{"$nulls":5},{"$f":"IF(PRODUCT(Table2[[#This Row],[मात्रा/संख्या]],Table2[[#This Row],[दर]])=0,\"\",PRODUCT(Table2[[#This Row],[मात्रा/संख्या]],Table2[[#This Row],[दर]]))","v":""}]
[null,{"$f":"IF(C171=\"\",\"\",ROWS($A$3:A171))","v":""},null,{"$f":"IF(Table2[[#This Row],[भुगतान दिनाक]]=\"\",\"\",TEXT(Table2[[#This Row],[भुगतान दिनाक]],\"mmm\"))","v":""},{"$nulls":5},{"$f":"IF(PRODUCT(Table2[[#This Row],[मात्रा/संख्या]],Table2[[#This Row],[दर]])=0,\"\",PRODUCT(Table2[[#This Row],[मात्रा/संख्या]],Table2[[#This Row],[दर]]))","v":""}]
[null,{"$f":"IF(C172=\"\",\"\",ROWS($A$3:A172))","v":""},null,{"$f":"IF(Table2[[#This Row],[भुगतान दिनाक]]=\"\",\"\",TEXT(Table2[[#This Row],[भुगतान दिनाक]],\"mmm\"))","v":""},{"$nulls":5},{"$f":"IF(PRODUCT(Table2[[#This Row],[मात्रा/संख्या]],Table2[[#This Row],[दर]])=0,\"\",PRODUCT(Table2[[#This Row],[मात्रा/संख्या]],Table2[[#This Row],[दर]]))","v":""}]
[null,{"$f":"IF(C173=\"\",\"\",ROWS($A$3:A173))","v":""},null,{"$f":"IF(Table2[[#This Row],[भुगतान दिनाक]]=\"\",\"\",TEXT(Table2[[#This Row],[भुगतान दिनाक]],\"mmm\"))","v":""},{"$nulls":5},{"$f":"IF(PRODUCT(Table2[[#This Row],[मात्रा/संख्या]],Table2[[#This Row],[दर]])=0,\"\",PRODUCT(Table2[[#This Row],[मात्रा/संख्या]],Table2[[#This Row],[दर]]))","v":""}]
[null,{"$f":"IF(C174=\"\",\"\",ROWS($A$3:A174))","v":""},null,{"$f":"IF(Table2[[#This Row],[भुगतान दिनाक]]=\"\",\"\",TEXT(Table2[[#This Row],[भुगतान दिनाक]],\"mmm\"))","v":""},{"$nulls":5},{"$f":"IF(PRODUCT(Table2[[#This Row],[मात्रा/संख्या]],Table2[[#This Row],[दर]])=0,\"\",PRODUCT(Table2[[#This Row],[मात्रा/संख्या]],Table2[[#This Row],[दर]]))","v":""}]
[null,{"$f":"IF(C175=\"\",\"\",ROWS($A$3:A175))","v":""},null,{"$f":"IF(Table2[[#This Row],[भुगतान दिनाक]]=\"\",\"\",TEXT(Table2[[#This Row],[भुगतान दिनाक]],\"mmm\"))","v":""},{"$nulls":5},{"$f":"IF(PRODUCT(Table2[[#This Row],[मात्रा/संख्या]],Table2[[#This Row],[दर]])=0,\"\",PRODUCT(Table2[[#This Row],[मात्रा/संख्या]],Table2[[#This Row],[दर]]))","v":""}]
[null,{"$f":"IF(C176=\"\",\"\",ROWS($A$3:A176))","v":""},null,{"$f":"IF(Table2[[#This Row],[भुगतान दिनाक]]=\"\",\"\",TEXT(Table2[[#This Row],[भुगतान दिनाक]],\"mmm\"))","v":""},{"$nulls":5},{"$f":"IF(PRODUCT(Table2[[#This Row],[मात्रा/संख्या]],Table2[[#This Row],[दर]])=0,\"\",PRODUCT(Table2[[#This Row],[मात्रा/संख्या]],Table2[[#This Row],[दर]]))","v":""}]
[null,{"$f":"IF(C177=\"\",\"\",ROWS($A$3:A177))","v":""},null,{"$f":"IF(Table2[[#This Row],[भुगतान दिनाक]]=\"\",\"\",TEXT(Table2[[#This Row],[भुगतान दिनाक]],\"mmm\"))","v":""},{"$nulls":5},{"$f":"IF(PRODUCT(Table2[[#This Row],[मात्रा/संख्या]],Table2[[#This Row],[दर]])=0,\"\",PRODUCT(Table2[[#This Row],[मात्रा/संख्या]],Table2[[#This Row],[दर]]))","v":""}]
[null,{"$f":"IF(C178=\"\",\"\",ROWS($A$3:A178))","v":""},null,{"$f":"IF(Table2[[#This Row],[भुगतान दिनाक]]=\"\",\"\",TEXT(Table2[[#This Row],[भुगतान दिनाक]],\"mmm\"))","v":""},{"$nulls":5},{"$f":"IF(PRODUCT(Table2[[#This Row],[मात्रा/संख्या]],Table2[[#This Row],[दर]])=0,\"\",PRODUCT(Table2[[#This Row],[मात्रा/संख्या]],Table2[[#This Row],[दर]]))","v":""}]
[null,{"$f":"IF(C179=\"\",\"\",ROWS($A$3:A179))","v":""},null,{"$f":"IF(Table2[[#This Row],[भुगतान दिनाक]]=\"\",\"\",TEXT(Table2[[#This Row],[भुगतान दिनाक]],\"mmm\"))","v":""},{"$nulls":5},{"$f":"IF(PRODUCT(Table2[[#This Row],[मात्रा/संख्या]],Table2[[#This Row],[दर]])=0,\"\",PRODUCT(Table2[[#This Row],[मात्रा/संख्या]],Table2[[#This Row],[दर]]))","v":""}]
[null,{"$f":"IF(C180=\"\",\"\",ROWS($A$3:A180))","v":""},null,{"$f":"IF(Table2[[#This Row],[भुगतान दिनाक]]=\"\",\"\",TEXT(Table2[[#This Row],[भुगतान दिनाक]],\"mmm\"))","v":""},{"$nulls":5},{"$f":"IF(PRODUCT(Table2[[#This Row],[मात्रा/संख्या]],Table2[[#This Row],[दर]])=0,\"\",PRODUCT(Table2[[#This Row],[मात्रा/संख्या]],Table2[[#This Row],[दर]]))","v":""}]
[null,{"$f":"IF(C181=\"\",\"\",ROWS($A$3:A181))","v":""},null,{"$f":"IF(Table2[[#This Row],[भुगतान दिनाक]]=\"\",\"\",TEXT(Table2[[#This Row],[भुगतान दिनाक]],\"mmm\"))","v":""},{"$nulls":5},{"$f":"IF(PRODUCT(Table2[[#This Row],[मात्रा/संख्या]],Table2[[#This Row],[दर]])=0,\"\",PRODUCT(Table2[[#This Row],[मात्रा/संख्या]],Table2[[#This Row],[दर]]))","v":""}]
[null,{"$f":"IF(C182=\"\",\"\",ROWS($A$3:A182))","v":""},null,{"$f":"IF(Table2[[#This Row],[भुगतान दिनाक]]=\"\",\"\",TEXT(Table2[[#This Row],[भुगतान दिनाक]],\"mmm\"))","v":""},{"$nulls":5},{"$f":"IF(PRODUCT(Table2[[#This Row],[मात्रा/संख्या]],Table2[[#This Row],[दर]])=0,\"\",PRODUCT(Table2[[#This Row],[मात्रा/संख्या]],Table2[[#This Row],[दर]]))","v":""}]
[null,{"$f":"IF(C183=\"\",\"\",ROWS($A$3:A183))","v":""},null,{"$f":"IF(Table2[[#This Row],[भुगतान दिनाक]]=\"\",\"\",TEXT(Table2[[#This Row],[भुगतान दिनाक]],\"mmm\"))","v":""},{"$nulls":5},{"$f":"IF(PRODUCT(Table2[[#This Row],[मात्रा/संख्या]],Table2[[#This Row],[दर]])=0,\"\",PRODUCT(Table2[[#This Row],[मात्रा/संख्या]],Table2[[#This Row],[दर]]))","v":""}]
[null,{"$f":"IF(C184=\"\",\"\",ROWS($A$3:A184))","v":""},null,{"$f":"IF(Table2[[#This Row],[भुगतान दिनाक]]=\"\",\"\",TEXT(Table2[[#This Row],[भुगतान दिनाक]],\"mmm\"))","v":""},{"$nulls":5},{"$f":"IF(PRODUCT(Table2[[#This Row],[मात्रा/संख्या]],Table2[[#This Row],[दर]])=0,\"\",PRODUCT(Table2[[#This Row],[मात्रा/संख्या]],Table2[[#This Row],[दर]]))","v":""}]
[null,{"$f":"IF(C185=\"\",\"\",ROWS($A$3:A185))","v":""},null,{"$f":"IF(Table2[[#This Row],[भुगतान दिनाक]]=\"\",\"\",TEXT(Table2[[#This Row],[भुगतान दिनाक]],\"mmm\"))","v":""},{"$nulls":5},{"$f":"IF(PRODUCT(Table2[[#This Row],[मात्रा/संख्या]],Table2[[#This Row],[दर]])=0,\"\",PRODUCT(Table2[[#This Row],[मात्रा/संख्या]],Table2[[#This Row],[दर]]))","v":""}]
[null,{"$f":"IF(C186=\"\",\"\",ROWS($A$3:A186))","v":""},null,{"$f":"IF(Table2[[#This Row],[भुगतान दिनाक]]=\"\",\"\",TEXT(Table2[[#This Row],[भुगतान दिनाक]],\"mmm\"))","v":""},{"$nulls":5},{"$f":"IF(PRODUCT(Table2[[#This Row],[मात्रा/संख्या]],Table2[[#This Row],[दर]])=0,\"\",PRODUCT(Table2[[#This Row],[मात्रा/संख्या]],Table2[[#This Row],[दर]]))","v":""}]
[null,{"$f":"IF(C187=\"\",\"\",ROWS($A$3:A187))","v":""},null,{"$f":"IF(Table2[[#This Row],[भुगतान दिनाक]]=\"\",\"\",TEXT(Table2[[#This Row],[भुगतान दिनाक]],\"mmm\"))","v":""},{"$nulls":5},{"$f":"IF(PRODUCT(Table2[[#This Row],[मात्रा/संख्या]],Table2[[#This Row],[दर]])=0,\"\",PRODUCT(Table2[[#This Row],[मात्रा/संख्या]],Table2[[#This Row],[दर]]))","v":""}]
[null,{"$f":"IF(C188=\"\",\"\",ROWS($A$3:A188))","v":""},null,{"$f":"IF(Table2[[#This Row],[भुगतान दिनाक]]=\"\",\"\",TEXT(Table2[[#This Row],[भुगतान दिनाक]],\"mmm\"))","v":""},{"$nulls":5},{"$f":"IF(PRODUCT(Table2[[#This Row],[मात्रा/संख्या]],Table2[[#This Row],[दर]])=0,\"\",PRODUCT(Table2[[#This Row],[मात्रा/संख्या]],Table2[[#This Row],[दर]]))","v":""}]
[null,{"$f":"IF(C189=\"\",\"\",ROWS($A$3:A189))","v":""},null,{"$f":"IF(Table2[[#This Row],[भुगतान दिनाक]]=\"\",\"\",TEXT(Table2[[#This Row],[भुगतान दिनाक]],\"mmm\"))","v":""},{"$nulls":5},{"$f":"IF(PRODUCT(Table2[[#This Row],[मात्रा/संख्या]],Table2[[#This Row],[दर]])=0,\"\",PRODUCT(Table2[[#This Row],[मात्रा/संख्या]],Table2[[#This Row],[दर]]))","v":""}]
[null,{"$f":"IF(C190=\"\",\"\",ROWS($A$3:A190))","v":""},null,{"$f":"IF(Table2[[#This Row],[भुगतान दिनाक]]=\"\",\"\",TEXT(Table2[[#This Row],[भुगतान दिनाक]],\"mmm\"))","v":""},{"$nulls":5},{"$f":"IF(PRODUCT(Table2[[#This Row],[मात्रा/संख्या]],Table2[[#This Row],[दर]])=0,\"\",PRODUCT(Table2[[#This Row],[मात्रा/संख्या]],Table2[[#This Row],[दर]]))","v":""}]
[null,{"$f":"IF(C191=\"\",\"\",ROWS($A$3:A191))","v":""},null,{"$f":"IF(Table2[[#This Row],[भुगतान दिनाक]]=\"\",\"\",TEXT(Table2[[#This Row],[भुगतान दिनाक]],\"mmm\"))","v":""},{"$nulls":5},{"$f":"IF(PRODUCT(Table2[[#This Row],[मात्रा/संख्या]],Table2[[#This Row],[दर]])=0,\"\",PRODUCT(Table2[[#This Row],[मात्रा/संख्या]],Table2[[#This Row],[दर]]))","v":""}]
[null,{"$f":"IF(C192=\"\",\"\",ROWS($A$3:A192))","v":""},null,{"$f":"IF(Table2[[#This Row],[भुगतान दिनाक]]=\"\",\"\",TEXT(Table2[[#This Row],[भुगतान दिनाक]],\"mmm\"))","v":""},{"$nulls":5},{"$f":"IF(PRODUCT(Table2[[#This Row],[मात्रा/संख्या]],Table2[[#This Row],[दर]])=0,\"\",PRODUCT(Table2[[#This Row],[मात्रा/संख्या]],Table2[[#This Row],[दर]]))","v":""}]
[null,{"$f":"IF(C193=\"\",\"\",ROWS($A$3:A193))","v":""},null,{"$f":"IF(Table2[[#This Row],[भुगतान दिनाक]]=\"\",\"\",TEXT(Table2[[#This Row],[भुगतान दिनाक]],\"mmm\"))","v":""},{"$nulls":5},{"$f":"IF(PRODUCT(Table2[[#This Row],[मात्रा/संख्या]],Table2[[#This Row],[दर]])=0,\"\",PRODUCT(Table2[[#This Row],[मात्रा/संख्या]],Table2[[#This Row],[दर]]))","v":""}]
[null,{"$f":"IF(C194=\"\",\"\",ROWS($A$3:A194))","v":""},null,{"$f":"IF(Table2[[#This Row],[भुगतान दिनाक]]=\"\",\"\",TEXT(Table2[[#This Row],[भुगतान दिनाक]],\"mmm\"))","v":""},{"$nulls":5},{"$f":"IF(PRODUCT(Table2[[#This Row],[मात्रा/संख्या]],Table2[[#This Row],[दर]])=0,\"\",PRODUCT(Table2[[#This Row],[मात्रा/संख्या]],Table2[[#This Row],[दर]]))","v":""}]
[null,{"$f":"IF(C195=\"\",\"\",ROWS($A$3:A195))","v":""},null,{"$f":"IF(Table2[[#This Row],[भुगतान दिनाक]]=\"\",\"\",TEXT(Table2[[#This Row],[भुगतान दिनाक]],\"mmm\"))","v":""},{"$nulls":5},{"$f":"IF(PRODUCT(Table2[[#This Row],[मात्रा/संख्या]],Table2[[#This Row],[दर]])=0,\"\",PRODUCT(Table2[[#This Row],[मात्रा/संख्या]],Table2[[#This Row],[दर]]))","v":""}]
[null,{"$f":"IF(C196=\"\",\"\",ROWS($A$3:A196))","v":""},null,{"$f":"IF(Table2[[#This Row],[भुगतान दिनाक]]=\"\",\"\",TEXT(Table2[[#This Row],[भुगतान दिनाक]],\"mmm\"))","v":""},{"$nulls":5},{"$f":"IF(PRODUCT(Table2[[#This Row],[मात्रा/संख्या]],Table2[[#This Row],[दर]])=0,\"\",PRODUCT(Table2[[#This Row],[मात्रा/संख्या]],Table2[[#This Row],[दर]]))","v":""}]
[null,{"$f":"IF(C197=\"\",\"\",ROWS($A$3:A197))","v":""},null,{"$f":"IF(Table2[[#This Row],[भुगतान दिनाक]]=\"\",\"\",TEXT(Table2[[#This Row],[भुगतान दिनाक]],\"mmm\"))","v":""},{"$nulls":5},{"$f":"IF(PRODUCT(Table2[[#This Row],[मात्रा/संख्या]],Table2[[#This Row],[दर]])=0,\"\",PRODUCT(Table2[[#This Row],[मात्रा/संख्या]],Table2[[#This Row],[दर]]))","v":""}]
[null,{"$f":"IF(C198=\"\",\"\",ROWS($A$3:A198))","v":""},null,{"$f":"IF(Table2[[#This Row],[भुगतान दिनाक]]=\"\",\"\",TEXT(Table2[[#This Row],[भुगतान दिनाक]],\"mmm\"))","v":""},{"$nulls":5},{"$f":"IF(PRODUCT(Table2[[#This Row],[मात्रा/संख्या]],Table2[[#This Row],[दर]])=0,\"\",PRODUCT(Table2[[#This Row],[मात्रा/संख्या]],Table2[[#This Row],[दर]]))","v":""}]
[null,{"$f":"IF(C199=\"\",\"\",ROWS($A$3:A199))","v":""},null,{"$f":"IF(Table2[[#This Row],[भुगतान दिनाक]]=\"\",\"\",TEXT(Table2[[#This Row],[भुगतान दिनाक]],\"mmm\"))","v":""},{"$nulls":5},{"$f":"IF(PRODUCT(Table2[[#This Row],[मात्रा/संख्या]],Table2[[#This Row],[दर]])=0,\"\",PRODUCT(Table2[[#This Row],[मात्रा/संख्या]],Table2[[#This Row],[दर]]))","v":""}]
[null,{"$f":"IF(C200=\"\",\"\",ROWS($A$3:A200))","v":""},null,{"$f":"IF(Table2[[#This Row],[भुगतान दिनाक]]=\"\",\"\",TEXT(Table2[[#This Row],[भुगतान दिनाक]],\"mmm\"))","v":""},{"$nulls":5},{"$f":"IF(PRODUCT(Table2[[#This Row],[मात्रा/संख्या]],Table2[[#This Row],[दर]])=0,\"\",PRODUCT(Table2[[#This Row],[मात्रा/संख्या]],Table2[[#This Row],[दर]]))","v":""}]
[null,{"$f":"IF(C201=\"\",\"\",ROWS($A$3:A201))","v":""},null,{"$f":"IF(Table2[[#This Row],[भुगतान दिनाक]]=\"\",\"\",TEXT(Table2[[#This Row],[भुगतान दिनाक]],\"mmm\"))","v":""},{"$nulls":5},{"$f":"IF(PRODUCT(Table2[[#This Row],[मात्रा/संख्या]],Table2[[#This Row],[दर]])=0,\"\",PRODUCT(Table2[[#This Row],[मात्रा/संख्या]],Table2[[#This Row],[दर]]))","v":""}]
[null,{"$f":"IF(C202=\"\",\"\",ROWS($A$3:A202))","v":""},null,{"$f":"IF(Table2[[#This Row],[भुगतान दिनाक]]=\"\",\"\",TEXT(Table2[[#This Row],[भुगतान दिनाक]],\"mmm\"))","v":""},{"$nulls":5},{"$f":"IF(PRODUCT(Table2[[#This Row],[मात्रा/संख्या]],Table2[[#This Row],[दर]])=0,\"\",PRODUCT(Table2[[#This Row],[मात्रा/संख्या]],Table2[[#This Row],[दर]]))","v":""}]
[null,{"$f":"IF(C203=\"\",\"\",ROWS($A$3:A203))","v":""},null,{"$f":"IF(Table2[[#This Row],[भुगतान दिनाक]]=\"\",\"\",TEXT(Table2[[#This Row],[भुगतान दिनाक]],\"mmm\"))","v":""},{"$nulls":5},{"$f":"IF(PRODUCT(Table2[[#This Row],[मात्रा/संख्या]],Table2[[#This Row],[दर]])=0,\"\",PRODUCT(Table2[[#This Row],[मात्रा/संख्या]],Table2[[#This Row],[दर]]))","v":""}]
[null,{"$f":"IF(C204=\"\",\"\",ROWS($A$3:A204))","v":""},null,{"$f":"IF(Table2[[#This Row],[भुगतान दिनाक]]=\"\",\"\",TEXT(Table2[[#This Row],[भुगतान दिनाक]],\"mmm\"))","v":""},{"$nulls":5},{"$f":"IF(PRODUCT(Table2[[#This Row],[मात्रा/संख्या]],Table2[[#This Row],[दर]])=0,\"\",PRODUCT(Table2[[#This Row],[मात्रा/संख्या]],Table2[[#This Row],[दर]]))","v":""}]
[null,{"$f":"IF(C205=\"\",\"\",ROWS($A$3:A205))","v":""},null,{"$f":"IF(Table2[[#This Row],[भुगतान दिनाक]]=\"\",\"\",TEXT(Table2[[#This Row],[भुगतान दिनाक]],\"mmm\"))","v":""},{"$nulls":5},{"$f":"IF(PRODUCT(Table2[[#This Row],[मात्रा/संख्या]],Table2[[#This Row],[दर]])=0,\"\",PRODUCT(Table2[[#This Row],[मात्रा/संख्या]],Table2[[#This Row],[दर]]))","v":""}]
[null,{"$f":"IF(C206=\"\",\"\",ROWS($A$3:A206))","v":""},null,{"$f":"IF(Table2[[#This Row],[भुगतान दिनाक]]=\"\",\"\",TEXT(Table2[[#This Row],[भुगतान दिनाक]],\"mmm\"))","v":""},{"$nulls":5},{"$f":"IF(PRODUCT(Table2[[#This Row],[मात्रा/संख्या]],Table2[[#This Row],[दर]])=0,\"\",PRODUCT(Table2[[#This Row],[मात्रा/संख्या]],Table2[[#This Row],[दर]]))","v":""}]
[null,{"$f":"IF(C207=\"\",\"\",ROWS($A$3:A207))","v":""},null,{"$f":"IF(Table2[[#This Row],[भुगतान दिनाक]]=\"\",\"\",TEXT(Table2[[#This Row],[भुगतान दिनाक]],\"mmm\"))","v":""},{"$nulls":5},{"$f":"IF(PRODUCT(Table2[[#This Row],[मात्रा/संख्या]],Table2[[#This Row],[दर]])=0,\"\",PRODUCT(Table2[[#This Row],[मात्रा/संख्या]],Table2[[#This Row],[दर]]))","v":""}]
[null,{"$f":"IF(C208=\"\",\"\",ROWS($A$3:A208))","v":""},null,{"$f":"IF(Table2[[#This Row],[भुगतान दिनाक]]=\"\",\"\",TEXT(Table2[[#This Row],[भुगतान दिनाक]],\"mmm\"))","v":""},{"$nulls":5},{"$f":"IF(PRODUCT(Table2[[#This Row],[मात्रा/संख्या]],Table2[[#This Row],[दर]])=0,\"\",PRODUCT(Table2[[#This Row],[मात्रा/संख्या]],Table2[[#This Row],[दर]]))","v":""}]
[null,{"$f":"IF(C209=\"\",\"\",ROWS($A$3:A209))","v":""},null,{"$f":"IF(Table2[[#This Row],[भुगतान दिनाक]]=\"\",\"\",TEXT(Table2[[#This Row],[भुगतान दिनाक]],\"mmm\"))","v":""},{"$nulls":5},{"$f":"IF(PRODUCT(Table2[[#This Row],[मात्रा/संख्या]],Table2[[#This Row],[दर]])=0,\"\",PRODUCT(Table2[[#This Row],[मात्रा/संख्या]],Table2[[#This Row],[दर]]))","v":""}]
[null,{"$f":"IF(C210=\"\",\"\",ROWS($A$3:A210))","v":""},null,{"$f":"IF(Table2[[#This Row],[भुगतान दिनाक]]=\"\",\"\",TEXT(Table2[[#This Row],[भुगतान दिनाक]],\"mmm\"))","v":""},{"$nulls":5},{"$f":"IF(PRODUCT(Table2[[#This Row],[मात्रा/संख्या]],Table2[[#This Row],[दर]])=0,\"\",PRODUCT(Table2[[#This Row],[मात्रा/संख्या]],Table2[[#This Row],[दर]]))","v":""}]
[null,{"$f":"IF(C211=\"\",\"\",ROWS($A$3:A211))","v":""},null,{"$f":"IF(Table2[[#This Row],[भुगतान दिनाक]]=\"\",\"\",TEXT(Table2[[#This Row],[भुगतान दिनाक]],\"mmm\"))","v":""},{"$nulls":5},{"$f":"IF(PRODUCT(Table2[[#This Row],[मात्रा/संख्या]],Table2[[#This Row],[दर]])=0,\"\",PRODUCT(Table2[[#This Row],[मात्रा/संख्या]],Table2[[#This Row],[दर]]))","v":""}]
[null,{"$f":"IF(C212=\"\",\"\",ROWS($A$3:A212))","v":""},null,{"$f":"IF(Table2[[#This Row],[भुगतान दिनाक]]=\"\",\"\",TEXT(Table2[[#This Row],[भुगतान दिनाक]],\"mmm\"))","v":""},{"$nulls":5},{"$f":"IF(PRODUCT(Table2[[#This Row],[मात्रा/संख्या]],Table2[[#This Row],[दर]])=0,\"\",PRODUCT(Table2[[#This Row],[मात्रा/संख्या]],Table2[[#This Row],[दर]]))","v":""}]
[null,{"$f":"IF(C213=\"\",\"\",ROWS($A$3:A213))","v":""},null,{"$f":"IF(Table2[[#This Row],[भुगतान दिनाक]]=\"\",\"\",TEXT(Table2[[#This Row],[भुगतान दिनाक]],\"mmm\"))","v":""},{"$nulls":5},{"$f":"IF(PRODUCT(Table2[[#This Row],[मात्रा/संख्या]],Table2[[#This Row],[दर]])=0,\"\",PRODUCT(Table2[[#This Row],[मात्रा/संख्या]],Table2[[#This Row],[दर]]))","v":""}]
[null,{"$f":"IF(C214=\"\",\"\",ROWS($A$3:A214))","v":""},null,{"$f":"IF(Table2[[#This Row],[भुगतान दिनाक]]=\"\",\"\",TEXT(Table2[[#This Row],[भुगतान दिनाक]],\"mmm\"))","v":""},{"$nulls":5},{"$f":"IF(PRODUCT(Table2[[#This Row],[मात्रा/संख्या]],Table2[[#This Row],[दर]])=0,\"\",PRODUCT(Table2[[#This Row],[मात्रा/संख्या]],Table2[[#This Row],[दर]]))","v":""}]
[null,{"$f":"IF(C215=\"\",\"\",ROWS($A$3:A215))","v":""},null,{"$f":"IF(Table2[[#This Row],[भुगतान दिनाक]]=\"\",\"\",TEXT(Table2[[#This Row],[भुगतान दिनाक]],\"mmm\"))","v":""},{"$nulls":5},{"$f":"IF(PRODUCT(Table2[[#This Row],[मात्रा/संख्या]],Table2[[#This Row],[दर]])=0,\"\",PRODUCT(Table2[[#This Row],[मात्रा/संख्या]],Table2[[#This Row],[दर]]))","v":""}]
[null,{"$f":"IF(C216=\"\",\"\",ROWS($A$3:A216))","v":""},null,{"$f":"IF(Table2[[#This Row],[भुगतान दिनाक]]=\"\",\"\",TEXT(Table2[[#This Row],[भुगतान दिनाक]],\"mmm\"))","v":""},{"$nulls":5},{"$f":"IF(PRODUCT(Table2[[#This Row],[मात्रा/संख्या]],Table2[[#This Row],[दर]])=0,\"\",PRODUCT(Table2[[#This Row],[मात्रा/संख्या]],Table2[[#This Row],[दर]]))","v":""}]
[null,{"$f":"IF(C217=\"\",\"\",ROWS($A$3:A217))","v":""},null,{"$f":"IF(Table2[[#This Row],[भुगतान दिनाक]]=\"\",\"\",TEXT(Table2[[#This Row],[भुगतान दिनाक]],\"mmm\"))","v":""},{"$nulls":5},{"$f":"IF(PRODUCT(Table2[[#This Row],[मात्रा/संख्या]],Table2[[#This Row],[दर]])=0,\"\",PRODUCT(Table2[[#This Row],[मात्रा/संख्या]],Table2[[#This Row],[दर]]))","v":""}]
[null,{"$f":"IF(C218=\"\",\"\",ROWS($A$3:A218))","v":""},null,{"$f":"IF(Table2[[#This Row],[भुगतान दिनाक]]=\"\",\"\",TEXT(Table2[[#This Row],[भुगतान दिनाक]],\"mmm\"))","v":""},{"$nulls":5},{"$f":"IF(PRODUCT(Table2[[#This Row],[मात्रा/संख्या]],Table2[[#This Row],[दर]])=0,\"\",PRODUCT(Table2[[#This Row],[मात्रा/संख्या]],Table2[[#This Row],[दर]]))","v":""}]
[null,{"$f":"IF(C219=\"\",\"\",ROWS($A$3:A219))","v":""},null,{"$f":"IF(Table2[[#This Row],[भुगतान दिनाक]]=\"\",\"\",TEXT(Table2[[#This Row],[भुगतान दिनाक]],\"mmm\"))","v":""},{"$nulls":5},{"$f":"IF(PRODUCT(Table2[[#This Row],[मात्रा/संख्या]],Table2[[#This Row],[दर]])=0,\"\",PRODUCT(Table2[[#This Row],[मात्रा/संख्या]],Table2[[#This Row],[दर]]))","v":""}]
[null,{"$f":"IF(C220=\"\",\"\",ROWS($A$3:A220))","v":""},null,{"$f":"IF(Table2[[#This Row],[भुगतान दिनाक]]=\"\",\"\",TEXT(Table2[[#This Row],[भुगतान दिनाक]],\"mmm\"))","v":""},{"$nulls":5},{"$f":"IF(PRODUCT(Table2[[#This Row],[मात्रा/संख्या]],Table2[[#This Row],[दर]])=0,\"\",PRODUCT(Table2[[#This Row],[मात्रा/संख्या]],Table2[[#This Row],[दर]]))","v":""}]
[null,{"$f":"IF(C221=\"\",\"\",ROWS($A$3:A221))","v":""},null,{"$f":"IF(Table2[[#This Row],[भुगतान दिनाक]]=\"\",\"\",TEXT(Table2[[#This Row],[भुगतान दिनाक]],\"mmm\"))","v":""},{"$nulls":5},{"$f":"IF(PRODUCT(Table2[[#This Row],[मात्रा/संख्या]],Table2[[#This Row],[दर]])=0,\"\",PRODUCT(Table2[[#This Row],[मात्रा/संख्या]],Table2[[#This Row],[दर]]))","v":""}]
[null,{"$f":"IF(C222=\"\",\"\",ROWS($A$3:A222))","v":""},null,{"$f":"IF(Table2[[#This Row],[भुगतान दिनाक]]=\"\",\"\",TEXT(Table2[[#This Row],[भुगतान दिनाक]],\"mmm\"))","v":""},{"$nulls":5},{"$f":"IF(PRODUCT(Table2[[#This Row],[मात्रा/संख्या]],Table2[[#This Row],[दर]])=0,\"\",PRODUCT(Table2[[#This Row],[मात्रा/संख्या]],Table2[[#This Row],[दर]]))","v":""}]
[null,{"$f":"IF(C223=\"\",\"\",ROWS($A$3:A223))","v":""},null,{"$f":"IF(Table2[[#This Row],[भुगतान दिनाक]]=\"\",\"\",TEXT(Table2[[#This Row],[भुगतान दिनाक]],\"mmm\"))","v":""},{"$nulls":5},{"$f":"IF(PRODUCT(Table2[[#This Row],[मात्रा/संख्या]],Table2[[#This Row],[दर]])=0,\"\",PRODUCT(Table2[[#This Row],[मात्रा/संख्या]],Table2[[#This Row],[दर]]))","v":""}]
[null,{"$f":"IF(C224=\"\",\"\",ROWS($A$3:A224))","v":""},null,{"$f":"IF(Table2[[#This Row],[भुगतान दिनाक]]=\"\",\"\",TEXT(Table2[[#This Row],[भुगतान दिनाक]],\"mmm\"))","v":""},{"$nulls":5},{"$f":"IF(PRODUCT(Table2[[#This Row],[मात्रा/संख्या]],Table2[[#This Row],[दर]])=0,\"\",PRODUCT(Table2[[#This Row],[मात्रा/संख्या]],Table2[[#This Row],[दर]]))","v":""}]
[null,{"$f":"IF(C225=\"\",\"\",ROWS($A$3:A225))","v":""},null,{"$f":"IF(Table2[[#This Row],[भुगतान दिनाक]]=\"\",\"\",TEXT(Table2[[#This Row],[भुगतान दिनाक]],\"mmm\"))","v":""},{"$nulls":5},{"$f":"IF(PRODUCT(Table2[[#This Row],[मात्रा/संख्या]],Table2[[#This Row],[दर]])=0,\"\",PRODUCT(Table2[[#This Row],[मात्रा/संख्या]],Table2[[#This Row],[दर]]))","v":""}]
[null,{"$f":"IF(C226=\"\",\"\",ROWS($A$3:A226))","v":""},null,{"$f":"IF(Table2[[#This Row],[भुगतान दिनाक]]=\"\",\"\",TEXT(Table2[[#This Row],[भुगतान दिनाक]],\"mmm\"))","v":""},{"$nulls":5},{"$f":"IF(PRODUCT(Table2[[#This Row],[मात्रा/संख्या]],Table2[[#This Row],[दर]])=0,\"\",PRODUCT(Table2[[#This Row],[मात्रा/संख्या]],Table2[[#This Row],[दर]]))","v":""}]
[null,{"$f":"IF(C227=\"\",\"\",ROWS($A$3:A227))","v":""},null,{"$f":"IF(Table2[[#This Row],[भुगतान दिनाक]]=\"\",\"\",TEXT(Table2[[#This Row],[भुगतान दिनाक]],\"mmm\"))","v":""},{"$nulls":5},{"$f":"IF(PRODUCT(Table2[[#This Row],[मात्रा/संख्या]],Table2[[#This Row],[दर]])=0,\"\",PRODUCT(Table2[[#This Row],[मात्रा/संख्या]],Table2[[#This Row],[दर]]))","v":""}]
[null,{"$f":"IF(C228=\"\",\"\",ROWS($A$3:A228))","v":""},null,{"$f":"IF(Table2[[#This Row],[भुगतान दिनाक]]=\"\",\"\",TEXT(Table2[[#This Row],[भुगतान दिनाक]],\"mmm\"))","v":""},{"$nulls":5},{"$f":"IF(PRODUCT(Table2[[#This Row],[मात्रा/संख्या]],Table2[[#This Row],[दर]])=0,\"\",PRODUCT(Table2[[#This Row],[मात्रा/संख्या]],Table2[[#This Row],[दर]]))","v":""}]
[null,{"$f":"IF(C229=\"\",\"\",ROWS($A$3:A229))","v":""},null,{"$f":"IF(Table2[[#This Row],[भुगतान दिनाक]]=\"\",\"\",TEXT(Table2[[#This Row],[भुगतान दिनाक]],\"mmm\"))","v":""},{"$nulls":5},{"$f":"IF(PRODUCT(Table2[[#This Row],[मात्रा/संख्या]],Table2[[#This Row],[दर]])=0,\"\",PRODUCT(Table2[[#This Row],[मात्रा/संख्या]],Table2[[#This Row],[दर]]))","v":""}]
[null,{"$f":"IF(C230=\"\",\"\",ROWS($A$3:A230))","v":""},null,{"$f":"IF(Table2[[#This Row],[भुगतान दिनाक]]=\"\",\"\",TEXT(Table2[[#This Row],[भुगतान दिनाक]],\"mmm\"))","v":""},{"$nulls":5},{"$f":"IF(PRODUCT(Table2[[#This Row],[मात्रा/संख्या]],Table2[[#This Row],[दर]])=0,\"\",PRODUCT(Table2[[#This Row],[मात्रा/संख्या]],Table2[[#This Row],[दर]]))","v":""}]
[null,{"$f":"IF(C231=\"\",\"\",ROWS($A$3:A231))","v":""},null,{"$f":"IF(Table2[[#This Row],[भुगतान दिनाक]]=\"\",\"\",TEXT(Table2[[#This Row],[भुगतान दिनाक]],\"mmm\"))","v":""},{"$nulls":5},{"$f":"IF(PRODUCT(Table2[[#This Row],[मात्रा/संख्या]],Table2[[#This Row],[दर]])=0,\"\",PRODUCT(Table2[[#This Row],[मात्रा/संख्या]],Table2[[#This Row],[दर]]))","v":""}]
[null,{"$f":"IF(C232=\"\",\"\",ROWS($A$3:A232))","v":""},null,{"$f":"IF(Table2[[#This Row],[भुगतान दिनाक]]=\"\",\"\",TEXT(Table2[[#This Row],[भुगतान दिनाक]],\"mmm\"))","v":""},{"$nulls":5},{"$f":"IF(PRODUCT(Table2[[#This Row],[मात्रा/संख्या]],Table2[[#This Row],[दर]])=0,\"\",PRODUCT(Table2[[#This Row],[मात्रा/संख्या]],Table2[[#This Row],[दर]]))","v":""}]
[null,{"$f":"IF(C233=\"\",\"\",ROWS($A$3:A233))","v":""},null,{"$f":"IF(Table2[[#This Row],[भुगतान दिनाक]]=\"\",\"\",TEXT(Table2[[#This Row],[भुगतान दिनाक]],\"mmm\"))","v":""},{"$nulls":5},{"$f":"IF(PRODUCT(Table2[[#This Row],[मात्रा/संख्या]],Table2[[#This Row],[दर]])=0,\"\",PRODUCT(Table2[[#This Row],[मात्रा/संख्या]],Table2[[#This Row],[दर]]))","v":""}]
[null,{"$f":"IF(C234=\"\",\"\",ROWS($A$3:A234))","v":""},null,{"$f":"IF(Table2[[#This Row],[भुगतान दिनाक]]=\"\",\"\",TEXT(Table2[[#This Row],[भुगतान दिनाक]],\"mmm\"))","v":""},{"$nulls":5},{"$f":"IF(PRODUCT(Table2[[#This Row],[मात्रा/संख्या]],Table2[[#This Row],[दर]])=0,\"\",PRODUCT(Table2[[#This Row],[मात्रा/संख्या]],Table2[[#This Row],[दर]]))","v":""}]
[null,{"$f":"IF(C235=\"\",\"\",ROWS($A$3:A235))","v":""},null,{"$f":"IF(Table2[[#This Row],[भुगतान दिनाक]]=\"\",\"\",TEXT(Table2[[#This Row],[भुगतान दिनाक]],\"mmm\"))","v":""},{"$nulls":5},{"$f":"IF(PRODUCT(Table2[[#This Row],[मात्रा/संख्या]],Table2[[#This Row],[दर]])=0,\"\",PRODUCT(Table2[[#This Row],[मात्रा/संख्या]],Table2[[#This Row],[दर]]))","v":""}]
[null,{"$f":"IF(C236=\"\",\"\",ROWS($A$3:A236))","v":""},null,{"$f":"IF(Table2[[#This Row],[भुगतान दिनाक]]=\"\",\"\",TEXT(Table2[[#This Row],[भुगतान दिनाक]],\"mmm\"))","v":""},{"$nulls":5},{"$f":"IF(PRODUCT(Table2[[#This Row],[मात्रा/संख्या]],Table2[[#This Row],[दर]])=0,\"\",PRODUCT(Table2[[#This Row],[मात्रा/संख्या]],Table2[[#This Row],[दर]]))","v":""}]
[null,{"$f":"IF(C237=\"\",\"\",ROWS($A$3:A237))","v":""},null,{"$f":"IF(Table2[[#This Row],[भुगतान दिनाक]]=\"\",\"\",TEXT(Table2[[#This Row],[भुगतान दिनाक]],\"mmm\"))","v":""},{"$nulls":5},{"$f":"IF(PRODUCT(Table2[[#This Row],[मात्रा/संख्या]],Table2[[#This Row],[दर]])=0,\"\",PRODUCT(Table2[[#This Row],[मात्रा/संख्या]],Table2[[#This Row],[दर]]))","v":""}]
[null,{"$f":"IF(C238=\"\",\"\",ROWS($A$3:A238))","v":""},null,{"$f":"IF(Table2[[#This Row],[भुगतान दिनाक]]=\"\",\"\",TEXT(Table2[[#This Row],[भुगतान दिनाक]],\"mmm\"))","v":""},{"$nulls":5},{"$f":"IF(PRODUCT(Table2[[#This Row],[मात्रा/संख्या]],Table2[[#This Row],[दर]])=0,\"\",PRODUCT(Table2[[#This Row],[मात्रा/संख्या]],Table2[[#This Row],[दर]]))","v":""}]
[null,{"$f":"IF(C239=\"\",\"\",ROWS($A$3:A239))","v":""},null,{"$f":"IF(Table2[[#This Row],[भुगतान दिनाक]]=\"\",\"\",TEXT(Table2[[#This Row],[भुगतान दिनाक]],\"mmm\"))","v":""},{"$nulls":5},{"$f":"IF(PRODUCT(Table2[[#This Row],[मात्रा/संख्या]],Table2[[#This Row],[दर]])=0,\"\",PRODUCT(Table2[[#This Row],[मात्रा/संख्या]],Table2[[#This Row],[दर]]))","v":""}]
[null,{"$f":"IF(C240=\"\",\"\",ROWS($A$3:A240))","v":""},null,{"$f":"IF(Table2[[#This Row],[भुगतान दिनाक]]=\"\",\"\",TEXT(Table2[[#This Row],[भुगतान दिनाक]],\"mmm\"))","v":""},{"$nulls":5},{"$f":"IF(PRODUCT(Table2[[#This Row],[मात्रा/संख्या]],Table2[[#This Row],[दर]])=0,\"\",PRODUCT(Table2[[#This Row],[मात्रा/संख्या]],Table2[[#This Row],[दर]]))","v":""}]
[null,{"$f":"IF(C241=\"\",\"\",ROWS($A$3:A241))","v":""},null,{"$f":"IF(Table2[[#This Row],[भुगतान दिनाक]]=\"\",\"\",TEXT(Table2[[#This Row],[भुगतान दिनाक]],\"mmm\"))","v":""},{"$nulls":5},{"$f":"IF(PRODUCT(Table2[[#This Row],[मात्रा/संख्या]],Table2[[#This Row],[दर]])=0,\"\",PRODUCT(Table2[[#This Row],[मात्रा/संख्या]],Table2[[#This Row],[दर]]))","v":""}]
[null,{"$f":"IF(C242=\"\",\"\",ROWS($A$3:A242))","v":""},null,{"$f":"IF(Table2[[#This Row],[भुगतान दिनाक]]=\"\",\"\",TEXT(Table2[[#This Row],[भुगतान दिनाक]],\"mmm\"))","v":""},{"$nulls":5},{"$f":"IF(PRODUCT(Table2[[#This Row],[मात्रा/संख्या]],Table2[[#This Row],[दर]])=0,\"\",PRODUCT(Table2[[#This Row],[मात्रा/संख्या]],Table2[[#This Row],[दर]]))","v":""}]
[null,{"$f":"IF(C243=\"\",\"\",ROWS($A$3:A243))","v":""},null,{"$f":"IF(Table2[[#This Row],[भुगतान दिनाक]]=\"\",\"\",TEXT(Table2[[#This Row],[भुगतान दिनाक]],\"mmm\"))","v":""},{"$nulls":5},{"$f":"IF(PRODUCT(Table2[[#This Row],[मात्रा/संख्या]],Table2[[#This Row],[दर]])=0,\"\",PRODUCT(Table2[[#This Row],[मात्रा/संख्या]],Table2[[#This Row],[दर]]))","v":""}]
[null,{"$f":"IF(C244=\"\",\"\",ROWS($A$3:A244))","v":""},null,{"$f":"IF(Table2[[#This Row],[भुगतान दिनाक]]=\"\",\"\",TEXT(Table2[[#This Row],[भुगतान दिनाक]],\"mmm\"))","v":""},{"$nulls":5},{"$f":"IF(PRODUCT(Table2[[#This Row],[मात्रा/संख्या]],Table2[[#This Row],[दर]])=0,\"\",PRODUCT(Table2[[#This Row],[मात्रा/संख्या]],Table2[[#This Row],[दर]]))","v":""}]
[null,{"$f":"IF(C245=\"\",\"\",ROWS($A$3:A245))","v":""},null,{"$f":"IF(Table2[[#This Row],[भुगतान दिनाक]]=\"\",\"\",TEXT(Table2[[#This Row],[भुगतान दिनाक]],\"mmm\"))","v":""},{"$nulls":5},{"$f":"IF(PRODUCT(Table2[[#This Row],[मात्रा/संख्या]],Table2[[#This Row],[दर]])=0,\"\",PRODUCT(Table2[[#This Row],[मात्रा/संख्या]],Table2[[#This Row],[दर]]))","v":""}]
[null,{"$f":"IF(C246=\"\",\"\",ROWS($A$3:A246))","v":""},null,{"$f":"IF(Table2[[#This Row],[भुगतान दिनाक]]=\"\",\"\",TEXT(Table2[[#This Row],[भुगतान दिनाक]],\"mmm\"))","v":""},{"$nulls":5},{"$f":"IF(PRODUCT(Table2[[#This Row],[मात्रा/संख्या]],Table2[[#This Row],[दर]])=0,\"\",PRODUCT(Table2[[#This Row],[मात्रा/संख्या]],Table2[[#This Row],[दर]]))","v":""}]
[null,{"$f":"IF(C247=\"\",\"\",ROWS($A$3:A247))","v":""},null,{"$f":"IF(Table2[[#This Row],[भुगतान दिनाक]]=\"\",\"\",TEXT(Table2[[#This Row],[भुगतान दिनाक]],\"mmm\"))","v":""},{"$nulls":5},{"$f":"IF(PRODUCT(Table2[[#This Row],[मात्रा/संख्या]],Table2[[#This Row],[दर]])=0,\"\",PRODUCT(Table2[[#This Row],[मात्रा/संख्या]],Table2[[#This Row],[दर]]))","v":""}]
[null,{"$f":"IF(C248=\"\",\"\",ROWS($A$3:A248))","v":""},null,{"$f":"IF(Table2[[#This Row],[भुगतान दिनाक]]=\"\",\"\",TEXT(Table2[[#This Row],[भुगतान दिनाक]],\"mmm\"))","v":""},{"$nulls":5},{"$f":"IF(PRODUCT(Table2[[#This Row],[मात्रा/संख्या]],Table2[[#This Row],[दर]])=0,\"\",PRODUCT(Table2[[#This Row],[मात्रा/संख्या]],Table2[[#This Row],[दर]]))","v":""}]
[null,{"$f":"IF(C249=\"\",\"\",ROWS($A$3:A249))","v":""},null,{"$f":"IF(Table2[[#This Row],[भुगतान दिनाक]]=\"\",\"\",TEXT(Table2[[#This Row],[भुगतान दिनाक]],\"mmm\"))","v":""},{"$nulls":5},{"$f":"IF(PRODUCT(Table2[[#This Row],[मात्रा/संख्या]],Table2[[#This Row],[दर]])=0,\"\",PRODUCT(Table2[[#This Row],[मात्रा/संख्या]],Table2[[#This Row],[दर]]))","v":""}]
[null,{"$f":"IF(C250=\"\",\"\",ROWS($A$3:A250))","v":""},null,{"$f":"IF(Table2[[#This Row],[भुगतान दिनाक]]=\"\",\"\",TEXT(Table2[[#This Row],[भुगतान दिनाक]],\"mmm\"))","v":""},{"$nulls":5},{"$f":"IF(PRODUCT(Table2[[#This Row],[मात्रा/संख्या]],Table2[[#This Row],[दर]])=0,\"\",PRODUCT(Table2[[#This Row],[मात्रा/संख्या]],Table2[[#This Row],[दर]]))","v":""}]
[null,{"$f":"IF(C251=\"\",\"\",ROWS($A$3:A251))","v":""},null,{"$f":"IF(Table2[[#This Row],[भुगतान दिनाक]]=\"\",\"\",TEXT(Table2[[#This Row],[भुगतान दिनाक]],\"mmm\"))","v":""},{"$nulls":5},{"$f":"IF(PRODUCT(Table2[[#This Row],[मात्रा/संख्या]],Table2[[#This Row],[दर]])=0,\"\",PRODUCT(Table2[[#This Row],[मात्रा/संख्या]],Table2[[#This Row],[दर]]))","v":""}]
[null,{"$f":"IF(C252=\"\",\"\",ROWS($A$3:A252))","v":""},null,{"$f":"IF(Table2[[#This Row],[भुगतान दिनाक]]=\"\",\"\",TEXT(Table2[[#This Row],[भुगतान दिनाक]],\"mmm\"))","v":""},{"$nulls":5},{"$f":"IF(PRODUCT(Table2[[#This Row],[मात्रा/संख्या]],Table2[[#This Row],[दर]])=0,\"\",PRODUCT(Table2[[#This Row],[मात्रा/संख्या]],Table2[[#This Row],[दर]]))","v":""}]
[null,{"$f":"IF(C253=\"\",\"\",ROWS($A$3:A253))","v":""},null,{"$f":"IF(Table2[[#This Row],[भुगतान दिनाक]]=\"\",\"\",TEXT(Table2[[#This Row],[भुगतान दिनाक]],\"mmm\"))","v":""},{"$nulls":5},{"$f":"IF(PRODUCT(Table2[[#This Row],[मात्रा/संख्या]],Table2[[#This Row],[दर]])=0,\"\",PRODUCT(Table2[[#This Row],[मात्रा/संख्या]],Table2[[#This Row],[दर]]))","v":""}]
[null,{"$f":"IF(C254=\"\",\"\",ROWS($A$3:A254))","v":""},null,{"$f":"IF(Table2[[#This Row],[भुगतान दिनाक]]=\"\",\"\",TEXT(Table2[[#This Row],[भुगतान दिनाक]],\"mmm\"))","v":""},{"$nulls":5},{"$f":"IF(PRODUCT(Table2[[#This Row],[मात्रा/संख्या]],Table2[[#This Row],[दर]])=0,\"\",PRODUCT(Table2[[#This Row],[मात्रा/संख्या]],Table2[[#This Row],[दर]]))","v":""}]
[null,{"$f":"IF(C255=\"\",\"\",ROWS($A$3:A255))","v":""},null,{"$f":"IF(Table2[[#This Row],[भुगतान दिनाक]]=\"\",\"\",TEXT(Table2[[#This Row],[भुगतान दिनाक]],\"mmm\"))","v":""},{"$nulls":5},{"$f":"IF(PRODUCT(Table2[[#This Row],[मात्रा/संख्या]],Table2[[#This Row],[दर]])=0,\"\",PRODUCT(Table2[[#This Row],[मात्रा/संख्या]],Table2[[#This Row],[दर]]))","v":""}]
[null,{"$f":"IF(C256=\"\",\"\",ROWS($A$3:A256))","v":""},null,{"$f":"IF(Table2[[#This Row],[भुगतान दिनाक]]=\"\",\"\",TEXT(Table2[[#This Row],[भुगतान दिनाक]],\"mmm\"))","v":""},{"$nulls":5},{"$f":"IF(PRODUCT(Table2[[#This Row],[मात्रा/संख्या]],Table2[[#This Row],[दर]])=0,\"\",PRODUCT(Table2[[#This Row],[मात्रा/संख्या]],Table2[[#This Row],[दर]]))","v":""}]
[null,{"$f":"IF(C257=\"\",\"\",ROWS($A$3:A257))","v":""},null,{"$f":"IF(Table2[[#This Row],[भुगतान दिनाक]]=\"\",\"\",TEXT(Table2[[#This Row],[भुगतान दिनाक]],\"mmm\"))","v":""},{"$nulls":5},{"$f":"IF(PRODUCT(Table2[[#This Row],[मात्रा/संख्या]],Table2[[#This Row],[दर]])=0,\"\",PRODUCT(Table2[[#This Row],[मात्रा/संख्या]],Table2[[#This Row],[दर]]))","v":""}]
[null,{"$f":"IF(C258=\"\",\"\",ROWS($A$3:A258))","v":""},null,{"$f":"IF(Table2[[#This Row],[भुगतान दिनाक]]=\"\",\"\",TEXT(Table2[[#This Row],[भुगतान दिनाक]],\"mmm\"))","v":""},{"$nulls":5},{"$f":"IF(PRODUCT(Table2[[#This Row],[मात्रा/संख्या]],Table2[[#This Row],[दर]])=0,\"\",PRODUCT(Table2[[#This Row],[मात्रा/संख्या]],Table2[[#This Row],[दर]]))","v":""}]
[null,{"$f":"IF(C259=\"\",\"\",ROWS($A$3:A259))","v":""},null,{"$f":"IF(Table2[[#This Row],[भुगतान दिनाक]]=\"\",\"\",TEXT(Table2[[#This Row],[भुगतान दिनाक]],\"mmm\"))","v":""},{"$nulls":5},{"$f":"IF(PRODUCT(Table2[[#This Row],[मात्रा/संख्या]],Table2[[#This Row],[दर]])=0,\"\",PRODUCT(Table2[[#This Row],[मात्रा/संख्या]],Table2[[#This Row],[दर]]))","v":""}]
[null,{"$f":"IF(C260=\"\",\"\",ROWS($A$3:A260))","v":""},null,{"$f":"IF(Table2[[#This Row],[भुगतान दिनाक]]=\"\",\"\",TEXT(Table2[[#This Row],[भुगतान दिनाक]],\"mmm\"))","v":""},{"$nulls":5},{"$f":"IF(PRODUCT(Table2[[#This Row],[मात्रा/संख्या]],Table2[[#This Row],[दर]])=0,\"\",PRODUCT(Table2[[#This Row],[मात्रा/संख्या]],Table2[[#This Row],[दर]]))","v":""}]
[null,{"$f":"IF(C261=\"\",\"\",ROWS($A$3:A261))","v":""},null,{"$f":"IF(Table2[[#This Row],[भुगतान दिनाक]]=\"\",\"\",TEXT(Table2[[#This Row],[भुगतान दिनाक]],\"mmm\"))","v":""},{"$nulls":5},{"$f":"IF(PRODUCT(Table2[[#This Row],[मात्रा/संख्या]],Table2[[#This Row],[दर]])=0,\"\",PRODUCT(Table2[[#This Row],[मात्रा/संख्या]],Table2[[#This Row],[दर]]))","v":""}]
[null,{"$f":"IF(C262=\"\",\"\",ROWS($A$3:A262))","v":""},null,{"$f":"IF(Table2[[#This Row],[भुगतान दिनाक]]=\"\",\"\",TEXT(Table2[[#This Row],[भुगतान दिनाक]],\"mmm\"))","v":""},{"$nulls":5},{"$f":"IF(PRODUCT(Table2[[#This Row],[मात्रा/संख्या]],Table2[[#This Row],[दर]])=0,\"\",PRODUCT(Table2[[#This Row],[मात्रा/संख्या]],Table2[[#This Row],[दर]]))","v":""}]
[null,{"$f":"IF(C263=\"\",\"\",ROWS($A$3:A263))","v":""},null,{"$f":"IF(Table2[[#This Row],[भुगतान दिनाक]]=\"\",\"\",TEXT(Table2[[#This Row],[भुगतान दिनाक]],\"mmm\"))","v":""},{"$nulls":5},{"$f":"IF(PRODUCT(Table2[[#This Row],[मात्रा/संख्या]],Table2[[#This Row],[दर]])=0,\"\",PRODUCT(Table2[[#This Row],[मात्रा/संख्या]],Table2[[#This Row],[दर]]))","v":""}]
[null,{"$f":"IF(C264=\"\",\"\",ROWS($A$3:A264))","v":""},null,{"$f":"IF(Table2[[#This Row],[भुगतान दिनाक]]=\"\",\"\",TEXT(Table2[[#This Row],[भुगतान दिनाक]],\"mmm\"))","v":""},{"$nulls":5},{"$f":"IF(PRODUCT(Table2[[#This Row],[मात्रा/संख्या]],Table2[[#This Row],[दर]])=0,\"\",PRODUCT(Table2[[#This Row],[मात्रा/संख्या]],Table2[[#This Row],[दर]]))","v":""}]
[null,{"$f":"IF(C265=\"\",\"\",ROWS($A$3:A265))","v":""},null,{"$f":"IF(Table2[[#This Row],[भुगतान दिनाक]]=\"\",\"\",TEXT(Table2[[#This Row],[भुगतान दिनाक]],\"mmm\"))","v":""},{"$nulls":5},{"$f":"IF(PRODUCT(Table2[[#This Row],[मात्रा/संख्या]],Table2[[#This Row],[दर]])=0,\"\",PRODUCT(Table2[[#This Row],[मात्रा/संख्या]],Table2[[#This Row],[दर]]))","v":""}]
[null,{"$f":"IF(C266=\"\",\"\",ROWS($A$3:A266))","v":""},null,{"$f":"IF(Table2[[#This Row],[भुगतान दिनाक]]=\"\",\"\",TEXT(Table2[[#This Row],[भुगतान दिनाक]],\"mmm\"))","v":""},{"$nulls":5},{"$f":"IF(PRODUCT(Table2[[#This Row],[मात्रा/संख्या]],Table2[[#This Row],[दर]])=0,\"\",PRODUCT(Table2[[#This Row],[मात्रा/संख्या]],Table2[[#This Row],[दर]]))","v":""}]
[null,{"$f":"IF(C267=\"\",\"\",ROWS($A$3:A267))","v":""},null,{"$f":"IF(Table2[[#This Row],[भुगतान दिनाक]]=\"\",\"\",TEXT(Table2[[#This Row],[भुगतान दिनाक]],\"mmm\"))","v":""},{"$nulls":5},{"$f":"IF(PRODUCT(Table2[[#This Row],[मात्रा/संख्या]],Table2[[#This Row],[दर]])=0,\"\",PRODUCT(Table2[[#This Row],[मात्रा/संख्या]],Table2[[#This Row],[दर]]))","v":""}]
[null,{"$f":"IF(C268=\"\",\"\",ROWS($A$3:A268))","v":""},null,{"$f":"IF(Table2[[#This Row],[भुगतान दिनाक]]=\"\",\"\",TEXT(Table2[[#This Row],[भुगतान दिनाक]],\"mmm\"))","v":""},{"$nulls":5},{"$f":"IF(PRODUCT(Table2[[#This Row],[मात्रा/संख्या]],Table2[[#This Row],[दर]])=0,\"\",PRODUCT(Table2[[#This Row],[मात्रा/संख्या]],Table2[[#This Row],[दर]]))","v":""}]
[null,{"$f":"IF(C269=\"\",\"\",ROWS($A$3:A269))","v":""},null,{"$f":"IF(Table2[[#This Row],[भुगतान दिनाक]]=\"\",\"\",TEXT(Table2[[#This Row],[भुगतान दिनाक]],\"mmm\"))","v":""},{"$nulls":5},{"$f":"IF(PRODUCT(Table2[[#This Row],[मात्रा/संख्या]],Table2[[#This Row],[दर]])=0,\"\",PRODUCT(Table2[[#This Row],[मात्रा/संख्या]],Table2[[#This Row],[दर]]))","v":""}]
[null,{"$f":"IF(C270=\"\",\"\",ROWS($A$3:A270))","v":""},null,{"$f":"IF(Table2[[#This Row],[भुगतान दिनाक]]=\"\",\"\",TEXT(Table2[[#This Row],[भुगतान दिनाक]],\"mmm\"))","v":""},{"$nulls":5},{"$f":"IF(PRODUCT(Table2[[#This Row],[मात्रा/संख्या]],Table2[[#This Row],[दर]])=0,\"\",PRODUCT(Table2[[#This Row],[मात्रा/संख्या]],Table2[[#This Row],[दर]]))","v":""}]
[null,{"$f":"IF(C271=\"\",\"\",ROWS($A$3:A271))","v":""},null,{"$f":"IF(Table2[[#This Row],[भुगतान दिनाक]]=\"\",\"\",TEXT(Table2[[#This Row],[भुगतान दिनाक]],\"mmm\"))","v":""},{"$nulls":5},{"$f":"IF(PRODUCT(Table2[[#This Row],[मात्रा/संख्या]],Table2[[#This Row],[दर]])=0,\"\",PRODUCT(Table2[[#This Row],[मात्रा/संख्या]],Table2[[#This Row],[दर]]))","v":""}]
[null,{"$f":"IF(C272=\"\",\"\",ROWS($A$3:A272))","v":""},null,{"$f":"IF(Table2[[#This Row],[भुगतान दिनाक]]=\"\",\"\",TEXT(Table2[[#This Row],[भुगतान दिनाक]],\"mmm\"))","v":""},{"$nulls":5},{"$f":"IF(PRODUCT(Table2[[#This Row],[मात्रा/संख्या]],Table2[[#This Row],[दर]])=0,\"\",PRODUCT(Table2[[#This Row],[मात्रा/संख्या]],Table2[[#This Row],[दर]]))","v":""}]
[null,{"$f":"IF(C273=\"\",\"\",ROWS($A$3:A273))","v":""},null,{"$f":"IF(Table2[[#This Row],[भुगतान दिनाक]]=\"\",\"\",TEXT(Table2[[#This Row],[भुगतान दिनाक]],\"mmm\"))","v":""},{"$nulls":5},{"$f":"IF(PRODUCT(Table2[[#This Row],[मात्रा/संख्या]],Table2[[#This Row],[दर]])=0,\"\",PRODUCT(Table2[[#This Row],[मात्रा/संख्या]],Table2[[#This Row],[दर]]))","v":""}]
[null,{"$f":"IF(C274=\"\",\"\",ROWS($A$3:A274))","v":""},null,{"$f":"IF(Table2[[#This Row],[भुगतान दिनाक]]=\"\",\"\",TEXT(Table2[[#This Row],[भुगतान दिनाक]],\"mmm\"))","v":""},{"$nulls":5},{"$f":"IF(PRODUCT(Table2[[#This Row],[मात्रा/संख्या]],Table2[[#This Row],[दर]])=0,\"\",PRODUCT(Table2[[#This Row],[मात्रा/संख्या]],Table2[[#This Row],[दर]]))","v":""}]
[null,{"$f":"IF(C275=\"\",\"\",ROWS($A$3:A275))","v":""},null,{"$f":"IF(Table2[[#This Row],[भुगतान दिनाक]]=\"\",\"\",TEXT(Table2[[#This Row],[भुगतान दिनाक]],\"mmm\"))","v":""},{"$nulls":5},{"$f":"IF(PRODUCT(Table2[[#This Row],[मात्रा/संख्या]],Table2[[#This Row],[दर]])=0,\"\",PRODUCT(Table2[[#This Row],[मात्रा/संख्या]],Table2[[#This Row],[दर]]))","v":""}]
[null,{"$f":"IF(C276=\"\",\"\",ROWS($A$3:A276))","v":""},null,{"$f":"IF(Table2[[#This Row],[भुगतान दिनाक]]=\"\",\"\",TEXT(Table2[[#This Row],[भुगतान दिनाक]],\"mmm\"))","v":""},{"$nulls":5},{"$f":"IF(PRODUCT(Table2[[#This Row],[मात्रा/संख्या]],Table2[[#This Row],[दर]])=0,\"\",PRODUCT(Table2[[#This Row],[मात्रा/संख्या]],Table2[[#This Row],[दर]]))","v":""}]
[null,{"$f":"IF(C277=\"\",\"\",ROWS($A$3:A277))","v":""},null,{"$f":"IF(Table2[[#This Row],[भुगतान दिनाक]]=\"\",\"\",TEXT(Table2[[#This Row],[भुगतान दिनाक]],\"mmm\"))","v":""},{"$nulls":5},{"$f":"IF(PRODUCT(Table2[[#This Row],[मात्रा/संख्या]],Table2[[#This Row],[दर]])=0,\"\",PRODUCT(Table2[[#This Row],[मात्रा/संख्या]],Table2[[#This Row],[दर]]))","v":""}]
[null,{"$f":"IF(C278=\"\",\"\",ROWS($A$3:A278))","v":""},null,{"$f":"IF(Table2[[#This Row],[भुगतान दिनाक]]=\"\",\"\",TEXT(Table2[[#This Row],[भुगतान दिनाक]],\"mmm\"))","v":""},{"$nulls":5},{"$f":"IF(PRODUCT(Table2[[#This Row],[मात्रा/संख्या]],Table2[[#This Row],[दर]])=0,\"\",PRODUCT(Table2[[#This Row],[मात्रा/संख्या]],Table2[[#This Row],[दर]]))","v":""}]
[null,{"$f":"IF(C279=\"\",\"\",ROWS($A$3:A279))","v":""},null,{"$f":"IF(Table2[[#This Row],[भुगतान दिनाक]]=\"\",\"\",TEXT(Table2[[#This Row],[भुगतान दिनाक]],\"mmm\"))","v":""},{"$nulls":5},{"$f":"IF(PRODUCT(Table2[[#This Row],[मात्रा/संख्या]],Table2[[#This Row],[दर]])=0,\"\",PRODUCT(Table2[[#This Row],[मात्रा/संख्या]],Table2[[#This Row],[दर]]))","v":""}]
[null,{"$f":"IF(C280=\"\",\"\",ROWS($A$3:A280))","v":""},null,{"$f":"IF(Table2[[#This Row],[भुगतान दिनाक]]=\"\",\"\",TEXT(Table2[[#This Row],[भुगतान दिनाक]],\"mmm\"))","v":""},{"$nulls":5},{"$f":"IF(PRODUCT(Table2[[#This Row],[मात्रा/संख्या]],Table2[[#This Row],[दर]])=0,\"\",PRODUCT(Table2[[#This Row],[मात्रा/संख्या]],Table2[[#This Row],[दर]]))","v":""}]
[null,{"$f":"IF(C281=\"\",\"\",ROWS($A$3:A281))","v":""},null,{"$f":"IF(Table2[[#This Row],[भुगतान दिनाक]]=\"\",\"\",TEXT(Table2[[#This Row],[भुगतान दिनाक]],\"mmm\"))","v":""},{"$nulls":5},{"$f":"IF(PRODUCT(Table2[[#This Row],[मात्रा/संख्या]],Table2[[#This Row],[दर]])=0,\"\",PRODUCT(Table2[[#This Row],[मात्रा/संख्या]],Table2[[#This Row],[दर]]))","v":""}]
[null,{"$f":"IF(C282=\"\",\"\",ROWS($A$3:A282))","v":""},null,{"$f":"IF(Table2[[#This Row],[भुगतान दिनाक]]=\"\",\"\",TEXT(Table2[[#This Row],[भुगतान दिनाक]],\"mmm\"))","v":""},{"$nulls":5},{"$f":"IF(PRODUCT(Table2[[#This Row],[मात्रा/संख्या]],Table2[[#This Row],[दर]])=0,\"\",PRODUCT(Table2[[#This Row],[मात्रा/संख्या]],Table2[[#This Row],[दर]]))","v":""}]
[null,{"$f":"IF(C283=\"\",\"\",ROWS($A$3:A283))","v":""},null,{"$f":"IF(Table2[[#This Row],[भुगतान दिनाक]]=\"\",\"\",TEXT(Table2[[#This Row],[भुगतान दिनाक]],\"mmm\"))","v":""},{"$nulls":5},{"$f":"IF(PRODUCT(Table2[[#This Row],[मात्रा/संख्या]],Table2[[#This Row],[दर]])=0,\"\",PRODUCT(Table2[[#This Row],[मात्रा/संख्या]],Table2[[#This Row],[दर]]))","v":""}]
[null,{"$f":"IF(C284=\"\",\"\",ROWS($A$3:A284))","v":""},null,{"$f":"IF(Table2[[#This Row],[भुगतान दिनाक]]=\"\",\"\",TEXT(Table2[[#This Row],[भुगतान दिनाक]],\"mmm\"))","v":""},{"$nulls":5},{"$f":"IF(PRODUCT(Table2[[#This Row],[मात्रा/संख्या]],Table2[[#This Row],[दर]])=0,\"\",PRODUCT(Table2[[#This Row],[मात्रा/संख्या]],Table2[[#This Row],[दर]]))","v":""}]
[null,{"$f":"IF(C285=\"\",\"\",ROWS($A$3:A285))","v":""},null,{"$f":"IF(Table2[[#This Row],[भुगतान दिनाक]]=\"\",\"\",TEXT(Table2[[#This Row],[भुगतान दिनाक]],\"mmm\"))","v":""},{"$nulls":5},{"$f":"IF(PRODUCT(Table2[[#This Row],[मात्रा/संख्या]],Table2[[#This Row],[दर]])=0,\"\",PRODUCT(Table2[[#This Row],[मात्रा/संख्या]],Table2[[#This Row],[दर]]))","v":""}]
[null,{"$f":"IF(C286=\"\",\"\",ROWS($A$3:A286))","v":""},null,{"$f":"IF(Table2[[#This Row],[भुगतान दिनाक]]=\"\",\"\",TEXT(Table2[[#This Row],[भुगतान दिनाक]],\"mmm\"))","v":""},{"$nulls":5},{"$f":"IF(PRODUCT(Table2[[#This Row],[मात्रा/संख्या]],Table2[[#This Row],[दर]])=0,\"\",PRODUCT(Table2[[#This Row],[मात्रा/संख्या]],Table2[[#This Row],[दर]]))","v":""}]
[null,{"$f":"IF(C287=\"\",\"\",ROWS($A$3:A287))","v":""},null,{"$f":"IF(Table2[[#This Row],[भुगतान दिनाक]]=\"\",\"\",TEXT(Table2[[#This Row],[भुगतान दिनाक]],\"mmm\"))","v":""},{"$nulls":5},{"$f":"IF(PRODUCT(Table2[[#This Row],[मात्रा/संख्या]],Table2[[#This Row],[दर]])=0,\"\",PRODUCT(Table2[[#This Row],[मात्रा/संख्या]],Table2[[#This Row],[दर]]))","v":""}]
[null,{"$f":"IF(C288=\"\",\"\",ROWS($A$3:A288))","v":""},null,{"$f":"IF(Table2[[#This Row],[भुगतान दिनाक]]=\"\",\"\",TEXT(Table2[[#This Row],[भुगतान दिनाक]],\"mmm\"))","v":""},{"$nulls":5},{"$f":"IF(PRODUCT(Table2[[#This Row],[मात्रा/संख्या]],Table2[[#This Row],[दर]])=0,\"\",PRODUCT(Table2[[#This Row],[मात्रा/संख्या]],Table2[[#This Row],[दर]]))","v":""}]
[null,{"$f":"IF(C289=\"\",\"\",ROWS($A$3:A289))","v":""},null,{"$f":"IF(Table2[[#This Row],[भुगतान दिनाक]]=\"\",\"\",TEXT(Table2[[#This Row],[भुगतान दिनाक]],\"mmm\"))","v":""},{"$nulls":5},{"$f":"IF(PRODUCT(Table2[[#This Row],[मात्रा/संख्या]],Table2[[#This Row],[दर]])=0,\"\",PRODUCT(Table2[[#This Row],[मात्रा/संख्या]],Table2[[#This Row],[दर]]))","v":""}]
[null,{"$f":"IF(C290=\"\",\"\",ROWS($A$3:A290))","v":""},null,{"$f":"IF(Table2[[#This Row],[भुगतान दिनाक]]=\"\",\"\",TEXT(Table2[[#This Row],[भुगतान दिनाक]],\"mmm\"))","v":""},{"$nulls":5},{"$f":"IF(PRODUCT(Table2[[#This Row],[मात्रा/संख्या]],Table2[[#This Row],[दर]])=0,\"\",PRODUCT(Table2[[#This Row],[मात्रा/संख्या]],Table2[[#This Row],[दर]]))","v":""}]
[null,{"$f":"IF(C291=\"\",\"\",ROWS($A$3:A291))","v":""},null,{"$f":"IF(Table2[[#This Row],[भुगतान दिनाक]]=\"\",\"\",TEXT(Table2[[#This Row],[भुगतान दिनाक]],\"mmm\"))","v":""},{"$nulls":5},{"$f":"IF(PRODUCT(Table2[[#This Row],[मात्रा/संख्या]],Table2[[#This Row],[दर]])=0,\"\",PRODUCT(Table2[[#This Row],[मात्रा/संख्या]],Table2[[#This Row],[दर]]))","v":""}]
[null,{"$f":"IF(C292=\"\",\"\",ROWS($A$3:A292))","v":""},null,{"$f":"IF(Table2[[#This Row],[भुगतान दिनाक]]=\"\",\"\",TEXT(Table2[[#This Row],[भुगतान दिनाक]],\"mmm\"))","v":""},{"$nulls":5},{"$f":"IF(PRODUCT(Table2[[#This Row],[मात्रा/संख्या]],Table2[[#This Row],[दर]])=0,\"\",PRODUCT(Table2[[#This Row],[मात्रा/संख्या]],Table2[[#This Row],[दर]]))","v":""}]
[null,{"$f":"IF(C293=\"\",\"\",ROWS($A$3:A293))","v":""},null,{"$f":"IF(Table2[[#This Row],[भुगतान दिनाक]]=\"\",\"\",TEXT(Table2[[#This Row],[भुगतान दिनाक]],\"mmm\"))","v":""},{"$nulls":5},{"$f":"IF(PRODUCT(Table2[[#This Row],[मात्रा/संख्या]],Table2[[#This Row],[दर]])=0,\"\",PRODUCT(Table2[[#This Row],[मात्रा/संख्या]],Table2[[#This Row],[दर]]))","v":""}]
[null,{"$f":"IF(C294=\"\",\"\",ROWS($A$3:A294))","v":""},null,{"$f":"IF(Table2[[#This Row],[भुगतान दिनाक]]=\"\",\"\",TEXT(Table2[[#This Row],[भुगतान दिनाक]],\"mmm\"))","v":""},{"$nulls":5},{"$f":"IF(PRODUCT(Table2[[#This Row],[मात्रा/संख्या]],Table2[[#This Row],[दर]])=0,\"\",PRODUCT(Table2[[#This Row],[मात्रा/संख्या]],Table2[[#This Row],[दर]]))","v":""}]
[null,{"$f":"IF(C295=\"\",\"\",ROWS($A$3:A295))","v":""},null,{"$f":"IF(Table2[[#This Row],[भुगतान दिनाक]]=\"\",\"\",TEXT(Table2[[#This Row],[भुगतान दिनाक]],\"mmm\"))","v":""},{"$nulls":5},{"$f":"IF(PRODUCT(Table2[[#This Row],[मात्रा/संख्या]],Table2[[#This Row],[दर]])=0,\"\",PRODUCT(Table2[[#This Row],[मात्रा/संख्या]],Table2[[#This Row],[दर]]))","v":""}]
[null,{"$f":"IF(C296=\"\",\"\",ROWS($A$3:A296))","v":""},null,{"$f":"IF(Table2[[#This Row],[भुगतान दिनाक]]=\"\",\"\",TEXT(Table2[[#This Row],[भुगतान दिनाक]],\"mmm\"))","v":""},{"$nulls":5},{"$f":"IF(PRODUCT(Table2[[#This Row],[मात्रा/संख्या]],Table2[[#This Row],[दर]])=0,\"\",PRODUCT(Table2[[#This Row],[मात्रा/संख्या]],Table2[[#This Row],[दर]]))","v":""}]
[null,{"$f":"IF(C297=\"\",\"\",ROWS($A$3:A297))","v":""},null,{"$f":"IF(Table2[[#This Row],[भुगतान दिनाक]]=\"\",\"\",TEXT(Table2[[#This Row],[भुगतान दिनाक]],\"mmm\"))","v":""},{"$nulls":5},{"$f":"IF(PRODUCT(Table2[[#This Row],[मात्रा/संख्या]],Table2[[#This Row],[दर]])=0,\"\",PRODUCT(Table2[[#This Row],[मात्रा/संख्या]],Table2[[#This Row],[दर]]))","v":""}]
[null,{"$f":"IF(C298=\"\",\"\",ROWS($A$3:A298))","v":""},null,{"$f":"IF(Table2[[#This Row],[भुगतान दिनाक]]=\"\",\"\",TEXT(Table2[[#This Row],[भुगतान दिनाक]],\"mmm\"))","v":""},{"$nulls":5},{"$f":"IF(PRODUCT(Table2[[#This Row],[मात्रा/संख्या]],Table2[[#This Row],[दर]])=0,\"\",PRODUCT(Table2[[#This Row],[मात्रा/संख्या]],Table2[[#This Row],[दर]]))","v":""}]
[null,{"$f":"IF(C299=\"\",\"\",ROWS($A$3:A299))","v":""},null,{"$f":"IF(Table2[[#This Row],[भुगतान दिनाक]]=\"\",\"\",TEXT(Table2[[#This Row],[भुगतान दिनाक]],\"mmm\"))","v":""},{"$nulls":5},{"$f":"IF(PRODUCT(Table2[[#This Row],[मात्रा/संख्या]],Table2[[#This Row],[दर]])=0,\"\",PRODUCT(Table2[[#This Row],[मात्रा/संख्या]],Table2[[#This Row],[दर]]))","v":""}]
[null,{"$f":"IF(C300=\"\",\"\",ROWS($A$3:A300))","v":""},null,{"$f":"IF(Table2[[#This Row],[भुगतान दिनाक]]=\"\",\"\",TEXT(Table2[[#This Row],[भुगतान दिनाक]],\"mmm\"))","v":""},{"$nulls":5},{"$f":"IF(PRODUCT(Table2[[#This Row],[मात्रा/संख्या]],Table2[[#This Row],[दर]])=0,\"\",PRODUCT(Table2[[#This Row],[मात्रा/संख्या]],Table2[[#This Row],[दर]]))","v":""}]
[null,{"$f":"IF(C301=\"\",\"\",ROWS($A$3:A301))","v":""},null,{"$f":"IF(Table2[[#This Row],[भुगतान दिनाक]]=\"\",\"\",TEXT(Table2[[#This Row],[भुगतान दिनाक]],\"mmm\"))","v":""},{"$nulls":5},{"$f":"IF(PRODUCT(Table2[[#This Row],[मात्रा/संख्या]],Table2[[#This Row],[दर]])=0,\"\",PRODUCT(Table2[[#This Row],[मात्रा/संख्या]],Table2[[#This Row],[दर]]))","v":""}]
[null,{"$f":"IF(C302=\"\",\"\",ROWS($A$3:A302))","v":""},null,{"$f":"IF(Table2[[#This Row],[भुगतान दिनाक]]=\"\",\"\",TEXT(Table2[[#This Row],[भुगतान दिनाक]],\"mmm\"))","v":""},{"$nulls":5},{"$f":"IF(PRODUCT(Table2[[#This Row],[मात्रा/संख्या]],Table2[[#This Row],[दर]])=0,\"\",PRODUCT(Table2[[#This Row],[मात्रा/संख्या]],Table2[[#This Row],[दर]]))","v":""}]
[null,{"$f":"IF(C303=\"\",\"\",ROWS($A$3:A303))","v":""},null,{"$f":"IF(Table2[[#This Row],[भुगतान दिनाक]]=\"\",\"\",TEXT(Table2[[#This Row],[भुगतान दिनाक]],\"mmm\"))","v":""},{"$nulls":5},{"$f":"IF(PRODUCT(Table2[[#This Row],[मात्रा/संख्या]],Table2[[#This Row],[दर]])=0,\"\",PRODUCT(Table2[[#This Row],[मात्रा/संख्या]],Table2[[#This Row],[दर]]))","v":""}]
[null,{"$f":"IF(C304=\"\",\"\",ROWS($A$3:A304))","v":""},null,{"$f":"IF(Table2[[#This Row],[भुगतान दिनाक]]=\"\",\"\",TEXT(Table2[[#This Row],[भुगतान दिनाक]],\"mmm\"))","v":""},{"$nulls":5},{"$f":"IF(PRODUCT(Table2[[#This Row],[मात्रा/संख्या]],Table2[[#This Row],[दर]])=0,\"\",PRODUCT(Table2[[#This Row],[मात्रा/संख्या]],Table2[[#This Row],[दर]]))","v":""}]
[null,{"$f":"IF(C305=\"\",\"\",ROWS($A$3:A305))","v":""},null,{"$f":"IF(Table2[[#This Row],[भुगतान दिनाक]]=\"\",\"\",TEXT(Table2[[#This Row],[भुगतान दिनाक]],\"mmm\"))","v":""},{"$nulls":5},{"$f":"IF(PRODUCT(Table2[[#This Row],[मात्रा/संख्या]],Table2[[#This Row],[दर]])=0,\"\",PRODUCT(Table2[[#This Row],[मात्रा/संख्या]],Table2[[#This Row],[दर]]))","v":""}]
[null,{"$f":"IF(C306=\"\",\"\",ROWS($A$3:A306))","v":""},null,{"$f":"IF(Table2[[#This Row],[भुगतान दिनाक]]=\"\",\"\",TEXT(Table2[[#This Row],[भुगतान दिनाक]],\"mmm\"))","v":""},{"$nulls":5},{"$f":"IF(PRODUCT(Table2[[#This Row],[मात्रा/संख्या]],Table2[[#This Row],[दर]])=0,\"\",PRODUCT(Table2[[#This Row],[मात्रा/संख्या]],Table2[[#This Row],[दर]]))","v":""}]
[null,{"$f":"IF(C307=\"\",\"\",ROWS($A$3:A307))","v":""},null,{"$f":"IF(Table2[[#This Row],[भुगतान दिनाक]]=\"\",\"\",TEXT(Table2[[#This Row],[भुगतान दिनाक]],\"mmm\"))","v":""},{"$nulls":5},{"$f":"IF(PRODUCT(Table2[[#This Row],[मात्रा/संख्या]],Table2[[#This Row],[दर]])=0,\"\",PRODUCT(Table2[[#This Row],[मात्रा/संख्या]],Table2[[#This Row],[दर]]))","v":""}]
[null,{"$f":"IF(C308=\"\",\"\",ROWS($A$3:A308))","v":""},null,{"$f":"IF(Table2[[#This Row],[भुगतान दिनाक]]=\"\",\"\",TEXT(Table2[[#This Row],[भुगतान दिनाक]],\"mmm\"))","v":""},{"$nulls":5},{"$f":"IF(PRODUCT(Table2[[#This Row],[मात्रा/संख्या]],Table2[[#This Row],[दर]])=0,\"\",PRODUCT(Table2[[#This Row],[मात्रा/संख्या]],Table2[[#This Row],[दर]]))","v":""}]
[null,{"$f":"IF(C309=\"\",\"\",ROWS($A$3:A309))","v":""},null,{"$f":"IF(Table2[[#This Row],[भुगतान दिनाक]]=\"\",\"\",TEXT(Table2[[#This Row],[भुगतान दिनाक]],\"mmm\"))","v":""},{"$nulls":5},{"$f":"IF(PRODUCT(Table2[[#This Row],[मात्रा/संख्या]],Table2[[#This Row],[दर]])=0,\"\",PRODUCT(Table2[[#This Row],[मात्रा/संख्या]],Table2[[#This Row],[दर]]))","v":""}]
[null,{"$f":"IF(C310=\"\",\"\",ROWS($A$3:A310))","v":""},null,{"$f":"IF(Table2[[#This Row],[भुगतान दिनाक]]=\"\",\"\",TEXT(Table2[[#This Row],[भुगतान दिनाक]],\"mmm\"))","v":""},{"$nulls":5},{"$f":"IF(PRODUCT(Table2[[#This Row],[मात्रा/संख्या]],Table2[[#This Row],[दर]])=0,\"\",PRODUCT(Table2[[#This Row],[मात्रा/संख्या]],Table2[[#This Row],[दर]]))","v":""}]
[null,{"$f":"IF(C311=\"\",\"\",ROWS($A$3:A311))","v":""},null,{"$f":"IF(Table2[[#This Row],[भुगतान दिनाक]]=\"\",\"\",TEXT(Table2[[#This Row],[भुगतान दिनाक]],\"mmm\"))","v":""},{"$nulls":5},{"$f":"IF(PRODUCT(Table2[[#This Row],[मात्रा/संख्या]],Table2[[#This Row],[दर]])=0,\"\",PRODUCT(Table2[[#This Row],[मात्रा/संख्या]],Table2[[#This Row],[दर]]))","v":""}]
[null,{"$f":"IF(C312=\"\",\"\",ROWS($A$3:A312))","v":""},null,{"$f":"IF(Table2[[#This Row],[भुगतान दिनाक]]=\"\",\"\",TEXT(Table2[[#This Row],[भुगतान दिनाक]],\"mmm\"))","v":""},{"$nulls":5},{"$f":"IF(PRODUCT(Table2[[#This Row],[मात्रा/संख्या]],Table2[[#This Row],[दर]])=0,\"\",PRODUCT(Table2[[#This Row],[मात्रा/संख्या]],Table2[[#This Row],[दर]]))","v":""}]
[null,{"$f":"IF(C313=\"\",\"\",ROWS($A$3:A313))","v":""},null,{"$f":"IF(Table2[[#This Row],[भुगतान दिनाक]]=\"\",\"\",TEXT(Table2[[#This Row],[भुगतान दिनाक]],\"mmm\"))","v":""},{"$nulls":5},{"$f":"IF(PRODUCT(Table2[[#This Row],[मात्रा/संख्या]],Table2[[#This Row],[दर]])=0,\"\",PRODUCT(Table2[[#This Row],[मात्रा/संख्या]],Table2[[#This Row],[दर]]))","v":""}]
[null,{"$f":"IF(C314=\"\",\"\",ROWS($A$3:A314))","v":""},null,{"$f":"IF(Table2[[#This Row],[भुगतान दिनाक]]=\"\",\"\",TEXT(Table2[[#This Row],[भुगतान दिनाक]],\"mmm\"))","v":""},{"$nulls":5},{"$f":"IF(PRODUCT(Table2[[#This Row],[मात्रा/संख्या]],Table2[[#This Row],[दर]])=0,\"\",PRODUCT(Table2[[#This Row],[मात्रा/संख्या]],Table2[[#This Row],[दर]]))","v":""}]
[null,{"$f":"IF(C315=\"\",\"\",ROWS($A$3:A315))","v":""},null,{"$f":"IF(Table2[[#This Row],[भुगतान दिनाक]]=\"\",\"\",TEXT(Table2[[#This Row],[भुगतान दिनाक]],\"mmm\"))","v":""},{"$nulls":5},{"$f":"IF(PRODUCT(Table2[[#This Row],[मात्रा/संख्या]],Table2[[#This Row],[दर]])=0,\"\",PRODUCT(Table2[[#This Row],[मात्रा/संख्या]],Table2[[#This Row],[दर]]))","v":""}]
[null,{"$f":"IF(C316=\"\",\"\",ROWS($A$3:A316))","v":""},null,{"$f":"IF(Table2[[#This Row],[भुगतान दिनाक]]=\"\",\"\",TEXT(Table2[[#This Row],[भुगतान दिनाक]],\"mmm\"))","v":""},{"$nulls":5},{"$f":"IF(PRODUCT(Table2[[#This Row],[मात्रा/संख्या]],Table2[[#This Row],[दर]])=0,\"\",PRODUCT(Table2[[#This Row],[मात्रा/संख्या]],Table2[[#This Row],[दर]]))","v":""}]
[null,{"$f":"IF(C317=\"\",\"\",ROWS($A$3:A317))","v":""},null,{"$f":"IF(Table2[[#This Row],[भुगतान दिनाक]]=\"\",\"\",TEXT(Table2[[#This Row],[भुगतान दिनाक]],\"mmm\"))","v":""},{"$nulls":5},{"$f":"IF(PRODUCT(Table2[[#This Row],[मात्रा/संख्या]],Table2[[#This Row],[दर]])=0,\"\",PRODUCT(Table2[[#This Row],[मात्रा/संख्या]],Table2[[#This Row],[दर]]))","v":""}]
[null,{"$f":"IF(C318=\"\",\"\",ROWS($A$3:A318))","v":""},null,{"$f":"IF(Table2[[#This Row],[भुगतान दिनाक]]=\"\",\"\",TEXT(Table2[[#This Row],[भुगतान दिनाक]],\"mmm\"))","v":""},{"$nulls":5},{"$f":"IF(PRODUCT(Table2[[#This Row],[मात्रा/संख्या]],Table2[[#This Row],[दर]])=0,\"\",PRODUCT(Table2[[#This Row],[मात्रा/संख्या]],Table2[[#This Row],[दर]]))","v":""}]
[null,{"$f":"IF(C319=\"\",\"\",ROWS($A$3:A319))","v":""},null,{"$f":"IF(Table2[[#This Row],[भुगतान दिनाक]]=\"\",\"\",TEXT(Table2[[#This Row],[भुगतान दिनाक]],\"mmm\"))","v":""},{"$nulls":5},{"$f":"IF(PRODUCT(Table2[[#This Row],[मात्रा/संख्या]],Table2[[#This Row],[दर]])=0,\"\",PRODUCT(Table2[[#This Row],[मात्रा/संख्या]],Table2[[#This Row],[दर]]))","v":""}]
[null,{"$f":"IF(C320=\"\",\"\",ROWS($A$3:A320))","v":""},null,{"$f":"IF(Table2[[#This Row],[भुगतान दिनाक]]=\"\",\"\",TEXT(Table2[[#This Row],[भुगतान दिनाक]],\"mmm\"))","v":""},{"$nulls":5},{"$f":"IF(PRODUCT(Table2[[#This Row],[मात्रा/संख्या]],Table2[[#This Row],[दर]])=0,\"\",PRODUCT(Table2[[#This Row],[मात्रा/संख्या]],Table2[[#This Row],[दर]]))","v":""}]
[null,{"$f":"IF(C321=\"\",\"\",ROWS($A$3:A321))","v":""},null,{"$f":"IF(Table2[[#This Row],[भुगतान दिनाक]]=\"\",\"\",TEXT(Table2[[#This Row],[भुगतान दिनाक]],\"mmm\"))","v":""},{"$nulls":5},{"$f":"IF(PRODUCT(Table2[[#This Row],[मात्रा/संख्या]],Table2[[#This Row],[दर]])=0,\"\",PRODUCT(Table2[[#This Row],[मात्रा/संख्या]],Table2[[#This Row],[दर]]))","v":""}]
[null,{"$f":"IF(C322=\"\",\"\",ROWS($A$3:A322))","v":""},null,{"$f":"IF(Table2[[#This Row],[भुगतान दिनाक]]=\"\",\"\",TEXT(Table2[[#This Row],[भुगतान दिनाक]],\"mmm\"))","v":""},{"$nulls":5},{"$f":"IF(PRODUCT(Table2[[#This Row],[मात्रा/संख्या]],Table2[[#This Row],[दर]])=0,\"\",PRODUCT(Table2[[#This Row],[मात्रा/संख्या]],Table2[[#This Row],[दर]]))","v":""}]
[null,{"$f":"IF(C323=\"\",\"\",ROWS($A$3:A323))","v":""},null,{"$f":"IF(Table2[[#This Row],[भुगतान दिनाक]]=\"\",\"\",TEXT(Table2[[#This Row],[भुगतान दिनाक]],\"mmm\"))","v":""},{"$nulls":5},{"$f":"IF(PRODUCT(Table2[[#This Row],[मात्रा/संख्या]],Table2[[#This Row],[दर]])=0,\"\",PRODUCT(Table2[[#This Row],[मात्रा/संख्या]],Table2[[#This Row],[दर]]))","v":""}]
[null,{"$f":"IF(C324=\"\",\"\",ROWS($A$3:A324))","v":""},null,{"$f":"IF(Table2[[#This Row],[भुगतान दिनाक]]=\"\",\"\",TEXT(Table2[[#This Row],[भुगतान दिनाक]],\"mmm\"))","v":""},{"$nulls":5},{"$f":"IF(PRODUCT(Table2[[#This Row],[मात्रा/संख्या]],Table2[[#This Row],[दर]])=0,\"\",PRODUCT(Table2[[#This Row],[मात्रा/संख्या]],Table2[[#This Row],[दर]]))","v":""}]
[null,{"$f":"IF(C325=\"\",\"\",ROWS($A$3:A325))","v":""},null,{"$f":"IF(Table2[[#This Row],[भुगतान दिनाक]]=\"\",\"\",TEXT(Table2[[#This Row],[भुगतान दिनाक]],\"mmm\"))","v":""},{"$nulls":5},{"$f":"IF(PRODUCT(Table2[[#This Row],[मात्रा/संख्या]],Table2[[#This Row],[दर]])=0,\"\",PRODUCT(Table2[[#This Row],[मात्रा/संख्या]],Table2[[#This Row],[दर]]))","v":""}]
[null,{"$f":"IF(C326=\"\",\"\",ROWS($A$3:A326))","v":""},null,{"$f":"IF(Table2[[#This Row],[भुगतान दिनाक]]=\"\",\"\",TEXT(Table2[[#This Row],[भुगतान दिनाक]],\"mmm\"))","v":""},{"$nulls":5},{"$f":"IF(PRODUCT(Table2[[#This Row],[मात्रा/संख्या]],Table2[[#This Row],[दर]])=0,\"\",PRODUCT(Table2[[#This Row],[मात्रा/संख्या]],Table2[[#This Row],[दर]]))","v":""}]
[null,{"$f":"IF(C327=\"\",\"\",ROWS($A$3:A327))","v":""},null,{"$f":"IF(Table2[[#This Row],[भुगतान दिनाक]]=\"\",\"\",TEXT(Table2[[#This Row],[भुगतान दिनाक]],\"mmm\"))","v":""},{"$nulls":5},{"$f":"IF(PRODUCT(Table2[[#This Row],[मात्रा/संख्या]],Table2[[#This Row],[दर]])=0,\"\",PRODUCT(Table2[[#This Row],[मात्रा/संख्या]],Table2[[#This Row],[दर]]))","v":""}]
[null,{"$f":"IF(C328=\"\",\"\",ROWS($A$3:A328))","v":""},null,{"$f":"IF(Table2[[#This Row],[भुगतान दिनाक]]=\"\",\"\",TEXT(Table2[[#This Row],[भुगतान दिनाक]],\"mmm\"))","v":""},{"$nulls":5},{"$f":"IF(PRODUCT(Table2[[#This Row],[मात्रा/संख्या]],Table2[[#This Row],[दर]])=0,\"\",PRODUCT(Table2[[#This Row],[मात्रा/संख्या]],Table2[[#This Row],[दर]]))","v":""}]
[null,{"$f":"IF(C329=\"\",\"\",ROWS($A$3:A329))","v":""},null,{"$f":"IF(Table2[[#This Row],[भुगतान दिनाक]]=\"\",\"\",TEXT(Table2[[#This Row],[भुगतान दिनाक]],\"mmm\"))","v":""},{"$nulls":5},{"$f":"IF(PRODUCT(Table2[[#This Row],[मात्रा/संख्या]],Table2[[#This Row],[दर]])=0,\"\",PRODUCT(Table2[[#This Row],[मात्रा/संख्या]],Table2[[#This Row],[दर]]))","v":""}]
[null,{"$f":"IF(C330=\"\",\"\",ROWS($A$3:A330))","v":""},null,{"$f":"IF(Table2[[#This Row],[भुगतान दिनाक]]=\"\",\"\",TEXT(Table2[[#This Row],[भुगतान दिनाक]],\"mmm\"))","v":""},{"$nulls":5},{"$f":"IF(PRODUCT(Table2[[#This Row],[मात्रा/संख्या]],Table2[[#This Row],[दर]])=0,\"\",PRODUCT(Table2[[#This Row],[मात्रा/संख्या]],Table2[[#This Row],[दर]]))","v":""}]
[null,{"$f":"IF(C331=\"\",\"\",ROWS($A$3:A331))","v":""},null,{"$f":"IF(Table2[[#This Row],[भुगतान दिनाक]]=\"\",\"\",TEXT(Table2[[#This Row],[भुगतान दिनाक]],\"mmm\"))","v":""},{"$nulls":5},{"$f":"IF(PRODUCT(Table2[[#This Row],[मात्रा/संख्या]],Table2[[#This Row],[दर]])=0,\"\",PRODUCT(Table2[[#This Row],[मात्रा/संख्या]],Table2[[#This Row],[दर]]))","v":""}]
[null,{"$f":"IF(C332=\"\",\"\",ROWS($A$3:A332))","v":""},null,{"$f":"IF(Table2[[#This Row],[भुगतान दिनाक]]=\"\",\"\",TEXT(Table2[[#This Row],[भुगतान दिनाक]],\"mmm\"))","v":""},{"$nulls":5},{"$f":"IF(PRODUCT(Table2[[#This Row],[मात्रा/संख्या]],Table2[[#This Row],[दर]])=0,\"\",PRODUCT(Table2[[#This Row],[मात्रा/संख्या]],Table2[[#This Row],[दर]]))","v":""}]
[null,{"$f":"IF(C333=\"\",\"\",ROWS($A$3:A333))","v":""},null,{"$f":"IF(Table2[[#This Row],[भुगतान दिनाक]]=\"\",\"\",TEXT(Table2[[#This Row],[भुगतान दिनाक]],\"mmm\"))","v":""},{"$nulls":5},{"$f":"IF(PRODUCT(Table2[[#This Row],[मात्रा/संख्या]],Table2[[#This Row],[दर]])=0,\"\",PRODUCT(Table2[[#This Row],[मात्रा/संख्या]],Table2[[#This Row],[दर]]))","v":""}]
[null,{"$f":"IF(C334=\"\",\"\",ROWS($A$3:A334))","v":""},null,{"$f":"IF(Table2[[#This Row],[भुगतान दिनाक]]=\"\",\"\",TEXT(Table2[[#This Row],[भुगतान दिनाक]],\"mmm\"))","v":""},{"$nulls":5},{"$f":"IF(PRODUCT(Table2[[#This Row],[मात्रा/संख्या]],Table2[[#This Row],[दर]])=0,\"\",PRODUCT(Table2[[#This Row],[मात्रा/संख्या]],Table2[[#This Row],[दर]]))","v":""}]
[null,{"$f":"IF(C335=\"\",\"\",ROWS($A$3:A335))","v":""},null,{"$f":"IF(Table2[[#This Row],[भुगतान दिनाक]]=\"\",\"\",TEXT(Table2[[#This Row],[भुगतान दिनाक]],\"mmm\"))","v":""},{"$nulls":5},{"$f":"IF(PRODUCT(Table2[[#This Row],[मात्रा/संख्या]],Table2[[#This Row],[दर]])=0,\"\",PRODUCT(Table2[[#This Row],[मात्रा/संख्या]],Table2[[#This Row],[दर]]))","v":""}]
[null,{"$f":"IF(C336=\"\",\"\",ROWS($A$3:A336))","v":""},null,{"$f":"IF(Table2[[#This Row],[भुगतान दिनाक]]=\"\",\"\",TEXT(Table2[[#This Row],[भुगतान दिनाक]],\"mmm\"))","v":""},{"$nulls":5},{"$f":"IF(PRODUCT(Table2[[#This Row],[मात्रा/संख्या]],Table2[[#This Row],[दर]])=0,\"\",PRODUCT(Table2[[#This Row],[मात्रा/संख्या]],Table2[[#This Row],[दर]]))","v":""}]
[null,{"$f":"IF(C337=\"\",\"\",ROWS($A$3:A337))","v":""},null,{"$f":"IF(Table2[[#This Row],[भुगतान दिनाक]]=\"\",\"\",TEXT(Table2[[#This Row],[भुगतान दिनाक]],\"mmm\"))","v":""},{"$nulls":5},{"$f":"IF(PRODUCT(Table2[[#This Row],[मात्रा/संख्या]],Table2[[#This Row],[दर]])=0,\"\",PRODUCT(Table2[[#This Row],[मात्रा/संख्या]],Table2[[#This Row],[दर]]))","v":""}]
[null,{"$f":"IF(C338=\"\",\"\",ROWS($A$3:A338))","v":""},null,{"$f":"IF(Table2[[#This Row],[भुगतान दिनाक]]=\"\",\"\",TEXT(Table2[[#This Row],[भुगतान दिनाक]],\"mmm\"))","v":""},{"$nulls":5},{"$f":"IF(PRODUCT(Table2[[#This Row],[मात्रा/संख्या]],Table2[[#This Row],[दर]])=0,\"\",PRODUCT(Table2[[#This Row],[मात्रा/संख्या]],Table2[[#This Row],[दर]]))","v":""}]
[null,{"$f":"IF(C339=\"\",\"\",ROWS($A$3:A339))","v":""},null,{"$f":"IF(Table2[[#This Row],[भुगतान दिनाक]]=\"\",\"\",TEXT(Table2[[#This Row],[भुगतान दिनाक]],\"mmm\"))","v":""},{"$nulls":5},{"$f":"IF(PRODUCT(Table2[[#This Row],[मात्रा/संख्या]],Table2[[#This Row],[दर]])=0,\"\",PRODUCT(Table2[[#This Row],[मात्रा/संख्या]],Table2[[#This Row],[दर]]))","v":""}]
[null,{"$f":"IF(C340=\"\",\"\",ROWS($A$3:A340))","v":""},null,{"$f":"IF(Table2[[#This Row],[भुगतान दिनाक]]=\"\",\"\",TEXT(Table2[[#This Row],[भुगतान दिनाक]],\"mmm\"))","v":""},{"$nulls":5},{"$f":"IF(PRODUCT(Table2[[#This Row],[मात्रा/संख्या]],Table2[[#This Row],[दर]])=0,\"\",PRODUCT(Table2[[#This Row],[मात्रा/संख्या]],Table2[[#This Row],[दर]]))","v":""}]
[null,{"$f":"IF(C341=\"\",\"\",ROWS($A$3:A341))","v":""},null,{"$f":"IF(Table2[[#This Row],[भुगतान दिनाक]]=\"\",\"\",TEXT(Table2[[#This Row],[भुगतान दिनाक]],\"mmm\"))","v":""},{"$nulls":5},{"$f":"IF(PRODUCT(Table2[[#This Row],[मात्रा/संख्या]],Table2[[#This Row],[दर]])=0,\"\",PRODUCT(Table2[[#This Row],[मात्रा/संख्या]],Table2[[#This Row],[दर]]))","v":""}]
[null,{"$f":"IF(C342=\"\",\"\",ROWS($A$3:A342))","v":""},null,{"$f":"IF(Table2[[#This Row],[भुगतान दिनाक]]=\"\",\"\",TEXT(Table2[[#This Row],[भुगतान दिनाक]],\"mmm\"))","v":""},{"$nulls":5},{"$f":"IF(PRODUCT(Table2[[#This Row],[मात्रा/संख्या]],Table2[[#This Row],[दर]])=0,\"\",PRODUCT(Table2[[#This Row],[मात्रा/संख्या]],Table2[[#This Row],[दर]]))","v":""}]
[null,{"$f":"IF(C343=\"\",\"\",ROWS($A$3:A343))","v":""},null,{"$f":"IF(Table2[[#This Row],[भुगतान दिनाक]]=\"\",\"\",TEXT(Table2[[#This Row],[भुगतान दिनाक]],\"mmm\"))","v":""},{"$nulls":5},{"$f":"IF(PRODUCT(Table2[[#This Row],[मात्रा/संख्या]],Table2[[#This Row],[दर]])=0,\"\",PRODUCT(Table2[[#This Row],[मात्रा/संख्या]],Table2[[#This Row],[दर]]))","v":""}]
[null,{"$f":"IF(C344=\"\",\"\",ROWS($A$3:A344))","v":""},null,{"$f":"IF(Table2[[#This Row],[भुगतान दिनाक]]=\"\",\"\",TEXT(Table2[[#This Row],[भुगतान दिनाक]],\"mmm\"))","v":""},{"$nulls":5},{"$f":"IF(PRODUCT(Table2[[#This Row],[मात्रा/संख्या]],Table2[[#This Row],[दर]])=0,\"\",PRODUCT(Table2[[#This Row],[मात्रा/संख्या]],Table2[[#This Row],[दर]]))","v":""}]
[null,{"$f":"IF(C345=\"\",\"\",ROWS($A$3:A345))","v":""},null,{"$f":"IF(Table2[[#This Row],[भुगतान दिनाक]]=\"\",\"\",TEXT(Table2[[#This Row],[भुगतान दिनाक]],\"mmm\"))","v":""},{"$nulls":5},{"$f":"IF(PRODUCT(Table2[[#This Row],[मात्रा/संख्या]],Table2[[#This Row],[दर]])=0,\"\",PRODUCT(Table2[[#This Row],[मात्रा/संख्या]],Table2[[#This Row],[दर]]))","v":""}]
[null,{"$f":"IF(C346=\"\",\"\",ROWS($A$3:A346))","v":""},null,{"$f":"IF(Table2[[#This Row],[भुगतान दिनाक]]=\"\",\"\",TEXT(Table2[[#This Row],[भुगतान दिनाक]],\"mmm\"))","v":""},{"$nulls":5},{"$f":"IF(PRODUCT(Table2[[#This Row],[मात्रा/संख्या]],Table2[[#This Row],[दर]])=0,\"\",PRODUCT(Table2[[#This Row],[मात्रा/संख्या]],Table2[[#This Row],[दर]]))","v":""}]
[null,{"$f":"IF(C347=\"\",\"\",ROWS($A$3:A347))","v":""},null,{"$f":"IF(Table2[[#This Row],[भुगतान दिनाक]]=\"\",\"\",TEXT(Table2[[#This Row],[भुगतान दिनाक]],\"mmm\"))","v":""},{"$nulls":5},{"$f":"IF(PRODUCT(Table2[[#This Row],[मात्रा/संख्या]],Table2[[#This Row],[दर]])=0,\"\",PRODUCT(Table2[[#This Row],[मात्रा/संख्या]],Table2[[#This Row],[दर]]))","v":""}]
[null,{"$f":"IF(C348=\"\",\"\",ROWS($A$3:A348))","v":""},null,{"$f":"IF(Table2[[#This Row],[भुगतान दिनाक]]=\"\",\"\",TEXT(Table2[[#This Row],[भुगतान दिनाक]],\"mmm\"))","v":""},{"$nulls":5},{"$f":"IF(PRODUCT(Table2[[#This Row],[मात्रा/संख्या]],Table2[[#This Row],[दर]])=0,\"\",PRODUCT(Table2[[#This Row],[मात्रा/संख्या]],Table2[[#This Row],[दर]]))","v":""}]
[null,{"$f":"IF(C349=\"\",\"\",ROWS($A$3:A349))","v":""},null,{"$f":"IF(Table2[[#This Row],[भुगतान दिनाक]]=\"\",\"\",TEXT(Table2[[#This Row],[भुगतान दिनाक]],\"mmm\"))","v":""},{"$nulls":5},{"$f":"IF(PRODUCT(Table2[[#This Row],[मात्रा/संख्या]],Table2[[#This Row],[दर]])=0,\"\",PRODUCT(Table2[[#This Row],[मात्रा/संख्या]],Table2[[#This Row],[दर]]))","v":""}]
[null,{"$f":"IF(C350=\"\",\"\",ROWS($A$3:A350))","v":""},null,{"$f":"IF(Table2[[#This Row],[भुगतान दिनाक]]=\"\",\"\",TEXT(Table2[[#This Row],[भुगतान दिनाक]],\"mmm\"))","v":""},{"$nulls":5},{"$f":"IF(PRODUCT(Table2[[#This Row],[मात्रा/संख्या]],Table2[[#This Row],[दर]])=0,\"\",PRODUCT(Table2[[#This Row],[मात्रा/संख्या]],Table2[[#This Row],[दर]]))","v":""}]
[null,{"$f":"IF(C351=\"\",\"\",ROWS($A$3:A351))","v":""},null,{"$f":"IF(Table2[[#This Row],[भुगतान दिनाक]]=\"\",\"\",TEXT(Table2[[#This Row],[भुगतान दिनाक]],\"mmm\"))","v":""},{"$nulls":5},{"$f":"IF(PRODUCT(Table2[[#This Row],[मात्रा/संख्या]],Table2[[#This Row],[दर]])=0,\"\",PRODUCT(Table2[[#This Row],[मात्रा/संख्या]],Table2[[#This Row],[दर]]))","v":""}]
[null,{"$f":"IF(C352=\"\",\"\",ROWS($A$3:A352))","v":""},null,{"$f":"IF(Table2[[#This Row],[भुगतान दिनाक]]=\"\",\"\",TEXT(Table2[[#This Row],[भुगतान दिनाक]],\"mmm\"))","v":""},{"$nulls":5},{"$f":"IF(PRODUCT(Table2[[#This Row],[मात्रा/संख्या]],Table2[[#This Row],[दर]])=0,\"\",PRODUCT(Table2[[#This Row],[मात्रा/संख्या]],Table2[[#This Row],[दर]]))","v":""}]
[null,{"$f":"IF(C353=\"\",\"\",ROWS($A$3:A353))","v":""},null,{"$f":"IF(Table2[[#This Row],[भुगतान दिनाक]]=\"\",\"\",TEXT(Table2[[#This Row],[भुगतान दिनाक]],\"mmm\"))","v":""},{"$nulls":5},{"$f":"IF(PRODUCT(Table2[[#This Row],[मात्रा/संख्या]],Table2[[#This Row],[दर]])=0,\"\",PRODUCT(Table2[[#This Row],[मात्रा/संख्या]],Table2[[#This Row],[दर]]))","v":""}]
[null,{"$f":"IF(C354=\"\",\"\",ROWS($A$3:A354))","v":""},null,{"$f":"IF(Table2[[#This Row],[भुगतान दिनाक]]=\"\",\"\",TEXT(Table2[[#This Row],[भुगतान दिनाक]],\"mmm\"))","v":""},{"$nulls":5},{"$f":"IF(PRODUCT(Table2[[#This Row],[मात्रा/संख्या]],Table2[[#This Row],[दर]])=0,\"\",PRODUCT(Table2[[#This Row],[मात्रा/संख्या]],Table2[[#This Row],[दर]]))","v":""}]
[null,{"$f":"IF(C355=\"\",\"\",ROWS($A$3:A355))","v":""},null,{"$f":"IF(Table2[[#This Row],[भुगतान दिनाक]]=\"\",\"\",TEXT(Table2[[#This Row],[भुगतान दिनाक]],\"mmm\"))","v":""},{"$nulls":5},{"$f":"IF(PRODUCT(Table2[[#This Row],[मात्रा/संख्या]],Table2[[#This Row],[दर]])=0,\"\",PRODUCT(Table2[[#This Row],[मात्रा/संख्या]],Table2[[#This Row],[दर]]))","v":""}]
[null,{"$f":"IF(C356=\"\",\"\",ROWS($A$3:A356))","v":""},null,{"$f":"IF(Table2[[#This Row],[भुगतान दिनाक]]=\"\",\"\",TEXT(Table2[[#This Row],[भुगतान दिनाक]],\"mmm\"))","v":""},{"$nulls":5},{"$f":"IF(PRODUCT(Table2[[#This Row],[मात्रा/संख्या]],Table2[[#This Row],[दर]])=0,\"\",PRODUCT(Table2[[#This Row],[मात्रा/संख्या]],Table2[[#This Row],[दर]]))","v":""}]
[null,{"$f":"IF(C357=\"\",\"\",ROWS($A$3:A357))","v":""},null,{"$f":"IF(Table2[[#This Row],[भुगतान दिनाक]]=\"\",\"\",TEXT(Table2[[#This Row],[भुगतान दिनाक]],\"mmm\"))","v":""},{"$nulls":5},{"$f":"IF(PRODUCT(Table2[[#This Row],[मात्रा/संख्या]],Table2[[#This Row],[दर]])=0,\"\",PRODUCT(Table2[[#This Row],[मात्रा/संख्या]],Table2[[#This Row],[दर]]))","v":""}]
[null,{"$f":"IF(C358=\"\",\"\",ROWS($A$3:A358))","v":""},null,{"$f":"IF(Table2[[#This Row],[भुगतान दिनाक]]=\"\",\"\",TEXT(Table2[[#This Row],[भुगतान दिनाक]],\"mmm\"))","v":""},{"$nulls":5},{"$f":"IF(PRODUCT(Table2[[#This Row],[मात्रा/संख्या]],Table2[[#This Row],[दर]])=0,\"\",PRODUCT(Table2[[#This Row],[मात्रा/संख्या]],Table2[[#This Row],[दर]]))","v":""}]
[null,{"$f":"IF(C359=\"\",\"\",ROWS($A$3:A359))","v":""},null,{"$f":"IF(Table2[[#This Row],[भुगतान दिनाक]]=\"\",\"\",TEXT(Table2[[#This Row],[भुगतान दिनाक]],\"mmm\"))","v":""},{"$nulls":5},{"$f":"IF(PRODUCT(Table2[[#This Row],[मात्रा/संख्या]],Table2[[#This Row],[दर]])=0,\"\",PRODUCT(Table2[[#This Row],[मात्रा/संख्या]],Table2[[#This Row],[दर]]))","v":""}]
[null,{"$f":"IF(C360=\"\",\"\",ROWS($A$3:A360))","v":""},null,{"$f":"IF(Table2[[#This Row],[भुगतान दिनाक]]=\"\",\"\",TEXT(Table2[[#This Row],[भुगतान दिनाक]],\"mmm\"))","v":""},{"$nulls":5},{"$f":"IF(PRODUCT(Table2[[#This Row],[मात्रा/संख्या]],Table2[[#This Row],[दर]])=0,\"\",PRODUCT(Table2[[#This Row],[मात्रा/संख्या]],Table2[[#This Row],[दर]]))","v":""}]
[null,{"$f":"IF(C361=\"\",\"\",ROWS($A$3:A361))","v":""},null,{"$f":"IF(Table2[[#This Row],[भुगतान दिनाक]]=\"\",\"\",TEXT(Table2[[#This Row],[भुगतान दिनाक]],\"mmm\"))","v":""},{"$nulls":5},{"$f":"IF(PRODUCT(Table2[[#This Row],[मात्रा/संख्या]],Table2[[#This Row],[दर]])=0,\"\",PRODUCT(Table2[[#This Row],[मात्रा/संख्या]],Table2[[#This Row],[दर]]))","v":""}]
[null,{"$f":"IF(C362=\"\",\"\",ROWS($A$3:A362))","v":""},null,{"$f":"IF(Table2[[#This Row],[भुगतान दिनाक]]=\"\",\"\",TEXT(Table2[[#This Row],[भुगतान दिनाक]],\"mmm\"))","v":""},{"$nulls":5},{"$f":"IF(PRODUCT(Table2[[#This Row],[मात्रा/संख्या]],Table2[[#This Row],[दर]])=0,\"\",PRODUCT(Table2[[#This Row],[मात्रा/संख्या]],Table2[[#This Row],[दर]]))","v":""}]
[null,{"$f":"IF(C363=\"\",\"\",ROWS($A$3:A363))","v":""},null,{"$f":"IF(Table2[[#This Row],[भुगतान दिनाक]]=\"\",\"\",TEXT(Table2[[#This Row],[भुगतान दिनाक]],\"mmm\"))","v":""},{"$nulls":5},{"$f":"IF(PRODUCT(Table2[[#This Row],[मात्रा/संख्या]],Table2[[#This Row],[दर]])=0,\"\",PRODUCT(Table2[[#This Row],[मात्रा/संख्या]],Table2[[#This Row],[दर]]))","v":""}]
[null,{"$f":"IF(C364=\"\",\"\",ROWS($A$3:A364))","v":""},null,{"$f":"IF(Table2[[#This Row],[भुगतान दिनाक]]=\"\",\"\",TEXT(Table2[[#This Row],[भुगतान दिनाक]],\"mmm\"))","v":""},{"$nulls":5},{"$f":"IF(PRODUCT(Table2[[#This Row],[मात्रा/संख्या]],Table2[[#This Row],[दर]])=0,\"\",PRODUCT(Table2[[#This Row],[मात्रा/संख्या]],Table2[[#This Row],[दर]]))","v":""}]
[null,{"$f":"IF(C365=\"\",\"\",ROWS($A$3:A365))","v":""},null,{"$f":"IF(Table2[[#This Row],[भुगतान दिनाक]]=\"\",\"\",TEXT(Table2[[#This Row],[भुगतान दिनाक]],\"mmm\"))","v":""},{"$nulls":5},{"$f":"IF(PRODUCT(Table2[[#This Row],[मात्रा/संख्या]],Table2[[#This Row],[दर]])=0,\"\",PRODUCT(Table2[[#This Row],[मात्रा/संख्या]],Table2[[#This Row],[दर]]))","v":""}]
[null,{"$f":"IF(C366=\"\",\"\",ROWS($A$3:A366))","v":""},null,{"$f":"IF(Table2[[#This Row],[भुगतान दिनाक]]=\"\",\"\",TEXT(Table2[[#This Row],[भुगतान दिनाक]],\"mmm\"))","v":""},{"$nulls":5},{"$f":"IF(PRODUCT(Table2[[#This Row],[मात्रा/संख्या]],Table2[[#This Row],[दर]])=0,\"\",PRODUCT(Table2[[#This Row],[मात्रा/संख्या]],Table2[[#This Row],[दर]]))","v":""}]
[null,{"$f":"IF(C367=\"\",\"\",ROWS($A$3:A367))","v":""},null,{"$f":"IF(Table2[[#This Row],[भुगतान दिनाक]]=\"\",\"\",TEXT(Table2[[#This Row],[भुगतान दिनाक]],\"mmm\"))","v":""},{"$nulls":5},{"$f":"IF(PRODUCT(Table2[[#This Row],[मात्रा/संख्या]],Table2[[#This Row],[दर]])=0,\"\",PRODUCT(Table2[[#This Row],[मात्रा/संख्या]],Table2[[#This Row],[दर]]))","v":""}]
[null,{"$f":"IF(C368=\"\",\"\",ROWS($A$3:A368))","v":""},null,{"$f":"IF(Table2[[#This Row],[भुगतान दिनाक]]=\"\",\"\",TEXT(Table2[[#This Row],[भुगतान दिनाक]],\"mmm\"))","v":""},{"$nulls":5},{"$f":"IF(PRODUCT(Table2[[#This Row],[मात्रा/संख्या]],Table2[[#This Row],[दर]])=0,\"\",PRODUCT(Table2[[#This Row],[मात्रा/संख्या]],Table2[[#This Row],[दर]]))","v":""}]
[null,{"$f":"IF(C369=\"\",\"\",ROWS($A$3:A369))","v":""},null,{"$f":"IF(Table2[[#This Row],[भुगतान दिनाक]]=\"\",\"\",TEXT(Table2[[#This Row],[भुगतान दिनाक]],\"mmm\"))","v":""},{"$nulls":5},{"$f":"IF(PRODUCT(Table2[[#This Row],[मात्रा/संख्या]],Table2[[#This Row],[दर]])=0,\"\",PRODUCT(Table2[[#This Row],[मात्रा/संख्या]],Table2[[#This Row],[दर]]))","v":""}]
[null,{"$f":"IF(C370=\"\",\"\",ROWS($A$3:A370))","v":""},null,{"$f":"IF(Table2[[#This Row],[भुगतान दिनाक]]=\"\",\"\",TEXT(Table2[[#This Row],[भुगतान दिनाक]],\"mmm\"))","v":""},{"$nulls":5},{"$f":"IF(PRODUCT(Table2[[#This Row],[मात्रा/संख्या]],Table2[[#This Row],[दर]])=0,\"\",PRODUCT(Table2[[#This Row],[मात्रा/संख्या]],Table2[[#This Row],[दर]]))","v":""}]
[null,{"$f":"IF(C371=\"\",\"\",ROWS($A$3:A371))","v":""},null,{"$f":"IF(Table2[[#This Row],[भुगतान दिनाक]]=\"\",\"\",TEXT(Table2[[#This Row],[भुगतान दिनाक]],\"mmm\"))","v":""},{"$nulls":5},{"$f":"IF(PRODUCT(Table2[[#This Row],[मात्रा/संख्या]],Table2[[#This Row],[दर]])=0,\"\",PRODUCT(Table2[[#This Row],[मात्रा/संख्या]],Table2[[#This Row],[दर]]))","v":""}]
[null,{"$f":"IF(C372=\"\",\"\",ROWS($A$3:A372))","v":""},null,{"$f":"IF(Table2[[#This Row],[भुगतान दिनाक]]=\"\",\"\",TEXT(Table2[[#This Row],[भुगतान दिनाक]],\"mmm\"))","v":""},{"$nulls":5},{"$f":"IF(PRODUCT(Table2[[#This Row],[मात्रा/संख्या]],Table2[[#This Row],[दर]])=0,\"\",PRODUCT(Table2[[#This Row],[मात्रा/संख्या]],Table2[[#This Row],[दर]]))","v":""}]
[null,{"$f":"IF(C373=\"\",\"\",ROWS($A$3:A373))","v":""},null,{"$f":"IF(Table2[[#This Row],[भुगतान दिनाक]]=\"\",\"\",TEXT(Table2[[#This Row],[भुगतान दिनाक]],\"mmm\"))","v":""},{"$nulls":5},{"$f":"IF(PRODUCT(Table2[[#This Row],[मात्रा/संख्या]],Table2[[#This Row],[दर]])=0,\"\",PRODUCT(Table2[[#This Row],[मात्रा/संख्या]],Table2[[#This Row],[दर]]))","v":""}]
[null,{"$f":"IF(C374=\"\",\"\",ROWS($A$3:A374))","v":""},null,{"$f":"IF(Table2[[#This Row],[भुगतान दिनाक]]=\"\",\"\",TEXT(Table2[[#This Row],[भुगतान दिनाक]],\"mmm\"))","v":""},{"$nulls":5},{"$f":"IF(PRODUCT(Table2[[#This Row],[मात्रा/संख्या]],Table2[[#This Row],[दर]])=0,\"\",PRODUCT(Table2[[#This Row],[मात्रा/संख्या]],Table2[[#This Row],[दर]]))","v":""}]
[null,{"$f":"IF(C375=\"\",\"\",ROWS($A$3:A375))","v":""},null,{"$f":"IF(Table2[[#This Row],[भुगतान दिनाक]]=\"\",\"\",TEXT(Table2[[#This Row],[भुगतान दिनाक]],\"mmm\"))","v":""},{"$nulls":5},{"$f":"IF(PRODUCT(Table2[[#This Row],[मात्रा/संख्या]],Table2[[#This Row],[दर]])=0,\"\",PRODUCT(Table2[[#This Row],[मात्रा/संख्या]],Table2[[#This Row],[दर]]))","v":""}]
[null,{"$f":"IF(C376=\"\",\"\",ROWS($A$3:A376))","v":""},null,{"$f":"IF(Table2[[#This Row],[भुगतान दिनाक]]=\"\",\"\",TEXT(Table2[[#This Row],[भुगतान दिनाक]],\"mmm\"))","v":""},{"$nulls":5},{"$f":"IF(PRODUCT(Table2[[#This Row],[मात्रा/संख्या]],Table2[[#This Row],[दर]])=0,\"\",PRODUCT(Table2[[#This Row],[मात्रा/संख्या]],Table2[[#This Row],[दर]]))","v":""}]
[null,{"$f":"IF(C377=\"\",\"\",ROWS($A$3:A377))","v":""},null,{"$f":"IF(Table2[[#This Row],[भुगतान दिनाक]]=\"\",\"\",TEXT(Table2[[#This Row],[भुगतान दिनाक]],\"mmm\"))","v":""},{"$nulls":5},{"$f":"IF(PRODUCT(Table2[[#This Row],[मात्रा/संख्या]],Table2[[#This Row],[दर]])=0,\"\",PRODUCT(Table2[[#This Row],[मात्रा/संख्या]],Table2[[#This Row],[दर]]))","v":""}]
[null,{"$f":"IF(C378=\"\",\"\",ROWS($A$3:A378))","v":""},null,{"$f":"IF(Table2[[#This Row],[भुगतान दिनाक]]=\"\",\"\",TEXT(Table2[[#This Row],[भुगतान दिनाक]],\"mmm\"))","v":""},{"$nulls":5},{"$f":"IF(PRODUCT(Table2[[#This Row],[मात्रा/संख्या]],Table2[[#This Row],[दर]])=0,\"\",PRODUCT(Table2[[#This Row],[मात्रा/संख्या]],Table2[[#This Row],[दर]]))","v":""}]
[null,{"$f":"IF(C379=\"\",\"\",ROWS($A$3:A379))","v":""},null,{"$f":"IF(Table2[[#This Row],[भुगतान दिनाक]]=\"\",\"\",TEXT(Table2[[#This Row],[भुगतान दिनाक]],\"mmm\"))","v":""},{"$nulls":5},{"$f":"IF(PRODUCT(Table2[[#This Row],[मात्रा/संख्या]],Table2[[#This Row],[दर]])=0,\"\",PRODUCT(Table2[[#This Row],[मात्रा/संख्या]],Table2[[#This Row],[दर]]))","v":""}]
[null,{"$f":"IF(C380=\"\",\"\",ROWS($A$3:A380))","v":""},null,{"$f":"IF(Table2[[#This Row],[भुगतान दिनाक]]=\"\",\"\",TEXT(Table2[[#This Row],[भुगतान दिनाक]],\"mmm\"))","v":""},{"$nulls":5},{"$f":"IF(PRODUCT(Table2[[#This Row],[मात्रा/संख्या]],Table2[[#This Row],[दर]])=0,\"\",PRODUCT(Table2[[#This Row],[मात्रा/संख्या]],Table2[[#This Row],[दर]]))","v":""}]
[null,{"$f":"IF(C381=\"\",\"\",ROWS($A$3:A381))","v":""},null,{"$f":"IF(Table2[[#This Row],[भुगतान दिनाक]]=\"\",\"\",TEXT(Table2[[#This Row],[भुगतान दिनाक]],\"mmm\"))","v":""},{"$nulls":5},{"$f":"IF(PRODUCT(Table2[[#This Row],[मात्रा/संख्या]],Table2[[#This Row],[दर]])=0,\"\",PRODUCT(Table2[[#This Row],[मात्रा/संख्या]],Table2[[#This Row],[दर]]))","v":""}]
[null,{"$f":"IF(C382=\"\",\"\",ROWS($A$3:A382))","v":""},null,{"$f":"IF(Table2[[#This Row],[भुगतान दिनाक]]=\"\",\"\",TEXT(Table2[[#This Row],[भुगतान दिनाक]],\"mmm\"))","v":""},{"$nulls":5},{"$f":"IF(PRODUCT(Table2[[#This Row],[मात्रा/संख्या]],Table2[[#This Row],[दर]])=0,\"\",PRODUCT(Table2[[#This Row],[मात्रा/संख्या]],Table2[[#This Row],[दर]]))","v":""}]
[null,{"$f":"IF(C383=\"\",\"\",ROWS($A$3:A383))","v":""},null,{"$f":"IF(Table2[[#This Row],[भुगतान दिनाक]]=\"\",\"\",TEXT(Table2[[#This Row],[भुगतान दिनाक]],\"mmm\"))","v":""},{"$nulls":5},{"$f":"IF(PRODUCT(Table2[[#This Row],[मात्रा/संख्या]],Table2[[#This Row],[दर]])=0,\"\",PRODUCT(Table2[[#This Row],[मात्रा/संख्या]],Table2[[#This Row],[दर]]))","v":""}]
[null,{"$f":"IF(C384=\"\",\"\",ROWS($A$3:A384))","v":""},null,{"$f":"IF(Table2[[#This Row],[भुगतान दिनाक]]=\"\",\"\",TEXT(Table2[[#This Row],[भुगतान दिनाक]],\"mmm\"))","v":""},{"$nulls":5},{"$f":"IF(PRODUCT(Table2[[#This Row],[मात्रा/संख्या]],Table2[[#This Row],[दर]])=0,\"\",PRODUCT(Table2[[#This Row],[मात्रा/संख्या]],Table2[[#This Row],[दर]]))","v":""}]
[null,{"$f":"IF(C385=\"\",\"\",ROWS($A$3:A385))","v":""},null,{"$f":"IF(Table2[[#This Row],[भुगतान दिनाक]]=\"\",\"\",TEXT(Table2[[#This Row],[भुगतान दिनाक]],\"mmm\"))","v":""},{"$nulls":5},{"$f":"IF(PRODUCT(Table2[[#This Row],[मात्रा/संख्या]],Table2[[#This Row],[दर]])=0,\"\",PRODUCT(Table2[[#This Row],[मात्रा/संख्या]],Table2[[#This Row],[दर]]))","v":""}]
[null,{"$f":"IF(C386=\"\",\"\",ROWS($A$3:A386))","v":""},null,{"$f":"IF(Table2[[#This Row],[भुगतान दिनाक]]=\"\",\"\",TEXT(Table2[[#This Row],[भुगतान दिनाक]],\"mmm\"))","v":""},{"$nulls":5},{"$f":"IF(PRODUCT(Table2[[#This Row],[मात्रा/संख्या]],Table2[[#This Row],[दर]])=0,\"\",PRODUCT(Table2[[#This Row],[मात्रा/संख्या]],Table2[[#This Row],[दर]]))","v":""}]
[null,{"$f":"IF(C387=\"\",\"\",ROWS($A$3:A387))","v":""},null,{"$f":"IF(Table2[[#This Row],[भुगतान दिनाक]]=\"\",\"\",TEXT(Table2[[#This Row],[भुगतान दिनाक]],\"mmm\"))","v":""},{"$nulls":5},{"$f":"IF(PRODUCT(Table2[[#This Row],[मात्रा/संख्या]],Table2[[#This Row],[दर]])=0,\"\",PRODUCT(Table2[[#This Row],[मात्रा/संख्या]],Table2[[#This Row],[दर]]))","v":""}]
[null,{"$f":"IF(C388=\"\",\"\",ROWS($A$3:A388))","v":""},null,{"$f":"IF(Table2[[#This Row],[भुगतान दिनाक]]=\"\",\"\",TEXT(Table2[[#This Row],[भुगतान दिनाक]],\"mmm\"))","v":""},{"$nulls":5},{"$f":"IF(PRODUCT(Table2[[#This Row],[मात्रा/संख्या]],Table2[[#This Row],[दर]])=0,\"\",PRODUCT(Table2[[#This Row],[मात्रा/संख्या]],Table2[[#This Row],[दर]]))","v":""}]
[null,{"$f":"IF(C389=\"\",\"\",ROWS($A$3:A389))","v":""},null,{"$f":"IF(Table2[[#This Row],[भुगतान दिनाक]]=\"\",\"\",TEXT(Table2[[#This Row],[भुगतान दिनाक]],\"mmm\"))","v":""},{"$nulls":5},{"$f":"IF(PRODUCT(Table2[[#This Row],[मात्रा/संख्या]],Table2[[#This Row],[दर]])=0,\"\",PRODUCT(Table2[[#This Row],[मात्रा/संख्या]],Table2[[#This Row],[दर]]))","v":""}]
[null,{"$f":"IF(C390=\"\",\"\",ROWS($A$3:A390))","v":""},null,{"$f":"IF(Table2[[#This Row],[भुगतान दिनाक]]=\"\",\"\",TEXT(Table2[[#This Row],[भुगतान दिनाक]],\"mmm\"))","v":""},{"$nulls":5},{"$f":"IF(PRODUCT(Table2[[#This Row],[मात्रा/संख्या]],Table2[[#This Row],[दर]])=0,\"\",PRODUCT(Table2[[#This Row],[मात्रा/संख्या]],Table2[[#This Row],[दर]]))","v":""}]
[null,{"$f":"IF(C391=\"\",\"\",ROWS($A$3:A391))","v":""},null,{"$f":"IF(Table2[[#This Row],[भुगतान दिनाक]]=\"\",\"\",TEXT(Table2[[#This Row],[भुगतान दिनाक]],\"mmm\"))","v":""},{"$nulls":5},{"$f":"IF(PRODUCT(Table2[[#This Row],[मात्रा/संख्या]],Table2[[#This Row],[दर]])=0,\"\",PRODUCT(Table2[[#This Row],[मात्रा/संख्या]],Table2[[#This Row],[दर]]))","v":""}]
[null,{"$f":"IF(C392=\"\",\"\",ROWS($A$3:A392))","v":""},null,{"$f":"IF(Table2[[#This Row],[भुगतान दिनाक]]=\"\",\"\",TEXT(Table2[[#This Row],[भुगतान दिनाक]],\"mmm\"))","v":""},{"$nulls":5},{"$f":"IF(PRODUCT(Table2[[#This Row],[मात्रा/संख्या]],Table2[[#This Row],[दर]])=0,\"\",PRODUCT(Table2[[#This Row],[मात्रा/संख्या]],Table2[[#This Row],[दर]]))","v":""}]
[null,{"$f":"IF(C393=\"\",\"\",ROWS($A$3:A393))","v":""},null,{"$f":"IF(Table2[[#This Row],[भुगतान दिनाक]]=\"\",\"\",TEXT(Table2[[#This Row],[भुगतान दिनाक]],\"mmm\"))","v":""},{"$nulls":5},{"$f":"IF(PRODUCT(Table2[[#This Row],[मात्रा/संख्या]],Table2[[#This Row],[दर]])=0,\"\",PRODUCT(Table2[[#This Row],[मात्रा/संख्या]],Table2[[#This Row],[दर]]))","v":""}]
[null,{"$f":"IF(C394=\"\",\"\",ROWS($A$3:A394))","v":""},null,{"$f":"IF(Table2[[#This Row],[भुगतान दिनाक]]=\"\",\"\",TEXT(Table2[[#This Row],[भुगतान दिनाक]],\"mmm\"))","v":""},{"$nulls":5},{"$f":"IF(PRODUCT(Table2[[#This Row],[मात्रा/संख्या]],Table2[[#This Row],[दर]])=0,\"\",PRODUCT(Table2[[#This Row],[मात्रा/संख्या]],Table2[[#This Row],[दर]]))","v":""}]
[null,{"$f":"IF(C395=\"\",\"\",ROWS($A$3:A395))","v":""},null,{"$f":"IF(Table2[[#This Row],[भुगतान दिनाक]]=\"\",\"\",TEXT(Table2[[#This Row],[भुगतान दिनाक]],\"mmm\"))","v":""},{"$nulls":5},{"$f":"IF(PRODUCT(Table2[[#This Row],[मात्रा/संख्या]],Table2[[#This Row],[दर]])=0,\"\",PRODUCT(Table2[[#This Row],[मात्रा/संख्या]],Table2[[#This Row],[दर]]))","v":""}]
[null,{"$f":"IF(C396=\"\",\"\",ROWS($A$3:A396))","v":""},null,{"$f":"IF(Table2[[#This Row],[भुगतान दिनाक]]=\"\",\"\",TEXT(Table2[[#This Row],[भुगतान दिनाक]],\"mmm\"))","v":""},{"$nulls":5},{"$f":"IF(PRODUCT(Table2[[#This Row],[मात्रा/संख्या]],Table2[[#This Row],[दर]])=0,\"\",PRODUCT(Table2[[#This Row],[मात्रा/संख्या]],Table2[[#This Row],[दर]]))","v":""}]
[null,{"$f":"IF(C397=\"\",\"\",ROWS($A$3:A397))","v":""},null,{"$f":"IF(Table2[[#This Row],[भुगतान दिनाक]]=\"\",\"\",TEXT(Table2[[#This Row],[भुगतान दिनाक]],\"mmm\"))","v":""},{"$nulls":5},{"$f":"IF(PRODUCT(Table2[[#This Row],[मात्रा/संख्या]],Table2[[#This Row],[दर]])=0,\"\",PRODUCT(Table2[[#This Row],[मात्रा/संख्या]],Table2[[#This Row],[दर]]))","v":""}]
[null,{"$f":"IF(C398=\"\",\"\",ROWS($A$3:A398))","v":""},null,{"$f":"IF(Table2[[#This Row],[भुगतान दिनाक]]=\"\",\"\",TEXT(Table2[[#This Row],[भुगतान दिनाक]],\"mmm\"))","v":""},{"$nulls":5},{"$f":"IF(PRODUCT(Table2[[#This Row],[मात्रा/संख्या]],Table2[[#This Row],[दर]])=0,\"\",PRODUCT(Table2[[#This Row],[मात्रा/संख्या]],Table2[[#This Row],[दर]]))","v":""}]
[null,{"$f":"IF(C399=\"\",\"\",ROWS($A$3:A399))","v":""},null,{"$f":"IF(Table2[[#This Row],[भुगतान दिनाक]]=\"\",\"\",TEXT(Table2[[#This Row],[भुगतान दिनाक]],\"mmm\"))","v":""},{"$nulls":5},{"$f":"IF(PRODUCT(Table2[[#This Row],[मात्रा/संख्या]],Table2[[#This Row],[दर]])=0,\"\",PRODUCT(Table2[[#This Row],[मात्रा/संख्या]],Table2[[#This Row],[दर]]))","v":""}]
[null,{"$f":"IF(C400=\"\",\"\",ROWS($A$3:A400))","v":""},null,{"$f":"IF(Table2[[#This Row],[भुगतान दिनाक]]=\"\",\"\",TEXT(Table2[[#This Row],[भुगतान दिनाक]],\"mmm\"))","v":""},{"$nulls":5},{"$f":"IF(PRODUCT(Table2[[#This Row],[मात्रा/संख्या]],Table2[[#This Row],[दर]])=0,\"\",PRODUCT(Table2[[#This Row],[मात्रा/संख्या]],Table2[[#This Row],[दर]]))","v":""}]
[null,{"$f":"IF(C401=\"\",\"\",ROWS($A$3:A401))","v":""},null,{"$f":"IF(Table2[[#This Row],[भुगतान दिनाक]]=\"\",\"\",TEXT(Table2[[#This Row],[भुगतान दिनाक]],\"mmm\"))","v":""},{"$nulls":5},{"$f":"IF(PRODUCT(Table2[[#This Row],[मात्रा/संख्या]],Table2[[#This Row],[दर]])=0,\"\",PRODUCT(Table2[[#This Row],[मात्रा/संख्या]],Table2[[#This Row],[दर]]))","v":""}]
[null,{"$f":"IF(C402=\"\",\"\",ROWS($A$3:A402))","v":""},null,{"$f":"IF(Table2[[#This Row],[भुगतान दिनाक]]=\"\",\"\",TEXT(Table2[[#This Row],[भुगतान दिनाक]],\"mmm\"))","v":""},{"$nulls":5},{"$f":"IF(PRODUCT(Table2[[#This Row],[मात्रा/संख्या]],Table2[[#This Row],[दर]])=0,\"\",PRODUCT(Table2[[#This Row],[मात्रा/संख्या]],Table2[[#This Row],[दर]]))","v":""}]
[null,{"$f":"IF(C403=\"\",\"\",ROWS($A$3:A403))","v":""},null,{"$f":"IF(Table2[[#This Row],[भुगतान दिनाक]]=\"\",\"\",TEXT(Table2[[#This Row],[भुगतान दिनाक]],\"mmm\"))","v":""},{"$nulls":5},{"$f":"IF(PRODUCT(Table2[[#This Row],[मात्रा/संख्या]],Table2[[#This Row],[दर]])=0,\"\",PRODUCT(Table2[[#This Row],[मात्रा/संख्या]],Table2[[#This Row],[दर]]))","v":""}]
[null,{"$f":"IF(C404=\"\",\"\",ROWS($A$3:A404))","v":""},null,{"$f":"IF(Table2[[#This Row],[भुगतान दिनाक]]=\"\",\"\",TEXT(Table2[[#This Row],[भुगतान दिनाक]],\"mmm\"))","v":""},{"$nulls":5},{"$f":"IF(PRODUCT(Table2[[#This Row],[मात्रा/संख्या]],Table2[[#This Row],[दर]])=0,\"\",PRODUCT(Table2[[#This Row],[मात्रा/संख्या]],Table2[[#This Row],[दर]]))","v":""}]
[null,{"$f":"IF(C405=\"\",\"\",ROWS($A$3:A405))","v":""},null,{"$f":"IF(Table2[[#This Row],[भुगतान दिनाक]]=\"\",\"\",TEXT(Table2[[#This Row],[भुगतान दिनाक]],\"mmm\"))","v":""},{"$nulls":5},{"$f":"IF(PRODUCT(Table2[[#This Row],[मात्रा/संख्या]],Table2[[#This Row],[दर]])=0,\"\",PRODUCT(Table2[[#This Row],[मात्रा/संख्या]],Table2[[#This Row],[दर]]))","v":""}]
[null,{"$f":"IF(C406=\"\",\"\",ROWS($A$3:A406))","v":""},null,{"$f":"IF(Table2[[#This Row],[भुगतान दिनाक]]=\"\",\"\",TEXT(Table2[[#This Row],[भुगतान दिनाक]],\"mmm\"))","v":""},{"$nulls":5},{"$f":"IF(PRODUCT(Table2[[#This Row],[मात्रा/संख्या]],Table2[[#This Row],[दर]])=0,\"\",PRODUCT(Table2[[#This Row],[मात्रा/संख्या]],Table2[[#This Row],[दर]]))","v":""}]
[null,{"$f":"IF(C407=\"\",\"\",ROWS($A$3:A407))","v":""},null,{"$f":"IF(Table2[[#This Row],[भुगतान दिनाक]]=\"\",\"\",TEXT(Table2[[#This Row],[भुगतान दिनाक]],\"mmm\"))","v":""},{"$nulls":5},{"$f":"IF(PRODUCT(Table2[[#This Row],[मात्रा/संख्या]],Table2[[#This Row],[दर]])=0,\"\",PRODUCT(Table2[[#This Row],[मात्रा/संख्या]],Table2[[#This Row],[दर]]))","v":""}]
[null,{"$f":"IF(C408=\"\",\"\",ROWS($A$3:A408))","v":""},null,{"$f":"IF(Table2[[#This Row],[भुगतान दिनाक]]=\"\",\"\",TEXT(Table2[[#This Row],[भुगतान दिनाक]],\"mmm\"))","v":""},{"$nulls":5},{"$f":"IF(PRODUCT(Table2[[#This Row],[मात्रा/संख्या]],Table2[[#This Row],[दर]])=0,\"\",PRODUCT(Table2[[#This Row],[मात्रा/संख्या]],Table2[[#This Row],[दर]]))","v":""}]
[null,{"$f":"IF(C409=\"\",\"\",ROWS($A$3:A409))","v":""},null,{"$f":"IF(Table2[[#This Row],[भुगतान दिनाक]]=\"\",\"\",TEXT(Table2[[#This Row],[भुगतान दिनाक]],\"mmm\"))","v":""},{"$nulls":5},{"$f":"IF(PRODUCT(Table2[[#This Row],[मात्रा/संख्या]],Table2[[#This Row],[दर]])=0,\"\",PRODUCT(Table2[[#This Row],[मात्रा/संख्या]],Table2[[#This Row],[दर]]))","v":""}]
[null,{"$f":"IF(C410=\"\",\"\",ROWS($A$3:A410))","v":""},null,{"$f":"IF(Table2[[#This Row],[भुगतान दिनाक]]=\"\",\"\",TEXT(Table2[[#This Row],[भुगतान दिनाक]],\"mmm\"))","v":""},{"$nulls":5},{"$f":"IF(PRODUCT(Table2[[#This Row],[मात्रा/संख्या]],Table2[[#This Row],[दर]])=0,\"\",PRODUCT(Table2[[#This Row],[मात्रा/संख्या]],Table2[[#This Row],[दर]]))","v":""}]
[null,{"$f":"IF(C411=\"\",\"\",ROWS($A$3:A411))","v":""},null,{"$f":"IF(Table2[[#This Row],[भुगतान दिनाक]]=\"\",\"\",TEXT(Table2[[#This Row],[भुगतान दिनाक]],\"mmm\"))","v":""},{"$nulls":5},{"$f":"IF(PRODUCT(Table2[[#This Row],[मात्रा/संख्या]],Table2[[#This Row],[दर]])=0,\"\",PRODUCT(Table2[[#This Row],[मात्रा/संख्या]],Table2[[#This Row],[दर]]))","v":""}]
[null,{"$f":"IF(C412=\"\",\"\",ROWS($A$3:A412))","v":""},null,{"$f":"IF(Table2[[#This Row],[भुगतान दिनाक]]=\"\",\"\",TEXT(Table2[[#This Row],[भुगतान दिनाक]],\"mmm\"))","v":""},{"$nulls":5},{"$f":"IF(PRODUCT(Table2[[#This Row],[मात्रा/संख्या]],Table2[[#This Row],[दर]])=0,\"\",PRODUCT(Table2[[#This Row],[मात्रा/संख्या]],Table2[[#This Row],[दर]]))","v":""}]
[null,{"$f":"IF(C413=\"\",\"\",ROWS($A$3:A413))","v":""},null,{"$f":"IF(Table2[[#This Row],[भुगतान दिनाक]]=\"\",\"\",TEXT(Table2[[#This Row],[भुगतान दिनाक]],\"mmm\"))","v":""},{"$nulls":5},{"$f":"IF(PRODUCT(Table2[[#This Row],[मात्रा/संख्या]],Table2[[#This Row],[दर]])=0,\"\",PRODUCT(Table2[[#This Row],[मात्रा/संख्या]],Table2[[#This Row],[दर]]))","v":""}]
[null,{"$f":"IF(C414=\"\",\"\",ROWS($A$3:A414))","v":""},null,{"$f":"IF(Table2[[#This Row],[भुगतान दिनाक]]=\"\",\"\",TEXT(Table2[[#This Row],[भुगतान दिनाक]],\"mmm\"))","v":""},{"$nulls":5},{"$f":"IF(PRODUCT(Table2[[#This Row],[मात्रा/संख्या]],Table2[[#This Row],[दर]])=0,\"\",PRODUCT(Table2[[#This Row],[मात्रा/संख्या]],Table2[[#This Row],[दर]]))","v":""}]
[null,{"$f":"IF(C415=\"\",\"\",ROWS($A$3:A415))","v":""},null,{"$f":"IF(Table2[[#This Row],[भुगतान दिनाक]]=\"\",\"\",TEXT(Table2[[#This Row],[भुगतान दिनाक]],\"mmm\"))","v":""},{"$nulls":5},{"$f":"IF(PRODUCT(Table2[[#This Row],[मात्रा/संख्या]],Table2[[#This Row],[दर]])=0,\"\",PRODUCT(Table2[[#This Row],[मात्रा/संख्या]],Table2[[#This Row],[दर]]))","v":""}]
[null,{"$f":"IF(C416=\"\",\"\",ROWS($A$3:A416))","v":""},null,{"$f":"IF(Table2[[#This Row],[भुगतान दिनाक]]=\"\",\"\",TEXT(Table2[[#This Row],[भुगतान दिनाक]],\"mmm\"))","v":""},{"$nulls":5},{"$f":"IF(PRODUCT(Table2[[#This Row],[मात्रा/संख्या]],Table2[[#This Row],[दर]])=0,\"\",PRODUCT(Table2[[#This Row],[मात्रा/संख्या]],Table2[[#This Row],[दर]]))","v":""}]
[null,{"$f":"IF(C417=\"\",\"\",ROWS($A$3:A417))","v":""},null,{"$f":"IF(Table2[[#This Row],[भुगतान दिनाक]]=\"\",\"\",TEXT(Table2[[#This Row],[भुगतान दिनाक]],\"mmm\"))","v":""},{"$nulls":5},{"$f":"IF(PRODUCT(Table2[[#This Row],[मात्रा/संख्या]],Table2[[#This Row],[दर]])=0,\"\",PRODUCT(Table2[[#This Row],[मात्रा/संख्या]],Table2[[#This Row],[दर]]))","v":""}]
[null,{"$f":"IF(C418=\"\",\"\",ROWS($A$3:A418))","v":""},null,{"$f":"IF(Table2[[#This Row],[भुगतान दिनाक]]=\"\",\"\",TEXT(Table2[[#This Row],[भुगतान दिनाक]],\"mmm\"))","v":""},{"$nulls":5},{"$f":"IF(PRODUCT(Table2[[#This Row],[मात्रा/संख्या]],Table2[[#This Row],[दर]])=0,\"\",PRODUCT(Table2[[#This Row],[मात्रा/संख्या]],Table2[[#This Row],[दर]]))","v":""}]
[null,{"$f":"IF(C419=\"\",\"\",ROWS($A$3:A419))","v":""},null,{"$f":"IF(Table2[[#This Row],[भुगतान दिनाक]]=\"\",\"\",TEXT(Table2[[#This Row],[भुगतान दिनाक]],\"mmm\"))","v":""},{"$nulls":5},{"$f":"IF(PRODUCT(Table2[[#This Row],[मात्रा/संख्या]],Table2[[#This Row],[दर]])=0,\"\",PRODUCT(Table2[[#This Row],[मात्रा/संख्या]],Table2[[#This Row],[दर]]))","v":""}]
[null,{"$f":"IF(C420=\"\",\"\",ROWS($A$3:A420))","v":""},null,{"$f":"IF(Table2[[#This Row],[भुगतान दिनाक]]=\"\",\"\",TEXT(Table2[[#This Row],[भुगतान दिनाक]],\"mmm\"))","v":""},{"$nulls":5},{"$f":"IF(PRODUCT(Table2[[#This Row],[मात्रा/संख्या]],Table2[[#This Row],[दर]])=0,\"\",PRODUCT(Table2[[#This Row],[मात्रा/संख्या]],Table2[[#This Row],[दर]]))","v":""}]
[null,{"$f":"IF(C421=\"\",\"\",ROWS($A$3:A421))","v":""},null,{"$f":"IF(Table2[[#This Row],[भुगतान दिनाक]]=\"\",\"\",TEXT(Table2[[#This Row],[भुगतान दिनाक]],\"mmm\"))","v":""},{"$nulls":5},{"$f":"IF(PRODUCT(Table2[[#This Row],[मात्रा/संख्या]],Table2[[#This Row],[दर]])=0,\"\",PRODUCT(Table2[[#This Row],[मात्रा/संख्या]],Table2[[#This Row],[दर]]))","v":""}]
[null,{"$f":"IF(C422=\"\",\"\",ROWS($A$3:A422))","v":""},null,{"$f":"IF(Table2[[#This Row],[भुगतान दिनाक]]=\"\",\"\",TEXT(Table2[[#This Row],[भुगतान दिनाक]],\"mmm\"))","v":""},{"$nulls":5},{"$f":"IF(PRODUCT(Table2[[#This Row],[मात्रा/संख्या]],Table2[[#This Row],[दर]])=0,\"\",PRODUCT(Table2[[#This Row],[मात्रा/संख्या]],Table2[[#This Row],[दर]]))","v":""}]
[null,{"$f":"IF(C423=\"\",\"\",ROWS($A$3:A423))","v":""},null,{"$f":"IF(Table2[[#This Row],[भुगतान दिनाक]]=\"\",\"\",TEXT(Table2[[#This Row],[भुगतान दिनाक]],\"mmm\"))","v":""},{"$nulls":5},{"$f":"IF(PRODUCT(Table2[[#This Row],[मात्रा/संख्या]],Table2[[#This Row],[दर]])=0,\"\",PRODUCT(Table2[[#This Row],[मात्रा/संख्या]],Table2[[#This Row],[दर]]))","v":""}]
[null,{"$f":"IF(C424=\"\",\"\",ROWS($A$3:A424))","v":""},null,{"$f":"IF(Table2[[#This Row],[भुगतान दिनाक]]=\"\",\"\",TEXT(Table2[[#This Row],[भुगतान दिनाक]],\"mmm\"))","v":""},{"$nulls":5},{"$f":"IF(PRODUCT(Table2[[#This Row],[मात्रा/संख्या]],Table2[[#This Row],[दर]])=0,\"\",PRODUCT(Table2[[#This Row],[मात्रा/संख्या]],Table2[[#This Row],[दर]]))","v":""}]
[null,{"$f":"IF(C425=\"\",\"\",ROWS($A$3:A425))","v":""},null,{"$f":"IF(Table2[[#This Row],[भुगतान दिनाक]]=\"\",\"\",TEXT(Table2[[#This Row],[भुगतान दिनाक]],\"mmm\"))","v":""},{"$nulls":5},{"$f":"IF(PRODUCT(Table2[[#This Row],[मात्रा/संख्या]],Table2[[#This Row],[दर]])=0,\"\",PRODUCT(Table2[[#This Row],[मात्रा/संख्या]],Table2[[#This Row],[दर]]))","v":""}]
[null,{"$f":"IF(C426=\"\",\"\",ROWS($A$3:A426))","v":""},null,{"$f":"IF(Table2[[#This Row],[भुगतान दिनाक]]=\"\",\"\",TEXT(Table2[[#This Row],[भुगतान दिनाक]],\"mmm\"))","v":""},{"$nulls":5},{"$f":"IF(PRODUCT(Table2[[#This Row],[मात्रा/संख्या]],Table2[[#This Row],[दर]])=0,\"\",PRODUCT(Table2[[#This Row],[मात्रा/संख्या]],Table2[[#This Row],[दर]]))","v":""}]
[null,{"$f":"IF(C427=\"\",\"\",ROWS($A$3:A427))","v":""},null,{"$f":"IF(Table2[[#This Row],[भुगतान दिनाक]]=\"\",\"\",TEXT(Table2[[#This Row],[भुगतान दिनाक]],\"mmm\"))","v":""},{"$nulls":5},{"$f":"IF(PRODUCT(Table2[[#This Row],[मात्रा/संख्या]],Table2[[#This Row],[दर]])=0,\"\",PRODUCT(Table2[[#This Row],[मात्रा/संख्या]],Table2[[#This Row],[दर]]))","v":""}]
[null,{"$f":"IF(C428=\"\",\"\",ROWS($A$3:A428))","v":""},null,{"$f":"IF(Table2[[#This Row],[भुगतान दिनाक]]=\"\",\"\",TEXT(Table2[[#This Row],[भुगतान दिनाक]],\"mmm\"))","v":""},{"$nulls":5},{"$f":"IF(PRODUCT(Table2[[#This Row],[मात्रा/संख्या]],Table2[[#This Row],[दर]])=0,\"\",PRODUCT(Table2[[#This Row],[मात्रा/संख्या]],Table2[[#This Row],[दर]]))","v":""}]
[null,{"$f":"IF(C429=\"\",\"\",ROWS($A$3:A429))","v":""},null,{"$f":"IF(Table2[[#This Row],[भुगतान दिनाक]]=\"\",\"\",TEXT(Table2[[#This Row],[भुगतान दिनाक]],\"mmm\"))","v":""},{"$nulls":5},{"$f":"IF(PRODUCT(Table2[[#This Row],[मात्रा/संख्या]],Table2[[#This Row],[दर]])=0,\"\",PRODUCT(Table2[[#This Row],[मात्रा/संख्या]],Table2[[#This Row],[दर]]))","v":""}]
[null,{"$f":"IF(C430=\"\",\"\",ROWS($A$3:A430))","v":""},null,{"$f":"IF(Table2[[#This Row],[भुगतान दिनाक]]=\"\",\"\",TEXT(Table2[[#This Row],[भुगतान दिनाक]],\"mmm\"))","v":""},{"$nulls":5},{"$f":"IF(PRODUCT(Table2[[#This Row],[मात्रा/संख्या]],Table2[[#This Row],[दर]])=0,\"\",PRODUCT(Table2[[#This Row],[मात्रा/संख्या]],Table2[[#This Row],[दर]]))","v":""}]
[null,{"$f":"IF(C431=\"\",\"\",ROWS($A$3:A431))","v":""},null,{"$f":"IF(Table2[[#This Row],[भुगतान दिनाक]]=\"\",\"\",TEXT(Table2[[#This Row],[भुगतान दिनाक]],\"mmm\"))","v":""},{"$nulls":5},{"$f":"IF(PRODUCT(Table2[[#This Row],[मात्रा/संख्या]],Table2[[#This Row],[दर]])=0,\"\",PRODUCT(Table2[[#This Row],[मात्रा/संख्या]],Table2[[#This Row],[दर]]))","v":""}]
[null,{"$f":"IF(C432=\"\",\"\",ROWS($A$3:A432))","v":""},null,{"$f":"IF(Table2[[#This Row],[भुगतान दिनाक]]=\"\",\"\",TEXT(Table2[[#This Row],[भुगतान दिनाक]],\"mmm\"))","v":""},{"$nulls":5},{"$f":"IF(PRODUCT(Table2[[#This Row],[मात्रा/संख्या]],Table2[[#This Row],[दर]])=0,\"\",PRODUCT(Table2[[#This Row],[मात्रा/संख्या]],Table2[[#This Row],[दर]]))","v":""}]
[null,{"$f":"IF(C433=\"\",\"\",ROWS($A$3:A433))","v":""},null,{"$f":"IF(Table2[[#This Row],[भुगतान दिनाक]]=\"\",\"\",TEXT(Table2[[#This Row],[भुगतान दिनाक]],\"mmm\"))","v":""},{"$nulls":5},{"$f":"IF(PRODUCT(Table2[[#This Row],[मात्रा/संख्या]],Table2[[#This Row],[दर]])=0,\"\",PRODUCT(Table2[[#This Row],[मात्रा/संख्या]],Table2[[#This Row],[दर]]))","v":""}]
[null,{"$f":"IF(C434=\"\",\"\",ROWS($A$3:A434))","v":""},null,{"$f":"IF(Table2[[#This Row],[भुगतान दिनाक]]=\"\",\"\",TEXT(Table2[[#This Row],[भुगतान दिनाक]],\"mmm\"))","v":""},{"$nulls":5},{"$f":"IF(PRODUCT(Table2[[#This Row],[मात्रा/संख्या]],Table2[[#This Row],[दर]])=0,\"\",PRODUCT(Table2[[#This Row],[मात्रा/संख्या]],Table2[[#This Row],[दर]]))","v":""}]
[null,{"$f":"IF(C435=\"\",\"\",ROWS($A$3:A435))","v":""},null,{"$f":"IF(Table2[[#This Row],[भुगतान दिनाक]]=\"\",\"\",TEXT(Table2[[#This Row],[भुगतान दिनाक]],\"mmm\"))","v":""},{"$nulls":5},{"$f":"IF(PRODUCT(Table2[[#This Row],[मात्रा/संख्या]],Table2[[#This Row],[दर]])=0,\"\",PRODUCT(Table2[[#This Row],[मात्रा/संख्या]],Table2[[#This Row],[दर]]))","v":""}]
[null,{"$f":"IF(C436=\"\",\"\",ROWS($A$3:A436))","v":""},null,{"$f":"IF(Table2[[#This Row],[भुगतान दिनाक]]=\"\",\"\",TEXT(Table2[[#This Row],[भुगतान दिनाक]],\"mmm\"))","v":""},{"$nulls":5},{"$f":"IF(PRODUCT(Table2[[#This Row],[मात्रा/संख्या]],Table2[[#This Row],[दर]])=0,\"\",PRODUCT(Table2[[#This Row],[मात्रा/संख्या]],Table2[[#This Row],[दर]]))","v":""}]
[null,{"$f":"IF(C437=\"\",\"\",ROWS($A$3:A437))","v":""},null,{"$f":"IF(Table2[[#This Row],[भुगतान दिनाक]]=\"\",\"\",TEXT(Table2[[#This Row],[भुगतान दिनाक]],\"mmm\"))","v":""},{"$nulls":5},{"$f":"IF(PRODUCT(Table2[[#This Row],[मात्रा/संख्या]],Table2[[#This Row],[दर]])=0,\"\",PRODUCT(Table2[[#This Row],[मात्रा/संख्या]],Table2[[#This Row],[दर]]))","v":""}]
[null,{"$f":"IF(C438=\"\",\"\",ROWS($A$3:A438))","v":""},null,{"$f":"IF(Table2[[#This Row],[भुगतान दिनाक]]=\"\",\"\",TEXT(Table2[[#This Row],[भुगतान दिनाक]],\"mmm\"))","v":""},{"$nulls":5},{"$f":"IF(PRODUCT(Table2[[#This Row],[मात्रा/संख्या]],Table2[[#This Row],[दर]])=0,\"\",PRODUCT(Table2[[#This Row],[मात्रा/संख्या]],Table2[[#This Row],[दर]]))","v":""}]
[null,{"$f":"IF(C439=\"\",\"\",ROWS($A$3:A439))","v":""},null,{"$f":"IF(Table2[[#This Row],[भुगतान दिनाक]]=\"\",\"\",TEXT(Table2[[#This Row],[भुगतान दिनाक]],\"mmm\"))","v":""},{"$nulls":5},{"$f":"IF(PRODUCT(Table2[[#This Row],[मात्रा/संख्या]],Table2[[#This Row],[दर]])=0,\"\",PRODUCT(Table2[[#This Row],[मात्रा/संख्या]],Table2[[#This Row],[दर]]))","v":""}]
[null,{"$f":"IF(C440=\"\",\"\",ROWS($A$3:A440))","v":""},null,{"$f":"IF(Table2[[#This Row],[भुगतान दिनाक]]=\"\",\"\",TEXT(Table2[[#This Row],[भुगतान दिनाक]],\"mmm\"))","v":""},{"$nulls":5},{"$f":"IF(PRODUCT(Table2[[#This Row],[मात्रा/संख्या]],Table2[[#This Row],[दर]])=0,\"\",PRODUCT(Table2[[#This Row],[मात्रा/संख्या]],Table2[[#This Row],[दर]]))","v":""}]
[null,{"$f":"IF(C441=\"\",\"\",ROWS($A$3:A441))","v":""},null,{"$f":"IF(Table2[[#This Row],[भुगतान दिनाक]]=\"\",\"\",TEXT(Table2[[#This Row],[भुगतान दिनाक]],\"mmm\"))","v":""},{"$nulls":5},{"$f":"IF(PRODUCT(Table2[[#This Row],[मात्रा/संख्या]],Table2[[#This Row],[दर]])=0,\"\",PRODUCT(Table2[[#This Row],[मात्रा/संख्या]],Table2[[#This Row],[दर]]))","v":""}]
[null,{"$f":"IF(C442=\"\",\"\",ROWS($A$3:A442))","v":""},null,{"$f":"IF(Table2[[#This Row],[भुगतान दिनाक]]=\"\",\"\",TEXT(Table2[[#This Row],[भुगतान दिनाक]],\"mmm\"))","v":""},{"$nulls":5},{"$f":"IF(PRODUCT(Table2[[#This Row],[मात्रा/संख्या]],Table2[[#This Row],[दर]])=0,\"\",PRODUCT(Table2[[#This Row],[मात्रा/संख्या]],Table2[[#This Row],[दर]]))","v":""}]
[null,{"$f":"IF(C443=\"\",\"\",ROWS($A$3:A443))","v":""},null,{"$f":"IF(Table2[[#This Row],[भुगतान दिनाक]]=\"\",\"\",TEXT(Table2[[#This Row],[भुगतान दिनाक]],\"mmm\"))","v":""},{"$nulls":5},{"$f":"IF(PRODUCT(Table2[[#This Row],[मात्रा/संख्या]],Table2[[#This Row],[दर]])=0,\"\",PRODUCT(Table2[[#This Row],[मात्रा/संख्या]],Table2[[#This Row],[दर]]))","v":""}]
[null,{"$f":"IF(C444=\"\",\"\",ROWS($A$3:A444))","v":""},null,{"$f":"IF(Table2[[#This Row],[भुगतान दिनाक]]=\"\",\"\",TEXT(Table2[[#This Row],[भुगतान दिनाक]],\"mmm\"))","v":""},{"$nulls":5},{"$f":"IF(PRODUCT(Table2[[#This Row],[मात्रा/संख्या]],Table2[[#This Row],[दर]])=0,\"\",PRODUCT(Table2[[#This Row],[मात्रा/संख्या]],Table2[[#This Row],[दर]]))","v":""}]
[null,{"$f":"IF(C445=\"\",\"\",ROWS($A$3:A445))","v":""},null,{"$f":"IF(Table2[[#This Row],[भुगतान दिनाक]]=\"\",\"\",TEXT(Table2[[#This Row],[भुगतान दिनाक]],\"mmm\"))","v":""},{"$nulls":5},{"$f":"IF(PRODUCT(Table2[[#This Row],[मात्रा/संख्या]],Table2[[#This Row],[दर]])=0,\"\",PRODUCT(Table2[[#This Row],[मात्रा/संख्या]],Table2[[#This Row],[दर]]))","v":""}]
[null,{"$f":"IF(C446=\"\",\"\",ROWS($A$3:A446))","v":""},null,{"$f":"IF(Table2[[#This Row],[भुगतान दिनाक]]=\"\",\"\",TEXT(Table2[[#This Row],[भुगतान दिनाक]],\"mmm\"))","v":""},{"$nulls":5},{"$f":"IF(PRODUCT(Table2[[#This Row],[मात्रा/संख्या]],Table2[[#This Row],[दर]])=0,\"\",PRODUCT(Table2[[#This Row],[मात्रा/संख्या]],Table2[[#This Row],[दर]]))","v":""}]
[null,{"$f":"IF(C447=\"\",\"\",ROWS($A$3:A447))","v":""},null,{"$f":"IF(Table2[[#This Row],[भुगतान दिनाक]]=\"\",\"\",TEXT(Table2[[#This Row],[भुगतान दिनाक]],\"mmm\"))","v":""},{"$nulls":5},{"$f":"IF(PRODUCT(Table2[[#This Row],[मात्रा/संख्या]],Table2[[#This Row],[दर]])=0,\"\",PRODUCT(Table2[[#This Row],[मात्रा/संख्या]],Table2[[#This Row],[दर]]))","v":""}]
[null,{"$f":"IF(C448=\"\",\"\",ROWS($A$3:A448))","v":""},null,{"$f":"IF(Table2[[#This Row],[भुगतान दिनाक]]=\"\",\"\",TEXT(Table2[[#This Row],[भुगतान दिनाक]],\"mmm\"))","v":""},{"$nulls":5},{"$f":"IF(PRODUCT(Table2[[#This Row],[मात्रा/संख्या]],Table2[[#This Row],[दर]])=0,\"\",PRODUCT(Table2[[#This Row],[मात्रा/संख्या]],Table2[[#This Row],[दर]]))","v":""}]
[null,{"$f":"IF(C449=\"\",\"\",ROWS($A$3:A449))","v":""},null,{"$f":"IF(Table2[[#This Row],[भुगतान दिनाक]]=\"\",\"\",TEXT(Table2[[#This Row],[भुगतान दिनाक]],\"mmm\"))","v":""},{"$nulls":5},{"$f":"IF(PRODUCT(Table2[[#This Row],[मात्रा/संख्या]],Table2[[#This Row],[दर]])=0,\"\",PRODUCT(Table2[[#This Row],[मात्रा/संख्या]],Table2[[#This Row],[दर]]))","v":""}]
[null,{"$f":"IF(C450=\"\",\"\",ROWS($A$3:A450))","v":""},null,{"$f":"IF(Table2[[#This Row],[भुगतान दिनाक]]=\"\",\"\",TEXT(Table2[[#This Row],[भुगतान दिनाक]],\"mmm\"))","v":""},{"$nulls":5},{"$f":"IF(PRODUCT(Table2[[#This Row],[मात्रा/संख्या]],Table2[[#This Row],[दर]])=0,\"\",PRODUCT(Table2[[#This Row],[मात्रा/संख्या]],Table2[[#This Row],[दर]]))","v":""}]
[null,{"$f":"IF(C451=\"\",\"\",ROWS($A$3:A451))","v":""},null,{"$f":"IF(Table2[[#This Row],[भुगतान दिनाक]]=\"\",\"\",TEXT(Table2[[#This Row],[भुगतान दिनाक]],\"mmm\"))","v":""},{"$nulls":5},{"$f":"IF(PRODUCT(Table2[[#This Row],[मात्रा/संख्या]],Table2[[#This Row],[दर]])=0,\"\",PRODUCT(Table2[[#This Row],[मात्रा/संख्या]],Table2[[#This Row],[दर]]))","v":""}]
[null,{"$f":"IF(C452=\"\",\"\",ROWS($A$3:A452))","v":""},null,{"$f":"IF(Table2[[#This Row],[भुगतान दिनाक]]=\"\",\"\",TEXT(Table2[[#This Row],[भुगतान दिनाक]],\"mmm\"))","v":""},{"$nulls":5},{"$f":"IF(PRODUCT(Table2[[#This Row],[मात्रा/संख्या]],Table2[[#This Row],[दर]])=0,\"\",PRODUCT(Table2[[#This Row],[मात्रा/संख्या]],Table2[[#This Row],[दर]]))","v":""}]
[null,{"$f":"IF(C453=\"\",\"\",ROWS($A$3:A453))","v":""},null,{"$f":"IF(Table2[[#This Row],[भुगतान दिनाक]]=\"\",\"\",TEXT(Table2[[#This Row],[भुगतान दिनाक]],\"mmm\"))","v":""},{"$nulls":5},{"$f":"IF(PRODUCT(Table2[[#This Row],[मात्रा/संख्या]],Table2[[#This Row],[दर]])=0,\"\",PRODUCT(Table2[[#This Row],[मात्रा/संख्या]],Table2[[#This Row],[दर]]))","v":""}]
[null,{"$f":"IF(C454=\"\",\"\",ROWS($A$3:A454))","v":""},null,{"$f":"IF(Table2[[#This Row],[भुगतान दिनाक]]=\"\",\"\",TEXT(Table2[[#This Row],[भुगतान दिनाक]],\"mmm\"))","v":""},{"$nulls":5},{"$f":"IF(PRODUCT(Table2[[#This Row],[मात्रा/संख्या]],Table2[[#This Row],[दर]])=0,\"\",PRODUCT(Table2[[#This Row],[मात्रा/संख्या]],Table2[[#This Row],[दर]]))","v":""}]
[null,{"$f":"IF(C455=\"\",\"\",ROWS($A$3:A455))","v":""},null,{"$f":"IF(Table2[[#This Row],[भुगतान दिनाक]]=\"\",\"\",TEXT(Table2[[#This Row],[भुगतान दिनाक]],\"mmm\"))","v":""},{"$nulls":5},{"$f":"IF(PRODUCT(Table2[[#This Row],[मात्रा/संख्या]],Table2[[#This Row],[दर]])=0,\"\",PRODUCT(Table2[[#This Row],[मात्रा/संख्या]],Table2[[#This Row],[दर]]))","v":""}]
[null,{"$f":"IF(C456=\"\",\"\",ROWS($A$3:A456))","v":""},null,{"$f":"IF(Table2[[#This Row],[भुगतान दिनाक]]=\"\",\"\",TEXT(Table2[[#This Row],[भुगतान दिनाक]],\"mmm\"))","v":""},{"$nulls":5},{"$f":"IF(PRODUCT(Table2[[#This Row],[मात्रा/संख्या]],Table2[[#This Row],[दर]])=0,\"\",PRODUCT(Table2[[#This Row],[मात्रा/संख्या]],Table2[[#This Row],[दर]]))","v":""}]
[null,{"$f":"IF(C457=\"\",\"\",ROWS($A$3:A457))","v":""},null,{"$f":"IF(Table2[[#This Row],[भुगतान दिनाक]]=\"\",\"\",TEXT(Table2[[#This Row],[भुगतान दिनाक]],\"mmm\"))","v":""},{"$nulls":5},{"$f":"IF(PRODUCT(Table2[[#This Row],[मात्रा/संख्या]],Table2[[#This Row],[दर]])=0,\"\",PRODUCT(Table2[[#This Row],[मात्रा/संख्या]],Table2[[#This Row],[दर]]))","v":""}]
[null,{"$f":"IF(C458=\"\",\"\",ROWS($A$3:A458))","v":""},null,{"$f":"IF(Table2[[#This Row],[भुगतान दिनाक]]=\"\",\"\",TEXT(Table2[[#This Row],[भुगतान दिनाक]],\"mmm\"))","v":""},{"$nulls":5},{"$f":"IF(PRODUCT(Table2[[#This Row],[मात्रा/संख्या]],Table2[[#This Row],[दर]])=0,\"\",PRODUCT(Table2[[#This Row],[मात्रा/संख्या]],Table2[[#This Row],[दर]]))","v":""}]
[null,{"$f":"IF(C459=\"\",\"\",ROWS($A$3:A459))","v":""},null,{"$f":"IF(Table2[[#This Row],[भुगतान दिनाक]]=\"\",\"\",TEXT(Table2[[#This Row],[भुगतान दिनाक]],\"mmm\"))","v":""},{"$nulls":5},{"$f":"IF(PRODUCT(Table2[[#This Row],[मात्रा/संख्या]],Table2[[#This Row],[दर]])=0,\"\",PRODUCT(Table2[[#This Row],[मात्रा/संख्या]],Table2[[#This Row],[दर]]))","v":""}]
[null,{"$f":"IF(C460=\"\",\"\",ROWS($A$3:A460))","v":""},null,{"$f":"IF(Table2[[#This Row],[भुगतान दिनाक]]=\"\",\"\",TEXT(Table2[[#This Row],[भुगतान दिनाक]],\"mmm\"))","v":""},{"$nulls":5},{"$f":"IF(PRODUCT(Table2[[#This Row],[मात्रा/संख्या]],Table2[[#This Row],[दर]])=0,\"\",PRODUCT(Table2[[#This Row],[मात्रा/संख्या]],Table2[[#This Row],[दर]]))","v":""}]
[null,{"$f":"IF(C461=\"\",\"\",ROWS($A$3:A461))","v":""},null,{"$f":"IF(Table2[[#This Row],[भुगतान दिनाक]]=\"\",\"\",TEXT(Table2[[#This Row],[भुगतान दिनाक]],\"mmm\"))","v":""},{"$nulls":5},{"$f":"IF(PRODUCT(Table2[[#This Row],[मात्रा/संख्या]],Table2[[#This Row],[दर]])=0,\"\",PRODUCT(Table2[[#This Row],[मात्रा/संख्या]],Table2[[#This Row],[दर]]))","v":""}]
[null,{"$f":"IF(C462=\"\",\"\",ROWS($A$3:A462))","v":""},null,{"$f":"IF(Table2[[#This Row],[भुगतान दिनाक]]=\"\",\"\",TEXT(Table2[[#This Row],[भुगतान दिनाक]],\"mmm\"))","v":""},{"$nulls":5},{"$f":"IF(PRODUCT(Table2[[#This Row],[मात्रा/संख्या]],Table2[[#This Row],[दर]])=0,\"\",PRODUCT(Table2[[#This Row],[मात्रा/संख्या]],Table2[[#This Row],[दर]]))","v":""}]
[null,{"$f":"IF(C463=\"\",\"\",ROWS($A$3:A463))","v":""},null,{"$f":"IF(Table2[[#This Row],[भुगतान दिनाक]]=\"\",\"\",TEXT(Table2[[#This Row],[भुगतान दिनाक]],\"mmm\"))","v":""},{"$nulls":5},{"$f":"IF(PRODUCT(Table2[[#This Row],[मात्रा/संख्या]],Table2[[#This Row],[दर]])=0,\"\",PRODUCT(Table2[[#This Row],[मात्रा/संख्या]],Table2[[#This Row],[दर]]))","v":""}]
[null,{"$f":"IF(C464=\"\",\"\",ROWS($A$3:A464))","v":""},null,{"$f":"IF(Table2[[#This Row],[भुगतान दिनाक]]=\"\",\"\",TEXT(Table2[[#This Row],[भुगतान दिनाक]],\"mmm\"))","v":""},{"$nulls":5},{"$f":"IF(PRODUCT(Table2[[#This Row],[मात्रा/संख्या]],Table2[[#This Row],[दर]])=0,\"\",PRODUCT(Table2[[#This Row],[मात्रा/संख्या]],Table2[[#This Row],[दर]]))","v":""}]
[null,{"$f":"IF(C465=\"\",\"\",ROWS($A$3:A465))","v":""},null,{"$f":"IF(Table2[[#This Row],[भुगतान दिनाक]]=\"\",\"\",TEXT(Table2[[#This Row],[भुगतान दिनाक]],\"mmm\"))","v":""},{"$nulls":5},{"$f":"IF(PRODUCT(Table2[[#This Row],[मात्रा/संख्या]],Table2[[#This Row],[दर]])=0,\"\",PRODUCT(Table2[[#This Row],[मात्रा/संख्या]],Table2[[#This Row],[दर]]))","v":""}]
[null,{"$f":"IF(C466=\"\",\"\",ROWS($A$3:A466))","v":""},null,{"$f":"IF(Table2[[#This Row],[भुगतान दिनाक]]=\"\",\"\",TEXT(Table2[[#This Row],[भुगतान दिनाक]],\"mmm\"))","v":""},{"$nulls":5},{"$f":"IF(PRODUCT(Table2[[#This Row],[मात्रा/संख्या]],Table2[[#This Row],[दर]])=0,\"\",PRODUCT(Table2[[#This Row],[मात्रा/संख्या]],Table2[[#This Row],[दर]]))","v":""}]
[null,{"$f":"IF(C467=\"\",\"\",ROWS($A$3:A467))","v":""},null,{"$f":"IF(Table2[[#This Row],[भुगतान दिनाक]]=\"\",\"\",TEXT(Table2[[#This Row],[भुगतान दिनाक]],\"mmm\"))","v":""},{"$nulls":5},{"$f":"IF(PRODUCT(Table2[[#This Row],[मात्रा/संख्या]],Table2[[#This Row],[दर]])=0,\"\",PRODUCT(Table2[[#This Row],[मात्रा/संख्या]],Table2[[#This Row],[दर]]))","v":""}]
[null,{"$f":"IF(C468=\"\",\"\",ROWS($A$3:A468))","v":""},null,{"$f":"IF(Table2[[#This Row],[भुगतान दिनाक]]=\"\",\"\",TEXT(Table2[[#This Row],[भुगतान दिनाक]],\"mmm\"))","v":""},{"$nulls":5},{"$f":"IF(PRODUCT(Table2[[#This Row],[मात्रा/संख्या]],Table2[[#This Row],[दर]])=0,\"\",PRODUCT(Table2[[#This Row],[मात्रा/संख्या]],Table2[[#This Row],[दर]]))","v":""}]
[null,{"$f":"IF(C469=\"\",\"\",ROWS($A$3:A469))","v":""},null,{"$f":"IF(Table2[[#This Row],[भुगतान दिनाक]]=\"\",\"\",TEXT(Table2[[#This Row],[भुगतान दिनाक]],\"mmm\"))","v":""},{"$nulls":5},{"$f":"IF(PRODUCT(Table2[[#This Row],[मात्रा/संख्या]],Table2[[#This Row],[दर]])=0,\"\",PRODUCT(Table2[[#This Row],[मात्रा/संख्या]],Table2[[#This Row],[दर]]))","v":""}]
[null,{"$f":"IF(C470=\"\",\"\",ROWS($A$3:A470))","v":""},null,{"$f":"IF(Table2[[#This Row],[भुगतान दिनाक]]=\"\",\"\",TEXT(Table2[[#This Row],[भुगतान दिनाक]],\"mmm\"))","v":""},{"$nulls":5},{"$f":"IF(PRODUCT(Table2[[#This Row],[मात्रा/संख्या]],Table2[[#This Row],[दर]])=0,\"\",PRODUCT(Table2[[#This Row],[मात्रा/संख्या]],Table2[[#This Row],[दर]]))","v":""}]
[null,{"$f":"IF(C471=\"\",\"\",ROWS($A$3:A471))","v":""},null,{"$f":"IF(Table2[[#This Row],[भुगतान दिनाक]]=\"\",\"\",TEXT(Table2[[#This Row],[भुगतान दिनाक]],\"mmm\"))","v":""},{"$nulls":5},{"$f":"IF(PRODUCT(Table2[[#This Row],[मात्रा/संख्या]],Table2[[#This Row],[दर]])=0,\"\",PRODUCT(Table2[[#This Row],[मात्रा/संख्या]],Table2[[#This Row],[दर]]))","v":""}]
[null,{"$f":"IF(C472=\"\",\"\",ROWS($A$3:A472))","v":""},null,{"$f":"IF(Table2[[#This Row],[भुगतान दिनाक]]=\"\",\"\",TEXT(Table2[[#This Row],[भुगतान दिनाक]],\"mmm\"))","v":""},{"$nulls":5},{"$f":"IF(PRODUCT(Table2[[#This Row],[मात्रा/संख्या]],Table2[[#This Row],[दर]])=0,\"\",PRODUCT(Table2[[#This Row],[मात्रा/संख्या]],Table2[[#This Row],[दर]]))","v":""}]
[null,{"$f":"IF(C473=\"\",\"\",ROWS($A$3:A473))","v":""},null,{"$f":"IF(Table2[[#This Row],[भुगतान दिनाक]]=\"\",\"\",TEXT(Table2[[#This Row],[भुगतान दिनाक]],\"mmm\"))","v":""},{"$nulls":5},{"$f":"IF(PRODUCT(Table2[[#This Row],[मात्रा/संख्या]],Table2[[#This Row],[दर]])=0,\"\",PRODUCT(Table2[[#This Row],[मात्रा/संख्या]],Table2[[#This Row],[दर]]))","v":""}]
[null,{"$f":"IF(C474=\"\",\"\",ROWS($A$3:A474))","v":""},null,{"$f":"IF(Table2[[#This Row],[भुगतान दिनाक]]=\"\",\"\",TEXT(Table2[[#This Row],[भुगतान दिनाक]],\"mmm\"))","v":""},{"$nulls":5},{"$f":"IF(PRODUCT(Table2[[#This Row],[मात्रा/संख्या]],Table2[[#This Row],[दर]])=0,\"\",PRODUCT(Table2[[#This Row],[मात्रा/संख्या]],Table2[[#This Row],[दर]]))","v":""}]
[null,{"$f":"IF(C475=\"\",\"\",ROWS($A$3:A475))","v":""},null,{"$f":"IF(Table2[[#This Row],[भुगतान दिनाक]]=\"\",\"\",TEXT(Table2[[#This Row],[भुगतान दिनाक]],\"mmm\"))","v":""},{"$nulls":5},{"$f":"IF(PRODUCT(Table2[[#This Row],[मात्रा/संख्या]],Table2[[#This Row],[दर]])=0,\"\",PRODUCT(Table2[[#This Row],[मात्रा/संख्या]],Table2[[#This Row],[दर]]))","v":""}]
[null,{"$f":"IF(C476=\"\",\"\",ROWS($A$3:A476))","v":""},null,{"$f":"IF(Table2[[#This Row],[भुगतान दिनाक]]=\"\",\"\",TEXT(Table2[[#This Row],[भुगतान दिनाक]],\"mmm\"))","v":""},{"$nulls":5},{"$f":"IF(PRODUCT(Table2[[#This Row],[मात्रा/संख्या]],Table2[[#This Row],[दर]])=0,\"\",PRODUCT(Table2[[#This Row],[मात्रा/संख्या]],Table2[[#This Row],[दर]]))","v":""}]
[null,{"$f":"IF(C477=\"\",\"\",ROWS($A$3:A477))","v":""},null,{"$f":"IF(Table2[[#This Row],[भुगतान दिनाक]]=\"\",\"\",TEXT(Table2[[#This Row],[भुगतान दिनाक]],\"mmm\"))","v":""},{"$nulls":5},{"$f":"IF(PRODUCT(Table2[[#This Row],[मात्रा/संख्या]],Table2[[#This Row],[दर]])=0,\"\",PRODUCT(Table2[[#This Row],[मात्रा/संख्या]],Table2[[#This Row],[दर]]))","v":""}]
[null,{"$f":"IF(C478=\"\",\"\",ROWS($A$3:A478))","v":""},null,{"$f":"IF(Table2[[#This Row],[भुगतान दिनाक]]=\"\",\"\",TEXT(Table2[[#This Row],[भुगतान दिनाक]],\"mmm\"))","v":""},{"$nulls":5},{"$f":"IF(PRODUCT(Table2[[#This Row],[मात्रा/संख्या]],Table2[[#This Row],[दर]])=0,\"\",PRODUCT(Table2[[#This Row],[मात्रा/संख्या]],Table2[[#This Row],[दर]]))","v":""}]
[null,{"$f":"IF(C479=\"\",\"\",ROWS($A$3:A479))","v":""},null,{"$f":"IF(Table2[[#This Row],[भुगतान दिनाक]]=\"\",\"\",TEXT(Table2[[#This Row],[भुगतान दिनाक]],\"mmm\"))","v":""},{"$nulls":5},{"$f":"IF(PRODUCT(Table2[[#This Row],[मात्रा/संख्या]],Table2[[#This Row],[दर]])=0,\"\",PRODUCT(Table2[[#This Row],[मात्रा/संख्या]],Table2[[#This Row],[दर]]))","v":""}]
[null,{"$f":"IF(C480=\"\",\"\",ROWS($A$3:A480))","v":""},null,{"$f":"IF(Table2[[#This Row],[भुगतान दिनाक]]=\"\",\"\",TEXT(Table2[[#This Row],[भुगतान दिनाक]],\"mmm\"))","v":""},{"$nulls":5},{"$f":"IF(PRODUCT(Table2[[#This Row],[मात्रा/संख्या]],Table2[[#This Row],[दर]])=0,\"\",PRODUCT(Table2[[#This Row],[मात्रा/संख्या]],Table2[[#This Row],[दर]]))","v":""}]
[null,{"$f":"IF(C481=\"\",\"\",ROWS($A$3:A481))","v":""},null,{"$f":"IF(Table2[[#This Row],[भुगतान दिनाक]]=\"\",\"\",TEXT(Table2[[#This Row],[भुगतान दिनाक]],\"mmm\"))","v":""},{"$nulls":5},{"$f":"IF(PRODUCT(Table2[[#This Row],[मात्रा/संख्या]],Table2[[#This Row],[दर]])=0,\"\",PRODUCT(Table2[[#This Row],[मात्रा/संख्या]],Table2[[#This Row],[दर]]))","v":""}]
[null,{"$f":"IF(C482=\"\",\"\",ROWS($A$3:A482))","v":""},null,{"$f":"IF(Table2[[#This Row],[भुगतान दिनाक]]=\"\",\"\",TEXT(Table2[[#This Row],[भुगतान दिनाक]],\"mmm\"))","v":""},{"$nulls":5},{"$f":"IF(PRODUCT(Table2[[#This Row],[मात्रा/संख्या]],Table2[[#This Row],[दर]])=0,\"\",PRODUCT(Table2[[#This Row],[मात्रा/संख्या]],Table2[[#This Row],[दर]]))","v":""}]
[null,{"$f":"IF(C483=\"\",\"\",ROWS($A$3:A483))","v":""},null,{"$f":"IF(Table2[[#This Row],[भुगतान दिनाक]]=\"\",\"\",TEXT(Table2[[#This Row],[भुगतान दिनाक]],\"mmm\"))","v":""},{"$nulls":5},{"$f":"IF(PRODUCT(Table2[[#This Row],[मात्रा/संख्या]],Table2[[#This Row],[दर]])=0,\"\",PRODUCT(Table2[[#This Row],[मात्रा/संख्या]],Table2[[#This Row],[दर]]))","v":""}]
[null,{"$f":"IF(C484=\"\",\"\",ROWS($A$3:A484))","v":""},null,{"$f":"IF(Table2[[#This Row],[भुगतान दिनाक]]=\"\",\"\",TEXT(Table2[[#This Row],[भुगतान दिनाक]],\"mmm\"))","v":""},{"$nulls":5},{"$f":"IF(PRODUCT(Table2[[#This Row],[मात्रा/संख्या]],Table2[[#This Row],[दर]])=0,\"\",PRODUCT(Table2[[#This Row],[मात्रा/संख्या]],Table2[[#This Row],[दर]]))","v":""}]
[null,{"$f":"IF(C485=\"\",\"\",ROWS($A$3:A485))","v":""},null,{"$f":"IF(Table2[[#This Row],[भुगतान दिनाक]]=\"\",\"\",TEXT(Table2[[#This Row],[भुगतान दिनाक]],\"mmm\"))","v":""},{"$nulls":5},{"$f":"IF(PRODUCT(Table2[[#This Row],[मात्रा/संख्या]],Table2[[#This Row],[दर]])=0,\"\",PRODUCT(Table2[[#This Row],[मात्रा/संख्या]],Table2[[#This Row],[दर]]))","v":""}]
[null,{"$f":"IF(C486=\"\",\"\",ROWS($A$3:A486))","v":""},null,{"$f":"IF(Table2[[#This Row],[भुगतान दिनाक]]=\"\",\"\",TEXT(Table2[[#This Row],[भुगतान दिनाक]],\"mmm\"))","v":""},{"$nulls":5},{"$f":"IF(PRODUCT(Table2[[#This Row],[मात्रा/संख्या]],Table2[[#This Row],[दर]])=0,\"\",PRODUCT(Table2[[#This Row],[मात्रा/संख्या]],Table2[[#This Row],[दर]]))","v":""}]
[null,{"$f":"IF(C487=\"\",\"\",ROWS($A$3:A487))","v":""},null,{"$f":"IF(Table2[[#This Row],[भुगतान दिनाक]]=\"\",\"\",TEXT(Table2[[#This Row],[भुगतान दिनाक]],\"mmm\"))","v":""},{"$nulls":5},{"$f":"IF(PRODUCT(Table2[[#This Row],[मात्रा/संख्या]],Table2[[#This Row],[दर]])=0,\"\",PRODUCT(Table2[[#This Row],[मात्रा/संख्या]],Table2[[#This Row],[दर]]))","v":""}]
[null,{"$f":"IF(C488=\"\",\"\",ROWS($A$3:A488))","v":""},null,{"$f":"IF(Table2[[#This Row],[भुगतान दिनाक]]=\"\",\"\",TEXT(Table2[[#This Row],[भुगतान दिनाक]],\"mmm\"))","v":""},{"$nulls":5},{"$f":"IF(PRODUCT(Table2[[#This Row],[मात्रा/संख्या]],Table2[[#This Row],[दर]])=0,\"\",PRODUCT(Table2[[#This Row],[मात्रा/संख्या]],Table2[[#This Row],[दर]]))","v":""}]
[null,{"$f":"IF(C489=\"\",\"\",ROWS($A$3:A489))","v":""},null,{"$f":"IF(Table2[[#This Row],[भुगतान दिनाक]]=\"\",\"\",TEXT(Table2[[#This Row],[भुगतान दिनाक]],\"mmm\"))","v":""},{"$nulls":5},{"$f":"IF(PRODUCT(Table2[[#This Row],[मात्रा/संख्या]],Table2[[#This Row],[दर]])=0,\"\",PRODUCT(Table2[[#This Row],[मात्रा/संख्या]],Table2[[#This Row],[दर]]))","v":""}]
[null,{"$f":"IF(C490=\"\",\"\",ROWS($A$3:A490))","v":""},null,{"$f":"IF(Table2[[#This Row],[भुगतान दिनाक]]=\"\",\"\",TEXT(Table2[[#This Row],[भुगतान दिनाक]],\"mmm\"))","v":""},{"$nulls":5},{"$f":"IF(PRODUCT(Table2[[#This Row],[मात्रा/संख्या]],Table2[[#This Row],[दर]])=0,\"\",PRODUCT(Table2[[#This Row],[मात्रा/संख्या]],Table2[[#This Row],[दर]]))","v":""}]
[null,{"$f":"IF(C491=\"\",\"\",ROWS($A$3:A491))","v":""},null,{"$f":"IF(Table2[[#This Row],[भुगतान दिनाक]]=\"\",\"\",TEXT(Table2[[#This Row],[भुगतान दिनाक]],\"mmm\"))","v":""},{"$nulls":5},{"$f":"IF(PRODUCT(Table2[[#This Row],[मात्रा/संख्या]],Table2[[#This Row],[दर]])=0,\"\",PRODUCT(Table2[[#This Row],[मात्रा/संख्या]],Table2[[#This Row],[दर]]))","v":""}]
[null,{"$f":"IF(C492=\"\",\"\",ROWS($A$3:A492))","v":""},null,{"$f":"IF(Table2[[#This Row],[भुगतान दिनाक]]=\"\",\"\",TEXT(Table2[[#This Row],[भुगतान दिनाक]],\"mmm\"))","v":""},{"$nulls":5},{"$f":"IF(PRODUCT(Table2[[#This Row],[मात्रा/संख्या]],Table2[[#This Row],[दर]])=0,\"\",PRODUCT(Table2[[#This Row],[मात्रा/संख्या]],Table2[[#This Row],[दर]]))","v":""}]
[null,{"$f":"IF(C493=\"\",\"\",ROWS($A$3:A493))","v":""},null,{"$f":"IF(Table2[[#This Row],[भुगतान दिनाक]]=\"\",\"\",TEXT(Table2[[#This Row],[भुगतान दिनाक]],\"mmm\"))","v":""},{"$nulls":5},{"$f":"IF(PRODUCT(Table2[[#This Row],[मात्रा/संख्या]],Table2[[#This Row],[दर]])=0,\"\",PRODUCT(Table2[[#This Row],[मात्रा/संख्या]],Table2[[#This Row],[दर]]))","v":""}]
[null,{"$f":"IF(C494=\"\",\"\",ROWS($A$3:A494))","v":""},null,{"$f":"IF(Table2[[#This Row],[भुगतान दिनाक]]=\"\",\"\",TEXT(Table2[[#This Row],[भुगतान दिनाक]],\"mmm\"))","v":""},{"$nulls":5},{"$f":"IF(PRODUCT(Table2[[#This Row],[मात्रा/संख्या]],Table2[[#This Row],[दर]])=0,\"\",PRODUCT(Table2[[#This Row],[मात्रा/संख्या]],Table2[[#This Row],[दर]]))","v":""}]
[null,{"$f":"IF(C495=\"\",\"\",ROWS($A$3:A495))","v":""},null,{"$f":"IF(Table2[[#This Row],[भुगतान दिनाक]]=\"\",\"\",TEXT(Table2[[#This Row],[भुगतान दिनाक]],\"mmm\"))","v":""},{"$nulls":5},{"$f":"IF(PRODUCT(Table2[[#This Row],[मात्रा/संख्या]],Table2[[#This Row],[दर]])=0,\"\",PRODUCT(Table2[[#This Row],[मात्रा/संख्या]],Table2[[#This Row],[दर]]))","v":""}]
[null,{"$f":"IF(C496=\"\",\"\",ROWS($A$3:A496))","v":""},null,{"$f":"IF(Table2[[#This Row],[भुगतान दिनाक]]=\"\",\"\",TEXT(Table2[[#This Row],[भुगतान दिनाक]],\"mmm\"))","v":""},{"$nulls":5},{"$f":"IF(PRODUCT(Table2[[#This Row],[मात्रा/संख्या]],Table2[[#This Row],[दर]])=0,\"\",PRODUCT(Table2[[#This Row],[मात्रा/संख्या]],Table2[[#This Row],[दर]]))","v":""}]
[null,{"$f":"IF(C497=\"\",\"\",ROWS($A$3:A497))","v":""},null,{"$f":"IF(Table2[[#This Row],[भुगतान दिनाक]]=\"\",\"\",TEXT(Table2[[#This Row],[भुगतान दिनाक]],\"mmm\"))","v":""},{"$nulls":5},{"$f":"IF(PRODUCT(Table2[[#This Row],[मात्रा/संख्या]],Table2[[#This Row],[दर]])=0,\"\",PRODUCT(Table2[[#This Row],[मात्रा/संख्या]],Table2[[#This Row],[दर]]))","v":""}]
[null,{"$f":"IF(C498=\"\",\"\",ROWS($A$3:A498))","v":""},null,{"$f":"IF(Table2[[#This Row],[भुगतान दिनाक]]=\"\",\"\",TEXT(Table2[[#This Row],[भुगतान दिनाक]],\"mmm\"))","v":""},{"$nulls":5},{"$f":"IF(PRODUCT(Table2[[#This Row],[मात्रा/संख्या]],Table2[[#This Row],[दर]])=0,\"\",PRODUCT(Table2[[#This Row],[मात्रा/संख्या]],Table2[[#This Row],[दर]]))","v":""}]
[null,{"$f":"IF(C499=\"\",\"\",ROWS($A$3:A499))","v":""},null,{"$f":"IF(Table2[[#This Row],[भुगतान दिनाक]]=\"\",\"\",TEXT(Table2[[#This Row],[भुगतान दिनाक]],\"mmm\"))","v":""},{"$nulls":5},{"$f":"IF(PRODUCT(Table2[[#This Row],[मात्रा/संख्या]],Table2[[#This Row],[दर]])=0,\"\",PRODUCT(Table2[[#This Row],[मात्रा/संख्या]],Table2[[#This Row],[दर]]))","v":""}]
[null,{"$f":"IF(C500=\"\",\"\",ROWS($A$3:A500))","v":""},null,{"$f":"IF(Table2[[#This Row],[भुगतान दिनाक]]=\"\",\"\",TEXT(Table2[[#This Row],[भुगतान दिनाक]],\"mmm\"))","v":""},{"$nulls":5},{"$f":"IF(PRODUCT(Table2[[#This Row],[मात्रा/संख्या]],Table2[[#This Row],[दर]])=0,\"\",PRODUCT(Table2[[#This Row],[मात्रा/संख्या]],Table2[[#This Row],[दर]]))","v":""}]
[null,{"$f":"IF(C501=\"\",\"\",ROWS($A$3:A501))","v":""},null,{"$f":"IF(Table2[[#This Row],[भुगतान दिनाक]]=\"\",\"\",TEXT(Table2[[#This Row],[भुगतान दिनाक]],\"mmm\"))","v":""},{"$nulls":5},{"$f":"IF(PRODUCT(Table2[[#This Row],[मात्रा/संख्या]],Table2[[#This Row],[दर]])=0,\"\",PRODUCT(Table2[[#This Row],[मात्रा/संख्या]],Table2[[#This Row],[दर]]))","v":""}]
[null,{"$f":"IF(C502=\"\",\"\",ROWS($A$3:A502))","v":""},null,{"$f":"IF(Table2[[#This Row],[भुगतान दिनाक]]=\"\",\"\",TEXT(Table2[[#This Row],[भुगतान दिनाक]],\"mmm\"))","v":""},{"$nulls":5},{"$f":"IF(PRODUCT(Table2[[#This Row],[मात्रा/संख्या]],Table2[[#This Row],[दर]])=0,\"\",PRODUCT(Table2[[#This Row],[मात्रा/संख्या]],Table2[[#This Row],[दर]]))","v":""}]
[null,{"$f":"IF(C503=\"\",\"\",ROWS($A$3:A503))","v":""},null,{"$f":"IF(Table2[[#This Row],[भुगतान दिनाक]]=\"\",\"\",TEXT(Table2[[#This Row],[भुगतान दिनाक]],\"mmm\"))","v":""},{"$nulls":5},{"$f":"IF(PRODUCT(Table2[[#This Row],[मात्रा/संख्या]],Table2[[#This Row],[दर]])=0,\"\",PRODUCT(Table2[[#This Row],[मात्रा/संख्या]],Table2[[#This Row],[दर]]))","v":""}]
[null,{"$f":"IF(C504=\"\",\"\",ROWS($A$3:A504))","v":""},null,{"$f":"IF(Table2[[#This Row],[भुगतान दिनाक]]=\"\",\"\",TEXT(Table2[[#This Row],[भुगतान दिनाक]],\"mmm\"))","v":""},{"$nulls":5},{"$f":"IF(PRODUCT(Table2[[#This Row],[मात्रा/संख्या]],Table2[[#This Row],[दर]])=0,\"\",PRODUCT(Table2[[#This Row],[मात्रा/संख्या]],Table2[[#This Row],[दर]]))","v":""}]
[null,{"$f":"IF(C505=\"\",\"\",ROWS($A$3:A505))","v":""},null,{"$f":"IF(Table2[[#This Row],[भुगतान दिनाक]]=\"\",\"\",TEXT(Table2[[#This Row],[भुगतान दिनाक]],\"mmm\"))","v":""},{"$nulls":5},{"$f":"IF(PRODUCT(Table2[[#This Row],[मात्रा/संख्या]],Table2[[#This Row],[दर]])=0,\"\",PRODUCT(Table2[[#This Row],[मात्रा/संख्या]],Table2[[#This Row],[दर]]))","v":""}]
[null,{"$f":"IF(C506=\"\",\"\",ROWS($A$3:A506))","v":""},null,{"$f":"IF(Table2[[#This Row],[भुगतान दिनाक]]=\"\",\"\",TEXT(Table2[[#This Row],[भुगतान दिनाक]],\"mmm\"))","v":""},{"$nulls":5},{"$f":"IF(PRODUCT(Table2[[#This Row],[मात्रा/संख्या]],Table2[[#This Row],[दर]])=0,\"\",PRODUCT(Table2[[#This Row],[मात्रा/संख्या]],Table2[[#This Row],[दर]]))","v":""}]
[null,{"$f":"IF(C507=\"\",\"\",ROWS($A$3:A507))","v":""},null,{"$f":"IF(Table2[[#This Row],[भुगतान दिनाक]]=\"\",\"\",TEXT(Table2[[#This Row],[भुगतान दिनाक]],\"mmm\"))","v":""},{"$nulls":5},{"$f":"IF(PRODUCT(Table2[[#This Row],[मात्रा/संख्या]],Table2[[#This Row],[दर]])=0,\"\",PRODUCT(Table2[[#This Row],[मात्रा/संख्या]],Table2[[#This Row],[दर]]))","v":""}]
[null,{"$f":"IF(C508=\"\",\"\",ROWS($A$3:A508))","v":""},null,{"$f":"IF(Table2[[#This Row],[भुगतान दिनाक]]=\"\",\"\",TEXT(Table2[[#This Row],[भुगतान दिनाक]],\"mmm\"))","v":""},{"$nulls":5},{"$f":"IF(PRODUCT(Table2[[#This Row],[मात्रा/संख्या]],Table2[[#This Row],[दर]])=0,\"\",PRODUCT(Table2[[#This Row],[मात्रा/संख्या]],Table2[[#This Row],[दर]]))","v":""}]
[null,{"$f":"IF(C509=\"\",\"\",ROWS($A$3:A509))","v":""},null,{"$f":"IF(Table2[[#This Row],[भुगतान दिनाक]]=\"\",\"\",TEXT(Table2[[#This Row],[भुगतान दिनाक]],\"mmm\"))","v":""},{"$nulls":5},{"$f":"IF(PRODUCT(Table2[[#This Row],[मात्रा/संख्या]],Table2[[#This Row],[दर]])=0,\"\",PRODUCT(Table2[[#This Row],[मात्रा/संख्या]],Table2[[#This Row],[दर]]))","v":""}]
[null,{"$f":"IF(C510=\"\",\"\",ROWS($A$3:A510))","v":""},null,{"$f":"IF(Table2[[#This Row],[भुगतान दिनाक]]=\"\",\"\",TEXT(Table2[[#This Row],[भुगतान दिनाक]],\"mmm\"))","v":""},{"$nulls":5},{"$f":"IF(PRODUCT(Table2[[#This Row],[मात्रा/संख्या]],Table2[[#This Row],[दर]])=0,\"\",PRODUCT(Table2[[#This Row],[मात्रा/संख्या]],Table2[[#This Row],[दर]]))","v":""}]
[null,{"$f":"IF(C511=\"\",\"\",ROWS($A$3:A511))","v":""},null,{"$f":"IF(Table2[[#This Row],[भुगतान दिनाक]]=\"\",\"\",TEXT(Table2[[#This Row],[भुगतान दिनाक]],\"mmm\"))","v":""},{"$nulls":5},{"$f":"IF(PRODUCT(Table2[[#This Row],[मात्रा/संख्या]],Table2[[#This Row],[दर]])=0,\"\",PRODUCT(Table2[[#This Row],[मात्रा/संख्या]],Table2[[#This Row],[दर]]))","v":""}]
[null,{"$f":"IF(C512=\"\",\"\",ROWS($A$3:A512))","v":""},null,{"$f":"IF(Table2[[#This Row],[भुगतान दिनाक]]=\"\",\"\",TEXT(Table2[[#This Row],[भुगतान दिनाक]],\"mmm\"))","v":""},{"$nulls":5},{"$f":"IF(PRODUCT(Table2[[#This Row],[मात्रा/संख्या]],Table2[[#This Row],[दर]])=0,\"\",PRODUCT(Table2[[#This Row],[मात्रा/संख्या]],Table2[[#This Row],[दर]]))","v":""}]
[null,{"$f":"IF(C513=\"\",\"\",ROWS($A$3:A513))","v":""},null,{"$f":"IF(Table2[[#This Row],[भुगतान दिनाक]]=\"\",\"\",TEXT(Table2[[#This Row],[भुगतान दिनाक]],\"mmm\"))","v":""},{"$nulls":5},{"$f":"IF(PRODUCT(Table2[[#This Row],[मात्रा/संख्या]],Table2[[#This Row],[दर]])=0,\"\",PRODUCT(Table2[[#This Row],[मात्रा/संख्या]],Table2[[#This Row],[दर]]))","v":""}]
[null,{"$f":"IF(C514=\"\",\"\",ROWS($A$3:A514))","v":""},null,{"$f":"IF(Table2[[#This Row],[भुगतान दिनाक]]=\"\",\"\",TEXT(Table2[[#This Row],[भुगतान दिनाक]],\"mmm\"))","v":""},{"$nulls":5},{"$f":"IF(PRODUCT(Table2[[#This Row],[मात्रा/संख्या]],Table2[[#This Row],[दर]])=0,\"\",PRODUCT(Table2[[#This Row],[मात्रा/संख्या]],Table2[[#This Row],[दर]]))","v":""}]
[null,{"$f":"IF(C515=\"\",\"\",ROWS($A$3:A515))","v":""},null,{"$f":"IF(Table2[[#This Row],[भुगतान दिनाक]]=\"\",\"\",TEXT(Table2[[#This Row],[भुगतान दिनाक]],\"mmm\"))","v":""},{"$nulls":5},{"$f":"IF(PRODUCT(Table2[[#This Row],[मात्रा/संख्या]],Table2[[#This Row],[दर]])=0,\"\",PRODUCT(Table2[[#This Row],[मात्रा/संख्या]],Table2[[#This Row],[दर]]))","v":""}]
[null,{"$f":"IF(C516=\"\",\"\",ROWS($A$3:A516))","v":""},null,{"$f":"IF(Table2[[#This Row],[भुगतान दिनाक]]=\"\",\"\",TEXT(Table2[[#This Row],[भुगतान दिनाक]],\"mmm\"))","v":""},{"$nulls":5},{"$f":"IF(PRODUCT(Table2[[#This Row],[मात्रा/संख्या]],Table2[[#This Row],[दर]])=0,\"\",PRODUCT(Table2[[#This Row],[मात्रा/संख्या]],Table2[[#This Row],[दर]]))","v":""}]
[null,{"$f":"IF(C517=\"\",\"\",ROWS($A$3:A517))","v":""},null,{"$f":"IF(Table2[[#This Row],[भुगतान दिनाक]]=\"\",\"\",TEXT(Table2[[#This Row],[भुगतान दिनाक]],\"mmm\"))","v":""},{"$nulls":5},{"$f":"IF(PRODUCT(Table2[[#This Row],[मात्रा/संख्या]],Table2[[#This Row],[दर]])=0,\"\",PRODUCT(Table2[[#This Row],[मात्रा/संख्या]],Table2[[#This Row],[दर]]))","v":""}]
[null,{"$f":"IF(C518=\"\",\"\",ROWS($A$3:A518))","v":""},null,{"$f":"IF(Table2[[#This Row],[भुगतान दिनाक]]=\"\",\"\",TEXT(Table2[[#This Row],[भुगतान दिनाक]],\"mmm\"))","v":""},{"$nulls":5},{"$f":"IF(PRODUCT(Table2[[#This Row],[मात्रा/संख्या]],Table2[[#This Row],[दर]])=0,\"\",PRODUCT(Table2[[#This Row],[मात्रा/संख्या]],Table2[[#This Row],[दर]]))","v":""}]
[null,{"$f":"IF(C519=\"\",\"\",ROWS($A$3:A519))","v":""},null,{"$f":"IF(Table2[[#This Row],[भुगतान दिनाक]]=\"\",\"\",TEXT(Table2[[#This Row],[भुगतान दिनाक]],\"mmm\"))","v":""},{"$nulls":5},{"$f":"IF(PRODUCT(Table2[[#This Row],[मात्रा/संख्या]],Table2[[#This Row],[दर]])=0,\"\",PRODUCT(Table2[[#This Row],[मात्रा/संख्या]],Table2[[#This Row],[दर]]))","v":""}]
[null,{"$f":"IF(C520=\"\",\"\",ROWS($A$3:A520))","v":""},null,{"$f":"IF(Table2[[#This Row],[भुगतान दिनाक]]=\"\",\"\",TEXT(Table2[[#This Row],[भुगतान दिनाक]],\"mmm\"))","v":""},{"$nulls":5},{"$f":"IF(PRODUCT(Table2[[#This Row],[मात्रा/संख्या]],Table2[[#This Row],[दर]])=0,\"\",PRODUCT(Table2[[#This Row],[मात्रा/संख्या]],Table2[[#This Row],[दर]]))","v":""}]
[null,{"$f":"IF(C521=\"\",\"\",ROWS($A$3:A521))","v":""},null,{"$f":"IF(Table2[[#This Row],[भुगतान दिनाक]]=\"\",\"\",TEXT(Table2[[#This Row],[भुगतान दिनाक]],\"mmm\"))","v":""},{"$nulls":5},{"$f":"IF(PRODUCT(Table2[[#This Row],[मात्रा/संख्या]],Table2[[#This Row],[दर]])=0,\"\",PRODUCT(Table2[[#This Row],[मात्रा/संख्या]],Table2[[#This Row],[दर]]))","v":""}]
[null,{"$f":"IF(C522=\"\",\"\",ROWS($A$3:A522))","v":""},null,{"$f":"IF(Table2[[#This Row],[भुगतान दिनाक]]=\"\",\"\",TEXT(Table2[[#This Row],[भुगतान दिनाक]],\"mmm\"))","v":""},{"$nulls":5},{"$f":"IF(PRODUCT(Table2[[#This Row],[मात्रा/संख्या]],Table2[[#This Row],[दर]])=0,\"\",PRODUCT(Table2[[#This Row],[मात्रा/संख्या]],Table2[[#This Row],[दर]]))","v":""}]
[null,{"$f":"IF(C523=\"\",\"\",ROWS($A$3:A523))","v":""},null,{"$f":"IF(Table2[[#This Row],[भुगतान दिनाक]]=\"\",\"\",TEXT(Table2[[#This Row],[भुगतान दिनाक]],\"mmm\"))","v":""},{"$nulls":5},{"$f":"IF(PRODUCT(Table2[[#This Row],[मात्रा/संख्या]],Table2[[#This Row],[दर]])=0,\"\",PRODUCT(Table2[[#This Row],[मात्रा/संख्या]],Table2[[#This Row],[दर]]))","v":""}]
[null,{"$f":"IF(C524=\"\",\"\",ROWS($A$3:A524))","v":""},null,{"$f":"IF(Table2[[#This Row],[भुगतान दिनाक]]=\"\",\"\",TEXT(Table2[[#This Row],[भुगतान दिनाक]],\"mmm\"))","v":""},{"$nulls":5},{"$f":"IF(PRODUCT(Table2[[#This Row],[मात्रा/संख्या]],Table2[[#This Row],[दर]])=0,\"\",PRODUCT(Table2[[#This Row],[मात्रा/संख्या]],Table2[[#This Row],[दर]]))","v":""}]
[null,{"$f":"IF(C525=\"\",\"\",ROWS($A$3:A525))","v":""},null,{"$f":"IF(Table2[[#This Row],[भुगतान दिनाक]]=\"\",\"\",TEXT(Table2[[#This Row],[भुगतान दिनाक]],\"mmm\"))","v":""},{"$nulls":5},{"$f":"IF(PRODUCT(Table2[[#This Row],[मात्रा/संख्या]],Table2[[#This Row],[दर]])=0,\"\",PRODUCT(Table2[[#This Row],[मात्रा/संख्या]],Table2[[#This Row],[दर]]))","v":""}]
[null,{"$f":"IF(C526=\"\",\"\",ROWS($A$3:A526))","v":""},null,{"$f":"IF(Table2[[#This Row],[भुगतान दिनाक]]=\"\",\"\",TEXT(Table2[[#This Row],[भुगतान दिनाक]],\"mmm\"))","v":""},{"$nulls":5},{"$f":"IF(PRODUCT(Table2[[#This Row],[मात्रा/संख्या]],Table2[[#This Row],[दर]])=0,\"\",PRODUCT(Table2[[#This Row],[मात्रा/संख्या]],Table2[[#This Row],[दर]]))","v":""}]
[null,{"$f":"IF(C527=\"\",\"\",ROWS($A$3:A527))","v":""},null,{"$f":"IF(Table2[[#This Row],[भुगतान दिनाक]]=\"\",\"\",TEXT(Table2[[#This Row],[भुगतान दिनाक]],\"mmm\"))","v":""},{"$nulls":5},{"$f":"IF(PRODUCT(Table2[[#This Row],[मात्रा/संख्या]],Table2[[#This Row],[दर]])=0,\"\",PRODUCT(Table2[[#This Row],[मात्रा/संख्या]],Table2[[#This Row],[दर]]))","v":""}]
[null,{"$f":"IF(C528=\"\",\"\",ROWS($A$3:A528))","v":""},null,{"$f":"IF(Table2[[#This Row],[भुगतान दिनाक]]=\"\",\"\",TEXT(Table2[[#This Row],[भुगतान दिनाक]],\"mmm\"))","v":""},{"$nulls":5},{"$f":"IF(PRODUCT(Table2[[#This Row],[मात्रा/संख्या]],Table2[[#This Row],[दर]])=0,\"\",PRODUCT(Table2[[#This Row],[मात्रा/संख्या]],Table2[[#This Row],[दर]]))","v":""}]
[null,{"$f":"IF(C529=\"\",\"\",ROWS($A$3:A529))","v":""},null,{"$f":"IF(Table2[[#This Row],[भुगतान दिनाक]]=\"\",\"\",TEXT(Table2[[#This Row],[भुगतान दिनाक]],\"mmm\"))","v":""},{"$nulls":5},{"$f":"IF(PRODUCT(Table2[[#This Row],[मात्रा/संख्या]],Table2[[#This Row],[दर]])=0,\"\",PRODUCT(Table2[[#This Row],[मात्रा/संख्या]],Table2[[#This Row],[दर]]))","v":""}]
[null,{"$f":"IF(C530=\"\",\"\",ROWS($A$3:A530))","v":""},null,{"$f":"IF(Table2[[#This Row],[भुगतान दिनाक]]=\"\",\"\",TEXT(Table2[[#This Row],[भुगतान दिनाक]],\"mmm\"))","v":""},{"$nulls":5},{"$f":"IF(PRODUCT(Table2[[#This Row],[मात्रा/संख्या]],Table2[[#This Row],[दर]])=0,\"\",PRODUCT(Table2[[#This Row],[मात्रा/संख्या]],Table2[[#This Row],[दर]]))","v":""}]
[null,{"$f":"IF(C531=\"\",\"\",ROWS($A$3:A531))","v":""},null,{"$f":"IF(Table2[[#This Row],[भुगतान दिनाक]]=\"\",\"\",TEXT(Table2[[#This Row],[भुगतान दिनाक]],\"mmm\"))","v":""},{"$nulls":5},{"$f":"IF(PRODUCT(Table2[[#This Row],[मात्रा/संख्या]],Table2[[#This Row],[दर]])=0,\"\",PRODUCT(Table2[[#This Row],[मात्रा/संख्या]],Table2[[#This Row],[दर]]))","v":""}]
[null,{"$f":"IF(C532=\"\",\"\",ROWS($A$3:A532))","v":""},null,{"$f":"IF(Table2[[#This Row],[भुगतान दिनाक]]=\"\",\"\",TEXT(Table2[[#This Row],[भुगतान दिनाक]],\"mmm\"))","v":""},{"$nulls":5},{"$f":"IF(PRODUCT(Table2[[#This Row],[मात्रा/संख्या]],Table2[[#This Row],[दर]])=0,\"\",PRODUCT(Table2[[#This Row],[मात्रा/संख्या]],Table2[[#This Row],[दर]]))","v":""}]
[null,{"$f":"IF(C533=\"\",\"\",ROWS($A$3:A533))","v":""},null,{"$f":"IF(Table2[[#This Row],[भुगतान दिनाक]]=\"\",\"\",TEXT(Table2[[#This Row],[भुगतान दिनाक]],\"mmm\"))","v":""},{"$nulls":5},{"$f":"IF(PRODUCT(Table2[[#This Row],[मात्रा/संख्या]],Table2[[#This Row],[दर]])=0,\"\",PRODUCT(Table2[[#This Row],[मात्रा/संख्या]],Table2[[#This Row],[दर]]))","v":""}]
[null,{"$f":"IF(C534=\"\",\"\",ROWS($A$3:A534))","v":""},null,{"$f":"IF(Table2[[#This Row],[भुगतान दिनाक]]=\"\",\"\",TEXT(Table2[[#This Row],[भुगतान दिनाक]],\"mmm\"))","v":""},{"$nulls":5},{"$f":"IF(PRODUCT(Table2[[#This Row],[मात्रा/संख्या]],Table2[[#This Row],[दर]])=0,\"\",PRODUCT(Table2[[#This Row],[मात्रा/संख्या]],Table2[[#This Row],[दर]]))","v":""}]
[null,{"$f":"IF(C535=\"\",\"\",ROWS($A$3:A535))","v":""},null,{"$f":"IF(Table2[[#This Row],[भुगतान दिनाक]]=\"\",\"\",TEXT(Table2[[#This Row],[भुगतान दिनाक]],\"mmm\"))","v":""},{"$nulls":5},{"$f":"IF(PRODUCT(Table2[[#This Row],[मात्रा/संख्या]],Table2[[#This Row],[दर]])=0,\"\",PRODUCT(Table2[[#This Row],[मात्रा/संख्या]],Table2[[#This Row],[दर]]))","v":""}]
[null,{"$f":"IF(C536=\"\",\"\",ROWS($A$3:A536))","v":""},null,{"$f":"IF(Table2[[#This Row],[भुगतान दिनाक]]=\"\",\"\",TEXT(Table2[[#This Row],[भुगतान दिनाक]],\"mmm\"))","v":""},{"$nulls":5},{"$f":"IF(PRODUCT(Table2[[#This Row],[मात्रा/संख्या]],Table2[[#This Row],[दर]])=0,\"\",PRODUCT(Table2[[#This Row],[मात्रा/संख्या]],Table2[[#This Row],[दर]]))","v":""}]
[null,{"$f":"IF(C537=\"\",\"\",ROWS($A$3:A537))","v":""},null,{"$f":"IF(Table2[[#This Row],[भुगतान दिनाक]]=\"\",\"\",TEXT(Table2[[#This Row],[भुगतान दिनाक]],\"mmm\"))","v":""},{"$nulls":5},{"$f":"IF(PRODUCT(Table2[[#This Row],[मात्रा/संख्या]],Table2[[#This Row],[दर]])=0,\"\",PRODUCT(Table2[[#This Row],[मात्रा/संख्या]],Table2[[#This Row],[दर]]))","v":""}]
[null,{"$f":"IF(C538=\"\",\"\",ROWS($A$3:A538))","v":""},null,{"$f":"IF(Table2[[#This Row],[भुगतान दिनाक]]=\"\",\"\",TEXT(Table2[[#This Row],[भुगतान दिनाक]],\"mmm\"))","v":""},{"$nulls":5},{"$f":"IF(PRODUCT(Table2[[#This Row],[मात्रा/संख्या]],Table2[[#This Row],[दर]])=0,\"\",PRODUCT(Table2[[#This Row],[मात्रा/संख्या]],Table2[[#This Row],[दर]]))","v":""}]
[null,{"$f":"IF(C539=\"\",\"\",ROWS($A$3:A539))","v":""},null,{"$f":"IF(Table2[[#This Row],[भुगतान दिनाक]]=\"\",\"\",TEXT(Table2[[#This Row],[भुगतान दिनाक]],\"mmm\"))","v":""},{"$nulls":5},{"$f":"IF(PRODUCT(Table2[[#This Row],[मात्रा/संख्या]],Table2[[#This Row],[दर]])=0,\"\",PRODUCT(Table2[[#This Row],[मात्रा/संख्या]],Table2[[#This Row],[दर]]))","v":""}]
[null,{"$f":"IF(C540=\"\",\"\",ROWS($A$3:A540))","v":""},null,{"$f":"IF(Table2[[#This Row],[भुगतान दिनाक]]=\"\",\"\",TEXT(Table2[[#This Row],[भुगतान दिनाक]],\"mmm\"))","v":""},{"$nulls":5},{"$f":"IF(PRODUCT(Table2[[#This Row],[मात्रा/संख्या]],Table2[[#This Row],[दर]])=0,\"\",PRODUCT(Table2[[#This Row],[मात्रा/संख्या]],Table2[[#This Row],[दर]]))","v":""}]
[null,{"$f":"IF(C541=\"\",\"\",ROWS($A$3:A541))","v":""},null,{"$f":"IF(Table2[[#This Row],[भुगतान दिनाक]]=\"\",\"\",TEXT(Table2[[#This Row],[भुगतान दिनाक]],\"mmm\"))","v":""},{"$nulls":5},{"$f":"IF(PRODUCT(Table2[[#This Row],[मात्रा/संख्या]],Table2[[#This Row],[दर]])=0,\"\",PRODUCT(Table2[[#This Row],[मात्रा/संख्या]],Table2[[#This Row],[दर]]))","v":""}]
[null,{"$f":"IF(C542=\"\",\"\",ROWS($A$3:A542))","v":""},null,{"$f":"IF(Table2[[#This Row],[भुगतान दिनाक]]=\"\",\"\",TEXT(Table2[[#This Row],[भुगतान दिनाक]],\"mmm\"))","v":""},{"$nulls":5},{"$f":"IF(PRODUCT(Table2[[#This Row],[मात्रा/संख्या]],Table2[[#This Row],[दर]])=0,\"\",PRODUCT(Table2[[#This Row],[मात्रा/संख्या]],Table2[[#This Row],[दर]]))","v":""}]
[null,{"$f":"IF(C543=\"\",\"\",ROWS($A$3:A543))","v":""},null,{"$f":"IF(Table2[[#This Row],[भुगतान दिनाक]]=\"\",\"\",TEXT(Table2[[#This Row],[भुगतान दिनाक]],\"mmm\"))","v":""},{"$nulls":5},{"$f":"IF(PRODUCT(Table2[[#This Row],[मात्रा/संख्या]],Table2[[#This Row],[दर]])=0,\"\",PRODUCT(Table2[[#This Row],[मात्रा/संख्या]],Table2[[#This Row],[दर]]))","v":""}]
[null,{"$f":"IF(C544=\"\",\"\",ROWS($A$3:A544))","v":""},null,{"$f":"IF(Table2[[#This Row],[भुगतान दिनाक]]=\"\",\"\",TEXT(Table2[[#This Row],[भुगतान दिनाक]],\"mmm\"))","v":""},{"$nulls":5},{"$f":"IF(PRODUCT(Table2[[#This Row],[मात्रा/संख्या]],Table2[[#This Row],[दर]])=0,\"\",PRODUCT(Table2[[#This Row],[मात्रा/संख्या]],Table2[[#This Row],[दर]]))","v":""}]
[null,{"$f":"IF(C545=\"\",\"\",ROWS($A$3:A545))","v":""},null,{"$f":"IF(Table2[[#This Row],[भुगतान दिनाक]]=\"\",\"\",TEXT(Table2[[#This Row],[भुगतान दिनाक]],\"mmm\"))","v":""},{"$nulls":5},{"$f":"IF(PRODUCT(Table2[[#This Row],[मात्रा/संख्या]],Table2[[#This Row],[दर]])=0,\"\",PRODUCT(Table2[[#This Row],[मात्रा/संख्या]],Table2[[#This Row],[दर]]))","v":""}]
[null,{"$f":"IF(C546=\"\",\"\",ROWS($A$3:A546))","v":""},null,{"$f":"IF(Table2[[#This Row],[भुगतान दिनाक]]=\"\",\"\",TEXT(Table2[[#This Row],[भुगतान दिनाक]],\"mmm\"))","v":""},{"$nulls":5},{"$f":"IF(PRODUCT(Table2[[#This Row],[मात्रा/संख्या]],Table2[[#This Row],[दर]])=0,\"\",PRODUCT(Table2[[#This Row],[मात्रा/संख्या]],Table2[[#This Row],[दर]]))","v":""}]
[null,{"$f":"IF(C547=\"\",\"\",ROWS($A$3:A547))","v":""},null,{"$f":"IF(Table2[[#This Row],[भुगतान दिनाक]]=\"\",\"\",TEXT(Table2[[#This Row],[भुगतान दिनाक]],\"mmm\"))","v":""},{"$nulls":5},{"$f":"IF(PRODUCT(Table2[[#This Row],[मात्रा/संख्या]],Table2[[#This Row],[दर]])=0,\"\",PRODUCT(Table2[[#This Row],[मात्रा/संख्या]],Table2[[#This Row],[दर]]))","v":""}]
[null,{"$f":"IF(C548=\"\",\"\",ROWS($A$3:A548))","v":""},null,{"$f":"IF(Table2[[#This Row],[भुगतान दिनाक]]=\"\",\"\",TEXT(Table2[[#This Row],[भुगतान दिनाक]],\"mmm\"))","v":""},{"$nulls":5},{"$f":"IF(PRODUCT(Table2[[#This Row],[मात्रा/संख्या]],Table2[[#This Row],[दर]])=0,\"\",PRODUCT(Table2[[#This Row],[मात्रा/संख्या]],Table2[[#This Row],[दर]]))","v":""}]
[null,{"$f":"IF(C549=\"\",\"\",ROWS($A$3:A549))","v":""},null,{"$f":"IF(Table2[[#This Row],[भुगतान दिनाक]]=\"\",\"\",TEXT(Table2[[#This Row],[भुगतान दिनाक]],\"mmm\"))","v":""},{"$nulls":5},{"$f":"IF(PRODUCT(Table2[[#This Row],[मात्रा/संख्या]],Table2[[#This Row],[दर]])=0,\"\",PRODUCT(Table2[[#This Row],[मात्रा/संख्या]],Table2[[#This Row],[दर]]))","v":""}]
[null,{"$f":"IF(C550=\"\",\"\",ROWS($A$3:A550))","v":""},null,{"$f":"IF(Table2[[#This Row],[भुगतान दिनाक]]=\"\",\"\",TEXT(Table2[[#This Row],[भुगतान दिनाक]],\"mmm\"))","v":""},{"$nulls":5},{"$f":"IF(PRODUCT(Table2[[#This Row],[मात्रा/संख्या]],Table2[[#This Row],[दर]])=0,\"\",PRODUCT(Table2[[#This Row],[मात्रा/संख्या]],Table2[[#This Row],[दर]]))","v":""}]
[null,{"$f":"IF(C551=\"\",\"\",ROWS($A$3:A551))","v":""},null,{"$f":"IF(Table2[[#This Row],[भुगतान दिनाक]]=\"\",\"\",TEXT(Table2[[#This Row],[भुगतान दिनाक]],\"mmm\"))","v":""},{"$nulls":5},{"$f":"IF(PRODUCT(Table2[[#This Row],[मात्रा/संख्या]],Table2[[#This Row],[दर]])=0,\"\",PRODUCT(Table2[[#This Row],[मात्रा/संख्या]],Table2[[#This Row],[दर]]))","v":""}]
[null,{"$f":"IF(C552=\"\",\"\",ROWS($A$3:A552))","v":""},null,{"$f":"IF(Table2[[#This Row],[भुगतान दिनाक]]=\"\",\"\",TEXT(Table2[[#This Row],[भुगतान दिनाक]],\"mmm\"))","v":""},{"$nulls":5},{"$f":"IF(PRODUCT(Table2[[#This Row],[मात्रा/संख्या]],Table2[[#This Row],[दर]])=0,\"\",PRODUCT(Table2[[#This Row],[मात्रा/संख्या]],Table2[[#This Row],[दर]]))","v":""}]
[null,{"$f":"IF(C553=\"\",\"\",ROWS($A$3:A553))","v":""},null,{"$f":"IF(Table2[[#This Row],[भुगतान दिनाक]]=\"\",\"\",TEXT(Table2[[#This Row],[भुगतान दिनाक]],\"mmm\"))","v":""},{"$nulls":5},{"$f":"IF(PRODUCT(Table2[[#This Row],[मात्रा/संख्या]],Table2[[#This Row],[दर]])=0,\"\",PRODUCT(Table2[[#This Row],[मात्रा/संख्या]],Table2[[#This Row],[दर]]))","v":""}]
[null,{"$f":"IF(C554=\"\",\"\",ROWS($A$3:A554))","v":""},null,{"$f":"IF(Table2[[#This Row],[भुगतान दिनाक]]=\"\",\"\",TEXT(Table2[[#This Row],[भुगतान दिनाक]],\"mmm\"))","v":""},{"$nulls":5},{"$f":"IF(PRODUCT(Table2[[#This Row],[मात्रा/संख्या]],Table2[[#This Row],[दर]])=0,\"\",PRODUCT(Table2[[#This Row],[मात्रा/संख्या]],Table2[[#This Row],[दर]]))","v":""}]
[null,{"$f":"IF(C555=\"\",\"\",ROWS($A$3:A555))","v":""},null,{"$f":"IF(Table2[[#This Row],[भुगतान दिनाक]]=\"\",\"\",TEXT(Table2[[#This Row],[भुगतान दिनाक]],\"mmm\"))","v":""},{"$nulls":5},{"$f":"IF(PRODUCT(Table2[[#This Row],[मात्रा/संख्या]],Table2[[#This Row],[दर]])=0,\"\",PRODUCT(Table2[[#This Row],[मात्रा/संख्या]],Table2[[#This Row],[दर]]))","v":""}]
[null,{"$f":"IF(C556=\"\",\"\",ROWS($A$3:A556))","v":""},null,{"$f":"IF(Table2[[#This Row],[भुगतान दिनाक]]=\"\",\"\",TEXT(Table2[[#This Row],[भुगतान दिनाक]],\"mmm\"))","v":""},{"$nulls":5},{"$f":"IF(PRODUCT(Table2[[#This Row],[मात्रा/संख्या]],Table2[[#This Row],[दर]])=0,\"\",PRODUCT(Table2[[#This Row],[मात्रा/संख्या]],Table2[[#This Row],[दर]]))","v":""}]
[null,{"$f":"IF(C557=\"\",\"\",ROWS($A$3:A557))","v":""},null,{"$f":"IF(Table2[[#This Row],[भुगतान दिनाक]]=\"\",\"\",TEXT(Table2[[#This Row],[भुगतान दिनाक]],\"mmm\"))","v":""},{"$nulls":5},{"$f":"IF(PRODUCT(Table2[[#This Row],[मात्रा/संख्या]],Table2[[#This Row],[दर]])=0,\"\",PRODUCT(Table2[[#This Row],[मात्रा/संख्या]],Table2[[#This Row],[दर]]))","v":""}]
[null,{"$f":"IF(C558=\"\",\"\",ROWS($A$3:A558))","v":""},null,{"$f":"IF(Table2[[#This Row],[भुगतान दिनाक]]=\"\",\"\",TEXT(Table2[[#This Row],[भुगतान दिनाक]],\"mmm\"))","v":""},{"$nulls":5},{"$f":"IF(PRODUCT(Table2[[#This Row],[मात्रा/संख्या]],Table2[[#This Row],[दर]])=0,\"\",PRODUCT(Table2[[#This Row],[मात्रा/संख्या]],Table2[[#This Row],[दर]]))","v":""}]
[null,{"$f":"IF(C559=\"\",\"\",ROWS($A$3:A559))","v":""},null,{"$f":"IF(Table2[[#This Row],[भुगतान दिनाक]]=\"\",\"\",TEXT(Table2[[#This Row],[भुगतान दिनाक]],\"mmm\"))","v":""},{"$nulls":5},{"$f":"IF(PRODUCT(Table2[[#This Row],[मात्रा/संख्या]],Table2[[#This Row],[दर]])=0,\"\",PRODUCT(Table2[[#This Row],[मात्रा/संख्या]],Table2[[#This Row],[दर]]))","v":""}]
[null,{"$f":"IF(C560=\"\",\"\",ROWS($A$3:A560))","v":""},null,{"$f":"IF(Table2[[#This Row],[भुगतान दिनाक]]=\"\",\"\",TEXT(Table2[[#This Row],[भुगतान दिनाक]],\"mmm\"))","v":""},{"$nulls":5},{"$f":"IF(PRODUCT(Table2[[#This Row],[मात्रा/संख्या]],Table2[[#This Row],[दर]])=0,\"\",PRODUCT(Table2[[#This Row],[मात्रा/संख्या]],Table2[[#This Row],[दर]]))","v":""}]
[null,{"$f":"IF(C561=\"\",\"\",ROWS($A$3:A561))","v":""},null,{"$f":"IF(Table2[[#This Row],[भुगतान दिनाक]]=\"\",\"\",TEXT(Table2[[#This Row],[भुगतान दिनाक]],\"mmm\"))","v":""},{"$nulls":5},{"$f":"IF(PRODUCT(Table2[[#This Row],[मात्रा/संख्या]],Table2[[#This Row],[दर]])=0,\"\",PRODUCT(Table2[[#This Row],[मात्रा/संख्या]],Table2[[#This Row],[दर]]))","v":""}]
[null,{"$f":"IF(C562=\"\",\"\",ROWS($A$3:A562))","v":""},null,{"$f":"IF(Table2[[#This Row],[भुगतान दिनाक]]=\"\",\"\",TEXT(Table2[[#This Row],[भुगतान दिनाक]],\"mmm\"))","v":""},{"$nulls":5},{"$f":"IF(PRODUCT(Table2[[#This Row],[मात्रा/संख्या]],Table2[[#This Row],[दर]])=0,\"\",PRODUCT(Table2[[#This Row],[मात्रा/संख्या]],Table2[[#This Row],[दर]]))","v":""}]
[null,{"$f":"IF(C563=\"\",\"\",ROWS($A$3:A563))","v":""},null,{"$f":"IF(Table2[[#This Row],[भुगतान दिनाक]]=\"\",\"\",TEXT(Table2[[#This Row],[भुगतान दिनाक]],\"mmm\"))","v":""},{"$nulls":5},{"$f":"IF(PRODUCT(Table2[[#This Row],[मात्रा/संख्या]],Table2[[#This Row],[दर]])=0,\"\",PRODUCT(Table2[[#This Row],[मात्रा/संख्या]],Table2[[#This Row],[दर]]))","v":""}]
[null,{"$f":"IF(C564=\"\",\"\",ROWS($A$3:A564))","v":""},null,{"$f":"IF(Table2[[#This Row],[भुगतान दिनाक]]=\"\",\"\",TEXT(Table2[[#This Row],[भुगतान दिनाक]],\"mmm\"))","v":""},{"$nulls":5},{"$f":"IF(PRODUCT(Table2[[#This Row],[मात्रा/संख्या]],Table2[[#This Row],[दर]])=0,\"\",PRODUCT(Table2[[#This Row],[मात्रा/संख्या]],Table2[[#This Row],[दर]]))","v":""}]
[null,{"$f":"IF(C565=\"\",\"\",ROWS($A$3:A565))","v":""},null,{"$f":"IF(Table2[[#This Row],[भुगतान दिनाक]]=\"\",\"\",TEXT(Table2[[#This Row],[भुगतान दिनाक]],\"mmm\"))","v":""},{"$nulls":5},{"$f":"IF(PRODUCT(Table2[[#This Row],[मात्रा/संख्या]],Table2[[#This Row],[दर]])=0,\"\",PRODUCT(Table2[[#This Row],[मात्रा/संख्या]],Table2[[#This Row],[दर]]))","v":""}]
[null,{"$f":"IF(C566=\"\",\"\",ROWS($A$3:A566))","v":""},null,{"$f":"IF(Table2[[#This Row],[भुगतान दिनाक]]=\"\",\"\",TEXT(Table2[[#This Row],[भुगतान दिनाक]],\"mmm\"))","v":""},{"$nulls":5},{"$f":"IF(PRODUCT(Table2[[#This Row],[मात्रा/संख्या]],Table2[[#This Row],[दर]])=0,\"\",PRODUCT(Table2[[#This Row],[मात्रा/संख्या]],Table2[[#This Row],[दर]]))","v":""}]
[null,{"$f":"IF(C567=\"\",\"\",ROWS($A$3:A567))","v":""},null,{"$f":"IF(Table2[[#This Row],[भुगतान दिनाक]]=\"\",\"\",TEXT(Table2[[#This Row],[भुगतान दिनाक]],\"mmm\"))","v":""},{"$nulls":5},{"$f":"IF(PRODUCT(Table2[[#This Row],[मात्रा/संख्या]],Table2[[#This Row],[दर]])=0,\"\",PRODUCT(Table2[[#This Row],[मात्रा/संख्या]],Table2[[#This Row],[दर]]))","v":""}]
[null,{"$f":"IF(C568=\"\",\"\",ROWS($A$3:A568))","v":""},null,{"$f":"IF(Table2[[#This Row],[भुगतान दिनाक]]=\"\",\"\",TEXT(Table2[[#This Row],[भुगतान दिनाक]],\"mmm\"))","v":""},{"$nulls":5},{"$f":"IF(PRODUCT(Table2[[#This Row],[मात्रा/संख्या]],Table2[[#This Row],[दर]])=0,\"\",PRODUCT(Table2[[#This Row],[मात्रा/संख्या]],Table2[[#This Row],[दर]]))","v":""}]
[null,{"$f":"IF(C569=\"\",\"\",ROWS($A$3:A569))","v":""},null,{"$f":"IF(Table2[[#This Row],[भुगतान दिनाक]]=\"\",\"\",TEXT(Table2[[#This Row],[भुगतान दिनाक]],\"mmm\"))","v":""},{"$nulls":5},{"$f":"IF(PRODUCT(Table2[[#This Row],[मात्रा/संख्या]],Table2[[#This Row],[दर]])=0,\"\",PRODUCT(Table2[[#This Row],[मात्रा/संख्या]],Table2[[#This Row],[दर]]))","v":""}]
[null,{"$f":"IF(C570=\"\",\"\",ROWS($A$3:A570))","v":""},null,{"$f":"IF(Table2[[#This Row],[भुगतान दिनाक]]=\"\",\"\",TEXT(Table2[[#This Row],[भुगतान दिनाक]],\"mmm\"))","v":""},{"$nulls":5},{"$f":"IF(PRODUCT(Table2[[#This Row],[मात्रा/संख्या]],Table2[[#This Row],[दर]])=0,\"\",PRODUCT(Table2[[#This Row],[मात्रा/संख्या]],Table2[[#This Row],[दर]]))","v":""}]
[null,{"$f":"IF(C571=\"\",\"\",ROWS($A$3:A571))","v":""},null,{"$f":"IF(Table2[[#This Row],[भुगतान दिनाक]]=\"\",\"\",TEXT(Table2[[#This Row],[भुगतान दिनाक]],\"mmm\"))","v":""},{"$nulls":5},{"$f":"IF(PRODUCT(Table2[[#This Row],[मात्रा/संख्या]],Table2[[#This Row],[दर]])=0,\"\",PRODUCT(Table2[[#This Row],[मात्रा/संख्या]],Table2[[#This Row],[दर]]))","v":""}]
[null,{"$f":"IF(C572=\"\",\"\",ROWS($A$3:A572))","v":""},null,{"$f":"IF(Table2[[#This Row],[भुगतान दिनाक]]=\"\",\"\",TEXT(Table2[[#This Row],[भुगतान दिनाक]],\"mmm\"))","v":""},{"$nulls":5},{"$f":"IF(PRODUCT(Table2[[#This Row],[मात्रा/संख्या]],Table2[[#This Row],[दर]])=0,\"\",PRODUCT(Table2[[#This Row],[मात्रा/संख्या]],Table2[[#This Row],[दर]]))","v":""}]
[null,{"$f":"IF(C573=\"\",\"\",ROWS($A$3:A573))","v":""},null,{"$f":"IF(Table2[[#This Row],[भुगतान दिनाक]]=\"\",\"\",TEXT(Table2[[#This Row],[भुगतान दिनाक]],\"mmm\"))","v":""},{"$nulls":5},{"$f":"IF(PRODUCT(Table2[[#This Row],[मात्रा/संख्या]],Table2[[#This Row],[दर]])=0,\"\",PRODUCT(Table2[[#This Row],[मात्रा/संख्या]],Table2[[#This Row],[दर]]))","v":""}]
[null,{"$f":"IF(C574=\"\",\"\",ROWS($A$3:A574))","v":""},null,{"$f":"IF(Table2[[#This Row],[भुगतान दिनाक]]=\"\",\"\",TEXT(Table2[[#This Row],[भुगतान दिनाक]],\"mmm\"))","v":""},{"$nulls":5},{"$f":"IF(PRODUCT(Table2[[#This Row],[मात्रा/संख्या]],Table2[[#This Row],[दर]])=0,\"\",PRODUCT(Table2[[#This Row],[मात्रा/संख्या]],Table2[[#This Row],[दर]]))","v":""}]
[null,{"$f":"IF(C575=\"\",\"\",ROWS($A$3:A575))","v":""},null,{"$f":"IF(Table2[[#This Row],[भुगतान दिनाक]]=\"\",\"\",TEXT(Table2[[#This Row],[भुगतान दिनाक]],\"mmm\"))","v":""},{"$nulls":5},{"$f":"IF(PRODUCT(Table2[[#This Row],[मात्रा/संख्या]],Table2[[#This Row],[दर]])=0,\"\",PRODUCT(Table2[[#This Row],[मात्रा/संख्या]],Table2[[#This Row],[दर]]))","v":""}]
[null,{"$f":"IF(C576=\"\",\"\",ROWS($A$3:A576))","v":""},null,{"$f":"IF(Table2[[#This Row],[भुगतान दिनाक]]=\"\",\"\",TEXT(Table2[[#This Row],[भुगतान दिनाक]],\"mmm\"))","v":""},{"$nulls":5},{"$f":"IF(PRODUCT(Table2[[#This Row],[मात्रा/संख्या]],Table2[[#This Row],[दर]])=0,\"\",PRODUCT(Table2[[#This Row],[मात्रा/संख्या]],Table2[[#This Row],[दर]]))","v":""}]
[null,{"$f":"IF(C577=\"\",\"\",ROWS($A$3:A577))","v":""},null,{"$f":"IF(Table2[[#This Row],[भुगतान दिनाक]]=\"\",\"\",TEXT(Table2[[#This Row],[भुगतान दिनाक]],\"mmm\"))","v":""},{"$nulls":5},{"$f":"IF(PRODUCT(Table2[[#This Row],[मात्रा/संख्या]],Table2[[#This Row],[दर]])=0,\"\",PRODUCT(Table2[[#This Row],[मात्रा/संख्या]],Table2[[#This Row],[दर]]))","v":""}]
[null,{"$f":"IF(C578=\"\",\"\",ROWS($A$3:A578))","v":""},null,{"$f":"IF(Table2[[#This Row],[भुगतान दिनाक]]=\"\",\"\",TEXT(Table2[[#This Row],[भुगतान दिनाक]],\"mmm\"))","v":""},{"$nulls":5},{"$f":"IF(PRODUCT(Table2[[#This Row],[मात्रा/संख्या]],Table2[[#This Row],[दर]])=0,\"\",PRODUCT(Table2[[#This Row],[मात्रा/संख्या]],Table2[[#This Row],[दर]]))","v":""}]
[null,{"$f":"IF(C579=\"\",\"\",ROWS($A$3:A579))","v":""},null,{"$f":"IF(Table2[[#This Row],[भुगतान दिनाक]]=\"\",\"\",TEXT(Table2[[#This Row],[भुगतान दिनाक]],\"mmm\"))","v":""},{"$nulls":5},{"$f":"IF(PRODUCT(Table2[[#This Row],[मात्रा/संख्या]],Table2[[#This Row],[दर]])=0,\"\",PRODUCT(Table2[[#This Row],[मात्रा/संख्या]],Table2[[#This Row],[दर]]))","v":""}]
[null,{"$f":"IF(C580=\"\",\"\",ROWS($A$3:A580))","v":""},null,{"$f":"IF(Table2[[#This Row],[भुगतान दिनाक]]=\"\",\"\",TEXT(Table2[[#This Row],[भुगतान दिनाक]],\"mmm\"))","v":""},{"$nulls":5},{"$f":"IF(PRODUCT(Table2[[#This Row],[मात्रा/संख्या]],Table2[[#This Row],[दर]])=0,\"\",PRODUCT(Table2[[#This Row],[मात्रा/संख्या]],Table2[[#This Row],[दर]]))","v":""}]
[null,{"$f":"IF(C581=\"\",\"\",ROWS($A$3:A581))","v":""},null,{"$f":"IF(Table2[[#This Row],[भुगतान दिनाक]]=\"\",\"\",TEXT(Table2[[#This Row],[भुगतान दिनाक]],\"mmm\"))","v":""},{"$nulls":5},{"$f":"IF(PRODUCT(Table2[[#This Row],[मात्रा/संख्या]],Table2[[#This Row],[दर]])=0,\"\",PRODUCT(Table2[[#This Row],[मात्रा/संख्या]],Table2[[#This Row],[दर]]))","v":""}]
[null,{"$f":"IF(C582=\"\",\"\",ROWS($A$3:A582))","v":""},null,{"$f":"IF(Table2[[#This Row],[भुगतान दिनाक]]=\"\",\"\",TEXT(Table2[[#This Row],[भुगतान दिनाक]],\"mmm\"))","v":""},{"$nulls":5},{"$f":"IF(PRODUCT(Table2[[#This Row],[मात्रा/संख्या]],Table2[[#This Row],[दर]])=0,\"\",PRODUCT(Table2[[#This Row],[मात्रा/संख्या]],Table2[[#This Row],[दर]]))","v":""}]
[null,{"$f":"IF(C583=\"\",\"\",ROWS($A$3:A583))","v":""},null,{"$f":"IF(Table2[[#This Row],[भुगतान दिनाक]]=\"\",\"\",TEXT(Table2[[#This Row],[भुगतान दिनाक]],\"mmm\"))","v":""},{"$nulls":5},{"$f":"IF(PRODUCT(Table2[[#This Row],[मात्रा/संख्या]],Table2[[#This Row],[दर]])=0,\"\",PRODUCT(Table2[[#This Row],[मात्रा/संख्या]],Table2[[#This Row],[दर]]))","v":""}]
[null,{"$f":"IF(C584=\"\",\"\",ROWS($A$3:A584))","v":""},null,{"$f":"IF(Table2[[#This Row],[भुगतान दिनाक]]=\"\",\"\",TEXT(Table2[[#This Row],[भुगतान दिनाक]],\"mmm\"))","v":""},{"$nulls":5},{"$f":"IF(PRODUCT(Table2[[#This Row],[मात्रा/संख्या]],Table2[[#This Row],[दर]])=0,\"\",PRODUCT(Table2[[#This Row],[मात्रा/संख्या]],Table2[[#This Row],[दर]]))","v":""}]
[null,{"$f":"IF(C585=\"\",\"\",ROWS($A$3:A585))","v":""},null,{"$f":"IF(Table2[[#This Row],[भुगतान दिनाक]]=\"\",\"\",TEXT(Table2[[#This Row],[भुगतान दिनाक]],\"mmm\"))","v":""},{"$nulls":5},{"$f":"IF(PRODUCT(Table2[[#This Row],[मात्रा/संख्या]],Table2[[#This Row],[दर]])=0,\"\",PRODUCT(Table2[[#This Row],[मात्रा/संख्या]],Table2[[#This Row],[दर]]))","v":""}]
[null,{"$f":"IF(C586=\"\",\"\",ROWS($A$3:A586))","v":""},null,{"$f":"IF(Table2[[#This Row],[भुगतान दिनाक]]=\"\",\"\",TEXT(Table2[[#This Row],[भुगतान दिनाक]],\"mmm\"))","v":""},{"$nulls":5},{"$f":"IF(PRODUCT(Table2[[#This Row],[मात्रा/संख्या]],Table2[[#This Row],[दर]])=0,\"\",PRODUCT(Table2[[#This Row],[मात्रा/संख्या]],Table2[[#This Row],[दर]]))","v":""}]
[null,{"$f":"IF(C587=\"\",\"\",ROWS($A$3:A587))","v":""},null,{"$f":"IF(Table2[[#This Row],[भुगतान दिनाक]]=\"\",\"\",TEXT(Table2[[#This Row],[भुगतान दिनाक]],\"mmm\"))","v":""},{"$nulls":5},{"$f":"IF(PRODUCT(Table2[[#This Row],[मात्रा/संख्या]],Table2[[#This Row],[दर]])=0,\"\",PRODUCT(Table2[[#This Row],[मात्रा/संख्या]],Table2[[#This Row],[दर]]))","v":""}]
[null,{"$f":"IF(C588=\"\",\"\",ROWS($A$3:A588))","v":""},null,{"$f":"IF(Table2[[#This Row],[भुगतान दिनाक]]=\"\",\"\",TEXT(Table2[[#This Row],[भुगतान दिनाक]],\"mmm\"))","v":""},{"$nulls":5},{"$f":"IF(PRODUCT(Table2[[#This Row],[मात्रा/संख्या]],Table2[[#This Row],[दर]])=0,\"\",PRODUCT(Table2[[#This Row],[मात्रा/संख्या]],Table2[[#This Row],[दर]]))","v":""}]
[null,{"$f":"IF(C589=\"\",\"\",ROWS($A$3:A589))","v":""},null,{"$f":"IF(Table2[[#This Row],[भुगतान दिनाक]]=\"\",\"\",TEXT(Table2[[#This Row],[भुगतान दिनाक]],\"mmm\"))","v":""},{"$nulls":5},{"$f":"IF(PRODUCT(Table2[[#This Row],[मात्रा/संख्या]],Table2[[#This Row],[दर]])=0,\"\",PRODUCT(Table2[[#This Row],[मात्रा/संख्या]],Table2[[#This Row],[दर]]))","v":""}]
[null,{"$f":"IF(C590=\"\",\"\",ROWS($A$3:A590))","v":""},null,{"$f":"IF(Table2[[#This Row],[भुगतान दिनाक]]=\"\",\"\",TEXT(Table2[[#This Row],[भुगतान दिनाक]],\"mmm\"))","v":""},{"$nulls":5},{"$f":"IF(PRODUCT(Table2[[#This Row],[मात्रा/संख्या]],Table2[[#This Row],[दर]])=0,\"\",PRODUCT(Table2[[#This Row],[मात्रा/संख्या]],Table2[[#This Row],[दर]]))","v":""}]
[null,{"$f":"IF(C591=\"\",\"\",ROWS($A$3:A591))","v":""},null,{"$f":"IF(Table2[[#This Row],[भुगतान दिनाक]]=\"\",\"\",TEXT(Table2[[#This Row],[भुगतान दिनाक]],\"mmm\"))","v":""},{"$nulls":5},{"$f":"IF(PRODUCT(Table2[[#This Row],[मात्रा/संख्या]],Table2[[#This Row],[दर]])=0,\"\",PRODUCT(Table2[[#This Row],[मात्रा/संख्या]],Table2[[#This Row],[दर]]))","v":""}]
[null,{"$f":"IF(C592=\"\",\"\",ROWS($A$3:A592))","v":""},null,{"$f":"IF(Table2[[#This Row],[भुगतान दिनाक]]=\"\",\"\",TEXT(Table2[[#This Row],[भुगतान दिनाक]],\"mmm\"))","v":""},{"$nulls":5},{"$f":"IF(PRODUCT(Table2[[#This Row],[मात्रा/संख्या]],Table2[[#This Row],[दर]])=0,\"\",PRODUCT(Table2[[#This Row],[मात्रा/संख्या]],Table2[[#This Row],[दर]]))","v":""}]
[null,{"$f":"IF(C593=\"\",\"\",ROWS($A$3:A593))","v":""},null,{"$f":"IF(Table2[[#This Row],[भुगतान दिनाक]]=\"\",\"\",TEXT(Table2[[#This Row],[भुगतान दिनाक]],\"mmm\"))","v":""},{"$nulls":5},{"$f":"IF(PRODUCT(Table2[[#This Row],[मात्रा/संख्या]],Table2[[#This Row],[दर]])=0,\"\",PRODUCT(Table2[[#This Row],[मात्रा/संख्या]],Table2[[#This Row],[दर]]))","v":""}]
[null,{"$f":"IF(C594=\"\",\"\",ROWS($A$3:A594))","v":""},null,{"$f":"IF(Table2[[#This Row],[भुगतान दिनाक]]=\"\",\"\",TEXT(Table2[[#This Row],[भुगतान दिनाक]],\"mmm\"))","v":""},{"$nulls":5},{"$f":"IF(PRODUCT(Table2[[#This Row],[मात्रा/संख्या]],Table2[[#This Row],[दर]])=0,\"\",PRODUCT(Table2[[#This Row],[मात्रा/संख्या]],Table2[[#This Row],[दर]]))","v":""}]
[null,{"$f":"IF(C595=\"\",\"\",ROWS($A$3:A595))","v":""},null,{"$f":"IF(Table2[[#This Row],[भुगतान दिनाक]]=\"\",\"\",TEXT(Table2[[#This Row],[भुगतान दिनाक]],\"mmm\"))","v":""},{"$nulls":5},{"$f":"IF(PRODUCT(Table2[[#This Row],[मात्रा/संख्या]],Table2[[#This Row],[दर]])=0,\"\",PRODUCT(Table2[[#This Row],[मात्रा/संख्या]],Table2[[#This Row],[दर]]))","v":""}]
[null,{"$f":"IF(C596=\"\",\"\",ROWS($A$3:A596))","v":""},null,{"$f":"IF(Table2[[#This Row],[भुगतान दिनाक]]=\"\",\"\",TEXT(Table2[[#This Row],[भुगतान दिनाक]],\"mmm\"))","v":""},{"$nulls":5},{"$f":"IF(PRODUCT(Table2[[#This Row],[मात्रा/संख्या]],Table2[[#This Row],[दर]])=0,\"\",PRODUCT(Table2[[#This Row],[मात्रा/संख्या]],Table2[[#This Row],[दर]]))","v":""}]
[null,{"$f":"IF(C597=\"\",\"\",ROWS($A$3:A597))","v":""},null,{"$f":"IF(Table2[[#This Row],[भुगतान दिनाक]]=\"\",\"\",TEXT(Table2[[#This Row],[भुगतान दिनाक]],\"mmm\"))","v":""},{"$nulls":5},{"$f":"IF(PRODUCT(Table2[[#This Row],[मात्रा/संख्या]],Table2[[#This Row],[दर]])=0,\"\",PRODUCT(Table2[[#This Row],[मात्रा/संख्या]],Table2[[#This Row],[दर]]))","v":""}]
[null,{"$f":"IF(C598=\"\",\"\",ROWS($A$3:A598))","v":""},null,{"$f":"IF(Table2[[#This Row],[भुगतान दिनाक]]=\"\",\"\",TEXT(Table2[[#This Row],[भुगतान दिनाक]],\"mmm\"))","v":""},{"$nulls":5},{"$f":"IF(PRODUCT(Table2[[#This Row],[मात्रा/संख्या]],Table2[[#This Row],[दर]])=0,\"\",PRODUCT(Table2[[#This Row],[मात्रा/संख्या]],Table2[[#This Row],[दर]]))","v":""}]
[null,{"$f":"IF(C599=\"\",\"\",ROWS($A$3:A599))","v":""},null,{"$f":"IF(Table2[[#This Row],[भुगतान दिनाक]]=\"\",\"\",TEXT(Table2[[#This Row],[भुगतान दिनाक]],\"mmm\"))","v":""},{"$nulls":5},{"$f":"IF(PRODUCT(Table2[[#This Row],[मात्रा/संख्या]],Table2[[#This Row],[दर]])=0,\"\",PRODUCT(Table2[[#This Row],[मात्रा/संख्या]],Table2[[#This Row],[दर]]))","v":""}]
[null,{"$f":"IF(C600=\"\",\"\",ROWS($A$3:A600))","v":""},null,{"$f":"IF(Table2[[#This Row],[भुगतान दिनाक]]=\"\",\"\",TEXT(Table2[[#This Row],[भुगतान दिनाक]],\"mmm\"))","v":""},{"$nulls":5},{"$f":"IF(PRODUCT(Table2[[#This Row],[मात्रा/संख्या]],Table2[[#This Row],[दर]])=0,\"\",PRODUCT(Table2[[#This Row],[मात्रा/संख्या]],Table2[[#This Row],[दर]]))","v":""}]
[null,{"$f":"IF(C601=\"\",\"\",ROWS($A$3:A601))","v":""},null,{"$f":"IF(Table2[[#This Row],[भुगतान दिनाक]]=\"\",\"\",TEXT(Table2[[#This Row],[भुगतान दिनाक]],\"mmm\"))","v":""},{"$nulls":5},{"$f":"IF(PRODUCT(Table2[[#This Row],[मात्रा/संख्या]],Table2[[#This Row],[दर]])=0,\"\",PRODUCT(Table2[[#This Row],[मात्रा/संख्या]],Table2[[#This Row],[दर]]))","v":""}]
[null,{"$f":"IF(C602=\"\",\"\",ROWS($A$3:A602))","v":""},null,{"$f":"IF(Table2[[#This Row],[भुगतान दिनाक]]=\"\",\"\",TEXT(Table2[[#This Row],[भुगतान दिनाक]],\"mmm\"))","v":""},{"$nulls":5},{"$f":"IF(PRODUCT(Table2[[#This Row],[मात्रा/संख्या]],Table2[[#This Row],[दर]])=0,\"\",PRODUCT(Table2[[#This Row],[मात्रा/संख्या]],Table2[[#This Row],[दर]]))","v":""}]
[null,{"$f":"IF(C603=\"\",\"\",ROWS($A$3:A603))","v":""},null,{"$f":"IF(Table2[[#This Row],[भुगतान दिनाक]]=\"\",\"\",TEXT(Table2[[#This Row],[भुगतान दिनाक]],\"mmm\"))","v":""},{"$nulls":5},{"$f":"IF(PRODUCT(Table2[[#This Row],[मात्रा/संख्या]],Table2[[#This Row],[दर]])=0,\"\",PRODUCT(Table2[[#This Row],[मात्रा/संख्या]],Table2[[#This Row],[दर]]))","v":""}]
[null,{"$f":"IF(C604=\"\",\"\",ROWS($A$3:A604))","v":""},null,{"$f":"IF(Table2[[#This Row],[भुगतान दिनाक]]=\"\",\"\",TEXT(Table2[[#This Row],[भुगतान दिनाक]],\"mmm\"))","v":""},{"$nulls":5},{"$f":"IF(PRODUCT(Table2[[#This Row],[मात्रा/संख्या]],Table2[[#This Row],[दर]])=0,\"\",PRODUCT(Table2[[#This Row],[मात्रा/संख्या]],Table2[[#This Row],[दर]]))","v":""}]
[null,{"$f":"IF(C605=\"\",\"\",ROWS($A$3:A605))","v":""},null,{"$f":"IF(Table2[[#This Row],[भुगतान दिनाक]]=\"\",\"\",TEXT(Table2[[#This Row],[भुगतान दिनाक]],\"mmm\"))","v":""},{"$nulls":5},{"$f":"IF(PRODUCT(Table2[[#This Row],[मात्रा/संख्या]],Table2[[#This Row],[दर]])=0,\"\",PRODUCT(Table2[[#This Row],[मात्रा/संख्या]],Table2[[#This Row],[दर]]))","v":""}]
[null,{"$f":"IF(C606=\"\",\"\",ROWS($A$3:A606))","v":""},null,{"$f":"IF(Table2[[#This Row],[भुगतान दिनाक]]=\"\",\"\",TEXT(Table2[[#This Row],[भुगतान दिनाक]],\"mmm\"))","v":""},{"$nulls":5},{"$f":"IF(PRODUCT(Table2[[#This Row],[मात्रा/संख्या]],Table2[[#This Row],[दर]])=0,\"\",PRODUCT(Table2[[#This Row],[मात्रा/संख्या]],Table2[[#This Row],[दर]]))","v":""}]
[null,{"$f":"IF(C607=\"\",\"\",ROWS($A$3:A607))","v":""},null,{"$f":"IF(Table2[[#This Row],[भुगतान दिनाक]]=\"\",\"\",TEXT(Table2[[#This Row],[भुगतान दिनाक]],\"mmm\"))","v":""},{"$nulls":5},{"$f":"IF(PRODUCT(Table2[[#This Row],[मात्रा/संख्या]],Table2[[#This Row],[दर]])=0,\"\",PRODUCT(Table2[[#This Row],[मात्रा/संख्या]],Table2[[#This Row],[दर]]))","v":""}]
[null,{"$f":"IF(C608=\"\",\"\",ROWS($A$3:A608))","v":""},null,{"$f":"IF(Table2[[#This Row],[भुगतान दिनाक]]=\"\",\"\",TEXT(Table2[[#This Row],[भुगतान दिनाक]],\"mmm\"))","v":""},{"$nulls":5},{"$f":"IF(PRODUCT(Table2[[#This Row],[मात्रा/संख्या]],Table2[[#This Row],[दर]])=0,\"\",PRODUCT(Table2[[#This Row],[मात्रा/संख्या]],Table2[[#This Row],[दर]]))","v":""}]

{"sheet":"UC School Level","index":5,"n_rows":622,"n_cols":12,"rows_kept":622,"merged":[[0,0,0,11],[1,0,1,11],[2,0,2,11],[3,3,3,7],[3,9,3,11],[4,4,4,5],[4,9,4,11],[6,8,6,11],[7,5,7,6],[7,8,7,11],[8,1,8,2],[617,0,617,11],[620,0,620,3],[620,7,620,10],[621,0,621,3],[621,7,621,10]]}
[{"$f":"'School Intro'!A1","v":"jktdh; mPp ek/;fed fo|ky;] :iiqjk ¼dqpkeu flVh½ ukxkSj"}]
["कम्पोजिट स्कूल ग्रांट (Composite School Grant)"]
["उपयोगिता प्रमाण पत्र (विद्यालय स्तर)"]
["विद्यालय का नाम -",null,null,{"$f":"'School Intro'!A1","v":"jktdh; mPp ek/;fed fo|ky;] :iiqjk ¼dqpkeu flVh½ ukxkSj"},{"$nulls":4},"यू-डाईस कोड-",{"$f":"'School Intro'!C2","v":"08140912304"}]
["कम्पोजिट स्कूल ग्रांट (Composite School Grant) प्राप्त राशि",{"$nulls":3},{"$f":"'School Intro'!E10","v":{"v":75000,"d":"₹ 75,000.00"}},{"$nulls":3},"दिनाक",{"$f":"'School Intro'!D8","v":"2020-07-01"}]
[]
["      प्रमाणित किया जाता है की सत्र -",null,null,{"$f":"'School Intro'!H2","v":"2019-20"},"में प्राप्त कम्पोजिट स्कूल ग्रांट राशि रू.",null,null,{"$f":"'School Intro'!E10","v":{"v":75000,"d":"75000.00"}},"का उपयोग विद्यालय प्रबंधन समिति के द्वारा कर"]
[{"$f":"\"लिया गया है | शेष राशि (यदि कोई हो) रु.-         \"&\" \"&Expenditure!L1","v":"लिया गया है | शेष राशि (यदि कोई हो) रु.-          74100"},{"$nulls":3},"का चैक सं.-",null,null,"बैंक -",{"$f":"'School Intro'!C12","v":"स्टेट बैंक ऑफ़ इंडिया, कुचामन सिटी (नागौर)"}]
["शाखा-",{"$f":"'School Intro'!C13","v":"कुचामन सिटी"},null,"दिनाक-","द्वारा वापस भिजवाया जा रहा है |"]
["क्र.स.","माह का नाम","बिल संख्या व दिनाक","फर्म का नाम","नाम सामग्री","मात्रा/संख्या","दर","राशि (रूपये)","उपयोग का विवरण","भंडार पंजिका पृ.स."," में इन्द्राज दिनाक","वि.वि."]
[{"$f":"IF(Expenditure!B3=\"\",\"\",Expenditure!B3)","v":1},{"$f":"IF(Expenditure!C3=\"\",\"\",TEXT(Expenditure!C3,\"mmm\"))","v":"Apr"},{"$f":"IF(Expenditure!E3=\"\",\"\",Expenditure!E3)","v":"321/15-01-2020"},{"$f":"IF(Expenditure!F3=\"\",\"\",Expenditure!F3)","v":"Jh ';ke fiz.VlZ] dqpkeu flVh"},{"$f":"IF(Expenditure!G3=\"\",\"\",Expenditure!G3)","v":"QysDl"},{"$f":"IF(Expenditure!H3=\"\",\"\",Expenditure!H3)","v":2},{"$f":"IF(Expenditure!I3=\"\",\"\",Expenditure!I3)","v":200},{"$f":"IFERROR(F11*G11,\"\")","v":{"v":400,"d":"400.00"}},{"$f":"IF(Expenditure!K3=\"\",\"\",Expenditure!K3)","v":"laLFkkiu MkVk"},{"$f":"IF(Expenditure!L3=\"\",\"\",Expenditure!L3)","v":15},{"$f":"IF(Expenditure!M3=\"\",\"\",Expenditure!M3)","v":"2020-07-15"},"-"]
[{"$f":"IF(Expenditure!B4=\"\",\"\",Expenditure!B4)","v":2},{"$f":"IF(Expenditure!C4=\"\",\"\",TEXT(Expenditure!C4,\"mmm\"))","v":"May"},{"$f":"IF(Expenditure!E4=\"\",\"\",Expenditure!E4)","v":"321/15-01-2020"},{"$f":"IF(Expenditure!F4=\"\",\"\",Expenditure!F4)","v":"Jh ';ke fiz.VlZ] dqpkeu flVh"},{"$f":"IF(Expenditure!G4=\"\",\"\",Expenditure!G4)","v":"QysDl"},{"$f":"IF(Expenditure!H4=\"\",\"\",Expenditure!H4)","v":5},{"$f":"IF(Expenditure!I4=\"\",\"\",Expenditure!I4)","v":100},{"$f":"IFERROR(F12*G12,\"\")","v":{"v":500,"d":"500.00"}},{"$f":"IF(Expenditure!K4=\"\",\"\",Expenditure!K4)","v":"laLFkkiu MkVk"},{"$f":"IF(Expenditure!L4=\"\",\"\",Expenditure!L4)","v":15},{"$f":"IF(Expenditure!M4=\"\",\"\",Expenditure!M4)","v":"2020-07-15"},"-"]
[{"$f":"IF(Expenditure!B5=\"\",\"\",Expenditure!B5)","v":""},{"$f":"IF(Expenditure!C5=\"\",\"\",TEXT(Expenditure!C5,\"mmm\"))","v":""},{"$f":"IF(Expenditure!E5=\"\",\"\",Expenditure!E5)","v":""},{"$f":"IF(Expenditure!F5=\"\",\"\",Expenditure!F5)","v":""},{"$f":"IF(Expenditure!G5=\"\",\"\",Expenditure!G5)","v":""},{"$f":"IF(Expenditure!H5=\"\",\"\",Expenditure!H5)","v":""},{"$f":"IF(Expenditure!I5=\"\",\"\",Expenditure!I5)","v":""},"",{"$f":"IF(Expenditure!K5=\"\",\"\",Expenditure!K5)","v":""},{"$f":"IF(Expenditure!L5=\"\",\"\",Expenditure!L5)","v":""},{"$f":"IF(Expenditure!M5=\"\",\"\",Expenditure!M5)","v":""},"-"]
[{"$f":"IF(Expenditure!B6=\"\",\"\",Expenditure!B6)","v":""},{"$f":"IF(Expenditure!C6=\"\",\"\",TEXT(Expenditure!C6,\"mmm\"))","v":""},{"$f":"IF(Expenditure!E6=\"\",\"\",Expenditure!E6)","v":""},{"$f":"IF(Expenditure!F6=\"\",\"\",Expenditure!F6)","v":""},{"$f":"IF(Expenditure!G6=\"\",\"\",Expenditure!G6)","v":""},{"$f":"IF(Expenditure!H6=\"\",\"\",Expenditure!H6)","v":""},{"$f":"IF(Expenditure!I6=\"\",\"\",Expenditure!I6)","v":""},"",{"$f":"IF(Expenditure!K6=\"\",\"\",Expenditure!K6)","v":""},{"$f":"IF(Expenditure!L6=\"\",\"\",Expenditure!L6)","v":""},{"$f":"IF(Expenditure!M6=\"\",\"\",Expenditure!M6)","v":""},"-"]
[{"$f":"IF(Expenditure!B7=\"\",\"\",Expenditure!B7)","v":""},{"$f":"IF(Expenditure!C7=\"\",\"\",TEXT(Expenditure!C7,\"mmm\"))","v":""},{"$f":"IF(Expenditure!E7=\"\",\"\",Expenditure!E7)","v":""},{"$f":"IF(Expenditure!F7=\"\",\"\",Expenditure!F7)","v":""},{"$f":"IF(Expenditure!G7=\"\",\"\",Expenditure!G7)","v":""},{"$f":"IF(Expenditure!H7=\"\",\"\",Expenditure!H7)","v":""},{"$f":"IF(Expenditure!I7=\"\",\"\",Expenditure!I7)","v":""},"",{"$f":"IF(Expenditure!K7=\"\",\"\",Expenditure!K7)","v":""},{"$f":"IF(Expenditure!L7=\"\",\"\",Expenditure!L7)","v":""},{"$f":"IF(Expenditure!M7=\"\",\"\",Expenditure!M7)","v":""},"-"]
[{"$f":"IF(Expenditure!B8=\"\",\"\",Expenditure!B8)","v":""},{"$f":"IF(Expenditure!C8=\"\",\"\",TEXT(Expenditure!C8,\"mmm\"))","v":""},{"$f":"IF(Expenditure!E8=\"\",\"\",Expenditure!E8)","v":""},{"$f":"IF(Expenditure!F8=\"\",\"\",Expenditure!F8)","v":""},{"$f":"IF(Expenditure!G8=\"\",\"\",Expenditure!G8)","v":""},{"$f":"IF(Expenditure!H8=\"\",\"\",Expenditure!H8)","v":""},{"$f":"IF(Expenditure!I8=\"\",\"\",Expenditure!I8)","v":""},"",{"$f":"IF(Expenditure!K8=\"\",\"\",Expenditure!K8)","v":""},{"$f":"IF(Expenditure!L8=\"\",\"\",Expenditure!L8)","v":""},{"$f":"IF(Expenditure!M8=\"\",\"\",Expenditure!M8)","v":""},"-"]
[{"$f":"IF(Expenditure!B9=\"\",\"\",Expenditure!B9)","v":""},{"$f":"IF(Expenditure!C9=\"\",\"\",TEXT(Expenditure!C9,\"mmm\"))","v":""},{"$f":"IF(Expenditure!E9=\"\",\"\",Expenditure!E9)","v":""},{"$f":"IF(Expenditure!F9=\"\",\"\",Expenditure!F9)","v":""},{"$f":"IF(Expenditure!G9=\"\",\"\",Expenditure!G9)","v":""},{"$f":"IF(Expenditure!H9=\"\",\"\",Expenditure!H9)","v":""},{"$f":"IF(Expenditure!I9=\"\",\"\",Expenditure!I9)","v":""},"",{"$f":"IF(Expenditure!K9=\"\",\"\",Expenditure!K9)","v":""},{"$f":"IF(Expenditure!L9=\"\",\"\",Expenditure!L9)","v":""},{"$f":"IF(Expenditure!M9=\"\",\"\",Expenditure!M9)","v":""},"-"]
[{"$f":"IF(Expenditure!B10=\"\",\"\",Expenditure!B10)","v":""},{"$f":"IF(Expenditure!C10=\"\",\"\",TEXT(Expenditure!C10,\"mmm\"))","v":""},{"$f":"IF(Expenditure!E10=\"\",\"\",Expenditure!E10)","v":""},{"$f":"IF(Expenditure!F10=\"\",\"\",Expenditure!F10)","v":""},{"$f":"IF(Expenditure!G10=\"\",\"\",Expenditure!G10)","v":""},{"$f":"IF(Expenditure!H10=\"\",\"\",Expenditure!H10)","v":""},{"$f":"IF(Expenditure!I10=\"\",\"\",Expenditure!I10)","v":""},"",{"$f":"IF(Expenditure!K10=\"\",\"\",Expenditure!K10)","v":""},{"$f":"IF(Expenditure!L10=\"\",\"\",Expenditure!L10)","v":""},{"$f":"IF(Expenditure!M10=\"\",\"\",Expenditure!M10)","v":""},"-"]
[{"$f":"IF(Expenditure!B11=\"\",\"\",Expenditure!B11)","v":""},{"$f":"IF(Expenditure!C11=\"\",\"\",TEXT(Expenditure!C11,\"mmm\"))","v":""},{"$f":"IF(Expenditure!E11=\"\",\"\",Expenditure!E11)","v":""},{"$f":"IF(Expenditure!F11=\"\",\"\",Expenditure!F11)","v":""},{"$f":"IF(Expenditure!G11=\"\",\"\",Expenditure!G11)","v":""},{"$f":"IF(Expenditure!H11=\"\",\"\",Expenditure!H11)","v":""},{"$f":"IF(Expenditure!I11=\"\",\"\",Expenditure!I11)","v":""},"",{"$f":"IF(Expenditure!K11=\"\",\"\",Expenditure!K11)","v":""},{"$f":"IF(Expenditure!L11=\"\",\"\",Expenditure!L11)","v":""},{"$f":"IF(Expenditure!M11=\"\",\"\",Expenditure!M11)","v":""},"-"]
[{"$f":"IF(Expenditure!B12=\"\",\"\",Expenditure!B12)","v":""},{"$f":"IF(Expenditure!C12=\"\",\"\",TEXT(Expenditure!C12,\"mmm\"))","v":""},{"$f":"IF(Expenditure!E12=\"\",\"\",Expenditure!E12)","v":""},{"$f":"IF(Expenditure!F12=\"\",\"\",Expenditure!F12)","v":""},{"$f":"IF(Expenditure!G12=\"\",\"\",Expenditure!G12)","v":""},{"$f":"IF(Expenditure!H12=\"\",\"\",Expenditure!H12)","v":""},{"$f":"IF(Expenditure!I12=\"\",\"\",Expenditure!I12)","v":""},"",{"$f":"IF(Expenditure!K12=\"\",\"\",Expenditure!K12)","v":""},{"$f":"IF(Expenditure!L12=\"\",\"\",Expenditure!L12)","v":""},{"$f":"IF(Expenditure!M12=\"\",\"\",Expenditure!M12)","v":""},"-"]
[{"$f":"IF(Expenditure!B13=\"\",\"\",Expenditure!B13)","v":""},{"$f":"IF(Expenditure!C13=\"\",\"\",TEXT(Expenditure!C13,\"mmm\"))","v":""},{"$f":"IF(Expenditure!E13=\"\",\"\",Expenditure!E13)","v":""},{"$f":"IF(Expenditure!F13=\"\",\"\",Expenditure!F13)","v":""},{"$f":"IF(Expenditure!G13=\"\",\"\",Expenditure!G13)","v":""},{"$f":"IF(Expenditure!H13=\"\",\"\",Expenditure!H13)","v":""},{"$f":"IF(Expenditure!I13=\"\",\"\",Expenditure!I13)","v":""},"",{"$f":"IF(Expenditure!K13=\"\",\"\",Expenditure!K13)","v":""},{"$f":"IF(Expenditure!L13=\"\",\"\",Expenditure!L13)","v":""},{"$f":"IF(Expenditure!M13=\"\",\"\",Expenditure!M13)","v":""},"-"]
[{"$f":"IF(Expenditure!B14=\"\",\"\",Expenditure!B14)","v":""},{"$f":"IF(Expenditure!C14=\"\",\"\",TEXT(Expenditure!C14,\"mmm\"))","v":""},{"$f":"IF(Expenditure!E14=\"\",\"\",Expenditure!E14)","v":""},{"$f":"IF(Expenditure!F14=\"\",\"\",Expenditure!F14)","v":""},{"$f":"IF(Expenditure!G14=\"\",\"\",Expenditure!G14)","v":""},{"$f":"IF(Expenditure!H14=\"\",\"\",Expenditure!H14)","v":""},{"$f":"IF(Expenditure!I14=\"\",\"\",Expenditure!I14)","v":""},"",{"$f":"IF(Expenditure!K14=\"\",\"\",Expenditure!K14)","v":""},{"$f":"IF(Expenditure!L14=\"\",\"\",Expenditure!L14)","v":""},{"$f":"IF(Expenditure!M14=\"\",\"\",Expenditure!M14)","v":""},"-"]
[{"$f":"IF(Expenditure!B15=\"\",\"\",Expenditure!B15)","v":""},{"$f":"IF(Expenditure!C15=\"\",\"\",TEXT(Expenditure!C15,\"mmm\"))","v":""},{"$f":"IF(Expenditure!E15=\"\",\"\",Expenditure!E15)","v":""},{"$f":"IF(Expenditure!F15=\"\",\"\",Expenditure!F15)","v":""},{"$f":"IF(Expenditure!G15=\"\",\"\",Expenditure!G15)","v":""},{"$f":"IF(Expenditure!H15=\"\",\"\",Expenditure!H15)","v":""},{"$f":"IF(Expenditure!I15=\"\",\"\",Expenditure!I15)","v":""},"",{"$f":"IF(Expenditure!K15=\"\",\"\",Expenditure!K15)","v":""},{"$f":"IF(Expenditure!L15=\"\",\"\",Expenditure!L15)","v":""},{"$f":"IF(Expenditure!M15=\"\",\"\",Expenditure!M15)","v":""},"-"]
[{"$f":"IF(Expenditure!B16=\"\",\"\",Expenditure!B16)","v":""},{"$f":"IF(Expenditure!C16=\"\",\"\",TEXT(Expenditure!C16,\"mmm\"))","v":""},{"$f":"IF(Expenditure!E16=\"\",\"\",Expenditure!E16)","v":""},{"$f":"IF(Expenditure!F16=\"\",\"\",Expenditure!F16)","v":""},{"$f":"IF(Expenditure!G16=\"\",\"\",Expenditure!G16)","v":""},{"$f":"IF(Expenditure!H16=\"\",\"\",Expenditure!H16)","v":""},{"$f":"IF(Expenditure!I16=\"\",\"\",Expenditure!I16)","v":""},"",{"$f":"IF(Expenditure!K16=\"\",\"\",Expenditure!K16)","v":""},{"$f":"IF(Expenditure!L16=\"\",\"\",Expenditure!L16)","v":""},{"$f":"IF(Expenditure!M16=\"\",\"\",Expenditure!M16)","v":""},"-"]
[{"$f":"IF(Expenditure!B17=\"\",\"\",Expenditure!B17)","v":""},{"$f":"IF(Expenditure!C17=\"\",\"\",TEXT(Expenditure!C17,\"mmm\"))","v":""},{"$f":"IF(Expenditure!E17=\"\",\"\",Expenditure!E17)","v":""},{"$f":"IF(Expenditure!F17=\"\",\"\",Expenditure!F17)","v":""},{"$f":"IF(Expenditure!G17=\"\",\"\",Expenditure!G17)","v":""},{"$f":"IF(Expenditure!H17=\"\",\"\",Expenditure!H17)","v":""},{"$f":"IF(Expenditure!I17=\"\",\"\",Expenditure!I17)","v":""},"",{"$f":"IF(Expenditure!K17=\"\",\"\",Expenditure!K17)","v":""},{"$f":"IF(Expenditure!L17=\"\",\"\",Expenditure!L17)","v":""},{"$f":"IF(Expenditure!M17=\"\",\"\",Expenditure!M17)","v":""},"-"]
[{"$f":"IF(Expenditure!B18=\"\",\"\",Expenditure!B18)","v":""},{"$f":"IF(Expenditure!C18=\"\",\"\",TEXT(Expenditure!C18,\"mmm\"))","v":""},{"$f":"IF(Expenditure!E18=\"\",\"\",Expenditure!E18)","v":""},{"$f":"IF(Expenditure!F18=\"\",\"\",Expenditure!F18)","v":""},{"$f":"IF(Expenditure!G18=\"\",\"\",Expenditure!G18)","v":""},{"$f":"IF(Expenditure!H18=\"\",\"\",Expenditure!H18)","v":""},{"$f":"IF(Expenditure!I18=\"\",\"\",Expenditure!I18)","v":""},"",{"$f":"IF(Expenditure!K18=\"\",\"\",Expenditure!K18)","v":""},{"$f":"IF(Expenditure!L18=\"\",\"\",Expenditure!L18)","v":""},{"$f":"IF(Expenditure!M18=\"\",\"\",Expenditure!M18)","v":""},"-"]
[{"$f":"IF(Expenditure!B19=\"\",\"\",Expenditure!B19)","v":""},{"$f":"IF(Expenditure!C19=\"\",\"\",TEXT(Expenditure!C19,\"mmm\"))","v":""},{"$f":"IF(Expenditure!E19=\"\",\"\",Expenditure!E19)","v":""},{"$f":"IF(Expenditure!F19=\"\",\"\",Expenditure!F19)","v":""},{"$f":"IF(Expenditure!G19=\"\",\"\",Expenditure!G19)","v":""},{"$f":"IF(Expenditure!H19=\"\",\"\",Expenditure!H19)","v":""},{"$f":"IF(Expenditure!I19=\"\",\"\",Expenditure!I19)","v":""},"",{"$f":"IF(Expenditure!K19=\"\",\"\",Expenditure!K19)","v":""},{"$f":"IF(Expenditure!L19=\"\",\"\",Expenditure!L19)","v":""},{"$f":"IF(Expenditure!M19=\"\",\"\",Expenditure!M19)","v":""},"-"]
[{"$f":"IF(Expenditure!B20=\"\",\"\",Expenditure!B20)","v":""},{"$f":"IF(Expenditure!C20=\"\",\"\",TEXT(Expenditure!C20,\"mmm\"))","v":""},{"$f":"IF(Expenditure!E20=\"\",\"\",Expenditure!E20)","v":""},{"$f":"IF(Expenditure!F20=\"\",\"\",Expenditure!F20)","v":""},{"$f":"IF(Expenditure!G20=\"\",\"\",Expenditure!G20)","v":""},{"$f":"IF(Expenditure!H20=\"\",\"\",Expenditure!H20)","v":""},{"$f":"IF(Expenditure!I20=\"\",\"\",Expenditure!I20)","v":""},"",{"$f":"IF(Expenditure!K20=\"\",\"\",Expenditure!K20)","v":""},{"$f":"IF(Expenditure!L20=\"\",\"\",Expenditure!L20)","v":""},{"$f":"IF(Expenditure!M20=\"\",\"\",Expenditure!M20)","v":""},"-"]
[{"$f":"IF(Expenditure!B21=\"\",\"\",Expenditure!B21)","v":""},{"$f":"IF(Expenditure!C21=\"\",\"\",TEXT(Expenditure!C21,\"mmm\"))","v":""},{"$f":"IF(Expenditure!E21=\"\",\"\",Expenditure!E21)","v":""},{"$f":"IF(Expenditure!F21=\"\",\"\",Expenditure!F21)","v":""},{"$f":"IF(Expenditure!G21=\"\",\"\",Expenditure!G21)","v":""},{"$f":"IF(Expenditure!H21=\"\",\"\",Expenditure!H21)","v":""},{"$f":"IF(Expenditure!I21=\"\",\"\",Expenditure!I21)","v":""},"",{"$f":"IF(Expenditure!K21=\"\",\"\",Expenditure!K21)","v":""},{"$f":"IF(Expenditure!L21=\"\",\"\",Expenditure!L21)","v":""},{"$f":"IF(Expenditure!M21=\"\",\"\",Expenditure!M21)","v":""},"-"]
[{"$f":"IF(Expenditure!B22=\"\",\"\",Expenditure!B22)","v":""},{"$f":"IF(Expenditure!C22=\"\",\"\",TEXT(Expenditure!C22,\"mmm\"))","v":""},{"$f":"IF(Expenditure!E22=\"\",\"\",Expenditure!E22)","v":""},{"$f":"IF(Expenditure!F22=\"\",\"\",Expenditure!F22)","v":""},{"$f":"IF(Expenditure!G22=\"\",\"\",Expenditure!G22)","v":""},{"$f":"IF(Expenditure!H22=\"\",\"\",Expenditure!H22)","v":""},{"$f":"IF(Expenditure!I22=\"\",\"\",Expenditure!I22)","v":""},"",{"$f":"IF(Expenditure!K22=\"\",\"\",Expenditure!K22)","v":""},{"$f":"IF(Expenditure!L22=\"\",\"\",Expenditure!L22)","v":""},{"$f":"IF(Expenditure!M22=\"\",\"\",Expenditure!M22)","v":""},"-"]
[{"$f":"IF(Expenditure!B23=\"\",\"\",Expenditure!B23)","v":""},{"$f":"IF(Expenditure!C23=\"\",\"\",TEXT(Expenditure!C23,\"mmm\"))","v":""},{"$f":"IF(Expenditure!E23=\"\",\"\",Expenditure!E23)","v":""},{"$f":"IF(Expenditure!F23=\"\",\"\",Expenditure!F23)","v":""},{"$f":"IF(Expenditure!G23=\"\",\"\",Expenditure!G23)","v":""},{"$f":"IF(Expenditure!H23=\"\",\"\",Expenditure!H23)","v":""},{"$f":"IF(Expenditure!I23=\"\",\"\",Expenditure!I23)","v":""},"",{"$f":"IF(Expenditure!K23=\"\",\"\",Expenditure!K23)","v":""},{"$f":"IF(Expenditure!L23=\"\",\"\",Expenditure!L23)","v":""},{"$f":"IF(Expenditure!M23=\"\",\"\",Expenditure!M23)","v":""},"-"]
[{"$f":"IF(Expenditure!B24=\"\",\"\",Expenditure!B24)","v":""},{"$f":"IF(Expenditure!C24=\"\",\"\",TEXT(Expenditure!C24,\"mmm\"))","v":""},{"$f":"IF(Expenditure!E24=\"\",\"\",Expenditure!E24)","v":""},{"$f":"IF(Expenditure!F24=\"\",\"\",Expenditure!F24)","v":""},{"$f":"IF(Expenditure!G24=\"\",\"\",Expenditure!G24)","v":""},{"$f":"IF(Expenditure!H24=\"\",\"\",Expenditure!H24)","v":""},{"$f":"IF(Expenditure!I24=\"\",\"\",Expenditure!I24)","v":""},"",{"$f":"IF(Expenditure!K24=\"\",\"\",Expenditure!K24)","v":""},{"$f":"IF(Expenditure!L24=\"\",\"\",Expenditure!L24)","v":""},{"$f":"IF(Expenditure!M24=\"\",\"\",Expenditure!M24)","v":""},"-"]
[{"$f":"IF(Expenditure!B25=\"\",\"\",Expenditure!B25)","v":""},{"$f":"IF(Expenditure!C25=\"\",\"\",TEXT(Expenditure!C25,\"mmm\"))","v":""},{"$f":"IF(Expenditure!E25=\"\",\"\",Expenditure!E25)","v":""},{"$f":"IF(Expenditure!F25=\"\",\"\",Expenditure!F25)","v":""},{"$f":"IF(Expenditure!G25=\"\",\"\",Expenditure!G25)","v":""},{"$f":"IF(Expenditure!H25=\"\",\"\",Expenditure!H25)","v":""},{"$f":"IF(Expenditure!I25=\"\",\"\",Expenditure!I25)","v":""},"",{"$f":"IF(Expenditure!K25=\"\",\"\",Expenditure!K25)","v":""},{"$f":"IF(Expenditure!L25=\"\",\"\",Expenditure!L25)","v":""},{"$f":"IF(Expenditure!M25=\"\",\"\",Expenditure!M25)","v":""},"-"]
[{"$f":"IF(Expenditure!B26=\"\",\"\",Expenditure!B26)","v":""},{"$f":"IF(Expenditure!C26=\"\",\"\",TEXT(Expenditure!C26,\"mmm\"))","v":""},{"$f":"IF(Expenditure!E26=\"\",\"\",Expenditure!E26)","v":""},{"$f":"IF(Expenditure!F26=\"\",\"\",Expenditure!F26)","v":""},{"$f":"IF(Expenditure!G26=\"\",\"\",Expenditure!G26)","v":""},{"$f":"IF(Expenditure!H26=\"\",\"\",Expenditure!H26)","v":""},{"$f":"IF(Expenditure!I26=\"\",\"\",Expenditure!I26)","v":""},"",{"$f":"IF(Expenditure!K26=\"\",\"\",Expenditure!K26)","v":""},{"$f":"IF(Expenditure!L26=\"\",\"\",Expenditure!L26)","v":""},{"$f":"IF(Expenditure!M26=\"\",\"\",Expenditure!M26)","v":""},"-"]
[{"$f":"IF(Expenditure!B27=\"\",\"\",Expenditure!B27)","v":""},{"$f":"IF(Expenditure!C27=\"\",\"\",TEXT(Expenditure!C27,\"mmm\"))","v":""},{"$f":"IF(Expenditure!E27=\"\",\"\",Expenditure!E27)","v":""},{"$f":"IF(Expenditure!F27=\"\",\"\",Expenditure!F27)","v":""},{"$f":"IF(Expenditure!G27=\"\",\"\",Expenditure!G27)","v":""},{"$f":"IF(Expenditure!H27=\"\",\"\",Expenditure!H27)","v":""},{"$f":"IF(Expenditure!I27=\"\",\"\",Expenditure!I27)","v":""},"",{"$f":"IF(Expenditure!K27=\"\",\"\",Expenditure!K27)","v":""},{"$f":"IF(Expenditure!L27=\"\",\"\",Expenditure!L27)","v":""},{"$f":"IF(Expenditure!M27=\"\",\"\",Expenditure!M27)","v":""},"-"]
[{"$f":"IF(Expenditure!B28=\"\",\"\",Expenditure!B28)","v":""},{"$f":"IF(Expenditure!C28=\"\",\"\",TEXT(Expenditure!C28,\"mmm\"))","v":""},{"$f":"IF(Expenditure!E28=\"\",\"\",Expenditure!E28)","v":""},{"$f":"IF(Expenditure!F28=\"\",\"\",Expenditure!F28)","v":""},{"$f":"IF(Expenditure!G28=\"\",\"\",Expenditure!G28)","v":""},{"$f":"IF(Expenditure!H28=\"\",\"\",Expenditure!H28)","v":""},{"$f":"IF(Expenditure!I28=\"\",\"\",Expenditure!I28)","v":""},"",{"$f":"IF(Expenditure!K28=\"\",\"\",Expenditure!K28)","v":""},{"$f":"IF(Expenditure!L28=\"\",\"\",Expenditure!L28)","v":""},{"$f":"IF(Expenditure!M28=\"\",\"\",Expenditure!M28)","v":""},"-"]
[{"$f":"IF(Expenditure!B29=\"\",\"\",Expenditure!B29)","v":""},{"$f":"IF(Expenditure!C29=\"\",\"\",TEXT(Expenditure!C29,\"mmm\"))","v":""},{"$f":"IF(Expenditure!E29=\"\",\"\",Expenditure!E29)","v":""},{"$f":"IF(Expenditure!F29=\"\",\"\",Expenditure!F29)","v":""},{"$f":"IF(Expenditure!G29=\"\",\"\",Expenditure!G29)","v":""},{"$f":"IF(Expenditure!H29=\"\",\"\",Expenditure!H29)","v":""},{"$f":"IF(Expenditure!I29=\"\",\"\",Expenditure!I29)","v":""},"",{"$f":"IF(Expenditure!K29=\"\",\"\",Expenditure!K29)","v":""},{"$f":"IF(Expenditure!L29=\"\",\"\",Expenditure!L29)","v":""},{"$f":"IF(Expenditure!M29=\"\",\"\",Expenditure!M29)","v":""},"-"]
[{"$f":"IF(Expenditure!B30=\"\",\"\",Expenditure!B30)","v":""},{"$f":"IF(Expenditure!C30=\"\",\"\",TEXT(Expenditure!C30,\"mmm\"))","v":""},{"$f":"IF(Expenditure!E30=\"\",\"\",Expenditure!E30)","v":""},{"$f":"IF(Expenditure!F30=\"\",\"\",Expenditure!F30)","v":""},{"$f":"IF(Expenditure!G30=\"\",\"\",Expenditure!G30)","v":""},{"$f":"IF(Expenditure!H30=\"\",\"\",Expenditure!H30)","v":""},{"$f":"IF(Expenditure!I30=\"\",\"\",Expenditure!I30)","v":""},"",{"$f":"IF(Expenditure!K30=\"\",\"\",Expenditure!K30)","v":""},{"$f":"IF(Expenditure!L30=\"\",\"\",Expenditure!L30)","v":""},{"$f":"IF(Expenditure!M30=\"\",\"\",Expenditure!M30)","v":""},"-"]
[{"$f":"IF(Expenditure!B31=\"\",\"\",Expenditure!B31)","v":""},{"$f":"IF(Expenditure!C31=\"\",\"\",TEXT(Expenditure!C31,\"mmm\"))","v":""},{"$f":"IF(Expenditure!E31=\"\",\"\",Expenditure!E31)","v":""},{"$f":"IF(Expenditure!F31=\"\",\"\",Expenditure!F31)","v":""},{"$f":"IF(Expenditure!G31=\"\",\"\",Expenditure!G31)","v":""},{"$f":"IF(Expenditure!H31=\"\",\"\",Expenditure!H31)","v":""},{"$f":"IF(Expenditure!I31=\"\",\"\",Expenditure!I31)","v":""},"",{"$f":"IF(Expenditure!K31=\"\",\"\",Expenditure!K31)","v":""},{"$f":"IF(Expenditure!L31=\"\",\"\",Expenditure!L31)","v":""},{"$f":"IF(Expenditure!M31=\"\",\"\",Expenditure!M31)","v":""},"-"]
[{"$f":"IF(Expenditure!B32=\"\",\"\",Expenditure!B32)","v":""},{"$f":"IF(Expenditure!C32=\"\",\"\",TEXT(Expenditure!C32,\"mmm\"))","v":""},{"$f":"IF(Expenditure!E32=\"\",\"\",Expenditure!E32)","v":""},{"$f":"IF(Expenditure!F32=\"\",\"\",Expenditure!F32)","v":""},{"$f":"IF(Expenditure!G32=\"\",\"\",Expenditure!G32)","v":""},{"$f":"IF(Expenditure!H32=\"\",\"\",Expenditure!H32)","v":""},{"$f":"IF(Expenditure!I32=\"\",\"\",Expenditure!I32)","v":""},"",{"$f":"IF(Expenditure!K32=\"\",\"\",Expenditure!K32)","v":""},{"$f":"IF(Expenditure!L32=\"\",\"\",Expenditure!L32)","v":""},{"$f":"IF(Expenditure!M32=\"\",\"\",Expenditure!M32)","v":""},"-"]
[{"$f":"IF(Expenditure!B33=\"\",\"\",Expenditure!B33)","v":""},{"$f":"IF(Expenditure!C33=\"\",\"\",TEXT(Expenditure!C33,\"mmm\"))","v":""},{"$f":"IF(Expenditure!E33=\"\",\"\",Expenditure!E33)","v":""},{"$f":"IF(Expenditure!F33=\"\",\"\",Expenditure!F33)","v":""},{"$f":"IF(Expenditure!G33=\"\",\"\",Expenditure!G33)","v":""},{"$f":"IF(Expenditure!H33=\"\",\"\",Expenditure!H33)","v":""},{"$f":"IF(Expenditure!I33=\"\",\"\",Expenditure!I33)","v":""},"",{"$f":"IF(Expenditure!K33=\"\",\"\",Expenditure!K33)","v":""},{"$f":"IF(Expenditure!L33=\"\",\"\",Expenditure!L33)","v":""},{"$f":"IF(Expenditure!M33=\"\",\"\",Expenditure!M33)","v":""},"-"]
[{"$f":"IF(Expenditure!B34=\"\",\"\",Expenditure!B34)","v":""},{"$f":"IF(Expenditure!C34=\"\",\"\",TEXT(Expenditure!C34,\"mmm\"))","v":""},{"$f":"IF(Expenditure!E34=\"\",\"\",Expenditure!E34)","v":""},{"$f":"IF(Expenditure!F34=\"\",\"\",Expenditure!F34)","v":""},{"$f":"IF(Expenditure!G34=\"\",\"\",Expenditure!G34)","v":""},{"$f":"IF(Expenditure!H34=\"\",\"\",Expenditure!H34)","v":""},{"$f":"IF(Expenditure!I34=\"\",\"\",Expenditure!I34)","v":""},"",{"$f":"IF(Expenditure!K34=\"\",\"\",Expenditure!K34)","v":""},{"$f":"IF(Expenditure!L34=\"\",\"\",Expenditure!L34)","v":""},{"$f":"IF(Expenditure!M34=\"\",\"\",Expenditure!M34)","v":""},"-"]
[{"$f":"IF(Expenditure!B35=\"\",\"\",Expenditure!B35)","v":""},{"$f":"IF(Expenditure!C35=\"\",\"\",TEXT(Expenditure!C35,\"mmm\"))","v":""},{"$f":"IF(Expenditure!E35=\"\",\"\",Expenditure!E35)","v":""},{"$f":"IF(Expenditure!F35=\"\",\"\",Expenditure!F35)","v":""},{"$f":"IF(Expenditure!G35=\"\",\"\",Expenditure!G35)","v":""},{"$f":"IF(Expenditure!H35=\"\",\"\",Expenditure!H35)","v":""},{"$f":"IF(Expenditure!I35=\"\",\"\",Expenditure!I35)","v":""},"",{"$f":"IF(Expenditure!K35=\"\",\"\",Expenditure!K35)","v":""},{"$f":"IF(Expenditure!L35=\"\",\"\",Expenditure!L35)","v":""},{"$f":"IF(Expenditure!M35=\"\",\"\",Expenditure!M35)","v":""},"-"]
[{"$f":"IF(Expenditure!B36=\"\",\"\",Expenditure!B36)","v":""},{"$f":"IF(Expenditure!C36=\"\",\"\",TEXT(Expenditure!C36,\"mmm\"))","v":""},{"$f":"IF(Expenditure!E36=\"\",\"\",Expenditure!E36)","v":""},{"$f":"IF(Expenditure!F36=\"\",\"\",Expenditure!F36)","v":""},{"$f":"IF(Expenditure!G36=\"\",\"\",Expenditure!G36)","v":""},{"$f":"IF(Expenditure!H36=\"\",\"\",Expenditure!H36)","v":""},{"$f":"IF(Expenditure!I36=\"\",\"\",Expenditure!I36)","v":""},"",{"$f":"IF(Expenditure!K36=\"\",\"\",Expenditure!K36)","v":""},{"$f":"IF(Expenditure!L36=\"\",\"\",Expenditure!L36)","v":""},{"$f":"IF(Expenditure!M36=\"\",\"\",Expenditure!M36)","v":""},"-"]
[{"$f":"IF(Expenditure!B37=\"\",\"\",Expenditure!B37)","v":""},{"$f":"IF(Expenditure!C37=\"\",\"\",TEXT(Expenditure!C37,\"mmm\"))","v":""},{"$f":"IF(Expenditure!E37=\"\",\"\",Expenditure!E37)","v":""},{"$f":"IF(Expenditure!F37=\"\",\"\",Expenditure!F37)","v":""},{"$f":"IF(Expenditure!G37=\"\",\"\",Expenditure!G37)","v":""},{"$f":"IF(Expenditure!H37=\"\",\"\",Expenditure!H37)","v":""},{"$f":"IF(Expenditure!I37=\"\",\"\",Expenditure!I37)","v":""},"",{"$f":"IF(Expenditure!K37=\"\",\"\",Expenditure!K37)","v":""},{"$f":"IF(Expenditure!L37=\"\",\"\",Expenditure!L37)","v":""},{"$f":"IF(Expenditure!M37=\"\",\"\",Expenditure!M37)","v":""},"-"]
[{"$f":"IF(Expenditure!B38=\"\",\"\",Expenditure!B38)","v":""},{"$f":"IF(Expenditure!C38=\"\",\"\",TEXT(Expenditure!C38,\"mmm\"))","v":""},{"$f":"IF(Expenditure!E38=\"\",\"\",Expenditure!E38)","v":""},{"$f":"IF(Expenditure!F38=\"\",\"\",Expenditure!F38)","v":""},{"$f":"IF(Expenditure!G38=\"\",\"\",Expenditure!G38)","v":""},{"$f":"IF(Expenditure!H38=\"\",\"\",Expenditure!H38)","v":""},{"$f":"IF(Expenditure!I38=\"\",\"\",Expenditure!I38)","v":""},"",{"$f":"IF(Expenditure!K38=\"\",\"\",Expenditure!K38)","v":""},{"$f":"IF(Expenditure!L38=\"\",\"\",Expenditure!L38)","v":""},{"$f":"IF(Expenditure!M38=\"\",\"\",Expenditure!M38)","v":""},"-"]
[{"$f":"IF(Expenditure!B39=\"\",\"\",Expenditure!B39)","v":""},{"$f":"IF(Expenditure!C39=\"\",\"\",TEXT(Expenditure!C39,\"mmm\"))","v":""},{"$f":"IF(Expenditure!E39=\"\",\"\",Expenditure!E39)","v":""},{"$f":"IF(Expenditure!F39=\"\",\"\",Expenditure!F39)","v":""},{"$f":"IF(Expenditure!G39=\"\",\"\",Expenditure!G39)","v":""},{"$f":"IF(Expenditure!H39=\"\",\"\",Expenditure!H39)","v":""},{"$f":"IF(Expenditure!I39=\"\",\"\",Expenditure!I39)","v":""},"",{"$f":"IF(Expenditure!K39=\"\",\"\",Expenditure!K39)","v":""},{"$f":"IF(Expenditure!L39=\"\",\"\",Expenditure!L39)","v":""},{"$f":"IF(Expenditure!M39=\"\",\"\",Expenditure!M39)","v":""},"-"]
[{"$f":"IF(Expenditure!B40=\"\",\"\",Expenditure!B40)","v":""},{"$f":"IF(Expenditure!C40=\"\",\"\",TEXT(Expenditure!C40,\"mmm\"))","v":""},{"$f":"IF(Expenditure!E40=\"\",\"\",Expenditure!E40)","v":""},{"$f":"IF(Expenditure!F40=\"\",\"\",Expenditure!F40)","v":""},{"$f":"IF(Expenditure!G40=\"\",\"\",Expenditure!G40)","v":""},{"$f":"IF(Expenditure!H40=\"\",\"\",Expenditure!H40)","v":""},{"$f":"IF(Expenditure!I40=\"\",\"\",Expenditure!I40)","v":""},"",{"$f":"IF(Expenditure!K40=\"\",\"\",Expenditure!K40)","v":""},{"$f":"IF(Expenditure!L40=\"\",\"\",Expenditure!L40)","v":""},{"$f":"IF(Expenditure!M40=\"\",\"\",Expenditure!M40)","v":""},"-"]
[{"$f":"IF(Expenditure!B41=\"\",\"\",Expenditure!B41)","v":""},{"$f":"IF(Expenditure!C41=\"\",\"\",TEXT(Expenditure!C41,\"mmm\"))","v":""},{"$f":"IF(Expenditure!E41=\"\",\"\",Expenditure!E41)","v":""},{"$f":"IF(Expenditure!F41=\"\",\"\",Expenditure!F41)","v":""},{"$f":"IF(Expenditure!G41=\"\",\"\",Expenditure!G41)","v":""},{"$f":"IF(Expenditure!H41=\"\",\"\",Expenditure!H41)","v":""},{"$f":"IF(Expenditure!I41=\"\",\"\",Expenditure!I41)","v":""},"",{"$f":"IF(Expenditure!K41=\"\",\"\",Expenditure!K41)","v":""},{"$f":"IF(Expenditure!L41=\"\",\"\",Expenditure!L41)","v":""},{"$f":"IF(Expenditure!M41=\"\",\"\",Expenditure!M41)","v":""},"-"]
[{"$f":"IF(Expenditure!B42=\"\",\"\",Expenditure!B42)","v":""},{"$f":"IF(Expenditure!C42=\"\",\"\",TEXT(Expenditure!C42,\"mmm\"))","v":""},{"$f":"IF(Expenditure!E42=\"\",\"\",Expenditure!E42)","v":""},{"$f":"IF(Expenditure!F42=\"\",\"\",Expenditure!F42)","v":""},{"$f":"IF(Expenditure!G42=\"\",\"\",Expenditure!G42)","v":""},{"$f":"IF(Expenditure!H42=\"\",\"\",Expenditure!H42)","v":""},{"$f":"IF(Expenditure!I42=\"\",\"\",Expenditure!I42)","v":""},"",{"$f":"IF(Expenditure!K42=\"\",\"\",Expenditure!K42)","v":""},{"$f":"IF(Expenditure!L42=\"\",\"\",Expenditure!L42)","v":""},{"$f":"IF(Expenditure!M42=\"\",\"\",Expenditure!M42)","v":""},"-"]
[{"$f":"IF(Expenditure!B43=\"\",\"\",Expenditure!B43)","v":""},{"$f":"IF(Expenditure!C43=\"\",\"\",TEXT(Expenditure!C43,\"mmm\"))","v":""},{"$f":"IF(Expenditure!E43=\"\",\"\",Expenditure!E43)","v":""},{"$f":"IF(Expenditure!F43=\"\",\"\",Expenditure!F43)","v":""},{"$f":"IF(Expenditure!G43=\"\",\"\",Expenditure!G43)","v":""},{"$f":"IF(Expenditure!H43=\"\",\"\",Expenditure!H43)","v":""},{"$f":"IF(Expenditure!I43=\"\",\"\",Expenditure!I43)","v":""},"",{"$f":"IF(Expenditure!K43=\"\",\"\",Expenditure!K43)","v":""},{"$f":"IF(Expenditure!L43=\"\",\"\",Expenditure!L43)","v":""},{"$f":"IF(Expenditure!M43=\"\",\"\",Expenditure!M43)","v":""},"-"]
[{"$f":"IF(Expenditure!B44=\"\",\"\",Expenditure!B44)","v":""},{"$f":"IF(Expenditure!C44=\"\",\"\",TEXT(Expenditure!C44,\"mmm\"))","v":""},{"$f":"IF(Expenditure!E44=\"\",\"\",Expenditure!E44)","v":""},{"$f":"IF(Expenditure!F44=\"\",\"\",Expenditure!F44)","v":""},{"$f":"IF(Expenditure!G44=\"\",\"\",Expenditure!G44)","v":""},{"$f":"IF(Expenditure!H44=\"\",\"\",Expenditure!H44)","v":""},{"$f":"IF(Expenditure!I44=\"\",\"\",Expenditure!I44)","v":""},"",{"$f":"IF(Expenditure!K44=\"\",\"\",Expenditure!K44)","v":""},{"$f":"IF(Expenditure!L44=\"\",\"\",Expenditure!L44)","v":""},{"$f":"IF(Expenditure!M44=\"\",\"\",Expenditure!M44)","v":""},"-"]
[{"$f":"IF(Expenditure!B45=\"\",\"\",Expenditure!B45)","v":""},{"$f":"IF(Expenditure!C45=\"\",\"\",TEXT(Expenditure!C45,\"mmm\"))","v":""},{"$f":"IF(Expenditure!E45=\"\",\"\",Expenditure!E45)","v":""},{"$f":"IF(Expenditure!F45=\"\",\"\",Expenditure!F45)","v":""},{"$f":"IF(Expenditure!G45=\"\",\"\",Expenditure!G45)","v":""},{"$f":"IF(Expenditure!H45=\"\",\"\",Expenditure!H45)","v":""},{"$f":"IF(Expenditure!I45=\"\",\"\",Expenditure!I45)","v":""},"",{"$f":"IF(Expenditure!K45=\"\",\"\",Expenditure!K45)","v":""},{"$f":"IF(Expenditure!L45=\"\",\"\",Expenditure!L45)","v":""},{"$f":"IF(Expenditure!M45=\"\",\"\",Expenditure!M45)","v":""},"-"]
[{"$f":"IF(Expenditure!B46=\"\",\"\",Expenditure!B46)","v":""},{"$f":"IF(Expenditure!C46=\"\",\"\",TEXT(Expenditure!C46,\"mmm\"))","v":""},{"$f":"IF(Expenditure!E46=\"\",\"\",Expenditure!E46)","v":""},{"$f":"IF(Expenditure!F46=\"\",\"\",Expenditure!F46)","v":""},{"$f":"IF(Expenditure!G46=\"\",\"\",Expenditure!G46)","v":""},{"$f":"IF(Expenditure!H46=\"\",\"\",Expenditure!H46)","v":""},{"$f":"IF(Expenditure!I46=\"\",\"\",Expenditure!I46)","v":""},"",{"$f":"IF(Expenditure!K46=\"\",\"\",Expenditure!K46)","v":""},{"$f":"IF(Expenditure!L46=\"\",\"\",Expenditure!L46)","v":""},{"$f":"IF(Expenditure!M46=\"\",\"\",Expenditure!M46)","v":""},"-"]
[{"$f":"IF(Expenditure!B47=\"\",\"\",Expenditure!B47)","v":""},{"$f":"IF(Expenditure!C47=\"\",\"\",TEXT(Expenditure!C47,\"mmm\"))","v":""},{"$f":"IF(Expenditure!E47=\"\",\"\",Expenditure!E47)","v":""},{"$f":"IF(Expenditure!F47=\"\",\"\",Expenditure!F47)","v":""},{"$f":"IF(Expenditure!G47=\"\",\"\",Expenditure!G47)","v":""},{"$f":"IF(Expenditure!H47=\"\",\"\",Expenditure!H47)","v":""},{"$f":"IF(Expenditure!I47=\"\",\"\",Expenditure!I47)","v":""},"",{"$f":"IF(Expenditure!K47=\"\",\"\",Expenditure!K47)","v":""},{"$f":"IF(Expenditure!L47=\"\",\"\",Expenditure!L47)","v":""},{"$f":"IF(Expenditure!M47=\"\",\"\",Expenditure!M47)","v":""},"-"]
[{"$f":"IF(Expenditure!B48=\"\",\"\",Expenditure!B48)","v":""},{"$f":"IF(Expenditure!C48=\"\",\"\",TEXT(Expenditure!C48,\"mmm\"))","v":""},{"$f":"IF(Expenditure!E48=\"\",\"\",Expenditure!E48)","v":""},{"$f":"IF(Expenditure!F48=\"\",\"\",Expenditure!F48)","v":""},{"$f":"IF(Expenditure!G48=\"\",\"\",Expenditure!G48)","v":""},{"$f":"IF(Expenditure!H48=\"\",\"\",Expenditure!H48)","v":""},{"$f":"IF(Expenditure!I48=\"\",\"\",Expenditure!I48)","v":""},"",{"$f":"IF(Expenditure!K48=\"\",\"\",Expenditure!K48)","v":""},{"$f":"IF(Expenditure!L48=\"\",\"\",Expenditure!L48)","v":""},{"$f":"IF(Expenditure!M48=\"\",\"\",Expenditure!M48)","v":""},"-"]
[{"$f":"IF(Expenditure!B49=\"\",\"\",Expenditure!B49)","v":""},{"$f":"IF(Expenditure!C49=\"\",\"\",TEXT(Expenditure!C49,\"mmm\"))","v":""},{"$f":"IF(Expenditure!E49=\"\",\"\",Expenditure!E49)","v":""},{"$f":"IF(Expenditure!F49=\"\",\"\",Expenditure!F49)","v":""},{"$f":"IF(Expenditure!G49=\"\",\"\",Expenditure!G49)","v":""},{"$f":"IF(Expenditure!H49=\"\",\"\",Expenditure!H49)","v":""},{"$f":"IF(Expenditure!I49=\"\",\"\",Expenditure!I49)","v":""},"",{"$f":"IF(Expenditure!K49=\"\",\"\",Expenditure!K49)","v":""},{"$f":"IF(Expenditure!L49=\"\",\"\",Expenditure!L49)","v":""},{"$f":"IF(Expenditure!M49=\"\",\"\",Expenditure!M49)","v":""},"-"]
[{"$f":"IF(Expenditure!B50=\"\",\"\",Expenditure!B50)","v":""},{"$f":"IF(Expenditure!C50=\"\",\"\",TEXT(Expenditure!C50,\"mmm\"))","v":""},{"$f":"IF(Expenditure!E50=\"\",\"\",Expenditure!E50)","v":""},{"$f":"IF(Expenditure!F50=\"\",\"\",Expenditure!F50)","v":""},{"$f":"IF(Expenditure!G50=\"\",\"\",Expenditure!G50)","v":""},{"$f":"IF(Expenditure!H50=\"\",\"\",Expenditure!H50)","v":""},{"$f":"IF(Expenditure!I50=\"\",\"\",Expenditure!I50)","v":""},"",{"$f":"IF(Expenditure!K50=\"\",\"\",Expenditure!K50)","v":""},{"$f":"IF(Expenditure!L50=\"\",\"\",Expenditure!L50)","v":""},{"$f":"IF(Expenditure!M50=\"\",\"\",Expenditure!M50)","v":""},"-"]
[{"$f":"IF(Expenditure!B51=\"\",\"\",Expenditure!B51)","v":""},{"$f":"IF(Expenditure!C51=\"\",\"\",TEXT(Expenditure!C51,\"mmm\"))","v":""},{"$f":"IF(Expenditure!E51=\"\",\"\",Expenditure!E51)","v":""},{"$f":"IF(Expenditure!F51=\"\",\"\",Expenditure!F51)","v":""},{"$f":"IF(Expenditure!G51=\"\",\"\",Expenditure!G51)","v":""},{"$f":"IF(Expenditure!H51=\"\",\"\",Expenditure!H51)","v":""},{"$f":"IF(Expenditure!I51=\"\",\"\",Expenditure!I51)","v":""},"",{"$f":"IF(Expenditure!K51=\"\",\"\",Expenditure!K51)","v":""},{"$f":"IF(Expenditure!L51=\"\",\"\",Expenditure!L51)","v":""},{"$f":"IF(Expenditure!M51=\"\",\"\",Expenditure!M51)","v":""},"-"]
[{"$f":"IF(Expenditure!B52=\"\",\"\",Expenditure!B52)","v":""},{"$f":"IF(Expenditure!C52=\"\",\"\",TEXT(Expenditure!C52,\"mmm\"))","v":""},{"$f":"IF(Expenditure!E52=\"\",\"\",Expenditure!E52)","v":""},{"$f":"IF(Expenditure!F52=\"\",\"\",Expenditure!F52)","v":""},{"$f":"IF(Expenditure!G52=\"\",\"\",Expenditure!G52)","v":""},{"$f":"IF(Expenditure!H52=\"\",\"\",Expenditure!H52)","v":""},{"$f":"IF(Expenditure!I52=\"\",\"\",Expenditure!I52)","v":""},"",{"$f":"IF(Expenditure!K52=\"\",\"\",Expenditure!K52)","v":""},{"$f":"IF(Expenditure!L52=\"\",\"\",Expenditure!L52)","v":""},{"$f":"IF(Expenditure!M52=\"\",\"\",Expenditure!M52)","v":""},"-"]
[{"$f":"IF(Expenditure!B53=\"\",\"\",Expenditure!B53)","v":""},{"$f":"IF(Expenditure!C53=\"\",\"\",TEXT(Expenditure!C53,\"mmm\"))","v":""},{"$f":"IF(Expenditure!E53=\"\",\"\",Expenditure!E53)","v":""},{"$f":"IF(Expenditure!F53=\"\",\"\",Expenditure!F53)","v":""},{"$f":"IF(Expenditure!G53=\"\",\"\",Expenditure!G53)","v":""},{"$f":"IF(Expenditure!H53=\"\",\"\",Expenditure!H53)","v":""},{"$f":"IF(Expenditure!I53=\"\",\"\",Expenditure!I53)","v":""},"",{"$f":"IF(Expenditure!K53=\"\",\"\",Expenditure!K53)","v":""},{"$f":"IF(Expenditure!L53=\"\",\"\",Expenditure!L53)","v":""},{"$f":"IF(Expenditure!M53=\"\",\"\",Expenditure!M53)","v":""},"-"]
[{"$f":"IF(Expenditure!B54=\"\",\"\",Expenditure!B54)","v":""},{"$f":"IF(Expenditure!C54=\"\",\"\",TEXT(Expenditure!C54,\"mmm\"))","v":""},{"$f":"IF(Expenditure!E54=\"\",\"\",Expenditure!E54)","v":""},{"$f":"IF(Expenditure!F54=\"\",\"\",Expenditure!F54)","v":""},{"$f":"IF(Expenditure!G54=\"\",\"\",Expenditure!G54)","v":""},{"$f":"IF(Expenditure!H54=\"\",\"\",Expenditure!H54)","v":""},{"$f":"IF(Expenditure!I54=\"\",\"\",Expenditure!I54)","v":""},"",{"$f":"IF(Expenditure!K54=\"\",\"\",Expenditure!K54)","v":""},{"$f":"IF(Expenditure!L54=\"\",\"\",Expenditure!L54)","v":""},{"$f":"IF(Expenditure!M54=\"\",\"\",Expenditure!M54)","v":""},"-"]
[{"$f":"IF(Expenditure!B55=\"\",\"\",Expenditure!B55)","v":""},{"$f":"IF(Expenditure!C55=\"\",\"\",TEXT(Expenditure!C55,\"mmm\"))","v":""},{"$f":"IF(Expenditure!E55=\"\",\"\",Expenditure!E55)","v":""},{"$f":"IF(Expenditure!F55=\"\",\"\",Expenditure!F55)","v":""},{"$f":"IF(Expenditure!G55=\"\",\"\",Expenditure!G55)","v":""},{"$f":"IF(Expenditure!H55=\"\",\"\",Expenditure!H55)","v":""},{"$f":"IF(Expenditure!I55=\"\",\"\",Expenditure!I55)","v":""},"",{"$f":"IF(Expenditure!K55=\"\",\"\",Expenditure!K55)","v":""},{"$f":"IF(Expenditure!L55=\"\",\"\",Expenditure!L55)","v":""},{"$f":"IF(Expenditure!M55=\"\",\"\",Expenditure!M55)","v":""},"-"]
[{"$f":"IF(Expenditure!B56=\"\",\"\",Expenditure!B56)","v":""},{"$f":"IF(Expenditure!C56=\"\",\"\",TEXT(Expenditure!C56,\"mmm\"))","v":""},{"$f":"IF(Expenditure!E56=\"\",\"\",Expenditure!E56)","v":""},{"$f":"IF(Expenditure!F56=\"\",\"\",Expenditure!F56)","v":""},{"$f":"IF(Expenditure!G56=\"\",\"\",Expenditure!G56)","v":""},{"$f":"IF(Expenditure!H56=\"\",\"\",Expenditure!H56)","v":""},{"$f":"IF(Expenditure!I56=\"\",\"\",Expenditure!I56)","v":""},"",{"$f":"IF(Expenditure!K56=\"\",\"\",Expenditure!K56)","v":""},{"$f":"IF(Expenditure!L56=\"\",\"\",Expenditure!L56)","v":""},{"$f":"IF(Expenditure!M56=\"\",\"\",Expenditure!M56)","v":""},"-"]
[{"$f":"IF(Expenditure!B57=\"\",\"\",Expenditure!B57)","v":""},{"$f":"IF(Expenditure!C57=\"\",\"\",TEXT(Expenditure!C57,\"mmm\"))","v":""},{"$f":"IF(Expenditure!E57=\"\",\"\",Expenditure!E57)","v":""},{"$f":"IF(Expenditure!F57=\"\",\"\",Expenditure!F57)","v":""},{"$f":"IF(Expenditure!G57=\"\",\"\",Expenditure!G57)","v":""},{"$f":"IF(Expenditure!H57=\"\",\"\",Expenditure!H57)","v":""},{"$f":"IF(Expenditure!I57=\"\",\"\",Expenditure!I57)","v":""},"",{"$f":"IF(Expenditure!K57=\"\",\"\",Expenditure!K57)","v":""},{"$f":"IF(Expenditure!L57=\"\",\"\",Expenditure!L57)","v":""},{"$f":"IF(Expenditure!M57=\"\",\"\",Expenditure!M57)","v":""},"-"]
[{"$f":"IF(Expenditure!B58=\"\",\"\",Expenditure!B58)","v":""},{"$f":"IF(Expenditure!C58=\"\",\"\",TEXT(Expenditure!C58,\"mmm\"))","v":""},{"$f":"IF(Expenditure!E58=\"\",\"\",Expenditure!E58)","v":""},{"$f":"IF(Expenditure!F58=\"\",\"\",Expenditure!F58)","v":""},{"$f":"IF(Expenditure!G58=\"\",\"\",Expenditure!G58)","v":""},{"$f":"IF(Expenditure!H58=\"\",\"\",Expenditure!H58)","v":""},{"$f":"IF(Expenditure!I58=\"\",\"\",Expenditure!I58)","v":""},"",{"$f":"IF(Expenditure!K58=\"\",\"\",Expenditure!K58)","v":""},{"$f":"IF(Expenditure!L58=\"\",\"\",Expenditure!L58)","v":""},{"$f":"IF(Expenditure!M58=\"\",\"\",Expenditure!M58)","v":""},"-"]
[{"$f":"IF(Expenditure!B59=\"\",\"\",Expenditure!B59)","v":""},{"$f":"IF(Expenditure!C59=\"\",\"\",TEXT(Expenditure!C59,\"mmm\"))","v":""},{"$f":"IF(Expenditure!E59=\"\",\"\",Expenditure!E59)","v":""},{"$f":"IF(Expenditure!F59=\"\",\"\",Expenditure!F59)","v":""},{"$f":"IF(Expenditure!G59=\"\",\"\",Expenditure!G59)","v":""},{"$f":"IF(Expenditure!H59=\"\",\"\",Expenditure!H59)","v":""},{"$f":"IF(Expenditure!I59=\"\",\"\",Expenditure!I59)","v":""},"",{"$f":"IF(Expenditure!K59=\"\",\"\",Expenditure!K59)","v":""},{"$f":"IF(Expenditure!L59=\"\",\"\",Expenditure!L59)","v":""},{"$f":"IF(Expenditure!M59=\"\",\"\",Expenditure!M59)","v":""},"-"]
[{"$f":"IF(Expenditure!B60=\"\",\"\",Expenditure!B60)","v":""},{"$f":"IF(Expenditure!C60=\"\",\"\",TEXT(Expenditure!C60,\"mmm\"))","v":""},{"$f":"IF(Expenditure!E60=\"\",\"\",Expenditure!E60)","v":""},{"$f":"IF(Expenditure!F60=\"\",\"\",Expenditure!F60)","v":""},{"$f":"IF(Expenditure!G60=\"\",\"\",Expenditure!G60)","v":""},{"$f":"IF(Expenditure!H60=\"\",\"\",Expenditure!H60)","v":""},{"$f":"IF(Expenditure!I60=\"\",\"\",Expenditure!I60)","v":""},"",{"$f":"IF(Expenditure!K60=\"\",\"\",Expenditure!K60)","v":""},{"$f":"IF(Expenditure!L60=\"\",\"\",Expenditure!L60)","v":""},{"$f":"IF(Expenditure!M60=\"\",\"\",Expenditure!M60)","v":""},"-"]
[{"$f":"IF(Expenditure!B61=\"\",\"\",Expenditure!B61)","v":""},{"$f":"IF(Expenditure!C61=\"\",\"\",TEXT(Expenditure!C61,\"mmm\"))","v":""},{"$f":"IF(Expenditure!E61=\"\",\"\",Expenditure!E61)","v":""},{"$f":"IF(Expenditure!F61=\"\",\"\",Expenditure!F61)","v":""},{"$f":"IF(Expenditure!G61=\"\",\"\",Expenditure!G61)","v":""},{"$f":"IF(Expenditure!H61=\"\",\"\",Expenditure!H61)","v":""},{"$f":"IF(Expenditure!I61=\"\",\"\",Expenditure!I61)","v":""},"",{"$f":"IF(Expenditure!K61=\"\",\"\",Expenditure!K61)","v":""},{"$f":"IF(Expenditure!L61=\"\",\"\",Expenditure!L61)","v":""},{"$f":"IF(Expenditure!M61=\"\",\"\",Expenditure!M61)","v":""},"-"]
[{"$f":"IF(Expenditure!B62=\"\",\"\",Expenditure!B62)","v":""},{"$f":"IF(Expenditure!C62=\"\",\"\",TEXT(Expenditure!C62,\"mmm\"))","v":""},{"$f":"IF(Expenditure!E62=\"\",\"\",Expenditure!E62)","v":""},{"$f":"IF(Expenditure!F62=\"\",\"\",Expenditure!F62)","v":""},{"$f":"IF(Expenditure!G62=\"\",\"\",Expenditure!G62)","v":""},{"$f":"IF(Expenditure!H62=\"\",\"\",Expenditure!H62)","v":""},{"$f":"IF(Expenditure!I62=\"\",\"\",Expenditure!I62)","v":""},"",{"$f":"IF(Expenditure!K62=\"\",\"\",Expenditure!K62)","v":""},{"$f":"IF(Expenditure!L62=\"\",\"\",Expenditure!L62)","v":""},{"$f":"IF(Expenditure!M62=\"\",\"\",Expenditure!M62)","v":""},"-"]
[{"$f":"IF(Expenditure!B63=\"\",\"\",Expenditure!B63)","v":""},{"$f":"IF(Expenditure!C63=\"\",\"\",TEXT(Expenditure!C63,\"mmm\"))","v":""},{"$f":"IF(Expenditure!E63=\"\",\"\",Expenditure!E63)","v":""},{"$f":"IF(Expenditure!F63=\"\",\"\",Expenditure!F63)","v":""},{"$f":"IF(Expenditure!G63=\"\",\"\",Expenditure!G63)","v":""},{"$f":"IF(Expenditure!H63=\"\",\"\",Expenditure!H63)","v":""},{"$f":"IF(Expenditure!I63=\"\",\"\",Expenditure!I63)","v":""},"",{"$f":"IF(Expenditure!K63=\"\",\"\",Expenditure!K63)","v":""},{"$f":"IF(Expenditure!L63=\"\",\"\",Expenditure!L63)","v":""},{"$f":"IF(Expenditure!M63=\"\",\"\",Expenditure!M63)","v":""},"-"]
[{"$f":"IF(Expenditure!B64=\"\",\"\",Expenditure!B64)","v":""},{"$f":"IF(Expenditure!C64=\"\",\"\",TEXT(Expenditure!C64,\"mmm\"))","v":""},{"$f":"IF(Expenditure!E64=\"\",\"\",Expenditure!E64)","v":""},{"$f":"IF(Expenditure!F64=\"\",\"\",Expenditure!F64)","v":""},{"$f":"IF(Expenditure!G64=\"\",\"\",Expenditure!G64)","v":""},{"$f":"IF(Expenditure!H64=\"\",\"\",Expenditure!H64)","v":""},{"$f":"IF(Expenditure!I64=\"\",\"\",Expenditure!I64)","v":""},"",{"$f":"IF(Expenditure!K64=\"\",\"\",Expenditure!K64)","v":""},{"$f":"IF(Expenditure!L64=\"\",\"\",Expenditure!L64)","v":""},{"$f":"IF(Expenditure!M64=\"\",\"\",Expenditure!M64)","v":""},"-"]
[{"$f":"IF(Expenditure!B65=\"\",\"\",Expenditure!B65)","v":""},{"$f":"IF(Expenditure!C65=\"\",\"\",TEXT(Expenditure!C65,\"mmm\"))","v":""},{"$f":"IF(Expenditure!E65=\"\",\"\",Expenditure!E65)","v":""},{"$f":"IF(Expenditure!F65=\"\",\"\",Expenditure!F65)","v":""},{"$f":"IF(Expenditure!G65=\"\",\"\",Expenditure!G65)","v":""},{"$f":"IF(Expenditure!H65=\"\",\"\",Expenditure!H65)","v":""},{"$f":"IF(Expenditure!I65=\"\",\"\",Expenditure!I65)","v":""},"",{"$f":"IF(Expenditure!K65=\"\",\"\",Expenditure!K65)","v":""},{"$f":"IF(Expenditure!L65=\"\",\"\",Expenditure!L65)","v":""},{"$f":"IF(Expenditure!M65=\"\",\"\",Expenditure!M65)","v":""},"-"]
[{"$f":"IF(Expenditure!B66=\"\",\"\",Expenditure!B66)","v":""},{"$f":"IF(Expenditure!C66=\"\",\"\",TEXT(Expenditure!C66,\"mmm\"))","v":""},{"$f":"IF(Expenditure!E66=\"\",\"\",Expenditure!E66)","v":""},{"$f":"IF(Expenditure!F66=\"\",\"\",Expenditure!F66)","v":""},{"$f":"IF(Expenditure!G66=\"\",\"\",Expenditure!G66)","v":""},{"$f":"IF(Expenditure!H66=\"\",\"\",Expenditure!H66)","v":""},{"$f":"IF(Expenditure!I66=\"\",\"\",Expenditure!I66)","v":""},"",{"$f":"IF(Expenditure!K66=\"\",\"\",Expenditure!K66)","v":""},{"$f":"IF(Expenditure!L66=\"\",\"\",Expenditure!L66)","v":""},{"$f":"IF(Expenditure!M66=\"\",\"\",Expenditure!M66)","v":""},"-"]
[{"$f":"IF(Expenditure!B67=\"\",\"\",Expenditure!B67)","v":""},{"$f":"IF(Expenditure!C67=\"\",\"\",TEXT(Expenditure!C67,\"mmm\"))","v":""},{"$f":"IF(Expenditure!E67=\"\",\"\",Expenditure!E67)","v":""},{"$f":"IF(Expenditure!F67=\"\",\"\",Expenditure!F67)","v":""},{"$f":"IF(Expenditure!G67=\"\",\"\",Expenditure!G67)","v":""},{"$f":"IF(Expenditure!H67=\"\",\"\",Expenditure!H67)","v":""},{"$f":"IF(Expenditure!I67=\"\",\"\",Expenditure!I67)","v":""},"",{"$f":"IF(Expenditure!K67=\"\",\"\",Expenditure!K67)","v":""},{"$f":"IF(Expenditure!L67=\"\",\"\",Expenditure!L67)","v":""},{"$f":"IF(Expenditure!M67=\"\",\"\",Expenditure!M67)","v":""},"-"]
[{"$f":"IF(Expenditure!B68=\"\",\"\",Expenditure!B68)","v":""},{"$f":"IF(Expenditure!C68=\"\",\"\",TEXT(Expenditure!C68,\"mmm\"))","v":""},{"$f":"IF(Expenditure!E68=\"\",\"\",Expenditure!E68)","v":""},{"$f":"IF(Expenditure!F68=\"\",\"\",Expenditure!F68)","v":""},{"$f":"IF(Expenditure!G68=\"\",\"\",Expenditure!G68)","v":""},{"$f":"IF(Expenditure!H68=\"\",\"\",Expenditure!H68)","v":""},{"$f":"IF(Expenditure!I68=\"\",\"\",Expenditure!I68)","v":""},{"$f":"IFERROR(F76*G76,\"\")","v":""},{"$f":"IF(Expenditure!K68=\"\",\"\",Expenditure!K68)","v":""},{"$f":"IF(Expenditure!L68=\"\",\"\",Expenditure!L68)","v":""},{"$f":"IF(Expenditure!M68=\"\",\"\",Expenditure!M68)","v":""},"-"]
[{"$f":"IF(Expenditure!B69=\"\",\"\",Expenditure!B69)","v":""},{"$f":"IF(Expenditure!C69=\"\",\"\",TEXT(Expenditure!C69,\"mmm\"))","v":""},{"$f":"IF(Expenditure!E69=\"\",\"\",Expenditure!E69)","v":""},{"$f":"IF(Expenditure!F69=\"\",\"\",Expenditure!F69)","v":""},{"$f":"IF(Expenditure!G69=\"\",\"\",Expenditure!G69)","v":""},{"$f":"IF(Expenditure!H69=\"\",\"\",Expenditure!H69)","v":""},{"$f":"IF(Expenditure!I69=\"\",\"\",Expenditure!I69)","v":""},"",{"$f":"IF(Expenditure!K69=\"\",\"\",Expenditure!K69)","v":""},{"$f":"IF(Expenditure!L69=\"\",\"\",Expenditure!L69)","v":""},{"$f":"IF(Expenditure!M69=\"\",\"\",Expenditure!M69)","v":""},"-"]
[{"$f":"IF(Expenditure!B70=\"\",\"\",Expenditure!B70)","v":""},{"$f":"IF(Expenditure!C70=\"\",\"\",TEXT(Expenditure!C70,\"mmm\"))","v":""},{"$f":"IF(Expenditure!E70=\"\",\"\",Expenditure!E70)","v":""},{"$f":"IF(Expenditure!F70=\"\",\"\",Expenditure!F70)","v":""},{"$f":"IF(Expenditure!G70=\"\",\"\",Expenditure!G70)","v":""},{"$f":"IF(Expenditure!H70=\"\",\"\",Expenditure!H70)","v":""},{"$f":"IF(Expenditure!I70=\"\",\"\",Expenditure!I70)","v":""},"",{"$f":"IF(Expenditure!K70=\"\",\"\",Expenditure!K70)","v":""},{"$f":"IF(Expenditure!L70=\"\",\"\",Expenditure!L70)","v":""},{"$f":"IF(Expenditure!M70=\"\",\"\",Expenditure!M70)","v":""},"-"]
[{"$f":"IF(Expenditure!B71=\"\",\"\",Expenditure!B71)","v":""},{"$f":"IF(Expenditure!C71=\"\",\"\",TEXT(Expenditure!C71,\"mmm\"))","v":""},{"$f":"IF(Expenditure!E71=\"\",\"\",Expenditure!E71)","v":""},{"$f":"IF(Expenditure!F71=\"\",\"\",Expenditure!F71)","v":""},{"$f":"IF(Expenditure!G71=\"\",\"\",Expenditure!G71)","v":""},{"$f":"IF(Expenditure!H71=\"\",\"\",Expenditure!H71)","v":""},{"$f":"IF(Expenditure!I71=\"\",\"\",Expenditure!I71)","v":""},"",{"$f":"IF(Expenditure!K71=\"\",\"\",Expenditure!K71)","v":""},{"$f":"IF(Expenditure!L71=\"\",\"\",Expenditure!L71)","v":""},{"$f":"IF(Expenditure!M71=\"\",\"\",Expenditure!M71)","v":""},"-"]
[{"$f":"IF(Expenditure!B72=\"\",\"\",Expenditure!B72)","v":""},{"$f":"IF(Expenditure!C72=\"\",\"\",TEXT(Expenditure!C72,\"mmm\"))","v":""},{"$f":"IF(Expenditure!E72=\"\",\"\",Expenditure!E72)","v":""},{"$f":"IF(Expenditure!F72=\"\",\"\",Expenditure!F72)","v":""},{"$f":"IF(Expenditure!G72=\"\",\"\",Expenditure!G72)","v":""},{"$f":"IF(Expenditure!H72=\"\",\"\",Expenditure!H72)","v":""},{"$f":"IF(Expenditure!I72=\"\",\"\",Expenditure!I72)","v":""},"",{"$f":"IF(Expenditure!K72=\"\",\"\",Expenditure!K72)","v":""},{"$f":"IF(Expenditure!L72=\"\",\"\",Expenditure!L72)","v":""},{"$f":"IF(Expenditure!M72=\"\",\"\",Expenditure!M72)","v":""},"-"]
[{"$f":"IF(Expenditure!B73=\"\",\"\",Expenditure!B73)","v":""},{"$f":"IF(Expenditure!C73=\"\",\"\",TEXT(Expenditure!C73,\"mmm\"))","v":""},{"$f":"IF(Expenditure!E73=\"\",\"\",Expenditure!E73)","v":""},{"$f":"IF(Expenditure!F73=\"\",\"\",Expenditure!F73)","v":""},{"$f":"IF(Expenditure!G73=\"\",\"\",Expenditure!G73)","v":""},{"$f":"IF(Expenditure!H73=\"\",\"\",Expenditure!H73)","v":""},{"$f":"IF(Expenditure!I73=\"\",\"\",Expenditure!I73)","v":""},"",{"$f":"IF(Expenditure!K73=\"\",\"\",Expenditure!K73)","v":""},{"$f":"IF(Expenditure!L73=\"\",\"\",Expenditure!L73)","v":""},{"$f":"IF(Expenditure!M73=\"\",\"\",Expenditure!M73)","v":""},"-"]
[{"$f":"IF(Expenditure!B74=\"\",\"\",Expenditure!B74)","v":""},{"$f":"IF(Expenditure!C74=\"\",\"\",TEXT(Expenditure!C74,\"mmm\"))","v":""},{"$f":"IF(Expenditure!E74=\"\",\"\",Expenditure!E74)","v":""},{"$f":"IF(Expenditure!F74=\"\",\"\",Expenditure!F74)","v":""},{"$f":"IF(Expenditure!G74=\"\",\"\",Expenditure!G74)","v":""},{"$f":"IF(Expenditure!H74=\"\",\"\",Expenditure!H74)","v":""},{"$f":"IF(Expenditure!I74=\"\",\"\",Expenditure!I74)","v":""},"",{"$f":"IF(Expenditure!K74=\"\",\"\",Expenditure!K74)","v":""},{"$f":"IF(Expenditure!L74=\"\",\"\",Expenditure!L74)","v":""},{"$f":"IF(Expenditure!M74=\"\",\"\",Expenditure!M74)","v":""},"-"]
[{"$f":"IF(Expenditure!B75=\"\",\"\",Expenditure!B75)","v":""},{"$f":"IF(Expenditure!C75=\"\",\"\",TEXT(Expenditure!C75,\"mmm\"))","v":""},{"$f":"IF(Expenditure!E75=\"\",\"\",Expenditure!E75)","v":""},{"$f":"IF(Expenditure!F75=\"\",\"\",Expenditure!F75)","v":""},{"$f":"IF(Expenditure!G75=\"\",\"\",Expenditure!G75)","v":""},{"$f":"IF(Expenditure!H75=\"\",\"\",Expenditure!H75)","v":""},{"$f":"IF(Expenditure!I75=\"\",\"\",Expenditure!I75)","v":""},"",{"$f":"IF(Expenditure!K75=\"\",\"\",Expenditure!K75)","v":""},{"$f":"IF(Expenditure!L75=\"\",\"\",Expenditure!L75)","v":""},{"$f":"IF(Expenditure!M75=\"\",\"\",Expenditure!M75)","v":""},"-"]
[{"$f":"IF(Expenditure!B76=\"\",\"\",Expenditure!B76)","v":""},{"$f":"IF(Expenditure!C76=\"\",\"\",TEXT(Expenditure!C76,\"mmm\"))","v":""},{"$f":"IF(Expenditure!E76=\"\",\"\",Expenditure!E76)","v":""},{"$f":"IF(Expenditure!F76=\"\",\"\",Expenditure!F76)","v":""},{"$f":"IF(Expenditure!G76=\"\",\"\",Expenditure!G76)","v":""},{"$f":"IF(Expenditure!H76=\"\",\"\",Expenditure!H76)","v":""},{"$f":"IF(Expenditure!I76=\"\",\"\",Expenditure!I76)","v":""},"",{"$f":"IF(Expenditure!K76=\"\",\"\",Expenditure!K76)","v":""},{"$f":"IF(Expenditure!L76=\"\",\"\",Expenditure!L76)","v":""},{"$f":"IF(Expenditure!M76=\"\",\"\",Expenditure!M76)","v":""},"-"]
[{"$f":"IF(Expenditure!B77=\"\",\"\",Expenditure!B77)","v":""},{"$f":"IF(Expenditure!C77=\"\",\"\",TEXT(Expenditure!C77,\"mmm\"))","v":""},{"$f":"IF(Expenditure!E77=\"\",\"\",Expenditure!E77)","v":""},{"$f":"IF(Expenditure!F77=\"\",\"\",Expenditure!F77)","v":""},{"$f":"IF(Expenditure!G77=\"\",\"\",Expenditure!G77)","v":""},{"$f":"IF(Expenditure!H77=\"\",\"\",Expenditure!H77)","v":""},{"$f":"IF(Expenditure!I77=\"\",\"\",Expenditure!I77)","v":""},"",{"$f":"IF(Expenditure!K77=\"\",\"\",Expenditure!K77)","v":""},{"$f":"IF(Expenditure!L77=\"\",\"\",Expenditure!L77)","v":""},{"$f":"IF(Expenditure!M77=\"\",\"\",Expenditure!M77)","v":""},"-"]
[{"$f":"IF(Expenditure!B78=\"\",\"\",Expenditure!B78)","v":""},{"$f":"IF(Expenditure!C78=\"\",\"\",TEXT(Expenditure!C78,\"mmm\"))","v":""},{"$f":"IF(Expenditure!E78=\"\",\"\",Expenditure!E78)","v":""},{"$f":"IF(Expenditure!F78=\"\",\"\",Expenditure!F78)","v":""},{"$f":"IF(Expenditure!G78=\"\",\"\",Expenditure!G78)","v":""},{"$f":"IF(Expenditure!H78=\"\",\"\",Expenditure!H78)","v":""},{"$f":"IF(Expenditure!I78=\"\",\"\",Expenditure!I78)","v":""},"",{"$f":"IF(Expenditure!K78=\"\",\"\",Expenditure!K78)","v":""},{"$f":"IF(Expenditure!L78=\"\",\"\",Expenditure!L78)","v":""},{"$f":"IF(Expenditure!M78=\"\",\"\",Expenditure!M78)","v":""},"-"]
[{"$f":"IF(Expenditure!B79=\"\",\"\",Expenditure!B79)","v":""},{"$f":"IF(Expenditure!C79=\"\",\"\",TEXT(Expenditure!C79,\"mmm\"))","v":""},{"$f":"IF(Expenditure!E79=\"\",\"\",Expenditure!E79)","v":""},{"$f":"IF(Expenditure!F79=\"\",\"\",Expenditure!F79)","v":""},{"$f":"IF(Expenditure!G79=\"\",\"\",Expenditure!G79)","v":""},{"$f":"IF(Expenditure!H79=\"\",\"\",Expenditure!H79)","v":""},{"$f":"IF(Expenditure!I79=\"\",\"\",Expenditure!I79)","v":""},"",{"$f":"IF(Expenditure!K79=\"\",\"\",Expenditure!K79)","v":""},{"$f":"IF(Expenditure!L79=\"\",\"\",Expenditure!L79)","v":""},{"$f":"IF(Expenditure!M79=\"\",\"\",Expenditure!M79)","v":""},"-"]
[{"$f":"IF(Expenditure!B80=\"\",\"\",Expenditure!B80)","v":""},{"$f":"IF(Expenditure!C80=\"\",\"\",TEXT(Expenditure!C80,\"mmm\"))","v":""},{"$f":"IF(Expenditure!E80=\"\",\"\",Expenditure!E80)","v":""},{"$f":"IF(Expenditure!F80=\"\",\"\",Expenditure!F80)","v":""},{"$f":"IF(Expenditure!G80=\"\",\"\",Expenditure!G80)","v":""},{"$f":"IF(Expenditure!H80=\"\",\"\",Expenditure!H80)","v":""},{"$f":"IF(Expenditure!I80=\"\",\"\",Expenditure!I80)","v":""},"",{"$f":"IF(Expenditure!K80=\"\",\"\",Expenditure!K80)","v":""},{"$f":"IF(Expenditure!L80=\"\",\"\",Expenditure!L80)","v":""},{"$f":"IF(Expenditure!M80=\"\",\"\",Expenditure!M80)","v":""},"-"]
[{"$f":"IF(Expenditure!B81=\"\",\"\",Expenditure!B81)","v":""},{"$f":"IF(Expenditure!C81=\"\",\"\",TEXT(Expenditure!C81,\"mmm\"))","v":""},{"$f":"IF(Expenditure!E81=\"\",\"\",Expenditure!E81)","v":""},{"$f":"IF(Expenditure!F81=\"\",\"\",Expenditure!F81)","v":""},{"$f":"IF(Expenditure!G81=\"\",\"\",Expenditure!G81)","v":""},{"$f":"IF(Expenditure!H81=\"\",\"\",Expenditure!H81)","v":""},{"$f":"IF(Expenditure!I81=\"\",\"\",Expenditure!I81)","v":""},"",{"$f":"IF(Expenditure!K81=\"\",\"\",Expenditure!K81)","v":""},{"$f":"IF(Expenditure!L81=\"\",\"\",Expenditure!L81)","v":""},{"$f":"IF(Expenditure!M81=\"\",\"\",Expenditure!M81)","v":""},"-"]
[{"$f":"IF(Expenditure!B82=\"\",\"\",Expenditure!B82)","v":""},{"$f":"IF(Expenditure!C82=\"\",\"\",TEXT(Expenditure!C82,\"mmm\"))","v":""},{"$f":"IF(Expenditure!E82=\"\",\"\",Expenditure!E82)","v":""},{"$f":"IF(Expenditure!F82=\"\",\"\",Expenditure!F82)","v":""},{"$f":"IF(Expenditure!G82=\"\",\"\",Expenditure!G82)","v":""},{"$f":"IF(Expenditure!H82=\"\",\"\",Expenditure!H82)","v":""},{"$f":"IF(Expenditure!I82=\"\",\"\",Expenditure!I82)","v":""},"",{"$f":"IF(Expenditure!K82=\"\",\"\",Expenditure!K82)","v":""},{"$f":"IF(Expenditure!L82=\"\",\"\",Expenditure!L82)","v":""},{"$f":"IF(Expenditure!M82=\"\",\"\",Expenditure!M82)","v":""},"-"]
[{"$f":"IF(Expenditure!B83=\"\",\"\",Expenditure!B83)","v":""},{"$f":"IF(Expenditure!C83=\"\",\"\",TEXT(Expenditure!C83,\"mmm\"))","v":""},{"$f":"IF(Expenditure!E83=\"\",\"\",Expenditure!E83)","v":""},{"$f":"IF(Expenditure!F83=\"\",\"\",Expenditure!F83)","v":""},{"$f":"IF(Expenditure!G83=\"\",\"\",Expenditure!G83)","v":""},{"$f":"IF(Expenditure!H83=\"\",\"\",Expenditure!H83)","v":""},{"$f":"IF(Expenditure!I83=\"\",\"\",Expenditure!I83)","v":""},"",{"$f":"IF(Expenditure!K83=\"\",\"\",Expenditure!K83)","v":""},{"$f":"IF(Expenditure!L83=\"\",\"\",Expenditure!L83)","v":""},{"$f":"IF(Expenditure!M83=\"\",\"\",Expenditure!M83)","v":""},"-"]
[{"$f":"IF(Expenditure!B84=\"\",\"\",Expenditure!B84)","v":""},{"$f":"IF(Expenditure!C84=\"\",\"\",TEXT(Expenditure!C84,\"mmm\"))","v":""},{"$f":"IF(Expenditure!E84=\"\",\"\",Expenditure!E84)","v":""},{"$f":"IF(Expenditure!F84=\"\",\"\",Expenditure!F84)","v":""},{"$f":"IF(Expenditure!G84=\"\",\"\",Expenditure!G84)","v":""},{"$f":"IF(Expenditure!H84=\"\",\"\",Expenditure!H84)","v":""},{"$f":"IF(Expenditure!I84=\"\",\"\",Expenditure!I84)","v":""},"",{"$f":"IF(Expenditure!K84=\"\",\"\",Expenditure!K84)","v":""},{"$f":"IF(Expenditure!L84=\"\",\"\",Expenditure!L84)","v":""},{"$f":"IF(Expenditure!M84=\"\",\"\",Expenditure!M84)","v":""},"-"]
[{"$f":"IF(Expenditure!B85=\"\",\"\",Expenditure!B85)","v":""},{"$f":"IF(Expenditure!C85=\"\",\"\",TEXT(Expenditure!C85,\"mmm\"))","v":""},{"$f":"IF(Expenditure!E85=\"\",\"\",Expenditure!E85)","v":""},{"$f":"IF(Expenditure!F85=\"\",\"\",Expenditure!F85)","v":""},{"$f":"IF(Expenditure!G85=\"\",\"\",Expenditure!G85)","v":""},{"$f":"IF(Expenditure!H85=\"\",\"\",Expenditure!H85)","v":""},{"$f":"IF(Expenditure!I85=\"\",\"\",Expenditure!I85)","v":""},"",{"$f":"IF(Expenditure!K85=\"\",\"\",Expenditure!K85)","v":""},{"$f":"IF(Expenditure!L85=\"\",\"\",Expenditure!L85)","v":""},{"$f":"IF(Expenditure!M85=\"\",\"\",Expenditure!M85)","v":""},"-"]
[{"$f":"IF(Expenditure!B86=\"\",\"\",Expenditure!B86)","v":""},{"$f":"IF(Expenditure!C86=\"\",\"\",TEXT(Expenditure!C86,\"mmm\"))","v":""},{"$f":"IF(Expenditure!E86=\"\",\"\",Expenditure!E86)","v":""},{"$f":"IF(Expenditure!F86=\"\",\"\",Expenditure!F86)","v":""},{"$f":"IF(Expenditure!G86=\"\",\"\",Expenditure!G86)","v":""},{"$f":"IF(Expenditure!H86=\"\",\"\",Expenditure!H86)","v":""},{"$f":"IF(Expenditure!I86=\"\",\"\",Expenditure!I86)","v":""},"",{"$f":"IF(Expenditure!K86=\"\",\"\",Expenditure!K86)","v":""},{"$f":"IF(Expenditure!L86=\"\",\"\",Expenditure!L86)","v":""},{"$f":"IF(Expenditure!M86=\"\",\"\",Expenditure!M86)","v":""},"-"]
[{"$f":"IF(Expenditure!B87=\"\",\"\",Expenditure!B87)","v":""},{"$f":"IF(Expenditure!C87=\"\",\"\",TEXT(Expenditure!C87,\"mmm\"))","v":""},{"$f":"IF(Expenditure!E87=\"\",\"\",Expenditure!E87)","v":""},{"$f":"IF(Expenditure!F87=\"\",\"\",Expenditure!F87)","v":""},{"$f":"IF(Expenditure!G87=\"\",\"\",Expenditure!G87)","v":""},{"$f":"IF(Expenditure!H87=\"\",\"\",Expenditure!H87)","v":""},{"$f":"IF(Expenditure!I87=\"\",\"\",Expenditure!I87)","v":""},"",{"$f":"IF(Expenditure!K87=\"\",\"\",Expenditure!K87)","v":""},{"$f":"IF(Expenditure!L87=\"\",\"\",Expenditure!L87)","v":""},{"$f":"IF(Expenditure!M87=\"\",\"\",Expenditure!M87)","v":""},"-"]
[{"$f":"IF(Expenditure!B88=\"\",\"\",Expenditure!B88)","v":""},{"$f":"IF(Expenditure!C88=\"\",\"\",TEXT(Expenditure!C88,\"mmm\"))","v":""},{"$f":"IF(Expenditure!E88=\"\",\"\",Expenditure!E88)","v":""},{"$f":"IF(Expenditure!F88=\"\",\"\",Expenditure!F88)","v":""},{"$f":"IF(Expenditure!G88=\"\",\"\",Expenditure!G88)","v":""},{"$f":"IF(Expenditure!H88=\"\",\"\",Expenditure!H88)","v":""},{"$f":"IF(Expenditure!I88=\"\",\"\",Expenditure!I88)","v":""},"",{"$f":"IF(Expenditure!K88=\"\",\"\",Expenditure!K88)","v":""},{"$f":"IF(Expenditure!L88=\"\",\"\",Expenditure!L88)","v":""},{"$f":"IF(Expenditure!M88=\"\",\"\",Expenditure!M88)","v":""},"-"]
[{"$f":"IF(Expenditure!B89=\"\",\"\",Expenditure!B89)","v":""},{"$f":"IF(Expenditure!C89=\"\",\"\",TEXT(Expenditure!C89,\"mmm\"))","v":""},{"$f":"IF(Expenditure!E89=\"\",\"\",Expenditure!E89)","v":""},{"$f":"IF(Expenditure!F89=\"\",\"\",Expenditure!F89)","v":""},{"$f":"IF(Expenditure!G89=\"\",\"\",Expenditure!G89)","v":""},{"$f":"IF(Expenditure!H89=\"\",\"\",Expenditure!H89)","v":""},{"$f":"IF(Expenditure!I89=\"\",\"\",Expenditure!I89)","v":""},"",{"$f":"IF(Expenditure!K89=\"\",\"\",Expenditure!K89)","v":""},{"$f":"IF(Expenditure!L89=\"\",\"\",Expenditure!L89)","v":""},{"$f":"IF(Expenditure!M89=\"\",\"\",Expenditure!M89)","v":""},"-"]
[{"$f":"IF(Expenditure!B90=\"\",\"\",Expenditure!B90)","v":""},{"$f":"IF(Expenditure!C90=\"\",\"\",TEXT(Expenditure!C90,\"mmm\"))","v":""},{"$f":"IF(Expenditure!E90=\"\",\"\",Expenditure!E90)","v":""},{"$f":"IF(Expenditure!F90=\"\",\"\",Expenditure!F90)","v":""},{"$f":"IF(Expenditure!G90=\"\",\"\",Expenditure!G90)","v":""},{"$f":"IF(Expenditure!H90=\"\",\"\",Expenditure!H90)","v":""},{"$f":"IF(Expenditure!I90=\"\",\"\",Expenditure!I90)","v":""},"",{"$f":"IF(Expenditure!K90=\"\",\"\",Expenditure!K90)","v":""},{"$f":"IF(Expenditure!L90=\"\",\"\",Expenditure!L90)","v":""},{"$f":"IF(Expenditure!M90=\"\",\"\",Expenditure!M90)","v":""},"-"]
[{"$f":"IF(Expenditure!B91=\"\",\"\",Expenditure!B91)","v":""},{"$f":"IF(Expenditure!C91=\"\",\"\",TEXT(Expenditure!C91,\"mmm\"))","v":""},{"$f":"IF(Expenditure!E91=\"\",\"\",Expenditure!E91)","v":""},{"$f":"IF(Expenditure!F91=\"\",\"\",Expenditure!F91)","v":""},{"$f":"IF(Expenditure!G91=\"\",\"\",Expenditure!G91)","v":""},{"$f":"IF(Expenditure!H91=\"\",\"\",Expenditure!H91)","v":""},{"$f":"IF(Expenditure!I91=\"\",\"\",Expenditure!I91)","v":""},"",{"$f":"IF(Expenditure!K91=\"\",\"\",Expenditure!K91)","v":""},{"$f":"IF(Expenditure!L91=\"\",\"\",Expenditure!L91)","v":""},{"$f":"IF(Expenditure!M91=\"\",\"\",Expenditure!M91)","v":""},"-"]
[{"$f":"IF(Expenditure!B92=\"\",\"\",Expenditure!B92)","v":""},{"$f":"IF(Expenditure!C92=\"\",\"\",TEXT(Expenditure!C92,\"mmm\"))","v":""},{"$f":"IF(Expenditure!E92=\"\",\"\",Expenditure!E92)","v":""},{"$f":"IF(Expenditure!F92=\"\",\"\",Expenditure!F92)","v":""},{"$f":"IF(Expenditure!G92=\"\",\"\",Expenditure!G92)","v":""},{"$f":"IF(Expenditure!H92=\"\",\"\",Expenditure!H92)","v":""},{"$f":"IF(Expenditure!I92=\"\",\"\",Expenditure!I92)","v":""},"",{"$f":"IF(Expenditure!K92=\"\",\"\",Expenditure!K92)","v":""},{"$f":"IF(Expenditure!L92=\"\",\"\",Expenditure!L92)","v":""},{"$f":"IF(Expenditure!M92=\"\",\"\",Expenditure!M92)","v":""},"-"]
[{"$f":"IF(Expenditure!B93=\"\",\"\",Expenditure!B93)","v":""},{"$f":"IF(Expenditure!C93=\"\",\"\",TEXT(Expenditure!C93,\"mmm\"))","v":""},{"$f":"IF(Expenditure!E93=\"\",\"\",Expenditure!E93)","v":""},{"$f":"IF(Expenditure!F93=\"\",\"\",Expenditure!F93)","v":""},{"$f":"IF(Expenditure!G93=\"\",\"\",Expenditure!G93)","v":""},{"$f":"IF(Expenditure!H93=\"\",\"\",Expenditure!H93)","v":""},{"$f":"IF(Expenditure!I93=\"\",\"\",Expenditure!I93)","v":""},"",{"$f":"IF(Expenditure!K93=\"\",\"\",Expenditure!K93)","v":""},{"$f":"IF(Expenditure!L93=\"\",\"\",Expenditure!L93)","v":""},{"$f":"IF(Expenditure!M93=\"\",\"\",Expenditure!M93)","v":""},"-"]
[{"$f":"IF(Expenditure!B94=\"\",\"\",Expenditure!B94)","v":""},{"$f":"IF(Expenditure!C94=\"\",\"\",TEXT(Expenditure!C94,\"mmm\"))","v":""},{"$f":"IF(Expenditure!E94=\"\",\"\",Expenditure!E94)","v":""},{"$f":"IF(Expenditure!F94=\"\",\"\",Expenditure!F94)","v":""},{"$f":"IF(Expenditure!G94=\"\",\"\",Expenditure!G94)","v":""},{"$f":"IF(Expenditure!H94=\"\",\"\",Expenditure!H94)","v":""},{"$f":"IF(Expenditure!I94=\"\",\"\",Expenditure!I94)","v":""},"",{"$f":"IF(Expenditure!K94=\"\",\"\",Expenditure!K94)","v":""},{"$f":"IF(Expenditure!L94=\"\",\"\",Expenditure!L94)","v":""},{"$f":"IF(Expenditure!M94=\"\",\"\",Expenditure!M94)","v":""},"-"]
[{"$f":"IF(Expenditure!B95=\"\",\"\",Expenditure!B95)","v":""},{"$f":"IF(Expenditure!C95=\"\",\"\",TEXT(Expenditure!C95,\"mmm\"))","v":""},{"$f":"IF(Expenditure!E95=\"\",\"\",Expenditure!E95)","v":""},{"$f":"IF(Expenditure!F95=\"\",\"\",Expenditure!F95)","v":""},{"$f":"IF(Expenditure!G95=\"\",\"\",Expenditure!G95)","v":""},{"$f":"IF(Expenditure!H95=\"\",\"\",Expenditure!H95)","v":""},{"$f":"IF(Expenditure!I95=\"\",\"\",Expenditure!I95)","v":""},"",{"$f":"IF(Expenditure!K95=\"\",\"\",Expenditure!K95)","v":""},{"$f":"IF(Expenditure!L95=\"\",\"\",Expenditure!L95)","v":""},{"$f":"IF(Expenditure!M95=\"\",\"\",Expenditure!M95)","v":""},"-"]
[{"$f":"IF(Expenditure!B96=\"\",\"\",Expenditure!B96)","v":""},{"$f":"IF(Expenditure!C96=\"\",\"\",TEXT(Expenditure!C96,\"mmm\"))","v":""},{"$f":"IF(Expenditure!E96=\"\",\"\",Expenditure!E96)","v":""},{"$f":"IF(Expenditure!F96=\"\",\"\",Expenditure!F96)","v":""},{"$f":"IF(Expenditure!G96=\"\",\"\",Expenditure!G96)","v":""},{"$f":"IF(Expenditure!H96=\"\",\"\",Expenditure!H96)","v":""},{"$f":"IF(Expenditure!I96=\"\",\"\",Expenditure!I96)","v":""},"",{"$f":"IF(Expenditure!K96=\"\",\"\",Expenditure!K96)","v":""},{"$f":"IF(Expenditure!L96=\"\",\"\",Expenditure!L96)","v":""},{"$f":"IF(Expenditure!M96=\"\",\"\",Expenditure!M96)","v":""},"-"]
[{"$f":"IF(Expenditure!B97=\"\",\"\",Expenditure!B97)","v":""},{"$f":"IF(Expenditure!C97=\"\",\"\",TEXT(Expenditure!C97,\"mmm\"))","v":""},{"$f":"IF(Expenditure!E97=\"\",\"\",Expenditure!E97)","v":""},{"$f":"IF(Expenditure!F97=\"\",\"\",Expenditure!F97)","v":""},{"$f":"IF(Expenditure!G97=\"\",\"\",Expenditure!G97)","v":""},{"$f":"IF(Expenditure!H97=\"\",\"\",Expenditure!H97)","v":""},{"$f":"IF(Expenditure!I97=\"\",\"\",Expenditure!I97)","v":""},"",{"$f":"IF(Expenditure!K97=\"\",\"\",Expenditure!K97)","v":""},{"$f":"IF(Expenditure!L97=\"\",\"\",Expenditure!L97)","v":""},{"$f":"IF(Expenditure!M97=\"\",\"\",Expenditure!M97)","v":""},"-"]
[{"$f":"IF(Expenditure!B98=\"\",\"\",Expenditure!B98)","v":""},{"$f":"IF(Expenditure!C98=\"\",\"\",TEXT(Expenditure!C98,\"mmm\"))","v":""},{"$f":"IF(Expenditure!E98=\"\",\"\",Expenditure!E98)","v":""},{"$f":"IF(Expenditure!F98=\"\",\"\",Expenditure!F98)","v":""},{"$f":"IF(Expenditure!G98=\"\",\"\",Expenditure!G98)","v":""},{"$f":"IF(Expenditure!H98=\"\",\"\",Expenditure!H98)","v":""},{"$f":"IF(Expenditure!I98=\"\",\"\",Expenditure!I98)","v":""},"",{"$f":"IF(Expenditure!K98=\"\",\"\",Expenditure!K98)","v":""},{"$f":"IF(Expenditure!L98=\"\",\"\",Expenditure!L98)","v":""},{"$f":"IF(Expenditure!M98=\"\",\"\",Expenditure!M98)","v":""},"-"]
[{"$f":"IF(Expenditure!B99=\"\",\"\",Expenditure!B99)","v":""},{"$f":"IF(Expenditure!C99=\"\",\"\",TEXT(Expenditure!C99,\"mmm\"))","v":""},{"$f":"IF(Expenditure!E99=\"\",\"\",Expenditure!E99)","v":""},{"$f":"IF(Expenditure!F99=\"\",\"\",Expenditure!F99)","v":""},{"$f":"IF(Expenditure!G99=\"\",\"\",Expenditure!G99)","v":""},{"$f":"IF(Expenditure!H99=\"\",\"\",Expenditure!H99)","v":""},{"$f":"IF(Expenditure!I99=\"\",\"\",Expenditure!I99)","v":""},"",{"$f":"IF(Expenditure!K99=\"\",\"\",Expenditure!K99)","v":""},{"$f":"IF(Expenditure!L99=\"\",\"\",Expenditure!L99)","v":""},{"$f":"IF(Expenditure!M99=\"\",\"\",Expenditure!M99)","v":""},"-"]
[{"$f":"IF(Expenditure!B100=\"\",\"\",Expenditure!B100)","v":""},{"$f":"IF(Expenditure!C100=\"\",\"\",TEXT(Expenditure!C100,\"mmm\"))","v":""},{"$f":"IF(Expenditure!E100=\"\",\"\",Expenditure!E100)","v":""},{"$f":"IF(Expenditure!F100=\"\",\"\",Expenditure!F100)","v":""},{"$f":"IF(Expenditure!G100=\"\",\"\",Expenditure!G100)","v":""},{"$f":"IF(Expenditure!H100=\"\",\"\",Expenditure!H100)","v":""},{"$f":"IF(Expenditure!I100=\"\",\"\",Expenditure!I100)","v":""},"",{"$f":"IF(Expenditure!K100=\"\",\"\",Expenditure!K100)","v":""},{"$f":"IF(Expenditure!L100=\"\",\"\",Expenditure!L100)","v":""},{"$f":"IF(Expenditure!M100=\"\",\"\",Expenditure!M100)","v":""},"-"]
[{"$f":"IF(Expenditure!B101=\"\",\"\",Expenditure!B101)","v":""},{"$f":"IF(Expenditure!C101=\"\",\"\",TEXT(Expenditure!C101,\"mmm\"))","v":""},{"$f":"IF(Expenditure!E101=\"\",\"\",Expenditure!E101)","v":""},{"$f":"IF(Expenditure!F101=\"\",\"\",Expenditure!F101)","v":""},{"$f":"IF(Expenditure!G101=\"\",\"\",Expenditure!G101)","v":""},{"$f":"IF(Expenditure!H101=\"\",\"\",Expenditure!H101)","v":""},{"$f":"IF(Expenditure!I101=\"\",\"\",Expenditure!I101)","v":""},"",{"$f":"IF(Expenditure!K101=\"\",\"\",Expenditure!K101)","v":""},{"$f":"IF(Expenditure!L101=\"\",\"\",Expenditure!L101)","v":""},{"$f":"IF(Expenditure!M101=\"\",\"\",Expenditure!M101)","v":""},"-"]
[{"$f":"IF(Expenditure!B102=\"\",\"\",Expenditure!B102)","v":""},{"$f":"IF(Expenditure!C102=\"\",\"\",TEXT(Expenditure!C102,\"mmm\"))","v":""},{"$f":"IF(Expenditure!E102=\"\",\"\",Expenditure!E102)","v":""},{"$f":"IF(Expenditure!F102=\"\",\"\",Expenditure!F102)","v":""},{"$f":"IF(Expenditure!G102=\"\",\"\",Expenditure!G102)","v":""},{"$f":"IF(Expenditure!H102=\"\",\"\",Expenditure!H102)","v":""},{"$f":"IF(Expenditure!I102=\"\",\"\",Expenditure!I102)","v":""},"",{"$f":"IF(Expenditure!K102=\"\",\"\",Expenditure!K102)","v":""},{"$f":"IF(Expenditure!L102=\"\",\"\",Expenditure!L102)","v":""},{"$f":"IF(Expenditure!M102=\"\",\"\",Expenditure!M102)","v":""},"-"]
[{"$f":"IF(Expenditure!B103=\"\",\"\",Expenditure!B103)","v":""},{"$f":"IF(Expenditure!C103=\"\",\"\",TEXT(Expenditure!C103,\"mmm\"))","v":""},{"$f":"IF(Expenditure!E103=\"\",\"\",Expenditure!E103)","v":""},{"$f":"IF(Expenditure!F103=\"\",\"\",Expenditure!F103)","v":""},{"$f":"IF(Expenditure!G103=\"\",\"\",Expenditure!G103)","v":""},{"$f":"IF(Expenditure!H103=\"\",\"\",Expenditure!H103)","v":""},{"$f":"IF(Expenditure!I103=\"\",\"\",Expenditure!I103)","v":""},"",{"$f":"IF(Expenditure!K103=\"\",\"\",Expenditure!K103)","v":""},{"$f":"IF(Expenditure!L103=\"\",\"\",Expenditure!L103)","v":""},{"$f":"IF(Expenditure!M103=\"\",\"\",Expenditure!M103)","v":""},"-"]
[{"$f":"IF(Expenditure!B104=\"\",\"\",Expenditure!B104)","v":""},{"$f":"IF(Expenditure!C104=\"\",\"\",TEXT(Expenditure!C104,\"mmm\"))","v":""},{"$f":"IF(Expenditure!E104=\"\",\"\",Expenditure!E104)","v":""},{"$f":"IF(Expenditure!F104=\"\",\"\",Expenditure!F104)","v":""},{"$f":"IF(Expenditure!G104=\"\",\"\",Expenditure!G104)","v":""},{"$f":"IF(Expenditure!H104=\"\",\"\",Expenditure!H104)","v":""},{"$f":"IF(Expenditure!I104=\"\",\"\",Expenditure!I104)","v":""},"",{"$f":"IF(Expenditure!K104=\"\",\"\",Expenditure!K104)","v":""},{"$f":"IF(Expenditure!L104=\"\",\"\",Expenditure!L104)","v":""},{"$f":"IF(Expenditure!M104=\"\",\"\",Expenditure!M104)","v":""},"-"]
[{"$f":"IF(Expenditure!B105=\"\",\"\",Expenditure!B105)","v":""},{"$f":"IF(Expenditure!C105=\"\",\"\",TEXT(Expenditure!C105,\"mmm\"))","v":""},{"$f":"IF(Expenditure!E105=\"\",\"\",Expenditure!E105)","v":""},{"$f":"IF(Expenditure!F105=\"\",\"\",Expenditure!F105)","v":""},{"$f":"IF(Expenditure!G105=\"\",\"\",Expenditure!G105)","v":""},{"$f":"IF(Expenditure!H105=\"\",\"\",Expenditure!H105)","v":""},{"$f":"IF(Expenditure!I105=\"\",\"\",Expenditure!I105)","v":""},"",{"$f":"IF(Expenditure!K105=\"\",\"\",Expenditure!K105)","v":""},{"$f":"IF(Expenditure!L105=\"\",\"\",Expenditure!L105)","v":""},{"$f":"IF(Expenditure!M105=\"\",\"\",Expenditure!M105)","v":""},"-"]
[{"$f":"IF(Expenditure!B106=\"\",\"\",Expenditure!B106)","v":""},{"$f":"IF(Expenditure!C106=\"\",\"\",TEXT(Expenditure!C106,\"mmm\"))","v":""},{"$f":"IF(Expenditure!E106=\"\",\"\",Expenditure!E106)","v":""},{"$f":"IF(Expenditure!F106=\"\",\"\",Expenditure!F106)","v":""},{"$f":"IF(Expenditure!G106=\"\",\"\",Expenditure!G106)","v":""},{"$f":"IF(Expenditure!H106=\"\",\"\",Expenditure!H106)","v":""},{"$f":"IF(Expenditure!I106=\"\",\"\",Expenditure!I106)","v":""},"",{"$f":"IF(Expenditure!K106=\"\",\"\",Expenditure!K106)","v":""},{"$f":"IF(Expenditure!L106=\"\",\"\",Expenditure!L106)","v":""},{"$f":"IF(Expenditure!M106=\"\",\"\",Expenditure!M106)","v":""},"-"]
[{"$f":"IF(Expenditure!B107=\"\",\"\",Expenditure!B107)","v":""},{"$f":"IF(Expenditure!C107=\"\",\"\",TEXT(Expenditure!C107,\"mmm\"))","v":""},{"$f":"IF(Expenditure!E107=\"\",\"\",Expenditure!E107)","v":""},{"$f":"IF(Expenditure!F107=\"\",\"\",Expenditure!F107)","v":""},{"$f":"IF(Expenditure!G107=\"\",\"\",Expenditure!G107)","v":""},{"$f":"IF(Expenditure!H107=\"\",\"\",Expenditure!H107)","v":""},{"$f":"IF(Expenditure!I107=\"\",\"\",Expenditure!I107)","v":""},"",{"$f":"IF(Expenditure!K107=\"\",\"\",Expenditure!K107)","v":""},{"$f":"IF(Expenditure!L107=\"\",\"\",Expenditure!L107)","v":""},{"$f":"IF(Expenditure!M107=\"\",\"\",Expenditure!M107)","v":""},"-"]
[{"$f":"IF(Expenditure!B108=\"\",\"\",Expenditure!B108)","v":""},{"$f":"IF(Expenditure!C108=\"\",\"\",TEXT(Expenditure!C108,\"mmm\"))","v":""},{"$f":"IF(Expenditure!E108=\"\",\"\",Expenditure!E108)","v":""},{"$f":"IF(Expenditure!F108=\"\",\"\",Expenditure!F108)","v":""},{"$f":"IF(Expenditure!G108=\"\",\"\",Expenditure!G108)","v":""},{"$f":"IF(Expenditure!H108=\"\",\"\",Expenditure!H108)","v":""},{"$f":"IF(Expenditure!I108=\"\",\"\",Expenditure!I108)","v":""},"",{"$f":"IF(Expenditure!K108=\"\",\"\",Expenditure!K108)","v":""},{"$f":"IF(Expenditure!L108=\"\",\"\",Expenditure!L108)","v":""},{"$f":"IF(Expenditure!M108=\"\",\"\",Expenditure!M108)","v":""},"-"]
[{"$f":"IF(Expenditure!B109=\"\",\"\",Expenditure!B109)","v":""},{"$f":"IF(Expenditure!C109=\"\",\"\",TEXT(Expenditure!C109,\"mmm\"))","v":""},{"$f":"IF(Expenditure!E109=\"\",\"\",Expenditure!E109)","v":""},{"$f":"IF(Expenditure!F109=\"\",\"\",Expenditure!F109)","v":""},{"$f":"IF(Expenditure!G109=\"\",\"\",Expenditure!G109)","v":""},{"$f":"IF(Expenditure!H109=\"\",\"\",Expenditure!H109)","v":""},{"$f":"IF(Expenditure!I109=\"\",\"\",Expenditure!I109)","v":""},"",{"$f":"IF(Expenditure!K109=\"\",\"\",Expenditure!K109)","v":""},{"$f":"IF(Expenditure!L109=\"\",\"\",Expenditure!L109)","v":""},{"$f":"IF(Expenditure!M109=\"\",\"\",Expenditure!M109)","v":""},"-"]
[{"$f":"IF(Expenditure!B110=\"\",\"\",Expenditure!B110)","v":""},{"$f":"IF(Expenditure!C110=\"\",\"\",TEXT(Expenditure!C110,\"mmm\"))","v":""},{"$f":"IF(Expenditure!E110=\"\",\"\",Expenditure!E110)","v":""},{"$f":"IF(Expenditure!F110=\"\",\"\",Expenditure!F110)","v":""},{"$f":"IF(Expenditure!G110=\"\",\"\",Expenditure!G110)","v":""},{"$f":"IF(Expenditure!H110=\"\",\"\",Expenditure!H110)","v":""},{"$f":"IF(Expenditure!I110=\"\",\"\",Expenditure!I110)","v":""},"",{"$f":"IF(Expenditure!K110=\"\",\"\",Expenditure!K110)","v":""},{"$f":"IF(Expenditure!L110=\"\",\"\",Expenditure!L110)","v":""},{"$f":"IF(Expenditure!M110=\"\",\"\",Expenditure!M110)","v":""},"-"]
[{"$f":"IF(Expenditure!B111=\"\",\"\",Expenditure!B111)","v":""},{"$f":"IF(Expenditure!C111=\"\",\"\",TEXT(Expenditure!C111,\"mmm\"))","v":""},{"$f":"IF(Expenditure!E111=\"\",\"\",Expenditure!E111)","v":""},{"$f":"IF(Expenditure!F111=\"\",\"\",Expenditure!F111)","v":""},{"$f":"IF(Expenditure!G111=\"\",\"\",Expenditure!G111)","v":""},{"$f":"IF(Expenditure!H111=\"\",\"\",Expenditure!H111)","v":""},{"$f":"IF(Expenditure!I111=\"\",\"\",Expenditure!I111)","v":""},"",{"$f":"IF(Expenditure!K111=\"\",\"\",Expenditure!K111)","v":""},{"$f":"IF(Expenditure!L111=\"\",\"\",Expenditure!L111)","v":""},{"$f":"IF(Expenditure!M111=\"\",\"\",Expenditure!M111)","v":""},"-"]
[{"$f":"IF(Expenditure!B112=\"\",\"\",Expenditure!B112)","v":""},{"$f":"IF(Expenditure!C112=\"\",\"\",TEXT(Expenditure!C112,\"mmm\"))","v":""},{"$f":"IF(Expenditure!E112=\"\",\"\",Expenditure!E112)","v":""},{"$f":"IF(Expenditure!F112=\"\",\"\",Expenditure!F112)","v":""},{"$f":"IF(Expenditure!G112=\"\",\"\",Expenditure!G112)","v":""},{"$f":"IF(Expenditure!H112=\"\",\"\",Expenditure!H112)","v":""},{"$f":"IF(Expenditure!I112=\"\",\"\",Expenditure!I112)","v":""},"",{"$f":"IF(Expenditure!K112=\"\",\"\",Expenditure!K112)","v":""},{"$f":"IF(Expenditure!L112=\"\",\"\",Expenditure!L112)","v":""},{"$f":"IF(Expenditure!M112=\"\",\"\",Expenditure!M112)","v":""},"-"]
[{"$f":"IF(Expenditure!B113=\"\",\"\",Expenditure!B113)","v":""},{"$f":"IF(Expenditure!C113=\"\",\"\",TEXT(Expenditure!C113,\"mmm\"))","v":""},{"$f":"IF(Expenditure!E113=\"\",\"\",Expenditure!E113)","v":""},{"$f":"IF(Expenditure!F113=\"\",\"\",Expenditure!F113)","v":""},{"$f":"IF(Expenditure!G113=\"\",\"\",Expenditure!G113)","v":""},{"$f":"IF(Expenditure!H113=\"\",\"\",Expenditure!H113)","v":""},{"$f":"IF(Expenditure!I113=\"\",\"\",Expenditure!I113)","v":""},"",{"$f":"IF(Expenditure!K113=\"\",\"\",Expenditure!K113)","v":""},{"$f":"IF(Expenditure!L113=\"\",\"\",Expenditure!L113)","v":""},{"$f":"IF(Expenditure!M113=\"\",\"\",Expenditure!M113)","v":""},"-"]
[{"$f":"IF(Expenditure!B114=\"\",\"\",Expenditure!B114)","v":""},{"$f":"IF(Expenditure!C114=\"\",\"\",TEXT(Expenditure!C114,\"mmm\"))","v":""},{"$f":"IF(Expenditure!E114=\"\",\"\",Expenditure!E114)","v":""},{"$f":"IF(Expenditure!F114=\"\",\"\",Expenditure!F114)","v":""},{"$f":"IF(Expenditure!G114=\"\",\"\",Expenditure!G114)","v":""},{"$f":"IF(Expenditure!H114=\"\",\"\",Expenditure!H114)","v":""},{"$f":"IF(Expenditure!I114=\"\",\"\",Expenditure!I114)","v":""},"",{"$f":"IF(Expenditure!K114=\"\",\"\",Expenditure!K114)","v":""},{"$f":"IF(Expenditure!L114=\"\",\"\",Expenditure!L114)","v":""},{"$f":"IF(Expenditure!M114=\"\",\"\",Expenditure!M114)","v":""},"-"]
[{"$f":"IF(Expenditure!B115=\"\",\"\",Expenditure!B115)","v":""},{"$f":"IF(Expenditure!C115=\"\",\"\",TEXT(Expenditure!C115,\"mmm\"))","v":""},{"$f":"IF(Expenditure!E115=\"\",\"\",Expenditure!E115)","v":""},{"$f":"IF(Expenditure!F115=\"\",\"\",Expenditure!F115)","v":""},{"$f":"IF(Expenditure!G115=\"\",\"\",Expenditure!G115)","v":""},{"$f":"IF(Expenditure!H115=\"\",\"\",Expenditure!H115)","v":""},{"$f":"IF(Expenditure!I115=\"\",\"\",Expenditure!I115)","v":""},"",{"$f":"IF(Expenditure!K115=\"\",\"\",Expenditure!K115)","v":""},{"$f":"IF(Expenditure!L115=\"\",\"\",Expenditure!L115)","v":""},{"$f":"IF(Expenditure!M115=\"\",\"\",Expenditure!M115)","v":""},"-"]
[{"$f":"IF(Expenditure!B116=\"\",\"\",Expenditure!B116)","v":""},{"$f":"IF(Expenditure!C116=\"\",\"\",TEXT(Expenditure!C116,\"mmm\"))","v":""},{"$f":"IF(Expenditure!E116=\"\",\"\",Expenditure!E116)","v":""},{"$f":"IF(Expenditure!F116=\"\",\"\",Expenditure!F116)","v":""},{"$f":"IF(Expenditure!G116=\"\",\"\",Expenditure!G116)","v":""},{"$f":"IF(Expenditure!H116=\"\",\"\",Expenditure!H116)","v":""},{"$f":"IF(Expenditure!I116=\"\",\"\",Expenditure!I116)","v":""},"",{"$f":"IF(Expenditure!K116=\"\",\"\",Expenditure!K116)","v":""},{"$f":"IF(Expenditure!L116=\"\",\"\",Expenditure!L116)","v":""},{"$f":"IF(Expenditure!M116=\"\",\"\",Expenditure!M116)","v":""},"-"]
[{"$f":"IF(Expenditure!B117=\"\",\"\",Expenditure!B117)","v":""},{"$f":"IF(Expenditure!C117=\"\",\"\",TEXT(Expenditure!C117,\"mmm\"))","v":""},{"$f":"IF(Expenditure!E117=\"\",\"\",Expenditure!E117)","v":""},{"$f":"IF(Expenditure!F117=\"\",\"\",Expenditure!F117)","v":""},{"$f":"IF(Expenditure!G117=\"\",\"\",Expenditure!G117)","v":""},{"$f":"IF(Expenditure!H117=\"\",\"\",Expenditure!H117)","v":""},{"$f":"IF(Expenditure!I117=\"\",\"\",Expenditure!I117)","v":""},"",{"$f":"IF(Expenditure!K117=\"\",\"\",Expenditure!K117)","v":""},{"$f":"IF(Expenditure!L117=\"\",\"\",Expenditure!L117)","v":""},{"$f":"IF(Expenditure!M117=\"\",\"\",Expenditure!M117)","v":""},"-"]
[{"$f":"IF(Expenditure!B118=\"\",\"\",Expenditure!B118)","v":""},{"$f":"IF(Expenditure!C118=\"\",\"\",TEXT(Expenditure!C118,\"mmm\"))","v":""},{"$f":"IF(Expenditure!E118=\"\",\"\",Expenditure!E118)","v":""},{"$f":"IF(Expenditure!F118=\"\",\"\",Expenditure!F118)","v":""},{"$f":"IF(Expenditure!G118=\"\",\"\",Expenditure!G118)","v":""},{"$f":"IF(Expenditure!H118=\"\",\"\",Expenditure!H118)","v":""},{"$f":"IF(Expenditure!I118=\"\",\"\",Expenditure!I118)","v":""},"",{"$f":"IF(Expenditure!K118=\"\",\"\",Expenditure!K118)","v":""},{"$f":"IF(Expenditure!L118=\"\",\"\",Expenditure!L118)","v":""},{"$f":"IF(Expenditure!M118=\"\",\"\",Expenditure!M118)","v":""},"-"]
[{"$f":"IF(Expenditure!B119=\"\",\"\",Expenditure!B119)","v":""},{"$f":"IF(Expenditure!C119=\"\",\"\",TEXT(Expenditure!C119,\"mmm\"))","v":""},{"$f":"IF(Expenditure!E119=\"\",\"\",Expenditure!E119)","v":""},{"$f":"IF(Expenditure!F119=\"\",\"\",Expenditure!F119)","v":""},{"$f":"IF(Expenditure!G119=\"\",\"\",Expenditure!G119)","v":""},{"$f":"IF(Expenditure!H119=\"\",\"\",Expenditure!H119)","v":""},{"$f":"IF(Expenditure!I119=\"\",\"\",Expenditure!I119)","v":""},"",{"$f":"IF(Expenditure!K119=\"\",\"\",Expenditure!K119)","v":""},{"$f":"IF(Expenditure!L119=\"\",\"\",Expenditure!L119)","v":""},{"$f":"IF(Expenditure!M119=\"\",\"\",Expenditure!M119)","v":""},"-"]
[{"$f":"IF(Expenditure!B120=\"\",\"\",Expenditure!B120)","v":""},{"$f":"IF(Expenditure!C120=\"\",\"\",TEXT(Expenditure!C120,\"mmm\"))","v":""},{"$f":"IF(Expenditure!E120=\"\",\"\",Expenditure!E120)","v":""},{"$f":"IF(Expenditure!F120=\"\",\"\",Expenditure!F120)","v":""},{"$f":"IF(Expenditure!G120=\"\",\"\",Expenditure!G120)","v":""},{"$f":"IF(Expenditure!H120=\"\",\"\",Expenditure!H120)","v":""},{"$f":"IF(Expenditure!I120=\"\",\"\",Expenditure!I120)","v":""},"",{"$f":"IF(Expenditure!K120=\"\",\"\",Expenditure!K120)","v":""},{"$f":"IF(Expenditure!L120=\"\",\"\",Expenditure!L120)","v":""},{"$f":"IF(Expenditure!M120=\"\",\"\",Expenditure!M120)","v":""},"-"]
[{"$f":"IF(Expenditure!B121=\"\",\"\",Expenditure!B121)","v":""},{"$f":"IF(Expenditure!C121=\"\",\"\",TEXT(Expenditure!C121,\"mmm\"))","v":""},{"$f":"IF(Expenditure!E121=\"\",\"\",Expenditure!E121)","v":""},{"$f":"IF(Expenditure!F121=\"\",\"\",Expenditure!F121)","v":""},{"$f":"IF(Expenditure!G121=\"\",\"\",Expenditure!G121)","v":""},{"$f":"IF(Expenditure!H121=\"\",\"\",Expenditure!H121)","v":""},{"$f":"IF(Expenditure!I121=\"\",\"\",Expenditure!I121)","v":""},"",{"$f":"IF(Expenditure!K121=\"\",\"\",Expenditure!K121)","v":""},{"$f":"IF(Expenditure!L121=\"\",\"\",Expenditure!L121)","v":""},{"$f":"IF(Expenditure!M121=\"\",\"\",Expenditure!M121)","v":""},"-"]
[{"$f":"IF(Expenditure!B122=\"\",\"\",Expenditure!B122)","v":""},{"$f":"IF(Expenditure!C122=\"\",\"\",TEXT(Expenditure!C122,\"mmm\"))","v":""},{"$f":"IF(Expenditure!E122=\"\",\"\",Expenditure!E122)","v":""},{"$f":"IF(Expenditure!F122=\"\",\"\",Expenditure!F122)","v":""},{"$f":"IF(Expenditure!G122=\"\",\"\",Expenditure!G122)","v":""},{"$f":"IF(Expenditure!H122=\"\",\"\",Expenditure!H122)","v":""},{"$f":"IF(Expenditure!I122=\"\",\"\",Expenditure!I122)","v":""},"",{"$f":"IF(Expenditure!K122=\"\",\"\",Expenditure!K122)","v":""},{"$f":"IF(Expenditure!L122=\"\",\"\",Expenditure!L122)","v":""},{"$f":"IF(Expenditure!M122=\"\",\"\",Expenditure!M122)","v":""},"-"]
[{"$f":"IF(Expenditure!B123=\"\",\"\",Expenditure!B123)","v":""},{"$f":"IF(Expenditure!C123=\"\",\"\",TEXT(Expenditure!C123,\"mmm\"))","v":""},{"$f":"IF(Expenditure!E123=\"\",\"\",Expenditure!E123)","v":""},{"$f":"IF(Expenditure!F123=\"\",\"\",Expenditure!F123)","v":""},{"$f":"IF(Expenditure!G123=\"\",\"\",Expenditure!G123)","v":""},{"$f":"IF(Expenditure!H123=\"\",\"\",Expenditure!H123)","v":""},{"$f":"IF(Expenditure!I123=\"\",\"\",Expenditure!I123)","v":""},"",{"$f":"IF(Expenditure!K123=\"\",\"\",Expenditure!K123)","v":""},{"$f":"IF(Expenditure!L123=\"\",\"\",Expenditure!L123)","v":""},{"$f":"IF(Expenditure!M123=\"\",\"\",Expenditure!M123)","v":""},"-"]
[{"$f":"IF(Expenditure!B124=\"\",\"\",Expenditure!B124)","v":""},{"$f":"IF(Expenditure!C124=\"\",\"\",TEXT(Expenditure!C124,\"mmm\"))","v":""},{"$f":"IF(Expenditure!E124=\"\",\"\",Expenditure!E124)","v":""},{"$f":"IF(Expenditure!F124=\"\",\"\",Expenditure!F124)","v":""},{"$f":"IF(Expenditure!G124=\"\",\"\",Expenditure!G124)","v":""},{"$f":"IF(Expenditure!H124=\"\",\"\",Expenditure!H124)","v":""},{"$f":"IF(Expenditure!I124=\"\",\"\",Expenditure!I124)","v":""},"",{"$f":"IF(Expenditure!K124=\"\",\"\",Expenditure!K124)","v":""},{"$f":"IF(Expenditure!L124=\"\",\"\",Expenditure!L124)","v":""},{"$f":"IF(Expenditure!M124=\"\",\"\",Expenditure!M124)","v":""},"-"]
[{"$f":"IF(Expenditure!B125=\"\",\"\",Expenditure!B125)","v":""},{"$f":"IF(Expenditure!C125=\"\",\"\",TEXT(Expenditure!C125,\"mmm\"))","v":""},{"$f":"IF(Expenditure!E125=\"\",\"\",Expenditure!E125)","v":""},{"$f":"IF(Expenditure!F125=\"\",\"\",Expenditure!F125)","v":""},{"$f":"IF(Expenditure!G125=\"\",\"\",Expenditure!G125)","v":""},{"$f":"IF(Expenditure!H125=\"\",\"\",Expenditure!H125)","v":""},{"$f":"IF(Expenditure!I125=\"\",\"\",Expenditure!I125)","v":""},"",{"$f":"IF(Expenditure!K125=\"\",\"\",Expenditure!K125)","v":""},{"$f":"IF(Expenditure!L125=\"\",\"\",Expenditure!L125)","v":""},{"$f":"IF(Expenditure!M125=\"\",\"\",Expenditure!M125)","v":""},"-"]
[{"$f":"IF(Expenditure!B126=\"\",\"\",Expenditure!B126)","v":""},{"$f":"IF(Expenditure!C126=\"\",\"\",TEXT(Expenditure!C126,\"mmm\"))","v":""},{"$f":"IF(Expenditure!E126=\"\",\"\",Expenditure!E126)","v":""},{"$f":"IF(Expenditure!F126=\"\",\"\",Expenditure!F126)","v":""},{"$f":"IF(Expenditure!G126=\"\",\"\",Expenditure!G126)","v":""},{"$f":"IF(Expenditure!H126=\"\",\"\",Expenditure!H126)","v":""},{"$f":"IF(Expenditure!I126=\"\",\"\",Expenditure!I126)","v":""},"",{"$f":"IF(Expenditure!K126=\"\",\"\",Expenditure!K126)","v":""},{"$f":"IF(Expenditure!L126=\"\",\"\",Expenditure!L126)","v":""},{"$f":"IF(Expenditure!M126=\"\",\"\",Expenditure!M126)","v":""},"-"]
[{"$f":"IF(Expenditure!B127=\"\",\"\",Expenditure!B127)","v":""},{"$f":"IF(Expenditure!C127=\"\",\"\",TEXT(Expenditure!C127,\"mmm\"))","v":""},{"$f":"IF(Expenditure!E127=\"\",\"\",Expenditure!E127)","v":""},{"$f":"IF(Expenditure!F127=\"\",\"\",Expenditure!F127)","v":""},{"$f":"IF(Expenditure!G127=\"\",\"\",Expenditure!G127)","v":""},{"$f":"IF(Expenditure!H127=\"\",\"\",Expenditure!H127)","v":""},{"$f":"IF(Expenditure!I127=\"\",\"\",Expenditure!I127)","v":""},"",{"$f":"IF(Expenditure!K127=\"\",\"\",Expenditure!K127)","v":""},{"$f":"IF(Expenditure!L127=\"\",\"\",Expenditure!L127)","v":""},{"$f":"IF(Expenditure!M127=\"\",\"\",Expenditure!M127)","v":""},"-"]
[{"$f":"IF(Expenditure!B128=\"\",\"\",Expenditure!B128)","v":""},{"$f":"IF(Expenditure!C128=\"\",\"\",TEXT(Expenditure!C128,\"mmm\"))","v":""},{"$f":"IF(Expenditure!E128=\"\",\"\",Expenditure!E128)","v":""},{"$f":"IF(Expenditure!F128=\"\",\"\",Expenditure!F128)","v":""},{"$f":"IF(Expenditure!G128=\"\",\"\",Expenditure!G128)","v":""},{"$f":"IF(Expenditure!H128=\"\",\"\",Expenditure!H128)","v":""},{"$f":"IF(Expenditure!I128=\"\",\"\",Expenditure!I128)","v":""},"",{"$f":"IF(Expenditure!K128=\"\",\"\",Expenditure!K128)","v":""},{"$f":"IF(Expenditure!L128=\"\",\"\",Expenditure!L128)","v":""},{"$f":"IF(Expenditure!M128=\"\",\"\",Expenditure!M128)","v":""},"-"]
[{"$f":"IF(Expenditure!B129=\"\",\"\",Expenditure!B129)","v":""},{"$f":"IF(Expenditure!C129=\"\",\"\",TEXT(Expenditure!C129,\"mmm\"))","v":""},{"$f":"IF(Expenditure!E129=\"\",\"\",Expenditure!E129)","v":""},{"$f":"IF(Expenditure!F129=\"\",\"\",Expenditure!F129)","v":""},{"$f":"IF(Expenditure!G129=\"\",\"\",Expenditure!G129)","v":""},{"$f":"IF(Expenditure!H129=\"\",\"\",Expenditure!H129)","v":""},{"$f":"IF(Expenditure!I129=\"\",\"\",Expenditure!I129)","v":""},"",{"$f":"IF(Expenditure!K129=\"\",\"\",Expenditure!K129)","v":""},{"$f":"IF(Expenditure!L129=\"\",\"\",Expenditure!L129)","v":""},{"$f":"IF(Expenditure!M129=\"\",\"\",Expenditure!M129)","v":""},"-"]
[{"$f":"IF(Expenditure!B130=\"\",\"\",Expenditure!B130)","v":""},{"$f":"IF(Expenditure!C130=\"\",\"\",TEXT(Expenditure!C130,\"mmm\"))","v":""},{"$f":"IF(Expenditure!E130=\"\",\"\",Expenditure!E130)","v":""},{"$f":"IF(Expenditure!F130=\"\",\"\",Expenditure!F130)","v":""},{"$f":"IF(Expenditure!G130=\"\",\"\",Expenditure!G130)","v":""},{"$f":"IF(Expenditure!H130=\"\",\"\",Expenditure!H130)","v":""},{"$f":"IF(Expenditure!I130=\"\",\"\",Expenditure!I130)","v":""},"",{"$f":"IF(Expenditure!K130=\"\",\"\",Expenditure!K130)","v":""},{"$f":"IF(Expenditure!L130=\"\",\"\",Expenditure!L130)","v":""},{"$f":"IF(Expenditure!M130=\"\",\"\",Expenditure!M130)","v":""},"-"]
[{"$f":"IF(Expenditure!B131=\"\",\"\",Expenditure!B131)","v":""},{"$f":"IF(Expenditure!C131=\"\",\"\",TEXT(Expenditure!C131,\"mmm\"))","v":""},{"$f":"IF(Expenditure!E131=\"\",\"\",Expenditure!E131)","v":""},{"$f":"IF(Expenditure!F131=\"\",\"\",Expenditure!F131)","v":""},{"$f":"IF(Expenditure!G131=\"\",\"\",Expenditure!G131)","v":""},{"$f":"IF(Expenditure!H131=\"\",\"\",Expenditure!H131)","v":""},{"$f":"IF(Expenditure!I131=\"\",\"\",Expenditure!I131)","v":""},"",{"$f":"IF(Expenditure!K131=\"\",\"\",Expenditure!K131)","v":""},{"$f":"IF(Expenditure!L131=\"\",\"\",Expenditure!L131)","v":""},{"$f":"IF(Expenditure!M131=\"\",\"\",Expenditure!M131)","v":""},"-"]
[{"$f":"IF(Expenditure!B132=\"\",\"\",Expenditure!B132)","v":""},{"$f":"IF(Expenditure!C132=\"\",\"\",TEXT(Expenditure!C132,\"mmm\"))","v":""},{"$f":"IF(Expenditure!E132=\"\",\"\",Expenditure!E132)","v":""},{"$f":"IF(Expenditure!F132=\"\",\"\",Expenditure!F132)","v":""},{"$f":"IF(Expenditure!G132=\"\",\"\",Expenditure!G132)","v":""},{"$f":"IF(Expenditure!H132=\"\",\"\",Expenditure!H132)","v":""},{"$f":"IF(Expenditure!I132=\"\",\"\",Expenditure!I132)","v":""},{"$f":"IFERROR(F140*G140,\"\")","v":""},{"$f":"IF(Expenditure!K132=\"\",\"\",Expenditure!K132)","v":""},{"$f":"IF(Expenditure!L132=\"\",\"\",Expenditure!L132)","v":""},{"$f":"IF(Expenditure!M132=\"\",\"\",Expenditure!M132)","v":""},"-"]
[{"$f":"IF(Expenditure!B133=\"\",\"\",Expenditure!B133)","v":""},{"$f":"IF(Expenditure!C133=\"\",\"\",TEXT(Expenditure!C133,\"mmm\"))","v":""},{"$f":"IF(Expenditure!E133=\"\",\"\",Expenditure!E133)","v":""},{"$f":"IF(Expenditure!F133=\"\",\"\",Expenditure!F133)","v":""},{"$f":"IF(Expenditure!G133=\"\",\"\",Expenditure!G133)","v":""},{"$f":"IF(Expenditure!H133=\"\",\"\",Expenditure!H133)","v":""},{"$f":"IF(Expenditure!I133=\"\",\"\",Expenditure!I133)","v":""},"",{"$f":"IF(Expenditure!K133=\"\",\"\",Expenditure!K133)","v":""},{"$f":"IF(Expenditure!L133=\"\",\"\",Expenditure!L133)","v":""},{"$f":"IF(Expenditure!M133=\"\",\"\",Expenditure!M133)","v":""},"-"]
[{"$f":"IF(Expenditure!B134=\"\",\"\",Expenditure!B134)","v":""},{"$f":"IF(Expenditure!C134=\"\",\"\",TEXT(Expenditure!C134,\"mmm\"))","v":""},{"$f":"IF(Expenditure!E134=\"\",\"\",Expenditure!E134)","v":""},{"$f":"IF(Expenditure!F134=\"\",\"\",Expenditure!F134)","v":""},{"$f":"IF(Expenditure!G134=\"\",\"\",Expenditure!G134)","v":""},{"$f":"IF(Expenditure!H134=\"\",\"\",Expenditure!H134)","v":""},{"$f":"IF(Expenditure!I134=\"\",\"\",Expenditure!I134)","v":""},"",{"$f":"IF(Expenditure!K134=\"\",\"\",Expenditure!K134)","v":""},{"$f":"IF(Expenditure!L134=\"\",\"\",Expenditure!L134)","v":""},{"$f":"IF(Expenditure!M134=\"\",\"\",Expenditure!M134)","v":""},"-"]
[{"$f":"IF(Expenditure!B135=\"\",\"\",Expenditure!B135)","v":""},{"$f":"IF(Expenditure!C135=\"\",\"\",TEXT(Expenditure!C135,\"mmm\"))","v":""},{"$f":"IF(Expenditure!E135=\"\",\"\",Expenditure!E135)","v":""},{"$f":"IF(Expenditure!F135=\"\",\"\",Expenditure!F135)","v":""},{"$f":"IF(Expenditure!G135=\"\",\"\",Expenditure!G135)","v":""},{"$f":"IF(Expenditure!H135=\"\",\"\",Expenditure!H135)","v":""},{"$f":"IF(Expenditure!I135=\"\",\"\",Expenditure!I135)","v":""},"",{"$f":"IF(Expenditure!K135=\"\",\"\",Expenditure!K135)","v":""},{"$f":"IF(Expenditure!L135=\"\",\"\",Expenditure!L135)","v":""},{"$f":"IF(Expenditure!M135=\"\",\"\",Expenditure!M135)","v":""},"-"]
[{"$f":"IF(Expenditure!B136=\"\",\"\",Expenditure!B136)","v":""},{"$f":"IF(Expenditure!C136=\"\",\"\",TEXT(Expenditure!C136,\"mmm\"))","v":""},{"$f":"IF(Expenditure!E136=\"\",\"\",Expenditure!E136)","v":""},{"$f":"IF(Expenditure!F136=\"\",\"\",Expenditure!F136)","v":""},{"$f":"IF(Expenditure!G136=\"\",\"\",Expenditure!G136)","v":""},{"$f":"IF(Expenditure!H136=\"\",\"\",Expenditure!H136)","v":""},{"$f":"IF(Expenditure!I136=\"\",\"\",Expenditure!I136)","v":""},"",{"$f":"IF(Expenditure!K136=\"\",\"\",Expenditure!K136)","v":""},{"$f":"IF(Expenditure!L136=\"\",\"\",Expenditure!L136)","v":""},{"$f":"IF(Expenditure!M136=\"\",\"\",Expenditure!M136)","v":""},"-"]
[{"$f":"IF(Expenditure!B137=\"\",\"\",Expenditure!B137)","v":""},{"$f":"IF(Expenditure!C137=\"\",\"\",TEXT(Expenditure!C137,\"mmm\"))","v":""},{"$f":"IF(Expenditure!E137=\"\",\"\",Expenditure!E137)","v":""},{"$f":"IF(Expenditure!F137=\"\",\"\",Expenditure!F137)","v":""},{"$f":"IF(Expenditure!G137=\"\",\"\",Expenditure!G137)","v":""},{"$f":"IF(Expenditure!H137=\"\",\"\",Expenditure!H137)","v":""},{"$f":"IF(Expenditure!I137=\"\",\"\",Expenditure!I137)","v":""},"",{"$f":"IF(Expenditure!K137=\"\",\"\",Expenditure!K137)","v":""},{"$f":"IF(Expenditure!L137=\"\",\"\",Expenditure!L137)","v":""},{"$f":"IF(Expenditure!M137=\"\",\"\",Expenditure!M137)","v":""},"-"]
[{"$f":"IF(Expenditure!B138=\"\",\"\",Expenditure!B138)","v":""},{"$f":"IF(Expenditure!C138=\"\",\"\",TEXT(Expenditure!C138,\"mmm\"))","v":""},{"$f":"IF(Expenditure!E138=\"\",\"\",Expenditure!E138)","v":""},{"$f":"IF(Expenditure!F138=\"\",\"\",Expenditure!F138)","v":""},{"$f":"IF(Expenditure!G138=\"\",\"\",Expenditure!G138)","v":""},{"$f":"IF(Expenditure!H138=\"\",\"\",Expenditure!H138)","v":""},{"$f":"IF(Expenditure!I138=\"\",\"\",Expenditure!I138)","v":""},"",{"$f":"IF(Expenditure!K138=\"\",\"\",Expenditure!K138)","v":""},{"$f":"IF(Expenditure!L138=\"\",\"\",Expenditure!L138)","v":""},{"$f":"IF(Expenditure!M138=\"\",\"\",Expenditure!M138)","v":""},"-"]
[{"$f":"IF(Expenditure!B139=\"\",\"\",Expenditure!B139)","v":""},{"$f":"IF(Expenditure!C139=\"\",\"\",TEXT(Expenditure!C139,\"mmm\"))","v":""},{"$f":"IF(Expenditure!E139=\"\",\"\",Expenditure!E139)","v":""},{"$f":"IF(Expenditure!F139=\"\",\"\",Expenditure!F139)","v":""},{"$f":"IF(Expenditure!G139=\"\",\"\",Expenditure!G139)","v":""},{"$f":"IF(Expenditure!H139=\"\",\"\",Expenditure!H139)","v":""},{"$f":"IF(Expenditure!I139=\"\",\"\",Expenditure!I139)","v":""},"",{"$f":"IF(Expenditure!K139=\"\",\"\",Expenditure!K139)","v":""},{"$f":"IF(Expenditure!L139=\"\",\"\",Expenditure!L139)","v":""},{"$f":"IF(Expenditure!M139=\"\",\"\",Expenditure!M139)","v":""},"-"]
[{"$f":"IF(Expenditure!B140=\"\",\"\",Expenditure!B140)","v":""},{"$f":"IF(Expenditure!C140=\"\",\"\",TEXT(Expenditure!C140,\"mmm\"))","v":""},{"$f":"IF(Expenditure!E140=\"\",\"\",Expenditure!E140)","v":""},{"$f":"IF(Expenditure!F140=\"\",\"\",Expenditure!F140)","v":""},{"$f":"IF(Expenditure!G140=\"\",\"\",Expenditure!G140)","v":""},{"$f":"IF(Expenditure!H140=\"\",\"\",Expenditure!H140)","v":""},{"$f":"IF(Expenditure!I140=\"\",\"\",Expenditure!I140)","v":""},"",{"$f":"IF(Expenditure!K140=\"\",\"\",Expenditure!K140)","v":""},{"$f":"IF(Expenditure!L140=\"\",\"\",Expenditure!L140)","v":""},{"$f":"IF(Expenditure!M140=\"\",\"\",Expenditure!M140)","v":""},"-"]
[{"$f":"IF(Expenditure!B141=\"\",\"\",Expenditure!B141)","v":""},{"$f":"IF(Expenditure!C141=\"\",\"\",TEXT(Expenditure!C141,\"mmm\"))","v":""},{"$f":"IF(Expenditure!E141=\"\",\"\",Expenditure!E141)","v":""},{"$f":"IF(Expenditure!F141=\"\",\"\",Expenditure!F141)","v":""},{"$f":"IF(Expenditure!G141=\"\",\"\",Expenditure!G141)","v":""},{"$f":"IF(Expenditure!H141=\"\",\"\",Expenditure!H141)","v":""},{"$f":"IF(Expenditure!I141=\"\",\"\",Expenditure!I141)","v":""},"",{"$f":"IF(Expenditure!K141=\"\",\"\",Expenditure!K141)","v":""},{"$f":"IF(Expenditure!L141=\"\",\"\",Expenditure!L141)","v":""},{"$f":"IF(Expenditure!M141=\"\",\"\",Expenditure!M141)","v":""},"-"]
[{"$f":"IF(Expenditure!B142=\"\",\"\",Expenditure!B142)","v":""},{"$f":"IF(Expenditure!C142=\"\",\"\",TEXT(Expenditure!C142,\"mmm\"))","v":""},{"$f":"IF(Expenditure!E142=\"\",\"\",Expenditure!E142)","v":""},{"$f":"IF(Expenditure!F142=\"\",\"\",Expenditure!F142)","v":""},{"$f":"IF(Expenditure!G142=\"\",\"\",Expenditure!G142)","v":""},{"$f":"IF(Expenditure!H142=\"\",\"\",Expenditure!H142)","v":""},{"$f":"IF(Expenditure!I142=\"\",\"\",Expenditure!I142)","v":""},"",{"$f":"IF(Expenditure!K142=\"\",\"\",Expenditure!K142)","v":""},{"$f":"IF(Expenditure!L142=\"\",\"\",Expenditure!L142)","v":""},{"$f":"IF(Expenditure!M142=\"\",\"\",Expenditure!M142)","v":""},"-"]
[{"$f":"IF(Expenditure!B143=\"\",\"\",Expenditure!B143)","v":""},{"$f":"IF(Expenditure!C143=\"\",\"\",TEXT(Expenditure!C143,\"mmm\"))","v":""},{"$f":"IF(Expenditure!E143=\"\",\"\",Expenditure!E143)","v":""},{"$f":"IF(Expenditure!F143=\"\",\"\",Expenditure!F143)","v":""},{"$f":"IF(Expenditure!G143=\"\",\"\",Expenditure!G143)","v":""},{"$f":"IF(Expenditure!H143=\"\",\"\",Expenditure!H143)","v":""},{"$f":"IF(Expenditure!I143=\"\",\"\",Expenditure!I143)","v":""},"",{"$f":"IF(Expenditure!K143=\"\",\"\",Expenditure!K143)","v":""},{"$f":"IF(Expenditure!L143=\"\",\"\",Expenditure!L143)","v":""},{"$f":"IF(Expenditure!M143=\"\",\"\",Expenditure!M143)","v":""},"-"]
[{"$f":"IF(Expenditure!B144=\"\",\"\",Expenditure!B144)","v":""},{"$f":"IF(Expenditure!C144=\"\",\"\",TEXT(Expenditure!C144,\"mmm\"))","v":""},{"$f":"IF(Expenditure!E144=\"\",\"\",Expenditure!E144)","v":""},{"$f":"IF(Expenditure!F144=\"\",\"\",Expenditure!F144)","v":""},{"$f":"IF(Expenditure!G144=\"\",\"\",Expenditure!G144)","v":""},{"$f":"IF(Expenditure!H144=\"\",\"\",Expenditure!H144)","v":""},{"$f":"IF(Expenditure!I144=\"\",\"\",Expenditure!I144)","v":""},"",{"$f":"IF(Expenditure!K144=\"\",\"\",Expenditure!K144)","v":""},{"$f":"IF(Expenditure!L144=\"\",\"\",Expenditure!L144)","v":""},{"$f":"IF(Expenditure!M144=\"\",\"\",Expenditure!M144)","v":""},"-"]
[{"$f":"IF(Expenditure!B145=\"\",\"\",Expenditure!B145)","v":""},{"$f":"IF(Expenditure!C145=\"\",\"\",TEXT(Expenditure!C145,\"mmm\"))","v":""},{"$f":"IF(Expenditure!E145=\"\",\"\",Expenditure!E145)","v":""},{"$f":"IF(Expenditure!F145=\"\",\"\",Expenditure!F145)","v":""},{"$f":"IF(Expenditure!G145=\"\",\"\",Expenditure!G145)","v":""},{"$f":"IF(Expenditure!H145=\"\",\"\",Expenditure!H145)","v":""},{"$f":"IF(Expenditure!I145=\"\",\"\",Expenditure!I145)","v":""},"",{"$f":"IF(Expenditure!K145=\"\",\"\",Expenditure!K145)","v":""},{"$f":"IF(Expenditure!L145=\"\",\"\",Expenditure!L145)","v":""},{"$f":"IF(Expenditure!M145=\"\",\"\",Expenditure!M145)","v":""},"-"]
[{"$f":"IF(Expenditure!B146=\"\",\"\",Expenditure!B146)","v":""},{"$f":"IF(Expenditure!C146=\"\",\"\",TEXT(Expenditure!C146,\"mmm\"))","v":""},{"$f":"IF(Expenditure!E146=\"\",\"\",Expenditure!E146)","v":""},{"$f":"IF(Expenditure!F146=\"\",\"\",Expenditure!F146)","v":""},{"$f":"IF(Expenditure!G146=\"\",\"\",Expenditure!G146)","v":""},{"$f":"IF(Expenditure!H146=\"\",\"\",Expenditure!H146)","v":""},{"$f":"IF(Expenditure!I146=\"\",\"\",Expenditure!I146)","v":""},"",{"$f":"IF(Expenditure!K146=\"\",\"\",Expenditure!K146)","v":""},{"$f":"IF(Expenditure!L146=\"\",\"\",Expenditure!L146)","v":""},{"$f":"IF(Expenditure!M146=\"\",\"\",Expenditure!M146)","v":""},"-"]
[{"$f":"IF(Expenditure!B147=\"\",\"\",Expenditure!B147)","v":""},{"$f":"IF(Expenditure!C147=\"\",\"\",TEXT(Expenditure!C147,\"mmm\"))","v":""},{"$f":"IF(Expenditure!E147=\"\",\"\",Expenditure!E147)","v":""},{"$f":"IF(Expenditure!F147=\"\",\"\",Expenditure!F147)","v":""},{"$f":"IF(Expenditure!G147=\"\",\"\",Expenditure!G147)","v":""},{"$f":"IF(Expenditure!H147=\"\",\"\",Expenditure!H147)","v":""},{"$f":"IF(Expenditure!I147=\"\",\"\",Expenditure!I147)","v":""},"",{"$f":"IF(Expenditure!K147=\"\",\"\",Expenditure!K147)","v":""},{"$f":"IF(Expenditure!L147=\"\",\"\",Expenditure!L147)","v":""},{"$f":"IF(Expenditure!M147=\"\",\"\",Expenditure!M147)","v":""},"-"]
[{"$f":"IF(Expenditure!B148=\"\",\"\",Expenditure!B148)","v":""},{"$f":"IF(Expenditure!C148=\"\",\"\",TEXT(Expenditure!C148,\"mmm\"))","v":""},{"$f":"IF(Expenditure!E148=\"\",\"\",Expenditure!E148)","v":""},{"$f":"IF(Expenditure!F148=\"\",\"\",Expenditure!F148)","v":""},{"$f":"IF(Expenditure!G148=\"\",\"\",Expenditure!G148)","v":""},{"$f":"IF(Expenditure!H148=\"\",\"\",Expenditure!H148)","v":""},{"$f":"IF(Expenditure!I148=\"\",\"\",Expenditure!I148)","v":""},"",{"$f":"IF(Expenditure!K148=\"\",\"\",Expenditure!K148)","v":""},{"$f":"IF(Expenditure!L148=\"\",\"\",Expenditure!L148)","v":""},{"$f":"IF(Expenditure!M148=\"\",\"\",Expenditure!M148)","v":""},"-"]
[{"$f":"IF(Expenditure!B149=\"\",\"\",Expenditure!B149)","v":""},{"$f":"IF(Expenditure!C149=\"\",\"\",TEXT(Expenditure!C149,\"mmm\"))","v":""},{"$f":"IF(Expenditure!E149=\"\",\"\",Expenditure!E149)","v":""},{"$f":"IF(Expenditure!F149=\"\",\"\",Expenditure!F149)","v":""},{"$f":"IF(Expenditure!G149=\"\",\"\",Expenditure!G149)","v":""},{"$f":"IF(Expenditure!H149=\"\",\"\",Expenditure!H149)","v":""},{"$f":"IF(Expenditure!I149=\"\",\"\",Expenditure!I149)","v":""},"",{"$f":"IF(Expenditure!K149=\"\",\"\",Expenditure!K149)","v":""},{"$f":"IF(Expenditure!L149=\"\",\"\",Expenditure!L149)","v":""},{"$f":"IF(Expenditure!M149=\"\",\"\",Expenditure!M149)","v":""},"-"]
[{"$f":"IF(Expenditure!B150=\"\",\"\",Expenditure!B150)","v":""},{"$f":"IF(Expenditure!C150=\"\",\"\",TEXT(Expenditure!C150,\"mmm\"))","v":""},{"$f":"IF(Expenditure!E150=\"\",\"\",Expenditure!E150)","v":""},{"$f":"IF(Expenditure!F150=\"\",\"\",Expenditure!F150)","v":""},{"$f":"IF(Expenditure!G150=\"\",\"\",Expenditure!G150)","v":""},{"$f":"IF(Expenditure!H150=\"\",\"\",Expenditure!H150)","v":""},{"$f":"IF(Expenditure!I150=\"\",\"\",Expenditure!I150)","v":""},"",{"$f":"IF(Expenditure!K150=\"\",\"\",Expenditure!K150)","v":""},{"$f":"IF(Expenditure!L150=\"\",\"\",Expenditure!L150)","v":""},{"$f":"IF(Expenditure!M150=\"\",\"\",Expenditure!M150)","v":""},"-"]
[{"$f":"IF(Expenditure!B151=\"\",\"\",Expenditure!B151)","v":""},{"$f":"IF(Expenditure!C151=\"\",\"\",TEXT(Expenditure!C151,\"mmm\"))","v":""},{"$f":"IF(Expenditure!E151=\"\",\"\",Expenditure!E151)","v":""},{"$f":"IF(Expenditure!F151=\"\",\"\",Expenditure!F151)","v":""},{"$f":"IF(Expenditure!G151=\"\",\"\",Expenditure!G151)","v":""},{"$f":"IF(Expenditure!H151=\"\",\"\",Expenditure!H151)","v":""},{"$f":"IF(Expenditure!I151=\"\",\"\",Expenditure!I151)","v":""},"",{"$f":"IF(Expenditure!K151=\"\",\"\",Expenditure!K151)","v":""},{"$f":"IF(Expenditure!L151=\"\",\"\",Expenditure!L151)","v":""},{"$f":"IF(Expenditure!M151=\"\",\"\",Expenditure!M151)","v":""},"-"]
[{"$f":"IF(Expenditure!B152=\"\",\"\",Expenditure!B152)","v":""},{"$f":"IF(Expenditure!C152=\"\",\"\",TEXT(Expenditure!C152,\"mmm\"))","v":""},{"$f":"IF(Expenditure!E152=\"\",\"\",Expenditure!E152)","v":""},{"$f":"IF(Expenditure!F152=\"\",\"\",Expenditure!F152)","v":""},{"$f":"IF(Expenditure!G152=\"\",\"\",Expenditure!G152)","v":""},{"$f":"IF(Expenditure!H152=\"\",\"\",Expenditure!H152)","v":""},{"$f":"IF(Expenditure!I152=\"\",\"\",Expenditure!I152)","v":""},"",{"$f":"IF(Expenditure!K152=\"\",\"\",Expenditure!K152)","v":""},{"$f":"IF(Expenditure!L152=\"\",\"\",Expenditure!L152)","v":""},{"$f":"IF(Expenditure!M152=\"\",\"\",Expenditure!M152)","v":""},"-"]
[{"$f":"IF(Expenditure!B153=\"\",\"\",Expenditure!B153)","v":""},{"$f":"IF(Expenditure!C153=\"\",\"\",TEXT(Expenditure!C153,\"mmm\"))","v":""},{"$f":"IF(Expenditure!E153=\"\",\"\",Expenditure!E153)","v":""},{"$f":"IF(Expenditure!F153=\"\",\"\",Expenditure!F153)","v":""},{"$f":"IF(Expenditure!G153=\"\",\"\",Expenditure!G153)","v":""},{"$f":"IF(Expenditure!H153=\"\",\"\",Expenditure!H153)","v":""},{"$f":"IF(Expenditure!I153=\"\",\"\",Expenditure!I153)","v":""},"",{"$f":"IF(Expenditure!K153=\"\",\"\",Expenditure!K153)","v":""},{"$f":"IF(Expenditure!L153=\"\",\"\",Expenditure!L153)","v":""},{"$f":"IF(Expenditure!M153=\"\",\"\",Expenditure!M153)","v":""},"-"]
[{"$f":"IF(Expenditure!B154=\"\",\"\",Expenditure!B154)","v":""},{"$f":"IF(Expenditure!C154=\"\",\"\",TEXT(Expenditure!C154,\"mmm\"))","v":""},{"$f":"IF(Expenditure!E154=\"\",\"\",Expenditure!E154)","v":""},{"$f":"IF(Expenditure!F154=\"\",\"\",Expenditure!F154)","v":""},{"$f":"IF(Expenditure!G154=\"\",\"\",Expenditure!G154)","v":""},{"$f":"IF(Expenditure!H154=\"\",\"\",Expenditure!H154)","v":""},{"$f":"IF(Expenditure!I154=\"\",\"\",Expenditure!I154)","v":""},"",{"$f":"IF(Expenditure!K154=\"\",\"\",Expenditure!K154)","v":""},{"$f":"IF(Expenditure!L154=\"\",\"\",Expenditure!L154)","v":""},{"$f":"IF(Expenditure!M154=\"\",\"\",Expenditure!M154)","v":""},"-"]
[{"$f":"IF(Expenditure!B155=\"\",\"\",Expenditure!B155)","v":""},{"$f":"IF(Expenditure!C155=\"\",\"\",TEXT(Expenditure!C155,\"mmm\"))","v":""},{"$f":"IF(Expenditure!E155=\"\",\"\",Expenditure!E155)","v":""},{"$f":"IF(Expenditure!F155=\"\",\"\",Expenditure!F155)","v":""},{"$f":"IF(Expenditure!G155=\"\",\"\",Expenditure!G155)","v":""},{"$f":"IF(Expenditure!H155=\"\",\"\",Expenditure!H155)","v":""},{"$f":"IF(Expenditure!I155=\"\",\"\",Expenditure!I155)","v":""},"",{"$f":"IF(Expenditure!K155=\"\",\"\",Expenditure!K155)","v":""},{"$f":"IF(Expenditure!L155=\"\",\"\",Expenditure!L155)","v":""},{"$f":"IF(Expenditure!M155=\"\",\"\",Expenditure!M155)","v":""},"-"]
[{"$f":"IF(Expenditure!B156=\"\",\"\",Expenditure!B156)","v":""},{"$f":"IF(Expenditure!C156=\"\",\"\",TEXT(Expenditure!C156,\"mmm\"))","v":""},{"$f":"IF(Expenditure!E156=\"\",\"\",Expenditure!E156)","v":""},{"$f":"IF(Expenditure!F156=\"\",\"\",Expenditure!F156)","v":""},{"$f":"IF(Expenditure!G156=\"\",\"\",Expenditure!G156)","v":""},{"$f":"IF(Expenditure!H156=\"\",\"\",Expenditure!H156)","v":""},{"$f":"IF(Expenditure!I156=\"\",\"\",Expenditure!I156)","v":""},"",{"$f":"IF(Expenditure!K156=\"\",\"\",Expenditure!K156)","v":""},{"$f":"IF(Expenditure!L156=\"\",\"\",Expenditure!L156)","v":""},{"$f":"IF(Expenditure!M156=\"\",\"\",Expenditure!M156)","v":""},"-"]
[{"$f":"IF(Expenditure!B157=\"\",\"\",Expenditure!B157)","v":""},{"$f":"IF(Expenditure!C157=\"\",\"\",TEXT(Expenditure!C157,\"mmm\"))","v":""},{"$f":"IF(Expenditure!E157=\"\",\"\",Expenditure!E157)","v":""},{"$f":"IF(Expenditure!F157=\"\",\"\",Expenditure!F157)","v":""},{"$f":"IF(Expenditure!G157=\"\",\"\",Expenditure!G157)","v":""},{"$f":"IF(Expenditure!H157=\"\",\"\",Expenditure!H157)","v":""},{"$f":"IF(Expenditure!I157=\"\",\"\",Expenditure!I157)","v":""},"",{"$f":"IF(Expenditure!K157=\"\",\"\",Expenditure!K157)","v":""},{"$f":"IF(Expenditure!L157=\"\",\"\",Expenditure!L157)","v":""},{"$f":"IF(Expenditure!M157=\"\",\"\",Expenditure!M157)","v":""},"-"]
[{"$f":"IF(Expenditure!B158=\"\",\"\",Expenditure!B158)","v":""},{"$f":"IF(Expenditure!C158=\"\",\"\",TEXT(Expenditure!C158,\"mmm\"))","v":""},{"$f":"IF(Expenditure!E158=\"\",\"\",Expenditure!E158)","v":""},{"$f":"IF(Expenditure!F158=\"\",\"\",Expenditure!F158)","v":""},{"$f":"IF(Expenditure!G158=\"\",\"\",Expenditure!G158)","v":""},{"$f":"IF(Expenditure!H158=\"\",\"\",Expenditure!H158)","v":""},{"$f":"IF(Expenditure!I158=\"\",\"\",Expenditure!I158)","v":""},"",{"$f":"IF(Expenditure!K158=\"\",\"\",Expenditure!K158)","v":""},{"$f":"IF(Expenditure!L158=\"\",\"\",Expenditure!L158)","v":""},{"$f":"IF(Expenditure!M158=\"\",\"\",Expenditure!M158)","v":""},"-"]
[{"$f":"IF(Expenditure!B159=\"\",\"\",Expenditure!B159)","v":""},{"$f":"IF(Expenditure!C159=\"\",\"\",TEXT(Expenditure!C159,\"mmm\"))","v":""},{"$f":"IF(Expenditure!E159=\"\",\"\",Expenditure!E159)","v":""},{"$f":"IF(Expenditure!F159=\"\",\"\",Expenditure!F159)","v":""},{"$f":"IF(Expenditure!G159=\"\",\"\",Expenditure!G159)","v":""},{"$f":"IF(Expenditure!H159=\"\",\"\",Expenditure!H159)","v":""},{"$f":"IF(Expenditure!I159=\"\",\"\",Expenditure!I159)","v":""},"",{"$f":"IF(Expenditure!K159=\"\",\"\",Expenditure!K159)","v":""},{"$f":"IF(Expenditure!L159=\"\",\"\",Expenditure!L159)","v":""},{"$f":"IF(Expenditure!M159=\"\",\"\",Expenditure!M159)","v":""},"-"]
[{"$f":"IF(Expenditure!B160=\"\",\"\",Expenditure!B160)","v":""},{"$f":"IF(Expenditure!C160=\"\",\"\",TEXT(Expenditure!C160,\"mmm\"))","v":""},{"$f":"IF(Expenditure!E160=\"\",\"\",Expenditure!E160)","v":""},{"$f":"IF(Expenditure!F160=\"\",\"\",Expenditure!F160)","v":""},{"$f":"IF(Expenditure!G160=\"\",\"\",Expenditure!G160)","v":""},{"$f":"IF(Expenditure!H160=\"\",\"\",Expenditure!H160)","v":""},{"$f":"IF(Expenditure!I160=\"\",\"\",Expenditure!I160)","v":""},"",{"$f":"IF(Expenditure!K160=\"\",\"\",Expenditure!K160)","v":""},{"$f":"IF(Expenditure!L160=\"\",\"\",Expenditure!L160)","v":""},{"$f":"IF(Expenditure!M160=\"\",\"\",Expenditure!M160)","v":""},"-"]
[{"$f":"IF(Expenditure!B161=\"\",\"\",Expenditure!B161)","v":""},{"$f":"IF(Expenditure!C161=\"\",\"\",TEXT(Expenditure!C161,\"mmm\"))","v":""},{"$f":"IF(Expenditure!E161=\"\",\"\",Expenditure!E161)","v":""},{"$f":"IF(Expenditure!F161=\"\",\"\",Expenditure!F161)","v":""},{"$f":"IF(Expenditure!G161=\"\",\"\",Expenditure!G161)","v":""},{"$f":"IF(Expenditure!H161=\"\",\"\",Expenditure!H161)","v":""},{"$f":"IF(Expenditure!I161=\"\",\"\",Expenditure!I161)","v":""},"",{"$f":"IF(Expenditure!K161=\"\",\"\",Expenditure!K161)","v":""},{"$f":"IF(Expenditure!L161=\"\",\"\",Expenditure!L161)","v":""},{"$f":"IF(Expenditure!M161=\"\",\"\",Expenditure!M161)","v":""},"-"]
[{"$f":"IF(Expenditure!B162=\"\",\"\",Expenditure!B162)","v":""},{"$f":"IF(Expenditure!C162=\"\",\"\",TEXT(Expenditure!C162,\"mmm\"))","v":""},{"$f":"IF(Expenditure!E162=\"\",\"\",Expenditure!E162)","v":""},{"$f":"IF(Expenditure!F162=\"\",\"\",Expenditure!F162)","v":""},{"$f":"IF(Expenditure!G162=\"\",\"\",Expenditure!G162)","v":""},{"$f":"IF(Expenditure!H162=\"\",\"\",Expenditure!H162)","v":""},{"$f":"IF(Expenditure!I162=\"\",\"\",Expenditure!I162)","v":""},"",{"$f":"IF(Expenditure!K162=\"\",\"\",Expenditure!K162)","v":""},{"$f":"IF(Expenditure!L162=\"\",\"\",Expenditure!L162)","v":""},{"$f":"IF(Expenditure!M162=\"\",\"\",Expenditure!M162)","v":""},"-"]
[{"$f":"IF(Expenditure!B163=\"\",\"\",Expenditure!B163)","v":""},{"$f":"IF(Expenditure!C163=\"\",\"\",TEXT(Expenditure!C163,\"mmm\"))","v":""},{"$f":"IF(Expenditure!E163=\"\",\"\",Expenditure!E163)","v":""},{"$f":"IF(Expenditure!F163=\"\",\"\",Expenditure!F163)","v":""},{"$f":"IF(Expenditure!G163=\"\",\"\",Expenditure!G163)","v":""},{"$f":"IF(Expenditure!H163=\"\",\"\",Expenditure!H163)","v":""},{"$f":"IF(Expenditure!I163=\"\",\"\",Expenditure!I163)","v":""},"",{"$f":"IF(Expenditure!K163=\"\",\"\",Expenditure!K163)","v":""},{"$f":"IF(Expenditure!L163=\"\",\"\",Expenditure!L163)","v":""},{"$f":"IF(Expenditure!M163=\"\",\"\",Expenditure!M163)","v":""},"-"]
[{"$f":"IF(Expenditure!B164=\"\",\"\",Expenditure!B164)","v":""},{"$f":"IF(Expenditure!C164=\"\",\"\",TEXT(Expenditure!C164,\"mmm\"))","v":""},{"$f":"IF(Expenditure!E164=\"\",\"\",Expenditure!E164)","v":""},{"$f":"IF(Expenditure!F164=\"\",\"\",Expenditure!F164)","v":""},{"$f":"IF(Expenditure!G164=\"\",\"\",Expenditure!G164)","v":""},{"$f":"IF(Expenditure!H164=\"\",\"\",Expenditure!H164)","v":""},{"$f":"IF(Expenditure!I164=\"\",\"\",Expenditure!I164)","v":""},"",{"$f":"IF(Expenditure!K164=\"\",\"\",Expenditure!K164)","v":""},{"$f":"IF(Expenditure!L164=\"\",\"\",Expenditure!L164)","v":""},{"$f":"IF(Expenditure!M164=\"\",\"\",Expenditure!M164)","v":""},"-"]
[{"$f":"IF(Expenditure!B165=\"\",\"\",Expenditure!B165)","v":""},{"$f":"IF(Expenditure!C165=\"\",\"\",TEXT(Expenditure!C165,\"mmm\"))","v":""},{"$f":"IF(Expenditure!E165=\"\",\"\",Expenditure!E165)","v":""},{"$f":"IF(Expenditure!F165=\"\",\"\",Expenditure!F165)","v":""},{"$f":"IF(Expenditure!G165=\"\",\"\",Expenditure!G165)","v":""},{"$f":"IF(Expenditure!H165=\"\",\"\",Expenditure!H165)","v":""},{"$f":"IF(Expenditure!I165=\"\",\"\",Expenditure!I165)","v":""},"",{"$f":"IF(Expenditure!K165=\"\",\"\",Expenditure!K165)","v":""},{"$f":"IF(Expenditure!L165=\"\",\"\",Expenditure!L165)","v":""},{"$f":"IF(Expenditure!M165=\"\",\"\",Expenditure!M165)","v":""},"-"]
[{"$f":"IF(Expenditure!B166=\"\",\"\",Expenditure!B166)","v":""},{"$f":"IF(Expenditure!C166=\"\",\"\",TEXT(Expenditure!C166,\"mmm\"))","v":""},{"$f":"IF(Expenditure!E166=\"\",\"\",Expenditure!E166)","v":""},{"$f":"IF(Expenditure!F166=\"\",\"\",Expenditure!F166)","v":""},{"$f":"IF(Expenditure!G166=\"\",\"\",Expenditure!G166)","v":""},{"$f":"IF(Expenditure!H166=\"\",\"\",Expenditure!H166)","v":""},{"$f":"IF(Expenditure!I166=\"\",\"\",Expenditure!I166)","v":""},"",{"$f":"IF(Expenditure!K166=\"\",\"\",Expenditure!K166)","v":""},{"$f":"IF(Expenditure!L166=\"\",\"\",Expenditure!L166)","v":""},{"$f":"IF(Expenditure!M166=\"\",\"\",Expenditure!M166)","v":""},"-"]
[{"$f":"IF(Expenditure!B167=\"\",\"\",Expenditure!B167)","v":""},{"$f":"IF(Expenditure!C167=\"\",\"\",TEXT(Expenditure!C167,\"mmm\"))","v":""},{"$f":"IF(Expenditure!E167=\"\",\"\",Expenditure!E167)","v":""},{"$f":"IF(Expenditure!F167=\"\",\"\",Expenditure!F167)","v":""},{"$f":"IF(Expenditure!G167=\"\",\"\",Expenditure!G167)","v":""},{"$f":"IF(Expenditure!H167=\"\",\"\",Expenditure!H167)","v":""},{"$f":"IF(Expenditure!I167=\"\",\"\",Expenditure!I167)","v":""},"",{"$f":"IF(Expenditure!K167=\"\",\"\",Expenditure!K167)","v":""},{"$f":"IF(Expenditure!L167=\"\",\"\",Expenditure!L167)","v":""},{"$f":"IF(Expenditure!M167=\"\",\"\",Expenditure!M167)","v":""},"-"]
[{"$f":"IF(Expenditure!B168=\"\",\"\",Expenditure!B168)","v":""},{"$f":"IF(Expenditure!C168=\"\",\"\",TEXT(Expenditure!C168,\"mmm\"))","v":""},{"$f":"IF(Expenditure!E168=\"\",\"\",Expenditure!E168)","v":""},{"$f":"IF(Expenditure!F168=\"\",\"\",Expenditure!F168)","v":""},{"$f":"IF(Expenditure!G168=\"\",\"\",Expenditure!G168)","v":""},{"$f":"IF(Expenditure!H168=\"\",\"\",Expenditure!H168)","v":""},{"$f":"IF(Expenditure!I168=\"\",\"\",Expenditure!I168)","v":""},"",{"$f":"IF(Expenditure!K168=\"\",\"\",Expenditure!K168)","v":""},{"$f":"IF(Expenditure!L168=\"\",\"\",Expenditure!L168)","v":""},{"$f":"IF(Expenditure!M168=\"\",\"\",Expenditure!M168)","v":""},"-"]
[{"$f":"IF(Expenditure!B169=\"\",\"\",Expenditure!B169)","v":""},{"$f":"IF(Expenditure!C169=\"\",\"\",TEXT(Expenditure!C169,\"mmm\"))","v":""},{"$f":"IF(Expenditure!E169=\"\",\"\",Expenditure!E169)","v":""},{"$f":"IF(Expenditure!F169=\"\",\"\",Expenditure!F169)","v":""},{"$f":"IF(Expenditure!G169=\"\",\"\",Expenditure!G169)","v":""},{"$f":"IF(Expenditure!H169=\"\",\"\",Expenditure!H169)","v":""},{"$f":"IF(Expenditure!I169=\"\",\"\",Expenditure!I169)","v":""},"",{"$f":"IF(Expenditure!K169=\"\",\"\",Expenditure!K169)","v":""},{"$f":"IF(Expenditure!L169=\"\",\"\",Expenditure!L169)","v":""},{"$f":"IF(Expenditure!M169=\"\",\"\",Expenditure!M169)","v":""},"-"]
[{"$f":"IF(Expenditure!B170=\"\",\"\",Expenditure!B170)","v":""},{"$f":"IF(Expenditure!C170=\"\",\"\",TEXT(Expenditure!C170,\"mmm\"))","v":""},{"$f":"IF(Expenditure!E170=\"\",\"\",Expenditure!E170)","v":""},{"$f":"IF(Expenditure!F170=\"\",\"\",Expenditure!F170)","v":""},{"$f":"IF(Expenditure!G170=\"\",\"\",Expenditure!G170)","v":""},{"$f":"IF(Expenditure!H170=\"\",\"\",Expenditure!H170)","v":""},{"$f":"IF(Expenditure!I170=\"\",\"\",Expenditure!I170)","v":""},"",{"$f":"IF(Expenditure!K170=\"\",\"\",Expenditure!K170)","v":""},{"$f":"IF(Expenditure!L170=\"\",\"\",Expenditure!L170)","v":""},{"$f":"IF(Expenditure!M170=\"\",\"\",Expenditure!M170)","v":""},"-"]
[{"$f":"IF(Expenditure!B171=\"\",\"\",Expenditure!B171)","v":""},{"$f":"IF(Expenditure!C171=\"\",\"\",TEXT(Expenditure!C171,\"mmm\"))","v":""},{"$f":"IF(Expenditure!E171=\"\",\"\",Expenditure!E171)","v":""},{"$f":"IF(Expenditure!F171=\"\",\"\",Expenditure!F171)","v":""},{"$f":"IF(Expenditure!G171=\"\",\"\",Expenditure!G171)","v":""},{"$f":"IF(Expenditure!H171=\"\",\"\",Expenditure!H171)","v":""},{"$f":"IF(Expenditure!I171=\"\",\"\",Expenditure!I171)","v":""},"",{"$f":"IF(Expenditure!K171=\"\",\"\",Expenditure!K171)","v":""},{"$f":"IF(Expenditure!L171=\"\",\"\",Expenditure!L171)","v":""},{"$f":"IF(Expenditure!M171=\"\",\"\",Expenditure!M171)","v":""},"-"]
[{"$f":"IF(Expenditure!B172=\"\",\"\",Expenditure!B172)","v":""},{"$f":"IF(Expenditure!C172=\"\",\"\",TEXT(Expenditure!C172,\"mmm\"))","v":""},{"$f":"IF(Expenditure!E172=\"\",\"\",Expenditure!E172)","v":""},{"$f":"IF(Expenditure!F172=\"\",\"\",Expenditure!F172)","v":""},{"$f":"IF(Expenditure!G172=\"\",\"\",Expenditure!G172)","v":""},{"$f":"IF(Expenditure!H172=\"\",\"\",Expenditure!H172)","v":""},{"$f":"IF(Expenditure!I172=\"\",\"\",Expenditure!I172)","v":""},"",{"$f":"IF(Expenditure!K172=\"\",\"\",Expenditure!K172)","v":""},{"$f":"IF(Expenditure!L172=\"\",\"\",Expenditure!L172)","v":""},{"$f":"IF(Expenditure!M172=\"\",\"\",Expenditure!M172)","v":""},"-"]
[{"$f":"IF(Expenditure!B173=\"\",\"\",Expenditure!B173)","v":""},{"$f":"IF(Expenditure!C173=\"\",\"\",TEXT(Expenditure!C173,\"mmm\"))","v":""},{"$f":"IF(Expenditure!E173=\"\",\"\",Expenditure!E173)","v":""},{"$f":"IF(Expenditure!F173=\"\",\"\",Expenditure!F173)","v":""},{"$f":"IF(Expenditure!G173=\"\",\"\",Expenditure!G173)","v":""},{"$f":"IF(Expenditure!H173=\"\",\"\",Expenditure!H173)","v":""},{"$f":"IF(Expenditure!I173=\"\",\"\",Expenditure!I173)","v":""},"",{"$f":"IF(Expenditure!K173=\"\",\"\",Expenditure!K173)","v":""},{"$f":"IF(Expenditure!L173=\"\",\"\",Expenditure!L173)","v":""},{"$f":"IF(Expenditure!M173=\"\",\"\",Expenditure!M173)","v":""},"-"]
[{"$f":"IF(Expenditure!B174=\"\",\"\",Expenditure!B174)","v":""},{"$f":"IF(Expenditure!C174=\"\",\"\",TEXT(Expenditure!C174,\"mmm\"))","v":""},{"$f":"IF(Expenditure!E174=\"\",\"\",Expenditure!E174)","v":""},{"$f":"IF(Expenditure!F174=\"\",\"\",Expenditure!F174)","v":""},{"$f":"IF(Expenditure!G174=\"\",\"\",Expenditure!G174)","v":""},{"$f":"IF(Expenditure!H174=\"\",\"\",Expenditure!H174)","v":""},{"$f":"IF(Expenditure!I174=\"\",\"\",Expenditure!I174)","v":""},"",{"$f":"IF(Expenditure!K174=\"\",\"\",Expenditure!K174)","v":""},{"$f":"IF(Expenditure!L174=\"\",\"\",Expenditure!L174)","v":""},{"$f":"IF(Expenditure!M174=\"\",\"\",Expenditure!M174)","v":""},"-"]
[{"$f":"IF(Expenditure!B175=\"\",\"\",Expenditure!B175)","v":""},{"$f":"IF(Expenditure!C175=\"\",\"\",TEXT(Expenditure!C175,\"mmm\"))","v":""},{"$f":"IF(Expenditure!E175=\"\",\"\",Expenditure!E175)","v":""},{"$f":"IF(Expenditure!F175=\"\",\"\",Expenditure!F175)","v":""},{"$f":"IF(Expenditure!G175=\"\",\"\",Expenditure!G175)","v":""},{"$f":"IF(Expenditure!H175=\"\",\"\",Expenditure!H175)","v":""},{"$f":"IF(Expenditure!I175=\"\",\"\",Expenditure!I175)","v":""},"",{"$f":"IF(Expenditure!K175=\"\",\"\",Expenditure!K175)","v":""},{"$f":"IF(Expenditure!L175=\"\",\"\",Expenditure!L175)","v":""},{"$f":"IF(Expenditure!M175=\"\",\"\",Expenditure!M175)","v":""},"-"]
[{"$f":"IF(Expenditure!B176=\"\",\"\",Expenditure!B176)","v":""},{"$f":"IF(Expenditure!C176=\"\",\"\",TEXT(Expenditure!C176,\"mmm\"))","v":""},{"$f":"IF(Expenditure!E176=\"\",\"\",Expenditure!E176)","v":""},{"$f":"IF(Expenditure!F176=\"\",\"\",Expenditure!F176)","v":""},{"$f":"IF(Expenditure!G176=\"\",\"\",Expenditure!G176)","v":""},{"$f":"IF(Expenditure!H176=\"\",\"\",Expenditure!H176)","v":""},{"$f":"IF(Expenditure!I176=\"\",\"\",Expenditure!I176)","v":""},"",{"$f":"IF(Expenditure!K176=\"\",\"\",Expenditure!K176)","v":""},{"$f":"IF(Expenditure!L176=\"\",\"\",Expenditure!L176)","v":""},{"$f":"IF(Expenditure!M176=\"\",\"\",Expenditure!M176)","v":""},"-"]
[{"$f":"IF(Expenditure!B177=\"\",\"\",Expenditure!B177)","v":""},{"$f":"IF(Expenditure!C177=\"\",\"\",TEXT(Expenditure!C177,\"mmm\"))","v":""},{"$f":"IF(Expenditure!E177=\"\",\"\",Expenditure!E177)","v":""},{"$f":"IF(Expenditure!F177=\"\",\"\",Expenditure!F177)","v":""},{"$f":"IF(Expenditure!G177=\"\",\"\",Expenditure!G177)","v":""},{"$f":"IF(Expenditure!H177=\"\",\"\",Expenditure!H177)","v":""},{"$f":"IF(Expenditure!I177=\"\",\"\",Expenditure!I177)","v":""},"",{"$f":"IF(Expenditure!K177=\"\",\"\",Expenditure!K177)","v":""},{"$f":"IF(Expenditure!L177=\"\",\"\",Expenditure!L177)","v":""},{"$f":"IF(Expenditure!M177=\"\",\"\",Expenditure!M177)","v":""},"-"]
[{"$f":"IF(Expenditure!B178=\"\",\"\",Expenditure!B178)","v":""},{"$f":"IF(Expenditure!C178=\"\",\"\",TEXT(Expenditure!C178,\"mmm\"))","v":""},{"$f":"IF(Expenditure!E178=\"\",\"\",Expenditure!E178)","v":""},{"$f":"IF(Expenditure!F178=\"\",\"\",Expenditure!F178)","v":""},{"$f":"IF(Expenditure!G178=\"\",\"\",Expenditure!G178)","v":""},{"$f":"IF(Expenditure!H178=\"\",\"\",Expenditure!H178)","v":""},{"$f":"IF(Expenditure!I178=\"\",\"\",Expenditure!I178)","v":""},"",{"$f":"IF(Expenditure!K178=\"\",\"\",Expenditure!K178)","v":""},{"$f":"IF(Expenditure!L178=\"\",\"\",Expenditure!L178)","v":""},{"$f":"IF(Expenditure!M178=\"\",\"\",Expenditure!M178)","v":""},"-"]
[{"$f":"IF(Expenditure!B179=\"\",\"\",Expenditure!B179)","v":""},{"$f":"IF(Expenditure!C179=\"\",\"\",TEXT(Expenditure!C179,\"mmm\"))","v":""},{"$f":"IF(Expenditure!E179=\"\",\"\",Expenditure!E179)","v":""},{"$f":"IF(Expenditure!F179=\"\",\"\",Expenditure!F179)","v":""},{"$f":"IF(Expenditure!G179=\"\",\"\",Expenditure!G179)","v":""},{"$f":"IF(Expenditure!H179=\"\",\"\",Expenditure!H179)","v":""},{"$f":"IF(Expenditure!I179=\"\",\"\",Expenditure!I179)","v":""},"",{"$f":"IF(Expenditure!K179=\"\",\"\",Expenditure!K179)","v":""},{"$f":"IF(Expenditure!L179=\"\",\"\",Expenditure!L179)","v":""},{"$f":"IF(Expenditure!M179=\"\",\"\",Expenditure!M179)","v":""},"-"]
[{"$f":"IF(Expenditure!B180=\"\",\"\",Expenditure!B180)","v":""},{"$f":"IF(Expenditure!C180=\"\",\"\",TEXT(Expenditure!C180,\"mmm\"))","v":""},{"$f":"IF(Expenditure!E180=\"\",\"\",Expenditure!E180)","v":""},{"$f":"IF(Expenditure!F180=\"\",\"\",Expenditure!F180)","v":""},{"$f":"IF(Expenditure!G180=\"\",\"\",Expenditure!G180)","v":""},{"$f":"IF(Expenditure!H180=\"\",\"\",Expenditure!H180)","v":""},{"$f":"IF(Expenditure!I180=\"\",\"\",Expenditure!I180)","v":""},"",{"$f":"IF(Expenditure!K180=\"\",\"\",Expenditure!K180)","v":""},{"$f":"IF(Expenditure!L180=\"\",\"\",Expenditure!L180)","v":""},{"$f":"IF(Expenditure!M180=\"\",\"\",Expenditure!M180)","v":""},"-"]
[{"$f":"IF(Expenditure!B181=\"\",\"\",Expenditure!B181)","v":""},{"$f":"IF(Expenditure!C181=\"\",\"\",TEXT(Expenditure!C181,\"mmm\"))","v":""},{"$f":"IF(Expenditure!E181=\"\",\"\",Expenditure!E181)","v":""},{"$f":"IF(Expenditure!F181=\"\",\"\",Expenditure!F181)","v":""},{"$f":"IF(Expenditure!G181=\"\",\"\",Expenditure!G181)","v":""},{"$f":"IF(Expenditure!H181=\"\",\"\",Expenditure!H181)","v":""},{"$f":"IF(Expenditure!I181=\"\",\"\",Expenditure!I181)","v":""},"",{"$f":"IF(Expenditure!K181=\"\",\"\",Expenditure!K181)","v":""},{"$f":"IF(Expenditure!L181=\"\",\"\",Expenditure!L181)","v":""},{"$f":"IF(Expenditure!M181=\"\",\"\",Expenditure!M181)","v":""},"-"]
[{"$f":"IF(Expenditure!B182=\"\",\"\",Expenditure!B182)","v":""},{"$f":"IF(Expenditure!C182=\"\",\"\",TEXT(Expenditure!C182,\"mmm\"))","v":""},{"$f":"IF(Expenditure!E182=\"\",\"\",Expenditure!E182)","v":""},{"$f":"IF(Expenditure!F182=\"\",\"\",Expenditure!F182)","v":""},{"$f":"IF(Expenditure!G182=\"\",\"\",Expenditure!G182)","v":""},{"$f":"IF(Expenditure!H182=\"\",\"\",Expenditure!H182)","v":""},{"$f":"IF(Expenditure!I182=\"\",\"\",Expenditure!I182)","v":""},"",{"$f":"IF(Expenditure!K182=\"\",\"\",Expenditure!K182)","v":""},{"$f":"IF(Expenditure!L182=\"\",\"\",Expenditure!L182)","v":""},{"$f":"IF(Expenditure!M182=\"\",\"\",Expenditure!M182)","v":""},"-"]
[{"$f":"IF(Expenditure!B183=\"\",\"\",Expenditure!B183)","v":""},{"$f":"IF(Expenditure!C183=\"\",\"\",TEXT(Expenditure!C183,\"mmm\"))","v":""},{"$f":"IF(Expenditure!E183=\"\",\"\",Expenditure!E183)","v":""},{"$f":"IF(Expenditure!F183=\"\",\"\",Expenditure!F183)","v":""},{"$f":"IF(Expenditure!G183=\"\",\"\",Expenditure!G183)","v":""},{"$f":"IF(Expenditure!H183=\"\",\"\",Expenditure!H183)","v":""},{"$f":"IF(Expenditure!I183=\"\",\"\",Expenditure!I183)","v":""},"",{"$f":"IF(Expenditure!K183=\"\",\"\",Expenditure!K183)","v":""},{"$f":"IF(Expenditure!L183=\"\",\"\",Expenditure!L183)","v":""},{"$f":"IF(Expenditure!M183=\"\",\"\",Expenditure!M183)","v":""},"-"]
[{"$f":"IF(Expenditure!B184=\"\",\"\",Expenditure!B184)","v":""},{"$f":"IF(Expenditure!C184=\"\",\"\",TEXT(Expenditure!C184,\"mmm\"))","v":""},{"$f":"IF(Expenditure!E184=\"\",\"\",Expenditure!E184)","v":""},{"$f":"IF(Expenditure!F184=\"\",\"\",Expenditure!F184)","v":""},{"$f":"IF(Expenditure!G184=\"\",\"\",Expenditure!G184)","v":""},{"$f":"IF(Expenditure!H184=\"\",\"\",Expenditure!H184)","v":""},{"$f":"IF(Expenditure!I184=\"\",\"\",Expenditure!I184)","v":""},"",{"$f":"IF(Expenditure!K184=\"\",\"\",Expenditure!K184)","v":""},{"$f":"IF(Expenditure!L184=\"\",\"\",Expenditure!L184)","v":""},{"$f":"IF(Expenditure!M184=\"\",\"\",Expenditure!M184)","v":""},"-"]
[{"$f":"IF(Expenditure!B185=\"\",\"\",Expenditure!B185)","v":""},{"$f":"IF(Expenditure!C185=\"\",\"\",TEXT(Expenditure!C185,\"mmm\"))","v":""},{"$f":"IF(Expenditure!E185=\"\",\"\",Expenditure!E185)","v":""},{"$f":"IF(Expenditure!F185=\"\",\"\",Expenditure!F185)","v":""},{"$f":"IF(Expenditure!G185=\"\",\"\",Expenditure!G185)","v":""},{"$f":"IF(Expenditure!H185=\"\",\"\",Expenditure!H185)","v":""},{"$f":"IF(Expenditure!I185=\"\",\"\",Expenditure!I185)","v":""},"",{"$f":"IF(Expenditure!K185=\"\",\"\",Expenditure!K185)","v":""},{"$f":"IF(Expenditure!L185=\"\",\"\",Expenditure!L185)","v":""},{"$f":"IF(Expenditure!M185=\"\",\"\",Expenditure!M185)","v":""},"-"]
[{"$f":"IF(Expenditure!B186=\"\",\"\",Expenditure!B186)","v":""},{"$f":"IF(Expenditure!C186=\"\",\"\",TEXT(Expenditure!C186,\"mmm\"))","v":""},{"$f":"IF(Expenditure!E186=\"\",\"\",Expenditure!E186)","v":""},{"$f":"IF(Expenditure!F186=\"\",\"\",Expenditure!F186)","v":""},{"$f":"IF(Expenditure!G186=\"\",\"\",Expenditure!G186)","v":""},{"$f":"IF(Expenditure!H186=\"\",\"\",Expenditure!H186)","v":""},{"$f":"IF(Expenditure!I186=\"\",\"\",Expenditure!I186)","v":""},"",{"$f":"IF(Expenditure!K186=\"\",\"\",Expenditure!K186)","v":""},{"$f":"IF(Expenditure!L186=\"\",\"\",Expenditure!L186)","v":""},{"$f":"IF(Expenditure!M186=\"\",\"\",Expenditure!M186)","v":""},"-"]
[{"$f":"IF(Expenditure!B187=\"\",\"\",Expenditure!B187)","v":""},{"$f":"IF(Expenditure!C187=\"\",\"\",TEXT(Expenditure!C187,\"mmm\"))","v":""},{"$f":"IF(Expenditure!E187=\"\",\"\",Expenditure!E187)","v":""},{"$f":"IF(Expenditure!F187=\"\",\"\",Expenditure!F187)","v":""},{"$f":"IF(Expenditure!G187=\"\",\"\",Expenditure!G187)","v":""},{"$f":"IF(Expenditure!H187=\"\",\"\",Expenditure!H187)","v":""},{"$f":"IF(Expenditure!I187=\"\",\"\",Expenditure!I187)","v":""},"",{"$f":"IF(Expenditure!K187=\"\",\"\",Expenditure!K187)","v":""},{"$f":"IF(Expenditure!L187=\"\",\"\",Expenditure!L187)","v":""},{"$f":"IF(Expenditure!M187=\"\",\"\",Expenditure!M187)","v":""},"-"]
[{"$f":"IF(Expenditure!B188=\"\",\"\",Expenditure!B188)","v":""},{"$f":"IF(Expenditure!C188=\"\",\"\",TEXT(Expenditure!C188,\"mmm\"))","v":""},{"$f":"IF(Expenditure!E188=\"\",\"\",Expenditure!E188)","v":""},{"$f":"IF(Expenditure!F188=\"\",\"\",Expenditure!F188)","v":""},{"$f":"IF(Expenditure!G188=\"\",\"\",Expenditure!G188)","v":""},{"$f":"IF(Expenditure!H188=\"\",\"\",Expenditure!H188)","v":""},{"$f":"IF(Expenditure!I188=\"\",\"\",Expenditure!I188)","v":""},"",{"$f":"IF(Expenditure!K188=\"\",\"\",Expenditure!K188)","v":""},{"$f":"IF(Expenditure!L188=\"\",\"\",Expenditure!L188)","v":""},{"$f":"IF(Expenditure!M188=\"\",\"\",Expenditure!M188)","v":""},"-"]
[{"$f":"IF(Expenditure!B189=\"\",\"\",Expenditure!B189)","v":""},{"$f":"IF(Expenditure!C189=\"\",\"\",TEXT(Expenditure!C189,\"mmm\"))","v":""},{"$f":"IF(Expenditure!E189=\"\",\"\",Expenditure!E189)","v":""},{"$f":"IF(Expenditure!F189=\"\",\"\",Expenditure!F189)","v":""},{"$f":"IF(Expenditure!G189=\"\",\"\",Expenditure!G189)","v":""},{"$f":"IF(Expenditure!H189=\"\",\"\",Expenditure!H189)","v":""},{"$f":"IF(Expenditure!I189=\"\",\"\",Expenditure!I189)","v":""},"",{"$f":"IF(Expenditure!K189=\"\",\"\",Expenditure!K189)","v":""},{"$f":"IF(Expenditure!L189=\"\",\"\",Expenditure!L189)","v":""},{"$f":"IF(Expenditure!M189=\"\",\"\",Expenditure!M189)","v":""},"-"]
[{"$f":"IF(Expenditure!B190=\"\",\"\",Expenditure!B190)","v":""},{"$f":"IF(Expenditure!C190=\"\",\"\",TEXT(Expenditure!C190,\"mmm\"))","v":""},{"$f":"IF(Expenditure!E190=\"\",\"\",Expenditure!E190)","v":""},{"$f":"IF(Expenditure!F190=\"\",\"\",Expenditure!F190)","v":""},{"$f":"IF(Expenditure!G190=\"\",\"\",Expenditure!G190)","v":""},{"$f":"IF(Expenditure!H190=\"\",\"\",Expenditure!H190)","v":""},{"$f":"IF(Expenditure!I190=\"\",\"\",Expenditure!I190)","v":""},"",{"$f":"IF(Expenditure!K190=\"\",\"\",Expenditure!K190)","v":""},{"$f":"IF(Expenditure!L190=\"\",\"\",Expenditure!L190)","v":""},{"$f":"IF(Expenditure!M190=\"\",\"\",Expenditure!M190)","v":""},"-"]
[{"$f":"IF(Expenditure!B191=\"\",\"\",Expenditure!B191)","v":""},{"$f":"IF(Expenditure!C191=\"\",\"\",TEXT(Expenditure!C191,\"mmm\"))","v":""},{"$f":"IF(Expenditure!E191=\"\",\"\",Expenditure!E191)","v":""},{"$f":"IF(Expenditure!F191=\"\",\"\",Expenditure!F191)","v":""},{"$f":"IF(Expenditure!G191=\"\",\"\",Expenditure!G191)","v":""},{"$f":"IF(Expenditure!H191=\"\",\"\",Expenditure!H191)","v":""},{"$f":"IF(Expenditure!I191=\"\",\"\",Expenditure!I191)","v":""},"",{"$f":"IF(Expenditure!K191=\"\",\"\",Expenditure!K191)","v":""},{"$f":"IF(Expenditure!L191=\"\",\"\",Expenditure!L191)","v":""},{"$f":"IF(Expenditure!M191=\"\",\"\",Expenditure!M191)","v":""},"-"]
[{"$f":"IF(Expenditure!B192=\"\",\"\",Expenditure!B192)","v":""},{"$f":"IF(Expenditure!C192=\"\",\"\",TEXT(Expenditure!C192,\"mmm\"))","v":""},{"$f":"IF(Expenditure!E192=\"\",\"\",Expenditure!E192)","v":""},{"$f":"IF(Expenditure!F192=\"\",\"\",Expenditure!F192)","v":""},{"$f":"IF(Expenditure!G192=\"\",\"\",Expenditure!G192)","v":""},{"$f":"IF(Expenditure!H192=\"\",\"\",Expenditure!H192)","v":""},{"$f":"IF(Expenditure!I192=\"\",\"\",Expenditure!I192)","v":""},"",{"$f":"IF(Expenditure!K192=\"\",\"\",Expenditure!K192)","v":""},{"$f":"IF(Expenditure!L192=\"\",\"\",Expenditure!L192)","v":""},{"$f":"IF(Expenditure!M192=\"\",\"\",Expenditure!M192)","v":""},"-"]
[{"$f":"IF(Expenditure!B193=\"\",\"\",Expenditure!B193)","v":""},{"$f":"IF(Expenditure!C193=\"\",\"\",TEXT(Expenditure!C193,\"mmm\"))","v":""},{"$f":"IF(Expenditure!E193=\"\",\"\",Expenditure!E193)","v":""},{"$f":"IF(Expenditure!F193=\"\",\"\",Expenditure!F193)","v":""},{"$f":"IF(Expenditure!G193=\"\",\"\",Expenditure!G193)","v":""},{"$f":"IF(Expenditure!H193=\"\",\"\",Expenditure!H193)","v":""},{"$f":"IF(Expenditure!I193=\"\",\"\",Expenditure!I193)","v":""},"",{"$f":"IF(Expenditure!K193=\"\",\"\",Expenditure!K193)","v":""},{"$f":"IF(Expenditure!L193=\"\",\"\",Expenditure!L193)","v":""},{"$f":"IF(Expenditure!M193=\"\",\"\",Expenditure!M193)","v":""},"-"]
[{"$f":"IF(Expenditure!B194=\"\",\"\",Expenditure!B194)","v":""},{"$f":"IF(Expenditure!C194=\"\",\"\",TEXT(Expenditure!C194,\"mmm\"))","v":""},{"$f":"IF(Expenditure!E194=\"\",\"\",Expenditure!E194)","v":""},{"$f":"IF(Expenditure!F194=\"\",\"\",Expenditure!F194)","v":""},{"$f":"IF(Expenditure!G194=\"\",\"\",Expenditure!G194)","v":""},{"$f":"IF(Expenditure!H194=\"\",\"\",Expenditure!H194)","v":""},{"$f":"IF(Expenditure!I194=\"\",\"\",Expenditure!I194)","v":""},"",{"$f":"IF(Expenditure!K194=\"\",\"\",Expenditure!K194)","v":""},{"$f":"IF(Expenditure!L194=\"\",\"\",Expenditure!L194)","v":""},{"$f":"IF(Expenditure!M194=\"\",\"\",Expenditure!M194)","v":""},"-"]
[{"$f":"IF(Expenditure!B195=\"\",\"\",Expenditure!B195)","v":""},{"$f":"IF(Expenditure!C195=\"\",\"\",TEXT(Expenditure!C195,\"mmm\"))","v":""},{"$f":"IF(Expenditure!E195=\"\",\"\",Expenditure!E195)","v":""},{"$f":"IF(Expenditure!F195=\"\",\"\",Expenditure!F195)","v":""},{"$f":"IF(Expenditure!G195=\"\",\"\",Expenditure!G195)","v":""},{"$f":"IF(Expenditure!H195=\"\",\"\",Expenditure!H195)","v":""},{"$f":"IF(Expenditure!I195=\"\",\"\",Expenditure!I195)","v":""},"",{"$f":"IF(Expenditure!K195=\"\",\"\",Expenditure!K195)","v":""},{"$f":"IF(Expenditure!L195=\"\",\"\",Expenditure!L195)","v":""},{"$f":"IF(Expenditure!M195=\"\",\"\",Expenditure!M195)","v":""},"-"]
[{"$f":"IF(Expenditure!B196=\"\",\"\",Expenditure!B196)","v":""},{"$f":"IF(Expenditure!C196=\"\",\"\",TEXT(Expenditure!C196,\"mmm\"))","v":""},{"$f":"IF(Expenditure!E196=\"\",\"\",Expenditure!E196)","v":""},{"$f":"IF(Expenditure!F196=\"\",\"\",Expenditure!F196)","v":""},{"$f":"IF(Expenditure!G196=\"\",\"\",Expenditure!G196)","v":""},{"$f":"IF(Expenditure!H196=\"\",\"\",Expenditure!H196)","v":""},{"$f":"IF(Expenditure!I196=\"\",\"\",Expenditure!I196)","v":""},{"$f":"IFERROR(F204*G204,\"\")","v":""},{"$f":"IF(Expenditure!K196=\"\",\"\",Expenditure!K196)","v":""},{"$f":"IF(Expenditure!L196=\"\",\"\",Expenditure!L196)","v":""},{"$f":"IF(Expenditure!M196=\"\",\"\",Expenditure!M196)","v":""},"-"]
[{"$f":"IF(Expenditure!B197=\"\",\"\",Expenditure!B197)","v":""},{"$f":"IF(Expenditure!C197=\"\",\"\",TEXT(Expenditure!C197,\"mmm\"))","v":""},{"$f":"IF(Expenditure!E197=\"\",\"\",Expenditure!E197)","v":""},{"$f":"IF(Expenditure!F197=\"\",\"\",Expenditure!F197)","v":""},{"$f":"IF(Expenditure!G197=\"\",\"\",Expenditure!G197)","v":""},{"$f":"IF(Expenditure!H197=\"\",\"\",Expenditure!H197)","v":""},{"$f":"IF(Expenditure!I197=\"\",\"\",Expenditure!I197)","v":""},"",{"$f":"IF(Expenditure!K197=\"\",\"\",Expenditure!K197)","v":""},{"$f":"IF(Expenditure!L197=\"\",\"\",Expenditure!L197)","v":""},{"$f":"IF(Expenditure!M197=\"\",\"\",Expenditure!M197)","v":""},"-"]
[{"$f":"IF(Expenditure!B198=\"\",\"\",Expenditure!B198)","v":""},{"$f":"IF(Expenditure!C198=\"\",\"\",TEXT(Expenditure!C198,\"mmm\"))","v":""},{"$f":"IF(Expenditure!E198=\"\",\"\",Expenditure!E198)","v":""},{"$f":"IF(Expenditure!F198=\"\",\"\",Expenditure!F198)","v":""},{"$f":"IF(Expenditure!G198=\"\",\"\",Expenditure!G198)","v":""},{"$f":"IF(Expenditure!H198=\"\",\"\",Expenditure!H198)","v":""},{"$f":"IF(Expenditure!I198=\"\",\"\",Expenditure!I198)","v":""},"",{"$f":"IF(Expenditure!K198=\"\",\"\",Expenditure!K198)","v":""},{"$f":"IF(Expenditure!L198=\"\",\"\",Expenditure!L198)","v":""},{"$f":"IF(Expenditure!M198=\"\",\"\",Expenditure!M198)","v":""},"-"]
[{"$f":"IF(Expenditure!B199=\"\",\"\",Expenditure!B199)","v":""},{"$f":"IF(Expenditure!C199=\"\",\"\",TEXT(Expenditure!C199,\"mmm\"))","v":""},{"$f":"IF(Expenditure!E199=\"\",\"\",Expenditure!E199)","v":""},{"$f":"IF(Expenditure!F199=\"\",\"\",Expenditure!F199)","v":""},{"$f":"IF(Expenditure!G199=\"\",\"\",Expenditure!G199)","v":""},{"$f":"IF(Expenditure!H199=\"\",\"\",Expenditure!H199)","v":""},{"$f":"IF(Expenditure!I199=\"\",\"\",Expenditure!I199)","v":""},"",{"$f":"IF(Expenditure!K199=\"\",\"\",Expenditure!K199)","v":""},{"$f":"IF(Expenditure!L199=\"\",\"\",Expenditure!L199)","v":""},{"$f":"IF(Expenditure!M199=\"\",\"\",Expenditure!M199)","v":""},"-"]
[{"$f":"IF(Expenditure!B200=\"\",\"\",Expenditure!B200)","v":""},{"$f":"IF(Expenditure!C200=\"\",\"\",TEXT(Expenditure!C200,\"mmm\"))","v":""},{"$f":"IF(Expenditure!E200=\"\",\"\",Expenditure!E200)","v":""},{"$f":"IF(Expenditure!F200=\"\",\"\",Expenditure!F200)","v":""},{"$f":"IF(Expenditure!G200=\"\",\"\",Expenditure!G200)","v":""},{"$f":"IF(Expenditure!H200=\"\",\"\",Expenditure!H200)","v":""},{"$f":"IF(Expenditure!I200=\"\",\"\",Expenditure!I200)","v":""},"",{"$f":"IF(Expenditure!K200=\"\",\"\",Expenditure!K200)","v":""},{"$f":"IF(Expenditure!L200=\"\",\"\",Expenditure!L200)","v":""},{"$f":"IF(Expenditure!M200=\"\",\"\",Expenditure!M200)","v":""},"-"]
[{"$f":"IF(Expenditure!B201=\"\",\"\",Expenditure!B201)","v":""},{"$f":"IF(Expenditure!C201=\"\",\"\",TEXT(Expenditure!C201,\"mmm\"))","v":""},{"$f":"IF(Expenditure!E201=\"\",\"\",Expenditure!E201)","v":""},{"$f":"IF(Expenditure!F201=\"\",\"\",Expenditure!F201)","v":""},{"$f":"IF(Expenditure!G201=\"\",\"\",Expenditure!G201)","v":""},{"$f":"IF(Expenditure!H201=\"\",\"\",Expenditure!H201)","v":""},{"$f":"IF(Expenditure!I201=\"\",\"\",Expenditure!I201)","v":""},"",{"$f":"IF(Expenditure!K201=\"\",\"\",Expenditure!K201)","v":""},{"$f":"IF(Expenditure!L201=\"\",\"\",Expenditure!L201)","v":""},{"$f":"IF(Expenditure!M201=\"\",\"\",Expenditure!M201)","v":""},"-"]
[{"$f":"IF(Expenditure!B202=\"\",\"\",Expenditure!B202)","v":""},{"$f":"IF(Expenditure!C202=\"\",\"\",TEXT(Expenditure!C202,\"mmm\"))","v":""},{"$f":"IF(Expenditure!E202=\"\",\"\",Expenditure!E202)","v":""},{"$f":"IF(Expenditure!F202=\"\",\"\",Expenditure!F202)","v":""},{"$f":"IF(Expenditure!G202=\"\",\"\",Expenditure!G202)","v":""},{"$f":"IF(Expenditure!H202=\"\",\"\",Expenditure!H202)","v":""},{"$f":"IF(Expenditure!I202=\"\",\"\",Expenditure!I202)","v":""},"",{"$f":"IF(Expenditure!K202=\"\",\"\",Expenditure!K202)","v":""},{"$f":"IF(Expenditure!L202=\"\",\"\",Expenditure!L202)","v":""},{"$f":"IF(Expenditure!M202=\"\",\"\",Expenditure!M202)","v":""},"-"]
[{"$f":"IF(Expenditure!B203=\"\",\"\",Expenditure!B203)","v":""},{"$f":"IF(Expenditure!C203=\"\",\"\",TEXT(Expenditure!C203,\"mmm\"))","v":""},{"$f":"IF(Expenditure!E203=\"\",\"\",Expenditure!E203)","v":""},{"$f":"IF(Expenditure!F203=\"\",\"\",Expenditure!F203)","v":""},{"$f":"IF(Expenditure!G203=\"\",\"\",Expenditure!G203)","v":""},{"$f":"IF(Expenditure!H203=\"\",\"\",Expenditure!H203)","v":""},{"$f":"IF(Expenditure!I203=\"\",\"\",Expenditure!I203)","v":""},"",{"$f":"IF(Expenditure!K203=\"\",\"\",Expenditure!K203)","v":""},{"$f":"IF(Expenditure!L203=\"\",\"\",Expenditure!L203)","v":""},{"$f":"IF(Expenditure!M203=\"\",\"\",Expenditure!M203)","v":""},"-"]
[{"$f":"IF(Expenditure!B204=\"\",\"\",Expenditure!B204)","v":""},{"$f":"IF(Expenditure!C204=\"\",\"\",TEXT(Expenditure!C204,\"mmm\"))","v":""},{"$f":"IF(Expenditure!E204=\"\",\"\",Expenditure!E204)","v":""},{"$f":"IF(Expenditure!F204=\"\",\"\",Expenditure!F204)","v":""},{"$f":"IF(Expenditure!G204=\"\",\"\",Expenditure!G204)","v":""},{"$f":"IF(Expenditure!H204=\"\",\"\",Expenditure!H204)","v":""},{"$f":"IF(Expenditure!I204=\"\",\"\",Expenditure!I204)","v":""},"",{"$f":"IF(Expenditure!K204=\"\",\"\",Expenditure!K204)","v":""},{"$f":"IF(Expenditure!L204=\"\",\"\",Expenditure!L204)","v":""},{"$f":"IF(Expenditure!M204=\"\",\"\",Expenditure!M204)","v":""},"-"]
[{"$f":"IF(Expenditure!B205=\"\",\"\",Expenditure!B205)","v":""},{"$f":"IF(Expenditure!C205=\"\",\"\",TEXT(Expenditure!C205,\"mmm\"))","v":""},{"$f":"IF(Expenditure!E205=\"\",\"\",Expenditure!E205)","v":""},{"$f":"IF(Expenditure!F205=\"\",\"\",Expenditure!F205)","v":""},{"$f":"IF(Expenditure!G205=\"\",\"\",Expenditure!G205)","v":""},{"$f":"IF(Expenditure!H205=\"\",\"\",Expenditure!H205)","v":""},{"$f":"IF(Expenditure!I205=\"\",\"\",Expenditure!I205)","v":""},"",{"$f":"IF(Expenditure!K205=\"\",\"\",Expenditure!K205)","v":""},{"$f":"IF(Expenditure!L205=\"\",\"\",Expenditure!L205)","v":""},{"$f":"IF(Expenditure!M205=\"\",\"\",Expenditure!M205)","v":""},"-"]
[{"$f":"IF(Expenditure!B206=\"\",\"\",Expenditure!B206)","v":""},{"$f":"IF(Expenditure!C206=\"\",\"\",TEXT(Expenditure!C206,\"mmm\"))","v":""},{"$f":"IF(Expenditure!E206=\"\",\"\",Expenditure!E206)","v":""},{"$f":"IF(Expenditure!F206=\"\",\"\",Expenditure!F206)","v":""},{"$f":"IF(Expenditure!G206=\"\",\"\",Expenditure!G206)","v":""},{"$f":"IF(Expenditure!H206=\"\",\"\",Expenditure!H206)","v":""},{"$f":"IF(Expenditure!I206=\"\",\"\",Expenditure!I206)","v":""},"",{"$f":"IF(Expenditure!K206=\"\",\"\",Expenditure!K206)","v":""},{"$f":"IF(Expenditure!L206=\"\",\"\",Expenditure!L206)","v":""},{"$f":"IF(Expenditure!M206=\"\",\"\",Expenditure!M206)","v":""},"-"]
[{"$f":"IF(Expenditure!B207=\"\",\"\",Expenditure!B207)","v":""},{"$f":"IF(Expenditure!C207=\"\",\"\",TEXT(Expenditure!C207,\"mmm\"))","v":""},{"$f":"IF(Expenditure!E207=\"\",\"\",Expenditure!E207)","v":""},{"$f":"IF(Expenditure!F207=\"\",\"\",Expenditure!F207)","v":""},{"$f":"IF(Expenditure!G207=\"\",\"\",Expenditure!G207)","v":""},{"$f":"IF(Expenditure!H207=\"\",\"\",Expenditure!H207)","v":""},{"$f":"IF(Expenditure!I207=\"\",\"\",Expenditure!I207)","v":""},"",{"$f":"IF(Expenditure!K207=\"\",\"\",Expenditure!K207)","v":""},{"$f":"IF(Expenditure!L207=\"\",\"\",Expenditure!L207)","v":""},{"$f":"IF(Expenditure!M207=\"\",\"\",Expenditure!M207)","v":""},"-"]
[{"$f":"IF(Expenditure!B208=\"\",\"\",Expenditure!B208)","v":""},{"$f":"IF(Expenditure!C208=\"\",\"\",TEXT(Expenditure!C208,\"mmm\"))","v":""},{"$f":"IF(Expenditure!E208=\"\",\"\",Expenditure!E208)","v":""},{"$f":"IF(Expenditure!F208=\"\",\"\",Expenditure!F208)","v":""},{"$f":"IF(Expenditure!G208=\"\",\"\",Expenditure!G208)","v":""},{"$f":"IF(Expenditure!H208=\"\",\"\",Expenditure!H208)","v":""},{"$f":"IF(Expenditure!I208=\"\",\"\",Expenditure!I208)","v":""},"",{"$f":"IF(Expenditure!K208=\"\",\"\",Expenditure!K208)","v":""},{"$f":"IF(Expenditure!L208=\"\",\"\",Expenditure!L208)","v":""},{"$f":"IF(Expenditure!M208=\"\",\"\",Expenditure!M208)","v":""},"-"]
[{"$f":"IF(Expenditure!B209=\"\",\"\",Expenditure!B209)","v":""},{"$f":"IF(Expenditure!C209=\"\",\"\",TEXT(Expenditure!C209,\"mmm\"))","v":""},{"$f":"IF(Expenditure!E209=\"\",\"\",Expenditure!E209)","v":""},{"$f":"IF(Expenditure!F209=\"\",\"\",Expenditure!F209)","v":""},{"$f":"IF(Expenditure!G209=\"\",\"\",Expenditure!G209)","v":""},{"$f":"IF(Expenditure!H209=\"\",\"\",Expenditure!H209)","v":""},{"$f":"IF(Expenditure!I209=\"\",\"\",Expenditure!I209)","v":""},"",{"$f":"IF(Expenditure!K209=\"\",\"\",Expenditure!K209)","v":""},{"$f":"IF(Expenditure!L209=\"\",\"\",Expenditure!L209)","v":""},{"$f":"IF(Expenditure!M209=\"\",\"\",Expenditure!M209)","v":""},"-"]
[{"$f":"IF(Expenditure!B210=\"\",\"\",Expenditure!B210)","v":""},{"$f":"IF(Expenditure!C210=\"\",\"\",TEXT(Expenditure!C210,\"mmm\"))","v":""},{"$f":"IF(Expenditure!E210=\"\",\"\",Expenditure!E210)","v":""},{"$f":"IF(Expenditure!F210=\"\",\"\",Expenditure!F210)","v":""},{"$f":"IF(Expenditure!G210=\"\",\"\",Expenditure!G210)","v":""},{"$f":"IF(Expenditure!H210=\"\",\"\",Expenditure!H210)","v":""},{"$f":"IF(Expenditure!I210=\"\",\"\",Expenditure!I210)","v":""},"",{"$f":"IF(Expenditure!K210=\"\",\"\",Expenditure!K210)","v":""},{"$f":"IF(Expenditure!L210=\"\",\"\",Expenditure!L210)","v":""},{"$f":"IF(Expenditure!M210=\"\",\"\",Expenditure!M210)","v":""},"-"]
[{"$f":"IF(Expenditure!B211=\"\",\"\",Expenditure!B211)","v":""},{"$f":"IF(Expenditure!C211=\"\",\"\",TEXT(Expenditure!C211,\"mmm\"))","v":""},{"$f":"IF(Expenditure!E211=\"\",\"\",Expenditure!E211)","v":""},{"$f":"IF(Expenditure!F211=\"\",\"\",Expenditure!F211)","v":""},{"$f":"IF(Expenditure!G211=\"\",\"\",Expenditure!G211)","v":""},{"$f":"IF(Expenditure!H211=\"\",\"\",Expenditure!H211)","v":""},{"$f":"IF(Expenditure!I211=\"\",\"\",Expenditure!I211)","v":""},"",{"$f":"IF(Expenditure!K211=\"\",\"\",Expenditure!K211)","v":""},{"$f":"IF(Expenditure!L211=\"\",\"\",Expenditure!L211)","v":""},{"$f":"IF(Expenditure!M211=\"\",\"\",Expenditure!M211)","v":""},"-"]
[{"$f":"IF(Expenditure!B212=\"\",\"\",Expenditure!B212)","v":""},{"$f":"IF(Expenditure!C212=\"\",\"\",TEXT(Expenditure!C212,\"mmm\"))","v":""},{"$f":"IF(Expenditure!E212=\"\",\"\",Expenditure!E212)","v":""},{"$f":"IF(Expenditure!F212=\"\",\"\",Expenditure!F212)","v":""},{"$f":"IF(Expenditure!G212=\"\",\"\",Expenditure!G212)","v":""},{"$f":"IF(Expenditure!H212=\"\",\"\",Expenditure!H212)","v":""},{"$f":"IF(Expenditure!I212=\"\",\"\",Expenditure!I212)","v":""},"",{"$f":"IF(Expenditure!K212=\"\",\"\",Expenditure!K212)","v":""},{"$f":"IF(Expenditure!L212=\"\",\"\",Expenditure!L212)","v":""},{"$f":"IF(Expenditure!M212=\"\",\"\",Expenditure!M212)","v":""},"-"]
[{"$f":"IF(Expenditure!B213=\"\",\"\",Expenditure!B213)","v":""},{"$f":"IF(Expenditure!C213=\"\",\"\",TEXT(Expenditure!C213,\"mmm\"))","v":""},{"$f":"IF(Expenditure!E213=\"\",\"\",Expenditure!E213)","v":""},{"$f":"IF(Expenditure!F213=\"\",\"\",Expenditure!F213)","v":""},{"$f":"IF(Expenditure!G213=\"\",\"\",Expenditure!G213)","v":""},{"$f":"IF(Expenditure!H213=\"\",\"\",Expenditure!H213)","v":""},{"$f":"IF(Expenditure!I213=\"\",\"\",Expenditure!I213)","v":""},"",{"$f":"IF(Expenditure!K213=\"\",\"\",Expenditure!K213)","v":""},{"$f":"IF(Expenditure!L213=\"\",\"\",Expenditure!L213)","v":""},{"$f":"IF(Expenditure!M213=\"\",\"\",Expenditure!M213)","v":""},"-"]
[{"$f":"IF(Expenditure!B214=\"\",\"\",Expenditure!B214)","v":""},{"$f":"IF(Expenditure!C214=\"\",\"\",TEXT(Expenditure!C214,\"mmm\"))","v":""},{"$f":"IF(Expenditure!E214=\"\",\"\",Expenditure!E214)","v":""},{"$f":"IF(Expenditure!F214=\"\",\"\",Expenditure!F214)","v":""},{"$f":"IF(Expenditure!G214=\"\",\"\",Expenditure!G214)","v":""},{"$f":"IF(Expenditure!H214=\"\",\"\",Expenditure!H214)","v":""},{"$f":"IF(Expenditure!I214=\"\",\"\",Expenditure!I214)","v":""},"",{"$f":"IF(Expenditure!K214=\"\",\"\",Expenditure!K214)","v":""},{"$f":"IF(Expenditure!L214=\"\",\"\",Expenditure!L214)","v":""},{"$f":"IF(Expenditure!M214=\"\",\"\",Expenditure!M214)","v":""},"-"]
[{"$f":"IF(Expenditure!B215=\"\",\"\",Expenditure!B215)","v":""},{"$f":"IF(Expenditure!C215=\"\",\"\",TEXT(Expenditure!C215,\"mmm\"))","v":""},{"$f":"IF(Expenditure!E215=\"\",\"\",Expenditure!E215)","v":""},{"$f":"IF(Expenditure!F215=\"\",\"\",Expenditure!F215)","v":""},{"$f":"IF(Expenditure!G215=\"\",\"\",Expenditure!G215)","v":""},{"$f":"IF(Expenditure!H215=\"\",\"\",Expenditure!H215)","v":""},{"$f":"IF(Expenditure!I215=\"\",\"\",Expenditure!I215)","v":""},"",{"$f":"IF(Expenditure!K215=\"\",\"\",Expenditure!K215)","v":""},{"$f":"IF(Expenditure!L215=\"\",\"\",Expenditure!L215)","v":""},{"$f":"IF(Expenditure!M215=\"\",\"\",Expenditure!M215)","v":""},"-"]
[{"$f":"IF(Expenditure!B216=\"\",\"\",Expenditure!B216)","v":""},{"$f":"IF(Expenditure!C216=\"\",\"\",TEXT(Expenditure!C216,\"mmm\"))","v":""},{"$f":"IF(Expenditure!E216=\"\",\"\",Expenditure!E216)","v":""},{"$f":"IF(Expenditure!F216=\"\",\"\",Expenditure!F216)","v":""},{"$f":"IF(Expenditure!G216=\"\",\"\",Expenditure!G216)","v":""},{"$f":"IF(Expenditure!H216=\"\",\"\",Expenditure!H216)","v":""},{"$f":"IF(Expenditure!I216=\"\",\"\",Expenditure!I216)","v":""},"",{"$f":"IF(Expenditure!K216=\"\",\"\",Expenditure!K216)","v":""},{"$f":"IF(Expenditure!L216=\"\",\"\",Expenditure!L216)","v":""},{"$f":"IF(Expenditure!M216=\"\",\"\",Expenditure!M216)","v":""},"-"]
[{"$f":"IF(Expenditure!B217=\"\",\"\",Expenditure!B217)","v":""},{"$f":"IF(Expenditure!C217=\"\",\"\",TEXT(Expenditure!C217,\"mmm\"))","v":""},{"$f":"IF(Expenditure!E217=\"\",\"\",Expenditure!E217)","v":""},{"$f":"IF(Expenditure!F217=\"\",\"\",Expenditure!F217)","v":""},{"$f":"IF(Expenditure!G217=\"\",\"\",Expenditure!G217)","v":""},{"$f":"IF(Expenditure!H217=\"\",\"\",Expenditure!H217)","v":""},{"$f":"IF(Expenditure!I217=\"\",\"\",Expenditure!I217)","v":""},"",{"$f":"IF(Expenditure!K217=\"\",\"\",Expenditure!K217)","v":""},{"$f":"IF(Expenditure!L217=\"\",\"\",Expenditure!L217)","v":""},{"$f":"IF(Expenditure!M217=\"\",\"\",Expenditure!M217)","v":""},"-"]
[{"$f":"IF(Expenditure!B218=\"\",\"\",Expenditure!B218)","v":""},{"$f":"IF(Expenditure!C218=\"\",\"\",TEXT(Expenditure!C218,\"mmm\"))","v":""},{"$f":"IF(Expenditure!E218=\"\",\"\",Expenditure!E218)","v":""},{"$f":"IF(Expenditure!F218=\"\",\"\",Expenditure!F218)","v":""},{"$f":"IF(Expenditure!G218=\"\",\"\",Expenditure!G218)","v":""},{"$f":"IF(Expenditure!H218=\"\",\"\",Expenditure!H218)","v":""},{"$f":"IF(Expenditure!I218=\"\",\"\",Expenditure!I218)","v":""},"",{"$f":"IF(Expenditure!K218=\"\",\"\",Expenditure!K218)","v":""},{"$f":"IF(Expenditure!L218=\"\",\"\",Expenditure!L218)","v":""},{"$f":"IF(Expenditure!M218=\"\",\"\",Expenditure!M218)","v":""},"-"]
[{"$f":"IF(Expenditure!B219=\"\",\"\",Expenditure!B219)","v":""},{"$f":"IF(Expenditure!C219=\"\",\"\",TEXT(Expenditure!C219,\"mmm\"))","v":""},{"$f":"IF(Expenditure!E219=\"\",\"\",Expenditure!E219)","v":""},{"$f":"IF(Expenditure!F219=\"\",\"\",Expenditure!F219)","v":""},{"$f":"IF(Expenditure!G219=\"\",\"\",Expenditure!G219)","v":""},{"$f":"IF(Expenditure!H219=\"\",\"\",Expenditure!H219)","v":""},{"$f":"IF(Expenditure!I219=\"\",\"\",Expenditure!I219)","v":""},"",{"$f":"IF(Expenditure!K219=\"\",\"\",Expenditure!K219)","v":""},{"$f":"IF(Expenditure!L219=\"\",\"\",Expenditure!L219)","v":""},{"$f":"IF(Expenditure!M219=\"\",\"\",Expenditure!M219)","v":""},"-"]
[{"$f":"IF(Expenditure!B220=\"\",\"\",Expenditure!B220)","v":""},{"$f":"IF(Expenditure!C220=\"\",\"\",TEXT(Expenditure!C220,\"mmm\"))","v":""},{"$f":"IF(Expenditure!E220=\"\",\"\",Expenditure!E220)","v":""},{"$f":"IF(Expenditure!F220=\"\",\"\",Expenditure!F220)","v":""},{"$f":"IF(Expenditure!G220=\"\",\"\",Expenditure!G220)","v":""},{"$f":"IF(Expenditure!H220=\"\",\"\",Expenditure!H220)","v":""},{"$f":"IF(Expenditure!I220=\"\",\"\",Expenditure!I220)","v":""},"",{"$f":"IF(Expenditure!K220=\"\",\"\",Expenditure!K220)","v":""},{"$f":"IF(Expenditure!L220=\"\",\"\",Expenditure!L220)","v":""},{"$f":"IF(Expenditure!M220=\"\",\"\",Expenditure!M220)","v":""},"-"]
[{"$f":"IF(Expenditure!B221=\"\",\"\",Expenditure!B221)","v":""},{"$f":"IF(Expenditure!C221=\"\",\"\",TEXT(Expenditure!C221,\"mmm\"))","v":""},{"$f":"IF(Expenditure!E221=\"\",\"\",Expenditure!E221)","v":""},{"$f":"IF(Expenditure!F221=\"\",\"\",Expenditure!F221)","v":""},{"$f":"IF(Expenditure!G221=\"\",\"\",Expenditure!G221)","v":""},{"$f":"IF(Expenditure!H221=\"\",\"\",Expenditure!H221)","v":""},{"$f":"IF(Expenditure!I221=\"\",\"\",Expenditure!I221)","v":""},"",{"$f":"IF(Expenditure!K221=\"\",\"\",Expenditure!K221)","v":""},{"$f":"IF(Expenditure!L221=\"\",\"\",Expenditure!L221)","v":""},{"$f":"IF(Expenditure!M221=\"\",\"\",Expenditure!M221)","v":""},"-"]
[{"$f":"IF(Expenditure!B222=\"\",\"\",Expenditure!B222)","v":""},{"$f":"IF(Expenditure!C222=\"\",\"\",TEXT(Expenditure!C222,\"mmm\"))","v":""},{"$f":"IF(Expenditure!E222=\"\",\"\",Expenditure!E222)","v":""},{"$f":"IF(Expenditure!F222=\"\",\"\",Expenditure!F222)","v":""},{"$f":"IF(Expenditure!G222=\"\",\"\",Expenditure!G222)","v":""},{"$f":"IF(Expenditure!H222=\"\",\"\",Expenditure!H222)","v":""},{"$f":"IF(Expenditure!I222=\"\",\"\",Expenditure!I222)","v":""},"",{"$f":"IF(Expenditure!K222=\"\",\"\",Expenditure!K222)","v":""},{"$f":"IF(Expenditure!L222=\"\",\"\",Expenditure!L222)","v":""},{"$f":"IF(Expenditure!M222=\"\",\"\",Expenditure!M222)","v":""},"-"]
[{"$f":"IF(Expenditure!B223=\"\",\"\",Expenditure!B223)","v":""},{"$f":"IF(Expenditure!C223=\"\",\"\",TEXT(Expenditure!C223,\"mmm\"))","v":""},{"$f":"IF(Expenditure!E223=\"\",\"\",Expenditure!E223)","v":""},{"$f":"IF(Expenditure!F223=\"\",\"\",Expenditure!F223)","v":""},{"$f":"IF(Expenditure!G223=\"\",\"\",Expenditure!G223)","v":""},{"$f":"IF(Expenditure!H223=\"\",\"\",Expenditure!H223)","v":""},{"$f":"IF(Expenditure!I223=\"\",\"\",Expenditure!I223)","v":""},"",{"$f":"IF(Expenditure!K223=\"\",\"\",Expenditure!K223)","v":""},{"$f":"IF(Expenditure!L223=\"\",\"\",Expenditure!L223)","v":""},{"$f":"IF(Expenditure!M223=\"\",\"\",Expenditure!M223)","v":""},"-"]
[{"$f":"IF(Expenditure!B224=\"\",\"\",Expenditure!B224)","v":""},{"$f":"IF(Expenditure!C224=\"\",\"\",TEXT(Expenditure!C224,\"mmm\"))","v":""},{"$f":"IF(Expenditure!E224=\"\",\"\",Expenditure!E224)","v":""},{"$f":"IF(Expenditure!F224=\"\",\"\",Expenditure!F224)","v":""},{"$f":"IF(Expenditure!G224=\"\",\"\",Expenditure!G224)","v":""},{"$f":"IF(Expenditure!H224=\"\",\"\",Expenditure!H224)","v":""},{"$f":"IF(Expenditure!I224=\"\",\"\",Expenditure!I224)","v":""},"",{"$f":"IF(Expenditure!K224=\"\",\"\",Expenditure!K224)","v":""},{"$f":"IF(Expenditure!L224=\"\",\"\",Expenditure!L224)","v":""},{"$f":"IF(Expenditure!M224=\"\",\"\",Expenditure!M224)","v":""},"-"]
[{"$f":"IF(Expenditure!B225=\"\",\"\",Expenditure!B225)","v":""},{"$f":"IF(Expenditure!C225=\"\",\"\",TEXT(Expenditure!C225,\"mmm\"))","v":""},{"$f":"IF(Expenditure!E225=\"\",\"\",Expenditure!E225)","v":""},{"$f":"IF(Expenditure!F225=\"\",\"\",Expenditure!F225)","v":""},{"$f":"IF(Expenditure!G225=\"\",\"\",Expenditure!G225)","v":""},{"$f":"IF(Expenditure!H225=\"\",\"\",Expenditure!H225)","v":""},{"$f":"IF(Expenditure!I225=\"\",\"\",Expenditure!I225)","v":""},"",{"$f":"IF(Expenditure!K225=\"\",\"\",Expenditure!K225)","v":""},{"$f":"IF(Expenditure!L225=\"\",\"\",Expenditure!L225)","v":""},{"$f":"IF(Expenditure!M225=\"\",\"\",Expenditure!M225)","v":""},"-"]
[{"$f":"IF(Expenditure!B226=\"\",\"\",Expenditure!B226)","v":""},{"$f":"IF(Expenditure!C226=\"\",\"\",TEXT(Expenditure!C226,\"mmm\"))","v":""},{"$f":"IF(Expenditure!E226=\"\",\"\",Expenditure!E226)","v":""},{"$f":"IF(Expenditure!F226=\"\",\"\",Expenditure!F226)","v":""},{"$f":"IF(Expenditure!G226=\"\",\"\",Expenditure!G226)","v":""},{"$f":"IF(Expenditure!H226=\"\",\"\",Expenditure!H226)","v":""},{"$f":"IF(Expenditure!I226=\"\",\"\",Expenditure!I226)","v":""},"",{"$f":"IF(Expenditure!K226=\"\",\"\",Expenditure!K226)","v":""},{"$f":"IF(Expenditure!L226=\"\",\"\",Expenditure!L226)","v":""},{"$f":"IF(Expenditure!M226=\"\",\"\",Expenditure!M226)","v":""},"-"]
[{"$f":"IF(Expenditure!B227=\"\",\"\",Expenditure!B227)","v":""},{"$f":"IF(Expenditure!C227=\"\",\"\",TEXT(Expenditure!C227,\"mmm\"))","v":""},{"$f":"IF(Expenditure!E227=\"\",\"\",Expenditure!E227)","v":""},{"$f":"IF(Expenditure!F227=\"\",\"\",Expenditure!F227)","v":""},{"$f":"IF(Expenditure!G227=\"\",\"\",Expenditure!G227)","v":""},{"$f":"IF(Expenditure!H227=\"\",\"\",Expenditure!H227)","v":""},{"$f":"IF(Expenditure!I227=\"\",\"\",Expenditure!I227)","v":""},"",{"$f":"IF(Expenditure!K227=\"\",\"\",Expenditure!K227)","v":""},{"$f":"IF(Expenditure!L227=\"\",\"\",Expenditure!L227)","v":""},{"$f":"IF(Expenditure!M227=\"\",\"\",Expenditure!M227)","v":""},"-"]
[{"$f":"IF(Expenditure!B228=\"\",\"\",Expenditure!B228)","v":""},{"$f":"IF(Expenditure!C228=\"\",\"\",TEXT(Expenditure!C228,\"mmm\"))","v":""},{"$f":"IF(Expenditure!E228=\"\",\"\",Expenditure!E228)","v":""},{"$f":"IF(Expenditure!F228=\"\",\"\",Expenditure!F228)","v":""},{"$f":"IF(Expenditure!G228=\"\",\"\",Expenditure!G228)","v":""},{"$f":"IF(Expenditure!H228=\"\",\"\",Expenditure!H228)","v":""},{"$f":"IF(Expenditure!I228=\"\",\"\",Expenditure!I228)","v":""},"",{"$f":"IF(Expenditure!K228=\"\",\"\",Expenditure!K228)","v":""},{"$f":"IF(Expenditure!L228=\"\",\"\",Expenditure!L228)","v":""},{"$f":"IF(Expenditure!M228=\"\",\"\",Expenditure!M228)","v":""},"-"]
[{"$f":"IF(Expenditure!B229=\"\",\"\",Expenditure!B229)","v":""},{"$f":"IF(Expenditure!C229=\"\",\"\",TEXT(Expenditure!C229,\"mmm\"))","v":""},{"$f":"IF(Expenditure!E229=\"\",\"\",Expenditure!E229)","v":""},{"$f":"IF(Expenditure!F229=\"\",\"\",Expenditure!F229)","v":""},{"$f":"IF(Expenditure!G229=\"\",\"\",Expenditure!G229)","v":""},{"$f":"IF(Expenditure!H229=\"\",\"\",Expenditure!H229)","v":""},{"$f":"IF(Expenditure!I229=\"\",\"\",Expenditure!I229)","v":""},"",{"$f":"IF(Expenditure!K229=\"\",\"\",Expenditure!K229)","v":""},{"$f":"IF(Expenditure!L229=\"\",\"\",Expenditure!L229)","v":""},{"$f":"IF(Expenditure!M229=\"\",\"\",Expenditure!M229)","v":""},"-"]
[{"$f":"IF(Expenditure!B230=\"\",\"\",Expenditure!B230)","v":""},{"$f":"IF(Expenditure!C230=\"\",\"\",TEXT(Expenditure!C230,\"mmm\"))","v":""},{"$f":"IF(Expenditure!E230=\"\",\"\",Expenditure!E230)","v":""},{"$f":"IF(Expenditure!F230=\"\",\"\",Expenditure!F230)","v":""},{"$f":"IF(Expenditure!G230=\"\",\"\",Expenditure!G230)","v":""},{"$f":"IF(Expenditure!H230=\"\",\"\",Expenditure!H230)","v":""},{"$f":"IF(Expenditure!I230=\"\",\"\",Expenditure!I230)","v":""},"",{"$f":"IF(Expenditure!K230=\"\",\"\",Expenditure!K230)","v":""},{"$f":"IF(Expenditure!L230=\"\",\"\",Expenditure!L230)","v":""},{"$f":"IF(Expenditure!M230=\"\",\"\",Expenditure!M230)","v":""},"-"]
[{"$f":"IF(Expenditure!B231=\"\",\"\",Expenditure!B231)","v":""},{"$f":"IF(Expenditure!C231=\"\",\"\",TEXT(Expenditure!C231,\"mmm\"))","v":""},{"$f":"IF(Expenditure!E231=\"\",\"\",Expenditure!E231)","v":""},{"$f":"IF(Expenditure!F231=\"\",\"\",Expenditure!F231)","v":""},{"$f":"IF(Expenditure!G231=\"\",\"\",Expenditure!G231)","v":""},{"$f":"IF(Expenditure!H231=\"\",\"\",Expenditure!H231)","v":""},{"$f":"IF(Expenditure!I231=\"\",\"\",Expenditure!I231)","v":""},"",{"$f":"IF(Expenditure!K231=\"\",\"\",Expenditure!K231)","v":""},{"$f":"IF(Expenditure!L231=\"\",\"\",Expenditure!L231)","v":""},{"$f":"IF(Expenditure!M231=\"\",\"\",Expenditure!M231)","v":""},"-"]
[{"$f":"IF(Expenditure!B232=\"\",\"\",Expenditure!B232)","v":""},{"$f":"IF(Expenditure!C232=\"\",\"\",TEXT(Expenditure!C232,\"mmm\"))","v":""},{"$f":"IF(Expenditure!E232=\"\",\"\",Expenditure!E232)","v":""},{"$f":"IF(Expenditure!F232=\"\",\"\",Expenditure!F232)","v":""},{"$f":"IF(Expenditure!G232=\"\",\"\",Expenditure!G232)","v":""},{"$f":"IF(Expenditure!H232=\"\",\"\",Expenditure!H232)","v":""},{"$f":"IF(Expenditure!I232=\"\",\"\",Expenditure!I232)","v":""},"",{"$f":"IF(Expenditure!K232=\"\",\"\",Expenditure!K232)","v":""},{"$f":"IF(Expenditure!L232=\"\",\"\",Expenditure!L232)","v":""},{"$f":"IF(Expenditure!M232=\"\",\"\",Expenditure!M232)","v":""},"-"]
[{"$f":"IF(Expenditure!B233=\"\",\"\",Expenditure!B233)","v":""},{"$f":"IF(Expenditure!C233=\"\",\"\",TEXT(Expenditure!C233,\"mmm\"))","v":""},{"$f":"IF(Expenditure!E233=\"\",\"\",Expenditure!E233)","v":""},{"$f":"IF(Expenditure!F233=\"\",\"\",Expenditure!F233)","v":""},{"$f":"IF(Expenditure!G233=\"\",\"\",Expenditure!G233)","v":""},{"$f":"IF(Expenditure!H233=\"\",\"\",Expenditure!H233)","v":""},{"$f":"IF(Expenditure!I233=\"\",\"\",Expenditure!I233)","v":""},"",{"$f":"IF(Expenditure!K233=\"\",\"\",Expenditure!K233)","v":""},{"$f":"IF(Expenditure!L233=\"\",\"\",Expenditure!L233)","v":""},{"$f":"IF(Expenditure!M233=\"\",\"\",Expenditure!M233)","v":""},"-"]
[{"$f":"IF(Expenditure!B234=\"\",\"\",Expenditure!B234)","v":""},{"$f":"IF(Expenditure!C234=\"\",\"\",TEXT(Expenditure!C234,\"mmm\"))","v":""},{"$f":"IF(Expenditure!E234=\"\",\"\",Expenditure!E234)","v":""},{"$f":"IF(Expenditure!F234=\"\",\"\",Expenditure!F234)","v":""},{"$f":"IF(Expenditure!G234=\"\",\"\",Expenditure!G234)","v":""},{"$f":"IF(Expenditure!H234=\"\",\"\",Expenditure!H234)","v":""},{"$f":"IF(Expenditure!I234=\"\",\"\",Expenditure!I234)","v":""},"",{"$f":"IF(Expenditure!K234=\"\",\"\",Expenditure!K234)","v":""},{"$f":"IF(Expenditure!L234=\"\",\"\",Expenditure!L234)","v":""},{"$f":"IF(Expenditure!M234=\"\",\"\",Expenditure!M234)","v":""},"-"]
[{"$f":"IF(Expenditure!B235=\"\",\"\",Expenditure!B235)","v":""},{"$f":"IF(Expenditure!C235=\"\",\"\",TEXT(Expenditure!C235,\"mmm\"))","v":""},{"$f":"IF(Expenditure!E235=\"\",\"\",Expenditure!E235)","v":""},{"$f":"IF(Expenditure!F235=\"\",\"\",Expenditure!F235)","v":""},{"$f":"IF(Expenditure!G235=\"\",\"\",Expenditure!G235)","v":""},{"$f":"IF(Expenditure!H235=\"\",\"\",Expenditure!H235)","v":""},{"$f":"IF(Expenditure!I235=\"\",\"\",Expenditure!I235)","v":""},"",{"$f":"IF(Expenditure!K235=\"\",\"\",Expenditure!K235)","v":""},{"$f":"IF(Expenditure!L235=\"\",\"\",Expenditure!L235)","v":""},{"$f":"IF(Expenditure!M235=\"\",\"\",Expenditure!M235)","v":""},"-"]
[{"$f":"IF(Expenditure!B236=\"\",\"\",Expenditure!B236)","v":""},{"$f":"IF(Expenditure!C236=\"\",\"\",TEXT(Expenditure!C236,\"mmm\"))","v":""},{"$f":"IF(Expenditure!E236=\"\",\"\",Expenditure!E236)","v":""},{"$f":"IF(Expenditure!F236=\"\",\"\",Expenditure!F236)","v":""},{"$f":"IF(Expenditure!G236=\"\",\"\",Expenditure!G236)","v":""},{"$f":"IF(Expenditure!H236=\"\",\"\",Expenditure!H236)","v":""},{"$f":"IF(Expenditure!I236=\"\",\"\",Expenditure!I236)","v":""},"",{"$f":"IF(Expenditure!K236=\"\",\"\",Expenditure!K236)","v":""},{"$f":"IF(Expenditure!L236=\"\",\"\",Expenditure!L236)","v":""},{"$f":"IF(Expenditure!M236=\"\",\"\",Expenditure!M236)","v":""},"-"]
[{"$f":"IF(Expenditure!B237=\"\",\"\",Expenditure!B237)","v":""},{"$f":"IF(Expenditure!C237=\"\",\"\",TEXT(Expenditure!C237,\"mmm\"))","v":""},{"$f":"IF(Expenditure!E237=\"\",\"\",Expenditure!E237)","v":""},{"$f":"IF(Expenditure!F237=\"\",\"\",Expenditure!F237)","v":""},{"$f":"IF(Expenditure!G237=\"\",\"\",Expenditure!G237)","v":""},{"$f":"IF(Expenditure!H237=\"\",\"\",Expenditure!H237)","v":""},{"$f":"IF(Expenditure!I237=\"\",\"\",Expenditure!I237)","v":""},"",{"$f":"IF(Expenditure!K237=\"\",\"\",Expenditure!K237)","v":""},{"$f":"IF(Expenditure!L237=\"\",\"\",Expenditure!L237)","v":""},{"$f":"IF(Expenditure!M237=\"\",\"\",Expenditure!M237)","v":""},"-"]
[{"$f":"IF(Expenditure!B238=\"\",\"\",Expenditure!B238)","v":""},{"$f":"IF(Expenditure!C238=\"\",\"\",TEXT(Expenditure!C238,\"mmm\"))","v":""},{"$f":"IF(Expenditure!E238=\"\",\"\",Expenditure!E238)","v":""},{"$f":"IF(Expenditure!F238=\"\",\"\",Expenditure!F238)","v":""},{"$f":"IF(Expenditure!G238=\"\",\"\",Expenditure!G238)","v":""},{"$f":"IF(Expenditure!H238=\"\",\"\",Expenditure!H238)","v":""},{"$f":"IF(Expenditure!I238=\"\",\"\",Expenditure!I238)","v":""},"",{"$f":"IF(Expenditure!K238=\"\",\"\",Expenditure!K238)","v":""},{"$f":"IF(Expenditure!L238=\"\",\"\",Expenditure!L238)","v":""},{"$f":"IF(Expenditure!M238=\"\",\"\",Expenditure!M238)","v":""},"-"]
[{"$f":"IF(Expenditure!B239=\"\",\"\",Expenditure!B239)","v":""},{"$f":"IF(Expenditure!C239=\"\",\"\",TEXT(Expenditure!C239,\"mmm\"))","v":""},{"$f":"IF(Expenditure!E239=\"\",\"\",Expenditure!E239)","v":""},{"$f":"IF(Expenditure!F239=\"\",\"\",Expenditure!F239)","v":""},{"$f":"IF(Expenditure!G239=\"\",\"\",Expenditure!G239)","v":""},{"$f":"IF(Expenditure!H239=\"\",\"\",Expenditure!H239)","v":""},{"$f":"IF(Expenditure!I239=\"\",\"\",Expenditure!I239)","v":""},"",{"$f":"IF(Expenditure!K239=\"\",\"\",Expenditure!K239)","v":""},{"$f":"IF(Expenditure!L239=\"\",\"\",Expenditure!L239)","v":""},{"$f":"IF(Expenditure!M239=\"\",\"\",Expenditure!M239)","v":""},"-"]
[{"$f":"IF(Expenditure!B240=\"\",\"\",Expenditure!B240)","v":""},{"$f":"IF(Expenditure!C240=\"\",\"\",TEXT(Expenditure!C240,\"mmm\"))","v":""},{"$f":"IF(Expenditure!E240=\"\",\"\",Expenditure!E240)","v":""},{"$f":"IF(Expenditure!F240=\"\",\"\",Expenditure!F240)","v":""},{"$f":"IF(Expenditure!G240=\"\",\"\",Expenditure!G240)","v":""},{"$f":"IF(Expenditure!H240=\"\",\"\",Expenditure!H240)","v":""},{"$f":"IF(Expenditure!I240=\"\",\"\",Expenditure!I240)","v":""},"",{"$f":"IF(Expenditure!K240=\"\",\"\",Expenditure!K240)","v":""},{"$f":"IF(Expenditure!L240=\"\",\"\",Expenditure!L240)","v":""},{"$f":"IF(Expenditure!M240=\"\",\"\",Expenditure!M240)","v":""},"-"]
[{"$f":"IF(Expenditure!B241=\"\",\"\",Expenditure!B241)","v":""},{"$f":"IF(Expenditure!C241=\"\",\"\",TEXT(Expenditure!C241,\"mmm\"))","v":""},{"$f":"IF(Expenditure!E241=\"\",\"\",Expenditure!E241)","v":""},{"$f":"IF(Expenditure!F241=\"\",\"\",Expenditure!F241)","v":""},{"$f":"IF(Expenditure!G241=\"\",\"\",Expenditure!G241)","v":""},{"$f":"IF(Expenditure!H241=\"\",\"\",Expenditure!H241)","v":""},{"$f":"IF(Expenditure!I241=\"\",\"\",Expenditure!I241)","v":""},"",{"$f":"IF(Expenditure!K241=\"\",\"\",Expenditure!K241)","v":""},{"$f":"IF(Expenditure!L241=\"\",\"\",Expenditure!L241)","v":""},{"$f":"IF(Expenditure!M241=\"\",\"\",Expenditure!M241)","v":""},"-"]
[{"$f":"IF(Expenditure!B242=\"\",\"\",Expenditure!B242)","v":""},{"$f":"IF(Expenditure!C242=\"\",\"\",TEXT(Expenditure!C242,\"mmm\"))","v":""},{"$f":"IF(Expenditure!E242=\"\",\"\",Expenditure!E242)","v":""},{"$f":"IF(Expenditure!F242=\"\",\"\",Expenditure!F242)","v":""},{"$f":"IF(Expenditure!G242=\"\",\"\",Expenditure!G242)","v":""},{"$f":"IF(Expenditure!H242=\"\",\"\",Expenditure!H242)","v":""},{"$f":"IF(Expenditure!I242=\"\",\"\",Expenditure!I242)","v":""},"",{"$f":"IF(Expenditure!K242=\"\",\"\",Expenditure!K242)","v":""},{"$f":"IF(Expenditure!L242=\"\",\"\",Expenditure!L242)","v":""},{"$f":"IF(Expenditure!M242=\"\",\"\",Expenditure!M242)","v":""},"-"]
[{"$f":"IF(Expenditure!B243=\"\",\"\",Expenditure!B243)","v":""},{"$f":"IF(Expenditure!C243=\"\",\"\",TEXT(Expenditure!C243,\"mmm\"))","v":""},{"$f":"IF(Expenditure!E243=\"\",\"\",Expenditure!E243)","v":""},{"$f":"IF(Expenditure!F243=\"\",\"\",Expenditure!F243)","v":""},{"$f":"IF(Expenditure!G243=\"\",\"\",Expenditure!G243)","v":""},{"$f":"IF(Expenditure!H243=\"\",\"\",Expenditure!H243)","v":""},{"$f":"IF(Expenditure!I243=\"\",\"\",Expenditure!I243)","v":""},"",{"$f":"IF(Expenditure!K243=\"\",\"\",Expenditure!K243)","v":""},{"$f":"IF(Expenditure!L243=\"\",\"\",Expenditure!L243)","v":""},{"$f":"IF(Expenditure!M243=\"\",\"\",Expenditure!M243)","v":""},"-"]
[{"$f":"IF(Expenditure!B244=\"\",\"\",Expenditure!B244)","v":""},{"$f":"IF(Expenditure!C244=\"\",\"\",TEXT(Expenditure!C244,\"mmm\"))","v":""},{"$f":"IF(Expenditure!E244=\"\",\"\",Expenditure!E244)","v":""},{"$f":"IF(Expenditure!F244=\"\",\"\",Expenditure!F244)","v":""},{"$f":"IF(Expenditure!G244=\"\",\"\",Expenditure!G244)","v":""},{"$f":"IF(Expenditure!H244=\"\",\"\",Expenditure!H244)","v":""},{"$f":"IF(Expenditure!I244=\"\",\"\",Expenditure!I244)","v":""},"",{"$f":"IF(Expenditure!K244=\"\",\"\",Expenditure!K244)","v":""},{"$f":"IF(Expenditure!L244=\"\",\"\",Expenditure!L244)","v":""},{"$f":"IF(Expenditure!M244=\"\",\"\",Expenditure!M244)","v":""},"-"]
[{"$f":"IF(Expenditure!B245=\"\",\"\",Expenditure!B245)","v":""},{"$f":"IF(Expenditure!C245=\"\",\"\",TEXT(Expenditure!C245,\"mmm\"))","v":""},{"$f":"IF(Expenditure!E245=\"\",\"\",Expenditure!E245)","v":""},{"$f":"IF(Expenditure!F245=\"\",\"\",Expenditure!F245)","v":""},{"$f":"IF(Expenditure!G245=\"\",\"\",Expenditure!G245)","v":""},{"$f":"IF(Expenditure!H245=\"\",\"\",Expenditure!H245)","v":""},{"$f":"IF(Expenditure!I245=\"\",\"\",Expenditure!I245)","v":""},"",{"$f":"IF(Expenditure!K245=\"\",\"\",Expenditure!K245)","v":""},{"$f":"IF(Expenditure!L245=\"\",\"\",Expenditure!L245)","v":""},{"$f":"IF(Expenditure!M245=\"\",\"\",Expenditure!M245)","v":""},"-"]
[{"$f":"IF(Expenditure!B246=\"\",\"\",Expenditure!B246)","v":""},{"$f":"IF(Expenditure!C246=\"\",\"\",TEXT(Expenditure!C246,\"mmm\"))","v":""},{"$f":"IF(Expenditure!E246=\"\",\"\",Expenditure!E246)","v":""},{"$f":"IF(Expenditure!F246=\"\",\"\",Expenditure!F246)","v":""},{"$f":"IF(Expenditure!G246=\"\",\"\",Expenditure!G246)","v":""},{"$f":"IF(Expenditure!H246=\"\",\"\",Expenditure!H246)","v":""},{"$f":"IF(Expenditure!I246=\"\",\"\",Expenditure!I246)","v":""},"",{"$f":"IF(Expenditure!K246=\"\",\"\",Expenditure!K246)","v":""},{"$f":"IF(Expenditure!L246=\"\",\"\",Expenditure!L246)","v":""},{"$f":"IF(Expenditure!M246=\"\",\"\",Expenditure!M246)","v":""},"-"]
[{"$f":"IF(Expenditure!B247=\"\",\"\",Expenditure!B247)","v":""},{"$f":"IF(Expenditure!C247=\"\",\"\",TEXT(Expenditure!C247,\"mmm\"))","v":""},{"$f":"IF(Expenditure!E247=\"\",\"\",Expenditure!E247)","v":""},{"$f":"IF(Expenditure!F247=\"\",\"\",Expenditure!F247)","v":""},{"$f":"IF(Expenditure!G247=\"\",\"\",Expenditure!G247)","v":""},{"$f":"IF(Expenditure!H247=\"\",\"\",Expenditure!H247)","v":""},{"$f":"IF(Expenditure!I247=\"\",\"\",Expenditure!I247)","v":""},"",{"$f":"IF(Expenditure!K247=\"\",\"\",Expenditure!K247)","v":""},{"$f":"IF(Expenditure!L247=\"\",\"\",Expenditure!L247)","v":""},{"$f":"IF(Expenditure!M247=\"\",\"\",Expenditure!M247)","v":""},"-"]
[{"$f":"IF(Expenditure!B248=\"\",\"\",Expenditure!B248)","v":""},{"$f":"IF(Expenditure!C248=\"\",\"\",TEXT(Expenditure!C248,\"mmm\"))","v":""},{"$f":"IF(Expenditure!E248=\"\",\"\",Expenditure!E248)","v":""},{"$f":"IF(Expenditure!F248=\"\",\"\",Expenditure!F248)","v":""},{"$f":"IF(Expenditure!G248=\"\",\"\",Expenditure!G248)","v":""},{"$f":"IF(Expenditure!H248=\"\",\"\",Expenditure!H248)","v":""},{"$f":"IF(Expenditure!I248=\"\",\"\",Expenditure!I248)","v":""},"",{"$f":"IF(Expenditure!K248=\"\",\"\",Expenditure!K248)","v":""},{"$f":"IF(Expenditure!L248=\"\",\"\",Expenditure!L248)","v":""},{"$f":"IF(Expenditure!M248=\"\",\"\",Expenditure!M248)","v":""},"-"]
[{"$f":"IF(Expenditure!B249=\"\",\"\",Expenditure!B249)","v":""},{"$f":"IF(Expenditure!C249=\"\",\"\",TEXT(Expenditure!C249,\"mmm\"))","v":""},{"$f":"IF(Expenditure!E249=\"\",\"\",Expenditure!E249)","v":""},{"$f":"IF(Expenditure!F249=\"\",\"\",Expenditure!F249)","v":""},{"$f":"IF(Expenditure!G249=\"\",\"\",Expenditure!G249)","v":""},{"$f":"IF(Expenditure!H249=\"\",\"\",Expenditure!H249)","v":""},{"$f":"IF(Expenditure!I249=\"\",\"\",Expenditure!I249)","v":""},"",{"$f":"IF(Expenditure!K249=\"\",\"\",Expenditure!K249)","v":""},{"$f":"IF(Expenditure!L249=\"\",\"\",Expenditure!L249)","v":""},{"$f":"IF(Expenditure!M249=\"\",\"\",Expenditure!M249)","v":""},"-"]
[{"$f":"IF(Expenditure!B250=\"\",\"\",Expenditure!B250)","v":""},{"$f":"IF(Expenditure!C250=\"\",\"\",TEXT(Expenditure!C250,\"mmm\"))","v":""},{"$f":"IF(Expenditure!E250=\"\",\"\",Expenditure!E250)","v":""},{"$f":"IF(Expenditure!F250=\"\",\"\",Expenditure!F250)","v":""},{"$f":"IF(Expenditure!G250=\"\",\"\",Expenditure!G250)","v":""},{"$f":"IF(Expenditure!H250=\"\",\"\",Expenditure!H250)","v":""},{"$f":"IF(Expenditure!I250=\"\",\"\",Expenditure!I250)","v":""},"",{"$f":"IF(Expenditure!K250=\"\",\"\",Expenditure!K250)","v":""},{"$f":"IF(Expenditure!L250=\"\",\"\",Expenditure!L250)","v":""},{"$f":"IF(Expenditure!M250=\"\",\"\",Expenditure!M250)","v":""},"-"]
[{"$f":"IF(Expenditure!B251=\"\",\"\",Expenditure!B251)","v":""},{"$f":"IF(Expenditure!C251=\"\",\"\",TEXT(Expenditure!C251,\"mmm\"))","v":""},{"$f":"IF(Expenditure!E251=\"\",\"\",Expenditure!E251)","v":""},{"$f":"IF(Expenditure!F251=\"\",\"\",Expenditure!F251)","v":""},{"$f":"IF(Expenditure!G251=\"\",\"\",Expenditure!G251)","v":""},{"$f":"IF(Expenditure!H251=\"\",\"\",Expenditure!H251)","v":""},{"$f":"IF(Expenditure!I251=\"\",\"\",Expenditure!I251)","v":""},"",{"$f":"IF(Expenditure!K251=\"\",\"\",Expenditure!K251)","v":""},{"$f":"IF(Expenditure!L251=\"\",\"\",Expenditure!L251)","v":""},{"$f":"IF(Expenditure!M251=\"\",\"\",Expenditure!M251)","v":""},"-"]
[{"$f":"IF(Expenditure!B252=\"\",\"\",Expenditure!B252)","v":""},{"$f":"IF(Expenditure!C252=\"\",\"\",TEXT(Expenditure!C252,\"mmm\"))","v":""},{"$f":"IF(Expenditure!E252=\"\",\"\",Expenditure!E252)","v":""},{"$f":"IF(Expenditure!F252=\"\",\"\",Expenditure!F252)","v":""},{"$f":"IF(Expenditure!G252=\"\",\"\",Expenditure!G252)","v":""},{"$f":"IF(Expenditure!H252=\"\",\"\",Expenditure!H252)","v":""},{"$f":"IF(Expenditure!I252=\"\",\"\",Expenditure!I252)","v":""},"",{"$f":"IF(Expenditure!K252=\"\",\"\",Expenditure!K252)","v":""},{"$f":"IF(Expenditure!L252=\"\",\"\",Expenditure!L252)","v":""},{"$f":"IF(Expenditure!M252=\"\",\"\",Expenditure!M252)","v":""},"-"]
[{"$f":"IF(Expenditure!B253=\"\",\"\",Expenditure!B253)","v":""},{"$f":"IF(Expenditure!C253=\"\",\"\",TEXT(Expenditure!C253,\"mmm\"))","v":""},{"$f":"IF(Expenditure!E253=\"\",\"\",Expenditure!E253)","v":""},{"$f":"IF(Expenditure!F253=\"\",\"\",Expenditure!F253)","v":""},{"$f":"IF(Expenditure!G253=\"\",\"\",Expenditure!G253)","v":""},{"$f":"IF(Expenditure!H253=\"\",\"\",Expenditure!H253)","v":""},{"$f":"IF(Expenditure!I253=\"\",\"\",Expenditure!I253)","v":""},"",{"$f":"IF(Expenditure!K253=\"\",\"\",Expenditure!K253)","v":""},{"$f":"IF(Expenditure!L253=\"\",\"\",Expenditure!L253)","v":""},{"$f":"IF(Expenditure!M253=\"\",\"\",Expenditure!M253)","v":""},"-"]
[{"$f":"IF(Expenditure!B254=\"\",\"\",Expenditure!B254)","v":""},{"$f":"IF(Expenditure!C254=\"\",\"\",TEXT(Expenditure!C254,\"mmm\"))","v":""},{"$f":"IF(Expenditure!E254=\"\",\"\",Expenditure!E254)","v":""},{"$f":"IF(Expenditure!F254=\"\",\"\",Expenditure!F254)","v":""},{"$f":"IF(Expenditure!G254=\"\",\"\",Expenditure!G254)","v":""},{"$f":"IF(Expenditure!H254=\"\",\"\",Expenditure!H254)","v":""},{"$f":"IF(Expenditure!I254=\"\",\"\",Expenditure!I254)","v":""},"",{"$f":"IF(Expenditure!K254=\"\",\"\",Expenditure!K254)","v":""},{"$f":"IF(Expenditure!L254=\"\",\"\",Expenditure!L254)","v":""},{"$f":"IF(Expenditure!M254=\"\",\"\",Expenditure!M254)","v":""},"-"]
[{"$f":"IF(Expenditure!B255=\"\",\"\",Expenditure!B255)","v":""},{"$f":"IF(Expenditure!C255=\"\",\"\",TEXT(Expenditure!C255,\"mmm\"))","v":""},{"$f":"IF(Expenditure!E255=\"\",\"\",Expenditure!E255)","v":""},{"$f":"IF(Expenditure!F255=\"\",\"\",Expenditure!F255)","v":""},{"$f":"IF(Expenditure!G255=\"\",\"\",Expenditure!G255)","v":""},{"$f":"IF(Expenditure!H255=\"\",\"\",Expenditure!H255)","v":""},{"$f":"IF(Expenditure!I255=\"\",\"\",Expenditure!I255)","v":""},"",{"$f":"IF(Expenditure!K255=\"\",\"\",Expenditure!K255)","v":""},{"$f":"IF(Expenditure!L255=\"\",\"\",Expenditure!L255)","v":""},{"$f":"IF(Expenditure!M255=\"\",\"\",Expenditure!M255)","v":""},"-"]
[{"$f":"IF(Expenditure!B256=\"\",\"\",Expenditure!B256)","v":""},{"$f":"IF(Expenditure!C256=\"\",\"\",TEXT(Expenditure!C256,\"mmm\"))","v":""},{"$f":"IF(Expenditure!E256=\"\",\"\",Expenditure!E256)","v":""},{"$f":"IF(Expenditure!F256=\"\",\"\",Expenditure!F256)","v":""},{"$f":"IF(Expenditure!G256=\"\",\"\",Expenditure!G256)","v":""},{"$f":"IF(Expenditure!H256=\"\",\"\",Expenditure!H256)","v":""},{"$f":"IF(Expenditure!I256=\"\",\"\",Expenditure!I256)","v":""},"",{"$f":"IF(Expenditure!K256=\"\",\"\",Expenditure!K256)","v":""},{"$f":"IF(Expenditure!L256=\"\",\"\",Expenditure!L256)","v":""},{"$f":"IF(Expenditure!M256=\"\",\"\",Expenditure!M256)","v":""},"-"]
[{"$f":"IF(Expenditure!B257=\"\",\"\",Expenditure!B257)","v":""},{"$f":"IF(Expenditure!C257=\"\",\"\",TEXT(Expenditure!C257,\"mmm\"))","v":""},{"$f":"IF(Expenditure!E257=\"\",\"\",Expenditure!E257)","v":""},{"$f":"IF(Expenditure!F257=\"\",\"\",Expenditure!F257)","v":""},{"$f":"IF(Expenditure!G257=\"\",\"\",Expenditure!G257)","v":""},{"$f":"IF(Expenditure!H257=\"\",\"\",Expenditure!H257)","v":""},{"$f":"IF(Expenditure!I257=\"\",\"\",Expenditure!I257)","v":""},"",{"$f":"IF(Expenditure!K257=\"\",\"\",Expenditure!K257)","v":""},{"$f":"IF(Expenditure!L257=\"\",\"\",Expenditure!L257)","v":""},{"$f":"IF(Expenditure!M257=\"\",\"\",Expenditure!M257)","v":""},"-"]
[{"$f":"IF(Expenditure!B258=\"\",\"\",Expenditure!B258)","v":""},{"$f":"IF(Expenditure!C258=\"\",\"\",TEXT(Expenditure!C258,\"mmm\"))","v":""},{"$f":"IF(Expenditure!E258=\"\",\"\",Expenditure!E258)","v":""},{"$f":"IF(Expenditure!F258=\"\",\"\",Expenditure!F258)","v":""},{"$f":"IF(Expenditure!G258=\"\",\"\",Expenditure!G258)","v":""},{"$f":"IF(Expenditure!H258=\"\",\"\",Expenditure!H258)","v":""},{"$f":"IF(Expenditure!I258=\"\",\"\",Expenditure!I258)","v":""},"",{"$f":"IF(Expenditure!K258=\"\",\"\",Expenditure!K258)","v":""},{"$f":"IF(Expenditure!L258=\"\",\"\",Expenditure!L258)","v":""},{"$f":"IF(Expenditure!M258=\"\",\"\",Expenditure!M258)","v":""},"-"]
[{"$f":"IF(Expenditure!B259=\"\",\"\",Expenditure!B259)","v":""},{"$f":"IF(Expenditure!C259=\"\",\"\",TEXT(Expenditure!C259,\"mmm\"))","v":""},{"$f":"IF(Expenditure!E259=\"\",\"\",Expenditure!E259)","v":""},{"$f":"IF(Expenditure!F259=\"\",\"\",Expenditure!F259)","v":""},{"$f":"IF(Expenditure!G259=\"\",\"\",Expenditure!G259)","v":""},{"$f":"IF(Expenditure!H259=\"\",\"\",Expenditure!H259)","v":""},{"$f":"IF(Expenditure!I259=\"\",\"\",Expenditure!I259)","v":""},"",{"$f":"IF(Expenditure!K259=\"\",\"\",Expenditure!K259)","v":""},{"$f":"IF(Expenditure!L259=\"\",\"\",Expenditure!L259)","v":""},{"$f":"IF(Expenditure!M259=\"\",\"\",Expenditure!M259)","v":""},"-"]
[{"$f":"IF(Expenditure!B260=\"\",\"\",Expenditure!B260)","v":""},{"$f":"IF(Expenditure!C260=\"\",\"\",TEXT(Expenditure!C260,\"mmm\"))","v":""},{"$f":"IF(Expenditure!E260=\"\",\"\",Expenditure!E260)","v":""},{"$f":"IF(Expenditure!F260=\"\",\"\",Expenditure!F260)","v":""},{"$f":"IF(Expenditure!G260=\"\",\"\",Expenditure!G260)","v":""},{"$f":"IF(Expenditure!H260=\"\",\"\",Expenditure!H260)","v":""},{"$f":"IF(Expenditure!I260=\"\",\"\",Expenditure!I260)","v":""},{"$f":"IFERROR(F268*G268,\"\")","v":""},{"$f":"IF(Expenditure!K260=\"\",\"\",Expenditure!K260)","v":""},{"$f":"IF(Expenditure!L260=\"\",\"\",Expenditure!L260)","v":""},{"$f":"IF(Expenditure!M260=\"\",\"\",Expenditure!M260)","v":""},"-"]
[{"$f":"IF(Expenditure!B261=\"\",\"\",Expenditure!B261)","v":""},{"$f":"IF(Expenditure!C261=\"\",\"\",TEXT(Expenditure!C261,\"mmm\"))","v":""},{"$f":"IF(Expenditure!E261=\"\",\"\",Expenditure!E261)","v":""},{"$f":"IF(Expenditure!F261=\"\",\"\",Expenditure!F261)","v":""},{"$f":"IF(Expenditure!G261=\"\",\"\",Expenditure!G261)","v":""},{"$f":"IF(Expenditure!H261=\"\",\"\",Expenditure!H261)","v":""},{"$f":"IF(Expenditure!I261=\"\",\"\",Expenditure!I261)","v":""},"",{"$f":"IF(Expenditure!K261=\"\",\"\",Expenditure!K261)","v":""},{"$f":"IF(Expenditure!L261=\"\",\"\",Expenditure!L261)","v":""},{"$f":"IF(Expenditure!M261=\"\",\"\",Expenditure!M261)","v":""},"-"]
[{"$f":"IF(Expenditure!B262=\"\",\"\",Expenditure!B262)","v":""},{"$f":"IF(Expenditure!C262=\"\",\"\",TEXT(Expenditure!C262,\"mmm\"))","v":""},{"$f":"IF(Expenditure!E262=\"\",\"\",Expenditure!E262)","v":""},{"$f":"IF(Expenditure!F262=\"\",\"\",Expenditure!F262)","v":""},{"$f":"IF(Expenditure!G262=\"\",\"\",Expenditure!G262)","v":""},{"$f":"IF(Expenditure!H262=\"\",\"\",Expenditure!H262)","v":""},{"$f":"IF(Expenditure!I262=\"\",\"\",Expenditure!I262)","v":""},"",{"$f":"IF(Expenditure!K262=\"\",\"\",Expenditure!K262)","v":""},{"$f":"IF(Expenditure!L262=\"\",\"\",Expenditure!L262)","v":""},{"$f":"IF(Expenditure!M262=\"\",\"\",Expenditure!M262)","v":""},"-"]
[{"$f":"IF(Expenditure!B263=\"\",\"\",Expenditure!B263)","v":""},{"$f":"IF(Expenditure!C263=\"\",\"\",TEXT(Expenditure!C263,\"mmm\"))","v":""},{"$f":"IF(Expenditure!E263=\"\",\"\",Expenditure!E263)","v":""},{"$f":"IF(Expenditure!F263=\"\",\"\",Expenditure!F263)","v":""},{"$f":"IF(Expenditure!G263=\"\",\"\",Expenditure!G263)","v":""},{"$f":"IF(Expenditure!H263=\"\",\"\",Expenditure!H263)","v":""},{"$f":"IF(Expenditure!I263=\"\",\"\",Expenditure!I263)","v":""},"",{"$f":"IF(Expenditure!K263=\"\",\"\",Expenditure!K263)","v":""},{"$f":"IF(Expenditure!L263=\"\",\"\",Expenditure!L263)","v":""},{"$f":"IF(Expenditure!M263=\"\",\"\",Expenditure!M263)","v":""},"-"]
[{"$f":"IF(Expenditure!B264=\"\",\"\",Expenditure!B264)","v":""},{"$f":"IF(Expenditure!C264=\"\",\"\",TEXT(Expenditure!C264,\"mmm\"))","v":""},{"$f":"IF(Expenditure!E264=\"\",\"\",Expenditure!E264)","v":""},{"$f":"IF(Expenditure!F264=\"\",\"\",Expenditure!F264)","v":""},{"$f":"IF(Expenditure!G264=\"\",\"\",Expenditure!G264)","v":""},{"$f":"IF(Expenditure!H264=\"\",\"\",Expenditure!H264)","v":""},{"$f":"IF(Expenditure!I264=\"\",\"\",Expenditure!I264)","v":""},"",{"$f":"IF(Expenditure!K264=\"\",\"\",Expenditure!K264)","v":""},{"$f":"IF(Expenditure!L264=\"\",\"\",Expenditure!L264)","v":""},{"$f":"IF(Expenditure!M264=\"\",\"\",Expenditure!M264)","v":""},"-"]
[{"$f":"IF(Expenditure!B265=\"\",\"\",Expenditure!B265)","v":""},{"$f":"IF(Expenditure!C265=\"\",\"\",TEXT(Expenditure!C265,\"mmm\"))","v":""},{"$f":"IF(Expenditure!E265=\"\",\"\",Expenditure!E265)","v":""},{"$f":"IF(Expenditure!F265=\"\",\"\",Expenditure!F265)","v":""},{"$f":"IF(Expenditure!G265=\"\",\"\",Expenditure!G265)","v":""},{"$f":"IF(Expenditure!H265=\"\",\"\",Expenditure!H265)","v":""},{"$f":"IF(Expenditure!I265=\"\",\"\",Expenditure!I265)","v":""},"",{"$f":"IF(Expenditure!K265=\"\",\"\",Expenditure!K265)","v":""},{"$f":"IF(Expenditure!L265=\"\",\"\",Expenditure!L265)","v":""},{"$f":"IF(Expenditure!M265=\"\",\"\",Expenditure!M265)","v":""},"-"]
[{"$f":"IF(Expenditure!B266=\"\",\"\",Expenditure!B266)","v":""},{"$f":"IF(Expenditure!C266=\"\",\"\",TEXT(Expenditure!C266,\"mmm\"))","v":""},{"$f":"IF(Expenditure!E266=\"\",\"\",Expenditure!E266)","v":""},{"$f":"IF(Expenditure!F266=\"\",\"\",Expenditure!F266)","v":""},{"$f":"IF(Expenditure!G266=\"\",\"\",Expenditure!G266)","v":""},{"$f":"IF(Expenditure!H266=\"\",\"\",Expenditure!H266)","v":""},{"$f":"IF(Expenditure!I266=\"\",\"\",Expenditure!I266)","v":""},"",{"$f":"IF(Expenditure!K266=\"\",\"\",Expenditure!K266)","v":""},{"$f":"IF(Expenditure!L266=\"\",\"\",Expenditure!L266)","v":""},{"$f":"IF(Expenditure!M266=\"\",\"\",Expenditure!M266)","v":""},"-"]
[{"$f":"IF(Expenditure!B267=\"\",\"\",Expenditure!B267)","v":""},{"$f":"IF(Expenditure!C267=\"\",\"\",TEXT(Expenditure!C267,\"mmm\"))","v":""},{"$f":"IF(Expenditure!E267=\"\",\"\",Expenditure!E267)","v":""},{"$f":"IF(Expenditure!F267=\"\",\"\",Expenditure!F267)","v":""},{"$f":"IF(Expenditure!G267=\"\",\"\",Expenditure!G267)","v":""},{"$f":"IF(Expenditure!H267=\"\",\"\",Expenditure!H267)","v":""},{"$f":"IF(Expenditure!I267=\"\",\"\",Expenditure!I267)","v":""},"",{"$f":"IF(Expenditure!K267=\"\",\"\",Expenditure!K267)","v":""},{"$f":"IF(Expenditure!L267=\"\",\"\",Expenditure!L267)","v":""},{"$f":"IF(Expenditure!M267=\"\",\"\",Expenditure!M267)","v":""},"-"]
[{"$f":"IF(Expenditure!B268=\"\",\"\",Expenditure!B268)","v":""},{"$f":"IF(Expenditure!C268=\"\",\"\",TEXT(Expenditure!C268,\"mmm\"))","v":""},{"$f":"IF(Expenditure!E268=\"\",\"\",Expenditure!E268)","v":""},{"$f":"IF(Expenditure!F268=\"\",\"\",Expenditure!F268)","v":""},{"$f":"IF(Expenditure!G268=\"\",\"\",Expenditure!G268)","v":""},{"$f":"IF(Expenditure!H268=\"\",\"\",Expenditure!H268)","v":""},{"$f":"IF(Expenditure!I268=\"\",\"\",Expenditure!I268)","v":""},"",{"$f":"IF(Expenditure!K268=\"\",\"\",Expenditure!K268)","v":""},{"$f":"IF(Expenditure!L268=\"\",\"\",Expenditure!L268)","v":""},{"$f":"IF(Expenditure!M268=\"\",\"\",Expenditure!M268)","v":""},"-"]
[{"$f":"IF(Expenditure!B269=\"\",\"\",Expenditure!B269)","v":""},{"$f":"IF(Expenditure!C269=\"\",\"\",TEXT(Expenditure!C269,\"mmm\"))","v":""},{"$f":"IF(Expenditure!E269=\"\",\"\",Expenditure!E269)","v":""},{"$f":"IF(Expenditure!F269=\"\",\"\",Expenditure!F269)","v":""},{"$f":"IF(Expenditure!G269=\"\",\"\",Expenditure!G269)","v":""},{"$f":"IF(Expenditure!H269=\"\",\"\",Expenditure!H269)","v":""},{"$f":"IF(Expenditure!I269=\"\",\"\",Expenditure!I269)","v":""},"",{"$f":"IF(Expenditure!K269=\"\",\"\",Expenditure!K269)","v":""},{"$f":"IF(Expenditure!L269=\"\",\"\",Expenditure!L269)","v":""},{"$f":"IF(Expenditure!M269=\"\",\"\",Expenditure!M269)","v":""},"-"]
[{"$f":"IF(Expenditure!B270=\"\",\"\",Expenditure!B270)","v":""},{"$f":"IF(Expenditure!C270=\"\",\"\",TEXT(Expenditure!C270,\"mmm\"))","v":""},{"$f":"IF(Expenditure!E270=\"\",\"\",Expenditure!E270)","v":""},{"$f":"IF(Expenditure!F270=\"\",\"\",Expenditure!F270)","v":""},{"$f":"IF(Expenditure!G270=\"\",\"\",Expenditure!G270)","v":""},{"$f":"IF(Expenditure!H270=\"\",\"\",Expenditure!H270)","v":""},{"$f":"IF(Expenditure!I270=\"\",\"\",Expenditure!I270)","v":""},"",{"$f":"IF(Expenditure!K270=\"\",\"\",Expenditure!K270)","v":""},{"$f":"IF(Expenditure!L270=\"\",\"\",Expenditure!L270)","v":""},{"$f":"IF(Expenditure!M270=\"\",\"\",Expenditure!M270)","v":""},"-"]
[{"$f":"IF(Expenditure!B271=\"\",\"\",Expenditure!B271)","v":""},{"$f":"IF(Expenditure!C271=\"\",\"\",TEXT(Expenditure!C271,\"mmm\"))","v":""},{"$f":"IF(Expenditure!E271=\"\",\"\",Expenditure!E271)","v":""},{"$f":"IF(Expenditure!F271=\"\",\"\",Expenditure!F271)","v":""},{"$f":"IF(Expenditure!G271=\"\",\"\",Expenditure!G271)","v":""},{"$f":"IF(Expenditure!H271=\"\",\"\",Expenditure!H271)","v":""},{"$f":"IF(Expenditure!I271=\"\",\"\",Expenditure!I271)","v":""},"",{"$f":"IF(Expenditure!K271=\"\",\"\",Expenditure!K271)","v":""},{"$f":"IF(Expenditure!L271=\"\",\"\",Expenditure!L271)","v":""},{"$f":"IF(Expenditure!M271=\"\",\"\",Expenditure!M271)","v":""},"-"]
[{"$f":"IF(Expenditure!B272=\"\",\"\",Expenditure!B272)","v":""},{"$f":"IF(Expenditure!C272=\"\",\"\",TEXT(Expenditure!C272,\"mmm\"))","v":""},{"$f":"IF(Expenditure!E272=\"\",\"\",Expenditure!E272)","v":""},{"$f":"IF(Expenditure!F272=\"\",\"\",Expenditure!F272)","v":""},{"$f":"IF(Expenditure!G272=\"\",\"\",Expenditure!G272)","v":""},{"$f":"IF(Expenditure!H272=\"\",\"\",Expenditure!H272)","v":""},{"$f":"IF(Expenditure!I272=\"\",\"\",Expenditure!I272)","v":""},"",{"$f":"IF(Expenditure!K272=\"\",\"\",Expenditure!K272)","v":""},{"$f":"IF(Expenditure!L272=\"\",\"\",Expenditure!L272)","v":""},{"$f":"IF(Expenditure!M272=\"\",\"\",Expenditure!M272)","v":""},"-"]
[{"$f":"IF(Expenditure!B273=\"\",\"\",Expenditure!B273)","v":""},{"$f":"IF(Expenditure!C273=\"\",\"\",TEXT(Expenditure!C273,\"mmm\"))","v":""},{"$f":"IF(Expenditure!E273=\"\",\"\",Expenditure!E273)","v":""},{"$f":"IF(Expenditure!F273=\"\",\"\",Expenditure!F273)","v":""},{"$f":"IF(Expenditure!G273=\"\",\"\",Expenditure!G273)","v":""},{"$f":"IF(Expenditure!H273=\"\",\"\",Expenditure!H273)","v":""},{"$f":"IF(Expenditure!I273=\"\",\"\",Expenditure!I273)","v":""},"",{"$f":"IF(Expenditure!K273=\"\",\"\",Expenditure!K273)","v":""},{"$f":"IF(Expenditure!L273=\"\",\"\",Expenditure!L273)","v":""},{"$f":"IF(Expenditure!M273=\"\",\"\",Expenditure!M273)","v":""},"-"]
[{"$f":"IF(Expenditure!B274=\"\",\"\",Expenditure!B274)","v":""},{"$f":"IF(Expenditure!C274=\"\",\"\",TEXT(Expenditure!C274,\"mmm\"))","v":""},{"$f":"IF(Expenditure!E274=\"\",\"\",Expenditure!E274)","v":""},{"$f":"IF(Expenditure!F274=\"\",\"\",Expenditure!F274)","v":""},{"$f":"IF(Expenditure!G274=\"\",\"\",Expenditure!G274)","v":""},{"$f":"IF(Expenditure!H274=\"\",\"\",Expenditure!H274)","v":""},{"$f":"IF(Expenditure!I274=\"\",\"\",Expenditure!I274)","v":""},"",{"$f":"IF(Expenditure!K274=\"\",\"\",Expenditure!K274)","v":""},{"$f":"IF(Expenditure!L274=\"\",\"\",Expenditure!L274)","v":""},{"$f":"IF(Expenditure!M274=\"\",\"\",Expenditure!M274)","v":""},"-"]
[{"$f":"IF(Expenditure!B275=\"\",\"\",Expenditure!B275)","v":""},{"$f":"IF(Expenditure!C275=\"\",\"\",TEXT(Expenditure!C275,\"mmm\"))","v":""},{"$f":"IF(Expenditure!E275=\"\",\"\",Expenditure!E275)","v":""},{"$f":"IF(Expenditure!F275=\"\",\"\",Expenditure!F275)","v":""},{"$f":"IF(Expenditure!G275=\"\",\"\",Expenditure!G275)","v":""},{"$f":"IF(Expenditure!H275=\"\",\"\",Expenditure!H275)","v":""},{"$f":"IF(Expenditure!I275=\"\",\"\",Expenditure!I275)","v":""},"",{"$f":"IF(Expenditure!K275=\"\",\"\",Expenditure!K275)","v":""},{"$f":"IF(Expenditure!L275=\"\",\"\",Expenditure!L275)","v":""},{"$f":"IF(Expenditure!M275=\"\",\"\",Expenditure!M275)","v":""},"-"]
[{"$f":"IF(Expenditure!B276=\"\",\"\",Expenditure!B276)","v":""},{"$f":"IF(Expenditure!C276=\"\",\"\",TEXT(Expenditure!C276,\"mmm\"))","v":""},{"$f":"IF(Expenditure!E276=\"\",\"\",Expenditure!E276)","v":""},{"$f":"IF(Expenditure!F276=\"\",\"\",Expenditure!F276)","v":""},{"$f":"IF(Expenditure!G276=\"\",\"\",Expenditure!G276)","v":""},{"$f":"IF(Expenditure!H276=\"\",\"\",Expenditure!H276)","v":""},{"$f":"IF(Expenditure!I276=\"\",\"\",Expenditure!I276)","v":""},"",{"$f":"IF(Expenditure!K276=\"\",\"\",Expenditure!K276)","v":""},{"$f":"IF(Expenditure!L276=\"\",\"\",Expenditure!L276)","v":""},{"$f":"IF(Expenditure!M276=\"\",\"\",Expenditure!M276)","v":""},"-"]
[{"$f":"IF(Expenditure!B277=\"\",\"\",Expenditure!B277)","v":""},{"$f":"IF(Expenditure!C277=\"\",\"\",TEXT(Expenditure!C277,\"mmm\"))","v":""},{"$f":"IF(Expenditure!E277=\"\",\"\",Expenditure!E277)","v":""},{"$f":"IF(Expenditure!F277=\"\",\"\",Expenditure!F277)","v":""},{"$f":"IF(Expenditure!G277=\"\",\"\",Expenditure!G277)","v":""},{"$f":"IF(Expenditure!H277=\"\",\"\",Expenditure!H277)","v":""},{"$f":"IF(Expenditure!I277=\"\",\"\",Expenditure!I277)","v":""},"",{"$f":"IF(Expenditure!K277=\"\",\"\",Expenditure!K277)","v":""},{"$f":"IF(Expenditure!L277=\"\",\"\",Expenditure!L277)","v":""},{"$f":"IF(Expenditure!M277=\"\",\"\",Expenditure!M277)","v":""},"-"]
[{"$f":"IF(Expenditure!B278=\"\",\"\",Expenditure!B278)","v":""},{"$f":"IF(Expenditure!C278=\"\",\"\",TEXT(Expenditure!C278,\"mmm\"))","v":""},{"$f":"IF(Expenditure!E278=\"\",\"\",Expenditure!E278)","v":""},{"$f":"IF(Expenditure!F278=\"\",\"\",Expenditure!F278)","v":""},{"$f":"IF(Expenditure!G278=\"\",\"\",Expenditure!G278)","v":""},{"$f":"IF(Expenditure!H278=\"\",\"\",Expenditure!H278)","v":""},{"$f":"IF(Expenditure!I278=\"\",\"\",Expenditure!I278)","v":""},"",{"$f":"IF(Expenditure!K278=\"\",\"\",Expenditure!K278)","v":""},{"$f":"IF(Expenditure!L278=\"\",\"\",Expenditure!L278)","v":""},{"$f":"IF(Expenditure!M278=\"\",\"\",Expenditure!M278)","v":""},"-"]
[{"$f":"IF(Expenditure!B279=\"\",\"\",Expenditure!B279)","v":""},{"$f":"IF(Expenditure!C279=\"\",\"\",TEXT(Expenditure!C279,\"mmm\"))","v":""},{"$f":"IF(Expenditure!E279=\"\",\"\",Expenditure!E279)","v":""},{"$f":"IF(Expenditure!F279=\"\",\"\",Expenditure!F279)","v":""},{"$f":"IF(Expenditure!G279=\"\",\"\",Expenditure!G279)","v":""},{"$f":"IF(Expenditure!H279=\"\",\"\",Expenditure!H279)","v":""},{"$f":"IF(Expenditure!I279=\"\",\"\",Expenditure!I279)","v":""},"",{"$f":"IF(Expenditure!K279=\"\",\"\",Expenditure!K279)","v":""},{"$f":"IF(Expenditure!L279=\"\",\"\",Expenditure!L279)","v":""},{"$f":"IF(Expenditure!M279=\"\",\"\",Expenditure!M279)","v":""},"-"]
[{"$f":"IF(Expenditure!B280=\"\",\"\",Expenditure!B280)","v":""},{"$f":"IF(Expenditure!C280=\"\",\"\",TEXT(Expenditure!C280,\"mmm\"))","v":""},{"$f":"IF(Expenditure!E280=\"\",\"\",Expenditure!E280)","v":""},{"$f":"IF(Expenditure!F280=\"\",\"\",Expenditure!F280)","v":""},{"$f":"IF(Expenditure!G280=\"\",\"\",Expenditure!G280)","v":""},{"$f":"IF(Expenditure!H280=\"\",\"\",Expenditure!H280)","v":""},{"$f":"IF(Expenditure!I280=\"\",\"\",Expenditure!I280)","v":""},"",{"$f":"IF(Expenditure!K280=\"\",\"\",Expenditure!K280)","v":""},{"$f":"IF(Expenditure!L280=\"\",\"\",Expenditure!L280)","v":""},{"$f":"IF(Expenditure!M280=\"\",\"\",Expenditure!M280)","v":""},"-"]
[{"$f":"IF(Expenditure!B281=\"\",\"\",Expenditure!B281)","v":""},{"$f":"IF(Expenditure!C281=\"\",\"\",TEXT(Expenditure!C281,\"mmm\"))","v":""},{"$f":"IF(Expenditure!E281=\"\",\"\",Expenditure!E281)","v":""},{"$f":"IF(Expenditure!F281=\"\",\"\",Expenditure!F281)","v":""},{"$f":"IF(Expenditure!G281=\"\",\"\",Expenditure!G281)","v":""},{"$f":"IF(Expenditure!H281=\"\",\"\",Expenditure!H281)","v":""},{"$f":"IF(Expenditure!I281=\"\",\"\",Expenditure!I281)","v":""},"",{"$f":"IF(Expenditure!K281=\"\",\"\",Expenditure!K281)","v":""},{"$f":"IF(Expenditure!L281=\"\",\"\",Expenditure!L281)","v":""},{"$f":"IF(Expenditure!M281=\"\",\"\",Expenditure!M281)","v":""},"-"]
[{"$f":"IF(Expenditure!B282=\"\",\"\",Expenditure!B282)","v":""},{"$f":"IF(Expenditure!C282=\"\",\"\",TEXT(Expenditure!C282,\"mmm\"))","v":""},{"$f":"IF(Expenditure!E282=\"\",\"\",Expenditure!E282)","v":""},{"$f":"IF(Expenditure!F282=\"\",\"\",Expenditure!F282)","v":""},{"$f":"IF(Expenditure!G282=\"\",\"\",Expenditure!G282)","v":""},{"$f":"IF(Expenditure!H282=\"\",\"\",Expenditure!H282)","v":""},{"$f":"IF(Expenditure!I282=\"\",\"\",Expenditure!I282)","v":""},"",{"$f":"IF(Expenditure!K282=\"\",\"\",Expenditure!K282)","v":""},{"$f":"IF(Expenditure!L282=\"\",\"\",Expenditure!L282)","v":""},{"$f":"IF(Expenditure!M282=\"\",\"\",Expenditure!M282)","v":""},"-"]
[{"$f":"IF(Expenditure!B283=\"\",\"\",Expenditure!B283)","v":""},{"$f":"IF(Expenditure!C283=\"\",\"\",TEXT(Expenditure!C283,\"mmm\"))","v":""},{"$f":"IF(Expenditure!E283=\"\",\"\",Expenditure!E283)","v":""},{"$f":"IF(Expenditure!F283=\"\",\"\",Expenditure!F283)","v":""},{"$f":"IF(Expenditure!G283=\"\",\"\",Expenditure!G283)","v":""},{"$f":"IF(Expenditure!H283=\"\",\"\",Expenditure!H283)","v":""},{"$f":"IF(Expenditure!I283=\"\",\"\",Expenditure!I283)","v":""},"",{"$f":"IF(Expenditure!K283=\"\",\"\",Expenditure!K283)","v":""},{"$f":"IF(Expenditure!L283=\"\",\"\",Expenditure!L283)","v":""},{"$f":"IF(Expenditure!M283=\"\",\"\",Expenditure!M283)","v":""},"-"]
[{"$f":"IF(Expenditure!B284=\"\",\"\",Expenditure!B284)","v":""},{"$f":"IF(Expenditure!C284=\"\",\"\",TEXT(Expenditure!C284,\"mmm\"))","v":""},{"$f":"IF(Expenditure!E284=\"\",\"\",Expenditure!E284)","v":""},{"$f":"IF(Expenditure!F284=\"\",\"\",Expenditure!F284)","v":""},{"$f":"IF(Expenditure!G284=\"\",\"\",Expenditure!G284)","v":""},{"$f":"IF(Expenditure!H284=\"\",\"\",Expenditure!H284)","v":""},{"$f":"IF(Expenditure!I284=\"\",\"\",Expenditure!I284)","v":""},"",{"$f":"IF(Expenditure!K284=\"\",\"\",Expenditure!K284)","v":""},{"$f":"IF(Expenditure!L284=\"\",\"\",Expenditure!L284)","v":""},{"$f":"IF(Expenditure!M284=\"\",\"\",Expenditure!M284)","v":""},"-"]
[{"$f":"IF(Expenditure!B285=\"\",\"\",Expenditure!B285)","v":""},{"$f":"IF(Expenditure!C285=\"\",\"\",TEXT(Expenditure!C285,\"mmm\"))","v":""},{"$f":"IF(Expenditure!E285=\"\",\"\",Expenditure!E285)","v":""},{"$f":"IF(Expenditure!F285=\"\",\"\",Expenditure!F285)","v":""},{"$f":"IF(Expenditure!G285=\"\",\"\",Expenditure!G285)","v":""},{"$f":"IF(Expenditure!H285=\"\",\"\",Expenditure!H285)","v":""},{"$f":"IF(Expenditure!I285=\"\",\"\",Expenditure!I285)","v":""},"",{"$f":"IF(Expenditure!K285=\"\",\"\",Expenditure!K285)","v":""},{"$f":"IF(Expenditure!L285=\"\",\"\",Expenditure!L285)","v":""},{"$f":"IF(Expenditure!M285=\"\",\"\",Expenditure!M285)","v":""},"-"]
[{"$f":"IF(Expenditure!B286=\"\",\"\",Expenditure!B286)","v":""},{"$f":"IF(Expenditure!C286=\"\",\"\",TEXT(Expenditure!C286,\"mmm\"))","v":""},{"$f":"IF(Expenditure!E286=\"\",\"\",Expenditure!E286)","v":""},{"$f":"IF(Expenditure!F286=\"\",\"\",Expenditure!F286)","v":""},{"$f":"IF(Expenditure!G286=\"\",\"\",Expenditure!G286)","v":""},{"$f":"IF(Expenditure!H286=\"\",\"\",Expenditure!H286)","v":""},{"$f":"IF(Expenditure!I286=\"\",\"\",Expenditure!I286)","v":""},"",{"$f":"IF(Expenditure!K286=\"\",\"\",Expenditure!K286)","v":""},{"$f":"IF(Expenditure!L286=\"\",\"\",Expenditure!L286)","v":""},{"$f":"IF(Expenditure!M286=\"\",\"\",Expenditure!M286)","v":""},"-"]
[{"$f":"IF(Expenditure!B287=\"\",\"\",Expenditure!B287)","v":""},{"$f":"IF(Expenditure!C287=\"\",\"\",TEXT(Expenditure!C287,\"mmm\"))","v":""},{"$f":"IF(Expenditure!E287=\"\",\"\",Expenditure!E287)","v":""},{"$f":"IF(Expenditure!F287=\"\",\"\",Expenditure!F287)","v":""},{"$f":"IF(Expenditure!G287=\"\",\"\",Expenditure!G287)","v":""},{"$f":"IF(Expenditure!H287=\"\",\"\",Expenditure!H287)","v":""},{"$f":"IF(Expenditure!I287=\"\",\"\",Expenditure!I287)","v":""},"",{"$f":"IF(Expenditure!K287=\"\",\"\",Expenditure!K287)","v":""},{"$f":"IF(Expenditure!L287=\"\",\"\",Expenditure!L287)","v":""},{"$f":"IF(Expenditure!M287=\"\",\"\",Expenditure!M287)","v":""},"-"]
[{"$f":"IF(Expenditure!B288=\"\",\"\",Expenditure!B288)","v":""},{"$f":"IF(Expenditure!C288=\"\",\"\",TEXT(Expenditure!C288,\"mmm\"))","v":""},{"$f":"IF(Expenditure!E288=\"\",\"\",Expenditure!E288)","v":""},{"$f":"IF(Expenditure!F288=\"\",\"\",Expenditure!F288)","v":""},{"$f":"IF(Expenditure!G288=\"\",\"\",Expenditure!G288)","v":""},{"$f":"IF(Expenditure!H288=\"\",\"\",Expenditure!H288)","v":""},{"$f":"IF(Expenditure!I288=\"\",\"\",Expenditure!I288)","v":""},"",{"$f":"IF(Expenditure!K288=\"\",\"\",Expenditure!K288)","v":""},{"$f":"IF(Expenditure!L288=\"\",\"\",Expenditure!L288)","v":""},{"$f":"IF(Expenditure!M288=\"\",\"\",Expenditure!M288)","v":""},"-"]
[{"$f":"IF(Expenditure!B289=\"\",\"\",Expenditure!B289)","v":""},{"$f":"IF(Expenditure!C289=\"\",\"\",TEXT(Expenditure!C289,\"mmm\"))","v":""},{"$f":"IF(Expenditure!E289=\"\",\"\",Expenditure!E289)","v":""},{"$f":"IF(Expenditure!F289=\"\",\"\",Expenditure!F289)","v":""},{"$f":"IF(Expenditure!G289=\"\",\"\",Expenditure!G289)","v":""},{"$f":"IF(Expenditure!H289=\"\",\"\",Expenditure!H289)","v":""},{"$f":"IF(Expenditure!I289=\"\",\"\",Expenditure!I289)","v":""},"",{"$f":"IF(Expenditure!K289=\"\",\"\",Expenditure!K289)","v":""},{"$f":"IF(Expenditure!L289=\"\",\"\",Expenditure!L289)","v":""},{"$f":"IF(Expenditure!M289=\"\",\"\",Expenditure!M289)","v":""},"-"]
[{"$f":"IF(Expenditure!B290=\"\",\"\",Expenditure!B290)","v":""},{"$f":"IF(Expenditure!C290=\"\",\"\",TEXT(Expenditure!C290,\"mmm\"))","v":""},{"$f":"IF(Expenditure!E290=\"\",\"\",Expenditure!E290)","v":""},{"$f":"IF(Expenditure!F290=\"\",\"\",Expenditure!F290)","v":""},{"$f":"IF(Expenditure!G290=\"\",\"\",Expenditure!G290)","v":""},{"$f":"IF(Expenditure!H290=\"\",\"\",Expenditure!H290)","v":""},{"$f":"IF(Expenditure!I290=\"\",\"\",Expenditure!I290)","v":""},"",{"$f":"IF(Expenditure!K290=\"\",\"\",Expenditure!K290)","v":""},{"$f":"IF(Expenditure!L290=\"\",\"\",Expenditure!L290)","v":""},{"$f":"IF(Expenditure!M290=\"\",\"\",Expenditure!M290)","v":""},"-"]
[{"$f":"IF(Expenditure!B291=\"\",\"\",Expenditure!B291)","v":""},{"$f":"IF(Expenditure!C291=\"\",\"\",TEXT(Expenditure!C291,\"mmm\"))","v":""},{"$f":"IF(Expenditure!E291=\"\",\"\",Expenditure!E291)","v":""},{"$f":"IF(Expenditure!F291=\"\",\"\",Expenditure!F291)","v":""},{"$f":"IF(Expenditure!G291=\"\",\"\",Expenditure!G291)","v":""},{"$f":"IF(Expenditure!H291=\"\",\"\",Expenditure!H291)","v":""},{"$f":"IF(Expenditure!I291=\"\",\"\",Expenditure!I291)","v":""},"",{"$f":"IF(Expenditure!K291=\"\",\"\",Expenditure!K291)","v":""},{"$f":"IF(Expenditure!L291=\"\",\"\",Expenditure!L291)","v":""},{"$f":"IF(Expenditure!M291=\"\",\"\",Expenditure!M291)","v":""},"-"]
[{"$f":"IF(Expenditure!B292=\"\",\"\",Expenditure!B292)","v":""},{"$f":"IF(Expenditure!C292=\"\",\"\",TEXT(Expenditure!C292,\"mmm\"))","v":""},{"$f":"IF(Expenditure!E292=\"\",\"\",Expenditure!E292)","v":""},{"$f":"IF(Expenditure!F292=\"\",\"\",Expenditure!F292)","v":""},{"$f":"IF(Expenditure!G292=\"\",\"\",Expenditure!G292)","v":""},{"$f":"IF(Expenditure!H292=\"\",\"\",Expenditure!H292)","v":""},{"$f":"IF(Expenditure!I292=\"\",\"\",Expenditure!I292)","v":""},"",{"$f":"IF(Expenditure!K292=\"\",\"\",Expenditure!K292)","v":""},{"$f":"IF(Expenditure!L292=\"\",\"\",Expenditure!L292)","v":""},{"$f":"IF(Expenditure!M292=\"\",\"\",Expenditure!M292)","v":""},"-"]
[{"$f":"IF(Expenditure!B293=\"\",\"\",Expenditure!B293)","v":""},{"$f":"IF(Expenditure!C293=\"\",\"\",TEXT(Expenditure!C293,\"mmm\"))","v":""},{"$f":"IF(Expenditure!E293=\"\",\"\",Expenditure!E293)","v":""},{"$f":"IF(Expenditure!F293=\"\",\"\",Expenditure!F293)","v":""},{"$f":"IF(Expenditure!G293=\"\",\"\",Expenditure!G293)","v":""},{"$f":"IF(Expenditure!H293=\"\",\"\",Expenditure!H293)","v":""},{"$f":"IF(Expenditure!I293=\"\",\"\",Expenditure!I293)","v":""},"",{"$f":"IF(Expenditure!K293=\"\",\"\",Expenditure!K293)","v":""},{"$f":"IF(Expenditure!L293=\"\",\"\",Expenditure!L293)","v":""},{"$f":"IF(Expenditure!M293=\"\",\"\",Expenditure!M293)","v":""},"-"]
[{"$f":"IF(Expenditure!B294=\"\",\"\",Expenditure!B294)","v":""},{"$f":"IF(Expenditure!C294=\"\",\"\",TEXT(Expenditure!C294,\"mmm\"))","v":""},{"$f":"IF(Expenditure!E294=\"\",\"\",Expenditure!E294)","v":""},{"$f":"IF(Expenditure!F294=\"\",\"\",Expenditure!F294)","v":""},{"$f":"IF(Expenditure!G294=\"\",\"\",Expenditure!G294)","v":""},{"$f":"IF(Expenditure!H294=\"\",\"\",Expenditure!H294)","v":""},{"$f":"IF(Expenditure!I294=\"\",\"\",Expenditure!I294)","v":""},"",{"$f":"IF(Expenditure!K294=\"\",\"\",Expenditure!K294)","v":""},{"$f":"IF(Expenditure!L294=\"\",\"\",Expenditure!L294)","v":""},{"$f":"IF(Expenditure!M294=\"\",\"\",Expenditure!M294)","v":""},"-"]
[{"$f":"IF(Expenditure!B295=\"\",\"\",Expenditure!B295)","v":""},{"$f":"IF(Expenditure!C295=\"\",\"\",TEXT(Expenditure!C295,\"mmm\"))","v":""},{"$f":"IF(Expenditure!E295=\"\",\"\",Expenditure!E295)","v":""},{"$f":"IF(Expenditure!F295=\"\",\"\",Expenditure!F295)","v":""},{"$f":"IF(Expenditure!G295=\"\",\"\",Expenditure!G295)","v":""},{"$f":"IF(Expenditure!H295=\"\",\"\",Expenditure!H295)","v":""},{"$f":"IF(Expenditure!I295=\"\",\"\",Expenditure!I295)","v":""},"",{"$f":"IF(Expenditure!K295=\"\",\"\",Expenditure!K295)","v":""},{"$f":"IF(Expenditure!L295=\"\",\"\",Expenditure!L295)","v":""},{"$f":"IF(Expenditure!M295=\"\",\"\",Expenditure!M295)","v":""},"-"]
[{"$f":"IF(Expenditure!B296=\"\",\"\",Expenditure!B296)","v":""},{"$f":"IF(Expenditure!C296=\"\",\"\",TEXT(Expenditure!C296,\"mmm\"))","v":""},{"$f":"IF(Expenditure!E296=\"\",\"\",Expenditure!E296)","v":""},{"$f":"IF(Expenditure!F296=\"\",\"\",Expenditure!F296)","v":""},{"$f":"IF(Expenditure!G296=\"\",\"\",Expenditure!G296)","v":""},{"$f":"IF(Expenditure!H296=\"\",\"\",Expenditure!H296)","v":""},{"$f":"IF(Expenditure!I296=\"\",\"\",Expenditure!I296)","v":""},"",{"$f":"IF(Expenditure!K296=\"\",\"\",Expenditure!K296)","v":""},{"$f":"IF(Expenditure!L296=\"\",\"\",Expenditure!L296)","v":""},{"$f":"IF(Expenditure!M296=\"\",\"\",Expenditure!M296)","v":""},"-"]
[{"$f":"IF(Expenditure!B297=\"\",\"\",Expenditure!B297)","v":""},{"$f":"IF(Expenditure!C297=\"\",\"\",TEXT(Expenditure!C297,\"mmm\"))","v":""},{"$f":"IF(Expenditure!E297=\"\",\"\",Expenditure!E297)","v":""},{"$f":"IF(Expenditure!F297=\"\",\"\",Expenditure!F297)","v":""},{"$f":"IF(Expenditure!G297=\"\",\"\",Expenditure!G297)","v":""},{"$f":"IF(Expenditure!H297=\"\",\"\",Expenditure!H297)","v":""},{"$f":"IF(Expenditure!I297=\"\",\"\",Expenditure!I297)","v":""},"",{"$f":"IF(Expenditure!K297=\"\",\"\",Expenditure!K297)","v":""},{"$f":"IF(Expenditure!L297=\"\",\"\",Expenditure!L297)","v":""},{"$f":"IF(Expenditure!M297=\"\",\"\",Expenditure!M297)","v":""},"-"]
[{"$f":"IF(Expenditure!B298=\"\",\"\",Expenditure!B298)","v":""},{"$f":"IF(Expenditure!C298=\"\",\"\",TEXT(Expenditure!C298,\"mmm\"))","v":""},{"$f":"IF(Expenditure!E298=\"\",\"\",Expenditure!E298)","v":""},{"$f":"IF(Expenditure!F298=\"\",\"\",Expenditure!F298)","v":""},{"$f":"IF(Expenditure!G298=\"\",\"\",Expenditure!G298)","v":""},{"$f":"IF(Expenditure!H298=\"\",\"\",Expenditure!H298)","v":""},{"$f":"IF(Expenditure!I298=\"\",\"\",Expenditure!I298)","v":""},"",{"$f":"IF(Expenditure!K298=\"\",\"\",Expenditure!K298)","v":""},{"$f":"IF(Expenditure!L298=\"\",\"\",Expenditure!L298)","v":""},{"$f":"IF(Expenditure!M298=\"\",\"\",Expenditure!M298)","v":""},"-"]
[{"$f":"IF(Expenditure!B299=\"\",\"\",Expenditure!B299)","v":""},{"$f":"IF(Expenditure!C299=\"\",\"\",TEXT(Expenditure!C299,\"mmm\"))","v":""},{"$f":"IF(Expenditure!E299=\"\",\"\",Expenditure!E299)","v":""},{"$f":"IF(Expenditure!F299=\"\",\"\",Expenditure!F299)","v":""},{"$f":"IF(Expenditure!G299=\"\",\"\",Expenditure!G299)","v":""},{"$f":"IF(Expenditure!H299=\"\",\"\",Expenditure!H299)","v":""},{"$f":"IF(Expenditure!I299=\"\",\"\",Expenditure!I299)","v":""},"",{"$f":"IF(Expenditure!K299=\"\",\"\",Expenditure!K299)","v":""},{"$f":"IF(Expenditure!L299=\"\",\"\",Expenditure!L299)","v":""},{"$f":"IF(Expenditure!M299=\"\",\"\",Expenditure!M299)","v":""},"-"]
[{"$f":"IF(Expenditure!B300=\"\",\"\",Expenditure!B300)","v":""},{"$f":"IF(Expenditure!C300=\"\",\"\",TEXT(Expenditure!C300,\"mmm\"))","v":""},{"$f":"IF(Expenditure!E300=\"\",\"\",Expenditure!E300)","v":""},{"$f":"IF(Expenditure!F300=\"\",\"\",Expenditure!F300)","v":""},{"$f":"IF(Expenditure!G300=\"\",\"\",Expenditure!G300)","v":""},{"$f":"IF(Expenditure!H300=\"\",\"\",Expenditure!H300)","v":""},{"$f":"IF(Expenditure!I300=\"\",\"\",Expenditure!I300)","v":""},"",{"$f":"IF(Expenditure!K300=\"\",\"\",Expenditure!K300)","v":""},{"$f":"IF(Expenditure!L300=\"\",\"\",Expenditure!L300)","v":""},{"$f":"IF(Expenditure!M300=\"\",\"\",Expenditure!M300)","v":""},"-"]
[{"$f":"IF(Expenditure!B301=\"\",\"\",Expenditure!B301)","v":""},{"$f":"IF(Expenditure!C301=\"\",\"\",TEXT(Expenditure!C301,\"mmm\"))","v":""},{"$f":"IF(Expenditure!E301=\"\",\"\",Expenditure!E301)","v":""},{"$f":"IF(Expenditure!F301=\"\",\"\",Expenditure!F301)","v":""},{"$f":"IF(Expenditure!G301=\"\",\"\",Expenditure!G301)","v":""},{"$f":"IF(Expenditure!H301=\"\",\"\",Expenditure!H301)","v":""},{"$f":"IF(Expenditure!I301=\"\",\"\",Expenditure!I301)","v":""},"",{"$f":"IF(Expenditure!K301=\"\",\"\",Expenditure!K301)","v":""},{"$f":"IF(Expenditure!L301=\"\",\"\",Expenditure!L301)","v":""},{"$f":"IF(Expenditure!M301=\"\",\"\",Expenditure!M301)","v":""},"-"]
[{"$f":"IF(Expenditure!B302=\"\",\"\",Expenditure!B302)","v":""},{"$f":"IF(Expenditure!C302=\"\",\"\",TEXT(Expenditure!C302,\"mmm\"))","v":""},{"$f":"IF(Expenditure!E302=\"\",\"\",Expenditure!E302)","v":""},{"$f":"IF(Expenditure!F302=\"\",\"\",Expenditure!F302)","v":""},{"$f":"IF(Expenditure!G302=\"\",\"\",Expenditure!G302)","v":""},{"$f":"IF(Expenditure!H302=\"\",\"\",Expenditure!H302)","v":""},{"$f":"IF(Expenditure!I302=\"\",\"\",Expenditure!I302)","v":""},"",{"$f":"IF(Expenditure!K302=\"\",\"\",Expenditure!K302)","v":""},{"$f":"IF(Expenditure!L302=\"\",\"\",Expenditure!L302)","v":""},{"$f":"IF(Expenditure!M302=\"\",\"\",Expenditure!M302)","v":""},"-"]
[{"$f":"IF(Expenditure!B303=\"\",\"\",Expenditure!B303)","v":""},{"$f":"IF(Expenditure!C303=\"\",\"\",TEXT(Expenditure!C303,\"mmm\"))","v":""},{"$f":"IF(Expenditure!E303=\"\",\"\",Expenditure!E303)","v":""},{"$f":"IF(Expenditure!F303=\"\",\"\",Expenditure!F303)","v":""},{"$f":"IF(Expenditure!G303=\"\",\"\",Expenditure!G303)","v":""},{"$f":"IF(Expenditure!H303=\"\",\"\",Expenditure!H303)","v":""},{"$f":"IF(Expenditure!I303=\"\",\"\",Expenditure!I303)","v":""},"",{"$f":"IF(Expenditure!K303=\"\",\"\",Expenditure!K303)","v":""},{"$f":"IF(Expenditure!L303=\"\",\"\",Expenditure!L303)","v":""},{"$f":"IF(Expenditure!M303=\"\",\"\",Expenditure!M303)","v":""},"-"]
[{"$f":"IF(Expenditure!B304=\"\",\"\",Expenditure!B304)","v":""},{"$f":"IF(Expenditure!C304=\"\",\"\",TEXT(Expenditure!C304,\"mmm\"))","v":""},{"$f":"IF(Expenditure!E304=\"\",\"\",Expenditure!E304)","v":""},{"$f":"IF(Expenditure!F304=\"\",\"\",Expenditure!F304)","v":""},{"$f":"IF(Expenditure!G304=\"\",\"\",Expenditure!G304)","v":""},{"$f":"IF(Expenditure!H304=\"\",\"\",Expenditure!H304)","v":""},{"$f":"IF(Expenditure!I304=\"\",\"\",Expenditure!I304)","v":""},"",{"$f":"IF(Expenditure!K304=\"\",\"\",Expenditure!K304)","v":""},{"$f":"IF(Expenditure!L304=\"\",\"\",Expenditure!L304)","v":""},{"$f":"IF(Expenditure!M304=\"\",\"\",Expenditure!M304)","v":""},"-"]
[{"$f":"IF(Expenditure!B305=\"\",\"\",Expenditure!B305)","v":""},{"$f":"IF(Expenditure!C305=\"\",\"\",TEXT(Expenditure!C305,\"mmm\"))","v":""},{"$f":"IF(Expenditure!E305=\"\",\"\",Expenditure!E305)","v":""},{"$f":"IF(Expenditure!F305=\"\",\"\",Expenditure!F305)","v":""},{"$f":"IF(Expenditure!G305=\"\",\"\",Expenditure!G305)","v":""},{"$f":"IF(Expenditure!H305=\"\",\"\",Expenditure!H305)","v":""},{"$f":"IF(Expenditure!I305=\"\",\"\",Expenditure!I305)","v":""},"",{"$f":"IF(Expenditure!K305=\"\",\"\",Expenditure!K305)","v":""},{"$f":"IF(Expenditure!L305=\"\",\"\",Expenditure!L305)","v":""},{"$f":"IF(Expenditure!M305=\"\",\"\",Expenditure!M305)","v":""},"-"]
[{"$f":"IF(Expenditure!B306=\"\",\"\",Expenditure!B306)","v":""},{"$f":"IF(Expenditure!C306=\"\",\"\",TEXT(Expenditure!C306,\"mmm\"))","v":""},{"$f":"IF(Expenditure!E306=\"\",\"\",Expenditure!E306)","v":""},{"$f":"IF(Expenditure!F306=\"\",\"\",Expenditure!F306)","v":""},{"$f":"IF(Expenditure!G306=\"\",\"\",Expenditure!G306)","v":""},{"$f":"IF(Expenditure!H306=\"\",\"\",Expenditure!H306)","v":""},{"$f":"IF(Expenditure!I306=\"\",\"\",Expenditure!I306)","v":""},"",{"$f":"IF(Expenditure!K306=\"\",\"\",Expenditure!K306)","v":""},{"$f":"IF(Expenditure!L306=\"\",\"\",Expenditure!L306)","v":""},{"$f":"IF(Expenditure!M306=\"\",\"\",Expenditure!M306)","v":""},"-"]
[{"$f":"IF(Expenditure!B307=\"\",\"\",Expenditure!B307)","v":""},{"$f":"IF(Expenditure!C307=\"\",\"\",TEXT(Expenditure!C307,\"mmm\"))","v":""},{"$f":"IF(Expenditure!E307=\"\",\"\",Expenditure!E307)","v":""},{"$f":"IF(Expenditure!F307=\"\",\"\",Expenditure!F307)","v":""},{"$f":"IF(Expenditure!G307=\"\",\"\",Expenditure!G307)","v":""},{"$f":"IF(Expenditure!H307=\"\",\"\",Expenditure!H307)","v":""},{"$f":"IF(Expenditure!I307=\"\",\"\",Expenditure!I307)","v":""},"",{"$f":"IF(Expenditure!K307=\"\",\"\",Expenditure!K307)","v":""},{"$f":"IF(Expenditure!L307=\"\",\"\",Expenditure!L307)","v":""},{"$f":"IF(Expenditure!M307=\"\",\"\",Expenditure!M307)","v":""},"-"]
[{"$f":"IF(Expenditure!B308=\"\",\"\",Expenditure!B308)","v":""},{"$f":"IF(Expenditure!C308=\"\",\"\",TEXT(Expenditure!C308,\"mmm\"))","v":""},{"$f":"IF(Expenditure!E308=\"\",\"\",Expenditure!E308)","v":""},{"$f":"IF(Expenditure!F308=\"\",\"\",Expenditure!F308)","v":""},{"$f":"IF(Expenditure!G308=\"\",\"\",Expenditure!G308)","v":""},{"$f":"IF(Expenditure!H308=\"\",\"\",Expenditure!H308)","v":""},{"$f":"IF(Expenditure!I308=\"\",\"\",Expenditure!I308)","v":""},"",{"$f":"IF(Expenditure!K308=\"\",\"\",Expenditure!K308)","v":""},{"$f":"IF(Expenditure!L308=\"\",\"\",Expenditure!L308)","v":""},{"$f":"IF(Expenditure!M308=\"\",\"\",Expenditure!M308)","v":""},"-"]
[{"$f":"IF(Expenditure!B309=\"\",\"\",Expenditure!B309)","v":""},{"$f":"IF(Expenditure!C309=\"\",\"\",TEXT(Expenditure!C309,\"mmm\"))","v":""},{"$f":"IF(Expenditure!E309=\"\",\"\",Expenditure!E309)","v":""},{"$f":"IF(Expenditure!F309=\"\",\"\",Expenditure!F309)","v":""},{"$f":"IF(Expenditure!G309=\"\",\"\",Expenditure!G309)","v":""},{"$f":"IF(Expenditure!H309=\"\",\"\",Expenditure!H309)","v":""},{"$f":"IF(Expenditure!I309=\"\",\"\",Expenditure!I309)","v":""},"",{"$f":"IF(Expenditure!K309=\"\",\"\",Expenditure!K309)","v":""},{"$f":"IF(Expenditure!L309=\"\",\"\",Expenditure!L309)","v":""},{"$f":"IF(Expenditure!M309=\"\",\"\",Expenditure!M309)","v":""},"-"]
[{"$f":"IF(Expenditure!B310=\"\",\"\",Expenditure!B310)","v":""},{"$f":"IF(Expenditure!C310=\"\",\"\",TEXT(Expenditure!C310,\"mmm\"))","v":""},{"$f":"IF(Expenditure!E310=\"\",\"\",Expenditure!E310)","v":""},{"$f":"IF(Expenditure!F310=\"\",\"\",Expenditure!F310)","v":""},{"$f":"IF(Expenditure!G310=\"\",\"\",Expenditure!G310)","v":""},{"$f":"IF(Expenditure!H310=\"\",\"\",Expenditure!H310)","v":""},{"$f":"IF(Expenditure!I310=\"\",\"\",Expenditure!I310)","v":""},"",{"$f":"IF(Expenditure!K310=\"\",\"\",Expenditure!K310)","v":""},{"$f":"IF(Expenditure!L310=\"\",\"\",Expenditure!L310)","v":""},{"$f":"IF(Expenditure!M310=\"\",\"\",Expenditure!M310)","v":""},"-"]
[{"$f":"IF(Expenditure!B311=\"\",\"\",Expenditure!B311)","v":""},{"$f":"IF(Expenditure!C311=\"\",\"\",TEXT(Expenditure!C311,\"mmm\"))","v":""},{"$f":"IF(Expenditure!E311=\"\",\"\",Expenditure!E311)","v":""},{"$f":"IF(Expenditure!F311=\"\",\"\",Expenditure!F311)","v":""},{"$f":"IF(Expenditure!G311=\"\",\"\",Expenditure!G311)","v":""},{"$f":"IF(Expenditure!H311=\"\",\"\",Expenditure!H311)","v":""},{"$f":"IF(Expenditure!I311=\"\",\"\",Expenditure!I311)","v":""},"",{"$f":"IF(Expenditure!K311=\"\",\"\",Expenditure!K311)","v":""},{"$f":"IF(Expenditure!L311=\"\",\"\",Expenditure!L311)","v":""},{"$f":"IF(Expenditure!M311=\"\",\"\",Expenditure!M311)","v":""},"-"]
[{"$f":"IF(Expenditure!B312=\"\",\"\",Expenditure!B312)","v":""},{"$f":"IF(Expenditure!C312=\"\",\"\",TEXT(Expenditure!C312,\"mmm\"))","v":""},{"$f":"IF(Expenditure!E312=\"\",\"\",Expenditure!E312)","v":""},{"$f":"IF(Expenditure!F312=\"\",\"\",Expenditure!F312)","v":""},{"$f":"IF(Expenditure!G312=\"\",\"\",Expenditure!G312)","v":""},{"$f":"IF(Expenditure!H312=\"\",\"\",Expenditure!H312)","v":""},{"$f":"IF(Expenditure!I312=\"\",\"\",Expenditure!I312)","v":""},"",{"$f":"IF(Expenditure!K312=\"\",\"\",Expenditure!K312)","v":""},{"$f":"IF(Expenditure!L312=\"\",\"\",Expenditure!L312)","v":""},{"$f":"IF(Expenditure!M312=\"\",\"\",Expenditure!M312)","v":""},"-"]
[{"$f":"IF(Expenditure!B313=\"\",\"\",Expenditure!B313)","v":""},{"$f":"IF(Expenditure!C313=\"\",\"\",TEXT(Expenditure!C313,\"mmm\"))","v":""},{"$f":"IF(Expenditure!E313=\"\",\"\",Expenditure!E313)","v":""},{"$f":"IF(Expenditure!F313=\"\",\"\",Expenditure!F313)","v":""},{"$f":"IF(Expenditure!G313=\"\",\"\",Expenditure!G313)","v":""},{"$f":"IF(Expenditure!H313=\"\",\"\",Expenditure!H313)","v":""},{"$f":"IF(Expenditure!I313=\"\",\"\",Expenditure!I313)","v":""},"",{"$f":"IF(Expenditure!K313=\"\",\"\",Expenditure!K313)","v":""},{"$f":"IF(Expenditure!L313=\"\",\"\",Expenditure!L313)","v":""},{"$f":"IF(Expenditure!M313=\"\",\"\",Expenditure!M313)","v":""},"-"]
[{"$f":"IF(Expenditure!B314=\"\",\"\",Expenditure!B314)","v":""},{"$f":"IF(Expenditure!C314=\"\",\"\",TEXT(Expenditure!C314,\"mmm\"))","v":""},{"$f":"IF(Expenditure!E314=\"\",\"\",Expenditure!E314)","v":""},{"$f":"IF(Expenditure!F314=\"\",\"\",Expenditure!F314)","v":""},{"$f":"IF(Expenditure!G314=\"\",\"\",Expenditure!G314)","v":""},{"$f":"IF(Expenditure!H314=\"\",\"\",Expenditure!H314)","v":""},{"$f":"IF(Expenditure!I314=\"\",\"\",Expenditure!I314)","v":""},"",{"$f":"IF(Expenditure!K314=\"\",\"\",Expenditure!K314)","v":""},{"$f":"IF(Expenditure!L314=\"\",\"\",Expenditure!L314)","v":""},{"$f":"IF(Expenditure!M314=\"\",\"\",Expenditure!M314)","v":""},"-"]
[{"$f":"IF(Expenditure!B315=\"\",\"\",Expenditure!B315)","v":""},{"$f":"IF(Expenditure!C315=\"\",\"\",TEXT(Expenditure!C315,\"mmm\"))","v":""},{"$f":"IF(Expenditure!E315=\"\",\"\",Expenditure!E315)","v":""},{"$f":"IF(Expenditure!F315=\"\",\"\",Expenditure!F315)","v":""},{"$f":"IF(Expenditure!G315=\"\",\"\",Expenditure!G315)","v":""},{"$f":"IF(Expenditure!H315=\"\",\"\",Expenditure!H315)","v":""},{"$f":"IF(Expenditure!I315=\"\",\"\",Expenditure!I315)","v":""},"",{"$f":"IF(Expenditure!K315=\"\",\"\",Expenditure!K315)","v":""},{"$f":"IF(Expenditure!L315=\"\",\"\",Expenditure!L315)","v":""},{"$f":"IF(Expenditure!M315=\"\",\"\",Expenditure!M315)","v":""},"-"]
[{"$f":"IF(Expenditure!B316=\"\",\"\",Expenditure!B316)","v":""},{"$f":"IF(Expenditure!C316=\"\",\"\",TEXT(Expenditure!C316,\"mmm\"))","v":""},{"$f":"IF(Expenditure!E316=\"\",\"\",Expenditure!E316)","v":""},{"$f":"IF(Expenditure!F316=\"\",\"\",Expenditure!F316)","v":""},{"$f":"IF(Expenditure!G316=\"\",\"\",Expenditure!G316)","v":""},{"$f":"IF(Expenditure!H316=\"\",\"\",Expenditure!H316)","v":""},{"$f":"IF(Expenditure!I316=\"\",\"\",Expenditure!I316)","v":""},"",{"$f":"IF(Expenditure!K316=\"\",\"\",Expenditure!K316)","v":""},{"$f":"IF(Expenditure!L316=\"\",\"\",Expenditure!L316)","v":""},{"$f":"IF(Expenditure!M316=\"\",\"\",Expenditure!M316)","v":""},"-"]
[{"$f":"IF(Expenditure!B317=\"\",\"\",Expenditure!B317)","v":""},{"$f":"IF(Expenditure!C317=\"\",\"\",TEXT(Expenditure!C317,\"mmm\"))","v":""},{"$f":"IF(Expenditure!E317=\"\",\"\",Expenditure!E317)","v":""},{"$f":"IF(Expenditure!F317=\"\",\"\",Expenditure!F317)","v":""},{"$f":"IF(Expenditure!G317=\"\",\"\",Expenditure!G317)","v":""},{"$f":"IF(Expenditure!H317=\"\",\"\",Expenditure!H317)","v":""},{"$f":"IF(Expenditure!I317=\"\",\"\",Expenditure!I317)","v":""},"",{"$f":"IF(Expenditure!K317=\"\",\"\",Expenditure!K317)","v":""},{"$f":"IF(Expenditure!L317=\"\",\"\",Expenditure!L317)","v":""},{"$f":"IF(Expenditure!M317=\"\",\"\",Expenditure!M317)","v":""},"-"]
[{"$f":"IF(Expenditure!B318=\"\",\"\",Expenditure!B318)","v":""},{"$f":"IF(Expenditure!C318=\"\",\"\",TEXT(Expenditure!C318,\"mmm\"))","v":""},{"$f":"IF(Expenditure!E318=\"\",\"\",Expenditure!E318)","v":""},{"$f":"IF(Expenditure!F318=\"\",\"\",Expenditure!F318)","v":""},{"$f":"IF(Expenditure!G318=\"\",\"\",Expenditure!G318)","v":""},{"$f":"IF(Expenditure!H318=\"\",\"\",Expenditure!H318)","v":""},{"$f":"IF(Expenditure!I318=\"\",\"\",Expenditure!I318)","v":""},"",{"$f":"IF(Expenditure!K318=\"\",\"\",Expenditure!K318)","v":""},{"$f":"IF(Expenditure!L318=\"\",\"\",Expenditure!L318)","v":""},{"$f":"IF(Expenditure!M318=\"\",\"\",Expenditure!M318)","v":""},"-"]
[{"$f":"IF(Expenditure!B319=\"\",\"\",Expenditure!B319)","v":""},{"$f":"IF(Expenditure!C319=\"\",\"\",TEXT(Expenditure!C319,\"mmm\"))","v":""},{"$f":"IF(Expenditure!E319=\"\",\"\",Expenditure!E319)","v":""},{"$f":"IF(Expenditure!F319=\"\",\"\",Expenditure!F319)","v":""},{"$f":"IF(Expenditure!G319=\"\",\"\",Expenditure!G319)","v":""},{"$f":"IF(Expenditure!H319=\"\",\"\",Expenditure!H319)","v":""},{"$f":"IF(Expenditure!I319=\"\",\"\",Expenditure!I319)","v":""},"",{"$f":"IF(Expenditure!K319=\"\",\"\",Expenditure!K319)","v":""},{"$f":"IF(Expenditure!L319=\"\",\"\",Expenditure!L319)","v":""},{"$f":"IF(Expenditure!M319=\"\",\"\",Expenditure!M319)","v":""},"-"]
[{"$f":"IF(Expenditure!B320=\"\",\"\",Expenditure!B320)","v":""},{"$f":"IF(Expenditure!C320=\"\",\"\",TEXT(Expenditure!C320,\"mmm\"))","v":""},{"$f":"IF(Expenditure!E320=\"\",\"\",Expenditure!E320)","v":""},{"$f":"IF(Expenditure!F320=\"\",\"\",Expenditure!F320)","v":""},{"$f":"IF(Expenditure!G320=\"\",\"\",Expenditure!G320)","v":""},{"$f":"IF(Expenditure!H320=\"\",\"\",Expenditure!H320)","v":""},{"$f":"IF(Expenditure!I320=\"\",\"\",Expenditure!I320)","v":""},"",{"$f":"IF(Expenditure!K320=\"\",\"\",Expenditure!K320)","v":""},{"$f":"IF(Expenditure!L320=\"\",\"\",Expenditure!L320)","v":""},{"$f":"IF(Expenditure!M320=\"\",\"\",Expenditure!M320)","v":""},"-"]
[{"$f":"IF(Expenditure!B321=\"\",\"\",Expenditure!B321)","v":""},{"$f":"IF(Expenditure!C321=\"\",\"\",TEXT(Expenditure!C321,\"mmm\"))","v":""},{"$f":"IF(Expenditure!E321=\"\",\"\",Expenditure!E321)","v":""},{"$f":"IF(Expenditure!F321=\"\",\"\",Expenditure!F321)","v":""},{"$f":"IF(Expenditure!G321=\"\",\"\",Expenditure!G321)","v":""},{"$f":"IF(Expenditure!H321=\"\",\"\",Expenditure!H321)","v":""},{"$f":"IF(Expenditure!I321=\"\",\"\",Expenditure!I321)","v":""},"",{"$f":"IF(Expenditure!K321=\"\",\"\",Expenditure!K321)","v":""},{"$f":"IF(Expenditure!L321=\"\",\"\",Expenditure!L321)","v":""},{"$f":"IF(Expenditure!M321=\"\",\"\",Expenditure!M321)","v":""},"-"]
[{"$f":"IF(Expenditure!B322=\"\",\"\",Expenditure!B322)","v":""},{"$f":"IF(Expenditure!C322=\"\",\"\",TEXT(Expenditure!C322,\"mmm\"))","v":""},{"$f":"IF(Expenditure!E322=\"\",\"\",Expenditure!E322)","v":""},{"$f":"IF(Expenditure!F322=\"\",\"\",Expenditure!F322)","v":""},{"$f":"IF(Expenditure!G322=\"\",\"\",Expenditure!G322)","v":""},{"$f":"IF(Expenditure!H322=\"\",\"\",Expenditure!H322)","v":""},{"$f":"IF(Expenditure!I322=\"\",\"\",Expenditure!I322)","v":""},"",{"$f":"IF(Expenditure!K322=\"\",\"\",Expenditure!K322)","v":""},{"$f":"IF(Expenditure!L322=\"\",\"\",Expenditure!L322)","v":""},{"$f":"IF(Expenditure!M322=\"\",\"\",Expenditure!M322)","v":""},"-"]
[{"$f":"IF(Expenditure!B323=\"\",\"\",Expenditure!B323)","v":""},{"$f":"IF(Expenditure!C323=\"\",\"\",TEXT(Expenditure!C323,\"mmm\"))","v":""},{"$f":"IF(Expenditure!E323=\"\",\"\",Expenditure!E323)","v":""},{"$f":"IF(Expenditure!F323=\"\",\"\",Expenditure!F323)","v":""},{"$f":"IF(Expenditure!G323=\"\",\"\",Expenditure!G323)","v":""},{"$f":"IF(Expenditure!H323=\"\",\"\",Expenditure!H323)","v":""},{"$f":"IF(Expenditure!I323=\"\",\"\",Expenditure!I323)","v":""},"",{"$f":"IF(Expenditure!K323=\"\",\"\",Expenditure!K323)","v":""},{"$f":"IF(Expenditure!L323=\"\",\"\",Expenditure!L323)","v":""},{"$f":"IF(Expenditure!M323=\"\",\"\",Expenditure!M323)","v":""},"-"]
[{"$f":"IF(Expenditure!B324=\"\",\"\",Expenditure!B324)","v":""},{"$f":"IF(Expenditure!C324=\"\",\"\",TEXT(Expenditure!C324,\"mmm\"))","v":""},{"$f":"IF(Expenditure!E324=\"\",\"\",Expenditure!E324)","v":""},{"$f":"IF(Expenditure!F324=\"\",\"\",Expenditure!F324)","v":""},{"$f":"IF(Expenditure!G324=\"\",\"\",Expenditure!G324)","v":""},{"$f":"IF(Expenditure!H324=\"\",\"\",Expenditure!H324)","v":""},{"$f":"IF(Expenditure!I324=\"\",\"\",Expenditure!I324)","v":""},{"$f":"IFERROR(F332*G332,\"\")","v":""},{"$f":"IF(Expenditure!K324=\"\",\"\",Expenditure!K324)","v":""},{"$f":"IF(Expenditure!L324=\"\",\"\",Expenditure!L324)","v":""},{"$f":"IF(Expenditure!M324=\"\",\"\",Expenditure!M324)","v":""},"-"]
[{"$f":"IF(Expenditure!B325=\"\",\"\",Expenditure!B325)","v":""},{"$f":"IF(Expenditure!C325=\"\",\"\",TEXT(Expenditure!C325,\"mmm\"))","v":""},{"$f":"IF(Expenditure!E325=\"\",\"\",Expenditure!E325)","v":""},{"$f":"IF(Expenditure!F325=\"\",\"\",Expenditure!F325)","v":""},{"$f":"IF(Expenditure!G325=\"\",\"\",Expenditure!G325)","v":""},{"$f":"IF(Expenditure!H325=\"\",\"\",Expenditure!H325)","v":""},{"$f":"IF(Expenditure!I325=\"\",\"\",Expenditure!I325)","v":""},"",{"$f":"IF(Expenditure!K325=\"\",\"\",Expenditure!K325)","v":""},{"$f":"IF(Expenditure!L325=\"\",\"\",Expenditure!L325)","v":""},{"$f":"IF(Expenditure!M325=\"\",\"\",Expenditure!M325)","v":""},"-"]
[{"$f":"IF(Expenditure!B326=\"\",\"\",Expenditure!B326)","v":""},{"$f":"IF(Expenditure!C326=\"\",\"\",TEXT(Expenditure!C326,\"mmm\"))","v":""},{"$f":"IF(Expenditure!E326=\"\",\"\",Expenditure!E326)","v":""},{"$f":"IF(Expenditure!F326=\"\",\"\",Expenditure!F326)","v":""},{"$f":"IF(Expenditure!G326=\"\",\"\",Expenditure!G326)","v":""},{"$f":"IF(Expenditure!H326=\"\",\"\",Expenditure!H326)","v":""},{"$f":"IF(Expenditure!I326=\"\",\"\",Expenditure!I326)","v":""},"",{"$f":"IF(Expenditure!K326=\"\",\"\",Expenditure!K326)","v":""},{"$f":"IF(Expenditure!L326=\"\",\"\",Expenditure!L326)","v":""},{"$f":"IF(Expenditure!M326=\"\",\"\",Expenditure!M326)","v":""},"-"]
[{"$f":"IF(Expenditure!B327=\"\",\"\",Expenditure!B327)","v":""},{"$f":"IF(Expenditure!C327=\"\",\"\",TEXT(Expenditure!C327,\"mmm\"))","v":""},{"$f":"IF(Expenditure!E327=\"\",\"\",Expenditure!E327)","v":""},{"$f":"IF(Expenditure!F327=\"\",\"\",Expenditure!F327)","v":""},{"$f":"IF(Expenditure!G327=\"\",\"\",Expenditure!G327)","v":""},{"$f":"IF(Expenditure!H327=\"\",\"\",Expenditure!H327)","v":""},{"$f":"IF(Expenditure!I327=\"\",\"\",Expenditure!I327)","v":""},"",{"$f":"IF(Expenditure!K327=\"\",\"\",Expenditure!K327)","v":""},{"$f":"IF(Expenditure!L327=\"\",\"\",Expenditure!L327)","v":""},{"$f":"IF(Expenditure!M327=\"\",\"\",Expenditure!M327)","v":""},"-"]
[{"$f":"IF(Expenditure!B328=\"\",\"\",Expenditure!B328)","v":""},{"$f":"IF(Expenditure!C328=\"\",\"\",TEXT(Expenditure!C328,\"mmm\"))","v":""},{"$f":"IF(Expenditure!E328=\"\",\"\",Expenditure!E328)","v":""},{"$f":"IF(Expenditure!F328=\"\",\"\",Expenditure!F328)","v":""},{"$f":"IF(Expenditure!G328=\"\",\"\",Expenditure!G328)","v":""},{"$f":"IF(Expenditure!H328=\"\",\"\",Expenditure!H328)","v":""},{"$f":"IF(Expenditure!I328=\"\",\"\",Expenditure!I328)","v":""},"",{"$f":"IF(Expenditure!K328=\"\",\"\",Expenditure!K328)","v":""},{"$f":"IF(Expenditure!L328=\"\",\"\",Expenditure!L328)","v":""},{"$f":"IF(Expenditure!M328=\"\",\"\",Expenditure!M328)","v":""},"-"]
[{"$f":"IF(Expenditure!B329=\"\",\"\",Expenditure!B329)","v":""},{"$f":"IF(Expenditure!C329=\"\",\"\",TEXT(Expenditure!C329,\"mmm\"))","v":""},{"$f":"IF(Expenditure!E329=\"\",\"\",Expenditure!E329)","v":""},{"$f":"IF(Expenditure!F329=\"\",\"\",Expenditure!F329)","v":""},{"$f":"IF(Expenditure!G329=\"\",\"\",Expenditure!G329)","v":""},{"$f":"IF(Expenditure!H329=\"\",\"\",Expenditure!H329)","v":""},{"$f":"IF(Expenditure!I329=\"\",\"\",Expenditure!I329)","v":""},"",{"$f":"IF(Expenditure!K329=\"\",\"\",Expenditure!K329)","v":""},{"$f":"IF(Expenditure!L329=\"\",\"\",Expenditure!L329)","v":""},{"$f":"IF(Expenditure!M329=\"\",\"\",Expenditure!M329)","v":""},"-"]
[{"$f":"IF(Expenditure!B330=\"\",\"\",Expenditure!B330)","v":""},{"$f":"IF(Expenditure!C330=\"\",\"\",TEXT(Expenditure!C330,\"mmm\"))","v":""},{"$f":"IF(Expenditure!E330=\"\",\"\",Expenditure!E330)","v":""},{"$f":"IF(Expenditure!F330=\"\",\"\",Expenditure!F330)","v":""},{"$f":"IF(Expenditure!G330=\"\",\"\",Expenditure!G330)","v":""},{"$f":"IF(Expenditure!H330=\"\",\"\",Expenditure!H330)","v":""},{"$f":"IF(Expenditure!I330=\"\",\"\",Expenditure!I330)","v":""},"",{"$f":"IF(Expenditure!K330=\"\",\"\",Expenditure!K330)","v":""},{"$f":"IF(Expenditure!L330=\"\",\"\",Expenditure!L330)","v":""},{"$f":"IF(Expenditure!M330=\"\",\"\",Expenditure!M330)","v":""},"-"]
[{"$f":"IF(Expenditure!B331=\"\",\"\",Expenditure!B331)","v":""},{"$f":"IF(Expenditure!C331=\"\",\"\",TEXT(Expenditure!C331,\"mmm\"))","v":""},{"$f":"IF(Expenditure!E331=\"\",\"\",Expenditure!E331)","v":""},{"$f":"IF(Expenditure!F331=\"\",\"\",Expenditure!F331)","v":""},{"$f":"IF(Expenditure!G331=\"\",\"\",Expenditure!G331)","v":""},{"$f":"IF(Expenditure!H331=\"\",\"\",Expenditure!H331)","v":""},{"$f":"IF(Expenditure!I331=\"\",\"\",Expenditure!I331)","v":""},"",{"$f":"IF(Expenditure!K331=\"\",\"\",Expenditure!K331)","v":""},{"$f":"IF(Expenditure!L331=\"\",\"\",Expenditure!L331)","v":""},{"$f":"IF(Expenditure!M331=\"\",\"\",Expenditure!M331)","v":""},"-"]
[{"$f":"IF(Expenditure!B332=\"\",\"\",Expenditure!B332)","v":""},{"$f":"IF(Expenditure!C332=\"\",\"\",TEXT(Expenditure!C332,\"mmm\"))","v":""},{"$f":"IF(Expenditure!E332=\"\",\"\",Expenditure!E332)","v":""},{"$f":"IF(Expenditure!F332=\"\",\"\",Expenditure!F332)","v":""},{"$f":"IF(Expenditure!G332=\"\",\"\",Expenditure!G332)","v":""},{"$f":"IF(Expenditure!H332=\"\",\"\",Expenditure!H332)","v":""},{"$f":"IF(Expenditure!I332=\"\",\"\",Expenditure!I332)","v":""},"",{"$f":"IF(Expenditure!K332=\"\",\"\",Expenditure!K332)","v":""},{"$f":"IF(Expenditure!L332=\"\",\"\",Expenditure!L332)","v":""},{"$f":"IF(Expenditure!M332=\"\",\"\",Expenditure!M332)","v":""},"-"]
[{"$f":"IF(Expenditure!B333=\"\",\"\",Expenditure!B333)","v":""},{"$f":"IF(Expenditure!C333=\"\",\"\",TEXT(Expenditure!C333,\"mmm\"))","v":""},{"$f":"IF(Expenditure!E333=\"\",\"\",Expenditure!E333)","v":""},{"$f":"IF(Expenditure!F333=\"\",\"\",Expenditure!F333)","v":""},{"$f":"IF(Expenditure!G333=\"\",\"\",Expenditure!G333)","v":""},{"$f":"IF(Expenditure!H333=\"\",\"\",Expenditure!H333)","v":""},{"$f":"IF(Expenditure!I333=\"\",\"\",Expenditure!I333)","v":""},"",{"$f":"IF(Expenditure!K333=\"\",\"\",Expenditure!K333)","v":""},{"$f":"IF(Expenditure!L333=\"\",\"\",Expenditure!L333)","v":""},{"$f":"IF(Expenditure!M333=\"\",\"\",Expenditure!M333)","v":""},"-"]
[{"$f":"IF(Expenditure!B334=\"\",\"\",Expenditure!B334)","v":""},{"$f":"IF(Expenditure!C334=\"\",\"\",TEXT(Expenditure!C334,\"mmm\"))","v":""},{"$f":"IF(Expenditure!E334=\"\",\"\",Expenditure!E334)","v":""},{"$f":"IF(Expenditure!F334=\"\",\"\",Expenditure!F334)","v":""},{"$f":"IF(Expenditure!G334=\"\",\"\",Expenditure!G334)","v":""},{"$f":"IF(Expenditure!H334=\"\",\"\",Expenditure!H334)","v":""},{"$f":"IF(Expenditure!I334=\"\",\"\",Expenditure!I334)","v":""},"",{"$f":"IF(Expenditure!K334=\"\",\"\",Expenditure!K334)","v":""},{"$f":"IF(Expenditure!L334=\"\",\"\",Expenditure!L334)","v":""},{"$f":"IF(Expenditure!M334=\"\",\"\",Expenditure!M334)","v":""},"-"]
[{"$f":"IF(Expenditure!B335=\"\",\"\",Expenditure!B335)","v":""},{"$f":"IF(Expenditure!C335=\"\",\"\",TEXT(Expenditure!C335,\"mmm\"))","v":""},{"$f":"IF(Expenditure!E335=\"\",\"\",Expenditure!E335)","v":""},{"$f":"IF(Expenditure!F335=\"\",\"\",Expenditure!F335)","v":""},{"$f":"IF(Expenditure!G335=\"\",\"\",Expenditure!G335)","v":""},{"$f":"IF(Expenditure!H335=\"\",\"\",Expenditure!H335)","v":""},{"$f":"IF(Expenditure!I335=\"\",\"\",Expenditure!I335)","v":""},"",{"$f":"IF(Expenditure!K335=\"\",\"\",Expenditure!K335)","v":""},{"$f":"IF(Expenditure!L335=\"\",\"\",Expenditure!L335)","v":""},{"$f":"IF(Expenditure!M335=\"\",\"\",Expenditure!M335)","v":""},"-"]
[{"$f":"IF(Expenditure!B336=\"\",\"\",Expenditure!B336)","v":""},{"$f":"IF(Expenditure!C336=\"\",\"\",TEXT(Expenditure!C336,\"mmm\"))","v":""},{"$f":"IF(Expenditure!E336=\"\",\"\",Expenditure!E336)","v":""},{"$f":"IF(Expenditure!F336=\"\",\"\",Expenditure!F336)","v":""},{"$f":"IF(Expenditure!G336=\"\",\"\",Expenditure!G336)","v":""},{"$f":"IF(Expenditure!H336=\"\",\"\",Expenditure!H336)","v":""},{"$f":"IF(Expenditure!I336=\"\",\"\",Expenditure!I336)","v":""},"",{"$f":"IF(Expenditure!K336=\"\",\"\",Expenditure!K336)","v":""},{"$f":"IF(Expenditure!L336=\"\",\"\",Expenditure!L336)","v":""},{"$f":"IF(Expenditure!M336=\"\",\"\",Expenditure!M336)","v":""},"-"]
[{"$f":"IF(Expenditure!B337=\"\",\"\",Expenditure!B337)","v":""},{"$f":"IF(Expenditure!C337=\"\",\"\",TEXT(Expenditure!C337,\"mmm\"))","v":""},{"$f":"IF(Expenditure!E337=\"\",\"\",Expenditure!E337)","v":""},{"$f":"IF(Expenditure!F337=\"\",\"\",Expenditure!F337)","v":""},{"$f":"IF(Expenditure!G337=\"\",\"\",Expenditure!G337)","v":""},{"$f":"IF(Expenditure!H337=\"\",\"\",Expenditure!H337)","v":""},{"$f":"IF(Expenditure!I337=\"\",\"\",Expenditure!I337)","v":""},"",{"$f":"IF(Expenditure!K337=\"\",\"\",Expenditure!K337)","v":""},{"$f":"IF(Expenditure!L337=\"\",\"\",Expenditure!L337)","v":""},{"$f":"IF(Expenditure!M337=\"\",\"\",Expenditure!M337)","v":""},"-"]
[{"$f":"IF(Expenditure!B338=\"\",\"\",Expenditure!B338)","v":""},{"$f":"IF(Expenditure!C338=\"\",\"\",TEXT(Expenditure!C338,\"mmm\"))","v":""},{"$f":"IF(Expenditure!E338=\"\",\"\",Expenditure!E338)","v":""},{"$f":"IF(Expenditure!F338=\"\",\"\",Expenditure!F338)","v":""},{"$f":"IF(Expenditure!G338=\"\",\"\",Expenditure!G338)","v":""},{"$f":"IF(Expenditure!H338=\"\",\"\",Expenditure!H338)","v":""},{"$f":"IF(Expenditure!I338=\"\",\"\",Expenditure!I338)","v":""},"",{"$f":"IF(Expenditure!K338=\"\",\"\",Expenditure!K338)","v":""},{"$f":"IF(Expenditure!L338=\"\",\"\",Expenditure!L338)","v":""},{"$f":"IF(Expenditure!M338=\"\",\"\",Expenditure!M338)","v":""},"-"]
[{"$f":"IF(Expenditure!B339=\"\",\"\",Expenditure!B339)","v":""},{"$f":"IF(Expenditure!C339=\"\",\"\",TEXT(Expenditure!C339,\"mmm\"))","v":""},{"$f":"IF(Expenditure!E339=\"\",\"\",Expenditure!E339)","v":""},{"$f":"IF(Expenditure!F339=\"\",\"\",Expenditure!F339)","v":""},{"$f":"IF(Expenditure!G339=\"\",\"\",Expenditure!G339)","v":""},{"$f":"IF(Expenditure!H339=\"\",\"\",Expenditure!H339)","v":""},{"$f":"IF(Expenditure!I339=\"\",\"\",Expenditure!I339)","v":""},"",{"$f":"IF(Expenditure!K339=\"\",\"\",Expenditure!K339)","v":""},{"$f":"IF(Expenditure!L339=\"\",\"\",Expenditure!L339)","v":""},{"$f":"IF(Expenditure!M339=\"\",\"\",Expenditure!M339)","v":""},"-"]
[{"$f":"IF(Expenditure!B340=\"\",\"\",Expenditure!B340)","v":""},{"$f":"IF(Expenditure!C340=\"\",\"\",TEXT(Expenditure!C340,\"mmm\"))","v":""},{"$f":"IF(Expenditure!E340=\"\",\"\",Expenditure!E340)","v":""},{"$f":"IF(Expenditure!F340=\"\",\"\",Expenditure!F340)","v":""},{"$f":"IF(Expenditure!G340=\"\",\"\",Expenditure!G340)","v":""},{"$f":"IF(Expenditure!H340=\"\",\"\",Expenditure!H340)","v":""},{"$f":"IF(Expenditure!I340=\"\",\"\",Expenditure!I340)","v":""},"",{"$f":"IF(Expenditure!K340=\"\",\"\",Expenditure!K340)","v":""},{"$f":"IF(Expenditure!L340=\"\",\"\",Expenditure!L340)","v":""},{"$f":"IF(Expenditure!M340=\"\",\"\",Expenditure!M340)","v":""},"-"]
[{"$f":"IF(Expenditure!B341=\"\",\"\",Expenditure!B341)","v":""},{"$f":"IF(Expenditure!C341=\"\",\"\",TEXT(Expenditure!C341,\"mmm\"))","v":""},{"$f":"IF(Expenditure!E341=\"\",\"\",Expenditure!E341)","v":""},{"$f":"IF(Expenditure!F341=\"\",\"\",Expenditure!F341)","v":""},{"$f":"IF(Expenditure!G341=\"\",\"\",Expenditure!G341)","v":""},{"$f":"IF(Expenditure!H341=\"\",\"\",Expenditure!H341)","v":""},{"$f":"IF(Expenditure!I341=\"\",\"\",Expenditure!I341)","v":""},"",{"$f":"IF(Expenditure!K341=\"\",\"\",Expenditure!K341)","v":""},{"$f":"IF(Expenditure!L341=\"\",\"\",Expenditure!L341)","v":""},{"$f":"IF(Expenditure!M341=\"\",\"\",Expenditure!M341)","v":""},"-"]
[{"$f":"IF(Expenditure!B342=\"\",\"\",Expenditure!B342)","v":""},{"$f":"IF(Expenditure!C342=\"\",\"\",TEXT(Expenditure!C342,\"mmm\"))","v":""},{"$f":"IF(Expenditure!E342=\"\",\"\",Expenditure!E342)","v":""},{"$f":"IF(Expenditure!F342=\"\",\"\",Expenditure!F342)","v":""},{"$f":"IF(Expenditure!G342=\"\",\"\",Expenditure!G342)","v":""},{"$f":"IF(Expenditure!H342=\"\",\"\",Expenditure!H342)","v":""},{"$f":"IF(Expenditure!I342=\"\",\"\",Expenditure!I342)","v":""},"",{"$f":"IF(Expenditure!K342=\"\",\"\",Expenditure!K342)","v":""},{"$f":"IF(Expenditure!L342=\"\",\"\",Expenditure!L342)","v":""},{"$f":"IF(Expenditure!M342=\"\",\"\",Expenditure!M342)","v":""},"-"]
[{"$f":"IF(Expenditure!B343=\"\",\"\",Expenditure!B343)","v":""},{"$f":"IF(Expenditure!C343=\"\",\"\",TEXT(Expenditure!C343,\"mmm\"))","v":""},{"$f":"IF(Expenditure!E343=\"\",\"\",Expenditure!E343)","v":""},{"$f":"IF(Expenditure!F343=\"\",\"\",Expenditure!F343)","v":""},{"$f":"IF(Expenditure!G343=\"\",\"\",Expenditure!G343)","v":""},{"$f":"IF(Expenditure!H343=\"\",\"\",Expenditure!H343)","v":""},{"$f":"IF(Expenditure!I343=\"\",\"\",Expenditure!I343)","v":""},"",{"$f":"IF(Expenditure!K343=\"\",\"\",Expenditure!K343)","v":""},{"$f":"IF(Expenditure!L343=\"\",\"\",Expenditure!L343)","v":""},{"$f":"IF(Expenditure!M343=\"\",\"\",Expenditure!M343)","v":""},"-"]
[{"$f":"IF(Expenditure!B344=\"\",\"\",Expenditure!B344)","v":""},{"$f":"IF(Expenditure!C344=\"\",\"\",TEXT(Expenditure!C344,\"mmm\"))","v":""},{"$f":"IF(Expenditure!E344=\"\",\"\",Expenditure!E344)","v":""},{"$f":"IF(Expenditure!F344=\"\",\"\",Expenditure!F344)","v":""},{"$f":"IF(Expenditure!G344=\"\",\"\",Expenditure!G344)","v":""},{"$f":"IF(Expenditure!H344=\"\",\"\",Expenditure!H344)","v":""},{"$f":"IF(Expenditure!I344=\"\",\"\",Expenditure!I344)","v":""},"",{"$f":"IF(Expenditure!K344=\"\",\"\",Expenditure!K344)","v":""},{"$f":"IF(Expenditure!L344=\"\",\"\",Expenditure!L344)","v":""},{"$f":"IF(Expenditure!M344=\"\",\"\",Expenditure!M344)","v":""},"-"]
[{"$f":"IF(Expenditure!B345=\"\",\"\",Expenditure!B345)","v":""},{"$f":"IF(Expenditure!C345=\"\",\"\",TEXT(Expenditure!C345,\"mmm\"))","v":""},{"$f":"IF(Expenditure!E345=\"\",\"\",Expenditure!E345)","v":""},{"$f":"IF(Expenditure!F345=\"\",\"\",Expenditure!F345)","v":""},{"$f":"IF(Expenditure!G345=\"\",\"\",Expenditure!G345)","v":""},{"$f":"IF(Expenditure!H345=\"\",\"\",Expenditure!H345)","v":""},{"$f":"IF(Expenditure!I345=\"\",\"\",Expenditure!I345)","v":""},"",{"$f":"IF(Expenditure!K345=\"\",\"\",Expenditure!K345)","v":""},{"$f":"IF(Expenditure!L345=\"\",\"\",Expenditure!L345)","v":""},{"$f":"IF(Expenditure!M345=\"\",\"\",Expenditure!M345)","v":""},"-"]
[{"$f":"IF(Expenditure!B346=\"\",\"\",Expenditure!B346)","v":""},{"$f":"IF(Expenditure!C346=\"\",\"\",TEXT(Expenditure!C346,\"mmm\"))","v":""},{"$f":"IF(Expenditure!E346=\"\",\"\",Expenditure!E346)","v":""},{"$f":"IF(Expenditure!F346=\"\",\"\",Expenditure!F346)","v":""},{"$f":"IF(Expenditure!G346=\"\",\"\",Expenditure!G346)","v":""},{"$f":"IF(Expenditure!H346=\"\",\"\",Expenditure!H346)","v":""},{"$f":"IF(Expenditure!I346=\"\",\"\",Expenditure!I346)","v":""},"",{"$f":"IF(Expenditure!K346=\"\",\"\",Expenditure!K346)","v":""},{"$f":"IF(Expenditure!L346=\"\",\"\",Expenditure!L346)","v":""},{"$f":"IF(Expenditure!M346=\"\",\"\",Expenditure!M346)","v":""},"-"]
[{"$f":"IF(Expenditure!B347=\"\",\"\",Expenditure!B347)","v":""},{"$f":"IF(Expenditure!C347=\"\",\"\",TEXT(Expenditure!C347,\"mmm\"))","v":""},{"$f":"IF(Expenditure!E347=\"\",\"\",Expenditure!E347)","v":""},{"$f":"IF(Expenditure!F347=\"\",\"\",Expenditure!F347)","v":""},{"$f":"IF(Expenditure!G347=\"\",\"\",Expenditure!G347)","v":""},{"$f":"IF(Expenditure!H347=\"\",\"\",Expenditure!H347)","v":""},{"$f":"IF(Expenditure!I347=\"\",\"\",Expenditure!I347)","v":""},"",{"$f":"IF(Expenditure!K347=\"\",\"\",Expenditure!K347)","v":""},{"$f":"IF(Expenditure!L347=\"\",\"\",Expenditure!L347)","v":""},{"$f":"IF(Expenditure!M347=\"\",\"\",Expenditure!M347)","v":""},"-"]
[{"$f":"IF(Expenditure!B348=\"\",\"\",Expenditure!B348)","v":""},{"$f":"IF(Expenditure!C348=\"\",\"\",TEXT(Expenditure!C348,\"mmm\"))","v":""},{"$f":"IF(Expenditure!E348=\"\",\"\",Expenditure!E348)","v":""},{"$f":"IF(Expenditure!F348=\"\",\"\",Expenditure!F348)","v":""},{"$f":"IF(Expenditure!G348=\"\",\"\",Expenditure!G348)","v":""},{"$f":"IF(Expenditure!H348=\"\",\"\",Expenditure!H348)","v":""},{"$f":"IF(Expenditure!I348=\"\",\"\",Expenditure!I348)","v":""},"",{"$f":"IF(Expenditure!K348=\"\",\"\",Expenditure!K348)","v":""},{"$f":"IF(Expenditure!L348=\"\",\"\",Expenditure!L348)","v":""},{"$f":"IF(Expenditure!M348=\"\",\"\",Expenditure!M348)","v":""},"-"]
[{"$f":"IF(Expenditure!B349=\"\",\"\",Expenditure!B349)","v":""},{"$f":"IF(Expenditure!C349=\"\",\"\",TEXT(Expenditure!C349,\"mmm\"))","v":""},{"$f":"IF(Expenditure!E349=\"\",\"\",Expenditure!E349)","v":""},{"$f":"IF(Expenditure!F349=\"\",\"\",Expenditure!F349)","v":""},{"$f":"IF(Expenditure!G349=\"\",\"\",Expenditure!G349)","v":""},{"$f":"IF(Expenditure!H349=\"\",\"\",Expenditure!H349)","v":""},{"$f":"IF(Expenditure!I349=\"\",\"\",Expenditure!I349)","v":""},"",{"$f":"IF(Expenditure!K349=\"\",\"\",Expenditure!K349)","v":""},{"$f":"IF(Expenditure!L349=\"\",\"\",Expenditure!L349)","v":""},{"$f":"IF(Expenditure!M349=\"\",\"\",Expenditure!M349)","v":""},"-"]
[{"$f":"IF(Expenditure!B350=\"\",\"\",Expenditure!B350)","v":""},{"$f":"IF(Expenditure!C350=\"\",\"\",TEXT(Expenditure!C350,\"mmm\"))","v":""},{"$f":"IF(Expenditure!E350=\"\",\"\",Expenditure!E350)","v":""},{"$f":"IF(Expenditure!F350=\"\",\"\",Expenditure!F350)","v":""},{"$f":"IF(Expenditure!G350=\"\",\"\",Expenditure!G350)","v":""},{"$f":"IF(Expenditure!H350=\"\",\"\",Expenditure!H350)","v":""},{"$f":"IF(Expenditure!I350=\"\",\"\",Expenditure!I350)","v":""},"",{"$f":"IF(Expenditure!K350=\"\",\"\",Expenditure!K350)","v":""},{"$f":"IF(Expenditure!L350=\"\",\"\",Expenditure!L350)","v":""},{"$f":"IF(Expenditure!M350=\"\",\"\",Expenditure!M350)","v":""},"-"]
[{"$f":"IF(Expenditure!B351=\"\",\"\",Expenditure!B351)","v":""},{"$f":"IF(Expenditure!C351=\"\",\"\",TEXT(Expenditure!C351,\"mmm\"))","v":""},{"$f":"IF(Expenditure!E351=\"\",\"\",Expenditure!E351)","v":""},{"$f":"IF(Expenditure!F351=\"\",\"\",Expenditure!F351)","v":""},{"$f":"IF(Expenditure!G351=\"\",\"\",Expenditure!G351)","v":""},{"$f":"IF(Expenditure!H351=\"\",\"\",Expenditure!H351)","v":""},{"$f":"IF(Expenditure!I351=\"\",\"\",Expenditure!I351)","v":""},"",{"$f":"IF(Expenditure!K351=\"\",\"\",Expenditure!K351)","v":""},{"$f":"IF(Expenditure!L351=\"\",\"\",Expenditure!L351)","v":""},{"$f":"IF(Expenditure!M351=\"\",\"\",Expenditure!M351)","v":""},"-"]
[{"$f":"IF(Expenditure!B352=\"\",\"\",Expenditure!B352)","v":""},{"$f":"IF(Expenditure!C352=\"\",\"\",TEXT(Expenditure!C352,\"mmm\"))","v":""},{"$f":"IF(Expenditure!E352=\"\",\"\",Expenditure!E352)","v":""},{"$f":"IF(Expenditure!F352=\"\",\"\",Expenditure!F352)","v":""},{"$f":"IF(Expenditure!G352=\"\",\"\",Expenditure!G352)","v":""},{"$f":"IF(Expenditure!H352=\"\",\"\",Expenditure!H352)","v":""},{"$f":"IF(Expenditure!I352=\"\",\"\",Expenditure!I352)","v":""},"",{"$f":"IF(Expenditure!K352=\"\",\"\",Expenditure!K352)","v":""},{"$f":"IF(Expenditure!L352=\"\",\"\",Expenditure!L352)","v":""},{"$f":"IF(Expenditure!M352=\"\",\"\",Expenditure!M352)","v":""},"-"]
[{"$f":"IF(Expenditure!B353=\"\",\"\",Expenditure!B353)","v":""},{"$f":"IF(Expenditure!C353=\"\",\"\",TEXT(Expenditure!C353,\"mmm\"))","v":""},{"$f":"IF(Expenditure!E353=\"\",\"\",Expenditure!E353)","v":""},{"$f":"IF(Expenditure!F353=\"\",\"\",Expenditure!F353)","v":""},{"$f":"IF(Expenditure!G353=\"\",\"\",Expenditure!G353)","v":""},{"$f":"IF(Expenditure!H353=\"\",\"\",Expenditure!H353)","v":""},{"$f":"IF(Expenditure!I353=\"\",\"\",Expenditure!I353)","v":""},"",{"$f":"IF(Expenditure!K353=\"\",\"\",Expenditure!K353)","v":""},{"$f":"IF(Expenditure!L353=\"\",\"\",Expenditure!L353)","v":""},{"$f":"IF(Expenditure!M353=\"\",\"\",Expenditure!M353)","v":""},"-"]
[{"$f":"IF(Expenditure!B354=\"\",\"\",Expenditure!B354)","v":""},{"$f":"IF(Expenditure!C354=\"\",\"\",TEXT(Expenditure!C354,\"mmm\"))","v":""},{"$f":"IF(Expenditure!E354=\"\",\"\",Expenditure!E354)","v":""},{"$f":"IF(Expenditure!F354=\"\",\"\",Expenditure!F354)","v":""},{"$f":"IF(Expenditure!G354=\"\",\"\",Expenditure!G354)","v":""},{"$f":"IF(Expenditure!H354=\"\",\"\",Expenditure!H354)","v":""},{"$f":"IF(Expenditure!I354=\"\",\"\",Expenditure!I354)","v":""},"",{"$f":"IF(Expenditure!K354=\"\",\"\",Expenditure!K354)","v":""},{"$f":"IF(Expenditure!L354=\"\",\"\",Expenditure!L354)","v":""},{"$f":"IF(Expenditure!M354=\"\",\"\",Expenditure!M354)","v":""},"-"]
[{"$f":"IF(Expenditure!B355=\"\",\"\",Expenditure!B355)","v":""},{"$f":"IF(Expenditure!C355=\"\",\"\",TEXT(Expenditure!C355,\"mmm\"))","v":""},{"$f":"IF(Expenditure!E355=\"\",\"\",Expenditure!E355)","v":""},{"$f":"IF(Expenditure!F355=\"\",\"\",Expenditure!F355)","v":""},{"$f":"IF(Expenditure!G355=\"\",\"\",Expenditure!G355)","v":""},{"$f":"IF(Expenditure!H355=\"\",\"\",Expenditure!H355)","v":""},{"$f":"IF(Expenditure!I355=\"\",\"\",Expenditure!I355)","v":""},"",{"$f":"IF(Expenditure!K355=\"\",\"\",Expenditure!K355)","v":""},{"$f":"IF(Expenditure!L355=\"\",\"\",Expenditure!L355)","v":""},{"$f":"IF(Expenditure!M355=\"\",\"\",Expenditure!M355)","v":""},"-"]
[{"$f":"IF(Expenditure!B356=\"\",\"\",Expenditure!B356)","v":""},{"$f":"IF(Expenditure!C356=\"\",\"\",TEXT(Expenditure!C356,\"mmm\"))","v":""},{"$f":"IF(Expenditure!E356=\"\",\"\",Expenditure!E356)","v":""},{"$f":"IF(Expenditure!F356=\"\",\"\",Expenditure!F356)","v":""},{"$f":"IF(Expenditure!G356=\"\",\"\",Expenditure!G356)","v":""},{"$f":"IF(Expenditure!H356=\"\",\"\",Expenditure!H356)","v":""},{"$f":"IF(Expenditure!I356=\"\",\"\",Expenditure!I356)","v":""},"",{"$f":"IF(Expenditure!K356=\"\",\"\",Expenditure!K356)","v":""},{"$f":"IF(Expenditure!L356=\"\",\"\",Expenditure!L356)","v":""},{"$f":"IF(Expenditure!M356=\"\",\"\",Expenditure!M356)","v":""},"-"]
[{"$f":"IF(Expenditure!B357=\"\",\"\",Expenditure!B357)","v":""},{"$f":"IF(Expenditure!C357=\"\",\"\",TEXT(Expenditure!C357,\"mmm\"))","v":""},{"$f":"IF(Expenditure!E357=\"\",\"\",Expenditure!E357)","v":""},{"$f":"IF(Expenditure!F357=\"\",\"\",Expenditure!F357)","v":""},{"$f":"IF(Expenditure!G357=\"\",\"\",Expenditure!G357)","v":""},{"$f":"IF(Expenditure!H357=\"\",\"\",Expenditure!H357)","v":""},{"$f":"IF(Expenditure!I357=\"\",\"\",Expenditure!I357)","v":""},"",{"$f":"IF(Expenditure!K357=\"\",\"\",Expenditure!K357)","v":""},{"$f":"IF(Expenditure!L357=\"\",\"\",Expenditure!L357)","v":""},{"$f":"IF(Expenditure!M357=\"\",\"\",Expenditure!M357)","v":""},"-"]
[{"$f":"IF(Expenditure!B358=\"\",\"\",Expenditure!B358)","v":""},{"$f":"IF(Expenditure!C358=\"\",\"\",TEXT(Expenditure!C358,\"mmm\"))","v":""},{"$f":"IF(Expenditure!E358=\"\",\"\",Expenditure!E358)","v":""},{"$f":"IF(Expenditure!F358=\"\",\"\",Expenditure!F358)","v":""},{"$f":"IF(Expenditure!G358=\"\",\"\",Expenditure!G358)","v":""},{"$f":"IF(Expenditure!H358=\"\",\"\",Expenditure!H358)","v":""},{"$f":"IF(Expenditure!I358=\"\",\"\",Expenditure!I358)","v":""},"",{"$f":"IF(Expenditure!K358=\"\",\"\",Expenditure!K358)","v":""},{"$f":"IF(Expenditure!L358=\"\",\"\",Expenditure!L358)","v":""},{"$f":"IF(Expenditure!M358=\"\",\"\",Expenditure!M358)","v":""},"-"]
[{"$f":"IF(Expenditure!B359=\"\",\"\",Expenditure!B359)","v":""},{"$f":"IF(Expenditure!C359=\"\",\"\",TEXT(Expenditure!C359,\"mmm\"))","v":""},{"$f":"IF(Expenditure!E359=\"\",\"\",Expenditure!E359)","v":""},{"$f":"IF(Expenditure!F359=\"\",\"\",Expenditure!F359)","v":""},{"$f":"IF(Expenditure!G359=\"\",\"\",Expenditure!G359)","v":""},{"$f":"IF(Expenditure!H359=\"\",\"\",Expenditure!H359)","v":""},{"$f":"IF(Expenditure!I359=\"\",\"\",Expenditure!I359)","v":""},"",{"$f":"IF(Expenditure!K359=\"\",\"\",Expenditure!K359)","v":""},{"$f":"IF(Expenditure!L359=\"\",\"\",Expenditure!L359)","v":""},{"$f":"IF(Expenditure!M359=\"\",\"\",Expenditure!M359)","v":""},"-"]
[{"$f":"IF(Expenditure!B360=\"\",\"\",Expenditure!B360)","v":""},{"$f":"IF(Expenditure!C360=\"\",\"\",TEXT(Expenditure!C360,\"mmm\"))","v":""},{"$f":"IF(Expenditure!E360=\"\",\"\",Expenditure!E360)","v":""},{"$f":"IF(Expenditure!F360=\"\",\"\",Expenditure!F360)","v":""},{"$f":"IF(Expenditure!G360=\"\",\"\",Expenditure!G360)","v":""},{"$f":"IF(Expenditure!H360=\"\",\"\",Expenditure!H360)","v":""},{"$f":"IF(Expenditure!I360=\"\",\"\",Expenditure!I360)","v":""},"",{"$f":"IF(Expenditure!K360=\"\",\"\",Expenditure!K360)","v":""},{"$f":"IF(Expenditure!L360=\"\",\"\",Expenditure!L360)","v":""},{"$f":"IF(Expenditure!M360=\"\",\"\",Expenditure!M360)","v":""},"-"]
[{"$f":"IF(Expenditure!B361=\"\",\"\",Expenditure!B361)","v":""},{"$f":"IF(Expenditure!C361=\"\",\"\",TEXT(Expenditure!C361,\"mmm\"))","v":""},{"$f":"IF(Expenditure!E361=\"\",\"\",Expenditure!E361)","v":""},{"$f":"IF(Expenditure!F361=\"\",\"\",Expenditure!F361)","v":""},{"$f":"IF(Expenditure!G361=\"\",\"\",Expenditure!G361)","v":""},{"$f":"IF(Expenditure!H361=\"\",\"\",Expenditure!H361)","v":""},{"$f":"IF(Expenditure!I361=\"\",\"\",Expenditure!I361)","v":""},"",{"$f":"IF(Expenditure!K361=\"\",\"\",Expenditure!K361)","v":""},{"$f":"IF(Expenditure!L361=\"\",\"\",Expenditure!L361)","v":""},{"$f":"IF(Expenditure!M361=\"\",\"\",Expenditure!M361)","v":""},"-"]
[{"$f":"IF(Expenditure!B362=\"\",\"\",Expenditure!B362)","v":""},{"$f":"IF(Expenditure!C362=\"\",\"\",TEXT(Expenditure!C362,\"mmm\"))","v":""},{"$f":"IF(Expenditure!E362=\"\",\"\",Expenditure!E362)","v":""},{"$f":"IF(Expenditure!F362=\"\",\"\",Expenditure!F362)","v":""},{"$f":"IF(Expenditure!G362=\"\",\"\",Expenditure!G362)","v":""},{"$f":"IF(Expenditure!H362=\"\",\"\",Expenditure!H362)","v":""},{"$f":"IF(Expenditure!I362=\"\",\"\",Expenditure!I362)","v":""},"",{"$f":"IF(Expenditure!K362=\"\",\"\",Expenditure!K362)","v":""},{"$f":"IF(Expenditure!L362=\"\",\"\",Expenditure!L362)","v":""},{"$f":"IF(Expenditure!M362=\"\",\"\",Expenditure!M362)","v":""},"-"]
[{"$f":"IF(Expenditure!B363=\"\",\"\",Expenditure!B363)","v":""},{"$f":"IF(Expenditure!C363=\"\",\"\",TEXT(Expenditure!C363,\"mmm\"))","v":""},{"$f":"IF(Expenditure!E363=\"\",\"\",Expenditure!E363)","v":""},{"$f":"IF(Expenditure!F363=\"\",\"\",Expenditure!F363)","v":""},{"$f":"IF(Expenditure!G363=\"\",\"\",Expenditure!G363)","v":""},{"$f":"IF(Expenditure!H363=\"\",\"\",Expenditure!H363)","v":""},{"$f":"IF(Expenditure!I363=\"\",\"\",Expenditure!I363)","v":""},"",{"$f":"IF(Expenditure!K363=\"\",\"\",Expenditure!K363)","v":""},{"$f":"IF(Expenditure!L363=\"\",\"\",Expenditure!L363)","v":""},{"$f":"IF(Expenditure!M363=\"\",\"\",Expenditure!M363)","v":""},"-"]
[{"$f":"IF(Expenditure!B364=\"\",\"\",Expenditure!B364)","v":""},{"$f":"IF(Expenditure!C364=\"\",\"\",TEXT(Expenditure!C364,\"mmm\"))","v":""},{"$f":"IF(Expenditure!E364=\"\",\"\",Expenditure!E364)","v":""},{"$f":"IF(Expenditure!F364=\"\",\"\",Expenditure!F364)","v":""},{"$f":"IF(Expenditure!G364=\"\",\"\",Expenditure!G364)","v":""},{"$f":"IF(Expenditure!H364=\"\",\"\",Expenditure!H364)","v":""},{"$f":"IF(Expenditure!I364=\"\",\"\",Expenditure!I364)","v":""},"",{"$f":"IF(Expenditure!K364=\"\",\"\",Expenditure!K364)","v":""},{"$f":"IF(Expenditure!L364=\"\",\"\",Expenditure!L364)","v":""},{"$f":"IF(Expenditure!M364=\"\",\"\",Expenditure!M364)","v":""},"-"]
[{"$f":"IF(Expenditure!B365=\"\",\"\",Expenditure!B365)","v":""},{"$f":"IF(Expenditure!C365=\"\",\"\",TEXT(Expenditure!C365,\"mmm\"))","v":""},{"$f":"IF(Expenditure!E365=\"\",\"\",Expenditure!E365)","v":""},{"$f":"IF(Expenditure!F365=\"\",\"\",Expenditure!F365)","v":""},{"$f":"IF(Expenditure!G365=\"\",\"\",Expenditure!G365)","v":""},{"$f":"IF(Expenditure!H365=\"\",\"\",Expenditure!H365)","v":""},{"$f":"IF(Expenditure!I365=\"\",\"\",Expenditure!I365)","v":""},"",{"$f":"IF(Expenditure!K365=\"\",\"\",Expenditure!K365)","v":""},{"$f":"IF(Expenditure!L365=\"\",\"\",Expenditure!L365)","v":""},{"$f":"IF(Expenditure!M365=\"\",\"\",Expenditure!M365)","v":""},"-"]
[{"$f":"IF(Expenditure!B366=\"\",\"\",Expenditure!B366)","v":""},{"$f":"IF(Expenditure!C366=\"\",\"\",TEXT(Expenditure!C366,\"mmm\"))","v":""},{"$f":"IF(Expenditure!E366=\"\",\"\",Expenditure!E366)","v":""},{"$f":"IF(Expenditure!F366=\"\",\"\",Expenditure!F366)","v":""},{"$f":"IF(Expenditure!G366=\"\",\"\",Expenditure!G366)","v":""},{"$f":"IF(Expenditure!H366=\"\",\"\",Expenditure!H366)","v":""},{"$f":"IF(Expenditure!I366=\"\",\"\",Expenditure!I366)","v":""},"",{"$f":"IF(Expenditure!K366=\"\",\"\",Expenditure!K366)","v":""},{"$f":"IF(Expenditure!L366=\"\",\"\",Expenditure!L366)","v":""},{"$f":"IF(Expenditure!M366=\"\",\"\",Expenditure!M366)","v":""},"-"]
[{"$f":"IF(Expenditure!B367=\"\",\"\",Expenditure!B367)","v":""},{"$f":"IF(Expenditure!C367=\"\",\"\",TEXT(Expenditure!C367,\"mmm\"))","v":""},{"$f":"IF(Expenditure!E367=\"\",\"\",Expenditure!E367)","v":""},{"$f":"IF(Expenditure!F367=\"\",\"\",Expenditure!F367)","v":""},{"$f":"IF(Expenditure!G367=\"\",\"\",Expenditure!G367)","v":""},{"$f":"IF(Expenditure!H367=\"\",\"\",Expenditure!H367)","v":""},{"$f":"IF(Expenditure!I367=\"\",\"\",Expenditure!I367)","v":""},"",{"$f":"IF(Expenditure!K367=\"\",\"\",Expenditure!K367)","v":""},{"$f":"IF(Expenditure!L367=\"\",\"\",Expenditure!L367)","v":""},{"$f":"IF(Expenditure!M367=\"\",\"\",Expenditure!M367)","v":""},"-"]
[{"$f":"IF(Expenditure!B368=\"\",\"\",Expenditure!B368)","v":""},{"$f":"IF(Expenditure!C368=\"\",\"\",TEXT(Expenditure!C368,\"mmm\"))","v":""},{"$f":"IF(Expenditure!E368=\"\",\"\",Expenditure!E368)","v":""},{"$f":"IF(Expenditure!F368=\"\",\"\",Expenditure!F368)","v":""},{"$f":"IF(Expenditure!G368=\"\",\"\",Expenditure!G368)","v":""},{"$f":"IF(Expenditure!H368=\"\",\"\",Expenditure!H368)","v":""},{"$f":"IF(Expenditure!I368=\"\",\"\",Expenditure!I368)","v":""},"",{"$f":"IF(Expenditure!K368=\"\",\"\",Expenditure!K368)","v":""},{"$f":"IF(Expenditure!L368=\"\",\"\",Expenditure!L368)","v":""},{"$f":"IF(Expenditure!M368=\"\",\"\",Expenditure!M368)","v":""},"-"]
[{"$f":"IF(Expenditure!B369=\"\",\"\",Expenditure!B369)","v":""},{"$f":"IF(Expenditure!C369=\"\",\"\",TEXT(Expenditure!C369,\"mmm\"))","v":""},{"$f":"IF(Expenditure!E369=\"\",\"\",Expenditure!E369)","v":""},{"$f":"IF(Expenditure!F369=\"\",\"\",Expenditure!F369)","v":""},{"$f":"IF(Expenditure!G369=\"\",\"\",Expenditure!G369)","v":""},{"$f":"IF(Expenditure!H369=\"\",\"\",Expenditure!H369)","v":""},{"$f":"IF(Expenditure!I369=\"\",\"\",Expenditure!I369)","v":""},"",{"$f":"IF(Expenditure!K369=\"\",\"\",Expenditure!K369)","v":""},{"$f":"IF(Expenditure!L369=\"\",\"\",Expenditure!L369)","v":""},{"$f":"IF(Expenditure!M369=\"\",\"\",Expenditure!M369)","v":""},"-"]
[{"$f":"IF(Expenditure!B370=\"\",\"\",Expenditure!B370)","v":""},{"$f":"IF(Expenditure!C370=\"\",\"\",TEXT(Expenditure!C370,\"mmm\"))","v":""},{"$f":"IF(Expenditure!E370=\"\",\"\",Expenditure!E370)","v":""},{"$f":"IF(Expenditure!F370=\"\",\"\",Expenditure!F370)","v":""},{"$f":"IF(Expenditure!G370=\"\",\"\",Expenditure!G370)","v":""},{"$f":"IF(Expenditure!H370=\"\",\"\",Expenditure!H370)","v":""},{"$f":"IF(Expenditure!I370=\"\",\"\",Expenditure!I370)","v":""},"",{"$f":"IF(Expenditure!K370=\"\",\"\",Expenditure!K370)","v":""},{"$f":"IF(Expenditure!L370=\"\",\"\",Expenditure!L370)","v":""},{"$f":"IF(Expenditure!M370=\"\",\"\",Expenditure!M370)","v":""},"-"]
[{"$f":"IF(Expenditure!B371=\"\",\"\",Expenditure!B371)","v":""},{"$f":"IF(Expenditure!C371=\"\",\"\",TEXT(Expenditure!C371,\"mmm\"))","v":""},{"$f":"IF(Expenditure!E371=\"\",\"\",Expenditure!E371)","v":""},{"$f":"IF(Expenditure!F371=\"\",\"\",Expenditure!F371)","v":""},{"$f":"IF(Expenditure!G371=\"\",\"\",Expenditure!G371)","v":""},{"$f":"IF(Expenditure!H371=\"\",\"\",Expenditure!H371)","v":""},{"$f":"IF(Expenditure!I371=\"\",\"\",Expenditure!I371)","v":""},"",{"$f":"IF(Expenditure!K371=\"\",\"\",Expenditure!K371)","v":""},{"$f":"IF(Expenditure!L371=\"\",\"\",Expenditure!L371)","v":""},{"$f":"IF(Expenditure!M371=\"\",\"\",Expenditure!M371)","v":""},"-"]
[{"$f":"IF(Expenditure!B372=\"\",\"\",Expenditure!B372)","v":""},{"$f":"IF(Expenditure!C372=\"\",\"\",TEXT(Expenditure!C372,\"mmm\"))","v":""},{"$f":"IF(Expenditure!E372=\"\",\"\",Expenditure!E372)","v":""},{"$f":"IF(Expenditure!F372=\"\",\"\",Expenditure!F372)","v":""},{"$f":"IF(Expenditure!G372=\"\",\"\",Expenditure!G372)","v":""},{"$f":"IF(Expenditure!H372=\"\",\"\",Expenditure!H372)","v":""},{"$f":"IF(Expenditure!I372=\"\",\"\",Expenditure!I372)","v":""},"",{"$f":"IF(Expenditure!K372=\"\",\"\",Expenditure!K372)","v":""},{"$f":"IF(Expenditure!L372=\"\",\"\",Expenditure!L372)","v":""},{"$f":"IF(Expenditure!M372=\"\",\"\",Expenditure!M372)","v":""},"-"]
[{"$f":"IF(Expenditure!B373=\"\",\"\",Expenditure!B373)","v":""},{"$f":"IF(Expenditure!C373=\"\",\"\",TEXT(Expenditure!C373,\"mmm\"))","v":""},{"$f":"IF(Expenditure!E373=\"\",\"\",Expenditure!E373)","v":""},{"$f":"IF(Expenditure!F373=\"\",\"\",Expenditure!F373)","v":""},{"$f":"IF(Expenditure!G373=\"\",\"\",Expenditure!G373)","v":""},{"$f":"IF(Expenditure!H373=\"\",\"\",Expenditure!H373)","v":""},{"$f":"IF(Expenditure!I373=\"\",\"\",Expenditure!I373)","v":""},"",{"$f":"IF(Expenditure!K373=\"\",\"\",Expenditure!K373)","v":""},{"$f":"IF(Expenditure!L373=\"\",\"\",Expenditure!L373)","v":""},{"$f":"IF(Expenditure!M373=\"\",\"\",Expenditure!M373)","v":""},"-"]
[{"$f":"IF(Expenditure!B374=\"\",\"\",Expenditure!B374)","v":""},{"$f":"IF(Expenditure!C374=\"\",\"\",TEXT(Expenditure!C374,\"mmm\"))","v":""},{"$f":"IF(Expenditure!E374=\"\",\"\",Expenditure!E374)","v":""},{"$f":"IF(Expenditure!F374=\"\",\"\",Expenditure!F374)","v":""},{"$f":"IF(Expenditure!G374=\"\",\"\",Expenditure!G374)","v":""},{"$f":"IF(Expenditure!H374=\"\",\"\",Expenditure!H374)","v":""},{"$f":"IF(Expenditure!I374=\"\",\"\",Expenditure!I374)","v":""},"",{"$f":"IF(Expenditure!K374=\"\",\"\",Expenditure!K374)","v":""},{"$f":"IF(Expenditure!L374=\"\",\"\",Expenditure!L374)","v":""},{"$f":"IF(Expenditure!M374=\"\",\"\",Expenditure!M374)","v":""},"-"]
[{"$f":"IF(Expenditure!B375=\"\",\"\",Expenditure!B375)","v":""},{"$f":"IF(Expenditure!C375=\"\",\"\",TEXT(Expenditure!C375,\"mmm\"))","v":""},{"$f":"IF(Expenditure!E375=\"\",\"\",Expenditure!E375)","v":""},{"$f":"IF(Expenditure!F375=\"\",\"\",Expenditure!F375)","v":""},{"$f":"IF(Expenditure!G375=\"\",\"\",Expenditure!G375)","v":""},{"$f":"IF(Expenditure!H375=\"\",\"\",Expenditure!H375)","v":""},{"$f":"IF(Expenditure!I375=\"\",\"\",Expenditure!I375)","v":""},"",{"$f":"IF(Expenditure!K375=\"\",\"\",Expenditure!K375)","v":""},{"$f":"IF(Expenditure!L375=\"\",\"\",Expenditure!L375)","v":""},{"$f":"IF(Expenditure!M375=\"\",\"\",Expenditure!M375)","v":""},"-"]
[{"$f":"IF(Expenditure!B376=\"\",\"\",Expenditure!B376)","v":""},{"$f":"IF(Expenditure!C376=\"\",\"\",TEXT(Expenditure!C376,\"mmm\"))","v":""},{"$f":"IF(Expenditure!E376=\"\",\"\",Expenditure!E376)","v":""},{"$f":"IF(Expenditure!F376=\"\",\"\",Expenditure!F376)","v":""},{"$f":"IF(Expenditure!G376=\"\",\"\",Expenditure!G376)","v":""},{"$f":"IF(Expenditure!H376=\"\",\"\",Expenditure!H376)","v":""},{"$f":"IF(Expenditure!I376=\"\",\"\",Expenditure!I376)","v":""},"",{"$f":"IF(Expenditure!K376=\"\",\"\",Expenditure!K376)","v":""},{"$f":"IF(Expenditure!L376=\"\",\"\",Expenditure!L376)","v":""},{"$f":"IF(Expenditure!M376=\"\",\"\",Expenditure!M376)","v":""},"-"]
[{"$f":"IF(Expenditure!B377=\"\",\"\",Expenditure!B377)","v":""},{"$f":"IF(Expenditure!C377=\"\",\"\",TEXT(Expenditure!C377,\"mmm\"))","v":""},{"$f":"IF(Expenditure!E377=\"\",\"\",Expenditure!E377)","v":""},{"$f":"IF(Expenditure!F377=\"\",\"\",Expenditure!F377)","v":""},{"$f":"IF(Expenditure!G377=\"\",\"\",Expenditure!G377)","v":""},{"$f":"IF(Expenditure!H377=\"\",\"\",Expenditure!H377)","v":""},{"$f":"IF(Expenditure!I377=\"\",\"\",Expenditure!I377)","v":""},"",{"$f":"IF(Expenditure!K377=\"\",\"\",Expenditure!K377)","v":""},{"$f":"IF(Expenditure!L377=\"\",\"\",Expenditure!L377)","v":""},{"$f":"IF(Expenditure!M377=\"\",\"\",Expenditure!M377)","v":""},"-"]
[{"$f":"IF(Expenditure!B378=\"\",\"\",Expenditure!B378)","v":""},{"$f":"IF(Expenditure!C378=\"\",\"\",TEXT(Expenditure!C378,\"mmm\"))","v":""},{"$f":"IF(Expenditure!E378=\"\",\"\",Expenditure!E378)","v":""},{"$f":"IF(Expenditure!F378=\"\",\"\",Expenditure!F378)","v":""},{"$f":"IF(Expenditure!G378=\"\",\"\",Expenditure!G378)","v":""},{"$f":"IF(Expenditure!H378=\"\",\"\",Expenditure!H378)","v":""},{"$f":"IF(Expenditure!I378=\"\",\"\",Expenditure!I378)","v":""},"",{"$f":"IF(Expenditure!K378=\"\",\"\",Expenditure!K378)","v":""},{"$f":"IF(Expenditure!L378=\"\",\"\",Expenditure!L378)","v":""},{"$f":"IF(Expenditure!M378=\"\",\"\",Expenditure!M378)","v":""},"-"]
[{"$f":"IF(Expenditure!B379=\"\",\"\",Expenditure!B379)","v":""},{"$f":"IF(Expenditure!C379=\"\",\"\",TEXT(Expenditure!C379,\"mmm\"))","v":""},{"$f":"IF(Expenditure!E379=\"\",\"\",Expenditure!E379)","v":""},{"$f":"IF(Expenditure!F379=\"\",\"\",Expenditure!F379)","v":""},{"$f":"IF(Expenditure!G379=\"\",\"\",Expenditure!G379)","v":""},{"$f":"IF(Expenditure!H379=\"\",\"\",Expenditure!H379)","v":""},{"$f":"IF(Expenditure!I379=\"\",\"\",Expenditure!I379)","v":""},"",{"$f":"IF(Expenditure!K379=\"\",\"\",Expenditure!K379)","v":""},{"$f":"IF(Expenditure!L379=\"\",\"\",Expenditure!L379)","v":""},{"$f":"IF(Expenditure!M379=\"\",\"\",Expenditure!M379)","v":""},"-"]
[{"$f":"IF(Expenditure!B380=\"\",\"\",Expenditure!B380)","v":""},{"$f":"IF(Expenditure!C380=\"\",\"\",TEXT(Expenditure!C380,\"mmm\"))","v":""},{"$f":"IF(Expenditure!E380=\"\",\"\",Expenditure!E380)","v":""},{"$f":"IF(Expenditure!F380=\"\",\"\",Expenditure!F380)","v":""},{"$f":"IF(Expenditure!G380=\"\",\"\",Expenditure!G380)","v":""},{"$f":"IF(Expenditure!H380=\"\",\"\",Expenditure!H380)","v":""},{"$f":"IF(Expenditure!I380=\"\",\"\",Expenditure!I380)","v":""},"",{"$f":"IF(Expenditure!K380=\"\",\"\",Expenditure!K380)","v":""},{"$f":"IF(Expenditure!L380=\"\",\"\",Expenditure!L380)","v":""},{"$f":"IF(Expenditure!M380=\"\",\"\",Expenditure!M380)","v":""},"-"]
[{"$f":"IF(Expenditure!B381=\"\",\"\",Expenditure!B381)","v":""},{"$f":"IF(Expenditure!C381=\"\",\"\",TEXT(Expenditure!C381,\"mmm\"))","v":""},{"$f":"IF(Expenditure!E381=\"\",\"\",Expenditure!E381)","v":""},{"$f":"IF(Expenditure!F381=\"\",\"\",Expenditure!F381)","v":""},{"$f":"IF(Expenditure!G381=\"\",\"\",Expenditure!G381)","v":""},{"$f":"IF(Expenditure!H381=\"\",\"\",Expenditure!H381)","v":""},{"$f":"IF(Expenditure!I381=\"\",\"\",Expenditure!I381)","v":""},"",{"$f":"IF(Expenditure!K381=\"\",\"\",Expenditure!K381)","v":""},{"$f":"IF(Expenditure!L381=\"\",\"\",Expenditure!L381)","v":""},{"$f":"IF(Expenditure!M381=\"\",\"\",Expenditure!M381)","v":""},"-"]
[{"$f":"IF(Expenditure!B382=\"\",\"\",Expenditure!B382)","v":""},{"$f":"IF(Expenditure!C382=\"\",\"\",TEXT(Expenditure!C382,\"mmm\"))","v":""},{"$f":"IF(Expenditure!E382=\"\",\"\",Expenditure!E382)","v":""},{"$f":"IF(Expenditure!F382=\"\",\"\",Expenditure!F382)","v":""},{"$f":"IF(Expenditure!G382=\"\",\"\",Expenditure!G382)","v":""},{"$f":"IF(Expenditure!H382=\"\",\"\",Expenditure!H382)","v":""},{"$f":"IF(Expenditure!I382=\"\",\"\",Expenditure!I382)","v":""},"",{"$f":"IF(Expenditure!K382=\"\",\"\",Expenditure!K382)","v":""},{"$f":"IF(Expenditure!L382=\"\",\"\",Expenditure!L382)","v":""},{"$f":"IF(Expenditure!M382=\"\",\"\",Expenditure!M382)","v":""},"-"]
[{"$f":"IF(Expenditure!B383=\"\",\"\",Expenditure!B383)","v":""},{"$f":"IF(Expenditure!C383=\"\",\"\",TEXT(Expenditure!C383,\"mmm\"))","v":""},{"$f":"IF(Expenditure!E383=\"\",\"\",Expenditure!E383)","v":""},{"$f":"IF(Expenditure!F383=\"\",\"\",Expenditure!F383)","v":""},{"$f":"IF(Expenditure!G383=\"\",\"\",Expenditure!G383)","v":""},{"$f":"IF(Expenditure!H383=\"\",\"\",Expenditure!H383)","v":""},{"$f":"IF(Expenditure!I383=\"\",\"\",Expenditure!I383)","v":""},"",{"$f":"IF(Expenditure!K383=\"\",\"\",Expenditure!K383)","v":""},{"$f":"IF(Expenditure!L383=\"\",\"\",Expenditure!L383)","v":""},{"$f":"IF(Expenditure!M383=\"\",\"\",Expenditure!M383)","v":""},"-"]
[{"$f":"IF(Expenditure!B384=\"\",\"\",Expenditure!B384)","v":""},{"$f":"IF(Expenditure!C384=\"\",\"\",TEXT(Expenditure!C384,\"mmm\"))","v":""},{"$f":"IF(Expenditure!E384=\"\",\"\",Expenditure!E384)","v":""},{"$f":"IF(Expenditure!F384=\"\",\"\",Expenditure!F384)","v":""},{"$f":"IF(Expenditure!G384=\"\",\"\",Expenditure!G384)","v":""},{"$f":"IF(Expenditure!H384=\"\",\"\",Expenditure!H384)","v":""},{"$f":"IF(Expenditure!I384=\"\",\"\",Expenditure!I384)","v":""},"",{"$f":"IF(Expenditure!K384=\"\",\"\",Expenditure!K384)","v":""},{"$f":"IF(Expenditure!L384=\"\",\"\",Expenditure!L384)","v":""},{"$f":"IF(Expenditure!M384=\"\",\"\",Expenditure!M384)","v":""},"-"]
[{"$f":"IF(Expenditure!B385=\"\",\"\",Expenditure!B385)","v":""},{"$f":"IF(Expenditure!C385=\"\",\"\",TEXT(Expenditure!C385,\"mmm\"))","v":""},{"$f":"IF(Expenditure!E385=\"\",\"\",Expenditure!E385)","v":""},{"$f":"IF(Expenditure!F385=\"\",\"\",Expenditure!F385)","v":""},{"$f":"IF(Expenditure!G385=\"\",\"\",Expenditure!G385)","v":""},{"$f":"IF(Expenditure!H385=\"\",\"\",Expenditure!H385)","v":""},{"$f":"IF(Expenditure!I385=\"\",\"\",Expenditure!I385)","v":""},"",{"$f":"IF(Expenditure!K385=\"\",\"\",Expenditure!K385)","v":""},{"$f":"IF(Expenditure!L385=\"\",\"\",Expenditure!L385)","v":""},{"$f":"IF(Expenditure!M385=\"\",\"\",Expenditure!M385)","v":""},"-"]
[{"$f":"IF(Expenditure!B386=\"\",\"\",Expenditure!B386)","v":""},{"$f":"IF(Expenditure!C386=\"\",\"\",TEXT(Expenditure!C386,\"mmm\"))","v":""},{"$f":"IF(Expenditure!E386=\"\",\"\",Expenditure!E386)","v":""},{"$f":"IF(Expenditure!F386=\"\",\"\",Expenditure!F386)","v":""},{"$f":"IF(Expenditure!G386=\"\",\"\",Expenditure!G386)","v":""},{"$f":"IF(Expenditure!H386=\"\",\"\",Expenditure!H386)","v":""},{"$f":"IF(Expenditure!I386=\"\",\"\",Expenditure!I386)","v":""},"",{"$f":"IF(Expenditure!K386=\"\",\"\",Expenditure!K386)","v":""},{"$f":"IF(Expenditure!L386=\"\",\"\",Expenditure!L386)","v":""},{"$f":"IF(Expenditure!M386=\"\",\"\",Expenditure!M386)","v":""},"-"]
[{"$f":"IF(Expenditure!B387=\"\",\"\",Expenditure!B387)","v":""},{"$f":"IF(Expenditure!C387=\"\",\"\",TEXT(Expenditure!C387,\"mmm\"))","v":""},{"$f":"IF(Expenditure!E387=\"\",\"\",Expenditure!E387)","v":""},{"$f":"IF(Expenditure!F387=\"\",\"\",Expenditure!F387)","v":""},{"$f":"IF(Expenditure!G387=\"\",\"\",Expenditure!G387)","v":""},{"$f":"IF(Expenditure!H387=\"\",\"\",Expenditure!H387)","v":""},{"$f":"IF(Expenditure!I387=\"\",\"\",Expenditure!I387)","v":""},"",{"$f":"IF(Expenditure!K387=\"\",\"\",Expenditure!K387)","v":""},{"$f":"IF(Expenditure!L387=\"\",\"\",Expenditure!L387)","v":""},{"$f":"IF(Expenditure!M387=\"\",\"\",Expenditure!M387)","v":""},"-"]
[{"$f":"IF(Expenditure!B388=\"\",\"\",Expenditure!B388)","v":""},{"$f":"IF(Expenditure!C388=\"\",\"\",TEXT(Expenditure!C388,\"mmm\"))","v":""},{"$f":"IF(Expenditure!E388=\"\",\"\",Expenditure!E388)","v":""},{"$f":"IF(Expenditure!F388=\"\",\"\",Expenditure!F388)","v":""},{"$f":"IF(Expenditure!G388=\"\",\"\",Expenditure!G388)","v":""},{"$f":"IF(Expenditure!H388=\"\",\"\",Expenditure!H388)","v":""},{"$f":"IF(Expenditure!I388=\"\",\"\",Expenditure!I388)","v":""},{"$f":"IFERROR(F396*G396,\"\")","v":""},{"$f":"IF(Expenditure!K388=\"\",\"\",Expenditure!K388)","v":""},{"$f":"IF(Expenditure!L388=\"\",\"\",Expenditure!L388)","v":""},{"$f":"IF(Expenditure!M388=\"\",\"\",Expenditure!M388)","v":""},"-"]
[{"$f":"IF(Expenditure!B389=\"\",\"\",Expenditure!B389)","v":""},{"$f":"IF(Expenditure!C389=\"\",\"\",TEXT(Expenditure!C389,\"mmm\"))","v":""},{"$f":"IF(Expenditure!E389=\"\",\"\",Expenditure!E389)","v":""},{"$f":"IF(Expenditure!F389=\"\",\"\",Expenditure!F389)","v":""},{"$f":"IF(Expenditure!G389=\"\",\"\",Expenditure!G389)","v":""},{"$f":"IF(Expenditure!H389=\"\",\"\",Expenditure!H389)","v":""},{"$f":"IF(Expenditure!I389=\"\",\"\",Expenditure!I389)","v":""},"",{"$f":"IF(Expenditure!K389=\"\",\"\",Expenditure!K389)","v":""},{"$f":"IF(Expenditure!L389=\"\",\"\",Expenditure!L389)","v":""},{"$f":"IF(Expenditure!M389=\"\",\"\",Expenditure!M389)","v":""},"-"]
[{"$f":"IF(Expenditure!B390=\"\",\"\",Expenditure!B390)","v":""},{"$f":"IF(Expenditure!C390=\"\",\"\",TEXT(Expenditure!C390,\"mmm\"))","v":""},{"$f":"IF(Expenditure!E390=\"\",\"\",Expenditure!E390)","v":""},{"$f":"IF(Expenditure!F390=\"\",\"\",Expenditure!F390)","v":""},{"$f":"IF(Expenditure!G390=\"\",\"\",Expenditure!G390)","v":""},{"$f":"IF(Expenditure!H390=\"\",\"\",Expenditure!H390)","v":""},{"$f":"IF(Expenditure!I390=\"\",\"\",Expenditure!I390)","v":""},"",{"$f":"IF(Expenditure!K390=\"\",\"\",Expenditure!K390)","v":""},{"$f":"IF(Expenditure!L390=\"\",\"\",Expenditure!L390)","v":""},{"$f":"IF(Expenditure!M390=\"\",\"\",Expenditure!M390)","v":""},"-"]
[{"$f":"IF(Expenditure!B391=\"\",\"\",Expenditure!B391)","v":""},{"$f":"IF(Expenditure!C391=\"\",\"\",TEXT(Expenditure!C391,\"mmm\"))","v":""},{"$f":"IF(Expenditure!E391=\"\",\"\",Expenditure!E391)","v":""},{"$f":"IF(Expenditure!F391=\"\",\"\",Expenditure!F391)","v":""},{"$f":"IF(Expenditure!G391=\"\",\"\",Expenditure!G391)","v":""},{"$f":"IF(Expenditure!H391=\"\",\"\",Expenditure!H391)","v":""},{"$f":"IF(Expenditure!I391=\"\",\"\",Expenditure!I391)","v":""},"",{"$f":"IF(Expenditure!K391=\"\",\"\",Expenditure!K391)","v":""},{"$f":"IF(Expenditure!L391=\"\",\"\",Expenditure!L391)","v":""},{"$f":"IF(Expenditure!M391=\"\",\"\",Expenditure!M391)","v":""},"-"]
[{"$f":"IF(Expenditure!B392=\"\",\"\",Expenditure!B392)","v":""},{"$f":"IF(Expenditure!C392=\"\",\"\",TEXT(Expenditure!C392,\"mmm\"))","v":""},{"$f":"IF(Expenditure!E392=\"\",\"\",Expenditure!E392)","v":""},{"$f":"IF(Expenditure!F392=\"\",\"\",Expenditure!F392)","v":""},{"$f":"IF(Expenditure!G392=\"\",\"\",Expenditure!G392)","v":""},{"$f":"IF(Expenditure!H392=\"\",\"\",Expenditure!H392)","v":""},{"$f":"IF(Expenditure!I392=\"\",\"\",Expenditure!I392)","v":""},"",{"$f":"IF(Expenditure!K392=\"\",\"\",Expenditure!K392)","v":""},{"$f":"IF(Expenditure!L392=\"\",\"\",Expenditure!L392)","v":""},{"$f":"IF(Expenditure!M392=\"\",\"\",Expenditure!M392)","v":""},"-"]
[{"$f":"IF(Expenditure!B393=\"\",\"\",Expenditure!B393)","v":""},{"$f":"IF(Expenditure!C393=\"\",\"\",TEXT(Expenditure!C393,\"mmm\"))","v":""},{"$f":"IF(Expenditure!E393=\"\",\"\",Expenditure!E393)","v":""},{"$f":"IF(Expenditure!F393=\"\",\"\",Expenditure!F393)","v":""},{"$f":"IF(Expenditure!G393=\"\",\"\",Expenditure!G393)","v":""},{"$f":"IF(Expenditure!H393=\"\",\"\",Expenditure!H393)","v":""},{"$f":"IF(Expenditure!I393=\"\",\"\",Expenditure!I393)","v":""},"",{"$f":"IF(Expenditure!K393=\"\",\"\",Expenditure!K393)","v":""},{"$f":"IF(Expenditure!L393=\"\",\"\",Expenditure!L393)","v":""},{"$f":"IF(Expenditure!M393=\"\",\"\",Expenditure!M393)","v":""},"-"]
[{"$f":"IF(Expenditure!B394=\"\",\"\",Expenditure!B394)","v":""},{"$f":"IF(Expenditure!C394=\"\",\"\",TEXT(Expenditure!C394,\"mmm\"))","v":""},{"$f":"IF(Expenditure!E394=\"\",\"\",Expenditure!E394)","v":""},{"$f":"IF(Expenditure!F394=\"\",\"\",Expenditure!F394)","v":""},{"$f":"IF(Expenditure!G394=\"\",\"\",Expenditure!G394)","v":""},{"$f":"IF(Expenditure!H394=\"\",\"\",Expenditure!H394)","v":""},{"$f":"IF(Expenditure!I394=\"\",\"\",Expenditure!I394)","v":""},"",{"$f":"IF(Expenditure!K394=\"\",\"\",Expenditure!K394)","v":""},{"$f":"IF(Expenditure!L394=\"\",\"\",Expenditure!L394)","v":""},{"$f":"IF(Expenditure!M394=\"\",\"\",Expenditure!M394)","v":""},"-"]
[{"$f":"IF(Expenditure!B395=\"\",\"\",Expenditure!B395)","v":""},{"$f":"IF(Expenditure!C395=\"\",\"\",TEXT(Expenditure!C395,\"mmm\"))","v":""},{"$f":"IF(Expenditure!E395=\"\",\"\",Expenditure!E395)","v":""},{"$f":"IF(Expenditure!F395=\"\",\"\",Expenditure!F395)","v":""},{"$f":"IF(Expenditure!G395=\"\",\"\",Expenditure!G395)","v":""},{"$f":"IF(Expenditure!H395=\"\",\"\",Expenditure!H395)","v":""},{"$f":"IF(Expenditure!I395=\"\",\"\",Expenditure!I395)","v":""},"",{"$f":"IF(Expenditure!K395=\"\",\"\",Expenditure!K395)","v":""},{"$f":"IF(Expenditure!L395=\"\",\"\",Expenditure!L395)","v":""},{"$f":"IF(Expenditure!M395=\"\",\"\",Expenditure!M395)","v":""},"-"]
[{"$f":"IF(Expenditure!B396=\"\",\"\",Expenditure!B396)","v":""},{"$f":"IF(Expenditure!C396=\"\",\"\",TEXT(Expenditure!C396,\"mmm\"))","v":""},{"$f":"IF(Expenditure!E396=\"\",\"\",Expenditure!E396)","v":""},{"$f":"IF(Expenditure!F396=\"\",\"\",Expenditure!F396)","v":""},{"$f":"IF(Expenditure!G396=\"\",\"\",Expenditure!G396)","v":""},{"$f":"IF(Expenditure!H396=\"\",\"\",Expenditure!H396)","v":""},{"$f":"IF(Expenditure!I396=\"\",\"\",Expenditure!I396)","v":""},"",{"$f":"IF(Expenditure!K396=\"\",\"\",Expenditure!K396)","v":""},{"$f":"IF(Expenditure!L396=\"\",\"\",Expenditure!L396)","v":""},{"$f":"IF(Expenditure!M396=\"\",\"\",Expenditure!M396)","v":""},"-"]
[{"$f":"IF(Expenditure!B397=\"\",\"\",Expenditure!B397)","v":""},{"$f":"IF(Expenditure!C397=\"\",\"\",TEXT(Expenditure!C397,\"mmm\"))","v":""},{"$f":"IF(Expenditure!E397=\"\",\"\",Expenditure!E397)","v":""},{"$f":"IF(Expenditure!F397=\"\",\"\",Expenditure!F397)","v":""},{"$f":"IF(Expenditure!G397=\"\",\"\",Expenditure!G397)","v":""},{"$f":"IF(Expenditure!H397=\"\",\"\",Expenditure!H397)","v":""},{"$f":"IF(Expenditure!I397=\"\",\"\",Expenditure!I397)","v":""},"",{"$f":"IF(Expenditure!K397=\"\",\"\",Expenditure!K397)","v":""},{"$f":"IF(Expenditure!L397=\"\",\"\",Expenditure!L397)","v":""},{"$f":"IF(Expenditure!M397=\"\",\"\",Expenditure!M397)","v":""},"-"]
[{"$f":"IF(Expenditure!B398=\"\",\"\",Expenditure!B398)","v":""},{"$f":"IF(Expenditure!C398=\"\",\"\",TEXT(Expenditure!C398,\"mmm\"))","v":""},{"$f":"IF(Expenditure!E398=\"\",\"\",Expenditure!E398)","v":""},{"$f":"IF(Expenditure!F398=\"\",\"\",Expenditure!F398)","v":""},{"$f":"IF(Expenditure!G398=\"\",\"\",Expenditure!G398)","v":""},{"$f":"IF(Expenditure!H398=\"\",\"\",Expenditure!H398)","v":""},{"$f":"IF(Expenditure!I398=\"\",\"\",Expenditure!I398)","v":""},"",{"$f":"IF(Expenditure!K398=\"\",\"\",Expenditure!K398)","v":""},{"$f":"IF(Expenditure!L398=\"\",\"\",Expenditure!L398)","v":""},{"$f":"IF(Expenditure!M398=\"\",\"\",Expenditure!M398)","v":""},"-"]
[{"$f":"IF(Expenditure!B399=\"\",\"\",Expenditure!B399)","v":""},{"$f":"IF(Expenditure!C399=\"\",\"\",TEXT(Expenditure!C399,\"mmm\"))","v":""},{"$f":"IF(Expenditure!E399=\"\",\"\",Expenditure!E399)","v":""},{"$f":"IF(Expenditure!F399=\"\",\"\",Expenditure!F399)","v":""},{"$f":"IF(Expenditure!G399=\"\",\"\",Expenditure!G399)","v":""},{"$f":"IF(Expenditure!H399=\"\",\"\",Expenditure!H399)","v":""},{"$f":"IF(Expenditure!I399=\"\",\"\",Expenditure!I399)","v":""},"",{"$f":"IF(Expenditure!K399=\"\",\"\",Expenditure!K399)","v":""},{"$f":"IF(Expenditure!L399=\"\",\"\",Expenditure!L399)","v":""},{"$f":"IF(Expenditure!M399=\"\",\"\",Expenditure!M399)","v":""},"-"]
[{"$f":"IF(Expenditure!B400=\"\",\"\",Expenditure!B400)","v":""},{"$f":"IF(Expenditure!C400=\"\",\"\",TEXT(Expenditure!C400,\"mmm\"))","v":""},{"$f":"IF(Expenditure!E400=\"\",\"\",Expenditure!E400)","v":""},{"$f":"IF(Expenditure!F400=\"\",\"\",Expenditure!F400)","v":""},{"$f":"IF(Expenditure!G400=\"\",\"\",Expenditure!G400)","v":""},{"$f":"IF(Expenditure!H400=\"\",\"\",Expenditure!H400)","v":""},{"$f":"IF(Expenditure!I400=\"\",\"\",Expenditure!I400)","v":""},"",{"$f":"IF(Expenditure!K400=\"\",\"\",Expenditure!K400)","v":""},{"$f":"IF(Expenditure!L400=\"\",\"\",Expenditure!L400)","v":""},{"$f":"IF(Expenditure!M400=\"\",\"\",Expenditure!M400)","v":""},"-"]
[{"$f":"IF(Expenditure!B401=\"\",\"\",Expenditure!B401)","v":""},{"$f":"IF(Expenditure!C401=\"\",\"\",TEXT(Expenditure!C401,\"mmm\"))","v":""},{"$f":"IF(Expenditure!E401=\"\",\"\",Expenditure!E401)","v":""},{"$f":"IF(Expenditure!F401=\"\",\"\",Expenditure!F401)","v":""},{"$f":"IF(Expenditure!G401=\"\",\"\",Expenditure!G401)","v":""},{"$f":"IF(Expenditure!H401=\"\",\"\",Expenditure!H401)","v":""},{"$f":"IF(Expenditure!I401=\"\",\"\",Expenditure!I401)","v":""},"",{"$f":"IF(Expenditure!K401=\"\",\"\",Expenditure!K401)","v":""},{"$f":"IF(Expenditure!L401=\"\",\"\",Expenditure!L401)","v":""},{"$f":"IF(Expenditure!M401=\"\",\"\",Expenditure!M401)","v":""},"-"]
[{"$f":"IF(Expenditure!B402=\"\",\"\",Expenditure!B402)","v":""},{"$f":"IF(Expenditure!C402=\"\",\"\",TEXT(Expenditure!C402,\"mmm\"))","v":""},{"$f":"IF(Expenditure!E402=\"\",\"\",Expenditure!E402)","v":""},{"$f":"IF(Expenditure!F402=\"\",\"\",Expenditure!F402)","v":""},{"$f":"IF(Expenditure!G402=\"\",\"\",Expenditure!G402)","v":""},{"$f":"IF(Expenditure!H402=\"\",\"\",Expenditure!H402)","v":""},{"$f":"IF(Expenditure!I402=\"\",\"\",Expenditure!I402)","v":""},"",{"$f":"IF(Expenditure!K402=\"\",\"\",Expenditure!K402)","v":""},{"$f":"IF(Expenditure!L402=\"\",\"\",Expenditure!L402)","v":""},{"$f":"IF(Expenditure!M402=\"\",\"\",Expenditure!M402)","v":""},"-"]
[{"$f":"IF(Expenditure!B403=\"\",\"\",Expenditure!B403)","v":""},{"$f":"IF(Expenditure!C403=\"\",\"\",TEXT(Expenditure!C403,\"mmm\"))","v":""},{"$f":"IF(Expenditure!E403=\"\",\"\",Expenditure!E403)","v":""},{"$f":"IF(Expenditure!F403=\"\",\"\",Expenditure!F403)","v":""},{"$f":"IF(Expenditure!G403=\"\",\"\",Expenditure!G403)","v":""},{"$f":"IF(Expenditure!H403=\"\",\"\",Expenditure!H403)","v":""},{"$f":"IF(Expenditure!I403=\"\",\"\",Expenditure!I403)","v":""},"",{"$f":"IF(Expenditure!K403=\"\",\"\",Expenditure!K403)","v":""},{"$f":"IF(Expenditure!L403=\"\",\"\",Expenditure!L403)","v":""},{"$f":"IF(Expenditure!M403=\"\",\"\",Expenditure!M403)","v":""},"-"]
[{"$f":"IF(Expenditure!B404=\"\",\"\",Expenditure!B404)","v":""},{"$f":"IF(Expenditure!C404=\"\",\"\",TEXT(Expenditure!C404,\"mmm\"))","v":""},{"$f":"IF(Expenditure!E404=\"\",\"\",Expenditure!E404)","v":""},{"$f":"IF(Expenditure!F404=\"\",\"\",Expenditure!F404)","v":""},{"$f":"IF(Expenditure!G404=\"\",\"\",Expenditure!G404)","v":""},{"$f":"IF(Expenditure!H404=\"\",\"\",Expenditure!H404)","v":""},{"$f":"IF(Expenditure!I404=\"\",\"\",Expenditure!I404)","v":""},"",{"$f":"IF(Expenditure!K404=\"\",\"\",Expenditure!K404)","v":""},{"$f":"IF(Expenditure!L404=\"\",\"\",Expenditure!L404)","v":""},{"$f":"IF(Expenditure!M404=\"\",\"\",Expenditure!M404)","v":""},"-"]
[{"$f":"IF(Expenditure!B405=\"\",\"\",Expenditure!B405)","v":""},{"$f":"IF(Expenditure!C405=\"\",\"\",TEXT(Expenditure!C405,\"mmm\"))","v":""},{"$f":"IF(Expenditure!E405=\"\",\"\",Expenditure!E405)","v":""},{"$f":"IF(Expenditure!F405=\"\",\"\",Expenditure!F405)","v":""},{"$f":"IF(Expenditure!G405=\"\",\"\",Expenditure!G405)","v":""},{"$f":"IF(Expenditure!H405=\"\",\"\",Expenditure!H405)","v":""},{"$f":"IF(Expenditure!I405=\"\",\"\",Expenditure!I405)","v":""},"",{"$f":"IF(Expenditure!K405=\"\",\"\",Expenditure!K405)","v":""},{"$f":"IF(Expenditure!L405=\"\",\"\",Expenditure!L405)","v":""},{"$f":"IF(Expenditure!M405=\"\",\"\",Expenditure!M405)","v":""},"-"]
[{"$f":"IF(Expenditure!B406=\"\",\"\",Expenditure!B406)","v":""},{"$f":"IF(Expenditure!C406=\"\",\"\",TEXT(Expenditure!C406,\"mmm\"))","v":""},{"$f":"IF(Expenditure!E406=\"\",\"\",Expenditure!E406)","v":""},{"$f":"IF(Expenditure!F406=\"\",\"\",Expenditure!F406)","v":""},{"$f":"IF(Expenditure!G406=\"\",\"\",Expenditure!G406)","v":""},{"$f":"IF(Expenditure!H406=\"\",\"\",Expenditure!H406)","v":""},{"$f":"IF(Expenditure!I406=\"\",\"\",Expenditure!I406)","v":""},"",{"$f":"IF(Expenditure!K406=\"\",\"\",Expenditure!K406)","v":""},{"$f":"IF(Expenditure!L406=\"\",\"\",Expenditure!L406)","v":""},{"$f":"IF(Expenditure!M406=\"\",\"\",Expenditure!M406)","v":""},"-"]
[{"$f":"IF(Expenditure!B407=\"\",\"\",Expenditure!B407)","v":""},{"$f":"IF(Expenditure!C407=\"\",\"\",TEXT(Expenditure!C407,\"mmm\"))","v":""},{"$f":"IF(Expenditure!E407=\"\",\"\",Expenditure!E407)","v":""},{"$f":"IF(Expenditure!F407=\"\",\"\",Expenditure!F407)","v":""},{"$f":"IF(Expenditure!G407=\"\",\"\",Expenditure!G407)","v":""},{"$f":"IF(Expenditure!H407=\"\",\"\",Expenditure!H407)","v":""},{"$f":"IF(Expenditure!I407=\"\",\"\",Expenditure!I407)","v":""},"",{"$f":"IF(Expenditure!K407=\"\",\"\",Expenditure!K407)","v":""},{"$f":"IF(Expenditure!L407=\"\",\"\",Expenditure!L407)","v":""},{"$f":"IF(Expenditure!M407=\"\",\"\",Expenditure!M407)","v":""},"-"]
[{"$f":"IF(Expenditure!B408=\"\",\"\",Expenditure!B408)","v":""},{"$f":"IF(Expenditure!C408=\"\",\"\",TEXT(Expenditure!C408,\"mmm\"))","v":""},{"$f":"IF(Expenditure!E408=\"\",\"\",Expenditure!E408)","v":""},{"$f":"IF(Expenditure!F408=\"\",\"\",Expenditure!F408)","v":""},{"$f":"IF(Expenditure!G408=\"\",\"\",Expenditure!G408)","v":""},{"$f":"IF(Expenditure!H408=\"\",\"\",Expenditure!H408)","v":""},{"$f":"IF(Expenditure!I408=\"\",\"\",Expenditure!I408)","v":""},"",{"$f":"IF(Expenditure!K408=\"\",\"\",Expenditure!K408)","v":""},{"$f":"IF(Expenditure!L408=\"\",\"\",Expenditure!L408)","v":""},{"$f":"IF(Expenditure!M408=\"\",\"\",Expenditure!M408)","v":""},"-"]
[{"$f":"IF(Expenditure!B409=\"\",\"\",Expenditure!B409)","v":""},{"$f":"IF(Expenditure!C409=\"\",\"\",TEXT(Expenditure!C409,\"mmm\"))","v":""},{"$f":"IF(Expenditure!E409=\"\",\"\",Expenditure!E409)","v":""},{"$f":"IF(Expenditure!F409=\"\",\"\",Expenditure!F409)","v":""},{"$f":"IF(Expenditure!G409=\"\",\"\",Expenditure!G409)","v":""},{"$f":"IF(Expenditure!H409=\"\",\"\",Expenditure!H409)","v":""},{"$f":"IF(Expenditure!I409=\"\",\"\",Expenditure!I409)","v":""},"",{"$f":"IF(Expenditure!K409=\"\",\"\",Expenditure!K409)","v":""},{"$f":"IF(Expenditure!L409=\"\",\"\",Expenditure!L409)","v":""},{"$f":"IF(Expenditure!M409=\"\",\"\",Expenditure!M409)","v":""},"-"]
[{"$f":"IF(Expenditure!B410=\"\",\"\",Expenditure!B410)","v":""},{"$f":"IF(Expenditure!C410=\"\",\"\",TEXT(Expenditure!C410,\"mmm\"))","v":""},{"$f":"IF(Expenditure!E410=\"\",\"\",Expenditure!E410)","v":""},{"$f":"IF(Expenditure!F410=\"\",\"\",Expenditure!F410)","v":""},{"$f":"IF(Expenditure!G410=\"\",\"\",Expenditure!G410)","v":""},{"$f":"IF(Expenditure!H410=\"\",\"\",Expenditure!H410)","v":""},{"$f":"IF(Expenditure!I410=\"\",\"\",Expenditure!I410)","v":""},"",{"$f":"IF(Expenditure!K410=\"\",\"\",Expenditure!K410)","v":""},{"$f":"IF(Expenditure!L410=\"\",\"\",Expenditure!L410)","v":""},{"$f":"IF(Expenditure!M410=\"\",\"\",Expenditure!M410)","v":""},"-"]
[{"$f":"IF(Expenditure!B411=\"\",\"\",Expenditure!B411)","v":""},{"$f":"IF(Expenditure!C411=\"\",\"\",TEXT(Expenditure!C411,\"mmm\"))","v":""},{"$f":"IF(Expenditure!E411=\"\",\"\",Expenditure!E411)","v":""},{"$f":"IF(Expenditure!F411=\"\",\"\",Expenditure!F411)","v":""},{"$f":"IF(Expenditure!G411=\"\",\"\",Expenditure!G411)","v":""},{"$f":"IF(Expenditure!H411=\"\",\"\",Expenditure!H411)","v":""},{"$f":"IF(Expenditure!I411=\"\",\"\",Expenditure!I411)","v":""},"",{"$f":"IF(Expenditure!K411=\"\",\"\",Expenditure!K411)","v":""},{"$f":"IF(Expenditure!L411=\"\",\"\",Expenditure!L411)","v":""},{"$f":"IF(Expenditure!M411=\"\",\"\",Expenditure!M411)","v":""},"-"]
[{"$f":"IF(Expenditure!B412=\"\",\"\",Expenditure!B412)","v":""},{"$f":"IF(Expenditure!C412=\"\",\"\",TEXT(Expenditure!C412,\"mmm\"))","v":""},{"$f":"IF(Expenditure!E412=\"\",\"\",Expenditure!E412)","v":""},{"$f":"IF(Expenditure!F412=\"\",\"\",Expenditure!F412)","v":""},{"$f":"IF(Expenditure!G412=\"\",\"\",Expenditure!G412)","v":""},{"$f":"IF(Expenditure!H412=\"\",\"\",Expenditure!H412)","v":""},{"$f":"IF(Expenditure!I412=\"\",\"\",Expenditure!I412)","v":""},"",{"$f":"IF(Expenditure!K412=\"\",\"\",Expenditure!K412)","v":""},{"$f":"IF(Expenditure!L412=\"\",\"\",Expenditure!L412)","v":""},{"$f":"IF(Expenditure!M412=\"\",\"\",Expenditure!M412)","v":""},"-"]
[{"$f":"IF(Expenditure!B413=\"\",\"\",Expenditure!B413)","v":""},{"$f":"IF(Expenditure!C413=\"\",\"\",TEXT(Expenditure!C413,\"mmm\"))","v":""},{"$f":"IF(Expenditure!E413=\"\",\"\",Expenditure!E413)","v":""},{"$f":"IF(Expenditure!F413=\"\",\"\",Expenditure!F413)","v":""},{"$f":"IF(Expenditure!G413=\"\",\"\",Expenditure!G413)","v":""},{"$f":"IF(Expenditure!H413=\"\",\"\",Expenditure!H413)","v":""},{"$f":"IF(Expenditure!I413=\"\",\"\",Expenditure!I413)","v":""},"",{"$f":"IF(Expenditure!K413=\"\",\"\",Expenditure!K413)","v":""},{"$f":"IF(Expenditure!L413=\"\",\"\",Expenditure!L413)","v":""},{"$f":"IF(Expenditure!M413=\"\",\"\",Expenditure!M413)","v":""},"-"]
[{"$f":"IF(Expenditure!B414=\"\",\"\",Expenditure!B414)","v":""},{"$f":"IF(Expenditure!C414=\"\",\"\",TEXT(Expenditure!C414,\"mmm\"))","v":""},{"$f":"IF(Expenditure!E414=\"\",\"\",Expenditure!E414)","v":""},{"$f":"IF(Expenditure!F414=\"\",\"\",Expenditure!F414)","v":""},{"$f":"IF(Expenditure!G414=\"\",\"\",Expenditure!G414)","v":""},{"$f":"IF(Expenditure!H414=\"\",\"\",Expenditure!H414)","v":""},{"$f":"IF(Expenditure!I414=\"\",\"\",Expenditure!I414)","v":""},"",{"$f":"IF(Expenditure!K414=\"\",\"\",Expenditure!K414)","v":""},{"$f":"IF(Expenditure!L414=\"\",\"\",Expenditure!L414)","v":""},{"$f":"IF(Expenditure!M414=\"\",\"\",Expenditure!M414)","v":""},"-"]
[{"$f":"IF(Expenditure!B415=\"\",\"\",Expenditure!B415)","v":""},{"$f":"IF(Expenditure!C415=\"\",\"\",TEXT(Expenditure!C415,\"mmm\"))","v":""},{"$f":"IF(Expenditure!E415=\"\",\"\",Expenditure!E415)","v":""},{"$f":"IF(Expenditure!F415=\"\",\"\",Expenditure!F415)","v":""},{"$f":"IF(Expenditure!G415=\"\",\"\",Expenditure!G415)","v":""},{"$f":"IF(Expenditure!H415=\"\",\"\",Expenditure!H415)","v":""},{"$f":"IF(Expenditure!I415=\"\",\"\",Expenditure!I415)","v":""},"",{"$f":"IF(Expenditure!K415=\"\",\"\",Expenditure!K415)","v":""},{"$f":"IF(Expenditure!L415=\"\",\"\",Expenditure!L415)","v":""},{"$f":"IF(Expenditure!M415=\"\",\"\",Expenditure!M415)","v":""},"-"]
[{"$f":"IF(Expenditure!B416=\"\",\"\",Expenditure!B416)","v":""},{"$f":"IF(Expenditure!C416=\"\",\"\",TEXT(Expenditure!C416,\"mmm\"))","v":""},{"$f":"IF(Expenditure!E416=\"\",\"\",Expenditure!E416)","v":""},{"$f":"IF(Expenditure!F416=\"\",\"\",Expenditure!F416)","v":""},{"$f":"IF(Expenditure!G416=\"\",\"\",Expenditure!G416)","v":""},{"$f":"IF(Expenditure!H416=\"\",\"\",Expenditure!H416)","v":""},{"$f":"IF(Expenditure!I416=\"\",\"\",Expenditure!I416)","v":""},"",{"$f":"IF(Expenditure!K416=\"\",\"\",Expenditure!K416)","v":""},{"$f":"IF(Expenditure!L416=\"\",\"\",Expenditure!L416)","v":""},{"$f":"IF(Expenditure!M416=\"\",\"\",Expenditure!M416)","v":""},"-"]
[{"$f":"IF(Expenditure!B417=\"\",\"\",Expenditure!B417)","v":""},{"$f":"IF(Expenditure!C417=\"\",\"\",TEXT(Expenditure!C417,\"mmm\"))","v":""},{"$f":"IF(Expenditure!E417=\"\",\"\",Expenditure!E417)","v":""},{"$f":"IF(Expenditure!F417=\"\",\"\",Expenditure!F417)","v":""},{"$f":"IF(Expenditure!G417=\"\",\"\",Expenditure!G417)","v":""},{"$f":"IF(Expenditure!H417=\"\",\"\",Expenditure!H417)","v":""},{"$f":"IF(Expenditure!I417=\"\",\"\",Expenditure!I417)","v":""},"",{"$f":"IF(Expenditure!K417=\"\",\"\",Expenditure!K417)","v":""},{"$f":"IF(Expenditure!L417=\"\",\"\",Expenditure!L417)","v":""},{"$f":"IF(Expenditure!M417=\"\",\"\",Expenditure!M417)","v":""},"-"]
[{"$f":"IF(Expenditure!B418=\"\",\"\",Expenditure!B418)","v":""},{"$f":"IF(Expenditure!C418=\"\",\"\",TEXT(Expenditure!C418,\"mmm\"))","v":""},{"$f":"IF(Expenditure!E418=\"\",\"\",Expenditure!E418)","v":""},{"$f":"IF(Expenditure!F418=\"\",\"\",Expenditure!F418)","v":""},{"$f":"IF(Expenditure!G418=\"\",\"\",Expenditure!G418)","v":""},{"$f":"IF(Expenditure!H418=\"\",\"\",Expenditure!H418)","v":""},{"$f":"IF(Expenditure!I418=\"\",\"\",Expenditure!I418)","v":""},"",{"$f":"IF(Expenditure!K418=\"\",\"\",Expenditure!K418)","v":""},{"$f":"IF(Expenditure!L418=\"\",\"\",Expenditure!L418)","v":""},{"$f":"IF(Expenditure!M418=\"\",\"\",Expenditure!M418)","v":""},"-"]
[{"$f":"IF(Expenditure!B419=\"\",\"\",Expenditure!B419)","v":""},{"$f":"IF(Expenditure!C419=\"\",\"\",TEXT(Expenditure!C419,\"mmm\"))","v":""},{"$f":"IF(Expenditure!E419=\"\",\"\",Expenditure!E419)","v":""},{"$f":"IF(Expenditure!F419=\"\",\"\",Expenditure!F419)","v":""},{"$f":"IF(Expenditure!G419=\"\",\"\",Expenditure!G419)","v":""},{"$f":"IF(Expenditure!H419=\"\",\"\",Expenditure!H419)","v":""},{"$f":"IF(Expenditure!I419=\"\",\"\",Expenditure!I419)","v":""},"",{"$f":"IF(Expenditure!K419=\"\",\"\",Expenditure!K419)","v":""},{"$f":"IF(Expenditure!L419=\"\",\"\",Expenditure!L419)","v":""},{"$f":"IF(Expenditure!M419=\"\",\"\",Expenditure!M419)","v":""},"-"]
[{"$f":"IF(Expenditure!B420=\"\",\"\",Expenditure!B420)","v":""},{"$f":"IF(Expenditure!C420=\"\",\"\",TEXT(Expenditure!C420,\"mmm\"))","v":""},{"$f":"IF(Expenditure!E420=\"\",\"\",Expenditure!E420)","v":""},{"$f":"IF(Expenditure!F420=\"\",\"\",Expenditure!F420)","v":""},{"$f":"IF(Expenditure!G420=\"\",\"\",Expenditure!G420)","v":""},{"$f":"IF(Expenditure!H420=\"\",\"\",Expenditure!H420)","v":""},{"$f":"IF(Expenditure!I420=\"\",\"\",Expenditure!I420)","v":""},"",{"$f":"IF(Expenditure!K420=\"\",\"\",Expenditure!K420)","v":""},{"$f":"IF(Expenditure!L420=\"\",\"\",Expenditure!L420)","v":""},{"$f":"IF(Expenditure!M420=\"\",\"\",Expenditure!M420)","v":""},"-"]
[{"$f":"IF(Expenditure!B421=\"\",\"\",Expenditure!B421)","v":""},{"$f":"IF(Expenditure!C421=\"\",\"\",TEXT(Expenditure!C421,\"mmm\"))","v":""},{"$f":"IF(Expenditure!E421=\"\",\"\",Expenditure!E421)","v":""},{"$f":"IF(Expenditure!F421=\"\",\"\",Expenditure!F421)","v":""},{"$f":"IF(Expenditure!G421=\"\",\"\",Expenditure!G421)","v":""},{"$f":"IF(Expenditure!H421=\"\",\"\",Expenditure!H421)","v":""},{"$f":"IF(Expenditure!I421=\"\",\"\",Expenditure!I421)","v":""},"",{"$f":"IF(Expenditure!K421=\"\",\"\",Expenditure!K421)","v":""},{"$f":"IF(Expenditure!L421=\"\",\"\",Expenditure!L421)","v":""},{"$f":"IF(Expenditure!M421=\"\",\"\",Expenditure!M421)","v":""},"-"]
[{"$f":"IF(Expenditure!B422=\"\",\"\",Expenditure!B422)","v":""},{"$f":"IF(Expenditure!C422=\"\",\"\",TEXT(Expenditure!C422,\"mmm\"))","v":""},{"$f":"IF(Expenditure!E422=\"\",\"\",Expenditure!E422)","v":""},{"$f":"IF(Expenditure!F422=\"\",\"\",Expenditure!F422)","v":""},{"$f":"IF(Expenditure!G422=\"\",\"\",Expenditure!G422)","v":""},{"$f":"IF(Expenditure!H422=\"\",\"\",Expenditure!H422)","v":""},{"$f":"IF(Expenditure!I422=\"\",\"\",Expenditure!I422)","v":""},"",{"$f":"IF(Expenditure!K422=\"\",\"\",Expenditure!K422)","v":""},{"$f":"IF(Expenditure!L422=\"\",\"\",Expenditure!L422)","v":""},{"$f":"IF(Expenditure!M422=\"\",\"\",Expenditure!M422)","v":""},"-"]
[{"$f":"IF(Expenditure!B423=\"\",\"\",Expenditure!B423)","v":""},{"$f":"IF(Expenditure!C423=\"\",\"\",TEXT(Expenditure!C423,\"mmm\"))","v":""},{"$f":"IF(Expenditure!E423=\"\",\"\",Expenditure!E423)","v":""},{"$f":"IF(Expenditure!F423=\"\",\"\",Expenditure!F423)","v":""},{"$f":"IF(Expenditure!G423=\"\",\"\",Expenditure!G423)","v":""},{"$f":"IF(Expenditure!H423=\"\",\"\",Expenditure!H423)","v":""},{"$f":"IF(Expenditure!I423=\"\",\"\",Expenditure!I423)","v":""},"",{"$f":"IF(Expenditure!K423=\"\",\"\",Expenditure!K423)","v":""},{"$f":"IF(Expenditure!L423=\"\",\"\",Expenditure!L423)","v":""},{"$f":"IF(Expenditure!M423=\"\",\"\",Expenditure!M423)","v":""},"-"]
[{"$f":"IF(Expenditure!B424=\"\",\"\",Expenditure!B424)","v":""},{"$f":"IF(Expenditure!C424=\"\",\"\",TEXT(Expenditure!C424,\"mmm\"))","v":""},{"$f":"IF(Expenditure!E424=\"\",\"\",Expenditure!E424)","v":""},{"$f":"IF(Expenditure!F424=\"\",\"\",Expenditure!F424)","v":""},{"$f":"IF(Expenditure!G424=\"\",\"\",Expenditure!G424)","v":""},{"$f":"IF(Expenditure!H424=\"\",\"\",Expenditure!H424)","v":""},{"$f":"IF(Expenditure!I424=\"\",\"\",Expenditure!I424)","v":""},"",{"$f":"IF(Expenditure!K424=\"\",\"\",Expenditure!K424)","v":""},{"$f":"IF(Expenditure!L424=\"\",\"\",Expenditure!L424)","v":""},{"$f":"IF(Expenditure!M424=\"\",\"\",Expenditure!M424)","v":""},"-"]
[{"$f":"IF(Expenditure!B425=\"\",\"\",Expenditure!B425)","v":""},{"$f":"IF(Expenditure!C425=\"\",\"\",TEXT(Expenditure!C425,\"mmm\"))","v":""},{"$f":"IF(Expenditure!E425=\"\",\"\",Expenditure!E425)","v":""},{"$f":"IF(Expenditure!F425=\"\",\"\",Expenditure!F425)","v":""},{"$f":"IF(Expenditure!G425=\"\",\"\",Expenditure!G425)","v":""},{"$f":"IF(Expenditure!H425=\"\",\"\",Expenditure!H425)","v":""},{"$f":"IF(Expenditure!I425=\"\",\"\",Expenditure!I425)","v":""},"",{"$f":"IF(Expenditure!K425=\"\",\"\",Expenditure!K425)","v":""},{"$f":"IF(Expenditure!L425=\"\",\"\",Expenditure!L425)","v":""},{"$f":"IF(Expenditure!M425=\"\",\"\",Expenditure!M425)","v":""},"-"]
[{"$f":"IF(Expenditure!B426=\"\",\"\",Expenditure!B426)","v":""},{"$f":"IF(Expenditure!C426=\"\",\"\",TEXT(Expenditure!C426,\"mmm\"))","v":""},{"$f":"IF(Expenditure!E426=\"\",\"\",Expenditure!E426)","v":""},{"$f":"IF(Expenditure!F426=\"\",\"\",Expenditure!F426)","v":""},{"$f":"IF(Expenditure!G426=\"\",\"\",Expenditure!G426)","v":""},{"$f":"IF(Expenditure!H426=\"\",\"\",Expenditure!H426)","v":""},{"$f":"IF(Expenditure!I426=\"\",\"\",Expenditure!I426)","v":""},"",{"$f":"IF(Expenditure!K426=\"\",\"\",Expenditure!K426)","v":""},{"$f":"IF(Expenditure!L426=\"\",\"\",Expenditure!L426)","v":""},{"$f":"IF(Expenditure!M426=\"\",\"\",Expenditure!M426)","v":""},"-"]
[{"$f":"IF(Expenditure!B427=\"\",\"\",Expenditure!B427)","v":""},{"$f":"IF(Expenditure!C427=\"\",\"\",TEXT(Expenditure!C427,\"mmm\"))","v":""},{"$f":"IF(Expenditure!E427=\"\",\"\",Expenditure!E427)","v":""},{"$f":"IF(Expenditure!F427=\"\",\"\",Expenditure!F427)","v":""},{"$f":"IF(Expenditure!G427=\"\",\"\",Expenditure!G427)","v":""},{"$f":"IF(Expenditure!H427=\"\",\"\",Expenditure!H427)","v":""},{"$f":"IF(Expenditure!I427=\"\",\"\",Expenditure!I427)","v":""},"",{"$f":"IF(Expenditure!K427=\"\",\"\",Expenditure!K427)","v":""},{"$f":"IF(Expenditure!L427=\"\",\"\",Expenditure!L427)","v":""},{"$f":"IF(Expenditure!M427=\"\",\"\",Expenditure!M427)","v":""},"-"]
[{"$f":"IF(Expenditure!B428=\"\",\"\",Expenditure!B428)","v":""},{"$f":"IF(Expenditure!C428=\"\",\"\",TEXT(Expenditure!C428,\"mmm\"))","v":""},{"$f":"IF(Expenditure!E428=\"\",\"\",Expenditure!E428)","v":""},{"$f":"IF(Expenditure!F428=\"\",\"\",Expenditure!F428)","v":""},{"$f":"IF(Expenditure!G428=\"\",\"\",Expenditure!G428)","v":""},{"$f":"IF(Expenditure!H428=\"\",\"\",Expenditure!H428)","v":""},{"$f":"IF(Expenditure!I428=\"\",\"\",Expenditure!I428)","v":""},"",{"$f":"IF(Expenditure!K428=\"\",\"\",Expenditure!K428)","v":""},{"$f":"IF(Expenditure!L428=\"\",\"\",Expenditure!L428)","v":""},{"$f":"IF(Expenditure!M428=\"\",\"\",Expenditure!M428)","v":""},"-"]
[{"$f":"IF(Expenditure!B429=\"\",\"\",Expenditure!B429)","v":""},{"$f":"IF(Expenditure!C429=\"\",\"\",TEXT(Expenditure!C429,\"mmm\"))","v":""},{"$f":"IF(Expenditure!E429=\"\",\"\",Expenditure!E429)","v":""},{"$f":"IF(Expenditure!F429=\"\",\"\",Expenditure!F429)","v":""},{"$f":"IF(Expenditure!G429=\"\",\"\",Expenditure!G429)","v":""},{"$f":"IF(Expenditure!H429=\"\",\"\",Expenditure!H429)","v":""},{"$f":"IF(Expenditure!I429=\"\",\"\",Expenditure!I429)","v":""},"",{"$f":"IF(Expenditure!K429=\"\",\"\",Expenditure!K429)","v":""},{"$f":"IF(Expenditure!L429=\"\",\"\",Expenditure!L429)","v":""},{"$f":"IF(Expenditure!M429=\"\",\"\",Expenditure!M429)","v":""},"-"]
[{"$f":"IF(Expenditure!B430=\"\",\"\",Expenditure!B430)","v":""},{"$f":"IF(Expenditure!C430=\"\",\"\",TEXT(Expenditure!C430,\"mmm\"))","v":""},{"$f":"IF(Expenditure!E430=\"\",\"\",Expenditure!E430)","v":""},{"$f":"IF(Expenditure!F430=\"\",\"\",Expenditure!F430)","v":""},{"$f":"IF(Expenditure!G430=\"\",\"\",Expenditure!G430)","v":""},{"$f":"IF(Expenditure!H430=\"\",\"\",Expenditure!H430)","v":""},{"$f":"IF(Expenditure!I430=\"\",\"\",Expenditure!I430)","v":""},"",{"$f":"IF(Expenditure!K430=\"\",\"\",Expenditure!K430)","v":""},{"$f":"IF(Expenditure!L430=\"\",\"\",Expenditure!L430)","v":""},{"$f":"IF(Expenditure!M430=\"\",\"\",Expenditure!M430)","v":""},"-"]
[{"$f":"IF(Expenditure!B431=\"\",\"\",Expenditure!B431)","v":""},{"$f":"IF(Expenditure!C431=\"\",\"\",TEXT(Expenditure!C431,\"mmm\"))","v":""},{"$f":"IF(Expenditure!E431=\"\",\"\",Expenditure!E431)","v":""},{"$f":"IF(Expenditure!F431=\"\",\"\",Expenditure!F431)","v":""},{"$f":"IF(Expenditure!G431=\"\",\"\",Expenditure!G431)","v":""},{"$f":"IF(Expenditure!H431=\"\",\"\",Expenditure!H431)","v":""},{"$f":"IF(Expenditure!I431=\"\",\"\",Expenditure!I431)","v":""},"",{"$f":"IF(Expenditure!K431=\"\",\"\",Expenditure!K431)","v":""},{"$f":"IF(Expenditure!L431=\"\",\"\",Expenditure!L431)","v":""},{"$f":"IF(Expenditure!M431=\"\",\"\",Expenditure!M431)","v":""},"-"]
[{"$f":"IF(Expenditure!B432=\"\",\"\",Expenditure!B432)","v":""},{"$f":"IF(Expenditure!C432=\"\",\"\",TEXT(Expenditure!C432,\"mmm\"))","v":""},{"$f":"IF(Expenditure!E432=\"\",\"\",Expenditure!E432)","v":""},{"$f":"IF(Expenditure!F432=\"\",\"\",Expenditure!F432)","v":""},{"$f":"IF(Expenditure!G432=\"\",\"\",Expenditure!G432)","v":""},{"$f":"IF(Expenditure!H432=\"\",\"\",Expenditure!H432)","v":""},{"$f":"IF(Expenditure!I432=\"\",\"\",Expenditure!I432)","v":""},"",{"$f":"IF(Expenditure!K432=\"\",\"\",Expenditure!K432)","v":""},{"$f":"IF(Expenditure!L432=\"\",\"\",Expenditure!L432)","v":""},{"$f":"IF(Expenditure!M432=\"\",\"\",Expenditure!M432)","v":""},"-"]
[{"$f":"IF(Expenditure!B433=\"\",\"\",Expenditure!B433)","v":""},{"$f":"IF(Expenditure!C433=\"\",\"\",TEXT(Expenditure!C433,\"mmm\"))","v":""},{"$f":"IF(Expenditure!E433=\"\",\"\",Expenditure!E433)","v":""},{"$f":"IF(Expenditure!F433=\"\",\"\",Expenditure!F433)","v":""},{"$f":"IF(Expenditure!G433=\"\",\"\",Expenditure!G433)","v":""},{"$f":"IF(Expenditure!H433=\"\",\"\",Expenditure!H433)","v":""},{"$f":"IF(Expenditure!I433=\"\",\"\",Expenditure!I433)","v":""},"",{"$f":"IF(Expenditure!K433=\"\",\"\",Expenditure!K433)","v":""},{"$f":"IF(Expenditure!L433=\"\",\"\",Expenditure!L433)","v":""},{"$f":"IF(Expenditure!M433=\"\",\"\",Expenditure!M433)","v":""},"-"]
[{"$f":"IF(Expenditure!B434=\"\",\"\",Expenditure!B434)","v":""},{"$f":"IF(Expenditure!C434=\"\",\"\",TEXT(Expenditure!C434,\"mmm\"))","v":""},{"$f":"IF(Expenditure!E434=\"\",\"\",Expenditure!E434)","v":""},{"$f":"IF(Expenditure!F434=\"\",\"\",Expenditure!F434)","v":""},{"$f":"IF(Expenditure!G434=\"\",\"\",Expenditure!G434)","v":""},{"$f":"IF(Expenditure!H434=\"\",\"\",Expenditure!H434)","v":""},{"$f":"IF(Expenditure!I434=\"\",\"\",Expenditure!I434)","v":""},"",{"$f":"IF(Expenditure!K434=\"\",\"\",Expenditure!K434)","v":""},{"$f":"IF(Expenditure!L434=\"\",\"\",Expenditure!L434)","v":""},{"$f":"IF(Expenditure!M434=\"\",\"\",Expenditure!M434)","v":""},"-"]
[{"$f":"IF(Expenditure!B435=\"\",\"\",Expenditure!B435)","v":""},{"$f":"IF(Expenditure!C435=\"\",\"\",TEXT(Expenditure!C435,\"mmm\"))","v":""},{"$f":"IF(Expenditure!E435=\"\",\"\",Expenditure!E435)","v":""},{"$f":"IF(Expenditure!F435=\"\",\"\",Expenditure!F435)","v":""},{"$f":"IF(Expenditure!G435=\"\",\"\",Expenditure!G435)","v":""},{"$f":"IF(Expenditure!H435=\"\",\"\",Expenditure!H435)","v":""},{"$f":"IF(Expenditure!I435=\"\",\"\",Expenditure!I435)","v":""},"",{"$f":"IF(Expenditure!K435=\"\",\"\",Expenditure!K435)","v":""},{"$f":"IF(Expenditure!L435=\"\",\"\",Expenditure!L435)","v":""},{"$f":"IF(Expenditure!M435=\"\",\"\",Expenditure!M435)","v":""},"-"]
[{"$f":"IF(Expenditure!B436=\"\",\"\",Expenditure!B436)","v":""},{"$f":"IF(Expenditure!C436=\"\",\"\",TEXT(Expenditure!C436,\"mmm\"))","v":""},{"$f":"IF(Expenditure!E436=\"\",\"\",Expenditure!E436)","v":""},{"$f":"IF(Expenditure!F436=\"\",\"\",Expenditure!F436)","v":""},{"$f":"IF(Expenditure!G436=\"\",\"\",Expenditure!G436)","v":""},{"$f":"IF(Expenditure!H436=\"\",\"\",Expenditure!H436)","v":""},{"$f":"IF(Expenditure!I436=\"\",\"\",Expenditure!I436)","v":""},"",{"$f":"IF(Expenditure!K436=\"\",\"\",Expenditure!K436)","v":""},{"$f":"IF(Expenditure!L436=\"\",\"\",Expenditure!L436)","v":""},{"$f":"IF(Expenditure!M436=\"\",\"\",Expenditure!M436)","v":""},"-"]
[{"$f":"IF(Expenditure!B437=\"\",\"\",Expenditure!B437)","v":""},{"$f":"IF(Expenditure!C437=\"\",\"\",TEXT(Expenditure!C437,\"mmm\"))","v":""},{"$f":"IF(Expenditure!E437=\"\",\"\",Expenditure!E437)","v":""},{"$f":"IF(Expenditure!F437=\"\",\"\",Expenditure!F437)","v":""},{"$f":"IF(Expenditure!G437=\"\",\"\",Expenditure!G437)","v":""},{"$f":"IF(Expenditure!H437=\"\",\"\",Expenditure!H437)","v":""},{"$f":"IF(Expenditure!I437=\"\",\"\",Expenditure!I437)","v":""},"",{"$f":"IF(Expenditure!K437=\"\",\"\",Expenditure!K437)","v":""},{"$f":"IF(Expenditure!L437=\"\",\"\",Expenditure!L437)","v":""},{"$f":"IF(Expenditure!M437=\"\",\"\",Expenditure!M437)","v":""},"-"]
[{"$f":"IF(Expenditure!B438=\"\",\"\",Expenditure!B438)","v":""},{"$f":"IF(Expenditure!C438=\"\",\"\",TEXT(Expenditure!C438,\"mmm\"))","v":""},{"$f":"IF(Expenditure!E438=\"\",\"\",Expenditure!E438)","v":""},{"$f":"IF(Expenditure!F438=\"\",\"\",Expenditure!F438)","v":""},{"$f":"IF(Expenditure!G438=\"\",\"\",Expenditure!G438)","v":""},{"$f":"IF(Expenditure!H438=\"\",\"\",Expenditure!H438)","v":""},{"$f":"IF(Expenditure!I438=\"\",\"\",Expenditure!I438)","v":""},"",{"$f":"IF(Expenditure!K438=\"\",\"\",Expenditure!K438)","v":""},{"$f":"IF(Expenditure!L438=\"\",\"\",Expenditure!L438)","v":""},{"$f":"IF(Expenditure!M438=\"\",\"\",Expenditure!M438)","v":""},"-"]
[{"$f":"IF(Expenditure!B439=\"\",\"\",Expenditure!B439)","v":""},{"$f":"IF(Expenditure!C439=\"\",\"\",TEXT(Expenditure!C439,\"mmm\"))","v":""},{"$f":"IF(Expenditure!E439=\"\",\"\",Expenditure!E439)","v":""},{"$f":"IF(Expenditure!F439=\"\",\"\",Expenditure!F439)","v":""},{"$f":"IF(Expenditure!G439=\"\",\"\",Expenditure!G439)","v":""},{"$f":"IF(Expenditure!H439=\"\",\"\",Expenditure!H439)","v":""},{"$f":"IF(Expenditure!I439=\"\",\"\",Expenditure!I439)","v":""},"",{"$f":"IF(Expenditure!K439=\"\",\"\",Expenditure!K439)","v":""},{"$f":"IF(Expenditure!L439=\"\",\"\",Expenditure!L439)","v":""},{"$f":"IF(Expenditure!M439=\"\",\"\",Expenditure!M439)","v":""},"-"]
[{"$f":"IF(Expenditure!B440=\"\",\"\",Expenditure!B440)","v":""},{"$f":"IF(Expenditure!C440=\"\",\"\",TEXT(Expenditure!C440,\"mmm\"))","v":""},{"$f":"IF(Expenditure!E440=\"\",\"\",Expenditure!E440)","v":""},{"$f":"IF(Expenditure!F440=\"\",\"\",Expenditure!F440)","v":""},{"$f":"IF(Expenditure!G440=\"\",\"\",Expenditure!G440)","v":""},{"$f":"IF(Expenditure!H440=\"\",\"\",Expenditure!H440)","v":""},{"$f":"IF(Expenditure!I440=\"\",\"\",Expenditure!I440)","v":""},"",{"$f":"IF(Expenditure!K440=\"\",\"\",Expenditure!K440)","v":""},{"$f":"IF(Expenditure!L440=\"\",\"\",Expenditure!L440)","v":""},{"$f":"IF(Expenditure!M440=\"\",\"\",Expenditure!M440)","v":""},"-"]
[{"$f":"IF(Expenditure!B441=\"\",\"\",Expenditure!B441)","v":""},{"$f":"IF(Expenditure!C441=\"\",\"\",TEXT(Expenditure!C441,\"mmm\"))","v":""},{"$f":"IF(Expenditure!E441=\"\",\"\",Expenditure!E441)","v":""},{"$f":"IF(Expenditure!F441=\"\",\"\",Expenditure!F441)","v":""},{"$f":"IF(Expenditure!G441=\"\",\"\",Expenditure!G441)","v":""},{"$f":"IF(Expenditure!H441=\"\",\"\",Expenditure!H441)","v":""},{"$f":"IF(Expenditure!I441=\"\",\"\",Expenditure!I441)","v":""},"",{"$f":"IF(Expenditure!K441=\"\",\"\",Expenditure!K441)","v":""},{"$f":"IF(Expenditure!L441=\"\",\"\",Expenditure!L441)","v":""},{"$f":"IF(Expenditure!M441=\"\",\"\",Expenditure!M441)","v":""},"-"]
[{"$f":"IF(Expenditure!B442=\"\",\"\",Expenditure!B442)","v":""},{"$f":"IF(Expenditure!C442=\"\",\"\",TEXT(Expenditure!C442,\"mmm\"))","v":""},{"$f":"IF(Expenditure!E442=\"\",\"\",Expenditure!E442)","v":""},{"$f":"IF(Expenditure!F442=\"\",\"\",Expenditure!F442)","v":""},{"$f":"IF(Expenditure!G442=\"\",\"\",Expenditure!G442)","v":""},{"$f":"IF(Expenditure!H442=\"\",\"\",Expenditure!H442)","v":""},{"$f":"IF(Expenditure!I442=\"\",\"\",Expenditure!I442)","v":""},"",{"$f":"IF(Expenditure!K442=\"\",\"\",Expenditure!K442)","v":""},{"$f":"IF(Expenditure!L442=\"\",\"\",Expenditure!L442)","v":""},{"$f":"IF(Expenditure!M442=\"\",\"\",Expenditure!M442)","v":""},"-"]
[{"$f":"IF(Expenditure!B443=\"\",\"\",Expenditure!B443)","v":""},{"$f":"IF(Expenditure!C443=\"\",\"\",TEXT(Expenditure!C443,\"mmm\"))","v":""},{"$f":"IF(Expenditure!E443=\"\",\"\",Expenditure!E443)","v":""},{"$f":"IF(Expenditure!F443=\"\",\"\",Expenditure!F443)","v":""},{"$f":"IF(Expenditure!G443=\"\",\"\",Expenditure!G443)","v":""},{"$f":"IF(Expenditure!H443=\"\",\"\",Expenditure!H443)","v":""},{"$f":"IF(Expenditure!I443=\"\",\"\",Expenditure!I443)","v":""},"",{"$f":"IF(Expenditure!K443=\"\",\"\",Expenditure!K443)","v":""},{"$f":"IF(Expenditure!L443=\"\",\"\",Expenditure!L443)","v":""},{"$f":"IF(Expenditure!M443=\"\",\"\",Expenditure!M443)","v":""},"-"]
[{"$f":"IF(Expenditure!B444=\"\",\"\",Expenditure!B444)","v":""},{"$f":"IF(Expenditure!C444=\"\",\"\",TEXT(Expenditure!C444,\"mmm\"))","v":""},{"$f":"IF(Expenditure!E444=\"\",\"\",Expenditure!E444)","v":""},{"$f":"IF(Expenditure!F444=\"\",\"\",Expenditure!F444)","v":""},{"$f":"IF(Expenditure!G444=\"\",\"\",Expenditure!G444)","v":""},{"$f":"IF(Expenditure!H444=\"\",\"\",Expenditure!H444)","v":""},{"$f":"IF(Expenditure!I444=\"\",\"\",Expenditure!I444)","v":""},"",{"$f":"IF(Expenditure!K444=\"\",\"\",Expenditure!K444)","v":""},{"$f":"IF(Expenditure!L444=\"\",\"\",Expenditure!L444)","v":""},{"$f":"IF(Expenditure!M444=\"\",\"\",Expenditure!M444)","v":""},"-"]
[{"$f":"IF(Expenditure!B445=\"\",\"\",Expenditure!B445)","v":""},{"$f":"IF(Expenditure!C445=\"\",\"\",TEXT(Expenditure!C445,\"mmm\"))","v":""},{"$f":"IF(Expenditure!E445=\"\",\"\",Expenditure!E445)","v":""},{"$f":"IF(Expenditure!F445=\"\",\"\",Expenditure!F445)","v":""},{"$f":"IF(Expenditure!G445=\"\",\"\",Expenditure!G445)","v":""},{"$f":"IF(Expenditure!H445=\"\",\"\",Expenditure!H445)","v":""},{"$f":"IF(Expenditure!I445=\"\",\"\",Expenditure!I445)","v":""},"",{"$f":"IF(Expenditure!K445=\"\",\"\",Expenditure!K445)","v":""},{"$f":"IF(Expenditure!L445=\"\",\"\",Expenditure!L445)","v":""},{"$f":"IF(Expenditure!M445=\"\",\"\",Expenditure!M445)","v":""},"-"]
[{"$f":"IF(Expenditure!B446=\"\",\"\",Expenditure!B446)","v":""},{"$f":"IF(Expenditure!C446=\"\",\"\",TEXT(Expenditure!C446,\"mmm\"))","v":""},{"$f":"IF(Expenditure!E446=\"\",\"\",Expenditure!E446)","v":""},{"$f":"IF(Expenditure!F446=\"\",\"\",Expenditure!F446)","v":""},{"$f":"IF(Expenditure!G446=\"\",\"\",Expenditure!G446)","v":""},{"$f":"IF(Expenditure!H446=\"\",\"\",Expenditure!H446)","v":""},{"$f":"IF(Expenditure!I446=\"\",\"\",Expenditure!I446)","v":""},"",{"$f":"IF(Expenditure!K446=\"\",\"\",Expenditure!K446)","v":""},{"$f":"IF(Expenditure!L446=\"\",\"\",Expenditure!L446)","v":""},{"$f":"IF(Expenditure!M446=\"\",\"\",Expenditure!M446)","v":""},"-"]
[{"$f":"IF(Expenditure!B447=\"\",\"\",Expenditure!B447)","v":""},{"$f":"IF(Expenditure!C447=\"\",\"\",TEXT(Expenditure!C447,\"mmm\"))","v":""},{"$f":"IF(Expenditure!E447=\"\",\"\",Expenditure!E447)","v":""},{"$f":"IF(Expenditure!F447=\"\",\"\",Expenditure!F447)","v":""},{"$f":"IF(Expenditure!G447=\"\",\"\",Expenditure!G447)","v":""},{"$f":"IF(Expenditure!H447=\"\",\"\",Expenditure!H447)","v":""},{"$f":"IF(Expenditure!I447=\"\",\"\",Expenditure!I447)","v":""},"",{"$f":"IF(Expenditure!K447=\"\",\"\",Expenditure!K447)","v":""},{"$f":"IF(Expenditure!L447=\"\",\"\",Expenditure!L447)","v":""},{"$f":"IF(Expenditure!M447=\"\",\"\",Expenditure!M447)","v":""},"-"]
[{"$f":"IF(Expenditure!B448=\"\",\"\",Expenditure!B448)","v":""},{"$f":"IF(Expenditure!C448=\"\",\"\",TEXT(Expenditure!C448,\"mmm\"))","v":""},{"$f":"IF(Expenditure!E448=\"\",\"\",Expenditure!E448)","v":""},{"$f":"IF(Expenditure!F448=\"\",\"\",Expenditure!F448)","v":""},{"$f":"IF(Expenditure!G448=\"\",\"\",Expenditure!G448)","v":""},{"$f":"IF(Expenditure!H448=\"\",\"\",Expenditure!H448)","v":""},{"$f":"IF(Expenditure!I448=\"\",\"\",Expenditure!I448)","v":""},"",{"$f":"IF(Expenditure!K448=\"\",\"\",Expenditure!K448)","v":""},{"$f":"IF(Expenditure!L448=\"\",\"\",Expenditure!L448)","v":""},{"$f":"IF(Expenditure!M448=\"\",\"\",Expenditure!M448)","v":""},"-"]
[{"$f":"IF(Expenditure!B449=\"\",\"\",Expenditure!B449)","v":""},{"$f":"IF(Expenditure!C449=\"\",\"\",TEXT(Expenditure!C449,\"mmm\"))","v":""},{"$f":"IF(Expenditure!E449=\"\",\"\",Expenditure!E449)","v":""},{"$f":"IF(Expenditure!F449=\"\",\"\",Expenditure!F449)","v":""},{"$f":"IF(Expenditure!G449=\"\",\"\",Expenditure!G449)","v":""},{"$f":"IF(Expenditure!H449=\"\",\"\",Expenditure!H449)","v":""},{"$f":"IF(Expenditure!I449=\"\",\"\",Expenditure!I449)","v":""},"",{"$f":"IF(Expenditure!K449=\"\",\"\",Expenditure!K449)","v":""},{"$f":"IF(Expenditure!L449=\"\",\"\",Expenditure!L449)","v":""},{"$f":"IF(Expenditure!M449=\"\",\"\",Expenditure!M449)","v":""},"-"]
[{"$f":"IF(Expenditure!B450=\"\",\"\",Expenditure!B450)","v":""},{"$f":"IF(Expenditure!C450=\"\",\"\",TEXT(Expenditure!C450,\"mmm\"))","v":""},{"$f":"IF(Expenditure!E450=\"\",\"\",Expenditure!E450)","v":""},{"$f":"IF(Expenditure!F450=\"\",\"\",Expenditure!F450)","v":""},{"$f":"IF(Expenditure!G450=\"\",\"\",Expenditure!G450)","v":""},{"$f":"IF(Expenditure!H450=\"\",\"\",Expenditure!H450)","v":""},{"$f":"IF(Expenditure!I450=\"\",\"\",Expenditure!I450)","v":""},"",{"$f":"IF(Expenditure!K450=\"\",\"\",Expenditure!K450)","v":""},{"$f":"IF(Expenditure!L450=\"\",\"\",Expenditure!L450)","v":""},{"$f":"IF(Expenditure!M450=\"\",\"\",Expenditure!M450)","v":""},"-"]
[{"$f":"IF(Expenditure!B451=\"\",\"\",Expenditure!B451)","v":""},{"$f":"IF(Expenditure!C451=\"\",\"\",TEXT(Expenditure!C451,\"mmm\"))","v":""},{"$f":"IF(Expenditure!E451=\"\",\"\",Expenditure!E451)","v":""},{"$f":"IF(Expenditure!F451=\"\",\"\",Expenditure!F451)","v":""},{"$f":"IF(Expenditure!G451=\"\",\"\",Expenditure!G451)","v":""},{"$f":"IF(Expenditure!H451=\"\",\"\",Expenditure!H451)","v":""},{"$f":"IF(Expenditure!I451=\"\",\"\",Expenditure!I451)","v":""},"",{"$f":"IF(Expenditure!K451=\"\",\"\",Expenditure!K451)","v":""},{"$f":"IF(Expenditure!L451=\"\",\"\",Expenditure!L451)","v":""},{"$f":"IF(Expenditure!M451=\"\",\"\",Expenditure!M451)","v":""},"-"]
[{"$f":"IF(Expenditure!B452=\"\",\"\",Expenditure!B452)","v":""},{"$f":"IF(Expenditure!C452=\"\",\"\",TEXT(Expenditure!C452,\"mmm\"))","v":""},{"$f":"IF(Expenditure!E452=\"\",\"\",Expenditure!E452)","v":""},{"$f":"IF(Expenditure!F452=\"\",\"\",Expenditure!F452)","v":""},{"$f":"IF(Expenditure!G452=\"\",\"\",Expenditure!G452)","v":""},{"$f":"IF(Expenditure!H452=\"\",\"\",Expenditure!H452)","v":""},{"$f":"IF(Expenditure!I452=\"\",\"\",Expenditure!I452)","v":""},{"$f":"IFERROR(F460*G460,\"\")","v":""},{"$f":"IF(Expenditure!K452=\"\",\"\",Expenditure!K452)","v":""},{"$f":"IF(Expenditure!L452=\"\",\"\",Expenditure!L452)","v":""},{"$f":"IF(Expenditure!M452=\"\",\"\",Expenditure!M452)","v":""},"-"]
[{"$f":"IF(Expenditure!B453=\"\",\"\",Expenditure!B453)","v":""},{"$f":"IF(Expenditure!C453=\"\",\"\",TEXT(Expenditure!C453,\"mmm\"))","v":""},{"$f":"IF(Expenditure!E453=\"\",\"\",Expenditure!E453)","v":""},{"$f":"IF(Expenditure!F453=\"\",\"\",Expenditure!F453)","v":""},{"$f":"IF(Expenditure!G453=\"\",\"\",Expenditure!G453)","v":""},{"$f":"IF(Expenditure!H453=\"\",\"\",Expenditure!H453)","v":""},{"$f":"IF(Expenditure!I453=\"\",\"\",Expenditure!I453)","v":""},"",{"$f":"IF(Expenditure!K453=\"\",\"\",Expenditure!K453)","v":""},{"$f":"IF(Expenditure!L453=\"\",\"\",Expenditure!L453)","v":""},{"$f":"IF(Expenditure!M453=\"\",\"\",Expenditure!M453)","v":""},"-"]
[{"$f":"IF(Expenditure!B454=\"\",\"\",Expenditure!B454)","v":""},{"$f":"IF(Expenditure!C454=\"\",\"\",TEXT(Expenditure!C454,\"mmm\"))","v":""},{"$f":"IF(Expenditure!E454=\"\",\"\",Expenditure!E454)","v":""},{"$f":"IF(Expenditure!F454=\"\",\"\",Expenditure!F454)","v":""},{"$f":"IF(Expenditure!G454=\"\",\"\",Expenditure!G454)","v":""},{"$f":"IF(Expenditure!H454=\"\",\"\",Expenditure!H454)","v":""},{"$f":"IF(Expenditure!I454=\"\",\"\",Expenditure!I454)","v":""},"",{"$f":"IF(Expenditure!K454=\"\",\"\",Expenditure!K454)","v":""},{"$f":"IF(Expenditure!L454=\"\",\"\",Expenditure!L454)","v":""},{"$f":"IF(Expenditure!M454=\"\",\"\",Expenditure!M454)","v":""},"-"]
[{"$f":"IF(Expenditure!B455=\"\",\"\",Expenditure!B455)","v":""},{"$f":"IF(Expenditure!C455=\"\",\"\",TEXT(Expenditure!C455,\"mmm\"))","v":""},{"$f":"IF(Expenditure!E455=\"\",\"\",Expenditure!E455)","v":""},{"$f":"IF(Expenditure!F455=\"\",\"\",Expenditure!F455)","v":""},{"$f":"IF(Expenditure!G455=\"\",\"\",Expenditure!G455)","v":""},{"$f":"IF(Expenditure!H455=\"\",\"\",Expenditure!H455)","v":""},{"$f":"IF(Expenditure!I455=\"\",\"\",Expenditure!I455)","v":""},"",{"$f":"IF(Expenditure!K455=\"\",\"\",Expenditure!K455)","v":""},{"$f":"IF(Expenditure!L455=\"\",\"\",Expenditure!L455)","v":""},{"$f":"IF(Expenditure!M455=\"\",\"\",Expenditure!M455)","v":""},"-"]
[{"$f":"IF(Expenditure!B456=\"\",\"\",Expenditure!B456)","v":""},{"$f":"IF(Expenditure!C456=\"\",\"\",TEXT(Expenditure!C456,\"mmm\"))","v":""},{"$f":"IF(Expenditure!E456=\"\",\"\",Expenditure!E456)","v":""},{"$f":"IF(Expenditure!F456=\"\",\"\",Expenditure!F456)","v":""},{"$f":"IF(Expenditure!G456=\"\",\"\",Expenditure!G456)","v":""},{"$f":"IF(Expenditure!H456=\"\",\"\",Expenditure!H456)","v":""},{"$f":"IF(Expenditure!I456=\"\",\"\",Expenditure!I456)","v":""},"",{"$f":"IF(Expenditure!K456=\"\",\"\",Expenditure!K456)","v":""},{"$f":"IF(Expenditure!L456=\"\",\"\",Expenditure!L456)","v":""},{"$f":"IF(Expenditure!M456=\"\",\"\",Expenditure!M456)","v":""},"-"]
[{"$f":"IF(Expenditure!B457=\"\",\"\",Expenditure!B457)","v":""},{"$f":"IF(Expenditure!C457=\"\",\"\",TEXT(Expenditure!C457,\"mmm\"))","v":""},{"$f":"IF(Expenditure!E457=\"\",\"\",Expenditure!E457)","v":""},{"$f":"IF(Expenditure!F457=\"\",\"\",Expenditure!F457)","v":""},{"$f":"IF(Expenditure!G457=\"\",\"\",Expenditure!G457)","v":""},{"$f":"IF(Expenditure!H457=\"\",\"\",Expenditure!H457)","v":""},{"$f":"IF(Expenditure!I457=\"\",\"\",Expenditure!I457)","v":""},"",{"$f":"IF(Expenditure!K457=\"\",\"\",Expenditure!K457)","v":""},{"$f":"IF(Expenditure!L457=\"\",\"\",Expenditure!L457)","v":""},{"$f":"IF(Expenditure!M457=\"\",\"\",Expenditure!M457)","v":""},"-"]
[{"$f":"IF(Expenditure!B458=\"\",\"\",Expenditure!B458)","v":""},{"$f":"IF(Expenditure!C458=\"\",\"\",TEXT(Expenditure!C458,\"mmm\"))","v":""},{"$f":"IF(Expenditure!E458=\"\",\"\",Expenditure!E458)","v":""},{"$f":"IF(Expenditure!F458=\"\",\"\",Expenditure!F458)","v":""},{"$f":"IF(Expenditure!G458=\"\",\"\",Expenditure!G458)","v":""},{"$f":"IF(Expenditure!H458=\"\",\"\",Expenditure!H458)","v":""},{"$f":"IF(Expenditure!I458=\"\",\"\",Expenditure!I458)","v":""},"",{"$f":"IF(Expenditure!K458=\"\",\"\",Expenditure!K458)","v":""},{"$f":"IF(Expenditure!L458=\"\",\"\",Expenditure!L458)","v":""},{"$f":"IF(Expenditure!M458=\"\",\"\",Expenditure!M458)","v":""},"-"]
[{"$f":"IF(Expenditure!B459=\"\",\"\",Expenditure!B459)","v":""},{"$f":"IF(Expenditure!C459=\"\",\"\",TEXT(Expenditure!C459,\"mmm\"))","v":""},{"$f":"IF(Expenditure!E459=\"\",\"\",Expenditure!E459)","v":""},{"$f":"IF(Expenditure!F459=\"\",\"\",Expenditure!F459)","v":""},{"$f":"IF(Expenditure!G459=\"\",\"\",Expenditure!G459)","v":""},{"$f":"IF(Expenditure!H459=\"\",\"\",Expenditure!H459)","v":""},{"$f":"IF(Expenditure!I459=\"\",\"\",Expenditure!I459)","v":""},"",{"$f":"IF(Expenditure!K459=\"\",\"\",Expenditure!K459)","v":""},{"$f":"IF(Expenditure!L459=\"\",\"\",Expenditure!L459)","v":""},{"$f":"IF(Expenditure!M459=\"\",\"\",Expenditure!M459)","v":""},"-"]
[{"$f":"IF(Expenditure!B460=\"\",\"\",Expenditure!B460)","v":""},{"$f":"IF(Expenditure!C460=\"\",\"\",TEXT(Expenditure!C460,\"mmm\"))","v":""},{"$f":"IF(Expenditure!E460=\"\",\"\",Expenditure!E460)","v":""},{"$f":"IF(Expenditure!F460=\"\",\"\",Expenditure!F460)","v":""},{"$f":"IF(Expenditure!G460=\"\",\"\",Expenditure!G460)","v":""},{"$f":"IF(Expenditure!H460=\"\",\"\",Expenditure!H460)","v":""},{"$f":"IF(Expenditure!I460=\"\",\"\",Expenditure!I460)","v":""},"",{"$f":"IF(Expenditure!K460=\"\",\"\",Expenditure!K460)","v":""},{"$f":"IF(Expenditure!L460=\"\",\"\",Expenditure!L460)","v":""},{"$f":"IF(Expenditure!M460=\"\",\"\",Expenditure!M460)","v":""},"-"]
[{"$f":"IF(Expenditure!B461=\"\",\"\",Expenditure!B461)","v":""},{"$f":"IF(Expenditure!C461=\"\",\"\",TEXT(Expenditure!C461,\"mmm\"))","v":""},{"$f":"IF(Expenditure!E461=\"\",\"\",Expenditure!E461)","v":""},{"$f":"IF(Expenditure!F461=\"\",\"\",Expenditure!F461)","v":""},{"$f":"IF(Expenditure!G461=\"\",\"\",Expenditure!G461)","v":""},{"$f":"IF(Expenditure!H461=\"\",\"\",Expenditure!H461)","v":""},{"$f":"IF(Expenditure!I461=\"\",\"\",Expenditure!I461)","v":""},"",{"$f":"IF(Expenditure!K461=\"\",\"\",Expenditure!K461)","v":""},{"$f":"IF(Expenditure!L461=\"\",\"\",Expenditure!L461)","v":""},{"$f":"IF(Expenditure!M461=\"\",\"\",Expenditure!M461)","v":""},"-"]
[{"$f":"IF(Expenditure!B462=\"\",\"\",Expenditure!B462)","v":""},{"$f":"IF(Expenditure!C462=\"\",\"\",TEXT(Expenditure!C462,\"mmm\"))","v":""},{"$f":"IF(Expenditure!E462=\"\",\"\",Expenditure!E462)","v":""},{"$f":"IF(Expenditure!F462=\"\",\"\",Expenditure!F462)","v":""},{"$f":"IF(Expenditure!G462=\"\",\"\",Expenditure!G462)","v":""},{"$f":"IF(Expenditure!H462=\"\",\"\",Expenditure!H462)","v":""},{"$f":"IF(Expenditure!I462=\"\",\"\",Expenditure!I462)","v":""},"",{"$f":"IF(Expenditure!K462=\"\",\"\",Expenditure!K462)","v":""},{"$f":"IF(Expenditure!L462=\"\",\"\",Expenditure!L462)","v":""},{"$f":"IF(Expenditure!M462=\"\",\"\",Expenditure!M462)","v":""},"-"]
[{"$f":"IF(Expenditure!B463=\"\",\"\",Expenditure!B463)","v":""},{"$f":"IF(Expenditure!C463=\"\",\"\",TEXT(Expenditure!C463,\"mmm\"))","v":""},{"$f":"IF(Expenditure!E463=\"\",\"\",Expenditure!E463)","v":""},{"$f":"IF(Expenditure!F463=\"\",\"\",Expenditure!F463)","v":""},{"$f":"IF(Expenditure!G463=\"\",\"\",Expenditure!G463)","v":""},{"$f":"IF(Expenditure!H463=\"\",\"\",Expenditure!H463)","v":""},{"$f":"IF(Expenditure!I463=\"\",\"\",Expenditure!I463)","v":""},"",{"$f":"IF(Expenditure!K463=\"\",\"\",Expenditure!K463)","v":""},{"$f":"IF(Expenditure!L463=\"\",\"\",Expenditure!L463)","v":""},{"$f":"IF(Expenditure!M463=\"\",\"\",Expenditure!M463)","v":""},"-"]
[{"$f":"IF(Expenditure!B464=\"\",\"\",Expenditure!B464)","v":""},{"$f":"IF(Expenditure!C464=\"\",\"\",TEXT(Expenditure!C464,\"mmm\"))","v":""},{"$f":"IF(Expenditure!E464=\"\",\"\",Expenditure!E464)","v":""},{"$f":"IF(Expenditure!F464=\"\",\"\",Expenditure!F464)","v":""},{"$f":"IF(Expenditure!G464=\"\",\"\",Expenditure!G464)","v":""},{"$f":"IF(Expenditure!H464=\"\",\"\",Expenditure!H464)","v":""},{"$f":"IF(Expenditure!I464=\"\",\"\",Expenditure!I464)","v":""},"",{"$f":"IF(Expenditure!K464=\"\",\"\",Expenditure!K464)","v":""},{"$f":"IF(Expenditure!L464=\"\",\"\",Expenditure!L464)","v":""},{"$f":"IF(Expenditure!M464=\"\",\"\",Expenditure!M464)","v":""},"-"]
[{"$f":"IF(Expenditure!B465=\"\",\"\",Expenditure!B465)","v":""},{"$f":"IF(Expenditure!C465=\"\",\"\",TEXT(Expenditure!C465,\"mmm\"))","v":""},{"$f":"IF(Expenditure!E465=\"\",\"\",Expenditure!E465)","v":""},{"$f":"IF(Expenditure!F465=\"\",\"\",Expenditure!F465)","v":""},{"$f":"IF(Expenditure!G465=\"\",\"\",Expenditure!G465)","v":""},{"$f":"IF(Expenditure!H465=\"\",\"\",Expenditure!H465)","v":""},{"$f":"IF(Expenditure!I465=\"\",\"\",Expenditure!I465)","v":""},"",{"$f":"IF(Expenditure!K465=\"\",\"\",Expenditure!K465)","v":""},{"$f":"IF(Expenditure!L465=\"\",\"\",Expenditure!L465)","v":""},{"$f":"IF(Expenditure!M465=\"\",\"\",Expenditure!M465)","v":""},"-"]
[{"$f":"IF(Expenditure!B466=\"\",\"\",Expenditure!B466)","v":""},{"$f":"IF(Expenditure!C466=\"\",\"\",TEXT(Expenditure!C466,\"mmm\"))","v":""},{"$f":"IF(Expenditure!E466=\"\",\"\",Expenditure!E466)","v":""},{"$f":"IF(Expenditure!F466=\"\",\"\",Expenditure!F466)","v":""},{"$f":"IF(Expenditure!G466=\"\",\"\",Expenditure!G466)","v":""},{"$f":"IF(Expenditure!H466=\"\",\"\",Expenditure!H466)","v":""},{"$f":"IF(Expenditure!I466=\"\",\"\",Expenditure!I466)","v":""},"",{"$f":"IF(Expenditure!K466=\"\",\"\",Expenditure!K466)","v":""},{"$f":"IF(Expenditure!L466=\"\",\"\",Expenditure!L466)","v":""},{"$f":"IF(Expenditure!M466=\"\",\"\",Expenditure!M466)","v":""},"-"]
[{"$f":"IF(Expenditure!B467=\"\",\"\",Expenditure!B467)","v":""},{"$f":"IF(Expenditure!C467=\"\",\"\",TEXT(Expenditure!C467,\"mmm\"))","v":""},{"$f":"IF(Expenditure!E467=\"\",\"\",Expenditure!E467)","v":""},{"$f":"IF(Expenditure!F467=\"\",\"\",Expenditure!F467)","v":""},{"$f":"IF(Expenditure!G467=\"\",\"\",Expenditure!G467)","v":""},{"$f":"IF(Expenditure!H467=\"\",\"\",Expenditure!H467)","v":""},{"$f":"IF(Expenditure!I467=\"\",\"\",Expenditure!I467)","v":""},"",{"$f":"IF(Expenditure!K467=\"\",\"\",Expenditure!K467)","v":""},{"$f":"IF(Expenditure!L467=\"\",\"\",Expenditure!L467)","v":""},{"$f":"IF(Expenditure!M467=\"\",\"\",Expenditure!M467)","v":""},"-"]
[{"$f":"IF(Expenditure!B468=\"\",\"\",Expenditure!B468)","v":""},{"$f":"IF(Expenditure!C468=\"\",\"\",TEXT(Expenditure!C468,\"mmm\"))","v":""},{"$f":"IF(Expenditure!E468=\"\",\"\",Expenditure!E468)","v":""},{"$f":"IF(Expenditure!F468=\"\",\"\",Expenditure!F468)","v":""},{"$f":"IF(Expenditure!G468=\"\",\"\",Expenditure!G468)","v":""},{"$f":"IF(Expenditure!H468=\"\",\"\",Expenditure!H468)","v":""},{"$f":"IF(Expenditure!I468=\"\",\"\",Expenditure!I468)","v":""},"",{"$f":"IF(Expenditure!K468=\"\",\"\",Expenditure!K468)","v":""},{"$f":"IF(Expenditure!L468=\"\",\"\",Expenditure!L468)","v":""},{"$f":"IF(Expenditure!M468=\"\",\"\",Expenditure!M468)","v":""},"-"]
[{"$f":"IF(Expenditure!B469=\"\",\"\",Expenditure!B469)","v":""},{"$f":"IF(Expenditure!C469=\"\",\"\",TEXT(Expenditure!C469,\"mmm\"))","v":""},{"$f":"IF(Expenditure!E469=\"\",\"\",Expenditure!E469)","v":""},{"$f":"IF(Expenditure!F469=\"\",\"\",Expenditure!F469)","v":""},{"$f":"IF(Expenditure!G469=\"\",\"\",Expenditure!G469)","v":""},{"$f":"IF(Expenditure!H469=\"\",\"\",Expenditure!H469)","v":""},{"$f":"IF(Expenditure!I469=\"\",\"\",Expenditure!I469)","v":""},"",{"$f":"IF(Expenditure!K469=\"\",\"\",Expenditure!K469)","v":""},{"$f":"IF(Expenditure!L469=\"\",\"\",Expenditure!L469)","v":""},{"$f":"IF(Expenditure!M469=\"\",\"\",Expenditure!M469)","v":""},"-"]
[{"$f":"IF(Expenditure!B470=\"\",\"\",Expenditure!B470)","v":""},{"$f":"IF(Expenditure!C470=\"\",\"\",TEXT(Expenditure!C470,\"mmm\"))","v":""},{"$f":"IF(Expenditure!E470=\"\",\"\",Expenditure!E470)","v":""},{"$f":"IF(Expenditure!F470=\"\",\"\",Expenditure!F470)","v":""},{"$f":"IF(Expenditure!G470=\"\",\"\",Expenditure!G470)","v":""},{"$f":"IF(Expenditure!H470=\"\",\"\",Expenditure!H470)","v":""},{"$f":"IF(Expenditure!I470=\"\",\"\",Expenditure!I470)","v":""},"",{"$f":"IF(Expenditure!K470=\"\",\"\",Expenditure!K470)","v":""},{"$f":"IF(Expenditure!L470=\"\",\"\",Expenditure!L470)","v":""},{"$f":"IF(Expenditure!M470=\"\",\"\",Expenditure!M470)","v":""},"-"]
[{"$f":"IF(Expenditure!B471=\"\",\"\",Expenditure!B471)","v":""},{"$f":"IF(Expenditure!C471=\"\",\"\",TEXT(Expenditure!C471,\"mmm\"))","v":""},{"$f":"IF(Expenditure!E471=\"\",\"\",Expenditure!E471)","v":""},{"$f":"IF(Expenditure!F471=\"\",\"\",Expenditure!F471)","v":""},{"$f":"IF(Expenditure!G471=\"\",\"\",Expenditure!G471)","v":""},{"$f":"IF(Expenditure!H471=\"\",\"\",Expenditure!H471)","v":""},{"$f":"IF(Expenditure!I471=\"\",\"\",Expenditure!I471)","v":""},"",{"$f":"IF(Expenditure!K471=\"\",\"\",Expenditure!K471)","v":""},{"$f":"IF(Expenditure!L471=\"\",\"\",Expenditure!L471)","v":""},{"$f":"IF(Expenditure!M471=\"\",\"\",Expenditure!M471)","v":""},"-"]
[{"$f":"IF(Expenditure!B472=\"\",\"\",Expenditure!B472)","v":""},{"$f":"IF(Expenditure!C472=\"\",\"\",TEXT(Expenditure!C472,\"mmm\"))","v":""},{"$f":"IF(Expenditure!E472=\"\",\"\",Expenditure!E472)","v":""},{"$f":"IF(Expenditure!F472=\"\",\"\",Expenditure!F472)","v":""},{"$f":"IF(Expenditure!G472=\"\",\"\",Expenditure!G472)","v":""},{"$f":"IF(Expenditure!H472=\"\",\"\",Expenditure!H472)","v":""},{"$f":"IF(Expenditure!I472=\"\",\"\",Expenditure!I472)","v":""},"",{"$f":"IF(Expenditure!K472=\"\",\"\",Expenditure!K472)","v":""},{"$f":"IF(Expenditure!L472=\"\",\"\",Expenditure!L472)","v":""},{"$f":"IF(Expenditure!M472=\"\",\"\",Expenditure!M472)","v":""},"-"]
[{"$f":"IF(Expenditure!B473=\"\",\"\",Expenditure!B473)","v":""},{"$f":"IF(Expenditure!C473=\"\",\"\",TEXT(Expenditure!C473,\"mmm\"))","v":""},{"$f":"IF(Expenditure!E473=\"\",\"\",Expenditure!E473)","v":""},{"$f":"IF(Expenditure!F473=\"\",\"\",Expenditure!F473)","v":""},{"$f":"IF(Expenditure!G473=\"\",\"\",Expenditure!G473)","v":""},{"$f":"IF(Expenditure!H473=\"\",\"\",Expenditure!H473)","v":""},{"$f":"IF(Expenditure!I473=\"\",\"\",Expenditure!I473)","v":""},"",{"$f":"IF(Expenditure!K473=\"\",\"\",Expenditure!K473)","v":""},{"$f":"IF(Expenditure!L473=\"\",\"\",Expenditure!L473)","v":""},{"$f":"IF(Expenditure!M473=\"\",\"\",Expenditure!M473)","v":""},"-"]
[{"$f":"IF(Expenditure!B474=\"\",\"\",Expenditure!B474)","v":""},{"$f":"IF(Expenditure!C474=\"\",\"\",TEXT(Expenditure!C474,\"mmm\"))","v":""},{"$f":"IF(Expenditure!E474=\"\",\"\",Expenditure!E474)","v":""},{"$f":"IF(Expenditure!F474=\"\",\"\",Expenditure!F474)","v":""},{"$f":"IF(Expenditure!G474=\"\",\"\",Expenditure!G474)","v":""},{"$f":"IF(Expenditure!H474=\"\",\"\",Expenditure!H474)","v":""},{"$f":"IF(Expenditure!I474=\"\",\"\",Expenditure!I474)","v":""},"",{"$f":"IF(Expenditure!K474=\"\",\"\",Expenditure!K474)","v":""},{"$f":"IF(Expenditure!L474=\"\",\"\",Expenditure!L474)","v":""},{"$f":"IF(Expenditure!M474=\"\",\"\",Expenditure!M474)","v":""},"-"]
[{"$f":"IF(Expenditure!B475=\"\",\"\",Expenditure!B475)","v":""},{"$f":"IF(Expenditure!C475=\"\",\"\",TEXT(Expenditure!C475,\"mmm\"))","v":""},{"$f":"IF(Expenditure!E475=\"\",\"\",Expenditure!E475)","v":""},{"$f":"IF(Expenditure!F475=\"\",\"\",Expenditure!F475)","v":""},{"$f":"IF(Expenditure!G475=\"\",\"\",Expenditure!G475)","v":""},{"$f":"IF(Expenditure!H475=\"\",\"\",Expenditure!H475)","v":""},{"$f":"IF(Expenditure!I475=\"\",\"\",Expenditure!I475)","v":""},"",{"$f":"IF(Expenditure!K475=\"\",\"\",Expenditure!K475)","v":""},{"$f":"IF(Expenditure!L475=\"\",\"\",Expenditure!L475)","v":""},{"$f":"IF(Expenditure!M475=\"\",\"\",Expenditure!M475)","v":""},"-"]
[{"$f":"IF(Expenditure!B476=\"\",\"\",Expenditure!B476)","v":""},{"$f":"IF(Expenditure!C476=\"\",\"\",TEXT(Expenditure!C476,\"mmm\"))","v":""},{"$f":"IF(Expenditure!E476=\"\",\"\",Expenditure!E476)","v":""},{"$f":"IF(Expenditure!F476=\"\",\"\",Expenditure!F476)","v":""},{"$f":"IF(Expenditure!G476=\"\",\"\",Expenditure!G476)","v":""},{"$f":"IF(Expenditure!H476=\"\",\"\",Expenditure!H476)","v":""},{"$f":"IF(Expenditure!I476=\"\",\"\",Expenditure!I476)","v":""},"",{"$f":"IF(Expenditure!K476=\"\",\"\",Expenditure!K476)","v":""},{"$f":"IF(Expenditure!L476=\"\",\"\",Expenditure!L476)","v":""},{"$f":"IF(Expenditure!M476=\"\",\"\",Expenditure!M476)","v":""},"-"]
[{"$f":"IF(Expenditure!B477=\"\",\"\",Expenditure!B477)","v":""},{"$f":"IF(Expenditure!C477=\"\",\"\",TEXT(Expenditure!C477,\"mmm\"))","v":""},{"$f":"IF(Expenditure!E477=\"\",\"\",Expenditure!E477)","v":""},{"$f":"IF(Expenditure!F477=\"\",\"\",Expenditure!F477)","v":""},{"$f":"IF(Expenditure!G477=\"\",\"\",Expenditure!G477)","v":""},{"$f":"IF(Expenditure!H477=\"\",\"\",Expenditure!H477)","v":""},{"$f":"IF(Expenditure!I477=\"\",\"\",Expenditure!I477)","v":""},"",{"$f":"IF(Expenditure!K477=\"\",\"\",Expenditure!K477)","v":""},{"$f":"IF(Expenditure!L477=\"\",\"\",Expenditure!L477)","v":""},{"$f":"IF(Expenditure!M477=\"\",\"\",Expenditure!M477)","v":""},"-"]
[{"$f":"IF(Expenditure!B478=\"\",\"\",Expenditure!B478)","v":""},{"$f":"IF(Expenditure!C478=\"\",\"\",TEXT(Expenditure!C478,\"mmm\"))","v":""},{"$f":"IF(Expenditure!E478=\"\",\"\",Expenditure!E478)","v":""},{"$f":"IF(Expenditure!F478=\"\",\"\",Expenditure!F478)","v":""},{"$f":"IF(Expenditure!G478=\"\",\"\",Expenditure!G478)","v":""},{"$f":"IF(Expenditure!H478=\"\",\"\",Expenditure!H478)","v":""},{"$f":"IF(Expenditure!I478=\"\",\"\",Expenditure!I478)","v":""},"",{"$f":"IF(Expenditure!K478=\"\",\"\",Expenditure!K478)","v":""},{"$f":"IF(Expenditure!L478=\"\",\"\",Expenditure!L478)","v":""},{"$f":"IF(Expenditure!M478=\"\",\"\",Expenditure!M478)","v":""},"-"]
[{"$f":"IF(Expenditure!B479=\"\",\"\",Expenditure!B479)","v":""},{"$f":"IF(Expenditure!C479=\"\",\"\",TEXT(Expenditure!C479,\"mmm\"))","v":""},{"$f":"IF(Expenditure!E479=\"\",\"\",Expenditure!E479)","v":""},{"$f":"IF(Expenditure!F479=\"\",\"\",Expenditure!F479)","v":""},{"$f":"IF(Expenditure!G479=\"\",\"\",Expenditure!G479)","v":""},{"$f":"IF(Expenditure!H479=\"\",\"\",Expenditure!H479)","v":""},{"$f":"IF(Expenditure!I479=\"\",\"\",Expenditure!I479)","v":""},"",{"$f":"IF(Expenditure!K479=\"\",\"\",Expenditure!K479)","v":""},{"$f":"IF(Expenditure!L479=\"\",\"\",Expenditure!L479)","v":""},{"$f":"IF(Expenditure!M479=\"\",\"\",Expenditure!M479)","v":""},"-"]
[{"$f":"IF(Expenditure!B480=\"\",\"\",Expenditure!B480)","v":""},{"$f":"IF(Expenditure!C480=\"\",\"\",TEXT(Expenditure!C480,\"mmm\"))","v":""},{"$f":"IF(Expenditure!E480=\"\",\"\",Expenditure!E480)","v":""},{"$f":"IF(Expenditure!F480=\"\",\"\",Expenditure!F480)","v":""},{"$f":"IF(Expenditure!G480=\"\",\"\",Expenditure!G480)","v":""},{"$f":"IF(Expenditure!H480=\"\",\"\",Expenditure!H480)","v":""},{"$f":"IF(Expenditure!I480=\"\",\"\",Expenditure!I480)","v":""},"",{"$f":"IF(Expenditure!K480=\"\",\"\",Expenditure!K480)","v":""},{"$f":"IF(Expenditure!L480=\"\",\"\",Expenditure!L480)","v":""},{"$f":"IF(Expenditure!M480=\"\",\"\",Expenditure!M480)","v":""},"-"]
[{"$f":"IF(Expenditure!B481=\"\",\"\",Expenditure!B481)","v":""},{"$f":"IF(Expenditure!C481=\"\",\"\",TEXT(Expenditure!C481,\"mmm\"))","v":""},{"$f":"IF(Expenditure!E481=\"\",\"\",Expenditure!E481)","v":""},{"$f":"IF(Expenditure!F481=\"\",\"\",Expenditure!F481)","v":""},{"$f":"IF(Expenditure!G481=\"\",\"\",Expenditure!G481)","v":""},{"$f":"IF(Expenditure!H481=\"\",\"\",Expenditure!H481)","v":""},{"$f":"IF(Expenditure!I481=\"\",\"\",Expenditure!I481)","v":""},"",{"$f":"IF(Expenditure!K481=\"\",\"\",Expenditure!K481)","v":""},{"$f":"IF(Expenditure!L481=\"\",\"\",Expenditure!L481)","v":""},{"$f":"IF(Expenditure!M481=\"\",\"\",Expenditure!M481)","v":""},"-"]
[{"$f":"IF(Expenditure!B482=\"\",\"\",Expenditure!B482)","v":""},{"$f":"IF(Expenditure!C482=\"\",\"\",TEXT(Expenditure!C482,\"mmm\"))","v":""},{"$f":"IF(Expenditure!E482=\"\",\"\",Expenditure!E482)","v":""},{"$f":"IF(Expenditure!F482=\"\",\"\",Expenditure!F482)","v":""},{"$f":"IF(Expenditure!G482=\"\",\"\",Expenditure!G482)","v":""},{"$f":"IF(Expenditure!H482=\"\",\"\",Expenditure!H482)","v":""},{"$f":"IF(Expenditure!I482=\"\",\"\",Expenditure!I482)","v":""},"",{"$f":"IF(Expenditure!K482=\"\",\"\",Expenditure!K482)","v":""},{"$f":"IF(Expenditure!L482=\"\",\"\",Expenditure!L482)","v":""},{"$f":"IF(Expenditure!M482=\"\",\"\",Expenditure!M482)","v":""},"-"]
[{"$f":"IF(Expenditure!B483=\"\",\"\",Expenditure!B483)","v":""},{"$f":"IF(Expenditure!C483=\"\",\"\",TEXT(Expenditure!C483,\"mmm\"))","v":""},{"$f":"IF(Expenditure!E483=\"\",\"\",Expenditure!E483)","v":""},{"$f":"IF(Expenditure!F483=\"\",\"\",Expenditure!F483)","v":""},{"$f":"IF(Expenditure!G483=\"\",\"\",Expenditure!G483)","v":""},{"$f":"IF(Expenditure!H483=\"\",\"\",Expenditure!H483)","v":""},{"$f":"IF(Expenditure!I483=\"\",\"\",Expenditure!I483)","v":""},"",{"$f":"IF(Expenditure!K483=\"\",\"\",Expenditure!K483)","v":""},{"$f":"IF(Expenditure!L483=\"\",\"\",Expenditure!L483)","v":""},{"$f":"IF(Expenditure!M483=\"\",\"\",Expenditure!M483)","v":""},"-"]
[{"$f":"IF(Expenditure!B484=\"\",\"\",Expenditure!B484)","v":""},{"$f":"IF(Expenditure!C484=\"\",\"\",TEXT(Expenditure!C484,\"mmm\"))","v":""},{"$f":"IF(Expenditure!E484=\"\",\"\",Expenditure!E484)","v":""},{"$f":"IF(Expenditure!F484=\"\",\"\",Expenditure!F484)","v":""},{"$f":"IF(Expenditure!G484=\"\",\"\",Expenditure!G484)","v":""},{"$f":"IF(Expenditure!H484=\"\",\"\",Expenditure!H484)","v":""},{"$f":"IF(Expenditure!I484=\"\",\"\",Expenditure!I484)","v":""},"",{"$f":"IF(Expenditure!K484=\"\",\"\",Expenditure!K484)","v":""},{"$f":"IF(Expenditure!L484=\"\",\"\",Expenditure!L484)","v":""},{"$f":"IF(Expenditure!M484=\"\",\"\",Expenditure!M484)","v":""},"-"]
[{"$f":"IF(Expenditure!B485=\"\",\"\",Expenditure!B485)","v":""},{"$f":"IF(Expenditure!C485=\"\",\"\",TEXT(Expenditure!C485,\"mmm\"))","v":""},{"$f":"IF(Expenditure!E485=\"\",\"\",Expenditure!E485)","v":""},{"$f":"IF(Expenditure!F485=\"\",\"\",Expenditure!F485)","v":""},{"$f":"IF(Expenditure!G485=\"\",\"\",Expenditure!G485)","v":""},{"$f":"IF(Expenditure!H485=\"\",\"\",Expenditure!H485)","v":""},{"$f":"IF(Expenditure!I485=\"\",\"\",Expenditure!I485)","v":""},"",{"$f":"IF(Expenditure!K485=\"\",\"\",Expenditure!K485)","v":""},{"$f":"IF(Expenditure!L485=\"\",\"\",Expenditure!L485)","v":""},{"$f":"IF(Expenditure!M485=\"\",\"\",Expenditure!M485)","v":""},"-"]
[{"$f":"IF(Expenditure!B486=\"\",\"\",Expenditure!B486)","v":""},{"$f":"IF(Expenditure!C486=\"\",\"\",TEXT(Expenditure!C486,\"mmm\"))","v":""},{"$f":"IF(Expenditure!E486=\"\",\"\",Expenditure!E486)","v":""},{"$f":"IF(Expenditure!F486=\"\",\"\",Expenditure!F486)","v":""},{"$f":"IF(Expenditure!G486=\"\",\"\",Expenditure!G486)","v":""},{"$f":"IF(Expenditure!H486=\"\",\"\",Expenditure!H486)","v":""},{"$f":"IF(Expenditure!I486=\"\",\"\",Expenditure!I486)","v":""},"",{"$f":"IF(Expenditure!K486=\"\",\"\",Expenditure!K486)","v":""},{"$f":"IF(Expenditure!L486=\"\",\"\",Expenditure!L486)","v":""},{"$f":"IF(Expenditure!M486=\"\",\"\",Expenditure!M486)","v":""},"-"]
[{"$f":"IF(Expenditure!B487=\"\",\"\",Expenditure!B487)","v":""},{"$f":"IF(Expenditure!C487=\"\",\"\",TEXT(Expenditure!C487,\"mmm\"))","v":""},{"$f":"IF(Expenditure!E487=\"\",\"\",Expenditure!E487)","v":""},{"$f":"IF(Expenditure!F487=\"\",\"\",Expenditure!F487)","v":""},{"$f":"IF(Expenditure!G487=\"\",\"\",Expenditure!G487)","v":""},{"$f":"IF(Expenditure!H487=\"\",\"\",Expenditure!H487)","v":""},{"$f":"IF(Expenditure!I487=\"\",\"\",Expenditure!I487)","v":""},"",{"$f":"IF(Expenditure!K487=\"\",\"\",Expenditure!K487)","v":""},{"$f":"IF(Expenditure!L487=\"\",\"\",Expenditure!L487)","v":""},{"$f":"IF(Expenditure!M487=\"\",\"\",Expenditure!M487)","v":""},"-"]
[{"$f":"IF(Expenditure!B488=\"\",\"\",Expenditure!B488)","v":""},{"$f":"IF(Expenditure!C488=\"\",\"\",TEXT(Expenditure!C488,\"mmm\"))","v":""},{"$f":"IF(Expenditure!E488=\"\",\"\",Expenditure!E488)","v":""},{"$f":"IF(Expenditure!F488=\"\",\"\",Expenditure!F488)","v":""},{"$f":"IF(Expenditure!G488=\"\",\"\",Expenditure!G488)","v":""},{"$f":"IF(Expenditure!H488=\"\",\"\",Expenditure!H488)","v":""},{"$f":"IF(Expenditure!I488=\"\",\"\",Expenditure!I488)","v":""},"",{"$f":"IF(Expenditure!K488=\"\",\"\",Expenditure!K488)","v":""},{"$f":"IF(Expenditure!L488=\"\",\"\",Expenditure!L488)","v":""},{"$f":"IF(Expenditure!M488=\"\",\"\",Expenditure!M488)","v":""},"-"]
[{"$f":"IF(Expenditure!B489=\"\",\"\",Expenditure!B489)","v":""},{"$f":"IF(Expenditure!C489=\"\",\"\",TEXT(Expenditure!C489,\"mmm\"))","v":""},{"$f":"IF(Expenditure!E489=\"\",\"\",Expenditure!E489)","v":""},{"$f":"IF(Expenditure!F489=\"\",\"\",Expenditure!F489)","v":""},{"$f":"IF(Expenditure!G489=\"\",\"\",Expenditure!G489)","v":""},{"$f":"IF(Expenditure!H489=\"\",\"\",Expenditure!H489)","v":""},{"$f":"IF(Expenditure!I489=\"\",\"\",Expenditure!I489)","v":""},"",{"$f":"IF(Expenditure!K489=\"\",\"\",Expenditure!K489)","v":""},{"$f":"IF(Expenditure!L489=\"\",\"\",Expenditure!L489)","v":""},{"$f":"IF(Expenditure!M489=\"\",\"\",Expenditure!M489)","v":""},"-"]
[{"$f":"IF(Expenditure!B490=\"\",\"\",Expenditure!B490)","v":""},{"$f":"IF(Expenditure!C490=\"\",\"\",TEXT(Expenditure!C490,\"mmm\"))","v":""},{"$f":"IF(Expenditure!E490=\"\",\"\",Expenditure!E490)","v":""},{"$f":"IF(Expenditure!F490=\"\",\"\",Expenditure!F490)","v":""},{"$f":"IF(Expenditure!G490=\"\",\"\",Expenditure!G490)","v":""},{"$f":"IF(Expenditure!H490=\"\",\"\",Expenditure!H490)","v":""},{"$f":"IF(Expenditure!I490=\"\",\"\",Expenditure!I490)","v":""},"",{"$f":"IF(Expenditure!K490=\"\",\"\",Expenditure!K490)","v":""},{"$f":"IF(Expenditure!L490=\"\",\"\",Expenditure!L490)","v":""},{"$f":"IF(Expenditure!M490=\"\",\"\",Expenditure!M490)","v":""},"-"]
[{"$f":"IF(Expenditure!B491=\"\",\"\",Expenditure!B491)","v":""},{"$f":"IF(Expenditure!C491=\"\",\"\",TEXT(Expenditure!C491,\"mmm\"))","v":""},{"$f":"IF(Expenditure!E491=\"\",\"\",Expenditure!E491)","v":""},{"$f":"IF(Expenditure!F491=\"\",\"\",Expenditure!F491)","v":""},{"$f":"IF(Expenditure!G491=\"\",\"\",Expenditure!G491)","v":""},{"$f":"IF(Expenditure!H491=\"\",\"\",Expenditure!H491)","v":""},{"$f":"IF(Expenditure!I491=\"\",\"\",Expenditure!I491)","v":""},"",{"$f":"IF(Expenditure!K491=\"\",\"\",Expenditure!K491)","v":""},{"$f":"IF(Expenditure!L491=\"\",\"\",Expenditure!L491)","v":""},{"$f":"IF(Expenditure!M491=\"\",\"\",Expenditure!M491)","v":""},"-"]
[{"$f":"IF(Expenditure!B492=\"\",\"\",Expenditure!B492)","v":""},{"$f":"IF(Expenditure!C492=\"\",\"\",TEXT(Expenditure!C492,\"mmm\"))","v":""},{"$f":"IF(Expenditure!E492=\"\",\"\",Expenditure!E492)","v":""},{"$f":"IF(Expenditure!F492=\"\",\"\",Expenditure!F492)","v":""},{"$f":"IF(Expenditure!G492=\"\",\"\",Expenditure!G492)","v":""},{"$f":"IF(Expenditure!H492=\"\",\"\",Expenditure!H492)","v":""},{"$f":"IF(Expenditure!I492=\"\",\"\",Expenditure!I492)","v":""},"",{"$f":"IF(Expenditure!K492=\"\",\"\",Expenditure!K492)","v":""},{"$f":"IF(Expenditure!L492=\"\",\"\",Expenditure!L492)","v":""},{"$f":"IF(Expenditure!M492=\"\",\"\",Expenditure!M492)","v":""},"-"]
[{"$f":"IF(Expenditure!B493=\"\",\"\",Expenditure!B493)","v":""},{"$f":"IF(Expenditure!C493=\"\",\"\",TEXT(Expenditure!C493,\"mmm\"))","v":""},{"$f":"IF(Expenditure!E493=\"\",\"\",Expenditure!E493)","v":""},{"$f":"IF(Expenditure!F493=\"\",\"\",Expenditure!F493)","v":""},{"$f":"IF(Expenditure!G493=\"\",\"\",Expenditure!G493)","v":""},{"$f":"IF(Expenditure!H493=\"\",\"\",Expenditure!H493)","v":""},{"$f":"IF(Expenditure!I493=\"\",\"\",Expenditure!I493)","v":""},"",{"$f":"IF(Expenditure!K493=\"\",\"\",Expenditure!K493)","v":""},{"$f":"IF(Expenditure!L493=\"\",\"\",Expenditure!L493)","v":""},{"$f":"IF(Expenditure!M493=\"\",\"\",Expenditure!M493)","v":""},"-"]
[{"$f":"IF(Expenditure!B494=\"\",\"\",Expenditure!B494)","v":""},{"$f":"IF(Expenditure!C494=\"\",\"\",TEXT(Expenditure!C494,\"mmm\"))","v":""},{"$f":"IF(Expenditure!E494=\"\",\"\",Expenditure!E494)","v":""},{"$f":"IF(Expenditure!F494=\"\",\"\",Expenditure!F494)","v":""},{"$f":"IF(Expenditure!G494=\"\",\"\",Expenditure!G494)","v":""},{"$f":"IF(Expenditure!H494=\"\",\"\",Expenditure!H494)","v":""},{"$f":"IF(Expenditure!I494=\"\",\"\",Expenditure!I494)","v":""},"",{"$f":"IF(Expenditure!K494=\"\",\"\",Expenditure!K494)","v":""},{"$f":"IF(Expenditure!L494=\"\",\"\",Expenditure!L494)","v":""},{"$f":"IF(Expenditure!M494=\"\",\"\",Expenditure!M494)","v":""},"-"]
[{"$f":"IF(Expenditure!B495=\"\",\"\",Expenditure!B495)","v":""},{"$f":"IF(Expenditure!C495=\"\",\"\",TEXT(Expenditure!C495,\"mmm\"))","v":""},{"$f":"IF(Expenditure!E495=\"\",\"\",Expenditure!E495)","v":""},{"$f":"IF(Expenditure!F495=\"\",\"\",Expenditure!F495)","v":""},{"$f":"IF(Expenditure!G495=\"\",\"\",Expenditure!G495)","v":""},{"$f":"IF(Expenditure!H495=\"\",\"\",Expenditure!H495)","v":""},{"$f":"IF(Expenditure!I495=\"\",\"\",Expenditure!I495)","v":""},"",{"$f":"IF(Expenditure!K495=\"\",\"\",Expenditure!K495)","v":""},{"$f":"IF(Expenditure!L495=\"\",\"\",Expenditure!L495)","v":""},{"$f":"IF(Expenditure!M495=\"\",\"\",Expenditure!M495)","v":""},"-"]
[{"$f":"IF(Expenditure!B496=\"\",\"\",Expenditure!B496)","v":""},{"$f":"IF(Expenditure!C496=\"\",\"\",TEXT(Expenditure!C496,\"mmm\"))","v":""},{"$f":"IF(Expenditure!E496=\"\",\"\",Expenditure!E496)","v":""},{"$f":"IF(Expenditure!F496=\"\",\"\",Expenditure!F496)","v":""},{"$f":"IF(Expenditure!G496=\"\",\"\",Expenditure!G496)","v":""},{"$f":"IF(Expenditure!H496=\"\",\"\",Expenditure!H496)","v":""},{"$f":"IF(Expenditure!I496=\"\",\"\",Expenditure!I496)","v":""},"",{"$f":"IF(Expenditure!K496=\"\",\"\",Expenditure!K496)","v":""},{"$f":"IF(Expenditure!L496=\"\",\"\",Expenditure!L496)","v":""},{"$f":"IF(Expenditure!M496=\"\",\"\",Expenditure!M496)","v":""},"-"]
[{"$f":"IF(Expenditure!B497=\"\",\"\",Expenditure!B497)","v":""},{"$f":"IF(Expenditure!C497=\"\",\"\",TEXT(Expenditure!C497,\"mmm\"))","v":""},{"$f":"IF(Expenditure!E497=\"\",\"\",Expenditure!E497)","v":""},{"$f":"IF(Expenditure!F497=\"\",\"\",Expenditure!F497)","v":""},{"$f":"IF(Expenditure!G497=\"\",\"\",Expenditure!G497)","v":""},{"$f":"IF(Expenditure!H497=\"\",\"\",Expenditure!H497)","v":""},{"$f":"IF(Expenditure!I497=\"\",\"\",Expenditure!I497)","v":""},"",{"$f":"IF(Expenditure!K497=\"\",\"\",Expenditure!K497)","v":""},{"$f":"IF(Expenditure!L497=\"\",\"\",Expenditure!L497)","v":""},{"$f":"IF(Expenditure!M497=\"\",\"\",Expenditure!M497)","v":""},"-"]
[{"$f":"IF(Expenditure!B498=\"\",\"\",Expenditure!B498)","v":""},{"$f":"IF(Expenditure!C498=\"\",\"\",TEXT(Expenditure!C498,\"mmm\"))","v":""},{"$f":"IF(Expenditure!E498=\"\",\"\",Expenditure!E498)","v":""},{"$f":"IF(Expenditure!F498=\"\",\"\",Expenditure!F498)","v":""},{"$f":"IF(Expenditure!G498=\"\",\"\",Expenditure!G498)","v":""},{"$f":"IF(Expenditure!H498=\"\",\"\",Expenditure!H498)","v":""},{"$f":"IF(Expenditure!I498=\"\",\"\",Expenditure!I498)","v":""},"",{"$f":"IF(Expenditure!K498=\"\",\"\",Expenditure!K498)","v":""},{"$f":"IF(Expenditure!L498=\"\",\"\",Expenditure!L498)","v":""},{"$f":"IF(Expenditure!M498=\"\",\"\",Expenditure!M498)","v":""},"-"]
[{"$f":"IF(Expenditure!B499=\"\",\"\",Expenditure!B499)","v":""},{"$f":"IF(Expenditure!C499=\"\",\"\",TEXT(Expenditure!C499,\"mmm\"))","v":""},{"$f":"IF(Expenditure!E499=\"\",\"\",Expenditure!E499)","v":""},{"$f":"IF(Expenditure!F499=\"\",\"\",Expenditure!F499)","v":""},{"$f":"IF(Expenditure!G499=\"\",\"\",Expenditure!G499)","v":""},{"$f":"IF(Expenditure!H499=\"\",\"\",Expenditure!H499)","v":""},{"$f":"IF(Expenditure!I499=\"\",\"\",Expenditure!I499)","v":""},"",{"$f":"IF(Expenditure!K499=\"\",\"\",Expenditure!K499)","v":""},{"$f":"IF(Expenditure!L499=\"\",\"\",Expenditure!L499)","v":""},{"$f":"IF(Expenditure!M499=\"\",\"\",Expenditure!M499)","v":""},"-"]
[{"$f":"IF(Expenditure!B500=\"\",\"\",Expenditure!B500)","v":""},{"$f":"IF(Expenditure!C500=\"\",\"\",TEXT(Expenditure!C500,\"mmm\"))","v":""},{"$f":"IF(Expenditure!E500=\"\",\"\",Expenditure!E500)","v":""},{"$f":"IF(Expenditure!F500=\"\",\"\",Expenditure!F500)","v":""},{"$f":"IF(Expenditure!G500=\"\",\"\",Expenditure!G500)","v":""},{"$f":"IF(Expenditure!H500=\"\",\"\",Expenditure!H500)","v":""},{"$f":"IF(Expenditure!I500=\"\",\"\",Expenditure!I500)","v":""},"",{"$f":"IF(Expenditure!K500=\"\",\"\",Expenditure!K500)","v":""},{"$f":"IF(Expenditure!L500=\"\",\"\",Expenditure!L500)","v":""},{"$f":"IF(Expenditure!M500=\"\",\"\",Expenditure!M500)","v":""},"-"]
[{"$f":"IF(Expenditure!B501=\"\",\"\",Expenditure!B501)","v":""},{"$f":"IF(Expenditure!C501=\"\",\"\",TEXT(Expenditure!C501,\"mmm\"))","v":""},{"$f":"IF(Expenditure!E501=\"\",\"\",Expenditure!E501)","v":""},{"$f":"IF(Expenditure!F501=\"\",\"\",Expenditure!F501)","v":""},{"$f":"IF(Expenditure!G501=\"\",\"\",Expenditure!G501)","v":""},{"$f":"IF(Expenditure!H501=\"\",\"\",Expenditure!H501)","v":""},{"$f":"IF(Expenditure!I501=\"\",\"\",Expenditure!I501)","v":""},"",{"$f":"IF(Expenditure!K501=\"\",\"\",Expenditure!K501)","v":""},{"$f":"IF(Expenditure!L501=\"\",\"\",Expenditure!L501)","v":""},{"$f":"IF(Expenditure!M501=\"\",\"\",Expenditure!M501)","v":""},"-"]
[{"$f":"IF(Expenditure!B502=\"\",\"\",Expenditure!B502)","v":""},{"$f":"IF(Expenditure!C502=\"\",\"\",TEXT(Expenditure!C502,\"mmm\"))","v":""},{"$f":"IF(Expenditure!E502=\"\",\"\",Expenditure!E502)","v":""},{"$f":"IF(Expenditure!F502=\"\",\"\",Expenditure!F502)","v":""},{"$f":"IF(Expenditure!G502=\"\",\"\",Expenditure!G502)","v":""},{"$f":"IF(Expenditure!H502=\"\",\"\",Expenditure!H502)","v":""},{"$f":"IF(Expenditure!I502=\"\",\"\",Expenditure!I502)","v":""},"",{"$f":"IF(Expenditure!K502=\"\",\"\",Expenditure!K502)","v":""},{"$f":"IF(Expenditure!L502=\"\",\"\",Expenditure!L502)","v":""},{"$f":"IF(Expenditure!M502=\"\",\"\",Expenditure!M502)","v":""},"-"]
[{"$f":"IF(Expenditure!B503=\"\",\"\",Expenditure!B503)","v":""},{"$f":"IF(Expenditure!C503=\"\",\"\",TEXT(Expenditure!C503,\"mmm\"))","v":""},{"$f":"IF(Expenditure!E503=\"\",\"\",Expenditure!E503)","v":""},{"$f":"IF(Expenditure!F503=\"\",\"\",Expenditure!F503)","v":""},{"$f":"IF(Expenditure!G503=\"\",\"\",Expenditure!G503)","v":""},{"$f":"IF(Expenditure!H503=\"\",\"\",Expenditure!H503)","v":""},{"$f":"IF(Expenditure!I503=\"\",\"\",Expenditure!I503)","v":""},"",{"$f":"IF(Expenditure!K503=\"\",\"\",Expenditure!K503)","v":""},{"$f":"IF(Expenditure!L503=\"\",\"\",Expenditure!L503)","v":""},{"$f":"IF(Expenditure!M503=\"\",\"\",Expenditure!M503)","v":""},"-"]
[{"$f":"IF(Expenditure!B504=\"\",\"\",Expenditure!B504)","v":""},{"$f":"IF(Expenditure!C504=\"\",\"\",TEXT(Expenditure!C504,\"mmm\"))","v":""},{"$f":"IF(Expenditure!E504=\"\",\"\",Expenditure!E504)","v":""},{"$f":"IF(Expenditure!F504=\"\",\"\",Expenditure!F504)","v":""},{"$f":"IF(Expenditure!G504=\"\",\"\",Expenditure!G504)","v":""},{"$f":"IF(Expenditure!H504=\"\",\"\",Expenditure!H504)","v":""},{"$f":"IF(Expenditure!I504=\"\",\"\",Expenditure!I504)","v":""},"",{"$f":"IF(Expenditure!K504=\"\",\"\",Expenditure!K504)","v":""},{"$f":"IF(Expenditure!L504=\"\",\"\",Expenditure!L504)","v":""},{"$f":"IF(Expenditure!M504=\"\",\"\",Expenditure!M504)","v":""},"-"]
[{"$f":"IF(Expenditure!B505=\"\",\"\",Expenditure!B505)","v":""},{"$f":"IF(Expenditure!C505=\"\",\"\",TEXT(Expenditure!C505,\"mmm\"))","v":""},{"$f":"IF(Expenditure!E505=\"\",\"\",Expenditure!E505)","v":""},{"$f":"IF(Expenditure!F505=\"\",\"\",Expenditure!F505)","v":""},{"$f":"IF(Expenditure!G505=\"\",\"\",Expenditure!G505)","v":""},{"$f":"IF(Expenditure!H505=\"\",\"\",Expenditure!H505)","v":""},{"$f":"IF(Expenditure!I505=\"\",\"\",Expenditure!I505)","v":""},"",{"$f":"IF(Expenditure!K505=\"\",\"\",Expenditure!K505)","v":""},{"$f":"IF(Expenditure!L505=\"\",\"\",Expenditure!L505)","v":""},{"$f":"IF(Expenditure!M505=\"\",\"\",Expenditure!M505)","v":""},"-"]
[{"$f":"IF(Expenditure!B506=\"\",\"\",Expenditure!B506)","v":""},{"$f":"IF(Expenditure!C506=\"\",\"\",TEXT(Expenditure!C506,\"mmm\"))","v":""},{"$f":"IF(Expenditure!E506=\"\",\"\",Expenditure!E506)","v":""},{"$f":"IF(Expenditure!F506=\"\",\"\",Expenditure!F506)","v":""},{"$f":"IF(Expenditure!G506=\"\",\"\",Expenditure!G506)","v":""},{"$f":"IF(Expenditure!H506=\"\",\"\",Expenditure!H506)","v":""},{"$f":"IF(Expenditure!I506=\"\",\"\",Expenditure!I506)","v":""},"",{"$f":"IF(Expenditure!K506=\"\",\"\",Expenditure!K506)","v":""},{"$f":"IF(Expenditure!L506=\"\",\"\",Expenditure!L506)","v":""},{"$f":"IF(Expenditure!M506=\"\",\"\",Expenditure!M506)","v":""},"-"]
[{"$f":"IF(Expenditure!B507=\"\",\"\",Expenditure!B507)","v":""},{"$f":"IF(Expenditure!C507=\"\",\"\",TEXT(Expenditure!C507,\"mmm\"))","v":""},{"$f":"IF(Expenditure!E507=\"\",\"\",Expenditure!E507)","v":""},{"$f":"IF(Expenditure!F507=\"\",\"\",Expenditure!F507)","v":""},{"$f":"IF(Expenditure!G507=\"\",\"\",Expenditure!G507)","v":""},{"$f":"IF(Expenditure!H507=\"\",\"\",Expenditure!H507)","v":""},{"$f":"IF(Expenditure!I507=\"\",\"\",Expenditure!I507)","v":""},"",{"$f":"IF(Expenditure!K507=\"\",\"\",Expenditure!K507)","v":""},{"$f":"IF(Expenditure!L507=\"\",\"\",Expenditure!L507)","v":""},{"$f":"IF(Expenditure!M507=\"\",\"\",Expenditure!M507)","v":""},"-"]
[{"$f":"IF(Expenditure!B508=\"\",\"\",Expenditure!B508)","v":""},{"$f":"IF(Expenditure!C508=\"\",\"\",TEXT(Expenditure!C508,\"mmm\"))","v":""},{"$f":"IF(Expenditure!E508=\"\",\"\",Expenditure!E508)","v":""},{"$f":"IF(Expenditure!F508=\"\",\"\",Expenditure!F508)","v":""},{"$f":"IF(Expenditure!G508=\"\",\"\",Expenditure!G508)","v":""},{"$f":"IF(Expenditure!H508=\"\",\"\",Expenditure!H508)","v":""},{"$f":"IF(Expenditure!I508=\"\",\"\",Expenditure!I508)","v":""},"",{"$f":"IF(Expenditure!K508=\"\",\"\",Expenditure!K508)","v":""},{"$f":"IF(Expenditure!L508=\"\",\"\",Expenditure!L508)","v":""},{"$f":"IF(Expenditure!M508=\"\",\"\",Expenditure!M508)","v":""},"-"]
[{"$f":"IF(Expenditure!B509=\"\",\"\",Expenditure!B509)","v":""},{"$f":"IF(Expenditure!C509=\"\",\"\",TEXT(Expenditure!C509,\"mmm\"))","v":""},{"$f":"IF(Expenditure!E509=\"\",\"\",Expenditure!E509)","v":""},{"$f":"IF(Expenditure!F509=\"\",\"\",Expenditure!F509)","v":""},{"$f":"IF(Expenditure!G509=\"\",\"\",Expenditure!G509)","v":""},{"$f":"IF(Expenditure!H509=\"\",\"\",Expenditure!H509)","v":""},{"$f":"IF(Expenditure!I509=\"\",\"\",Expenditure!I509)","v":""},"",{"$f":"IF(Expenditure!K509=\"\",\"\",Expenditure!K509)","v":""},{"$f":"IF(Expenditure!L509=\"\",\"\",Expenditure!L509)","v":""},{"$f":"IF(Expenditure!M509=\"\",\"\",Expenditure!M509)","v":""},"-"]
[{"$f":"IF(Expenditure!B510=\"\",\"\",Expenditure!B510)","v":""},{"$f":"IF(Expenditure!C510=\"\",\"\",TEXT(Expenditure!C510,\"mmm\"))","v":""},{"$f":"IF(Expenditure!E510=\"\",\"\",Expenditure!E510)","v":""},{"$f":"IF(Expenditure!F510=\"\",\"\",Expenditure!F510)","v":""},{"$f":"IF(Expenditure!G510=\"\",\"\",Expenditure!G510)","v":""},{"$f":"IF(Expenditure!H510=\"\",\"\",Expenditure!H510)","v":""},{"$f":"IF(Expenditure!I510=\"\",\"\",Expenditure!I510)","v":""},"",{"$f":"IF(Expenditure!K510=\"\",\"\",Expenditure!K510)","v":""},{"$f":"IF(Expenditure!L510=\"\",\"\",Expenditure!L510)","v":""},{"$f":"IF(Expenditure!M510=\"\",\"\",Expenditure!M510)","v":""},"-"]
[{"$f":"IF(Expenditure!B511=\"\",\"\",Expenditure!B511)","v":""},{"$f":"IF(Expenditure!C511=\"\",\"\",TEXT(Expenditure!C511,\"mmm\"))","v":""},{"$f":"IF(Expenditure!E511=\"\",\"\",Expenditure!E511)","v":""},{"$f":"IF(Expenditure!F511=\"\",\"\",Expenditure!F511)","v":""},{"$f":"IF(Expenditure!G511=\"\",\"\",Expenditure!G511)","v":""},{"$f":"IF(Expenditure!H511=\"\",\"\",Expenditure!H511)","v":""},{"$f":"IF(Expenditure!I511=\"\",\"\",Expenditure!I511)","v":""},"",{"$f":"IF(Expenditure!K511=\"\",\"\",Expenditure!K511)","v":""},{"$f":"IF(Expenditure!L511=\"\",\"\",Expenditure!L511)","v":""},{"$f":"IF(Expenditure!M511=\"\",\"\",Expenditure!M511)","v":""},"-"]
[{"$f":"IF(Expenditure!B512=\"\",\"\",Expenditure!B512)","v":""},{"$f":"IF(Expenditure!C512=\"\",\"\",TEXT(Expenditure!C512,\"mmm\"))","v":""},{"$f":"IF(Expenditure!E512=\"\",\"\",Expenditure!E512)","v":""},{"$f":"IF(Expenditure!F512=\"\",\"\",Expenditure!F512)","v":""},{"$f":"IF(Expenditure!G512=\"\",\"\",Expenditure!G512)","v":""},{"$f":"IF(Expenditure!H512=\"\",\"\",Expenditure!H512)","v":""},{"$f":"IF(Expenditure!I512=\"\",\"\",Expenditure!I512)","v":""},"",{"$f":"IF(Expenditure!K512=\"\",\"\",Expenditure!K512)","v":""},{"$f":"IF(Expenditure!L512=\"\",\"\",Expenditure!L512)","v":""},{"$f":"IF(Expenditure!M512=\"\",\"\",Expenditure!M512)","v":""},"-"]
[{"$f":"IF(Expenditure!B513=\"\",\"\",Expenditure!B513)","v":""},{"$f":"IF(Expenditure!C513=\"\",\"\",TEXT(Expenditure!C513,\"mmm\"))","v":""},{"$f":"IF(Expenditure!E513=\"\",\"\",Expenditure!E513)","v":""},{"$f":"IF(Expenditure!F513=\"\",\"\",Expenditure!F513)","v":""},{"$f":"IF(Expenditure!G513=\"\",\"\",Expenditure!G513)","v":""},{"$f":"IF(Expenditure!H513=\"\",\"\",Expenditure!H513)","v":""},{"$f":"IF(Expenditure!I513=\"\",\"\",Expenditure!I513)","v":""},"",{"$f":"IF(Expenditure!K513=\"\",\"\",Expenditure!K513)","v":""},{"$f":"IF(Expenditure!L513=\"\",\"\",Expenditure!L513)","v":""},{"$f":"IF(Expenditure!M513=\"\",\"\",Expenditure!M513)","v":""},"-"]
[{"$f":"IF(Expenditure!B514=\"\",\"\",Expenditure!B514)","v":""},{"$f":"IF(Expenditure!C514=\"\",\"\",TEXT(Expenditure!C514,\"mmm\"))","v":""},{"$f":"IF(Expenditure!E514=\"\",\"\",Expenditure!E514)","v":""},{"$f":"IF(Expenditure!F514=\"\",\"\",Expenditure!F514)","v":""},{"$f":"IF(Expenditure!G514=\"\",\"\",Expenditure!G514)","v":""},{"$f":"IF(Expenditure!H514=\"\",\"\",Expenditure!H514)","v":""},{"$f":"IF(Expenditure!I514=\"\",\"\",Expenditure!I514)","v":""},"",{"$f":"IF(Expenditure!K514=\"\",\"\",Expenditure!K514)","v":""},{"$f":"IF(Expenditure!L514=\"\",\"\",Expenditure!L514)","v":""},{"$f":"IF(Expenditure!M514=\"\",\"\",Expenditure!M514)","v":""},"-"]
[{"$f":"IF(Expenditure!B515=\"\",\"\",Expenditure!B515)","v":""},{"$f":"IF(Expenditure!C515=\"\",\"\",TEXT(Expenditure!C515,\"mmm\"))","v":""},{"$f":"IF(Expenditure!E515=\"\",\"\",Expenditure!E515)","v":""},{"$f":"IF(Expenditure!F515=\"\",\"\",Expenditure!F515)","v":""},{"$f":"IF(Expenditure!G515=\"\",\"\",Expenditure!G515)","v":""},{"$f":"IF(Expenditure!H515=\"\",\"\",Expenditure!H515)","v":""},{"$f":"IF(Expenditure!I515=\"\",\"\",Expenditure!I515)","v":""},"",{"$f":"IF(Expenditure!K515=\"\",\"\",Expenditure!K515)","v":""},{"$f":"IF(Expenditure!L515=\"\",\"\",Expenditure!L515)","v":""},{"$f":"IF(Expenditure!M515=\"\",\"\",Expenditure!M515)","v":""},"-"]
[{"$f":"IF(Expenditure!B516=\"\",\"\",Expenditure!B516)","v":""},{"$f":"IF(Expenditure!C516=\"\",\"\",TEXT(Expenditure!C516,\"mmm\"))","v":""},{"$f":"IF(Expenditure!E516=\"\",\"\",Expenditure!E516)","v":""},{"$f":"IF(Expenditure!F516=\"\",\"\",Expenditure!F516)","v":""},{"$f":"IF(Expenditure!G516=\"\",\"\",Expenditure!G516)","v":""},{"$f":"IF(Expenditure!H516=\"\",\"\",Expenditure!H516)","v":""},{"$f":"IF(Expenditure!I516=\"\",\"\",Expenditure!I516)","v":""},{"$f":"IFERROR(F524*G524,\"\")","v":""},{"$f":"IF(Expenditure!K516=\"\",\"\",Expenditure!K516)","v":""},{"$f":"IF(Expenditure!L516=\"\",\"\",Expenditure!L516)","v":""},{"$f":"IF(Expenditure!M516=\"\",\"\",Expenditure!M516)","v":""},"-"]
[{"$f":"IF(Expenditure!B517=\"\",\"\",Expenditure!B517)","v":""},{"$f":"IF(Expenditure!C517=\"\",\"\",TEXT(Expenditure!C517,\"mmm\"))","v":""},{"$f":"IF(Expenditure!E517=\"\",\"\",Expenditure!E517)","v":""},{"$f":"IF(Expenditure!F517=\"\",\"\",Expenditure!F517)","v":""},{"$f":"IF(Expenditure!G517=\"\",\"\",Expenditure!G517)","v":""},{"$f":"IF(Expenditure!H517=\"\",\"\",Expenditure!H517)","v":""},{"$f":"IF(Expenditure!I517=\"\",\"\",Expenditure!I517)","v":""},"",{"$f":"IF(Expenditure!K517=\"\",\"\",Expenditure!K517)","v":""},{"$f":"IF(Expenditure!L517=\"\",\"\",Expenditure!L517)","v":""},{"$f":"IF(Expenditure!M517=\"\",\"\",Expenditure!M517)","v":""},"-"]
[{"$f":"IF(Expenditure!B518=\"\",\"\",Expenditure!B518)","v":""},{"$f":"IF(Expenditure!C518=\"\",\"\",TEXT(Expenditure!C518,\"mmm\"))","v":""},{"$f":"IF(Expenditure!E518=\"\",\"\",Expenditure!E518)","v":""},{"$f":"IF(Expenditure!F518=\"\",\"\",Expenditure!F518)","v":""},{"$f":"IF(Expenditure!G518=\"\",\"\",Expenditure!G518)","v":""},{"$f":"IF(Expenditure!H518=\"\",\"\",Expenditure!H518)","v":""},{"$f":"IF(Expenditure!I518=\"\",\"\",Expenditure!I518)","v":""},"",{"$f":"IF(Expenditure!K518=\"\",\"\",Expenditure!K518)","v":""},{"$f":"IF(Expenditure!L518=\"\",\"\",Expenditure!L518)","v":""},{"$f":"IF(Expenditure!M518=\"\",\"\",Expenditure!M518)","v":""},"-"]
[{"$f":"IF(Expenditure!B609=\"\",\"\",Expenditure!B609)","v":""},{"$f":"IF(Expenditure!C609=\"\",\"\",TEXT(Expenditure!C609,\"mmm\"))","v":""},{"$f":"IF(Expenditure!E609=\"\",\"\",Expenditure!E609)","v":""},{"$f":"IF(Expenditure!F609=\"\",\"\",Expenditure!F609)","v":""},{"$f":"IF(Expenditure!G609=\"\",\"\",Expenditure!G609)","v":""},{"$f":"IF(Expenditure!H609=\"\",\"\",Expenditure!H609)","v":""},{"$f":"IF(Expenditure!I609=\"\",\"\",Expenditure!I609)","v":""},"",{"$f":"IF(Expenditure!K609=\"\",\"\",Expenditure!K609)","v":""},{"$f":"IF(Expenditure!L609=\"\",\"\",Expenditure!L609)","v":""},{"$f":"IF(Expenditure!M609=\"\",\"\",Expenditure!M609)","v":""},"-"]
[{"$f":"IF(Expenditure!B610=\"\",\"\",Expenditure!B610)","v":""},{"$f":"IF(Expenditure!C610=\"\",\"\",TEXT(Expenditure!C610,\"mmm\"))","v":""},{"$f":"IF(Expenditure!E610=\"\",\"\",Expenditure!E610)","v":""},{"$f":"IF(Expenditure!F610=\"\",\"\",Expenditure!F610)","v":""},{"$f":"IF(Expenditure!G610=\"\",\"\",Expenditure!G610)","v":""},{"$f":"IF(Expenditure!H610=\"\",\"\",Expenditure!H610)","v":""},{"$f":"IF(Expenditure!I610=\"\",\"\",Expenditure!I610)","v":""},"",{"$f":"IF(Expenditure!K610=\"\",\"\",Expenditure!K610)","v":""},{"$f":"IF(Expenditure!L610=\"\",\"\",Expenditure!L610)","v":""},{"$f":"IF(Expenditure!M610=\"\",\"\",Expenditure!M610)","v":""},"-"]
[{"$f":"IF(Expenditure!B611=\"\",\"\",Expenditure!B611)","v":""},{"$f":"IF(Expenditure!C611=\"\",\"\",TEXT(Expenditure!C611,\"mmm\"))","v":""},{"$f":"IF(Expenditure!E611=\"\",\"\",Expenditure!E611)","v":""},{"$f":"IF(Expenditure!F611=\"\",\"\",Expenditure!F611)","v":""},{"$f":"IF(Expenditure!G611=\"\",\"\",Expenditure!G611)","v":""},{"$f":"IF(Expenditure!H611=\"\",\"\",Expenditure!H611)","v":""},{"$f":"IF(Expenditure!I611=\"\",\"\",Expenditure!I611)","v":""},"",{"$f":"IF(Expenditure!K611=\"\",\"\",Expenditure!K611)","v":""},{"$f":"IF(Expenditure!L611=\"\",\"\",Expenditure!L611)","v":""},{"$f":"IF(Expenditure!M611=\"\",\"\",Expenditure!M611)","v":""},"-"]
[{"$f":"IF(Expenditure!B612=\"\",\"\",Expenditure!B612)","v":""},{"$f":"IF(Expenditure!C612=\"\",\"\",TEXT(Expenditure!C612,\"mmm\"))","v":""},{"$f":"IF(Expenditure!E612=\"\",\"\",Expenditure!E612)","v":""},{"$f":"IF(Expenditure!F612=\"\",\"\",Expenditure!F612)","v":""},{"$f":"IF(Expenditure!G612=\"\",\"\",Expenditure!G612)","v":""},{"$f":"IF(Expenditure!H612=\"\",\"\",Expenditure!H612)","v":""},{"$f":"IF(Expenditure!I612=\"\",\"\",Expenditure!I612)","v":""},"",{"$f":"IF(Expenditure!K612=\"\",\"\",Expenditure!K612)","v":""},{"$f":"IF(Expenditure!L612=\"\",\"\",Expenditure!L612)","v":""},{"$f":"IF(Expenditure!M612=\"\",\"\",Expenditure!M612)","v":""},"-"]
[{"$f":"IF(Expenditure!B613=\"\",\"\",Expenditure!B613)","v":""},{"$f":"IF(Expenditure!C613=\"\",\"\",TEXT(Expenditure!C613,\"mmm\"))","v":""},{"$f":"IF(Expenditure!E613=\"\",\"\",Expenditure!E613)","v":""},{"$f":"IF(Expenditure!F613=\"\",\"\",Expenditure!F613)","v":""},{"$f":"IF(Expenditure!G613=\"\",\"\",Expenditure!G613)","v":""},{"$f":"IF(Expenditure!H613=\"\",\"\",Expenditure!H613)","v":""},{"$f":"IF(Expenditure!I613=\"\",\"\",Expenditure!I613)","v":""},"",{"$f":"IF(Expenditure!K613=\"\",\"\",Expenditure!K613)","v":""},{"$f":"IF(Expenditure!L613=\"\",\"\",Expenditure!L613)","v":""},{"$f":"IF(Expenditure!M613=\"\",\"\",Expenditure!M613)","v":""},"-"]
[{"$f":"IF(Expenditure!B614=\"\",\"\",Expenditure!B614)","v":""},{"$f":"IF(Expenditure!C614=\"\",\"\",TEXT(Expenditure!C614,\"mmm\"))","v":""},{"$f":"IF(Expenditure!E614=\"\",\"\",Expenditure!E614)","v":""},{"$f":"IF(Expenditure!F614=\"\",\"\",Expenditure!F614)","v":""},{"$f":"IF(Expenditure!G614=\"\",\"\",Expenditure!G614)","v":""},{"$f":"IF(Expenditure!H614=\"\",\"\",Expenditure!H614)","v":""},{"$f":"IF(Expenditure!I614=\"\",\"\",Expenditure!I614)","v":""},"",{"$f":"IF(Expenditure!K614=\"\",\"\",Expenditure!K614)","v":""},{"$f":"IF(Expenditure!L614=\"\",\"\",Expenditure!L614)","v":""},{"$f":"IF(Expenditure!M614=\"\",\"\",Expenditure!M614)","v":""},"-"]
[{"$f":"IF(Expenditure!B615=\"\",\"\",Expenditure!B615)","v":""},{"$f":"IF(Expenditure!C615=\"\",\"\",TEXT(Expenditure!C615,\"mmm\"))","v":""},{"$f":"IF(Expenditure!E615=\"\",\"\",Expenditure!E615)","v":""},{"$f":"IF(Expenditure!F615=\"\",\"\",Expenditure!F615)","v":""},{"$f":"IF(Expenditure!G615=\"\",\"\",Expenditure!G615)","v":""},{"$f":"IF(Expenditure!H615=\"\",\"\",Expenditure!H615)","v":""},{"$f":"IF(Expenditure!I615=\"\",\"\",Expenditure!I615)","v":""},"",{"$f":"IF(Expenditure!K615=\"\",\"\",Expenditure!K615)","v":""},{"$f":"IF(Expenditure!L615=\"\",\"\",Expenditure!L615)","v":""},{"$f":"IF(Expenditure!M615=\"\",\"\",Expenditure!M615)","v":""},"-"]
[{"$f":"IF(Expenditure!B616=\"\",\"\",Expenditure!B616)","v":""},{"$f":"IF(Expenditure!C616=\"\",\"\",TEXT(Expenditure!C616,\"mmm\"))","v":""},{"$f":"IF(Expenditure!E616=\"\",\"\",Expenditure!E616)","v":""},{"$f":"IF(Expenditure!F616=\"\",\"\",Expenditure!F616)","v":""},{"$f":"IF(Expenditure!G616=\"\",\"\",Expenditure!G616)","v":""},{"$f":"IF(Expenditure!H616=\"\",\"\",Expenditure!H616)","v":""},{"$f":"IF(Expenditure!I616=\"\",\"\",Expenditure!I616)","v":""},"",{"$f":"IF(Expenditure!K616=\"\",\"\",Expenditure!K616)","v":""},{"$f":"IF(Expenditure!L616=\"\",\"\",Expenditure!L616)","v":""},{"$f":"IF(Expenditure!M616=\"\",\"\",Expenditure!M616)","v":""},"-"]
[{"$f":"IF(Expenditure!B617=\"\",\"\",Expenditure!B617)","v":""},{"$f":"IF(Expenditure!C617=\"\",\"\",TEXT(Expenditure!C617,\"mmm\"))","v":""},{"$f":"IF(Expenditure!E617=\"\",\"\",Expenditure!E617)","v":""},{"$f":"IF(Expenditure!F617=\"\",\"\",Expenditure!F617)","v":""},{"$f":"IF(Expenditure!G617=\"\",\"\",Expenditure!G617)","v":""},{"$f":"IF(Expenditure!H617=\"\",\"\",Expenditure!H617)","v":""},{"$f":"IF(Expenditure!I617=\"\",\"\",Expenditure!I617)","v":""},"",{"$f":"IF(Expenditure!K617=\"\",\"\",Expenditure!K617)","v":""},{"$f":"IF(Expenditure!L617=\"\",\"\",Expenditure!L617)","v":""},{"$f":"IF(Expenditure!M617=\"\",\"\",Expenditure!M617)","v":""},"-"]
[{"$f":"IF(Expenditure!B618=\"\",\"\",Expenditure!B618)","v":""},{"$f":"IF(Expenditure!C618=\"\",\"\",TEXT(Expenditure!C618,\"mmm\"))","v":""},{"$f":"IF(Expenditure!E618=\"\",\"\",Expenditure!E618)","v":""},{"$f":"IF(Expenditure!F618=\"\",\"\",Expenditure!F618)","v":""},{"$f":"IF(Expenditure!G618=\"\",\"\",Expenditure!G618)","v":""},{"$f":"IF(Expenditure!H618=\"\",\"\",Expenditure!H618)","v":""},{"$f":"IF(Expenditure!I618=\"\",\"\",Expenditure!I618)","v":""},"",{"$f":"IF(Expenditure!K618=\"\",\"\",Expenditure!K618)","v":""},{"$f":"IF(Expenditure!L618=\"\",\"\",Expenditure!L618)","v":""},{"$f":"IF(Expenditure!M618=\"\",\"\",Expenditure!M618)","v":""},"-"]
[{"$f":"IF(Expenditure!B619=\"\",\"\",Expenditure!B619)","v":""},{"$f":"IF(Expenditure!C619=\"\",\"\",TEXT(Expenditure!C619,\"mmm\"))","v":""},{"$f":"IF(Expenditure!E619=\"\",\"\",Expenditure!E619)","v":""},{"$f":"IF(Expenditure!F619=\"\",\"\",Expenditure!F619)","v":""},{"$f":"IF(Expenditure!G619=\"\",\"\",Expenditure!G619)","v":""},{"$f":"IF(Expenditure!H619=\"\",\"\",Expenditure!H619)","v":""},{"$f":"IF(Expenditure!I619=\"\",\"\",Expenditure!I619)","v":""},"",{"$f":"IF(Expenditure!K619=\"\",\"\",Expenditure!K619)","v":""},{"$f":"IF(Expenditure!L619=\"\",\"\",Expenditure!L619)","v":""},{"$f":"IF(Expenditure!M619=\"\",\"\",Expenditure!M619)","v":""},"-"]
[{"$f":"IF(Expenditure!B620=\"\",\"\",Expenditure!B620)","v":""},{"$f":"IF(Expenditure!C620=\"\",\"\",TEXT(Expenditure!C620,\"mmm\"))","v":""},{"$f":"IF(Expenditure!E620=\"\",\"\",Expenditure!E620)","v":""},{"$f":"IF(Expenditure!F620=\"\",\"\",Expenditure!F620)","v":""},{"$f":"IF(Expenditure!G620=\"\",\"\",Expenditure!G620)","v":""},{"$f":"IF(Expenditure!H620=\"\",\"\",Expenditure!H620)","v":""},{"$f":"IF(Expenditure!I620=\"\",\"\",Expenditure!I620)","v":""},"",{"$f":"IF(Expenditure!K620=\"\",\"\",Expenditure!K620)","v":""},{"$f":"IF(Expenditure!L620=\"\",\"\",Expenditure!L620)","v":""},{"$f":"IF(Expenditure!M620=\"\",\"\",Expenditure!M620)","v":""},"-"]
[{"$f":"IF(Expenditure!B621=\"\",\"\",Expenditure!B621)","v":""},{"$f":"IF(Expenditure!C621=\"\",\"\",TEXT(Expenditure!C621,\"mmm\"))","v":""},{"$f":"IF(Expenditure!E621=\"\",\"\",Expenditure!E621)","v":""},{"$f":"IF(Expenditure!F621=\"\",\"\",Expenditure!F621)","v":""},{"$f":"IF(Expenditure!G621=\"\",\"\",Expenditure!G621)","v":""},{"$f":"IF(Expenditure!H621=\"\",\"\",Expenditure!H621)","v":""},{"$f":"IF(Expenditure!I621=\"\",\"\",Expenditure!I621)","v":""},"",{"$f":"IF(Expenditure!K621=\"\",\"\",Expenditure!K621)","v":""},{"$f":"IF(Expenditure!L621=\"\",\"\",Expenditure!L621)","v":""},{"$f":"IF(Expenditure!M621=\"\",\"\",Expenditure!M621)","v":""},"-"]
[{"$f":"IF(Expenditure!B622=\"\",\"\",Expenditure!B622)","v":""},{"$f":"IF(Expenditure!C622=\"\",\"\",TEXT(Expenditure!C622,\"mmm\"))","v":""},{"$f":"IF(Expenditure!E622=\"\",\"\",Expenditure!E622)","v":""},{"$f":"IF(Expenditure!F622=\"\",\"\",Expenditure!F622)","v":""},{"$f":"IF(Expenditure!G622=\"\",\"\",Expenditure!G622)","v":""},{"$f":"IF(Expenditure!H622=\"\",\"\",Expenditure!H622)","v":""},{"$f":"IF(Expenditure!I622=\"\",\"\",Expenditure!I622)","v":""},"",{"$f":"IF(Expenditure!K622=\"\",\"\",Expenditure!K622)","v":""},{"$f":"IF(Expenditure!L622=\"\",\"\",Expenditure!L622)","v":""},{"$f":"IF(Expenditure!M622=\"\",\"\",Expenditure!M622)","v":""},"-"]
[{"$f":"IF(Expenditure!B623=\"\",\"\",Expenditure!B623)","v":""},{"$f":"IF(Expenditure!C623=\"\",\"\",TEXT(Expenditure!C623,\"mmm\"))","v":""},{"$f":"IF(Expenditure!E623=\"\",\"\",Expenditure!E623)","v":""},{"$f":"IF(Expenditure!F623=\"\",\"\",Expenditure!F623)","v":""},{"$f":"IF(Expenditure!G623=\"\",\"\",Expenditure!G623)","v":""},{"$f":"IF(Expenditure!H623=\"\",\"\",Expenditure!H623)","v":""},{"$f":"IF(Expenditure!I623=\"\",\"\",Expenditure!I623)","v":""},"",{"$f":"IF(Expenditure!K623=\"\",\"\",Expenditure!K623)","v":""},{"$f":"IF(Expenditure!L623=\"\",\"\",Expenditure!L623)","v":""},{"$f":"IF(Expenditure!M623=\"\",\"\",Expenditure!M623)","v":""},"-"]
[{"$f":"IF(Expenditure!B624=\"\",\"\",Expenditure!B624)","v":""},{"$f":"IF(Expenditure!C624=\"\",\"\",TEXT(Expenditure!C624,\"mmm\"))","v":""},{"$f":"IF(Expenditure!E624=\"\",\"\",Expenditure!E624)","v":""},{"$f":"IF(Expenditure!F624=\"\",\"\",Expenditure!F624)","v":""},{"$f":"IF(Expenditure!G624=\"\",\"\",Expenditure!G624)","v":""},{"$f":"IF(Expenditure!H624=\"\",\"\",Expenditure!H624)","v":""},{"$f":"IF(Expenditure!I624=\"\",\"\",Expenditure!I624)","v":""},"",{"$f":"IF(Expenditure!K624=\"\",\"\",Expenditure!K624)","v":""},{"$f":"IF(Expenditure!L624=\"\",\"\",Expenditure!L624)","v":""},{"$f":"IF(Expenditure!M624=\"\",\"\",Expenditure!M624)","v":""},"-"]
[{"$f":"IF(Expenditure!B625=\"\",\"\",Expenditure!B625)","v":""},{"$f":"IF(Expenditure!C625=\"\",\"\",TEXT(Expenditure!C625,\"mmm\"))","v":""},{"$f":"IF(Expenditure!E625=\"\",\"\",Expenditure!E625)","v":""},{"$f":"IF(Expenditure!F625=\"\",\"\",Expenditure!F625)","v":""},{"$f":"IF(Expenditure!G625=\"\",\"\",Expenditure!G625)","v":""},{"$f":"IF(Expenditure!H625=\"\",\"\",Expenditure!H625)","v":""},{"$f":"IF(Expenditure!I625=\"\",\"\",Expenditure!I625)","v":""},"",{"$f":"IF(Expenditure!K625=\"\",\"\",Expenditure!K625)","v":""},{"$f":"IF(Expenditure!L625=\"\",\"\",Expenditure!L625)","v":""},{"$f":"IF(Expenditure!M625=\"\",\"\",Expenditure!M625)","v":""},"-"]
[{"$f":"IF(Expenditure!B626=\"\",\"\",Expenditure!B626)","v":""},{"$f":"IF(Expenditure!C626=\"\",\"\",TEXT(Expenditure!C626,\"mmm\"))","v":""},{"$f":"IF(Expenditure!E626=\"\",\"\",Expenditure!E626)","v":""},{"$f":"IF(Expenditure!F626=\"\",\"\",Expenditure!F626)","v":""},{"$f":"IF(Expenditure!G626=\"\",\"\",Expenditure!G626)","v":""},{"$f":"IF(Expenditure!H626=\"\",\"\",Expenditure!H626)","v":""},{"$f":"IF(Expenditure!I626=\"\",\"\",Expenditure!I626)","v":""},"",{"$f":"IF(Expenditure!K626=\"\",\"\",Expenditure!K626)","v":""},{"$f":"IF(Expenditure!L626=\"\",\"\",Expenditure!L626)","v":""},{"$f":"IF(Expenditure!M626=\"\",\"\",Expenditure!M626)","v":""},"-"]
[{"$f":"IF(Expenditure!B627=\"\",\"\",Expenditure!B627)","v":""},{"$f":"IF(Expenditure!C627=\"\",\"\",TEXT(Expenditure!C627,\"mmm\"))","v":""},{"$f":"IF(Expenditure!E627=\"\",\"\",Expenditure!E627)","v":""},{"$f":"IF(Expenditure!F627=\"\",\"\",Expenditure!F627)","v":""},{"$f":"IF(Expenditure!G627=\"\",\"\",Expenditure!G627)","v":""},{"$f":"IF(Expenditure!H627=\"\",\"\",Expenditure!H627)","v":""},{"$f":"IF(Expenditure!I627=\"\",\"\",Expenditure!I627)","v":""},"",{"$f":"IF(Expenditure!K627=\"\",\"\",Expenditure!K627)","v":""},{"$f":"IF(Expenditure!L627=\"\",\"\",Expenditure!L627)","v":""},{"$f":"IF(Expenditure!M627=\"\",\"\",Expenditure!M627)","v":""},"-"]
[{"$f":"IF(Expenditure!B628=\"\",\"\",Expenditure!B628)","v":""},{"$f":"IF(Expenditure!C628=\"\",\"\",TEXT(Expenditure!C628,\"mmm\"))","v":""},{"$f":"IF(Expenditure!E628=\"\",\"\",Expenditure!E628)","v":""},{"$f":"IF(Expenditure!F628=\"\",\"\",Expenditure!F628)","v":""},{"$f":"IF(Expenditure!G628=\"\",\"\",Expenditure!G628)","v":""},{"$f":"IF(Expenditure!H628=\"\",\"\",Expenditure!H628)","v":""},{"$f":"IF(Expenditure!I628=\"\",\"\",Expenditure!I628)","v":""},"",{"$f":"IF(Expenditure!K628=\"\",\"\",Expenditure!K628)","v":""},{"$f":"IF(Expenditure!L628=\"\",\"\",Expenditure!L628)","v":""},{"$f":"IF(Expenditure!M628=\"\",\"\",Expenditure!M628)","v":""},"-"]
[{"$f":"IF(Expenditure!B629=\"\",\"\",Expenditure!B629)","v":""},{"$f":"IF(Expenditure!C629=\"\",\"\",TEXT(Expenditure!C629,\"mmm\"))","v":""},{"$f":"IF(Expenditure!E629=\"\",\"\",Expenditure!E629)","v":""},{"$f":"IF(Expenditure!F629=\"\",\"\",Expenditure!F629)","v":""},{"$f":"IF(Expenditure!G629=\"\",\"\",Expenditure!G629)","v":""},{"$f":"IF(Expenditure!H629=\"\",\"\",Expenditure!H629)","v":""},{"$f":"IF(Expenditure!I629=\"\",\"\",Expenditure!I629)","v":""},"",{"$f":"IF(Expenditure!K629=\"\",\"\",Expenditure!K629)","v":""},{"$f":"IF(Expenditure!L629=\"\",\"\",Expenditure!L629)","v":""},{"$f":"IF(Expenditure!M629=\"\",\"\",Expenditure!M629)","v":""},"-"]
[{"$f":"IF(Expenditure!B630=\"\",\"\",Expenditure!B630)","v":""},{"$f":"IF(Expenditure!C630=\"\",\"\",TEXT(Expenditure!C630,\"mmm\"))","v":""},{"$f":"IF(Expenditure!E630=\"\",\"\",Expenditure!E630)","v":""},{"$f":"IF(Expenditure!F630=\"\",\"\",Expenditure!F630)","v":""},{"$f":"IF(Expenditure!G630=\"\",\"\",Expenditure!G630)","v":""},{"$f":"IF(Expenditure!H630=\"\",\"\",Expenditure!H630)","v":""},{"$f":"IF(Expenditure!I630=\"\",\"\",Expenditure!I630)","v":""},"",{"$f":"IF(Expenditure!K630=\"\",\"\",Expenditure!K630)","v":""},{"$f":"IF(Expenditure!L630=\"\",\"\",Expenditure!L630)","v":""},{"$f":"IF(Expenditure!M630=\"\",\"\",Expenditure!M630)","v":""},"-"]
[{"$f":"IF(Expenditure!B631=\"\",\"\",Expenditure!B631)","v":""},{"$f":"IF(Expenditure!C631=\"\",\"\",TEXT(Expenditure!C631,\"mmm\"))","v":""},{"$f":"IF(Expenditure!E631=\"\",\"\",Expenditure!E631)","v":""},{"$f":"IF(Expenditure!F631=\"\",\"\",Expenditure!F631)","v":""},{"$f":"IF(Expenditure!G631=\"\",\"\",Expenditure!G631)","v":""},{"$f":"IF(Expenditure!H631=\"\",\"\",Expenditure!H631)","v":""},{"$f":"IF(Expenditure!I631=\"\",\"\",Expenditure!I631)","v":""},"",{"$f":"IF(Expenditure!K631=\"\",\"\",Expenditure!K631)","v":""},{"$f":"IF(Expenditure!L631=\"\",\"\",Expenditure!L631)","v":""},{"$f":"IF(Expenditure!M631=\"\",\"\",Expenditure!M631)","v":""},"-"]
[{"$f":"IF(Expenditure!B632=\"\",\"\",Expenditure!B632)","v":""},{"$f":"IF(Expenditure!C632=\"\",\"\",TEXT(Expenditure!C632,\"mmm\"))","v":""},{"$f":"IF(Expenditure!E632=\"\",\"\",Expenditure!E632)","v":""},{"$f":"IF(Expenditure!F632=\"\",\"\",Expenditure!F632)","v":""},{"$f":"IF(Expenditure!G632=\"\",\"\",Expenditure!G632)","v":""},{"$f":"IF(Expenditure!H632=\"\",\"\",Expenditure!H632)","v":""},{"$f":"IF(Expenditure!I632=\"\",\"\",Expenditure!I632)","v":""},"",{"$f":"IF(Expenditure!K632=\"\",\"\",Expenditure!K632)","v":""},{"$f":"IF(Expenditure!L632=\"\",\"\",Expenditure!L632)","v":""},{"$f":"IF(Expenditure!M632=\"\",\"\",Expenditure!M632)","v":""},"-"]
[{"$f":"IF(Expenditure!B633=\"\",\"\",Expenditure!B633)","v":""},{"$f":"IF(Expenditure!C633=\"\",\"\",TEXT(Expenditure!C633,\"mmm\"))","v":""},{"$f":"IF(Expenditure!E633=\"\",\"\",Expenditure!E633)","v":""},{"$f":"IF(Expenditure!F633=\"\",\"\",Expenditure!F633)","v":""},{"$f":"IF(Expenditure!G633=\"\",\"\",Expenditure!G633)","v":""},{"$f":"IF(Expenditure!H633=\"\",\"\",Expenditure!H633)","v":""},{"$f":"IF(Expenditure!I633=\"\",\"\",Expenditure!I633)","v":""},"",{"$f":"IF(Expenditure!K633=\"\",\"\",Expenditure!K633)","v":""},{"$f":"IF(Expenditure!L633=\"\",\"\",Expenditure!L633)","v":""},{"$f":"IF(Expenditure!M633=\"\",\"\",Expenditure!M633)","v":""},"-"]
[{"$f":"IF(Expenditure!B634=\"\",\"\",Expenditure!B634)","v":""},{"$f":"IF(Expenditure!C634=\"\",\"\",TEXT(Expenditure!C634,\"mmm\"))","v":""},{"$f":"IF(Expenditure!E634=\"\",\"\",Expenditure!E634)","v":""},{"$f":"IF(Expenditure!F634=\"\",\"\",Expenditure!F634)","v":""},{"$f":"IF(Expenditure!G634=\"\",\"\",Expenditure!G634)","v":""},{"$f":"IF(Expenditure!H634=\"\",\"\",Expenditure!H634)","v":""},{"$f":"IF(Expenditure!I634=\"\",\"\",Expenditure!I634)","v":""},"",{"$f":"IF(Expenditure!K634=\"\",\"\",Expenditure!K634)","v":""},{"$f":"IF(Expenditure!L634=\"\",\"\",Expenditure!L634)","v":""},{"$f":"IF(Expenditure!M634=\"\",\"\",Expenditure!M634)","v":""},"-"]
[{"$f":"IF(Expenditure!B635=\"\",\"\",Expenditure!B635)","v":""},{"$f":"IF(Expenditure!C635=\"\",\"\",TEXT(Expenditure!C635,\"mmm\"))","v":""},{"$f":"IF(Expenditure!E635=\"\",\"\",Expenditure!E635)","v":""},{"$f":"IF(Expenditure!F635=\"\",\"\",Expenditure!F635)","v":""},{"$f":"IF(Expenditure!G635=\"\",\"\",Expenditure!G635)","v":""},{"$f":"IF(Expenditure!H635=\"\",\"\",Expenditure!H635)","v":""},{"$f":"IF(Expenditure!I635=\"\",\"\",Expenditure!I635)","v":""},"",{"$f":"IF(Expenditure!K635=\"\",\"\",Expenditure!K635)","v":""},{"$f":"IF(Expenditure!L635=\"\",\"\",Expenditure!L635)","v":""},{"$f":"IF(Expenditure!M635=\"\",\"\",Expenditure!M635)","v":""},"-"]
[{"$f":"IF(Expenditure!B636=\"\",\"\",Expenditure!B636)","v":""},{"$f":"IF(Expenditure!C636=\"\",\"\",TEXT(Expenditure!C636,\"mmm\"))","v":""},{"$f":"IF(Expenditure!E636=\"\",\"\",Expenditure!E636)","v":""},{"$f":"IF(Expenditure!F636=\"\",\"\",Expenditure!F636)","v":""},{"$f":"IF(Expenditure!G636=\"\",\"\",Expenditure!G636)","v":""},{"$f":"IF(Expenditure!H636=\"\",\"\",Expenditure!H636)","v":""},{"$f":"IF(Expenditure!I636=\"\",\"\",Expenditure!I636)","v":""},"",{"$f":"IF(Expenditure!K636=\"\",\"\",Expenditure!K636)","v":""},{"$f":"IF(Expenditure!L636=\"\",\"\",Expenditure!L636)","v":""},{"$f":"IF(Expenditure!M636=\"\",\"\",Expenditure!M636)","v":""},"-"]
[{"$f":"IF(Expenditure!B637=\"\",\"\",Expenditure!B637)","v":""},{"$f":"IF(Expenditure!C637=\"\",\"\",TEXT(Expenditure!C637,\"mmm\"))","v":""},{"$f":"IF(Expenditure!E637=\"\",\"\",Expenditure!E637)","v":""},{"$f":"IF(Expenditure!F637=\"\",\"\",Expenditure!F637)","v":""},{"$f":"IF(Expenditure!G637=\"\",\"\",Expenditure!G637)","v":""},{"$f":"IF(Expenditure!H637=\"\",\"\",Expenditure!H637)","v":""},{"$f":"IF(Expenditure!I637=\"\",\"\",Expenditure!I637)","v":""},"",{"$f":"IF(Expenditure!K637=\"\",\"\",Expenditure!K637)","v":""},{"$f":"IF(Expenditure!L637=\"\",\"\",Expenditure!L637)","v":""},{"$f":"IF(Expenditure!M637=\"\",\"\",Expenditure!M637)","v":""},"-"]
[{"$f":"IF(Expenditure!B638=\"\",\"\",Expenditure!B638)","v":""},{"$f":"IF(Expenditure!C638=\"\",\"\",TEXT(Expenditure!C638,\"mmm\"))","v":""},{"$f":"IF(Expenditure!E638=\"\",\"\",Expenditure!E638)","v":""},{"$f":"IF(Expenditure!F638=\"\",\"\",Expenditure!F638)","v":""},{"$f":"IF(Expenditure!G638=\"\",\"\",Expenditure!G638)","v":""},{"$f":"IF(Expenditure!H638=\"\",\"\",Expenditure!H638)","v":""},{"$f":"IF(Expenditure!I638=\"\",\"\",Expenditure!I638)","v":""},"",{"$f":"IF(Expenditure!K638=\"\",\"\",Expenditure!K638)","v":""},{"$f":"IF(Expenditure!L638=\"\",\"\",Expenditure!L638)","v":""},{"$f":"IF(Expenditure!M638=\"\",\"\",Expenditure!M638)","v":""},"-"]
[{"$f":"IF(Expenditure!B639=\"\",\"\",Expenditure!B639)","v":""},{"$f":"IF(Expenditure!C639=\"\",\"\",TEXT(Expenditure!C639,\"mmm\"))","v":""},{"$f":"IF(Expenditure!E639=\"\",\"\",Expenditure!E639)","v":""},{"$f":"IF(Expenditure!F639=\"\",\"\",Expenditure!F639)","v":""},{"$f":"IF(Expenditure!G639=\"\",\"\",Expenditure!G639)","v":""},{"$f":"IF(Expenditure!H639=\"\",\"\",Expenditure!H639)","v":""},{"$f":"IF(Expenditure!I639=\"\",\"\",Expenditure!I639)","v":""},"",{"$f":"IF(Expenditure!K639=\"\",\"\",Expenditure!K639)","v":""},{"$f":"IF(Expenditure!L639=\"\",\"\",Expenditure!L639)","v":""},{"$f":"IF(Expenditure!M639=\"\",\"\",Expenditure!M639)","v":""},"-"]
[{"$f":"IF(Expenditure!B640=\"\",\"\",Expenditure!B640)","v":""},{"$f":"IF(Expenditure!C640=\"\",\"\",TEXT(Expenditure!C640,\"mmm\"))","v":""},{"$f":"IF(Expenditure!E640=\"\",\"\",Expenditure!E640)","v":""},{"$f":"IF(Expenditure!F640=\"\",\"\",Expenditure!F640)","v":""},{"$f":"IF(Expenditure!G640=\"\",\"\",Expenditure!G640)","v":""},{"$f":"IF(Expenditure!H640=\"\",\"\",Expenditure!H640)","v":""},{"$f":"IF(Expenditure!I640=\"\",\"\",Expenditure!I640)","v":""},"",{"$f":"IF(Expenditure!K640=\"\",\"\",Expenditure!K640)","v":""},{"$f":"IF(Expenditure!L640=\"\",\"\",Expenditure!L640)","v":""},{"$f":"IF(Expenditure!M640=\"\",\"\",Expenditure!M640)","v":""},"-"]
[{"$f":"IF(Expenditure!B641=\"\",\"\",Expenditure!B641)","v":""},{"$f":"IF(Expenditure!C641=\"\",\"\",TEXT(Expenditure!C641,\"mmm\"))","v":""},{"$f":"IF(Expenditure!E641=\"\",\"\",Expenditure!E641)","v":""},{"$f":"IF(Expenditure!F641=\"\",\"\",Expenditure!F641)","v":""},{"$f":"IF(Expenditure!G641=\"\",\"\",Expenditure!G641)","v":""},{"$f":"IF(Expenditure!H641=\"\",\"\",Expenditure!H641)","v":""},{"$f":"IF(Expenditure!I641=\"\",\"\",Expenditure!I641)","v":""},"",{"$f":"IF(Expenditure!K641=\"\",\"\",Expenditure!K641)","v":""},{"$f":"IF(Expenditure!L641=\"\",\"\",Expenditure!L641)","v":""},{"$f":"IF(Expenditure!M641=\"\",\"\",Expenditure!M641)","v":""},"-"]
[{"$f":"IF(Expenditure!B642=\"\",\"\",Expenditure!B642)","v":""},{"$f":"IF(Expenditure!C642=\"\",\"\",TEXT(Expenditure!C642,\"mmm\"))","v":""},{"$f":"IF(Expenditure!E642=\"\",\"\",Expenditure!E642)","v":""},{"$f":"IF(Expenditure!F642=\"\",\"\",Expenditure!F642)","v":""},{"$f":"IF(Expenditure!G642=\"\",\"\",Expenditure!G642)","v":""},{"$f":"IF(Expenditure!H642=\"\",\"\",Expenditure!H642)","v":""},{"$f":"IF(Expenditure!I642=\"\",\"\",Expenditure!I642)","v":""},"",{"$f":"IF(Expenditure!K642=\"\",\"\",Expenditure!K642)","v":""},{"$f":"IF(Expenditure!L642=\"\",\"\",Expenditure!L642)","v":""},{"$f":"IF(Expenditure!M642=\"\",\"\",Expenditure!M642)","v":""},"-"]
[{"$f":"IF(Expenditure!B643=\"\",\"\",Expenditure!B643)","v":""},{"$f":"IF(Expenditure!C643=\"\",\"\",TEXT(Expenditure!C643,\"mmm\"))","v":""},{"$f":"IF(Expenditure!E643=\"\",\"\",Expenditure!E643)","v":""},{"$f":"IF(Expenditure!F643=\"\",\"\",Expenditure!F643)","v":""},{"$f":"IF(Expenditure!G643=\"\",\"\",Expenditure!G643)","v":""},{"$f":"IF(Expenditure!H643=\"\",\"\",Expenditure!H643)","v":""},{"$f":"IF(Expenditure!I643=\"\",\"\",Expenditure!I643)","v":""},"",{"$f":"IF(Expenditure!K643=\"\",\"\",Expenditure!K643)","v":""},{"$f":"IF(Expenditure!L643=\"\",\"\",Expenditure!L643)","v":""},{"$f":"IF(Expenditure!M643=\"\",\"\",Expenditure!M643)","v":""},"-"]
[{"$f":"IF(Expenditure!B644=\"\",\"\",Expenditure!B644)","v":""},{"$f":"IF(Expenditure!C644=\"\",\"\",TEXT(Expenditure!C644,\"mmm\"))","v":""},{"$f":"IF(Expenditure!E644=\"\",\"\",Expenditure!E644)","v":""},{"$f":"IF(Expenditure!F644=\"\",\"\",Expenditure!F644)","v":""},{"$f":"IF(Expenditure!G644=\"\",\"\",Expenditure!G644)","v":""},{"$f":"IF(Expenditure!H644=\"\",\"\",Expenditure!H644)","v":""},{"$f":"IF(Expenditure!I644=\"\",\"\",Expenditure!I644)","v":""},"",{"$f":"IF(Expenditure!K644=\"\",\"\",Expenditure!K644)","v":""},{"$f":"IF(Expenditure!L644=\"\",\"\",Expenditure!L644)","v":""},{"$f":"IF(Expenditure!M644=\"\",\"\",Expenditure!M644)","v":""},"-"]
[{"$f":"IF(Expenditure!B645=\"\",\"\",Expenditure!B645)","v":""},{"$f":"IF(Expenditure!C645=\"\",\"\",TEXT(Expenditure!C645,\"mmm\"))","v":""},{"$f":"IF(Expenditure!E645=\"\",\"\",Expenditure!E645)","v":""},{"$f":"IF(Expenditure!F645=\"\",\"\",Expenditure!F645)","v":""},{"$f":"IF(Expenditure!G645=\"\",\"\",Expenditure!G645)","v":""},{"$f":"IF(Expenditure!H645=\"\",\"\",Expenditure!H645)","v":""},{"$f":"IF(Expenditure!I645=\"\",\"\",Expenditure!I645)","v":""},"",{"$f":"IF(Expenditure!K645=\"\",\"\",Expenditure!K645)","v":""},{"$f":"IF(Expenditure!L645=\"\",\"\",Expenditure!L645)","v":""},{"$f":"IF(Expenditure!M645=\"\",\"\",Expenditure!M645)","v":""},"-"]
[{"$f":"IF(Expenditure!B646=\"\",\"\",Expenditure!B646)","v":""},{"$f":"IF(Expenditure!C646=\"\",\"\",TEXT(Expenditure!C646,\"mmm\"))","v":""},{"$f":"IF(Expenditure!E646=\"\",\"\",Expenditure!E646)","v":""},{"$f":"IF(Expenditure!F646=\"\",\"\",Expenditure!F646)","v":""},{"$f":"IF(Expenditure!G646=\"\",\"\",Expenditure!G646)","v":""},{"$f":"IF(Expenditure!H646=\"\",\"\",Expenditure!H646)","v":""},{"$f":"IF(Expenditure!I646=\"\",\"\",Expenditure!I646)","v":""},"",{"$f":"IF(Expenditure!K646=\"\",\"\",Expenditure!K646)","v":""},{"$f":"IF(Expenditure!L646=\"\",\"\",Expenditure!L646)","v":""},{"$f":"IF(Expenditure!M646=\"\",\"\",Expenditure!M646)","v":""},"-"]
[{"$f":"IF(Expenditure!B647=\"\",\"\",Expenditure!B647)","v":""},{"$f":"IF(Expenditure!C647=\"\",\"\",TEXT(Expenditure!C647,\"mmm\"))","v":""},{"$f":"IF(Expenditure!E647=\"\",\"\",Expenditure!E647)","v":""},{"$f":"IF(Expenditure!F647=\"\",\"\",Expenditure!F647)","v":""},{"$f":"IF(Expenditure!G647=\"\",\"\",Expenditure!G647)","v":""},{"$f":"IF(Expenditure!H647=\"\",\"\",Expenditure!H647)","v":""},{"$f":"IF(Expenditure!I647=\"\",\"\",Expenditure!I647)","v":""},"",{"$f":"IF(Expenditure!K647=\"\",\"\",Expenditure!K647)","v":""},{"$f":"IF(Expenditure!L647=\"\",\"\",Expenditure!L647)","v":""},{"$f":"IF(Expenditure!M647=\"\",\"\",Expenditure!M647)","v":""},"-"]
[{"$f":"IF(Expenditure!B648=\"\",\"\",Expenditure!B648)","v":""},{"$f":"IF(Expenditure!C648=\"\",\"\",TEXT(Expenditure!C648,\"mmm\"))","v":""},{"$f":"IF(Expenditure!E648=\"\",\"\",Expenditure!E648)","v":""},{"$f":"IF(Expenditure!F648=\"\",\"\",Expenditure!F648)","v":""},{"$f":"IF(Expenditure!G648=\"\",\"\",Expenditure!G648)","v":""},{"$f":"IF(Expenditure!H648=\"\",\"\",Expenditure!H648)","v":""},{"$f":"IF(Expenditure!I648=\"\",\"\",Expenditure!I648)","v":""},"",{"$f":"IF(Expenditure!K648=\"\",\"\",Expenditure!K648)","v":""},{"$f":"IF(Expenditure!L648=\"\",\"\",Expenditure!L648)","v":""},{"$f":"IF(Expenditure!M648=\"\",\"\",Expenditure!M648)","v":""},"-"]
[{"$f":"IF(Expenditure!B649=\"\",\"\",Expenditure!B649)","v":""},{"$f":"IF(Expenditure!C649=\"\",\"\",TEXT(Expenditure!C649,\"mmm\"))","v":""},{"$f":"IF(Expenditure!E649=\"\",\"\",Expenditure!E649)","v":""},{"$f":"IF(Expenditure!F649=\"\",\"\",Expenditure!F649)","v":""},{"$f":"IF(Expenditure!G649=\"\",\"\",Expenditure!G649)","v":""},{"$f":"IF(Expenditure!H649=\"\",\"\",Expenditure!H649)","v":""},{"$f":"IF(Expenditure!I649=\"\",\"\",Expenditure!I649)","v":""},"",{"$f":"IF(Expenditure!K649=\"\",\"\",Expenditure!K649)","v":""},{"$f":"IF(Expenditure!L649=\"\",\"\",Expenditure!L649)","v":""},{"$f":"IF(Expenditure!M649=\"\",\"\",Expenditure!M649)","v":""},"-"]
[{"$f":"IF(Expenditure!B650=\"\",\"\",Expenditure!B650)","v":""},{"$f":"IF(Expenditure!C650=\"\",\"\",TEXT(Expenditure!C650,\"mmm\"))","v":""},{"$f":"IF(Expenditure!E650=\"\",\"\",Expenditure!E650)","v":""},{"$f":"IF(Expenditure!F650=\"\",\"\",Expenditure!F650)","v":""},{"$f":"IF(Expenditure!G650=\"\",\"\",Expenditure!G650)","v":""},{"$f":"IF(Expenditure!H650=\"\",\"\",Expenditure!H650)","v":""},{"$f":"IF(Expenditure!I650=\"\",\"\",Expenditure!I650)","v":""},"",{"$f":"IF(Expenditure!K650=\"\",\"\",Expenditure!K650)","v":""},{"$f":"IF(Expenditure!L650=\"\",\"\",Expenditure!L650)","v":""},{"$f":"IF(Expenditure!M650=\"\",\"\",Expenditure!M650)","v":""},"-"]
[{"$f":"IF(Expenditure!B651=\"\",\"\",Expenditure!B651)","v":""},{"$f":"IF(Expenditure!C651=\"\",\"\",TEXT(Expenditure!C651,\"mmm\"))","v":""},{"$f":"IF(Expenditure!E651=\"\",\"\",Expenditure!E651)","v":""},{"$f":"IF(Expenditure!F651=\"\",\"\",Expenditure!F651)","v":""},{"$f":"IF(Expenditure!G651=\"\",\"\",Expenditure!G651)","v":""},{"$f":"IF(Expenditure!H651=\"\",\"\",Expenditure!H651)","v":""},{"$f":"IF(Expenditure!I651=\"\",\"\",Expenditure!I651)","v":""},"",{"$f":"IF(Expenditure!K651=\"\",\"\",Expenditure!K651)","v":""},{"$f":"IF(Expenditure!L651=\"\",\"\",Expenditure!L651)","v":""},{"$f":"IF(Expenditure!M651=\"\",\"\",Expenditure!M651)","v":""},"-"]
[{"$f":"IF(Expenditure!B652=\"\",\"\",Expenditure!B652)","v":""},{"$f":"IF(Expenditure!C652=\"\",\"\",TEXT(Expenditure!C652,\"mmm\"))","v":""},{"$f":"IF(Expenditure!E652=\"\",\"\",Expenditure!E652)","v":""},{"$f":"IF(Expenditure!F652=\"\",\"\",Expenditure!F652)","v":""},{"$f":"IF(Expenditure!G652=\"\",\"\",Expenditure!G652)","v":""},{"$f":"IF(Expenditure!H652=\"\",\"\",Expenditure!H652)","v":""},{"$f":"IF(Expenditure!I652=\"\",\"\",Expenditure!I652)","v":""},"",{"$f":"IF(Expenditure!K652=\"\",\"\",Expenditure!K652)","v":""},{"$f":"IF(Expenditure!L652=\"\",\"\",Expenditure!L652)","v":""},{"$f":"IF(Expenditure!M652=\"\",\"\",Expenditure!M652)","v":""},"-"]
[{"$f":"IF(Expenditure!B653=\"\",\"\",Expenditure!B653)","v":""},{"$f":"IF(Expenditure!C653=\"\",\"\",TEXT(Expenditure!C653,\"mmm\"))","v":""},{"$f":"IF(Expenditure!E653=\"\",\"\",Expenditure!E653)","v":""},{"$f":"IF(Expenditure!F653=\"\",\"\",Expenditure!F653)","v":""},{"$f":"IF(Expenditure!G653=\"\",\"\",Expenditure!G653)","v":""},{"$f":"IF(Expenditure!H653=\"\",\"\",Expenditure!H653)","v":""},{"$f":"IF(Expenditure!I653=\"\",\"\",Expenditure!I653)","v":""},"",{"$f":"IF(Expenditure!K653=\"\",\"\",Expenditure!K653)","v":""},{"$f":"IF(Expenditure!L653=\"\",\"\",Expenditure!L653)","v":""},{"$f":"IF(Expenditure!M653=\"\",\"\",Expenditure!M653)","v":""},"-"]
[{"$f":"IF(Expenditure!B654=\"\",\"\",Expenditure!B654)","v":""},{"$f":"IF(Expenditure!C654=\"\",\"\",TEXT(Expenditure!C654,\"mmm\"))","v":""},{"$f":"IF(Expenditure!E654=\"\",\"\",Expenditure!E654)","v":""},{"$f":"IF(Expenditure!F654=\"\",\"\",Expenditure!F654)","v":""},{"$f":"IF(Expenditure!G654=\"\",\"\",Expenditure!G654)","v":""},{"$f":"IF(Expenditure!H654=\"\",\"\",Expenditure!H654)","v":""},{"$f":"IF(Expenditure!I654=\"\",\"\",Expenditure!I654)","v":""},"",{"$f":"IF(Expenditure!K654=\"\",\"\",Expenditure!K654)","v":""},{"$f":"IF(Expenditure!L654=\"\",\"\",Expenditure!L654)","v":""},{"$f":"IF(Expenditure!M654=\"\",\"\",Expenditure!M654)","v":""},"-"]
[{"$f":"IF(Expenditure!B655=\"\",\"\",Expenditure!B655)","v":""},{"$f":"IF(Expenditure!C655=\"\",\"\",TEXT(Expenditure!C655,\"mmm\"))","v":""},{"$f":"IF(Expenditure!E655=\"\",\"\",Expenditure!E655)","v":""},{"$f":"IF(Expenditure!F655=\"\",\"\",Expenditure!F655)","v":""},{"$f":"IF(Expenditure!G655=\"\",\"\",Expenditure!G655)","v":""},{"$f":"IF(Expenditure!H655=\"\",\"\",Expenditure!H655)","v":""},{"$f":"IF(Expenditure!I655=\"\",\"\",Expenditure!I655)","v":""},"",{"$f":"IF(Expenditure!K655=\"\",\"\",Expenditure!K655)","v":""},{"$f":"IF(Expenditure!L655=\"\",\"\",Expenditure!L655)","v":""},{"$f":"IF(Expenditure!M655=\"\",\"\",Expenditure!M655)","v":""},"-"]
[{"$f":"IF(Expenditure!B656=\"\",\"\",Expenditure!B656)","v":""},{"$f":"IF(Expenditure!C656=\"\",\"\",TEXT(Expenditure!C656,\"mmm\"))","v":""},{"$f":"IF(Expenditure!E656=\"\",\"\",Expenditure!E656)","v":""},{"$f":"IF(Expenditure!F656=\"\",\"\",Expenditure!F656)","v":""},{"$f":"IF(Expenditure!G656=\"\",\"\",Expenditure!G656)","v":""},{"$f":"IF(Expenditure!H656=\"\",\"\",Expenditure!H656)","v":""},{"$f":"IF(Expenditure!I656=\"\",\"\",Expenditure!I656)","v":""},"",{"$f":"IF(Expenditure!K656=\"\",\"\",Expenditure!K656)","v":""},{"$f":"IF(Expenditure!L656=\"\",\"\",Expenditure!L656)","v":""},{"$f":"IF(Expenditure!M656=\"\",\"\",Expenditure!M656)","v":""},"-"]
[{"$f":"IF(Expenditure!B657=\"\",\"\",Expenditure!B657)","v":""},{"$f":"IF(Expenditure!C657=\"\",\"\",TEXT(Expenditure!C657,\"mmm\"))","v":""},{"$f":"IF(Expenditure!E657=\"\",\"\",Expenditure!E657)","v":""},{"$f":"IF(Expenditure!F657=\"\",\"\",Expenditure!F657)","v":""},{"$f":"IF(Expenditure!G657=\"\",\"\",Expenditure!G657)","v":""},{"$f":"IF(Expenditure!H657=\"\",\"\",Expenditure!H657)","v":""},{"$f":"IF(Expenditure!I657=\"\",\"\",Expenditure!I657)","v":""},"",{"$f":"IF(Expenditure!K657=\"\",\"\",Expenditure!K657)","v":""},{"$f":"IF(Expenditure!L657=\"\",\"\",Expenditure!L657)","v":""},{"$f":"IF(Expenditure!M657=\"\",\"\",Expenditure!M657)","v":""},"-"]
[{"$f":"IF(Expenditure!B658=\"\",\"\",Expenditure!B658)","v":""},{"$f":"IF(Expenditure!C658=\"\",\"\",TEXT(Expenditure!C658,\"mmm\"))","v":""},{"$f":"IF(Expenditure!E658=\"\",\"\",Expenditure!E658)","v":""},{"$f":"IF(Expenditure!F658=\"\",\"\",Expenditure!F658)","v":""},{"$f":"IF(Expenditure!G658=\"\",\"\",Expenditure!G658)","v":""},{"$f":"IF(Expenditure!H658=\"\",\"\",Expenditure!H658)","v":""},{"$f":"IF(Expenditure!I658=\"\",\"\",Expenditure!I658)","v":""},"",{"$f":"IF(Expenditure!K658=\"\",\"\",Expenditure!K658)","v":""},{"$f":"IF(Expenditure!L658=\"\",\"\",Expenditure!L658)","v":""},{"$f":"IF(Expenditure!M658=\"\",\"\",Expenditure!M658)","v":""},"-"]
[{"$f":"IF(Expenditure!B659=\"\",\"\",Expenditure!B659)","v":""},{"$f":"IF(Expenditure!C659=\"\",\"\",TEXT(Expenditure!C659,\"mmm\"))","v":""},{"$f":"IF(Expenditure!E659=\"\",\"\",Expenditure!E659)","v":""},{"$f":"IF(Expenditure!F659=\"\",\"\",Expenditure!F659)","v":""},{"$f":"IF(Expenditure!G659=\"\",\"\",Expenditure!G659)","v":""},{"$f":"IF(Expenditure!H659=\"\",\"\",Expenditure!H659)","v":""},{"$f":"IF(Expenditure!I659=\"\",\"\",Expenditure!I659)","v":""},"",{"$f":"IF(Expenditure!K659=\"\",\"\",Expenditure!K659)","v":""},{"$f":"IF(Expenditure!L659=\"\",\"\",Expenditure!L659)","v":""},{"$f":"IF(Expenditure!M659=\"\",\"\",Expenditure!M659)","v":""},"-"]
[{"$f":"IF(Expenditure!B660=\"\",\"\",Expenditure!B660)","v":""},{"$f":"IF(Expenditure!C660=\"\",\"\",TEXT(Expenditure!C660,\"mmm\"))","v":""},{"$f":"IF(Expenditure!E660=\"\",\"\",Expenditure!E660)","v":""},{"$f":"IF(Expenditure!F660=\"\",\"\",Expenditure!F660)","v":""},{"$f":"IF(Expenditure!G660=\"\",\"\",Expenditure!G660)","v":""},{"$f":"IF(Expenditure!H660=\"\",\"\",Expenditure!H660)","v":""},{"$f":"IF(Expenditure!I660=\"\",\"\",Expenditure!I660)","v":""},"",{"$f":"IF(Expenditure!K660=\"\",\"\",Expenditure!K660)","v":""},{"$f":"IF(Expenditure!L660=\"\",\"\",Expenditure!L660)","v":""},{"$f":"IF(Expenditure!M660=\"\",\"\",Expenditure!M660)","v":""},"-"]
[{"$f":"IF(Expenditure!B661=\"\",\"\",Expenditure!B661)","v":""},{"$f":"IF(Expenditure!C661=\"\",\"\",TEXT(Expenditure!C661,\"mmm\"))","v":""},{"$f":"IF(Expenditure!E661=\"\",\"\",Expenditure!E661)","v":""},{"$f":"IF(Expenditure!F661=\"\",\"\",Expenditure!F661)","v":""},{"$f":"IF(Expenditure!G661=\"\",\"\",Expenditure!G661)","v":""},{"$f":"IF(Expenditure!H661=\"\",\"\",Expenditure!H661)","v":""},{"$f":"IF(Expenditure!I661=\"\",\"\",Expenditure!I661)","v":""},"",{"$f":"IF(Expenditure!K661=\"\",\"\",Expenditure!K661)","v":""},{"$f":"IF(Expenditure!L661=\"\",\"\",Expenditure!L661)","v":""},{"$f":"IF(Expenditure!M661=\"\",\"\",Expenditure!M661)","v":""},"-"]
[{"$f":"IF(Expenditure!B662=\"\",\"\",Expenditure!B662)","v":""},{"$f":"IF(Expenditure!C662=\"\",\"\",TEXT(Expenditure!C662,\"mmm\"))","v":""},{"$f":"IF(Expenditure!E662=\"\",\"\",Expenditure!E662)","v":""},{"$f":"IF(Expenditure!F662=\"\",\"\",Expenditure!F662)","v":""},{"$f":"IF(Expenditure!G662=\"\",\"\",Expenditure!G662)","v":""},{"$f":"IF(Expenditure!H662=\"\",\"\",Expenditure!H662)","v":""},{"$f":"IF(Expenditure!I662=\"\",\"\",Expenditure!I662)","v":""},"",{"$f":"IF(Expenditure!K662=\"\",\"\",Expenditure!K662)","v":""},{"$f":"IF(Expenditure!L662=\"\",\"\",Expenditure!L662)","v":""},{"$f":"IF(Expenditure!M662=\"\",\"\",Expenditure!M662)","v":""},"-"]
[{"$f":"IF(Expenditure!B663=\"\",\"\",Expenditure!B663)","v":""},{"$f":"IF(Expenditure!C663=\"\",\"\",TEXT(Expenditure!C663,\"mmm\"))","v":""},{"$f":"IF(Expenditure!E663=\"\",\"\",Expenditure!E663)","v":""},{"$f":"IF(Expenditure!F663=\"\",\"\",Expenditure!F663)","v":""},{"$f":"IF(Expenditure!G663=\"\",\"\",Expenditure!G663)","v":""},{"$f":"IF(Expenditure!H663=\"\",\"\",Expenditure!H663)","v":""},{"$f":"IF(Expenditure!I663=\"\",\"\",Expenditure!I663)","v":""},"",{"$f":"IF(Expenditure!K663=\"\",\"\",Expenditure!K663)","v":""},{"$f":"IF(Expenditure!L663=\"\",\"\",Expenditure!L663)","v":""},{"$f":"IF(Expenditure!M663=\"\",\"\",Expenditure!M663)","v":""},"-"]
[{"$f":"IF(Expenditure!B664=\"\",\"\",Expenditure!B664)","v":""},{"$f":"IF(Expenditure!C664=\"\",\"\",TEXT(Expenditure!C664,\"mmm\"))","v":""},{"$f":"IF(Expenditure!E664=\"\",\"\",Expenditure!E664)","v":""},{"$f":"IF(Expenditure!F664=\"\",\"\",Expenditure!F664)","v":""},{"$f":"IF(Expenditure!G664=\"\",\"\",Expenditure!G664)","v":""},{"$f":"IF(Expenditure!H664=\"\",\"\",Expenditure!H664)","v":""},{"$f":"IF(Expenditure!I664=\"\",\"\",Expenditure!I664)","v":""},"",{"$f":"IF(Expenditure!K664=\"\",\"\",Expenditure!K664)","v":""},{"$f":"IF(Expenditure!L664=\"\",\"\",Expenditure!L664)","v":""},{"$f":"IF(Expenditure!M664=\"\",\"\",Expenditure!M664)","v":""},"-"]
[{"$f":"IF(Expenditure!B665=\"\",\"\",Expenditure!B665)","v":""},{"$f":"IF(Expenditure!C665=\"\",\"\",TEXT(Expenditure!C665,\"mmm\"))","v":""},{"$f":"IF(Expenditure!E665=\"\",\"\",Expenditure!E665)","v":""},{"$f":"IF(Expenditure!F665=\"\",\"\",Expenditure!F665)","v":""},{"$f":"IF(Expenditure!G665=\"\",\"\",Expenditure!G665)","v":""},{"$f":"IF(Expenditure!H665=\"\",\"\",Expenditure!H665)","v":""},{"$f":"IF(Expenditure!I665=\"\",\"\",Expenditure!I665)","v":""},"",{"$f":"IF(Expenditure!K665=\"\",\"\",Expenditure!K665)","v":""},{"$f":"IF(Expenditure!L665=\"\",\"\",Expenditure!L665)","v":""},{"$f":"IF(Expenditure!M665=\"\",\"\",Expenditure!M665)","v":""},"-"]
[{"$f":"IF(Expenditure!B666=\"\",\"\",Expenditure!B666)","v":""},{"$f":"IF(Expenditure!C666=\"\",\"\",TEXT(Expenditure!C666,\"mmm\"))","v":""},{"$f":"IF(Expenditure!E666=\"\",\"\",Expenditure!E666)","v":""},{"$f":"IF(Expenditure!F666=\"\",\"\",Expenditure!F666)","v":""},{"$f":"IF(Expenditure!G666=\"\",\"\",Expenditure!G666)","v":""},{"$f":"IF(Expenditure!H666=\"\",\"\",Expenditure!H666)","v":""},{"$f":"IF(Expenditure!I666=\"\",\"\",Expenditure!I666)","v":""},"",{"$f":"IF(Expenditure!K666=\"\",\"\",Expenditure!K666)","v":""},{"$f":"IF(Expenditure!L666=\"\",\"\",Expenditure!L666)","v":""},{"$f":"IF(Expenditure!M666=\"\",\"\",Expenditure!M666)","v":""},"-"]
[{"$f":"IF(Expenditure!B667=\"\",\"\",Expenditure!B667)","v":""},{"$f":"IF(Expenditure!C667=\"\",\"\",TEXT(Expenditure!C667,\"mmm\"))","v":""},{"$f":"IF(Expenditure!E667=\"\",\"\",Expenditure!E667)","v":""},{"$f":"IF(Expenditure!F667=\"\",\"\",Expenditure!F667)","v":""},{"$f":"IF(Expenditure!G667=\"\",\"\",Expenditure!G667)","v":""},{"$f":"IF(Expenditure!H667=\"\",\"\",Expenditure!H667)","v":""},{"$f":"IF(Expenditure!I667=\"\",\"\",Expenditure!I667)","v":""},"",{"$f":"IF(Expenditure!K667=\"\",\"\",Expenditure!K667)","v":""},{"$f":"IF(Expenditure!L667=\"\",\"\",Expenditure!L667)","v":""},{"$f":"IF(Expenditure!M667=\"\",\"\",Expenditure!M667)","v":""},"-"]
[{"$f":"IF(Expenditure!B668=\"\",\"\",Expenditure!B668)","v":""},{"$f":"IF(Expenditure!C668=\"\",\"\",TEXT(Expenditure!C668,\"mmm\"))","v":""},{"$f":"IF(Expenditure!E668=\"\",\"\",Expenditure!E668)","v":""},{"$f":"IF(Expenditure!F668=\"\",\"\",Expenditure!F668)","v":""},{"$f":"IF(Expenditure!G668=\"\",\"\",Expenditure!G668)","v":""},{"$f":"IF(Expenditure!H668=\"\",\"\",Expenditure!H668)","v":""},{"$f":"IF(Expenditure!I668=\"\",\"\",Expenditure!I668)","v":""},"",{"$f":"IF(Expenditure!K668=\"\",\"\",Expenditure!K668)","v":""},{"$f":"IF(Expenditure!L668=\"\",\"\",Expenditure!L668)","v":""},{"$f":"IF(Expenditure!M668=\"\",\"\",Expenditure!M668)","v":""},"-"]
[{"$f":"IF(Expenditure!B669=\"\",\"\",Expenditure!B669)","v":""},{"$f":"IF(Expenditure!C669=\"\",\"\",TEXT(Expenditure!C669,\"mmm\"))","v":""},{"$f":"IF(Expenditure!E669=\"\",\"\",Expenditure!E669)","v":""},{"$f":"IF(Expenditure!F669=\"\",\"\",Expenditure!F669)","v":""},{"$f":"IF(Expenditure!G669=\"\",\"\",Expenditure!G669)","v":""},{"$f":"IF(Expenditure!H669=\"\",\"\",Expenditure!H669)","v":""},{"$f":"IF(Expenditure!I669=\"\",\"\",Expenditure!I669)","v":""},"",{"$f":"IF(Expenditure!K669=\"\",\"\",Expenditure!K669)","v":""},{"$f":"IF(Expenditure!L669=\"\",\"\",Expenditure!L669)","v":""},{"$f":"IF(Expenditure!M669=\"\",\"\",Expenditure!M669)","v":""},"-"]
[{"$f":"IF(Expenditure!B670=\"\",\"\",Expenditure!B670)","v":""},{"$f":"IF(Expenditure!C670=\"\",\"\",TEXT(Expenditure!C670,\"mmm\"))","v":""},{"$f":"IF(Expenditure!E670=\"\",\"\",Expenditure!E670)","v":""},{"$f":"IF(Expenditure!F670=\"\",\"\",Expenditure!F670)","v":""},{"$f":"IF(Expenditure!G670=\"\",\"\",Expenditure!G670)","v":""},{"$f":"IF(Expenditure!H670=\"\",\"\",Expenditure!H670)","v":""},{"$f":"IF(Expenditure!I670=\"\",\"\",Expenditure!I670)","v":""},{"$f":"IFERROR(F588*G588,\"\")","v":""},{"$f":"IF(Expenditure!K670=\"\",\"\",Expenditure!K670)","v":""},{"$f":"IF(Expenditure!L670=\"\",\"\",Expenditure!L670)","v":""},{"$f":"IF(Expenditure!M670=\"\",\"\",Expenditure!M670)","v":""},"-"]
[{"$f":"IF(Expenditure!B671=\"\",\"\",Expenditure!B671)","v":""},{"$f":"IF(Expenditure!C671=\"\",\"\",TEXT(Expenditure!C671,\"mmm\"))","v":""},{"$f":"IF(Expenditure!E671=\"\",\"\",Expenditure!E671)","v":""},{"$f":"IF(Expenditure!F671=\"\",\"\",Expenditure!F671)","v":""},{"$f":"IF(Expenditure!G671=\"\",\"\",Expenditure!G671)","v":""},{"$f":"IF(Expenditure!H671=\"\",\"\",Expenditure!H671)","v":""},{"$f":"IF(Expenditure!I671=\"\",\"\",Expenditure!I671)","v":""},"",{"$f":"IF(Expenditure!K671=\"\",\"\",Expenditure!K671)","v":""},{"$f":"IF(Expenditure!L671=\"\",\"\",Expenditure!L671)","v":""},{"$f":"IF(Expenditure!M671=\"\",\"\",Expenditure!M671)","v":""},"-"]
[{"$f":"IF(Expenditure!B672=\"\",\"\",Expenditure!B672)","v":""},{"$f":"IF(Expenditure!C672=\"\",\"\",TEXT(Expenditure!C672,\"mmm\"))","v":""},{"$f":"IF(Expenditure!E672=\"\",\"\",Expenditure!E672)","v":""},{"$f":"IF(Expenditure!F672=\"\",\"\",Expenditure!F672)","v":""},{"$f":"IF(Expenditure!G672=\"\",\"\",Expenditure!G672)","v":""},{"$f":"IF(Expenditure!H672=\"\",\"\",Expenditure!H672)","v":""},{"$f":"IF(Expenditure!I672=\"\",\"\",Expenditure!I672)","v":""},"",{"$f":"IF(Expenditure!K672=\"\",\"\",Expenditure!K672)","v":""},{"$f":"IF(Expenditure!L672=\"\",\"\",Expenditure!L672)","v":""},{"$f":"IF(Expenditure!M672=\"\",\"\",Expenditure!M672)","v":""},"-"]
[{"$f":"IF(Expenditure!B673=\"\",\"\",Expenditure!B673)","v":""},{"$f":"IF(Expenditure!C673=\"\",\"\",TEXT(Expenditure!C673,\"mmm\"))","v":""},{"$f":"IF(Expenditure!E673=\"\",\"\",Expenditure!E673)","v":""},{"$f":"IF(Expenditure!F673=\"\",\"\",Expenditure!F673)","v":""},{"$f":"IF(Expenditure!G673=\"\",\"\",Expenditure!G673)","v":""},{"$f":"IF(Expenditure!H673=\"\",\"\",Expenditure!H673)","v":""},{"$f":"IF(Expenditure!I673=\"\",\"\",Expenditure!I673)","v":""},"",{"$f":"IF(Expenditure!K673=\"\",\"\",Expenditure!K673)","v":""},{"$f":"IF(Expenditure!L673=\"\",\"\",Expenditure!L673)","v":""},{"$f":"IF(Expenditure!M673=\"\",\"\",Expenditure!M673)","v":""},"-"]
[{"$f":"IF(Expenditure!B674=\"\",\"\",Expenditure!B674)","v":""},{"$f":"IF(Expenditure!C674=\"\",\"\",TEXT(Expenditure!C674,\"mmm\"))","v":""},{"$f":"IF(Expenditure!E674=\"\",\"\",Expenditure!E674)","v":""},{"$f":"IF(Expenditure!F674=\"\",\"\",Expenditure!F674)","v":""},{"$f":"IF(Expenditure!G674=\"\",\"\",Expenditure!G674)","v":""},{"$f":"IF(Expenditure!H674=\"\",\"\",Expenditure!H674)","v":""},{"$f":"IF(Expenditure!I674=\"\",\"\",Expenditure!I674)","v":""},"",{"$f":"IF(Expenditure!K674=\"\",\"\",Expenditure!K674)","v":""},{"$f":"IF(Expenditure!L674=\"\",\"\",Expenditure!L674)","v":""},{"$f":"IF(Expenditure!M674=\"\",\"\",Expenditure!M674)","v":""},"-"]
[{"$f":"IF(Expenditure!B675=\"\",\"\",Expenditure!B675)","v":""},{"$f":"IF(Expenditure!C675=\"\",\"\",TEXT(Expenditure!C675,\"mmm\"))","v":""},{"$f":"IF(Expenditure!E675=\"\",\"\",Expenditure!E675)","v":""},{"$f":"IF(Expenditure!F675=\"\",\"\",Expenditure!F675)","v":""},{"$f":"IF(Expenditure!G675=\"\",\"\",Expenditure!G675)","v":""},{"$f":"IF(Expenditure!H675=\"\",\"\",Expenditure!H675)","v":""},{"$f":"IF(Expenditure!I675=\"\",\"\",Expenditure!I675)","v":""},"",{"$f":"IF(Expenditure!K675=\"\",\"\",Expenditure!K675)","v":""},{"$f":"IF(Expenditure!L675=\"\",\"\",Expenditure!L675)","v":""},{"$f":"IF(Expenditure!M675=\"\",\"\",Expenditure!M675)","v":""},"-"]
[{"$f":"IF(Expenditure!B676=\"\",\"\",Expenditure!B676)","v":""},{"$f":"IF(Expenditure!C676=\"\",\"\",TEXT(Expenditure!C676,\"mmm\"))","v":""},{"$f":"IF(Expenditure!E676=\"\",\"\",Expenditure!E676)","v":""},{"$f":"IF(Expenditure!F676=\"\",\"\",Expenditure!F676)","v":""},{"$f":"IF(Expenditure!G676=\"\",\"\",Expenditure!G676)","v":""},{"$f":"IF(Expenditure!H676=\"\",\"\",Expenditure!H676)","v":""},{"$f":"IF(Expenditure!I676=\"\",\"\",Expenditure!I676)","v":""},"",{"$f":"IF(Expenditure!K676=\"\",\"\",Expenditure!K676)","v":""},{"$f":"IF(Expenditure!L676=\"\",\"\",Expenditure!L676)","v":""},{"$f":"IF(Expenditure!M676=\"\",\"\",Expenditure!M676)","v":""},"-"]
[{"$f":"IF(Expenditure!B677=\"\",\"\",Expenditure!B677)","v":""},{"$f":"IF(Expenditure!C677=\"\",\"\",TEXT(Expenditure!C677,\"mmm\"))","v":""},{"$f":"IF(Expenditure!E677=\"\",\"\",Expenditure!E677)","v":""},{"$f":"IF(Expenditure!F677=\"\",\"\",Expenditure!F677)","v":""},{"$f":"IF(Expenditure!G677=\"\",\"\",Expenditure!G677)","v":""},{"$f":"IF(Expenditure!H677=\"\",\"\",Expenditure!H677)","v":""},{"$f":"IF(Expenditure!I677=\"\",\"\",Expenditure!I677)","v":""},"",{"$f":"IF(Expenditure!K677=\"\",\"\",Expenditure!K677)","v":""},{"$f":"IF(Expenditure!L677=\"\",\"\",Expenditure!L677)","v":""},{"$f":"IF(Expenditure!M677=\"\",\"\",Expenditure!M677)","v":""},"-"]
[{"$f":"IF(Expenditure!B678=\"\",\"\",Expenditure!B678)","v":""},{"$f":"IF(Expenditure!C678=\"\",\"\",TEXT(Expenditure!C678,\"mmm\"))","v":""},{"$f":"IF(Expenditure!E678=\"\",\"\",Expenditure!E678)","v":""},{"$f":"IF(Expenditure!F678=\"\",\"\",Expenditure!F678)","v":""},{"$f":"IF(Expenditure!G678=\"\",\"\",Expenditure!G678)","v":""},{"$f":"IF(Expenditure!H678=\"\",\"\",Expenditure!H678)","v":""},{"$f":"IF(Expenditure!I678=\"\",\"\",Expenditure!I678)","v":""},"",{"$f":"IF(Expenditure!K678=\"\",\"\",Expenditure!K678)","v":""},{"$f":"IF(Expenditure!L678=\"\",\"\",Expenditure!L678)","v":""},{"$f":"IF(Expenditure!M678=\"\",\"\",Expenditure!M678)","v":""},"-"]
[{"$f":"IF(Expenditure!B679=\"\",\"\",Expenditure!B679)","v":""},{"$f":"IF(Expenditure!C679=\"\",\"\",TEXT(Expenditure!C679,\"mmm\"))","v":""},{"$f":"IF(Expenditure!E679=\"\",\"\",Expenditure!E679)","v":""},{"$f":"IF(Expenditure!F679=\"\",\"\",Expenditure!F679)","v":""},{"$f":"IF(Expenditure!G679=\"\",\"\",Expenditure!G679)","v":""},{"$f":"IF(Expenditure!H679=\"\",\"\",Expenditure!H679)","v":""},{"$f":"IF(Expenditure!I679=\"\",\"\",Expenditure!I679)","v":""},"",{"$f":"IF(Expenditure!K679=\"\",\"\",Expenditure!K679)","v":""},{"$f":"IF(Expenditure!L679=\"\",\"\",Expenditure!L679)","v":""},{"$f":"IF(Expenditure!M679=\"\",\"\",Expenditure!M679)","v":""},"-"]
[{"$f":"IF(Expenditure!B680=\"\",\"\",Expenditure!B680)","v":""},{"$f":"IF(Expenditure!C680=\"\",\"\",TEXT(Expenditure!C680,\"mmm\"))","v":""},{"$f":"IF(Expenditure!E680=\"\",\"\",Expenditure!E680)","v":""},{"$f":"IF(Expenditure!F680=\"\",\"\",Expenditure!F680)","v":""},{"$f":"IF(Expenditure!G680=\"\",\"\",Expenditure!G680)","v":""},{"$f":"IF(Expenditure!H680=\"\",\"\",Expenditure!H680)","v":""},{"$f":"IF(Expenditure!I680=\"\",\"\",Expenditure!I680)","v":""},"",{"$f":"IF(Expenditure!K680=\"\",\"\",Expenditure!K680)","v":""},{"$f":"IF(Expenditure!L680=\"\",\"\",Expenditure!L680)","v":""},{"$f":"IF(Expenditure!M680=\"\",\"\",Expenditure!M680)","v":""},"-"]
[{"$f":"IF(Expenditure!B681=\"\",\"\",Expenditure!B681)","v":""},{"$f":"IF(Expenditure!C681=\"\",\"\",TEXT(Expenditure!C681,\"mmm\"))","v":""},{"$f":"IF(Expenditure!E681=\"\",\"\",Expenditure!E681)","v":""},{"$f":"IF(Expenditure!F681=\"\",\"\",Expenditure!F681)","v":""},{"$f":"IF(Expenditure!G681=\"\",\"\",Expenditure!G681)","v":""},{"$f":"IF(Expenditure!H681=\"\",\"\",Expenditure!H681)","v":""},{"$f":"IF(Expenditure!I681=\"\",\"\",Expenditure!I681)","v":""},"",{"$f":"IF(Expenditure!K681=\"\",\"\",Expenditure!K681)","v":""},{"$f":"IF(Expenditure!L681=\"\",\"\",Expenditure!L681)","v":""},{"$f":"IF(Expenditure!M681=\"\",\"\",Expenditure!M681)","v":""},"-"]
[{"$f":"IF(Expenditure!B682=\"\",\"\",Expenditure!B682)","v":""},{"$f":"IF(Expenditure!C682=\"\",\"\",TEXT(Expenditure!C682,\"mmm\"))","v":""},{"$f":"IF(Expenditure!E682=\"\",\"\",Expenditure!E682)","v":""},{"$f":"IF(Expenditure!F682=\"\",\"\",Expenditure!F682)","v":""},{"$f":"IF(Expenditure!G682=\"\",\"\",Expenditure!G682)","v":""},{"$f":"IF(Expenditure!H682=\"\",\"\",Expenditure!H682)","v":""},{"$f":"IF(Expenditure!I682=\"\",\"\",Expenditure!I682)","v":""},"",{"$f":"IF(Expenditure!K682=\"\",\"\",Expenditure!K682)","v":""},{"$f":"IF(Expenditure!L682=\"\",\"\",Expenditure!L682)","v":""},{"$f":"IF(Expenditure!M682=\"\",\"\",Expenditure!M682)","v":""},"-"]
[{"$f":"IF(Expenditure!B683=\"\",\"\",Expenditure!B683)","v":""},{"$f":"IF(Expenditure!C683=\"\",\"\",TEXT(Expenditure!C683,\"mmm\"))","v":""},{"$f":"IF(Expenditure!E683=\"\",\"\",Expenditure!E683)","v":""},{"$f":"IF(Expenditure!F683=\"\",\"\",Expenditure!F683)","v":""},{"$f":"IF(Expenditure!G683=\"\",\"\",Expenditure!G683)","v":""},{"$f":"IF(Expenditure!H683=\"\",\"\",Expenditure!H683)","v":""},{"$f":"IF(Expenditure!I683=\"\",\"\",Expenditure!I683)","v":""},"",{"$f":"IF(Expenditure!K683=\"\",\"\",Expenditure!K683)","v":""},{"$f":"IF(Expenditure!L683=\"\",\"\",Expenditure!L683)","v":""},{"$f":"IF(Expenditure!M683=\"\",\"\",Expenditure!M683)","v":""},"-"]
[{"$f":"IF(Expenditure!B684=\"\",\"\",Expenditure!B684)","v":""},{"$f":"IF(Expenditure!C684=\"\",\"\",TEXT(Expenditure!C684,\"mmm\"))","v":""},{"$f":"IF(Expenditure!E684=\"\",\"\",Expenditure!E684)","v":""},{"$f":"IF(Expenditure!F684=\"\",\"\",Expenditure!F684)","v":""},{"$f":"IF(Expenditure!G684=\"\",\"\",Expenditure!G684)","v":""},{"$f":"IF(Expenditure!H684=\"\",\"\",Expenditure!H684)","v":""},{"$f":"IF(Expenditure!I684=\"\",\"\",Expenditure!I684)","v":""},"",{"$f":"IF(Expenditure!K684=\"\",\"\",Expenditure!K684)","v":""},{"$f":"IF(Expenditure!L684=\"\",\"\",Expenditure!L684)","v":""},{"$f":"IF(Expenditure!M684=\"\",\"\",Expenditure!M684)","v":""},"-"]
[{"$f":"IF(Expenditure!B685=\"\",\"\",Expenditure!B685)","v":""},{"$f":"IF(Expenditure!C685=\"\",\"\",TEXT(Expenditure!C685,\"mmm\"))","v":""},{"$f":"IF(Expenditure!E685=\"\",\"\",Expenditure!E685)","v":""},{"$f":"IF(Expenditure!F685=\"\",\"\",Expenditure!F685)","v":""},{"$f":"IF(Expenditure!G685=\"\",\"\",Expenditure!G685)","v":""},{"$f":"IF(Expenditure!H685=\"\",\"\",Expenditure!H685)","v":""},{"$f":"IF(Expenditure!I685=\"\",\"\",Expenditure!I685)","v":""},"",{"$f":"IF(Expenditure!K685=\"\",\"\",Expenditure!K685)","v":""},{"$f":"IF(Expenditure!L685=\"\",\"\",Expenditure!L685)","v":""},{"$f":"IF(Expenditure!M685=\"\",\"\",Expenditure!M685)","v":""},"-"]
[{"$f":"IF(Expenditure!B686=\"\",\"\",Expenditure!B686)","v":""},{"$f":"IF(Expenditure!C686=\"\",\"\",TEXT(Expenditure!C686,\"mmm\"))","v":""},{"$f":"IF(Expenditure!E686=\"\",\"\",Expenditure!E686)","v":""},{"$f":"IF(Expenditure!F686=\"\",\"\",Expenditure!F686)","v":""},{"$f":"IF(Expenditure!G686=\"\",\"\",Expenditure!G686)","v":""},{"$f":"IF(Expenditure!H686=\"\",\"\",Expenditure!H686)","v":""},{"$f":"IF(Expenditure!I686=\"\",\"\",Expenditure!I686)","v":""},"",{"$f":"IF(Expenditure!K686=\"\",\"\",Expenditure!K686)","v":""},{"$f":"IF(Expenditure!L686=\"\",\"\",Expenditure!L686)","v":""},{"$f":"IF(Expenditure!M686=\"\",\"\",Expenditure!M686)","v":""},"-"]
[{"$f":"IF(Expenditure!B687=\"\",\"\",Expenditure!B687)","v":""},{"$f":"IF(Expenditure!C687=\"\",\"\",TEXT(Expenditure!C687,\"mmm\"))","v":""},{"$f":"IF(Expenditure!E687=\"\",\"\",Expenditure!E687)","v":""},{"$f":"IF(Expenditure!F687=\"\",\"\",Expenditure!F687)","v":""},{"$f":"IF(Expenditure!G687=\"\",\"\",Expenditure!G687)","v":""},{"$f":"IF(Expenditure!H687=\"\",\"\",Expenditure!H687)","v":""},{"$f":"IF(Expenditure!I687=\"\",\"\",Expenditure!I687)","v":""},"",{"$f":"IF(Expenditure!K687=\"\",\"\",Expenditure!K687)","v":""},{"$f":"IF(Expenditure!L687=\"\",\"\",Expenditure!L687)","v":""},{"$f":"IF(Expenditure!M687=\"\",\"\",Expenditure!M687)","v":""},"-"]
[{"$f":"IF(Expenditure!B688=\"\",\"\",Expenditure!B688)","v":""},{"$f":"IF(Expenditure!C688=\"\",\"\",TEXT(Expenditure!C688,\"mmm\"))","v":""},{"$f":"IF(Expenditure!E688=\"\",\"\",Expenditure!E688)","v":""},{"$f":"IF(Expenditure!F688=\"\",\"\",Expenditure!F688)","v":""},{"$f":"IF(Expenditure!G688=\"\",\"\",Expenditure!G688)","v":""},{"$f":"IF(Expenditure!H688=\"\",\"\",Expenditure!H688)","v":""},{"$f":"IF(Expenditure!I688=\"\",\"\",Expenditure!I688)","v":""},"",{"$f":"IF(Expenditure!K688=\"\",\"\",Expenditure!K688)","v":""},{"$f":"IF(Expenditure!L688=\"\",\"\",Expenditure!L688)","v":""},{"$f":"IF(Expenditure!M688=\"\",\"\",Expenditure!M688)","v":""},"-"]
[{"$f":"IF(Expenditure!B689=\"\",\"\",Expenditure!B689)","v":""},{"$f":"IF(Expenditure!C689=\"\",\"\",TEXT(Expenditure!C689,\"mmm\"))","v":""},{"$f":"IF(Expenditure!E689=\"\",\"\",Expenditure!E689)","v":""},{"$f":"IF(Expenditure!F689=\"\",\"\",Expenditure!F689)","v":""},{"$f":"IF(Expenditure!G689=\"\",\"\",Expenditure!G689)","v":""},{"$f":"IF(Expenditure!H689=\"\",\"\",Expenditure!H689)","v":""},{"$f":"IF(Expenditure!I689=\"\",\"\",Expenditure!I689)","v":""},"",{"$f":"IF(Expenditure!K689=\"\",\"\",Expenditure!K689)","v":""},{"$f":"IF(Expenditure!L689=\"\",\"\",Expenditure!L689)","v":""},{"$f":"IF(Expenditure!M689=\"\",\"\",Expenditure!M689)","v":""},"-"]
[{"$f":"IF(Expenditure!B690=\"\",\"\",Expenditure!B690)","v":""},{"$f":"IF(Expenditure!C690=\"\",\"\",TEXT(Expenditure!C690,\"mmm\"))","v":""},{"$f":"IF(Expenditure!E690=\"\",\"\",Expenditure!E690)","v":""},{"$f":"IF(Expenditure!F690=\"\",\"\",Expenditure!F690)","v":""},{"$f":"IF(Expenditure!G690=\"\",\"\",Expenditure!G690)","v":""},{"$f":"IF(Expenditure!H690=\"\",\"\",Expenditure!H690)","v":""},{"$f":"IF(Expenditure!I690=\"\",\"\",Expenditure!I690)","v":""},"",{"$f":"IF(Expenditure!K690=\"\",\"\",Expenditure!K690)","v":""},{"$f":"IF(Expenditure!L690=\"\",\"\",Expenditure!L690)","v":""},{"$f":"IF(Expenditure!M690=\"\",\"\",Expenditure!M690)","v":""},"-"]
[{"$f":"IF(Expenditure!B691=\"\",\"\",Expenditure!B691)","v":""},{"$f":"IF(Expenditure!C691=\"\",\"\",TEXT(Expenditure!C691,\"mmm\"))","v":""},{"$f":"IF(Expenditure!E691=\"\",\"\",Expenditure!E691)","v":""},{"$f":"IF(Expenditure!F691=\"\",\"\",Expenditure!F691)","v":""},{"$f":"IF(Expenditure!G691=\"\",\"\",Expenditure!G691)","v":""},{"$f":"IF(Expenditure!H691=\"\",\"\",Expenditure!H691)","v":""},{"$f":"IF(Expenditure!I691=\"\",\"\",Expenditure!I691)","v":""},"",{"$f":"IF(Expenditure!K691=\"\",\"\",Expenditure!K691)","v":""},{"$f":"IF(Expenditure!L691=\"\",\"\",Expenditure!L691)","v":""},{"$f":"IF(Expenditure!M691=\"\",\"\",Expenditure!M691)","v":""},"-"]
[{"$f":"IF(Expenditure!B692=\"\",\"\",Expenditure!B692)","v":""},{"$f":"IF(Expenditure!C692=\"\",\"\",TEXT(Expenditure!C692,\"mmm\"))","v":""},{"$f":"IF(Expenditure!E692=\"\",\"\",Expenditure!E692)","v":""},{"$f":"IF(Expenditure!F692=\"\",\"\",Expenditure!F692)","v":""},{"$f":"IF(Expenditure!G692=\"\",\"\",Expenditure!G692)","v":""},{"$f":"IF(Expenditure!H692=\"\",\"\",Expenditure!H692)","v":""},{"$f":"IF(Expenditure!I692=\"\",\"\",Expenditure!I692)","v":""},"",{"$f":"IF(Expenditure!K692=\"\",\"\",Expenditure!K692)","v":""},{"$f":"IF(Expenditure!L692=\"\",\"\",Expenditure!L692)","v":""},{"$f":"IF(Expenditure!M692=\"\",\"\",Expenditure!M692)","v":""},"-"]
[{"$f":"IF(Expenditure!B693=\"\",\"\",Expenditure!B693)","v":""},{"$f":"IF(Expenditure!C693=\"\",\"\",TEXT(Expenditure!C693,\"mmm\"))","v":""},{"$f":"IF(Expenditure!E693=\"\",\"\",Expenditure!E693)","v":""},{"$f":"IF(Expenditure!F693=\"\",\"\",Expenditure!F693)","v":""},{"$f":"IF(Expenditure!G693=\"\",\"\",Expenditure!G693)","v":""},{"$f":"IF(Expenditure!H693=\"\",\"\",Expenditure!H693)","v":""},{"$f":"IF(Expenditure!I693=\"\",\"\",Expenditure!I693)","v":""},"",{"$f":"IF(Expenditure!K693=\"\",\"\",Expenditure!K693)","v":""},{"$f":"IF(Expenditure!L693=\"\",\"\",Expenditure!L693)","v":""},{"$f":"IF(Expenditure!M693=\"\",\"\",Expenditure!M693)","v":""},"-"]
[{"$f":"IF(Expenditure!B694=\"\",\"\",Expenditure!B694)","v":""},{"$f":"IF(Expenditure!C694=\"\",\"\",TEXT(Expenditure!C694,\"mmm\"))","v":""},{"$f":"IF(Expenditure!E694=\"\",\"\",Expenditure!E694)","v":""},{"$f":"IF(Expenditure!F694=\"\",\"\",Expenditure!F694)","v":""},{"$f":"IF(Expenditure!G694=\"\",\"\",Expenditure!G694)","v":""},{"$f":"IF(Expenditure!H694=\"\",\"\",Expenditure!H694)","v":""},{"$f":"IF(Expenditure!I694=\"\",\"\",Expenditure!I694)","v":""},"",{"$f":"IF(Expenditure!K694=\"\",\"\",Expenditure!K694)","v":""},{"$f":"IF(Expenditure!L694=\"\",\"\",Expenditure!L694)","v":""},{"$f":"IF(Expenditure!M694=\"\",\"\",Expenditure!M694)","v":""},"-"]
[{"$f":"IF(Expenditure!B695=\"\",\"\",Expenditure!B695)","v":""},{"$f":"IF(Expenditure!C695=\"\",\"\",TEXT(Expenditure!C695,\"mmm\"))","v":""},{"$f":"IF(Expenditure!E695=\"\",\"\",Expenditure!E695)","v":""},{"$f":"IF(Expenditure!F695=\"\",\"\",Expenditure!F695)","v":""},{"$f":"IF(Expenditure!G695=\"\",\"\",Expenditure!G695)","v":""},{"$f":"IF(Expenditure!H695=\"\",\"\",Expenditure!H695)","v":""},{"$f":"IF(Expenditure!I695=\"\",\"\",Expenditure!I695)","v":""},"",{"$f":"IF(Expenditure!K695=\"\",\"\",Expenditure!K695)","v":""},{"$f":"IF(Expenditure!L695=\"\",\"\",Expenditure!L695)","v":""},{"$f":"IF(Expenditure!M695=\"\",\"\",Expenditure!M695)","v":""},"-"]
[{"$f":"IF(Expenditure!B696=\"\",\"\",Expenditure!B696)","v":""},{"$f":"IF(Expenditure!C696=\"\",\"\",TEXT(Expenditure!C696,\"mmm\"))","v":""},{"$f":"IF(Expenditure!E696=\"\",\"\",Expenditure!E696)","v":""},{"$f":"IF(Expenditure!F696=\"\",\"\",Expenditure!F696)","v":""},{"$f":"IF(Expenditure!G696=\"\",\"\",Expenditure!G696)","v":""},{"$f":"IF(Expenditure!H696=\"\",\"\",Expenditure!H696)","v":""},{"$f":"IF(Expenditure!I696=\"\",\"\",Expenditure!I696)","v":""},"",{"$f":"IF(Expenditure!K696=\"\",\"\",Expenditure!K696)","v":""},{"$f":"IF(Expenditure!L696=\"\",\"\",Expenditure!L696)","v":""},{"$f":"IF(Expenditure!M696=\"\",\"\",Expenditure!M696)","v":""},"-"]
[{"$f":"IF(Expenditure!B697=\"\",\"\",Expenditure!B697)","v":""},{"$f":"IF(Expenditure!C697=\"\",\"\",TEXT(Expenditure!C697,\"mmm\"))","v":""},{"$f":"IF(Expenditure!E697=\"\",\"\",Expenditure!E697)","v":""},{"$f":"IF(Expenditure!F697=\"\",\"\",Expenditure!F697)","v":""},{"$f":"IF(Expenditure!G697=\"\",\"\",Expenditure!G697)","v":""},{"$f":"IF(Expenditure!H697=\"\",\"\",Expenditure!H697)","v":""},{"$f":"IF(Expenditure!I697=\"\",\"\",Expenditure!I697)","v":""},"",{"$f":"IF(Expenditure!K697=\"\",\"\",Expenditure!K697)","v":""},{"$f":"IF(Expenditure!L697=\"\",\"\",Expenditure!L697)","v":""},{"$f":"IF(Expenditure!M697=\"\",\"\",Expenditure!M697)","v":""},"-"]
[{"$f":"IF(Expenditure!B698=\"\",\"\",Expenditure!B698)","v":""},{"$f":"IF(Expenditure!C698=\"\",\"\",TEXT(Expenditure!C698,\"mmm\"))","v":""},{"$f":"IF(Expenditure!E698=\"\",\"\",Expenditure!E698)","v":""},{"$f":"IF(Expenditure!F698=\"\",\"\",Expenditure!F698)","v":""},{"$f":"IF(Expenditure!G698=\"\",\"\",Expenditure!G698)","v":""},{"$f":"IF(Expenditure!H698=\"\",\"\",Expenditure!H698)","v":""},{"$f":"IF(Expenditure!I698=\"\",\"\",Expenditure!I698)","v":""},"",{"$f":"IF(Expenditure!K698=\"\",\"\",Expenditure!K698)","v":""},{"$f":"IF(Expenditure!L698=\"\",\"\",Expenditure!L698)","v":""},{"$f":"IF(Expenditure!M698=\"\",\"\",Expenditure!M698)","v":""},"-"]
[]
["izekf.kr fd;k tkrk gS fd mDr lkexzh ifj\"kn }kjk tkjh fn'kk funsZ'kksa ds vuqqlkj 'kkyk izcU/ku lfefr ds izLrko la[;k -------------- fnukad ------------------ ds vuq:i dz; dh xbZ gS] ftldk vuqeksnu ,l,elh ds }kjk fnukad ----------------- dks fd;k x;k A lkFk gh mDr fo|ky; 'kwU; ukekadu dk ugha gS A"]
[]
[]
["gLrk{kj lfpo\nfo|ky; izcU/ku lfefr",{"$nulls":6},"gLrk{kj v/;{k\nfo|ky; izcU/ku lfefr"]
[{"$f":"'School Intro'!A1","v":"jktdh; mPp ek/;fed fo|ky;] :iiqjk ¼dqpkeu flVh½ ukxkSj"},{"$nulls":6},{"$f":"'School Intro'!A1","v":"jktdh; mPp ek/;fed fo|ky;] :iiqjk ¼dqpkeu flVh½ ukxkSj"}]

{"sheet":"UC Peeo Level","index":6,"n_rows":28,"n_cols":8,"rows_kept":28,"merged":[[0,0,0,7],[1,0,1,7],[2,0,2,7],[3,4,3,7],[3,12,3,14],[5,0,5,7],[6,0,6,7],[27,0,27,3]]}
[{"$f":"\"dk;kZy;\"&\" \"&'PEEO Intro'!B1","v":"dk;kZy; ihbZbZvks jktdh; mPp ek/;fed fo|ky;] :iiqjk CykWd& dqpkeu flVh] ftyk& ukxkSj"}]
[{"$f":"'PEEO Intro'!B2","v":"कम्पोजिट स्कूल ग्रांट (पीईईओ स्तर)"}]
["उपयोगिता प्रमाण पत्र"]
["                     izekf.kr fd;k tkrk gS fd l= &",null,{"$f":"'School Intro'!H2","v":"2019-20"},"esa ihbZbZvks&",{"$f":"'PEEO Intro'!C3","v":"jktdh; mPp ek/;fed fo|ky;] :iiqjk"}]
["CykWd&",{"$f":"'PEEO Intro'!E3&\"          \"&\" ftyk&\"","v":"dqpkeu flVh           ftyk&"},{"$f":"'PEEO Intro'!H3&\" \"&\"ds\"","v":"ukXkkSj ds"},{"$f":"'PEEO Intro'!E29&\" \"&\"izkFkfed] \"","v":"2 izkFkfed] "},{"$f":"'PEEO Intro'!E28&\" \"&\"mPp izkFkfed] \"","v":"3 mPp izkFkfed] "},{"$f":"'PEEO Intro'!E27&\" \"&\"ek/;fed ,oa\"","v":"1 ek/;fed ,oa"},{"$f":"'PEEO Intro'!E26&\" \"&\"mPp ek/;fed fo|ky;ksa \"","v":"1 mPp ek/;fed fo|ky;ksa "}]
["dks tkjh dh xbZ dEiksftV Ldwy xzkUV dh jkf'k dk mi;ksx lacaf/kr laLFkkiz/kku }kjk dEiksftV Ldwy xzkUV gsrq ifj\"kn~ ls tkjh fn'kk&funsZ'kksa ds vuq:i fd;k tkdj fu/kkZfjr "]
["izi= esa ;w-lh- izfr ekg izkIr dj yh xbZ gS ftlds vk/kkj ij ,dtkbZ mi;ksfxrk izek.k i= layXu dj izLrqr gS %& "]
["Ø-la-","fo|ky; dk uke","MkbZl dksM","fo|ky; dk izdkj","izkIr jkf'k","O;; jkf'k","'ks\"k jkf'k","fofo"]
[{"$f":"IF('PEEO Intro'!B5=\"\",\"\",'PEEO Intro'!B5)","v":1},{"$f":"IF('PEEO Intro'!C5=\"\",\"\",'PEEO Intro'!C5)","v":"jkmekfo] :iiqjk"},{"$f":"IF('PEEO Intro'!D5=\"\",\"\",'PEEO Intro'!D5)","v":"08140912304"},{"$f":"IF('PEEO Intro'!E5=\"\",\"\",'PEEO Intro'!E5)","v":"उच्च माध्यमिक"},{"$f":"IF('PEEO Intro'!F5=\"\",\"\",'PEEO Intro'!F5)","v":{"v":50000,"d":"50000.00"}},{"$f":"IF('PEEO Intro'!G5=\"\",\"\",'PEEO Intro'!G5)","v":{"v":45000,"d":"45000.00"}},{"$f":"IF('PEEO Intro'!H5=\"\",\"\",'PEEO Intro'!H5)","v":{"v":5000,"d":"5000.00"}},"-"]
[{"$f":"IF('PEEO Intro'!B6=\"\",\"\",'PEEO Intro'!B6)","v":2},{"$f":"IF('PEEO Intro'!C6=\"\",\"\",'PEEO Intro'!C6)","v":"jkekfo] cjokyk"},{"$f":"IF('PEEO Intro'!D6=\"\",\"\",'PEEO Intro'!D6)","v":"08140912305"},{"$f":"IF('PEEO Intro'!E6=\"\",\"\",'PEEO Intro'!E6)","v":"माध्यमिक"},{"$f":"IF('PEEO Intro'!F6=\"\",\"\",'PEEO Intro'!F6)","v":{"v":25000,"d":"25000.00"}},{"$f":"IF('PEEO Intro'!G6=\"\",\"\",'PEEO Intro'!G6)","v":{"v":20000,"d":"20000.00"}},{"$f":"IF('PEEO Intro'!H6=\"\",\"\",'PEEO Intro'!H6)","v":{"v":5000,"d":"5000.00"}},"-"]
[{"$f":"IF('PEEO Intro'!B7=\"\",\"\",'PEEO Intro'!B7)","v":3},{"$f":"IF('PEEO Intro'!C7=\"\",\"\",'PEEO Intro'!C7)","v":"jkmizkfo] VksjMk"},{"$f":"IF('PEEO Intro'!D7=\"\",\"\",'PEEO Intro'!D7)","v":"08140912306"},{"$f":"IF('PEEO Intro'!E7=\"\",\"\",'PEEO Intro'!E7)","v":"उच्च प्राथमिक"},{"$f":"IF('PEEO Intro'!F7=\"\",\"\",'PEEO Intro'!F7)","v":{"v":12500,"d":"12500.00"}},{"$f":"IF('PEEO Intro'!G7=\"\",\"\",'PEEO Intro'!G7)","v":{"v":12000,"d":"12000.00"}},{"$f":"IF('PEEO Intro'!H7=\"\",\"\",'PEEO Intro'!H7)","v":{"v":500,"d":"500.00"}},"-"]
[{"$f":"IF('PEEO Intro'!B8=\"\",\"\",'PEEO Intro'!B8)","v":4},{"$f":"IF('PEEO Intro'!C8=\"\",\"\",'PEEO Intro'!C8)","v":"jkmizkfo] jkoka"},{"$f":"IF('PEEO Intro'!D8=\"\",\"\",'PEEO Intro'!D8)","v":"08140912307"},{"$f":"IF('PEEO Intro'!E8=\"\",\"\",'PEEO Intro'!E8)","v":"उच्च प्राथमिक"},{"$f":"IF('PEEO Intro'!F8=\"\",\"\",'PEEO Intro'!F8)","v":{"v":12500,"d":"12500.00"}},{"$f":"IF('PEEO Intro'!G8=\"\",\"\",'PEEO Intro'!G8)","v":{"v":12000,"d":"12000.00"}},{"$f":"IF('PEEO Intro'!H8=\"\",\"\",'PEEO Intro'!H8)","v":{"v":500,"d":"500.00"}},"-"]
[{"$f":"IF('PEEO Intro'!B9=\"\",\"\",'PEEO Intro'!B9)","v":5},{"$f":"IF('PEEO Intro'!C9=\"\",\"\",'PEEO Intro'!C9)","v":"jkmizkfo] tljkuk"},{"$f":"IF('PEEO Intro'!D9=\"\",\"\",'PEEO Intro'!D9)","v":"08140912308"},{"$f":"IF('PEEO Intro'!E9=\"\",\"\",'PEEO Intro'!E9)","v":"उच्च प्राथमिक"},{"$f":"IF('PEEO Intro'!F9=\"\",\"\",'PEEO Intro'!F9)","v":{"v":12500,"d":"12500.00"}},{"$f":"IF('PEEO Intro'!G9=\"\",\"\",'PEEO Intro'!G9)","v":{"v":12000,"d":"12000.00"}},{"$f":"IF('PEEO Intro'!H9=\"\",\"\",'PEEO Intro'!H9)","v":{"v":500,"d":"500.00"}},"-"]
[{"$f":"IF('PEEO Intro'!B10=\"\",\"\",'PEEO Intro'!B10)","v":6},{"$f":"IF('PEEO Intro'!C10=\"\",\"\",'PEEO Intro'!C10)","v":"jkizkfo] csfj;ksa dh dksBh"},{"$f":"IF('PEEO Intro'!D10=\"\",\"\",'PEEO Intro'!D10)","v":"08140912309"},{"$f":"IF('PEEO Intro'!E10=\"\",\"\",'PEEO Intro'!E10)","v":"प्राथमिक"},{"$f":"IF('PEEO Intro'!F10=\"\",\"\",'PEEO Intro'!F10)","v":{"v":10500,"d":"10500.00"}},{"$f":"IF('PEEO Intro'!G10=\"\",\"\",'PEEO Intro'!G10)","v":{"v":10000,"d":"10000.00"}},{"$f":"IF('PEEO Intro'!H10=\"\",\"\",'PEEO Intro'!H10)","v":{"v":500,"d":"500.00"}},"-"]
[{"$f":"IF('PEEO Intro'!B11=\"\",\"\",'PEEO Intro'!B11)","v":7},{"$f":"IF('PEEO Intro'!C11=\"\",\"\",'PEEO Intro'!C11)","v":"jkizkfo] jsckjh ukMk"},{"$f":"IF('PEEO Intro'!D11=\"\",\"\",'PEEO Intro'!D11)","v":"08140912310"},{"$f":"IF('PEEO Intro'!E11=\"\",\"\",'PEEO Intro'!E11)","v":"प्राथमिक"},{"$f":"IF('PEEO Intro'!F11=\"\",\"\",'PEEO Intro'!F11)","v":{"v":10500,"d":"10500.00"}},{"$f":"IF('PEEO Intro'!G11=\"\",\"\",'PEEO Intro'!G11)","v":{"v":10000,"d":"10000.00"}},{"$f":"IF('PEEO Intro'!H11=\"\",\"\",'PEEO Intro'!H11)","v":{"v":500,"d":"500.00"}},"-"]
[{"$f":"IF('PEEO Intro'!B12=\"\",\"\",'PEEO Intro'!B12)","v":""},{"$f":"IF('PEEO Intro'!C12=\"\",\"\",'PEEO Intro'!C12)","v":""},{"$f":"IF('PEEO Intro'!D12=\"\",\"\",'PEEO Intro'!D12)","v":""},{"$f":"IF('PEEO Intro'!E12=\"\",\"\",'PEEO Intro'!E12)","v":""},{"$f":"IF('PEEO Intro'!F12=\"\",\"\",'PEEO Intro'!F12)","v":""},{"$f":"IF('PEEO Intro'!G12=\"\",\"\",'PEEO Intro'!G12)","v":""},{"$f":"IF('PEEO Intro'!H12=\"\",\"\",'PEEO Intro'!H12)","v":""},"-"]
[{"$f":"IF('PEEO Intro'!B13=\"\",\"\",'PEEO Intro'!B13)","v":""},{"$f":"IF('PEEO Intro'!C13=\"\",\"\",'PEEO Intro'!C13)","v":""},{"$f":"IF('PEEO Intro'!D13=\"\",\"\",'PEEO Intro'!D13)","v":""},{"$f":"IF('PEEO Intro'!E13=\"\",\"\",'PEEO Intro'!E13)","v":""},{"$f":"IF('PEEO Intro'!F13=\"\",\"\",'PEEO Intro'!F13)","v":""},{"$f":"IF('PEEO Intro'!G13=\"\",\"\",'PEEO Intro'!G13)","v":""},{"$f":"IF('PEEO Intro'!H13=\"\",\"\",'PEEO Intro'!H13)","v":""},"-"]
[{"$f":"IF('PEEO Intro'!B14=\"\",\"\",'PEEO Intro'!B14)","v":""},{"$f":"IF('PEEO Intro'!C14=\"\",\"\",'PEEO Intro'!C14)","v":""},{"$f":"IF('PEEO Intro'!D14=\"\",\"\",'PEEO Intro'!D14)","v":""},{"$f":"IF('PEEO Intro'!E14=\"\",\"\",'PEEO Intro'!E14)","v":""},{"$f":"IF('PEEO Intro'!F14=\"\",\"\",'PEEO Intro'!F14)","v":""},{"$f":"IF('PEEO Intro'!G14=\"\",\"\",'PEEO Intro'!G14)","v":""},{"$f":"IF('PEEO Intro'!H14=\"\",\"\",'PEEO Intro'!H14)","v":""},"-"]
[{"$f":"IF('PEEO Intro'!B15=\"\",\"\",'PEEO Intro'!B15)","v":""},{"$f":"IF('PEEO Intro'!C15=\"\",\"\",'PEEO Intro'!C15)","v":""},{"$f":"IF('PEEO Intro'!D15=\"\",\"\",'PEEO Intro'!D15)","v":""},{"$f":"IF('PEEO Intro'!E15=\"\",\"\",'PEEO Intro'!E15)","v":""},{"$f":"IF('PEEO Intro'!F15=\"\",\"\",'PEEO Intro'!F15)","v":""},{"$f":"IF('PEEO Intro'!G15=\"\",\"\",'PEEO Intro'!G15)","v":""},{"$f":"IF('PEEO Intro'!H15=\"\",\"\",'PEEO Intro'!H15)","v":""},"-"]
[{"$f":"IF('PEEO Intro'!B16=\"\",\"\",'PEEO Intro'!B16)","v":""},{"$f":"IF('PEEO Intro'!C16=\"\",\"\",'PEEO Intro'!C16)","v":""},{"$f":"IF('PEEO Intro'!D16=\"\",\"\",'PEEO Intro'!D16)","v":""},{"$f":"IF('PEEO Intro'!E16=\"\",\"\",'PEEO Intro'!E16)","v":""},{"$f":"IF('PEEO Intro'!F16=\"\",\"\",'PEEO Intro'!F16)","v":""},{"$f":"IF('PEEO Intro'!G16=\"\",\"\",'PEEO Intro'!G16)","v":""},{"$f":"IF('PEEO Intro'!H16=\"\",\"\",'PEEO Intro'!H16)","v":""},"-"]
[{"$f":"IF('PEEO Intro'!B17=\"\",\"\",'PEEO Intro'!B17)","v":""},{"$f":"IF('PEEO Intro'!C17=\"\",\"\",'PEEO Intro'!C17)","v":""},{"$f":"IF('PEEO Intro'!D17=\"\",\"\",'PEEO Intro'!D17)","v":""},{"$f":"IF('PEEO Intro'!E17=\"\",\"\",'PEEO Intro'!E17)","v":""},{"$f":"IF('PEEO Intro'!F17=\"\",\"\",'PEEO Intro'!F17)","v":""},{"$f":"IF('PEEO Intro'!G17=\"\",\"\",'PEEO Intro'!G17)","v":""},{"$f":"IF('PEEO Intro'!H17=\"\",\"\",'PEEO Intro'!H17)","v":""},"-"]
[{"$f":"IF('PEEO Intro'!B18=\"\",\"\",'PEEO Intro'!B18)","v":""},{"$f":"IF('PEEO Intro'!C18=\"\",\"\",'PEEO Intro'!C18)","v":""},{"$f":"IF('PEEO Intro'!D18=\"\",\"\",'PEEO Intro'!D18)","v":""},{"$f":"IF('PEEO Intro'!E18=\"\",\"\",'PEEO Intro'!E18)","v":""},{"$f":"IF('PEEO Intro'!F18=\"\",\"\",'PEEO Intro'!F18)","v":""},{"$f":"IF('PEEO Intro'!G18=\"\",\"\",'PEEO Intro'!G18)","v":""},{"$f":"IF('PEEO Intro'!H18=\"\",\"\",'PEEO Intro'!H18)","v":""},"-"]
[{"$f":"IF('PEEO Intro'!B19=\"\",\"\",'PEEO Intro'!B19)","v":""},{"$f":"IF('PEEO Intro'!C19=\"\",\"\",'PEEO Intro'!C19)","v":""},{"$f":"IF('PEEO Intro'!D19=\"\",\"\",'PEEO Intro'!D19)","v":""},{"$f":"IF('PEEO Intro'!E19=\"\",\"\",'PEEO Intro'!E19)","v":""},{"$f":"IF('PEEO Intro'!F19=\"\",\"\",'PEEO Intro'!F19)","v":""},{"$f":"IF('PEEO Intro'!G19=\"\",\"\",'PEEO Intro'!G19)","v":""},{"$f":"IF('PEEO Intro'!H19=\"\",\"\",'PEEO Intro'!H19)","v":""},"-"]
[{"$f":"IF('PEEO Intro'!B20=\"\",\"\",'PEEO Intro'!B20)","v":""},{"$f":"IF('PEEO Intro'!C20=\"\",\"\",'PEEO Intro'!C20)","v":""},{"$f":"IF('PEEO Intro'!D20=\"\",\"\",'PEEO Intro'!D20)","v":""},{"$f":"IF('PEEO Intro'!E20=\"\",\"\",'PEEO Intro'!E20)","v":""},{"$f":"IF('PEEO Intro'!F20=\"\",\"\",'PEEO Intro'!F20)","v":""},{"$f":"IF('PEEO Intro'!G20=\"\",\"\",'PEEO Intro'!G20)","v":""},{"$f":"IF('PEEO Intro'!H20=\"\",\"\",'PEEO Intro'!H20)","v":""},"-"]
[{"$f":"IF('PEEO Intro'!B21=\"\",\"\",'PEEO Intro'!B21)","v":""},{"$f":"IF('PEEO Intro'!C21=\"\",\"\",'PEEO Intro'!C21)","v":""},{"$f":"IF('PEEO Intro'!D21=\"\",\"\",'PEEO Intro'!D21)","v":""},{"$f":"IF('PEEO Intro'!E21=\"\",\"\",'PEEO Intro'!E21)","v":""},{"$f":"IF('PEEO Intro'!F21=\"\",\"\",'PEEO Intro'!F21)","v":""},{"$f":"IF('PEEO Intro'!G21=\"\",\"\",'PEEO Intro'!G21)","v":""},{"$f":"IF('PEEO Intro'!H21=\"\",\"\",'PEEO Intro'!H21)","v":""},"-"]
[{"$f":"IF('PEEO Intro'!B22=\"\",\"\",'PEEO Intro'!B22)","v":""},{"$f":"IF('PEEO Intro'!C22=\"\",\"\",'PEEO Intro'!C22)","v":""},{"$f":"IF('PEEO Intro'!D22=\"\",\"\",'PEEO Intro'!D22)","v":""},{"$f":"IF('PEEO Intro'!E22=\"\",\"\",'PEEO Intro'!E22)","v":""},{"$f":"IF('PEEO Intro'!F22=\"\",\"\",'PEEO Intro'!F22)","v":""},{"$f":"IF('PEEO Intro'!G22=\"\",\"\",'PEEO Intro'!G22)","v":""},{"$f":"IF('PEEO Intro'!H22=\"\",\"\",'PEEO Intro'!H22)","v":""},"-"]
[{"$f":"IF('PEEO Intro'!B23=\"\",\"\",'PEEO Intro'!B23)","v":""},{"$f":"IF('PEEO Intro'!C23=\"\",\"\",'PEEO Intro'!C23)","v":""},{"$f":"IF('PEEO Intro'!D23=\"\",\"\",'PEEO Intro'!D23)","v":""},{"$f":"IF('PEEO Intro'!E23=\"\",\"\",'PEEO Intro'!E23)","v":""},{"$f":"IF('PEEO Intro'!F23=\"\",\"\",'PEEO Intro'!F23)","v":""},{"$f":"IF('PEEO Intro'!G23=\"\",\"\",'PEEO Intro'!G23)","v":""},{"$f":"IF('PEEO Intro'!H23=\"\",\"\",'PEEO Intro'!H23)","v":""},"-"]
["Total",{"$nulls":3},{"$f":"SUM(Table4[izkIr jkf''k])","v":{"v":133500,"d":"133500.00"}},{"$f":"SUM(Table4[O;; jkf''k])","v":{"v":121000,"d":"121000.00"}},{"$f":"SUM(Table4[''ks\"k jkf''k])","v":{"v":12500,"d":"12500.00"}}]