Workbook
Name payLevel: Table2[Pay - Level]
Name PostAtOffice: Table1[कार्यालय में पोस्ट विवरण]
Name Tax_data: #REF!

Sheet Instruction
A1: आयकर गणना प्रपत्र 2020-21
A3: Master Sheet Instruction
A4: 1 | B4: Employee Name | C4: अपना नाम लिखिए
A5: 2 | B5: Post | C5: अपनी पोस्ट ड्राप डाउन लिस्ट में से चयन करे |
A6: 3 | B6: Cader | C6: अपना कैडर चयन करे |
A7: 4 | B7: Are you in Probation | C7: अगर आप प्रोबेशन में है तो ड्राप डाउन में से YES का चयन करे अन्यथा NO का चयन करे |
A8: 5 | B8: PAY-Level | C8: अपना पे लेवल का चयन ड्राप डाउन लिस्ट में से करे |
A9: 6 | B9: Employee ID | C9: अपनी एम्प्लोयी आईडी लिखिए |
A10: 7 | B10: PAN NO. | C10: अपना पैन नंबर लिखिए |
A11: 8 | B11: SI No. | C11: अपने एस.आई. नंबर लिखिए |
A12: 9 | B12: GPF/PRAN No. | C12: अपने GPF या PRAN नंबर लिखिए |
A13: 10 | B13: Bank Account No. | C13: अपने बैंक अकाउंट नंबर लिखिए |
A14: 11 | B14: Mobile No. | C14: अपने मोबाइल नंबर लिखिए |
A15: 12 | B15: मार्च का बेसिक | C15: आपका मार्च का बेसिक लिखिये |
... A30: 27 | B30: क्या आप Covid-19 कटौती रखना चाहते है | C30: यदि आप Covid-19 की कटौती जारी रखना चाहते हो तो ड्राप डाउन में से YES का चयन करे अन्यथा NO का चयन करे |
A32: Other Ded. Sheet Instruction
A33: 1 | B33: मकान किराया भत्ता ( छूट जो लेनी है)
A34: 2 | B34: गृह सम्पति से प्राप्त किराया - आय
A35: 3 | B35: गृहकर
A36: 4 | B36: सरकारी पेंशन योजना में कर्मचारी का अंशदान अधिकतम वेतन का 10% धारा 80 CCD(1)
A37: 5 | B37: Covid - 19 (धारा 80G)
A38: 6 | B38: गृह ऋण किस्त मूल (जो वेतन से नहीं काटा गया)
A39: 7 | B39: गृह ऋण किस्त ब्याज (जो वेतन से नहीं काटा गया)
A40: 8 | B40: LIC जीवन बीमा प्रीमियम (जो वेतन से नही काटा गया)
A41: 9 | B41: PLI (पी.एल.आई.)
A42: 10 | B42: टयूशन फीस
A43: 11 | B43: PPF (लोक भविष्य निधि)
A44: 12 | B44: सुकन्या समृद्धि योजना
... A68: 36 | B68: धारा 80G धर्मार्थ संस्थाओं आदि को दिये दान (क श्रेणी 100% एवं ख श्रेणी 50%)

Sheet Master
A1: कार्यालय प्रधानाचार्य राजकीय उच्च माध्यमिक विद्यालय, रूपपुरा
A2: आयकर गणना प्रपत्र 2020-21
A4: Employee Name | B4: Ashwini Kumar Sharma | C4: Post | D4: वरिष्ठ अध्यापक | E4: Cader | F4: Subordinate | H4: March | I4: =IF(F4="State Service",ROUND(F7*15/31,0),IF(AND(F4="Subordinate",OR(D5=J8,D5=J9,D5=J10,D5=J11,D5=J12)),ROUND(F7*22/31,0),IF(AND(F4="Subordinate",OR(D5=J13,D5=J14,D5=J15,D5=J16,D5=J17,D5=J18)),ROUND(F7*15/31,0),IF(F4="Ministerial",ROUND(F7*22/31,0),F7)))) -> 21194 | J4: L-1 | K4: 1 | L4: =VLOOKUP(D5,J4:K27,2,FALSE) -> 10
A5: Are you in Probation | B5: No | C5: PAY-Level | D5: L-10 | E5: Employee ID | F5: RJNA201228008021 | H5: Corona | I5: =IF(F12="YES",0,IF(F4="State Service",ROUND(F7*5/31,0),IF(AND(F4="Subordinate",L4<10),ROUND(F7*2/31,0),IF(AND(F4="Subordinate",OR(L4<5,L4>9)),ROUND(F7*3/31,0),IF(F4="Ministerial",ROUND(F7*2/31,0),IF(OR(F4="Class IV",L4<5),ROUND(F7/31,0),"")))))) -> 4239 | J5: L-2 | K5: 2 | L5: SEP | M5: =IF($F$12="YES",0,IF(OR($F$4="Class IV",$L$4<5),0,IF($F$4="State Service",ROUND('GA 55 Editable'!J13*2/30,0),ROUND('GA 55 Editable'!J13/30,0)))) -> 1879
A6: PAN NO. | B6: AAAA9456A | C6: SI No. | D6: 123456 | E6: GPF/PRAN No. | F6: 1234567891011 | J6: L-3 | K6: 3 | L6: OCT | M6: =IF($F$12="YES",0,IF(OR($F$4="Class IV",$L$4<5),0,IF($F$4="State Service",ROUND('GA 55 Editable'!J14*2/31,0),ROUND('GA 55 Editable'!J14/31,0)))) -> 1819
A7: Bank Account No. | B7: 123456789101112 | C7: Mobile No. | D7: 9166023711 | E7: मार्च का बेसिक | F7: 43800 | J7: L-4 | K7: 4 | L7: NOV | M7: =IF($F$12="YES",0,IF(OR($F$4="Class IV",$L$4<5),0,IF($F$4="State Service",ROUND('GA 55 Editable'!J15*2/30,0),ROUND('GA 55 Editable'!J15/30,0)))) -> 1879
A8: HRA Rate | B8: 0.08 | C8: SIP (Monthly Amount) | D8: 3000 | E8: SI Loan (Monthly Amount) | F8: 0 | J8: L-5 | K8: 5 | L8: DEC | M8: =IF($F$12="YES",0,IF(OR($F$4="Class IV",$L$4<5),0,IF($F$4="State Service",ROUND('GA 55 Editable'!J16*2/31,0),ROUND('GA 55 Editable'!J16/31,0)))) -> 1819
A9: GPF (Monthly Amount) | B9: 0 | C9: GPF Loan (Monthly Amount) | D9: 0 | E9: Are You NPS Employee | F9: Yes | J9: L-6 | K9: 6 | L9: JAN | M9: =IF($F$12="YES",0,IF(OR($F$4="Class IV",$L$4<5),0,IF($F$4="State Service",ROUND('GA 55 Editable'!J17*2/31,0),ROUND('GA 55 Editable'!J17/31,0)))) -> 1819
A10: Washing All. Monthly | B10: 0 | C10: Handi. All. Monthly | D10: 0 | E10: CCA (Monthly Amount) | F10: 0 | J10: L-7 | K10: 7 | L10: FEB | M10: =IF($F$12="YES",0,IF(OR($F$4="Class IV",$L$4<5),0,IF($F$4="State Service",ROUND('GA 55 Editable'!J18*2/28,0),ROUND('GA 55 Editable'!J18/28,0)))) -> 2013
A11: बोनस मिला या नहीं | B11: Yes | C11: बोनस कितने माह का | D11: 12 | E11: DA Arrear मिला या नहीं | F11: Yes | J11: L-8 | K11: 8
A12: समर्पित 19-20 उठाया या नहीं | B12: No | C12: समर्पित 19-20 कौनसे माह में उठाया | E12: 60-80 वर्ग | F12: No | J12: L-9 | K12: 9
A13: समर्पित 20-21 उठाया या नहीं | B13: No | C13: समर्पित 20-21 कौनसे माह में उठाया | D13: 7 | E13: क्या आप Covid-19 कटौती रखना चाहते है | F13: No | J13: L-10 | K13: 10
J14: L-11 | K14: 11
J15: L-12 | K15: 12
J16: L-13 | K16: 13
J17: L-14 | K17: 14
J18: L-15 | K18: 15
J19: L-16 | K19: 16
J20: L-17 | K20: 17
J21: L-18 | K21: 18
J22: L-19 | K22: 19
J23: L-20 | K23: 20
J24: L-21 | K24: 21
J25: L-22 | K25: 22
... J27: L-24 | K27: 24

Sheet GA 55 Editable
B1: =Master!A1 -> कार्यालय प्रधानाचार्य राजकीय उच्च माध्यमिक विद्यालय, रूपपुरा
B2: वेतन एवं कटौतियों का ब्यौरा सत्र 2020-21
B4: नाम कर्मचारी- | C4: =IF(Master!B4=0,0,Master!B4) -> Ashwini Kumar Sharma | G4: पद- | H4: =IF(Master!D4=0,0,Master!D4) -> वरिष्ठ अध्यापक | K4: लेवल- | L4: =IF(Master!D5=0,0,Master!D5) -> L-10 | N4: Employee ID- | P4: =IF(Master!F5=0,0,Master!F5) -> RJNA201228008021 | T4: मार्च का बेसिक- | W4: =IF(Master!F7=0,0,Master!F7) -> 43800 | Y4: TAN No.
B5: पैन नं.- | C5: =IF(Master!B6=0,0,Master!B6) -> AAAA9456A | G5: Mobile- | H5: =IF(Master!D7=0,0,Master!D7) -> 9166023711 | K5: SI No.- | L5: =IF(Master!D6=0,0,Master!D6) -> 123456 | N5: GPF/PRAN No.- | P5: =IF(Master!F6=0,0,Master!F6) -> 1234567891011 | T5: बैंक खाता सं.- | W5: =IF(Master!B7=0,0,Master!B7) -> 123456789101112
B6: Month & Year | C6: Basic Pay | D6: DA | E6: HRA | F6: Washing Allow. | G6: Handicaped Allowance | H6: CCA Allowance | I6: Other Allowance | J6: Gross Salary | K6: SIP | L6: GPF | M6: NPS | N6: GPF Loan | O6: RPMF | P6: SI Arrear | Q6: SI Loan | R6: GIS | S6: LIC | T6: COVIS-19 | U6: GPF 2004 | V6: Hitkari Nidhi | W6: Other | X6: ITAX | Y6: Total Deduction | Z6: NET Payment | AA6: Bill No./ Dte
A7: 3 | B7: 43891 | C7: =IF(Master!I4=0,0,Master!I4) -> 21194 | D7: =IF(Master!$B$5="Yes",0,IF(C7=0,0,ROUND(C7*17%,0))) -> 3603 | E7: =IF(Master!$B$5="Yes",0,IF(C7=0,0,ROUND(C7*Master!$B$8,0))) -> 1696 | F7: =IF(Master!$B$10=0,0,Master!$B$10) -> 0 | G7: =IF(Master!$D$10=0,0,Master!$D$10) -> 0 | H7: =IF(Master!$F$10=0,0,Master!$F$10) -> 0 | J7: =SUM(C7:I7) -> 26493 | K7: =IF(Master!D6="Class IV",Master!B9,0) -> 0 | L7: =IF(Master!$F$9="YES",0,IF(Master!D6="Class IV",Master!B9,0)) -> 0 | M7: =IF(Master!$F$9="YES",ROUND((C7+D7)*0.1,0),0) -> 2480 | N7: =IF(Master!$D$9=0,0,Master!$D$9) -> 0 | O7: =IF(IF(Master!$F$9="NO",IF($W$4<18001,242,IF($W$4<33501,402,IF($W$4<54001,602,800))),0)=0,0,IF(Master!$F$9="No",IF($W$4<18001,242,IF($W$4<33501,402,IF($W$4<54001,602,800))),0)) -> 0 | Q7: =IF(Master!$F$8=0,0,Master!$F$8) -> 0 | T7: =IF(Master!I5=0,0,Master!I5) -> 4239 | Y7: =SUM(K7:X7) -> 6719 | Z7: =J7-Y7 -> 19774
A8: 4 | B8: 43922 | C8: =IF(Master!F7=0,0,Master!F7) -> 43800 | D8: =IF(Master!$B$5="Yes",0,IF(C8=0,0,ROUND(C8*17%,0))) -> 7446 | E8: =IF(Master!$B$5="Yes",0,IF(C8=0,0,ROUND(C8*Master!$B$8,0))) -> 3504 | F8: =IF(Master!$B$10=0,0,Master!$B$10) -> 0 | G8: =IF(Master!$D$10=0,0,Master!$D$10) -> 0 | H8: =IF(Master!$F$10=0,0,Master!$F$10) -> 0 | J8: =SUM(C8:I8) -> 54750 | K8: =IF(Master!D8=0,0,Master!D8) -> 3000 | L8: =IF(Master!$F$9="YES",0,IF(Master!$B$9=0,0,Master!$B$9)) -> 0 | M8: =IF(Master!$F$9="YES",ROUND((C8+D8)*0.1,0),0) -> 5125 | N8: =IF(Master!$D$9=0,0,Master!$D$9) -> 0 | O8: =IF(IF(Master!$F$9="No",IF(C8<18001,242,IF(C8<33501,402,IF(C8<54001,602,800))),0)=0,0,IF(Master!$F$9="No",IF(C8<18001,242,IF(C8<33501,402,IF(C8<54001,602,800))),0)) -> 0 | Q8: =IF(Master!$F$8=0,0,Master!$F$8) -> 0 | R8: 220 | S8: =IF($S$7=0,0,$S$7) -> 0 | Y8: =SUM(K8:X8) -> 8345 | Z8: =J8-Y8 -> 46405
A9: 5 | B9: 43952 | C9: =C8 -> 43800 | D9: =IF(Master!$B$5="Yes",0,IF(C9=0,0,ROUND(C9*17%,0))) -> 7446 | E9: =IF(Master!$B$5="Yes",0,IF(C9=0,0,ROUND(C9*Master!$B$8,0))) -> 3504 | F9: =IF(Master!$B$10=0,0,Master!$B$10) -> 0 | G9: =IF(Master!$D$10=0,0,Master!$D$10) -> 0 | H9: =IF(Master!$F$10=0,0,Master!$F$10) -> 0 | J9: =SUM(C9:I9) -> 54750 | K9: =K8 -> 3000 | L9: =L8 -> 0 | M9: =IF(Master!$F$9="YES",ROUND((C9+D9)*0.1,0),0) -> 5125 | N9: =IF(Master!$D$9=0,0,Master!$D$9) -> 0 | O9: =IF(IF(Master!$F$9="No",IF(C9<18001,288,IF(C9<33501,478,IF(C9<54001,714,950))),0)=0,0,IF(Master!$F$9="No",IF(C9<18001,288,IF(C9<33501,478,IF(C9<54001,714,950))),0)) -> 0 | P9: =IF(Master!$F$4= "Class IV",0,K9) -> 3000 | Q9: =IF(Master!$F$8=0,0,Master!$F$8) -> 0 | S9: =IF($S$7=0,0,$S$7) -> 0 | Y9: =SUM(K9:X9) -> 11125 | Z9: =J9-Y9 -> 43625
A10: 6 | B10: 43983 | C10: =C9 -> 43800 | D10: =IF(Master!$B$5="Yes",0,IF(C10=0,0,ROUND(C10*17%,0))) -> 7446 | E10: =IF(Master!$B$5="Yes",0,IF(C10=0,0,ROUND(C10*Master!$B$8,0))) -> 3504 | F10: =IF(Master!$B$10=0,0,Master!$B$10) -> 0 | G10: =IF(Master!$D$10=0,0,Master!$D$10) -> 0 | H10: =IF(Master!$F$10=0,0,Master!$F$10) -> 0 | J10: =SUM(C10:I10) -> 54750 | K10: =K9 -> 3000 | L10: =L9 -> 0 | M10: =IF(Master!$F$9="YES",ROUND((C10+D10)*0.1,0),0) -> 5125 | N10: =IF(Master!$D$9=0,0,Master!$D$9) -> 0 | O10: =IF(IF(Master!$F$9="No",IF(C10<18001,265,IF(C10<33501,440,IF(C10<54001,658,875))),0)=0,0,IF(Master!$F$9="No",IF(C10<18001,265,IF(C10<33501,440,IF(C10<54001,658,875))),0)) -> 0 | Q10: =IF(Master!$F$8=0,0,Master!$F$8) -> 0 | S10: =IF($S$7=0,0,$S$7) -> 0 | Y10: =SUM(K10:X10) -> 8125 | Z10: =J10-Y10 -> 46625
A11: 7 | B11: 44013 | C11: =IF(Master!B5="Yes",'GA 55 Editable'!C10,MROUND(ROUND(1.03*C10,0),100)) -> 45100 | D11: =IF(Master!$B$5="Yes",0,IF(C11=0,0,ROUND(C11*17%,0))) -> 7667 | E11: =IF(Master!$B$5="Yes",0,IF(C11=0,0,ROUND(C11*Master!$B$8,0))) -> 3608 | F11: =IF(Master!$B$10=0,0,Master!$B$10) -> 0 | G11: =IF(Master!$D$10=0,0,Master!$D$10) -> 0 | H11: =IF(Master!$F$10=0,0,Master!$F$10) -> 0 | J11: =SUM(C11:I11) -> 56375 | K11: =K10 -> 3000 | L11: =L10 -> 0 | M11: =IF(Master!$F$9="YES",ROUND((C11+D11)*0.1,0),0) -> 5277 | N11: =IF(Master!$D$9=0,0,Master!$D$9) -> 0 | O11: =IF(IF(Master!$F$9="No",IF(C11<18001,265,IF(C11<33501,440,IF(C11<54001,658,875))),0)=0,0,IF(Master!$F$9="No",IF(C11<18001,265,IF(C11<33501,440,IF(C11<54001,658,875))),0)) -> 0 | Q11: =IF(Master!$F$8=0,0,Master!$F$8) -> 0 | S11: =IF($S$7=0,0,$S$7) -> 0 | Y11: =SUM(K11:X11) -> 8277 | Z11: =J11-Y11 -> 48098
A12: 8 | B12: 44044 | C12: =C11 -> 45100 | D12: =IF(Master!$B$5="Yes",0,IF(C12=0,0,ROUND(C12*17%,0))) -> 7667 | E12: =IF(Master!$B$5="Yes",0,IF(C12=0,0,ROUND(C12*Master!$B$8,0))) -> 3608 | F12: =IF(Master!$B$10=0,0,Master!$B$10) -> 0 | G12: =IF(Master!$D$10=0,0,Master!$D$10) -> 0 | H12: =IF(Master!$F$10=0,0,Master!$F$10) -> 0 | J12: =SUM(C12:I12) -> 56375 | K12: =K11 -> 3000 | L12: =L11 -> 0 | M12: =IF(Master!$F$9="YES",ROUND((C12+D12)*0.1,0),0) -> 5277 | N12: =IF(Master!$D$9=0,0,Master!$D$9) -> 0 | O12: =IF(IF(Master!$F$9="No",IF(C12<18001,265,IF(C12<33501,440,IF(C12<54001,658,875))),0)=0,0,IF(Master!$F$9="No",IF(C12<18001,265,IF(C12<33501,440,IF(C12<54001,658,875))),0)) -> 0 | Q12: =IF(Master!$F$8=0,0,Master!$F$8) -> 0 | S12: =IF($S$7=0,0,$S$7) -> 0 | Y12: =SUM(K12:X12) -> 8277 | Z12: =J12-Y12 -> 48098
A13: 9 | B13: 44075 | C13: =C12 -> 45100 | D13: =IF(Master!$B$5="Yes",0,IF(C13=0,0,ROUND(C13*17%,0))) -> 7667 | E13: =IF(Master!$B$5="Yes",0,IF(C13=0,0,ROUND(C13*Master!$B$8,0))) -> 3608 | F13: =IF(Master!$B$10=0,0,Master!$B$10) -> 0 | G13: =IF(Master!$D$10=0,0,Master!$D$10) -> 0 | H13: =IF(Master!$F$10=0,0,Master!$F$10) -> 0 | J13: =SUM(C13:I13) -> 56375 | K13: =K12 -> 3000 | L13: =L12 -> 0 | M13: =IF(Master!$F$9="YES",ROUND((C13+D13)*0.1,0),0) -> 5277 | N13: =IF(Master!$D$9=0,0,Master!$D$9) -> 0 | O13: =IF(IF(Master!$F$9="No",IF(C13<18001,265,IF(C13<33501,440,IF(C13<54001,658,875))),0)=0,0,IF(Master!$F$9="No",IF(C13<18001,265,IF(C13<33501,440,IF(C13<54001,658,875))),0)) -> 0 | Q13: =IF(Master!$F$8=0,0,Master!$F$8) -> 0 | S13: =IF($S$7=0,0,$S$7) -> 0 | T13: =IF(Master!M5=0,0,Master!M5) -> 1879 | Y13: =SUM(K13:X13) -> 10156 | Z13: =J13-Y13 -> 46219
A14: 10 | B14: 44105 | C14: =C13 -> 45100 | D14: =IF(Master!$B$5="Yes",0,IF(C14=0,0,ROUND(C14*17%,0))) -> 7667 | E14: =IF(Master!$B$5="Yes",0,IF(C14=0,0,ROUND(C14*Master!$B$8,0))) -> 3608 | F14: =IF(Master!$B$10=0,0,Master!$B$10) -> 0 | G14: =IF(Master!$D$10=0,0,Master!$D$10) -> 0 | H14: =IF(Master!$F$10=0,0,Master!$F$10) -> 0 | J14: =SUM(C14:I14) -> 56375 | K14: =K13 -> 3000 | L14: =L13 -> 0 | M14: =IF(Master!$F$9="YES",ROUND((C14+D14)*0.1,0),0) -> 5277 | N14: =IF(Master!$D$9=0,0,Master!$D$9) -> 0 | O14: =IF(IF(Master!$F$9="No",IF(C14<18001,265,IF(C14<33501,440,IF(C14<54001,658,875))),0)=0,0,IF(Master!$F$9="No",IF(C14<18001,265,IF(C14<33501,440,IF(C14<54001,658,875))),0)) -> 0 | Q14: =IF(Master!$F$8=0,0,Master!$F$8) -> 0 | S14: =IF($S$7=0,0,$S$7) -> 0 | T14: =IF(Master!M6=0,0,Master!M6) -> 1819 | Y14: =SUM(K14:X14) -> 10096 | Z14: =J14-Y14 -> 46279
A15: 11 | B15: 44136 | C15: =C14 -> 45100 | D15: =IF(Master!$B$5="Yes",0,IF(C15=0,0,ROUND(C15*17%,0))) -> 7667 | E15: =IF(Master!$B$5="Yes",0,IF(C15=0,0,ROUND(C15*Master!$B$8,0))) -> 3608 | F15: =IF(Master!$B$10=0,0,Master!$B$10) -> 0 | G15: =IF(Master!$D$10=0,0,Master!$D$10) -> 0 | H15: =IF(Master!$F$10=0,0,Master!$F$10) -> 0 | J15: =SUM(C15:I15) -> 56375 | K15: =K14 -> 3000 | L15: =L14 -> 0 | M15: =IF(Master!$F$9="YES",ROUND((C15+D15)*0.1,0),0) -> 5277 | N15: =IF(Master!$D$9=0,0,Master!$D$9) -> 0 | O15: =IF(IF(Master!$F$9="No",IF(C15<18001,265,IF(C15<33501,440,IF(C15<54001,658,875))),0)=0,0,IF(Master!$F$9="No",IF(C15<18001,265,IF(C15<33501,440,IF(C15<54001,658,875))),0)) -> 0 | Q15: =IF(Master!$F$8=0,0,Master!$F$8) -> 0 | S15: =IF($S$7=0,0,$S$7) -> 0 | T15: =IF(Master!$F$13="No",0,IF(Master!M7=0,0,Master!M7)) -> 0 | Y15: =SUM(K15:X15) -> 8277 | Z15: =J15-Y15 -> 48098
A16: 12 | B16: 44166 | C16: =C15 -> 45100 | D16: =IF(Master!$B$5="Yes",0,IF(C16=0,0,ROUND(C16*17%,0))) -> 7667 | E16: =IF(Master!$B$5="Yes",0,IF(C16=0,0,ROUND(C16*Master!$B$8,0))) -> 3608 | F16: =IF(Master!$B$10=0,0,Master!$B$10) -> 0 | G16: =IF(Master!$D$10=0,0,Master!$D$10) -> 0 | H16: =IF(Master!$F$10=0,0,Master!$F$10) -> 0 | J16: =SUM(C16:I16) -> 56375 | K16: =K15 -> 3000 | L16: =L15 -> 0 | M16: =IF(Master!$F$9="YES",ROUND((C16+D16)*0.1,0),0) -> 5277 | N16: =IF(Master!$D$9=0,0,Master!$D$9) -> 0 | O16: =IF(IF(Master!$F$9="No",IF(C16<18001,265,IF(C16<33501,440,IF(C16<54001,658,875))),0)=0,0,IF(Master!$F$9="No",IF(C16<18001,265,IF(C16<33501,440,IF(C16<54001,658,875))),0)) -> 0 | Q16: =IF(Master!$F$8=0,0,Master!$F$8) -> 0 | S16: =IF($S$7=0,0,$S$7) -> 0 | T16: =IF(Master!$F$13="No",0,IF(Master!M8=0,0,Master!M8)) -> 0 | V16: =IF(Master!F4="State Service",500,250) -> 250 | Y16: =SUM(K16:X16) -> 8527 | Z16: =J16-Y16 -> 47848
A17: 1 | B17: 44197 | C17: =C16 -> 45100 | D17: =IF(Master!$B$5="Yes",0,IF(C17=0,0,ROUND(C17*17%,0))) -> 7667 | E17: =IF(Master!$B$5="Yes",0,IF(C17=0,0,ROUND(C17*Master!$B$8,0))) -> 3608 | F17: =IF(Master!$B$10=0,0,Master!$B$10) -> 0 | G17: =IF(Master!$D$10=0,0,Master!$D$10) -> 0 | H17: =IF(Master!$F$10=0,0,Master!$F$10) -> 0 | J17: =SUM(C17:I17) -> 56375 | K17: =K16 -> 3000 | L17: =L16 -> 0 | M17: =IF(Master!$F$9="YES",ROUND((C17+D17)*0.1,0),0) -> 5277 | N17: =IF(Master!$D$9=0,0,Master!$D$9) -> 0 | O17: =IF(IF(Master!$F$9="No",IF(C17<18001,265,IF(C17<33501,440,IF(C17<54001,658,875))),0)=0,0,IF(Master!$F$9="No",IF(C17<18001,265,IF(C17<33501,440,IF(C17<54001,658,875))),0)) -> 0 | Q17: =IF(Master!$F$8=0,0,Master!$F$8) -> 0 | S17: =IF($S$7=0,0,$S$7) -> 0 | T17: =IF(Master!$F$13="No",0,IF(Master!M9=0,0,Master!M9)) -> 0 | Y17: =SUM(K17:X17) -> 8277 | Z17: =J17-Y17 -> 48098
A18: 2 | B18: 44228 | C18: =C17 -> 45100 | D18: =IF(Master!$B$5="Yes",0,IF(C18=0,0,ROUND(C18*17%,0))) -> 7667 | E18: =IF(Master!$B$5="Yes",0,IF(C18=0,0,ROUND(C18*Master!$B$8,0))) -> 3608 | F18: =IF(Master!$B$10=0,0,Master!$B$10) -> 0 | G18: =IF(Master!$D$10=0,0,Master!$D$10) -> 0 | H18: =IF(Master!$F$10=0,0,Master!$F$10) -> 0 | J18: =SUM(C18:I18) -> 56375 | K18: =K17 -> 3000 | L18: =L17 -> 0 | M18: =IF(Master!$F$9="YES",ROUND((C18+D18)*0.1,0),0) -> 5277 | N18: =IF(Master!$D$9=0,0,Master!$D$9) -> 0 | O18: =IF(IF(Master!$F$9="No",IF(C18<18001,265,IF(C18<33501,440,IF(C18<54001,658,875))),0)=0,0,IF(Master!$F$9="No",IF(C18<18001,265,IF(C18<33501,440,IF(C18<54001,658,875))),0)) -> 0 | Q18: =IF(Master!$F$8=0,0,Master!$F$8) -> 0 | S18: =IF($S$7=0,0,$S$7) -> 0 | T18: =IF(Master!$F$13="No",0,IF(Master!M10=0,0,Master!M10)) -> 0 | Y18: =SUM(K18:X18) -> 8277 | Z18: =J18-Y18 -> 48098
B19: DA Arrear 07-19 to 12-19 | D19: =IF(IF(Master!$F$11="Yes",(ROUND(17%*$C$9,0)-ROUND(12%*$C$9,0))*6+IF(Master!$B$12="NO",0,IF(AND(Master!$D$12>6,Master!$D$12<13),ROUND(17%*$C$9/2,0)-ROUND(12%*$C$9/2,0),0)),0)=0,0,IF(Master!$F$11="Yes",(ROUND(17%*$C$9,0)-ROUND(12%*$C$9,0))*6+IF(Master!$B$12="NO",0,IF(AND(Master!$D$12>6,Master!$D$12<13),ROUND(17%*$C$9/2,0)-ROUND(12%*$C$9/2,0),0)),0)) -> 13140 | J19: =SUM(C19:I19) -> 13140 | L19: =IF(IF(Master!$F$9="Yes",0,IF(Master!$F$9="No",$D$19,0))=0,0,IF(Master!$F$9="Yes",0,IF(Master!$F$9="No",$D$19,0))) -> 0 | M19: =IF(IF(Master!$F$11="Yes",IF(IF(Master!$F$9="Yes",ROUND((ROUND(17%*$W$4,0)-ROUND(12%*$W$4,0))*10%,0)*6,0)=0,0,IF(Master!$F$9="Yes",ROUND((ROUND(17%*$W$4,0)-ROUND(12%*$W$4,0))*10%,0)*6,0)),0)=0,0,IF(Master!$F$11="Yes",IF(IF(Master!$F$9="Yes",ROUND((ROUND(17%*$W$4,0)-ROUND(12%*$W$4,0))*10%,0)*6,0)=0,0,IF(Master!$F$9="Yes",ROUND((ROUND(17%*$W$4,0)-ROUND(12%*$W$4,0))*10%,0)*6,0)),0)) -> 1314 | Y19: =SUM(K19:X19) -> 1314 | Z19: =J19-Y19 -> 11826
B20: DA Arrear 01-20 to 02-20 | D20: =IF(IF(Master!$F$11="Yes",(ROUND(17%*$C$9,0)-ROUND(12%*$C$9,0))*2+IF(Master!$B$12="NO",0,IF(AND(Master!$D$12>0,Master!$D$12<4),ROUND(17%*C9,0)-ROUND(12%*C9,0),0)),0)=0,0,IF(Master!$F$11="Yes",(ROUND(17%*$C$9,0)-ROUND(12%*$C$9,0))*2+IF(Master!$B$12="NO",0,IF(AND(Master!$D$12>0,Master!$D$12<4),ROUND(17%*C9,0)-ROUND(12%*C9,0),0)),0)) -> 4380 | J20: =SUM(C20:I20) -> 4380 | L20: =IF(IF(Master!$F$9="Yes",0,IF(Master!$F$9="No",$D$20,0))=0,0,IF(Master!$F$9="Yes",0,IF(Master!$F$9="No",$D$20,0))) -> 0 | M20: =IF(IF(Master!$F$11="Yes",IF(IF(Master!$F$9="Yes",ROUND((ROUND(17%*$W$4,0)-ROUND(12%*$W$4,0))*10%,0)*2,0)=0,0,IF(Master!$F$9="Yes",ROUND((ROUND(17%*$W$4,0)-ROUND(12%*$W$4,0))*10%,0)*2,0)),0)=0,0,IF(Master!$F$11="Yes",IF(IF(Master!$F$9="Yes",ROUND((ROUND(17%*$W$4,0)-ROUND(12%*$W$4,0))*10%,0)*2,0)=0,0,IF(Master!$F$9="Yes",ROUND((ROUND(17%*$W$4,0)-ROUND(12%*$W$4,0))*10%,0)*2,0)),0)) -> 438 | Y20: =SUM(K20:X20) -> 438 | Z20: =J20-Y20 -> 3942
B21: Bonus | C21: =IF(ROUND(IF(Master!$B$11="YES",6774/12*Master!$D$11,0),0)=0,0,ROUND(IF(Master!$B$11="YES",6774/12*Master!$D$11,0),0)) -> 6774 | J21: =SUM(C21:I21) -> 6774 | L21: =IF(IFERROR(IF(Master!$F$9="Yes",0,IF(Master!$F$9="No",ROUND($C$21*75%,0),0)),0)=0,0,IFERROR(IF(Master!$F$9="Yes",0,IF(Master!$F$9="No",ROUND($C$21*75%,0),0)),0)) -> 0 | U21: =IFERROR(IF(IF(Master!$F$9="No",0,ROUND($C$21*75%,0))=0,0,IF(Master!$F$9="No",0,ROUND($C$21*75%,0))),0) -> 5081 | Y21: =SUM(K21:X21) -> 5081 | Z21: =J21-Y21 -> 1693
B22: Surrender | C22: =IF(Master!$B$13="NO",0,IF(OR(Master!$D$13="NA",Master!$D$13>8,Master!$D$13<4),0,IF(Master!$D$13=3,$C$18,IF(Master!$D$13=4,$C$8,VLOOKUP(Master!$D$13,A7:C18,3,FALSE)))))/2 -> 0 | D22: =ROUND(17%*C22,0) -> 0 | J22: =SUM(C22:I22) -> 0 | Y22: =SUM(K22:X22) -> 0 | Z22: =J22-Y22 -> 0
B23: Fixation Arrear | D23: =IF(Master!$B$5="Yes",0,IF(C23=0,0,ROUND(C23*17%,0))) -> 0 | J23: =SUM(C23:I23) -> 0 | Y23: =SUM(K23:X23) -> 0 | Z23: =J23-Y23 -> 0
B24: Other | D24: =IF(Master!$B$5="Yes",0,IF(C24=0,0,ROUND(C24*17%,0))) -> 0 | J24: =SUM(C24:I24) -> 0 | Y24: =SUM(K24:X24) -> 0 | Z24: =J24-Y24 -> 0
B25: Salary Arrear1 | D25: =IF(Master!$B$5="Yes",0,IF(C25=0,0,ROUND(C25*17%,0))) -> 0 | J25: =SUM(C25:I25) -> 0 | Y25: =SUM(K25:X25) -> 0 | Z25: =J25-Y25 -> 0
B26: Salary Arrear2 | D26: =IF(Master!$B$5="Yes",0,IF(C26=0,0,ROUND(C26*17%,0))) -> 0 | J26: =SUM(C26:I26) -> 0 | Y26: =SUM(K26:X26) -> 0 | Z26: =J26-Y26 -> 0
B27: Total | C27: =SUM(C7:C26) -> 520168 | D27: =SUM(D7:D26) -> 104797 | E27: =SUM(E7:E26) -> 41072 | F27: =SUM(F7:F26) -> 0 | G27: =SUM(G7:G26) -> 0 | H27: =SUM(H7:H26) -> 0 | I27: =SUM(I7:I26) -> 0 | J27: =SUM(J7:J26) -> 666037 | ... Z27: =SUM(Z7:Z26) -> 554726
B30: Signature Of Employee | Y30: Signature Of DDO

Sheet Other Ded.
A1: Deductions other than Salry
A2: =Master!B4&", "&Master!D4 -> Ashwini Kumar Sharma, वरिष्ठ अध्यापक
A3: 1 | B3: मकान किराया भत्ता ( छूट जो लेनी है) YES/NO | C3: NO | D3: =IF(C3="Yes",'GA 55 For Print'!E27,0) -> 0 | E3: 19 | F3: Defferred Annuty (स्थगित वार्षिकी)
A4: 2 | B4: गृह सम्पति से प्राप्त किराया - आय | E4: 20 | F4: मनोरंजन भता धारा 16 (II) के अन्तर्गत | K4: =SUM(D19,G6) -> 0
A5: 3 | B5: गृहकर | E5: 21 | F5: व्यवयाय कर धारा 16 (III) के अन्तगर्त | K5: =SUM(G7,D19) -> 0
A6: 4 | B6: सरकारी पेंशन योजना में कर्मचारी का अंशदान अधिकतम वेतन का 10% धारा 80 CCD(1) | D6: =IF(J6>0,J6,0) -> 61823 | E6: 22 | F6: एफडी आदि अन्य जमा राशि पर प्राप्त कुल ब्याज (पीपीएफ को छोड़कर) | J6: =IF(K6>L6,L6,K6) -> 61823 | K6: =IF(Master!$F$9="No",0,ROUND(10%*'GA 55 For Print'!$J$27,0)) -> 66604 | L6: =IF(Master!$F$9="No",0,'GA 55 For Print'!$M$27) -> 61823
A7: 5 | B7: Covid - 19 (धारा 80G) | D7: =IF('GA 55 For Print'!T27="","",'GA 55 For Print'!T27) -> 7937 | E7: 23 | F7: अन्य विभिन्न स्त्रो़त्र (ब्याज के अलावा) से कुल आय | K7: =SUM('Tax Calculaton Old'!F21:F30,'Tax Calculaton Old'!L21:L28) -> 103124 | L7: =IF(Master!$F$9="No",50000,IF(M7>50000,50000,M7)) -> 0 | M7: =IF(K7>150000,K7-150000,0) -> 0
A8: 6 | B8: गृह ऋण किस्त मूल (जो वेतन से नहीं काटा गया) | E8: 24 | F8: धारा 80 सी के अन्तर्गत अन्य मद में जमा करायी गयी राशि | J8: =IF(Master!$F$12="No",25000,50000) -> 25000
A9: 7 | B9: गृह ऋण किस्त ब्याज (जो वेतन से नहीं काटा गया) | E9: 25 | F9: धारा 80 CCC पेंशन प्लान हेतु अंशदान (एन.पी.एस. के अलावा)
A10: 8 | B10: LIC जीवन बीमा प्रीमियम (जो वेतन से नही काटा गया) | E10: 26 | F10: धारा 80CCD (1B) नवीन पेंशन योजना में अतिरिक्त अंशदान (अधिकतम रू. 50,000) | J10: =IF(Master!$F$12="No",40000,100000) -> 40000
A11: 9 | B11: PLI (पी.एल.आई.) | E11: 27 | F11: धारा 80D चिकित्सा बीमा प्रीमियम (सामान्य 25000, वरिष्ठ नागरिक 50000) | J11: =SUM('GA 55 For Print'!C7:C18,'GA 55 For Print'!D7:D18) -> 600671
A12: 10 | B12: टयूशन फीस | E12: 28 | F12: धारा 80DD विकलांग आश्रितों के चिकित्सा उपचार(अधिकतम 75000, 80% विकलांगता 125000) | J12: ='GA 55 For Print'!E27 -> 41072
A13: 11 | B13: PPF (लोक भविष्य निधि) | E13: 29 | F13: धारा 80DDB विशिष्ट रोगों के उपचार हेतु कटौती (सामान्य 40000, वरिष्ठ नागरिक 1 लाख)
A14: 12 | B14: सुकन्या समृद्धि योजना | E14: 30 | F14: धारा 80E उच्च शिक्षा हेतु लिए ऋण का ब्याज
A15: 13 | B15: यू. एल. आई. पी./वार्षिक प्लान | E15: 31 | F15: धारा 80U स्थाई शारीरिक विकलांगता (अधिकतम 75000ए 80% विकलांगता 125000)
A16: 14 | B16: NSS (राष्ट्रीय बचत स्कीम) | E16: 32 | F16: धारा 80GGA अनुमोदित वैज्ञानिक,सामाजिक,ग्रामीण विकास हेतु दिया गया दान
A17: 15 | B17: NSC (राष्ट्रीय बचत पत्र) | E17: 33 | F17: राहत धारा 89 के अन्तर्गत
A18: 16 | B18: राष्ट्रीय बचत पत्र पर ब्याज | E18: 34 | F18: वेतन बिल के अलावा जमा कराया गया आयकर (TDS)
A19: 17 | B19: बचत खाते की जमा राशि पर प्राप्त ब्याज | E19: 35 | F19: धारा 10(14) के अन्तर्गत भत्ते जो करमुक्त है
A20: 18 | B20: इक्विटी लिंक सेविंग स्कीम | E20: 36 | F20: धारा 80G धर्मार्थ संस्थाओं आदि को दिये दान (क श्रेणी 100% एवं ख श्रेणी 50%)

Sheet Summary
A1: =Master!A1 -> कार्यालय प्रधानाचार्य राजकीय उच्च माध्यमिक विद्यालय, रूपपुरा
A3: Name Of Employee | B3: =Master!B4 -> Ashwini Kumar Sharma
A5: Gross Pay | B5: Taxable Amt | C5: Tax Deposit | D5: Rebate Under Section 80C, 80CCC, 80CCD(1) | E5: मकान किराया छूट के लिए रसीद की आवश्यकता
A6: ='Tax Calculaton Old'!$M$4 -> 727860 | B6: ='Tax Calculaton Old'!M48 -> 504980 | C6: ='Tax Calculaton Old'!M63 -> 0 | D6: ='Tax Calculaton Old'!M31 -> 103124 | E6: =IF('Other Ded.'!D3=0,0,ROUND(0.1*'Other Ded.'!J11,0)+'Other Ded.'!D3) -> 0
A8: TAX Position (Old Tax Scheme) | C8: ='Tax Calculaton Old'!A64&" = "&'Tax Calculaton Old'!M64 -> Income Tax Payable = 14036
A9: TAX Position (New Tax Scheme) | C9: ='Tax Calculaton New'!A56&" = "&'Tax Calculaton New'!M56 -> Income Tax Payable = 30268
A10: Total Rebate Under Section 80C, 80CCC, 80CCD(1) | C10: ='Tax Calculaton Old'!M31 -> 103124
A11: Investable Amount | C11: =150000-C10 -> 46876

Sheet GA 55 For Print
B1: =Master!A1 -> कार्यालय प्रधानाचार्य राजकीय उच्च माध्यमिक विद्यालय, रूपपुरा
B2: वेतन एवं कटौतियों का ब्यौरा सत्र 2020-21
B4: नाम कर्मचारी- | C4: =IF('GA 55 Editable'!C4="","",'GA 55 Editable'!C4) -> Ashwini Kumar Sharma | G4: पद- | H4: =IF('GA 55 Editable'!H4="","",'GA 55 Editable'!H4) -> वरिष्ठ अध्यापक | K4: लेवल- | L4: =IF('GA 55 Editable'!L4="","",'GA 55 Editable'!L4) -> L-10 | N4: Employee ID- | P4: =IF('GA 55 Editable'!P4="","",'GA 55 Editable'!P4) -> RJNA201228008021 | T4: मार्च का बेसिक- | W4: =IF('GA 55 Editable'!W4="","",'GA 55 Editable'!W4) -> 43800 | Y4: TAN No. | Z4: =IF('GA 55 Editable'!Z4="","",'GA 55 Editable'!Z4)
B5: पैन नं.- | C5: =IF('GA 55 Editable'!C5="","",'GA 55 Editable'!C5:F5) -> AAAA9456A | G5: Mobile- | H5: =IF('GA 55 Editable'!H5="","",'GA 55 Editable'!H5) -> 9166023711 | K5: SI No.- | L5: =IF('GA 55 Editable'!L5="","",'GA 55 Editable'!L5) -> 123456 | N5: GPF/PRAN No.- | P5: =IF('GA 55 Editable'!P5="","",'GA 55 Editable'!P5) -> 1234567891011 | T5: बैंक खाता सं.- | W5: =IF('GA 55 Editable'!W5="","",'GA 55 Editable'!W5) -> 123456789101112
B6: Month & Year | C6: Basic Pay | D6: DA | E6: HRA | F6: Washing Allow. | G6: Handicaped Allowance | H6: CCA Allowance | I6: Other Allowance 2 | J6: Gross Salary | K6: SIP | L6: GPF | M6: NPS | N6: GPF Loan | O6: RPMF | P6: SI Arrear | Q6: SI Loan | R6: GIS | S6: LIC | T6: COVIS-19 | U6: GPF 2004 | V6: Hitkari Nidhi | W6: Other | X6: ITAX | Y6: Total Deduction | Z6: NET Payment | AA6: Bill No./ Dte
A7: 3 | B7: 43891 | C7: =IF('GA 55 Editable'!C7="","",'GA 55 Editable'!C7) -> 21194 | D7: =IF('GA 55 Editable'!D7="","",'GA 55 Editable'!D7) -> 3603 | E7: =IF('GA 55 Editable'!E7="","",'GA 55 Editable'!E7) -> 1696 | F7: =IF('GA 55 Editable'!F7="","",'GA 55 Editable'!F7) -> 0 | G7: =IF('GA 55 Editable'!G7="","",'GA 55 Editable'!G7) -> 0 | H7: =IF('GA 55 Editable'!H7="","",'GA 55 Editable'!H7) -> 0 | I7: =IF('GA 55 Editable'!I7="","",'GA 55 Editable'!I7) | J7: =IF('GA 55 Editable'!J7="","",'GA 55 Editable'!J7) -> 26493 | ... AA7: =IF('GA 55 Editable'!AA7="","",'GA 55 Editable'!AA7)
A8: 4 | B8: 43922 | C8: =IF('GA 55 Editable'!C8="","",'GA 55 Editable'!C8) -> 43800 | D8: =IF('GA 55 Editable'!D8="","",'GA 55 Editable'!D8) -> 7446 | E8: =IF('GA 55 Editable'!E8="","",'GA 55 Editable'!E8) -> 3504 | F8: =IF('GA 55 Editable'!F8="","",'GA 55 Editable'!F8) -> 0 | G8: =IF('GA 55 Editable'!G8="","",'GA 55 Editable'!G8) -> 0 | H8: =IF('GA 55 Editable'!H8="","",'GA 55 Editable'!H8) -> 0 | I8: =IF('GA 55 Editable'!I8="","",'GA 55 Editable'!I8) | J8: =IF('GA 55 Editable'!J8="","",'GA 55 Editable'!J8) -> 54750 | ... AA8: =IF('GA 55 Editable'!AA8="","",'GA 55 Editable'!AA8)
A9: 5 | B9: 43952 | C9: =IF('GA 55 Editable'!C9="","",'GA 55 Editable'!C9) -> 43800 | D9: =IF('GA 55 Editable'!D9="","",'GA 55 Editable'!D9) -> 7446 | E9: =IF('GA 55 Editable'!E9="","",'GA 55 Editable'!E9) -> 3504 | F9: =IF('GA 55 Editable'!F9="","",'GA 55 Editable'!F9) -> 0 | G9: =IF('GA 55 Editable'!G9="","",'GA 55 Editable'!G9) -> 0 | H9: =IF('GA 55 Editable'!H9="","",'GA 55 Editable'!H9) -> 0 | I9: =IF('GA 55 Editable'!I9="","",'GA 55 Editable'!I9) | J9: =IF('GA 55 Editable'!J9="","",'GA 55 Editable'!J9) -> 54750 | ... AA9: =IF('GA 55 Editable'!AA9="","",'GA 55 Editable'!AA9)
A10: 6 | B10: 43983 | C10: =IF('GA 55 Editable'!C10="","",'GA 55 Editable'!C10) -> 43800 | D10: =IF('GA 55 Editable'!D10="","",'GA 55 Editable'!D10) -> 7446 | E10: =IF('GA 55 Editable'!E10="","",'GA 55 Editable'!E10) -> 3504 | F10: =IF('GA 55 Editable'!F10="","",'GA 55 Editable'!F10) -> 0 | G10: =IF('GA 55 Editable'!G10="","",'GA 55 Editable'!G10) -> 0 | H10: =IF('GA 55 Editable'!H10="","",'GA 55 Editable'!H10) -> 0 | I10: =IF('GA 55 Editable'!I10="","",'GA 55 Editable'!I10) | J10: =IF('GA 55 Editable'!J10="","",'GA 55 Editable'!J10) -> 54750 | ... AA10: =IF('GA 55 Editable'!AA10="","",'GA 55 Editable'!AA10)
A11: 7 | B11: 44013 | C11: =IF('GA 55 Editable'!C11="","",'GA 55 Editable'!C11) -> 45100 | D11: =IF('GA 55 Editable'!D11="","",'GA 55 Editable'!D11) -> 7667 | E11: =IF('GA 55 Editable'!E11="","",'GA 55 Editable'!E11) -> 3608 | F11: =IF('GA 55 Editable'!F11="","",'GA 55 Editable'!F11) -> 0 | G11: =IF('GA 55 Editable'!G11="","",'GA 55 Editable'!G11) -> 0 | H11: =IF('GA 55 Editable'!H11="","",'GA 55 Editable'!H11) -> 0 | I11: =IF('GA 55 Editable'!I11="","",'GA 55 Editable'!I11) | J11: =IF('GA 55 Editable'!J11="","",'GA 55 Editable'!J11) -> 56375 | ... AA11: =IF('GA 55 Editable'!AA11="","",'GA 55 Editable'!AA11)
A12: 8 | B12: 44044 | C12: =IF('GA 55 Editable'!C12="","",'GA 55 Editable'!C12) -> 45100 | D12: =IF('GA 55 Editable'!D12="","",'GA 55 Editable'!D12) -> 7667 | E12: =IF('GA 55 Editable'!E12="","",'GA 55 Editable'!E12) -> 3608 | F12: =IF('GA 55 Editable'!F12="","",'GA 55 Editable'!F12) -> 0 | G12: =IF('GA 55 Editable'!G12="","",'GA 55 Editable'!G12) -> 0 | H12: =IF('GA 55 Editable'!H12="","",'GA 55 Editable'!H12) -> 0 | I12: =IF('GA 55 Editable'!I12="","",'GA 55 Editable'!I12) | J12: =IF('GA 55 Editable'!J12="","",'GA 55 Editable'!J12) -> 56375 | ... AA12: =IF('GA 55 Editable'!AA12="","",'GA 55 Editable'!AA12)
A13: 9 | B13: 44075 | C13: =IF('GA 55 Editable'!C13="","",'GA 55 Editable'!C13) -> 45100 | D13: =IF('GA 55 Editable'!D13="","",'GA 55 Editable'!D13) -> 7667 | E13: =IF('GA 55 Editable'!E13="","",'GA 55 Editable'!E13) -> 3608 | F13: =IF('GA 55 Editable'!F13="","",'GA 55 Editable'!F13) -> 0 | G13: =IF('GA 55 Editable'!G13="","",'GA 55 Editable'!G13) -> 0 | H13: =IF('GA 55 Editable'!H13="","",'GA 55 Editable'!H13) -> 0 | I13: =IF('GA 55 Editable'!I13="","",'GA 55 Editable'!I13) | J13: =IF('GA 55 Editable'!J13="","",'GA 55 Editable'!J13) -> 56375 | ... AA13: =IF('GA 55 Editable'!AA13="","",'GA 55 Editable'!AA13)
A14: 10 | B14: 44105 | C14: =IF('GA 55 Editable'!C14="","",'GA 55 Editable'!C14) -> 45100 | D14: =IF('GA 55 Editable'!D14="","",'GA 55 Editable'!D14) -> 7667 | E14: =IF('GA 55 Editable'!E14="","",'GA 55 Editable'!E14) -> 3608 | F14: =IF('GA 55 Editable'!F14="","",'GA 55 Editable'!F14) -> 0 | G14: =IF('GA 55 Editable'!G14="","",'GA 55 Editable'!G14) -> 0 | H14: =IF('GA 55 Editable'!H14="","",'GA 55 Editable'!H14) -> 0 | I14: =IF('GA 55 Editable'!I14="","",'GA 55 Editable'!I14) | J14: =IF('GA 55 Editable'!J14="","",'GA 55 Editable'!J14) -> 56375 | ... AA14: =IF('GA 55 Editable'!AA14="","",'GA 55 Editable'!AA14)
A15: 11 | B15: 44136 | C15: =IF('GA 55 Editable'!C15="","",'GA 55 Editable'!C15) -> 45100 | D15: =IF('GA 55 Editable'!D15="","",'GA 55 Editable'!D15) -> 7667 | E15: =IF('GA 55 Editable'!E15="","",'GA 55 Editable'!E15) -> 3608 | F15: =IF('GA 55 Editable'!F15="","",'GA 55 Editable'!F15) -> 0 | G15: =IF('GA 55 Editable'!G15="","",'GA 55 Editable'!G15) -> 0 | H15: =IF('GA 55 Editable'!H15="","",'GA 55 Editable'!H15) -> 0 | I15: =IF('GA 55 Editable'!I15="","",'GA 55 Editable'!I15) | J15: =IF('GA 55 Editable'!J15="","",'GA 55 Editable'!J15) -> 56375 | ... AA15: =IF('GA 55 Editable'!AA15="","",'GA 55 Editable'!AA15)
A16: 12 | B16: 44166 | C16: =IF('GA 55 Editable'!C16="","",'GA 55 Editable'!C16) -> 45100 | D16: =IF('GA 55 Editable'!D16="","",'GA 55 Editable'!D16) -> 7667 | E16: =IF('GA 55 Editable'!E16="","",'GA 55 Editable'!E16) -> 3608 | F16: =IF('GA 55 Editable'!F16="","",'GA 55 Editable'!F16) -> 0 | G16: =IF('GA 55 Editable'!G16="","",'GA 55 Editable'!G16) -> 0 | H16: =IF('GA 55 Editable'!H16="","",'GA 55 Editable'!H16) -> 0 | I16: =IF('GA 55 Editable'!I16="","",'GA 55 Editable'!I16) | J16: =IF('GA 55 Editable'!J16="","",'GA 55 Editable'!J16) -> 56375 | ... AA16: =IF('GA 55 Editable'!AA16="","",'GA 55 Editable'!AA16)
A17: 1 | B17: 44197 | C17: =IF('GA 55 Editable'!C17="","",'GA 55 Editable'!C17) -> 45100 | D17: =IF('GA 55 Editable'!D17="","",'GA 55 Editable'!D17) -> 7667 | E17: =IF('GA 55 Editable'!E17="","",'GA 55 Editable'!E17) -> 3608 | F17: =IF('GA 55 Editable'!F17="","",'GA 55 Editable'!F17) -> 0 | G17: =IF('GA 55 Editable'!G17="","",'GA 55 Editable'!G17) -> 0 | H17: =IF('GA 55 Editable'!H17="","",'GA 55 Editable'!H17) -> 0 | I17: =IF('GA 55 Editable'!I17="","",'GA 55 Editable'!I17) | J17: =IF('GA 55 Editable'!J17="","",'GA 55 Editable'!J17) -> 56375 | ... AA17: =IF('GA 55 Editable'!AA17="","",'GA 55 Editable'!AA17)
A18: 2 | B18: 44228 | C18: =IF('GA 55 Editable'!C18="","",'GA 55 Editable'!C18) -> 45100 | D18: =IF('GA 55 Editable'!D18="","",'GA 55 Editable'!D18) -> 7667 | E18: =IF('GA 55 Editable'!E18="","",'GA 55 Editable'!E18) -> 3608 | F18: =IF('GA 55 Editable'!F18="","",'GA 55 Editable'!F18) -> 0 | G18: =IF('GA 55 Editable'!G18="","",'GA 55 Editable'!G18) -> 0 | H18: =IF('GA 55 Editable'!H18="","",'GA 55 Editable'!H18) -> 0 | I18: =IF('GA 55 Editable'!I18="","",'GA 55 Editable'!I18) | J18: =IF('GA 55 Editable'!J18="","",'GA 55 Editable'!J18) -> 56375 | ... AA18: =IF('GA 55 Editable'!AA18="","",'GA 55 Editable'!AA18)
B19: DA Arrear 07-19 to 12-19 | C19: =IF('GA 55 Editable'!C19="","",'GA 55 Editable'!C19) | D19: =IF('GA 55 Editable'!D19="","",'GA 55 Editable'!D19) -> 13140 | E19: =IF('GA 55 Editable'!E19="","",'GA 55 Editable'!E19) | F19: =IF('GA 55 Editable'!F19="","",'GA 55 Editable'!F19) | G19: =IF('GA 55 Editable'!G19="","",'GA 55 Editable'!G19) | H19: =IF('GA 55 Editable'!H19="","",'GA 55 Editable'!H19) | I19: =IF('GA 55 Editable'!I19="","",'GA 55 Editable'!I19) | J19: =IF('GA 55 Editable'!J19="","",'GA 55 Editable'!J19) -> 13140 | ... AA19: =IF('GA 55 Editable'!AA19="","",'GA 55 Editable'!AA19)
B20: DA Arrear 01-20 to 02-20 | C20: =IF('GA 55 Editable'!C20="","",'GA 55 Editable'!C20) | D20: =IF('GA 55 Editable'!D20="","",'GA 55 Editable'!D20) -> 4380 | E20: =IF('GA 55 Editable'!E20="","",'GA 55 Editable'!E20) | F20: =IF('GA 55 Editable'!F20="","",'GA 55 Editable'!F20) | G20: =IF('GA 55 Editable'!G20="","",'GA 55 Editable'!G20) | H20: =IF('GA 55 Editable'!H20="","",'GA 55 Editable'!H20) | I20: =IF('GA 55 Editable'!I20="","",'GA 55 Editable'!I20) | J20: =IF('GA 55 Editable'!J20="","",'GA 55 Editable'!J20) -> 4380 | ... AA20: =IF('GA 55 Editable'!AA20="","",'GA 55 Editable'!AA20)
B21: Bonus | C21: =IF('GA 55 Editable'!C21="","",'GA 55 Editable'!C21) -> 6774 | D21: =IF('GA 55 Editable'!D21="","",'GA 55 Editable'!D21) | E21: =IF('GA 55 Editable'!E21="","",'GA 55 Editable'!E21) | F21: =IF('GA 55 Editable'!F21="","",'GA 55 Editable'!F21) | G21: =IF('GA 55 Editable'!G21="","",'GA 55 Editable'!G21) | H21: =IF('GA 55 Editable'!H21="","",'GA 55 Editable'!H21) | I21: =IF('GA 55 Editable'!I21="","",'GA 55 Editable'!I21) | J21: =IF('GA 55 Editable'!J21="","",'GA 55 Editable'!J21) -> 6774 | ... AA21: =IF('GA 55 Editable'!AA21="","",'GA 55 Editable'!AA21)
B22: Surrender | C22: =IF('GA 55 Editable'!C22="","",'GA 55 Editable'!C22) -> 0 | D22: =IF('GA 55 Editable'!D22="","",'GA 55 Editable'!D22) -> 0 | E22: =IF('GA 55 Editable'!E22="","",'GA 55 Editable'!E22) | F22: =IF('GA 55 Editable'!F22="","",'GA 55 Editable'!F22) | G22: =IF('GA 55 Editable'!G22="","",'GA 55 Editable'!G22) | H22: =IF('GA 55 Editable'!H22="","",'GA 55 Editable'!H22) | I22: =IF('GA 55 Editable'!I22="","",'GA 55 Editable'!I22) | J22: =IF('GA 55 Editable'!J22="","",'GA 55 Editable'!J22) -> 0 | ... AA22: =IF('GA 55 Editable'!AA22="","",'GA 55 Editable'!AA22)
B23: Fixation Arrear | C23: =IF('GA 55 Editable'!C23="","",'GA 55 Editable'!C23) | D23: =IF('GA 55 Editable'!D23="","",'GA 55 Editable'!D23) -> 0 | E23: =IF('GA 55 Editable'!E23="","",'GA 55 Editable'!E23) | F23: =IF('GA 55 Editable'!F23="","",'GA 55 Editable'!F23) | G23: =IF('GA 55 Editable'!G23="","",'GA 55 Editable'!G23) | H23: =IF('GA 55 Editable'!H23="","",'GA 55 Editable'!H23) | I23: =IF('GA 55 Editable'!I23="","",'GA 55 Editable'!I23) | J23: =IF('GA 55 Editable'!J23="","",'GA 55 Editable'!J23) -> 0 | ... AA23: =IF('GA 55 Editable'!AA23="","",'GA 55 Editable'!AA23)
B24: Other | C24: =IF('GA 55 Editable'!C24="","",'GA 55 Editable'!C24) | D24: =IF('GA 55 Editable'!D24="","",'GA 55 Editable'!D24) -> 0 | E24: =IF('GA 55 Editable'!E24="","",'GA 55 Editable'!E24) | F24: =IF('GA 55 Editable'!F24="","",'GA 55 Editable'!F24) | G24: =IF('GA 55 Editable'!G24="","",'GA 55 Editable'!G24) | H24: =IF('GA 55 Editable'!H24="","",'GA 55 Editable'!H24) | I24: =IF('GA 55 Editable'!I24="","",'GA 55 Editable'!I24) | J24: =IF('GA 55 Editable'!J24="","",'GA 55 Editable'!J24) -> 0 | ... AA24: =IF('GA 55 Editable'!AA24="","",'GA 55 Editable'!AA24)
B25: Salary Arrear1 | C25: =IF('GA 55 Editable'!C25="","",'GA 55 Editable'!C25) | D25: =IF('GA 55 Editable'!D25="","",'GA 55 Editable'!D25) -> 0 | E25: =IF('GA 55 Editable'!E25="","",'GA 55 Editable'!E25) | F25: =IF('GA 55 Editable'!F25="","",'GA 55 Editable'!F25) | G25: =IF('GA 55 Editable'!G25="","",'GA 55 Editable'!G25) | H25: =IF('GA 55 Editable'!H25="","",'GA 55 Editable'!H25) | I25: =IF('GA 55 Editable'!I25="","",'GA 55 Editable'!I25) | J25: =IF('GA 55 Editable'!J25="","",'GA 55 Editable'!J25) -> 0 | ... AA25: =IF('GA 55 Editable'!AA25="","",'GA 55 Editable'!AA25)
B26: Salary Arrear2 | C26: =IF('GA 55 Editable'!C26="","",'GA 55 Editable'!C26) | D26: =IF('GA 55 Editable'!D26="","",'GA 55 Editable'!D26) -> 0 | E26: =IF('GA 55 Editable'!E26="","",'GA 55 Editable'!E26) | F26: =IF('GA 55 Editable'!F26="","",'GA 55 Editable'!F26) | G26: =IF('GA 55 Editable'!G26="","",'GA 55 Editable'!G26) | H26: =IF('GA 55 Editable'!H26="","",'GA 55 Editable'!H26) | I26: =IF('GA 55 Editable'!I26="","",'GA 55 Editable'!I26) | J26: =IF('GA 55 Editable'!J26="","",'GA 55 Editable'!J26) -> 0 | ... AA26: =IF('GA 55 Editable'!AA26="","",'GA 55 Editable'!AA26)
B27: Total | C27: =IF('GA 55 Editable'!C27="","",'GA 55 Editable'!C27) -> 520168 | D27: =IF('GA 55 Editable'!D27="","",'GA 55 Editable'!D27) -> 104797 | E27: =IF('GA 55 Editable'!E27="","",'GA 55 Editable'!E27) -> 41072 | F27: =IF('GA 55 Editable'!F27="","",'GA 55 Editable'!F27) -> 0 | G27: =IF('GA 55 Editable'!G27="","",'GA 55 Editable'!G27) -> 0 | H27: =IF('GA 55 Editable'!H27="","",'GA 55 Editable'!H27) -> 0 | I27: =IF('GA 55 Editable'!I27="","",'GA 55 Editable'!I27) -> 0 | J27: =IF('GA 55 Editable'!J27="","",'GA 55 Editable'!J27) -> 666037 | ... AA27: =IF('GA 55 Editable'!AA27="","",'GA 55 Editable'!AA27)
B30: Signature Of Employee | Y30: Signature Of DDO

Sheet Tax Calculaton Old
A1: =Master!A1 -> कार्यालय प्रधानाचार्य राजकीय उच्च माध्यमिक विद्यालय, रूपपुरा
A2: आयकर गणना प्रपत्र वर्ष 2020-21
A3: 1 | B3: नाम कर्मचारी | D3: =IF(Master!B4="","",Master!B4) -> Ashwini Kumar Sharma | I3: पद | J3: =IF(Master!D4="","",Master!D4) -> वरिष्ठ अध्यापक | L3: पैन नं. | M3: =IF(Master!B6="","",Master!B6) -> AAAA9456A
A4: 2 | B4: आय वर्ष 2020-21 में प्राप्त कुल वेतन - | M4: =IF(Master!F9="NO",'GA 55 For Print'!J27,SUM('GA 55 For Print'!J27+'GA 55 For Print'!M27)) -> 727860
A5: 3 | B5: गृह किराया, धारा 10 (13-A) के अंतर्गत एवं धारा 10 (14) के अंतर्गत अन्य भत्ते जो कर मुक्त है - | M5: =SUM('Other Ded.'!D3,'Other Ded.'!G19) -> 0
A6: 4 | B6: शेष (2-3) | M6: =M4-M5 -> 727860
A7: 5 | B7: (I)Standard Deduction Maxium 50000 धारा 16 (i a) | L7: =IF($M$6>50000,50000,$M$6) -> 50000
B8: (II)मनोरंजन भत्ता धारा 16 (ii) के अंतर्गत Maxium 5000 | L8: ='Other Ded.'!G4 -> 0
B9: (III)वयवसाय कर धारा 16 (iii) के अंतर्गत | L9: ='Other Ded.'!G5 -> 0
B10: योग 5 | M10: =SUM(L7:L9) -> 50000
A11: 6 | B11: शेष (4-5) | M11: =M6-M10 -> 677860
A12: 7 | B12: (अ) गृह सम्पति से आय (1) स्वयं के उपयोग में शून्य | H12: (2) प्राप्त किराया रूपये | K12: ='Other Ded.'!D4 -> 0
B13: (ब) घटाइए | D13: किराये का 30% | F13: गृह ऋण पर ब्याज | H13: गृह कर | J13: योग 7 (ब)
D14: =ROUND($K$12*0.3,0) -> 0 | F14: =IF('Other Ded.'!D9>200000,200000,'Other Ded.'!D9) -> 0 | H14: ='Other Ded.'!D5 -> 0 | J14: =SUM(D14:I14) -> 0
B15: शेष - / + (7(अ) एवं 7 (ब) का) | M15: =$K$12-$J$14 -> 0
A16: 8 | B16: कुल शेष - / + (6 एवं 7) | M16: =$M$11+$M$15 -> 677860
A17: 9 | B17: अन्य आय | M17: ='Other Ded.'!K5 -> 0
A18: 10 | B18: सकल आय (योग 8+9) | M18: =SUM(M16:M17) -> 677860
A19: 11 | B19: कटौतिया घटाइए - धारा US 80C, 80CCC, 80CCD(1)
B20: (A) अधिकतम सीमा 150000 (धारा 80CCE), धारा 80CCD(2) के अलावा
B21: 1 | C21: राज्य बीमा (SI) | F21: =SUM('GA 55 For Print'!K27+'GA 55 For Print'!P27) -> 36000 | H21: 11 | I21: EPEF (80CCD1) | L21: =IF(Master!F9="Yes",'Other Ded.'!D6,0) -> 61823
B22: 2 | C22: LIC | F22: =SUM('GA 55 For Print'!S27,'Other Ded.'!D10) -> 0 | H22: 12 | I22: पेंशन प्लान हेतु अंशदान धारा (80CCC) | L22: ='Other Ded.'!G9 -> 0
B23: 3 | C23: GPF/GPF2004 | F23: =IF(Master!F9="Yes",'GA 55 For Print'!U27,'GA 55 For Print'!L27) -> 5081 | H23: 13 | I23: राष्ट्रीय बचत पत्र पर ब्याज | L23: ='Other Ded.'!D18 -> 0
B24: 4 | C24: राष्ट्रीय बचत पत्र (NSC) | F24: ='Other Ded.'!D17 -> 0 | H24: 14 | I24: ट्यूशन फीस | L24: ='Other Ded.'!D12 -> 0
B25: 5 | C25: लोक भविष्य निधि (PPF) | F25: ='Other Ded.'!D13 -> 0 | H25: 15 | I25: इक्विटी लिंक सेविंग स्कीम | L25: ='Other Ded.'!D20 -> 0
B26: 6 | C26: राष्ट्रीय बचत स्कीम (NSS) | F26: ='Other Ded.'!D16 -> 0 | H26: 16 | I26: Defferred Annuty | L26: ='Other Ded.'!G3 -> 0
B27: 7 | C27: GIS | F27: ='GA 55 For Print'!R27 -> 220 | H27: 17 | I27: PLI | L27: ='Other Ded.'!D11 -> 0
B28: 8 | C28: ULIP / वार्षिक प्लान | F28: ='Other Ded.'!D15 -> 0 | H28: 18 | I28: धारा 80C के अंतर्गत अन्य जमा राशि | L28: ='Other Ded.'!G8 -> 0
B29: 9 | C29: Home Loan Premium | F29: ='Other Ded.'!D8 -> 0 | H29: 19 | I29: योग 1 से 18 तक | L29: =SUM(F21:G30,L21:L28) -> 103124
B30: 10 | C30: सुकन्या योजना में जमा | F30: ='Other Ded.'!D14 -> 0
B31: अधिकतम कटौती राशि रूपए 150000 तक | M31: =IF($L$29<150001,ROUND($L$29,0),150000) -> 103124
B32: (B) | C32: घटाइए धारा 80CCD (2) नियोक्ता द्वारा पेंशन अंशदान की राशि (अधिकतम वेतन का 10%) | M32: ='Other Ded.'!J6 -> 61823
B33: (C) | C33: घटाइए धारा 80CCD (1B)नवीन पेंशन योजना में अतिरिक्त अंशदान (अधिकतम रूपए 50000) | M33: =IF('Other Ded.'!G10<50000,'Other Ded.'!G10,50000) -> 0
B34: योग 11 (A+B+C) | M34: =SUM(M31:M33) -> 164947
A35: 12 | B35: अन्य कटौतिया
B36: 1 | C36: धारा 80 D, चिकित्सा बीमा प्रीमियम (स्वयं,पति/पत्नी व बच्चों के लिए रू 25000, माता-पिता के लिए रू 25000,सीनियर सिटीजन रू 50000) | M36: ='Other Ded.'!G11 -> 0
B37: 2 | C37: धारा 80DD विकलांग आश्रितों के चिकित्सा उपचार (अधिकतम 75,000 तथा 80% या अधिक विकलांगता 125,000) | M37: ='Other Ded.'!G12 -> 0
B38: 3 | C38: धारा 80 DB विशिष्ट रोंगों के उपचार हेतु कटौती (अधिकतम रू 40,000, सीनियर सिटीजन हेतु रू 100,000) | M38: ='Other Ded.'!G13 -> 0
B39: 4 | C39: धारा 80 E उच्च शिक्षा हेतु लिए ऋण का ब्याज | M39: ='Other Ded.'!G14 -> 0
B40: 5 | C40: धारा 80 G धर्मार्थ संस्थाओं आदि को दिये दान ( क श्रेणी में 100 प्रतिशत एवं ख श्रेणी में 50 प्रतिशत) | M40: =SUM('Other Ded.'!D7,'Other Ded.'!G20) -> 7937
...

Sheet Tax Calculaton New
A1: =Master!A1 -> कार्यालय प्रधानाचार्य राजकीय उच्च माध्यमिक विद्यालय, रूपपुरा
A2: आयकर गणना प्रपत्र वर्ष 2020-21
A3: 1 | B3: नाम कर्मचारी | D3: =Master!B4 -> Ashwini Kumar Sharma | I3: पद | J3: =Master!D4 -> वरिष्ठ अध्यापक | L3: पैन नं. | M3: =Master!B6 -> AAAA9456A
A4: 2 | B4: आय वर्ष 2020-21 में प्राप्त कुल वेतन - | M4: ='Tax Calculaton Old'!M4 -> 727860
A5: 3 | B5: गृह किराया, धारा 10 (13-A) के अंतर्गत एवं धारा 10 (14) के अंतर्गत अन्य भत्ते जो कर मुक्त है - | M5: =SUM('Other Ded.'!D3,'Other Ded.'!G19) -> 0
A6: 4 | B6: शेष (2-3) | M6: =M4-M5 -> 727860
A7: 5 | B7: (I)Standard Deduction Maxium 50000 धारा 16 (i a) | L7: 0
B8: (II)मनोरंजन भत्ता धारा 16 (ii) के अंतर्गत Maxium 5000 | L8: ='Other Ded.'!G4 -> 0
B9: (III)वयवसाय कर धारा 16 (iii) के अंतर्गत | L9: ='Other Ded.'!G5 -> 0
B10: योग 5 | M10: =SUM(L7:L9) -> 0
A11: 6 | B11: शेष (4-5) | M11: =M6-M10 -> 727860
A12: 7 | B12: (अ) गृह सम्पति से आय (1) स्वयं के उपयोग में शून्य | H12: (2) प्राप्त किराया रूपये | K12: 0
B13: (ब) घटाइए | D13: किराये का 30% | F13: गृह ऋण पर ब्याज | H13: गृह कर | J13: योग 7 (ब)
D14: 0 | F14: 0 | H14: 0 | J14: =SUM(D14:I14) -> 0
B15: शेष - / + (7(अ) एवं 7 (ब) का) | M15: =$K$12+$J$14 -> 0
A16: 8 | B16: कुल शेष - / + (6 एवं 7) | M16: =$M$11-$M$15 -> 727860
A17: 9 | B17: अन्य आय | M17: ='Other Ded.'!K5 -> 0
A18: 10 | B18: सकल आय (योग 8+9) | M18: =SUM(M16:M17) -> 727860
A19: 11 | B19: कटौतिया घटाइए - धारा US 80C, 80CCC, 80CCD(1)
B20: (A) धारा US 80C, 80CCC, 80CCD(1) अधिकतम कटौती की राशि | M20: 0
B21: (B) धारा 80CCD(2) नियोक्ता द्वारा पेंशन अंशदान की राशि (अधिकतम वेतन का 10% पृथक से छूट) | M21: ='Other Ded.'!J6 -> 61823
B22: (C) धारा 80CCD(1B) नवीन पेंशन योजना में अतिरिक्त अंशदान (अधिकतम रू. 50,000) | M22: 0
B23: योग 11 (A+B+C) | M23: =SUM(M20:M22) -> 61823
A24: 12 | B24: अन्य कटौतिया
B25: 1 | C25: धारा 80 D, चिकित्सा बीमा प्रीमियम (स्वयं,पति/पत्नी व बच्चों के लिए रू 25000, माता-पिता के लिए रू 25000,सीनियर सिटीजन रू 50000) | M25: 0
B26: 2 | C26: धारा 80DD विकलांग आश्रितों के चिकित्सा उपचार (अधिकतम 75,000 तथा 80ः या अधिक विकलांगता 125,000) | M26: 0
B27: 3 | C27: धारा 80 DB विशिष्ट रोंगों के उपचार हेतु कटौती (अधिकतम रू 40,000, सीनियर सिटीजन हेतु रू 100,000) | M27: 0
B28: 4 | C28: धारा 80 E उच्च शिक्षा हेतु लिए ऋण का ब्याज | M28: 0
B29: 5 | C29: धारा 80 G धर्मार्थ संस्थाओं आदि को दिये दान ( क श्रेणी में 100 प्रतिशत एवं ख श्रेणी में 50 प्रतिशत) | M29: 0
B30: 6 | C30: धारा 80 U स्थाई रूप से शारीरिक असमर्थतता की दशा में (अधिकतम 75,000 तथा अधिनियम 1995के अनुसार 125,000) | M30: 0
B31: 7 | C31: धारा 80 TTA बचत खाते पर ब्याज की अधिकतम छूट रू. 10,000 U/S 194(IA) | M31: 0
B32: 8 | C32: धारा 80 TTB वरिष्ठ नागरिकों को सभी प्रकार के ब्याज पर अधिकतम छूट- 50000 रू. U/S 194(A) | M32: 0
B33: 9 | C33: धारा 80 GGA अनुमोदित वैज्ञानिक, सामाजिक, ग्रामीण विकास आदि हेतु दिया गया दान | M33: 0
B34: योग 12 (1 to 9) | M34: =SUM(M25:M33) -> 0
A35: 13 | B35: कुल कटौती (11+12) | M35: =SUM($M$23+$M$34) -> 61823
A36: 14 | B36: कर योग्य आय (10-13) | M36: =$M$18-$M$35 -> 666037
A37: 15 | B37: कुल आय की राशि को सम्पूर्ण करना (दस के गुणक में) धारा 288 A | M37: =ROUND($M$36,-1) -> 666040
A38: 16 | B38: आयकर की गणना
B39: एक व्यक्ति कर दाता | F39: वरिष्ठ नागरिक (60 से 80 वर्ष) | J39: 80 वर्ष या अधिक आयु
B40: 250000 तक | E40: NIL | F40: 300000 तक | I40: NIL | L40: NIL | M40: 0
...

Sheet Post at Office
B3: कार्यालय में पोस्ट विवरण | D3: Pay - Level
B4: अतिरिक्त जिला शिक्षा अधिकारी | D4: L-1
B5: अतिरिक्त प्रशासनिक अधिकारी | D5: L-2
B6: अध्यापक | D6: L-3
B7: आशुलिपिक | D7: L-4
B8: उप जिला शिक्षा अधिकारी (शारीरिक शिक्षा) | D8: L-5
B9: उपनिदेशक | D9: L-6
B10: कनिष्ठ लेखाकार | D10: L-7
B11: कनिष्ठ विधि अधिकारी | D11: L-8
B12: कनिष्ठ सहायक | D12: L-9
B13: कृषि अध्यापक | D13: L-10
B14: कृषि शिक्षा प्रभारी | D14: L-11
... B27: प्रशिक्षक | D27: L-24
B28: फील्ड मैन व फील्ड रिक़ॉर्डर
B29: वरिष्ठ अध्यापक
B30: वरिष्ठ सहायक
B31: वाहन चालक
B32: व्याख्याता स्कूल(शिक्षा)
B33: शारीरिक शिक्षक श्रेणी I
B34: शारीरिक शिक्षक श्रेणी II
B35: शारीरिक शिक्षक श्रेणी III
B36: सहायक प्रशासनिक अधिकारी
B37: सहायक लेखाधिकारी ग्रेड - I
B38: स्‍थापना अधिकारी
B39: प्रबोधक
