Workbook
Name Employee_Data: Table3[[#All],[कर्मचारी का नाम]:[60-80 वर्ग]]
Name Employee_Data: Table3[[#All],[कर्मचारी का नाम]:[60-80 वर्ग]]
Name Employee_Data: Table3[[#All],[कर्मचारी का नाम]:[60-80 वर्ग]]
Name Employee_Data: Table3[[#All],[कर्मचारी का नाम]:[60-80 वर्ग]]
Name Employee_Data_2: Sheet3!$J$5:$X$251
Name Employee_Names: Table3[कर्मचारी का नाम]
Name Employee_Names: Table3[कर्मचारी का नाम]
Name Employee_Names: Table3[कर्मचारी का नाम]
Name Employee_Names: Table3[कर्मचारी का नाम]
Name Months_Name: Table4[[#All],[Months]]
Name Months_Name: Table4[[#All],[Months]]
Name Months_Name: Table4[[#All],[Months]]
Name Months_Name: Table4[[#All],[Months]]
Name Pay_Level: Table2[[#All],[पे लेवल]]
Name Pay_Level: Table2[[#All],[पे लेवल]]
Name Pay_Level: Table2[[#All],[पे लेवल]]
Name Pay_Level: Table2[[#All],[पे लेवल]]
Name Post_At_Office: Table1[[#All],[कार्यालय में पोस्ट विवरण]]
Name Post_At_Office: Table1[[#All],[कार्यालय में पोस्ट विवरण]]
Name Post_At_Office: Table1[[#All],[कार्यालय में पोस्ट विवरण]]
Name Post_At_Office: Table1[[#All],[कार्यालय में पोस्ट विवरण]]
Name SI_GPF: Sheet1!$I$3:$AF$5
Name Tax_data: 'Other Ded.'!$B$3:$BF$254

Sheet Sheet4
A1: मकान किराया भत्ता, गृह सम्पति से प्राप्त किराया, गृहकर, गृह ऋण किस्त मूल, गृह ऋण किस्त ब्याज, LIC (जो वेतन से नही काटा गया), PLI (पी.एल.आई.), टयूशन फीस, PPF (लोक भविष्य निधि), सुकन्या समृद्धि योजना, यू. एल. आई. पी./वार्षिक प्लान, NSC (राष्ट्रीय बचत पत्र), राष्ट्रीय बचत पत्र पर ब्याज, NSS (राष्ट्रीय बचत स्कीम), स्टेण्डर्ड डिडेक्शन रूपये 50,000, बचत खाते की जमा राशि पर प्राप्त ब्याज, इक्विटी लिंक सेविंग स्कीम, Defferred Annuty (स्थगित वार्षिकी), मनोरंजन भता धारा, व्यवयाय कर धारा, एफडी आदि अन्य जमा राशि पर प्राप्त कुल ब्याज (पीपीएफ को छोड़कर), अन्य विभिन्न स्त्रो़त्र (ब्याज के अलावा) से कुल आय, धारा 80 सी के अन्तर्गत अन्य मद में जमा करायी गयी राशि, धारा 80 CCC पेंशन प्लान हेतु अंशदान (एन.पी.एस. के अलावा), सरकारी पेंशन योजना में कर्मचारी का अंशदान अधिकतम वेतन का 10% धारा 80 CCD(1), धारा 80CCD (1B) नवीन पेंशन योजना में अतिरिक्त अंशदान (अधिकतम रू. 50,000), धारा 80D चिकित्सा बीमा प्रीमियम (सामान्य 25000, वरिष्ठ नागरिक 50000), धारा 80DD विकलांग आश्रितों के चिकित्सा उपचार(अधिकतम 75000, 80% विकलांगता 125000), धारा 80DDB विशिष्ट रोगों के उपचार हेतु कटौती (सामान्य 40000, वरिष्ठ नागरिक 1 लाख), धारा 80E उच्च शिक्षा हेतु लिए ऋण का ब्याज, धारा 80G धर्मार्थ संस्थाओं आदि को दिये दान (क श्रेणी 100% एवं ख श्रेणी 50%), धारा 80U स्थाई शारीरिक विकलांगता (अधिकतम 75000ए 80% विकलांगता 125000), धारा 80GGA अनुमोदित वैज्ञानिक,सामाजिक,ग्रामीण विकास हेतु दिया गया दान, राहत धारा 89 के अन्तर्गत, वेतन बिल के अलावा जमा कराया गया आयकर (TDS), धारा 10(14) के अन्तर्गत भत्ते जो करमुक्त है |

Sheet Instruction
A1: आयकर गणना प्रपत्र 2020-21
A2: By Ashwini Kumar Excel Program Maker
A3: अपने पुरे स्टाफ का डाटा एक साथ fill करे और एक साथ ही टैक्स की गणना करे वो भी मात्र कुछ समय में |
A4: http://www.ashwinisharma.com/
A5: to download this sheet visit the above website
A6: See the video on Youtube channel - Ashwini Kumar Excel Program Maker
A7: यदि कुछ सुधार की आवश्यकता हो तो जरुर अवगत करावें ताकि सुधार करके अपडेट किया जा सके |
A9: Master Sheet Instructions-
A10: 1 | B10: क्रम सं.- क्रमांक नहीं लगाने है आप जैसे ही कर्मचारी का नाम लिखोगे क्रम संख्या आ जाएगी | | O10: 1
A11: 2 | B11: कर्मचारी का नाम- इस कॉलम में कर्मचारियों के नाम लिखे |
A12: 3 | B12: पद- कर्मचारियों का पद ड्राप डाउन लिस्ट में से चयन करे |
A13: 4 | B13: केडर/संवर्ग- कर्मचारियों का कैडर/संवर्ग (Subordinate, State Service, Ministerial, Class IV में से) ड्राप डाउन लिस्ट में से चयन करे |
A14: 5 | B14: IS In Probation Yes or NO- यदि कर्मचारी प्रोबेशन में है तो YES अन्यथा NO का चयन ड्राप डाउन लिस्ट में से करे |
A15: 6 | B15: लेवल- कर्मचारी का लेवल ड्राप डाउन लिस्ट में से चयन करे |
A16: 7 | B16: Employee ID- कर्मचारी की Employee ID लिखे |
A17: 8 | B17: पैन नं.- कर्मचारी की PAN Number लिखे |
A18: 9 | B18: बैंक खाता सं.- कर्मचारी की बैंक अकाउंट नंबर लिखे |
A19: 10 | B19: SI No.- कर्मचारी की SI नंबर लिखे | अगर जारी नहीं हुए है तो 0 लिख देवे |
A20: 11 | B20: GPF/PRAN No.- कर्मचारी की GPF /PRAN नंबर लिखे | यदि कर्मचारी 01.01.2004 से पूर्व के है तो GPF Number अन्यथा PRAN Number लिखे |
A21: 12 | B21: Mobile No.- कर्मचारी की Mobile Number लिखे |
A22: 13 | B22: मार्च का बेसिक- कर्मचारी की मार्च की बेसिक लिखे |
... A33: 24 | B33: 60-80 वर्ग- जो कर्मचारी 60-80 वर्ग में आते है वे ड्राप डाउन लिस्ट में से YES का चयन करे अन्यथा NO का चयन करे |
A35: GA55 Check Sheet Instructions
A36: सबसे पहले तो आप जहा कर्मचारी का नाम लिखा है वहा पर ड्राप डाउन लिस्ट में से कर्मचारी का नाम चयन करे फिर इसका मिलान PAY MANAGER से निकले हुए GA 55 से मिलान कर लेवे यदि इसमें कोई अंतर हो तो Review Tab में जाकर शीट को Unprotect कर लेवे पासवर्ड है "tax"| एक बात का ध्यान रखे कि आगे आप इसमें चेंज करोगे तो जो फोर्मुलास लगे हुए है वो हट जायेंगे तो जब आप दुसरे कर्मचारी का डाटा देखोगे तो उसका डाटा सही नहीं आएगा इसलिए जिन कर्मचारियों का डाटा का मिलन नहीं हो रहा है उनके लिए इस पुरे एक्सेल प्रोगाम की कॉपी कर लेवे |
A37: GA55 Main Sheet Instructions
A38: इस शीट सारी calculation स्वत: ही हो जाएगी आपको कुछ भी नहीं करना है | अगर आपको इस शीट में कोई परिवर्तन करने की आवश्यकता हो तो GA55 Check Sheet में बदलाव करे इस शीट में ऑटो चेंज हो जायेगा |
A39: Other Deductions Sheet Instructions
A40: इस शीट में आपको सैलरी के अलावा आपके जितने भी Deductions है उन सब की एंट्री करनी है -
A42: Summary Sheet Instructions
A43: इस शीट में आपको जिस कर्मचारी की टैक्स समरी देखनी है उसका नाम ड्राप डाउन लिस्ट में से चयन करे इससे पहले GA 55 वाली शीट में उसी कर्मचारी के नाम का चयन पहले से होना चाहिए |
A45: Tax Calculation Old Sheet Instructions
A46: इस शीट सारी calculation स्वत: ही हो जाएगी आपको कुछ भी नहीं करना है |
A48: Tax Calculation New Sheet Instructions
A49: इस शीट सारी calculation स्वत: ही हो जाएगी आपको कुछ भी नहीं करना है |

Sheet Master
A1: कार्यालय, प्रधानाचार्य राजकीय उच्च माध्यमिक विद्यालय, रूपपुरा
A3: क्रम सं. | B3: कर्मचारी का नाम | C3: पद | D3: केडर/संवर्ग | E3: IS In Probation Yes or NO | F3: लेवल | G3: Employee ID | H3: पैन नं. | I3: बैंक खाता सं. | J3: SI No. | K3: GPF/PRAN No. | L3: Mobile No. | M3: मार्च का बेसिक | N3: SIP | O3: GPF | P3: HRA Rate | Q3: IS NPS Employee | R3: बोनस | S3: समर्पित 19-20 | T3: समर्पित माह 19-20 | U3: समर्पित 20-21 | V3: समर्पित माह 20-21 | W3: DA Arrear | X3: 60-80 वर्ग
A4: =IF(B4="","",ROWS($A$1:A1)) -> 1 | B4: Ashwini Kumar Sharma | C4: वरिष्ठ अध्यापक | D4: Subordinate | E4: NO | F4: L-11 | G4: RJNA201228008021 | H4: AAAA9456A | I4: 123456789101112 | J4: 123456 | K4: 1234567891011 | L4: 9166023711 | M4: 43800 | N4: 5000 | P4: 0.08 | Q4: YES | R4: YES | S4: YES | T4: 7 | U4: YES | V4: 7 | W4: YES | X4: NO
A5: =IF(B5="","",ROWS($A$1:A2)) -> 2 | B5: Aditya Jakhad | C5: कनिष्ठ सहायक | D5: Ministerial | E5: NO | F5: L-5 | G5: RJNA201228008021 | H5: AAAA9456A | I5: 123456789101112 | J5: 123456 | K5: 1234567891011 | L5: 9166023711 | M5: 20800 | N5: 1000 | P5: 0.08 | Q5: YES | R5: YES | S5: NO | T5: 1 | U5: NO | V5: 7 | W5: NO | X5: NO
A6: =IF(B6="","",ROWS($A$1:A3)) -> 3 | B6: Chetan Ram Riyar | C6: व्याख्याता स्कूल(शिक्षा) | D6: State Service | E6: NO | F6: L-12 | G6: RJNA201228008021 | H6: AAAA9456A | I6: 123456789101112 | J6: 123456 | K6: 1234567891011 | L6: 9166023711 | M6: 59500 | N6: 5000 | O6: 10000 | P6: 0.08 | Q6: NO | R6: NO | S6: NO | T6: 9 | U6: YES | V6: 7 | W6: YES | X6: NO
A7: =IF(B7="","",ROWS($A$1:A4)) -> 4 | B7: Prakash Kumar Gaur | C7: व्याख्याता स्कूल(शिक्षा) | D7: State Service | E7: YES | F7: L-12 | G7: RJNA201228008021 | H7: AAAA9456A | I7: 123456789101112 | J7: 123456 | K7: 1234567891011 | L7: 9166023711 | M7: 31100 | P7: NA | Q7: YES | R7: NO | S7: NO | T7: NA | U7: NO | V7: NA | W7: NO | X7: NO
A8: =IF(B8="","",ROWS($A$1:A5)) -> 5 | B8: Bheru Prasad Jangid | C8: वरिष्ठ अध्यापक | D8: Subordinate | E8: YES | F8: L-11 | G8: RJNA201228008021 | H8: AAAA9456A | I8: 123456789101112 | J8: 123456 | K8: 1234567891011 | L8: 9166023711 | M8: 26500 | N8: 3000 | P8: 0.08 | Q8: YES | R8: YES | S8: NO | T8: 1 | U8: YES | V8: 7 | W8: NO | X8: NO
A9: =IF(B9="","",ROWS($A$1:A6)) -> 6 | B9: Mohan Ram | C9: चतुर्थ श्रेणी कर्मचारी | D9: Class IV | E9: NO | F9: L-1 | G9: RJNA201228008021 | H9: AAAA9456A | I9: 123456789101112 | J9: 123456 | K9: 1234567891011 | L9: 9166023711 | M9: 20800 | N9: 5000 | P9: 0.08 | Q9: YES | R9: YES | S9: NO | T9: 1 | U9: YES | V9: 7 | W9: YES | X9: NO
A10: =IF(B10="","",ROWS($A$1:A7)) -> 7 | B10: Randheer Singh Shekhawat | C10: शारीरिक शिक्षक श्रेणी III | D10: Subordinate | E10: NO | F10: L-13 | G10: RJNA199128021077 | H10: AAAA9456A | I10: 123456789101112 | J10: 123456 | K10: 1234567891011 | L10: 9166023711 | M10: 63300 | N10: 7000 | P10: 0.08 | Q10: NO | R10: NO | S10: YES | T10: 4 | U10: YES | V10: 4 | W10: YES | X10: NO
A11: =IF(B11="","",ROWS($A$1:A8)) | I11: 111111111111111
A12: =IF(B12="","",ROWS($A$1:A9))
A13: =IF(B13="","",ROWS($A$1:A10))
A14: =IF(B14="","",ROWS($A$1:A11))
A15: =IF(B15="","",ROWS($A$1:A12))
A16: =IF(B16="","",ROWS($A$1:A13))
A17: =IF(B17="","",ROWS($A$1:A14))
A18: =IF(B18="","",ROWS($A$1:A15))
A19: =IF(B19="","",ROWS($A$1:A16))
A20: =IF(B20="","",ROWS($A$1:A17))
A21: =IF(B21="","",ROWS($A$1:A18))
A22: =IF(B22="","",ROWS($A$1:A19))
A23: =IF(B23="","",ROWS($A$1:A20))
... A253: =IF(B253="","",ROWS($A$1:A250))

Sheet GA55 Check
B1: =Master!$A$1 -> कार्यालय, प्रधानाचार्य राजकीय उच्च माध्यमिक विद्यालय, रूपपुरा
B2: वेतन एवं कटौतियों का ब्यौरा सत्र 2020-21
B4: नाम कर्मचारी- | C4: Ashwini Kumar Sharma | G4: पद- | H4: =IFERROR(VLOOKUP($C$4,Employee_Data,2,0),"NoData") -> वरिष्ठ अध्यापक | K4: लेवल- | L4: =IFERROR(VLOOKUP($C$4,Employee_Data,5,0),"NoData") -> L-11 | N4: Employee ID- | P4: =IFERROR(VLOOKUP($C$4,Employee_Data,6,0),"NoData") -> RJNA201228008021 | T4: मार्च का बेसिक- | W4: =IFERROR(VLOOKUP($C$4,Employee_Data,12,0),"NoData") -> 43800 | Z4: =IFERROR(VLOOKUP($C$4,Employee_Data,3,0),"NoData") -> Subordinate
B5: पैन नं.- | C5: =IFERROR(VLOOKUP($C$4,Employee_Data,7,0),"NoData") -> AAAA9456A | G5: Mobile- | H5: =IFERROR(VLOOKUP($C$4,Employee_Data,11,0),"NoData") -> 9166023711 | K5: SI No.- | L5: =IFERROR(VLOOKUP($C$4,Employee_Data,9,0),"NoData") -> 123456 | N5: GPF/PRAN No.- | P5: =IFERROR(VLOOKUP($C$4,Employee_Data,10,0),"NoData") -> 1234567891011 | T5: बैंक खाता सं.- | W5: =IFERROR(VLOOKUP($C$4,Employee_Data,8,0),"NoData") -> 123456789101112
B6: Probation | C6: =IFERROR(VLOOKUP($C$4,Employee_Data,4,0),"NoData") -> NO | D6: 60-80 वर्ग | E6: =IFERROR(VLOOKUP($C$4,Employee_Data,23,0),"NoData") -> NO | F6: DA Rate | G6: 0.17 | H6: HRA Rate | J6: =IFERROR(VLOOKUP($C$4,Employee_Data,15,0),"NoData") -> 0.08 | K6: After 01.01.2004 | M6: =IFERROR(VLOOKUP($C$4,Employee_Data,16,0),"NoData") -> YES | N6: बोनस | P6: =IFERROR(VLOOKUP($C$4,Employee_Data,17,0),"NoData") -> YES | Q6: समर्पित 19-20 | T6: =IFERROR(VLOOKUP($C$4,Employee_Data,18,0),"NoData") -> YES | U6: =IFERROR(VLOOKUP($C$4,Employee_Data,19,0),"NoData") -> 7 | V6: समर्पित 20-21 | X6: =IFERROR(VLOOKUP($C$4,Employee_Data,20,0),"NoData") -> YES | Y6: =IFERROR(VLOOKUP($C$4,Employee_Data,21,0),"NoData") -> 7 | Z6: =IFERROR(VLOOKUP($C$4,Employee_Data,22,0),"NoData") -> YES
B7: Month & Year | C7: Basic Pay | D7: DA | E7: HRA | F7: Washing Allow. | G7: Handicaped Allowance | H7: Other Allowance 1 | I7: Other Allowance 2 | J7: Gross Salary | K7: SIP | L7: GPF | M7: NPS | N7: GPF Loan | O7: RPMF | P7: SI Arrear | Q7: SIL | R7: GIS | S7: LIC | T7: COVIS-19 | U7: Other 1 | V7: Other 2 | W7: ITAX | X7: Total Deduction | Y7: NET Payment | Z7: Bill No./ Dte
A8: 3 | B8: 43891 | C8: =VLOOKUP($C$4,Employee_Data_2,6,0) -> 21194 | D8: =IF($C$6="YES",0,ROUND($G$6*C8,0)) -> 3603 | E8: =IF($C$6="YES",0,ROUND($J$6*C8,0)) -> 1696 | J8: =IF(SUM(C8:I8)=0,"",SUM(C8:I8)) -> 26493 | K8: =IF(IF($Z$4="Class IV",VLOOKUP($C$4,Employee_Data,13,0),0)=0,"",IF($Z$4="Class IV",VLOOKUP($C$4,Employee_Data,13,0),0)) | L8: =IF(IF($M$6="YES",IF($Z$4="Class IV",VLOOKUP($C$4,Employee_Data,14,0),0)*0,0)=0,"",IF($M$6="YES",IF($Z$4="Class IV",VLOOKUP($C$4,Employee_Data,14,0),0)*0,0)) | M8: =IF(IF($M$6="No",0,IF($Z$4="Class IV",0,ROUND((C8+D8)*0.1,0)))=0,"",IF($M$6="No",0,IF($Z$4="Class IV",0,ROUND((C8+D8)*0.1,0)))) -> 2480 | O8: =IF(IF($M$6="No",IF($W$4<18001,242,IF($W$4<33501,402,IF($W$4<54001,602,800))),0)=0,"",IF($M$6="No",IF($W$4<18001,242,IF($W$4<33501,402,IF($W$4<54001,602,800))),0)) | T8: =VLOOKUP($C$4,Employee_Data_2,8,0) -> 4239 | X8: =SUM(K8:W8) -> 6719 | Y8: =IFERROR(J8-X8,"") -> 19774
A9: 4 | B9: 43922 | C9: =$W$4 -> 43800 | D9: =IF($C$6="YES",0,ROUND($G$6*C9,0)) -> 7446 | E9: =IF($C$6="YES",0,ROUND($J$6*C9,0)) -> 3504 | J9: =IF(SUM(C9:I9)=0,"",SUM(C9:I9)) -> 54750 | K9: =IF(VLOOKUP($C$4,Employee_Data,13,0)=0,"",VLOOKUP($C$4,Employee_Data,13,0)) -> 5000 | L9: =IF(IF($M$6="Yes",0,VLOOKUP($C$4,Employee_Data,14,0))=0,"",IF($M$6="Yes",0,VLOOKUP($C$4,Employee_Data,14,0))) | M9: =IF(IF($M$6="No",0,ROUND((C9+D9)*0.1,0))=0,"",IF($M$6="No",0,ROUND((C9+D9)*0.1,0))) -> 5125 | O9: =IF(IF($M$6="No",IF(C9<18001,242,IF(C9<33501,402,IF(C9<54001,602,800))),0)=0,"",IF($M$6="No",IF(C9<18001,242,IF(C9<33501,402,IF(C9<54001,602,800))),0)) | R9: 220 | S9: =S8 -> 0 | X9: =SUM(K9:W9) -> 10345 | Y9: =IFERROR(J9-X9,"") -> 44405
A10: 5 | B10: 43952 | C10: =C9 -> 43800 | D10: =IF($C$6="YES",0,ROUND($G$6*C10,0)) -> 7446 | E10: =IF($C$6="YES",0,ROUND($J$6*C10,0)) -> 3504 | J10: =IF(SUM(C10:I10)=0,"",SUM(C10:I10)) -> 54750 | K10: =K9 -> 5000 | L10: =L9 | M10: =IF(IF($M$6="No",0,ROUND((C10+D10)*0.1,0))=0,"",IF($M$6="No",0,ROUND((C10+D10)*0.1,0))) -> 5125 | O10: =IF(IF($M$6="No",IF(C10<18001,288,IF(C10<33501,478,IF(C10<54001,714,950))),0)=0,"",IF($M$6="No",IF(C10<18001,288,IF(C10<33501,478,IF(C10<54001,714,950))),0)) | P10: =IF(IF($Z$4= "Class IV",0,$K$9)=0,"",IF($Z$4= "Class IV",0,$K$9)) -> 5000 | S10: =S9 -> 0 | X10: =SUM(K10:W10) -> 15125 | Y10: =IFERROR(J10-X10,"") -> 39625
A11: 6 | B11: 43983 | C11: =C10 -> 43800 | D11: =IF($C$6="YES",0,ROUND($G$6*C11,0)) -> 7446 | E11: =IF($C$6="YES",0,ROUND($J$6*C11,0)) -> 3504 | J11: =IF(SUM(C11:I11)=0,"",SUM(C11:I11)) -> 54750 | K11: =K10 -> 5000 | L11: =L10 | M11: =IF(IF($M$6="No",0,ROUND((C11+D11)*0.1,0))=0,"",IF($M$6="No",0,ROUND((C11+D11)*0.1,0))) -> 5125 | O11: =IF(IF($M$6="No",IF(C11<18001,265,IF(C11<33501,440,IF(C11<54001,658,875))),0)=0,"",IF($M$6="No",IF(C11<18001,265,IF(C11<33501,440,IF(C11<54001,658,875))),0)) | S11: =S10 -> 0 | X11: =SUM(K11:W11) -> 10125 | Y11: =IFERROR(J11-X11,"") -> 44625
A12: 7 | B12: 44013 | C12: =IF($C$6="YES",$C$11,MROUND(ROUND(1.03*C11,0),100)) -> 45100 | D12: =IF($C$6="YES",0,ROUND($G$6*C12,0)) -> 7667 | E12: =IF($C$6="YES",0,ROUND($J$6*C12,0)) -> 3608 | J12: =IF(SUM(C12:I12)=0,"",SUM(C12:I12)) -> 56375 | K12: =K11 -> 5000 | L12: =L11 | M12: =IF(IF($M$6="No",0,ROUND((C12+D12)*0.1,0))=0,"",IF($M$6="No",0,ROUND((C12+D12)*0.1,0))) -> 5277 | O12: =IF(IF($M$6="No",IF(C12<18001,265,IF(C12<33501,440,IF(C12<54001,658,875))),0)=0,"",IF($M$6="No",IF(C12<18001,265,IF(C12<33501,440,IF(C12<54001,658,875))),0)) | S12: =S11 -> 0 | X12: =SUM(K12:W12) -> 10277 | Y12: =IFERROR(J12-X12,"") -> 46098
A13: 8 | B13: 44044 | C13: =C12 -> 45100 | D13: =IF($C$6="YES",0,ROUND($G$6*C13,0)) -> 7667 | E13: =IF($C$6="YES",0,ROUND($J$6*C13,0)) -> 3608 | J13: =IF(SUM(C13:I13)=0,"",SUM(C13:I13)) -> 56375 | K13: =K12 -> 5000 | L13: =L12 | M13: =IF(IF($M$6="No",0,ROUND((C13+D13)*0.1,0))=0,"",IF($M$6="No",0,ROUND((C13+D13)*0.1,0))) -> 5277 | O13: =IF(IF($M$6="No",IF(C13<18001,265,IF(C13<33501,440,IF(C13<54001,658,875))),0)=0,"",IF($M$6="No",IF(C13<18001,265,IF(C13<33501,440,IF(C13<54001,658,875))),0)) | S13: =S12 -> 0 | X13: =SUM(K13:W13) -> 10277 | Y13: =IFERROR(J13-X13,"") -> 46098
A14: 9 | B14: 44075 | C14: =C13 -> 45100 | D14: =IF($C$6="YES",0,ROUND($G$6*C14,0)) -> 7667 | E14: =IF($C$6="YES",0,ROUND($J$6*C14,0)) -> 3608 | J14: =IF(SUM(C14:I14)=0,"",SUM(C14:I14)) -> 56375 | K14: =K13 -> 5000 | L14: =L13 | M14: =IF(IF($M$6="No",0,ROUND((C14+D14)*0.1,0))=0,"",IF($M$6="No",0,ROUND((C14+D14)*0.1,0))) -> 5277 | O14: =IF(IF($M$6="No",IF(C14<18001,265,IF(C14<33501,440,IF(C14<54001,658,875))),0)=0,"",IF($M$6="No",IF(C14<18001,265,IF(C14<33501,440,IF(C14<54001,658,875))),0)) | S14: =S13 -> 0 | T14: =VLOOKUP($C$4,Employee_Data_2,9,0) -> 1879 | X14: =SUM(K14:W14) -> 12156 | Y14: =IFERROR(J14-X14,"") -> 44219
A15: 10 | B15: 44105 | C15: =C14 -> 45100 | D15: =IF($C$6="YES",0,ROUND($G$6*C15,0)) -> 7667 | E15: =IF($C$6="YES",0,ROUND($J$6*C15,0)) -> 3608 | J15: =IF(SUM(C15:I15)=0,"",SUM(C15:I15)) -> 56375 | K15: =K14 -> 5000 | L15: =L14 | M15: =IF(IF($M$6="No",0,ROUND((C15+D15)*0.1,0))=0,"",IF($M$6="No",0,ROUND((C15+D15)*0.1,0))) -> 5277 | O15: =IF(IF($M$6="No",IF(C15<18001,265,IF(C15<33501,440,IF(C15<54001,658,875))),0)=0,"",IF($M$6="No",IF(C15<18001,265,IF(C15<33501,440,IF(C15<54001,658,875))),0)) | S15: =S14 -> 0 | T15: =VLOOKUP($C$4,Employee_Data_2,10,0) -> 1819 | X15: =SUM(K15:W15) -> 12096 | Y15: =IFERROR(J15-X15,"") -> 44279
A16: 11 | B16: 44136 | C16: =C15 -> 45100 | D16: =IF($C$6="YES",0,ROUND($G$6*C16,0)) -> 7667 | E16: =IF($C$6="YES",0,ROUND($J$6*C16,0)) -> 3608 | J16: =IF(SUM(C16:I16)=0,"",SUM(C16:I16)) -> 56375 | K16: =K15 -> 5000 | L16: =L15 | M16: =IF(IF($M$6="No",0,ROUND((C16+D16)*0.1,0))=0,"",IF($M$6="No",0,ROUND((C16+D16)*0.1,0))) -> 5277 | O16: =IF(IF($M$6="No",IF(C16<18001,265,IF(C16<33501,440,IF(C16<54001,658,875))),0)=0,"",IF($M$6="No",IF(C16<18001,265,IF(C16<33501,440,IF(C16<54001,658,875))),0)) | S16: =S15 -> 0 | T16: =VLOOKUP($C$4,Employee_Data_2,11,0) -> 1879 | X16: =SUM(K16:W16) -> 12156 | Y16: =IFERROR(J16-X16,"") -> 44219
A17: 12 | B17: 44166 | C17: =C16 -> 45100 | D17: =IF($C$6="YES",0,ROUND($G$6*C17,0)) -> 7667 | E17: =IF($C$6="YES",0,ROUND($J$6*C17,0)) -> 3608 | J17: =IF(SUM(C17:I17)=0,"",SUM(C17:I17)) -> 56375 | K17: =K16 -> 5000 | L17: =L16 | M17: =IF(IF($M$6="No",0,ROUND((C17+D17)*0.1,0))=0,"",IF($M$6="No",0,ROUND((C17+D17)*0.1,0))) -> 5277 | O17: =IF(IF($M$6="No",IF(C17<18001,265,IF(C17<33501,440,IF(C17<54001,658,875))),0)=0,"",IF($M$6="No",IF(C17<18001,265,IF(C17<33501,440,IF(C17<54001,658,875))),0)) | S17: =S16 -> 0 | T17: =VLOOKUP($C$4,Employee_Data_2,12,0) -> 1819 | X17: =SUM(K17:W17) -> 12096 | Y17: =IFERROR(J17-X17,"") -> 44279
A18: 1 | B18: 44197 | C18: =C17 -> 45100 | D18: =IF($C$6="YES",0,ROUND($G$6*C18,0)) -> 7667 | E18: =IF($C$6="YES",0,ROUND($J$6*C18,0)) -> 3608 | J18: =IF(SUM(C18:I18)=0,"",SUM(C18:I18)) -> 56375 | K18: =K17 -> 5000 | L18: =L17 | M18: =IF(IF($M$6="No",0,ROUND((C18+D18)*0.1,0))=0,"",IF($M$6="No",0,ROUND((C18+D18)*0.1,0))) -> 5277 | O18: =IF(IF($M$6="No",IF(C18<18001,265,IF(C18<33501,440,IF(C18<54001,658,875))),0)=0,"",IF($M$6="No",IF(C18<18001,265,IF(C18<33501,440,IF(C18<54001,658,875))),0)) | S18: =S17 -> 0 | T18: =VLOOKUP($C$4,Employee_Data_2,13,0) -> 1819 | X18: =SUM(K18:W18) -> 12096 | Y18: =IFERROR(J18-X18,"") -> 44279
A19: 2 | B19: 44228 | C19: =C18 -> 45100 | D19: =IF($C$6="YES",0,ROUND($G$6*C19,0)) -> 7667 | E19: =IF($C$6="YES",0,ROUND($J$6*C19,0)) -> 3608 | J19: =IF(SUM(C19:I19)=0,"",SUM(C19:I19)) -> 56375 | K19: =K18 -> 5000 | L19: =L18 | M19: =IF(IF($M$6="No",0,ROUND((C19+D19)*0.1,0))=0,"",IF($M$6="No",0,ROUND((C19+D19)*0.1,0))) -> 5277 | O19: =IF(IF($M$6="No",IF(C19<18001,265,IF(C19<33501,440,IF(C19<54001,658,875))),0)=0,"",IF($M$6="No",IF(C19<18001,265,IF(C19<33501,440,IF(C19<54001,658,875))),0)) | S19: =S18 -> 0 | T19: =VLOOKUP($C$4,Employee_Data_2,14,0) -> 2013 | X19: =SUM(K19:W19) -> 12290 | Y19: =IFERROR(J19-X19,"") -> 44085
B20: DA Arrear 07-19 to 12-19 | D20: =IF(IF($Z$6="Yes",(ROUND(17%*$C$9,0)-ROUND(12%*$C$9,0))*6+IF($T$6="NO",0,IF(AND($U$6>6,$U$6<13),ROUND(17%*$C$9/2,0)-ROUND(12%*$C$9/2,0),0)),0)=0,"",IF($Z$6="Yes",(ROUND(17%*$C$9,0)-ROUND(12%*$C$9,0))*6+IF($T$6="NO",0,IF(AND($U$6>6,$U$6<13),ROUND(17%*$C$9/2,0)-ROUND(12%*$C$9/2,0),0)),0)) -> 14235 | J20: =IF(SUM(C20:I20)=0,"",SUM(C20:I20)) -> 14235 | L20: =IF(IF($M$6="Yes",0,IF($M$6="No",$D$20,0))=0,"",IF($M$6="Yes",0,IF($M$6="No",$D$20,0))) | M20: =IF(IF($Z$6="Yes",IF(IF($M$6="Yes",ROUND((ROUND(17%*$W$4,0)-ROUND(12%*$W$4,0))*10%,0)*6,0)=0,"",IF($M$6="Yes",ROUND((ROUND(17%*$W$4,0)-ROUND(12%*$W$4,0))*10%,0)*6,0)),0)=0,"",IF($Z$6="Yes",IF(IF($M$6="Yes",ROUND((ROUND(17%*$W$4,0)-ROUND(12%*$W$4,0))*10%,0)*6,0)=0,"",IF($M$6="Yes",ROUND((ROUND(17%*$W$4,0)-ROUND(12%*$W$4,0))*10%,0)*6,0)),0)) -> 1314 | X20: =SUM(K20:W20) -> 1314 | Y20: =IFERROR(J20-X20,"") -> 12921
B21: DA Arrear 01-20 to 02-20 | D21: =IF(IF($Z$6="Yes",(ROUND(17%*$C$9,0)-ROUND(12%*$C$9,0))*2+IF($T$6="NO",0,IF(AND($T$6>0,$T$6<4),ROUND(17%*C9,0)-ROUND(12%*C9,0),0)),0)=0,"",IF($Z$6="Yes",(ROUND(17%*$C$9,0)-ROUND(12%*$C$9,0))*2+IF($T$6="NO",0,IF(AND($T$6>0,$T$6<4),ROUND(17%*C9,0)-ROUND(12%*C9,0),0)),0)) -> 4380 | J21: =IF(SUM(C21:I21)=0,"",SUM(C21:I21)) -> 4380 | L21: =IF(IF($M$6="Yes",0,IF($M$6="No",$D$21,0))=0,"",IF($M$6="Yes",0,IF($M$6="No",$D$21,0))) | M21: =IF(IF($Z$6="Yes",IF(IF($M$6="Yes",ROUND((ROUND(17%*$W$4,0)-ROUND(12%*$W$4,0))*10%,0)*2,0)=0,"",IF($M$6="Yes",ROUND((ROUND(17%*$W$4,0)-ROUND(12%*$W$4,0))*10%,0)*2,0)),0)=0,"",IF($Z$6="Yes",IF(IF($M$6="Yes",ROUND((ROUND(17%*$W$4,0)-ROUND(12%*$W$4,0))*10%,0)*2,0)=0,"",IF($M$6="Yes",ROUND((ROUND(17%*$W$4,0)-ROUND(12%*$W$4,0))*10%,0)*2,0)),0)) -> 438 | X21: =SUM(K21:W21) -> 438 | Y21: =IFERROR(J21-X21,"") -> 3942
B22: Bonus | C22: =IF($P$6="YES",6774,0) -> 6774 | J22: =IF(SUM(C22:I22)=0,"",SUM(C22:I22)) -> 6774 | X22: =SUM(K22:W22) -> 0 | Y22: =IFERROR(J22-X22,"") -> 6774
B23: Surrender | C23: =IF($X$6="NO",0,IF(OR($Y$6="NA",$Y$6>8,$Y$6<4),0,IF($Y$6=3,D19,IF(Master!D12=4,$C$9,VLOOKUP($Y$6,$A$8:$C$19,3,FALSE)))))/2 -> 22550 | D23: =IF($C$6="YES",0,ROUND($G$6*C23,0)) -> 3834 | J23: =IF(SUM(C23:I23)=0,"",SUM(C23:I23)) -> 26384 | X23: =SUM(K23:W23) -> 0 | Y23: =IFERROR(J23-X23,"") -> 26384
B24: Fixation Arrear | J24: =IF(SUM(C24:I24)=0,"",SUM(C24:I24)) | X24: =SUM(K24:W24) -> 0 | Y24: =IFERROR(J24-X24,"")
B25: Salary Arrear | J25: =IF(SUM(C25:I25)=0,"",SUM(C25:I25)) | X25: =SUM(K25:W25) -> 0 | Y25: =IFERROR(J25-X25,"")
B26: Salary Arrear | J26: =IF(SUM(C26:I26)=0,"",SUM(C26:I26)) | X26: =SUM(K26:W26) -> 0 | Y26: =IFERROR(J26-X26,"")
B27: Total | C27: =SUM(C8:C26) -> 542718 | D27: =SUM(D8:D26) -> 109726 | E27: =SUM(E8:E26) -> 41072 | F27: =SUM(F8:F26) -> 0 | G27: =SUM(G8:G26) -> 0 | H27: =SUM(H8:H26) -> 0 | I27: =SUM(I8:I26) -> 0 | J27: =SUM(J8:J26) -> 693516 | ... Y27: =SUM(Y8:Y26) -> 556006
B31: Signature Of Employee | Y31: Signature Of DDO

Sheet Sheet1
J3: Basic Pay | K3: DA | L3: HRA | M3: Washing Allow. | N3: Handicaped Allowance | O3: Other Allowance 1 | P3: Other Allowance 2 | Q3: Gross Salary | R3: SIP | S3: GPF | T3: NPS | U3: GPF Loan | V3: RPMF | W3: SI Arrear | X3: SIL | Y3: GIS | Z3: LIC | AA3: COVIS-19 | AB3: Other 1 | AC3: Other 2 | AD3: ITAX | AE3: Total Deduction | AF3: NET Payment
I4: 1 | J4: 2 | K4: 3 | L4: 4 | M4: 5 | N4: 6 | O4: 7 | P4: 8 | Q4: 9 | R4: 10 | S4: 11 | T4: 12 | U4: 13 | V4: 14 | W4: 15 | X4: 16 | Y4: 17 | Z4: 18 | AA4: 19 | AB4: 20 | AC4: 21 | AD4: 22 | AE4: 23 | AF4: 24
I5: ='GA55 Main'!$C$4 -> Ashwini Kumar Sharma | J5: ='GA55 Main'!C$27 -> 542718 | K5: ='GA55 Main'!D$27 -> 109726 | L5: ='GA55 Main'!E$27 -> 41072 | M5: ='GA55 Main'!F$27 -> 0 | N5: ='GA55 Main'!G$27 -> 0 | O5: ='GA55 Main'!H$27 -> 0 | P5: ='GA55 Main'!I$27 -> 0 | Q5: ='GA55 Main'!J$27 -> 693516 | ... AF5: ='GA55 Main'!Y$27 -> 556006
J7: राज्य बीमा (SI) | K7: =R5+W5 -> 60000
J8: LIC | K8: =Z5 -> 0
J9: GPF | K9: =S5 -> 0
J10: GIS | K10: =Y5 -> 220
J11: EPEF (80CCD1) | K11: =T5 -> 61823
J12: SUM | K12: =SUM(K7:K11) -> 122043
J14: 1 | K14: राज्य बीमा (SI) | L14: =K7 -> 60000
J15: 2 | K15: LIC | L15: =K8+VLOOKUP($I$5,'Other Ded.'!$B$3:$AK$254,10,0) -> 0 | N15: =VLOOKUP($I$5,'Other Ded.'!$B$3:$AK$254,10,0) -> 0
J16: 3 | K16: GPF | L16: =K9 -> 0
J17: 4 | K17: राष्ट्रीय बचत पत्र (NSC) | L17: ='Other Ded.'!Q5 -> 0
J18: 5 | K18: लोक भविष्य निधि (PPF) | L18: ='Other Ded.'!M5 -> 0
J19: 6 | K19: राष्ट्रीय बचत स्कीम (NSS) | L19: ='Other Ded.'!P5 -> 0
J20: 7 | K20: GIS | L20: =K10 -> 220
J21: 8 | K21: ULIP / वार्षिक प्लान | L21: ='Other Ded.'!N5 -> 0
J22: 9 | K22: Home Loan Premium | L22: ='Other Ded.'!H5 -> 0
J23: 10 | K23: सुकन्या योजना में जमा | L23: ='Other Ded.'!N5 -> 0
J24: 11 | K24: EPEF (80CCD1) | L24: =K11 -> 61823
J25: 12 | K25: पेंशन प्लान हेतु अंशदान धारा (80CCC) | L25: ='Other Ded.'!AA5 -> 0
J26: 13 | K26: राष्ट्रीय बचत पत्र पर ब्याज | L26: ='Other Ded.'!R5 -> 0
J27: 14 | K27: ट्यूशन फीस | L27: ='Other Ded.'!L5 -> 0
J28: 15 | K28: इक्विटी लिंक सेविंग स्कीम | L28: ='Other Ded.'!T5 -> 0
J29: 16 | K29: Defferred Annuty | L29: ='Other Ded.'!U5 -> 0
J30: 17 | K30: PLI | L30: ='Other Ded.'!K5 -> 0
J31: 18 | K31: धारा 80C के अंतर्गत अन्य जमा राशि | L31: ='Other Ded.'!Z5 -> 0
J32: Total | L32: =SUM(L14:L31) -> 122043

Sheet Sheet3
O3: March Basic | Q3: MAR | R3: SEP | S3: OCT | T3: NOV | U3: DEC | V3: JAN | W3: FAR
J4: 1 | K4: 2 | L4: 3 | M4: 4 | N4: 5 | O4: 6 | P4: 7 | Q4: 8 | R4: 9 | S4: 10 | T4: 11 | U4: 12 | V4: 13 | W4: 14 | X4: 15
I5: =Master!A4 -> 1 | J5: =Master!B4 -> Ashwini Kumar Sharma | K5: =Master!D4 -> Subordinate | L5: =Master!F4 -> L-11 | M5: =Master!M4 -> 43800 | N5: =Master!X4 -> NO | O5: =IF(K5="State Service",ROUND(M5*15/31,0),IF(AND(K5="Subordinate",OR(L5=$Z$9,L10=$Z$7,L5=$Z$11,L5=$Z$12,L5=$Z$13)),ROUND(M5*22/31,0),IF(AND(K5="Subordinate",OR(L5=$Z$14,L5=$Z$15,L5=$Z$16,L5=$Z$17,L5=$Z$18,L5=$Z$19)),ROUND(M5*15/31,0),IF(K5="Ministerial",ROUND(M5*22/31,0),M5)))) -> 21194 | P5: =IFERROR(VLOOKUP(L5,$Z$5:$AA$30,2,FALSE),0) -> 11 | Q5: =IF(N5="YES",0,IF(K5="State Service",ROUND(M5*5/31,0),IF(AND(K5="Subordinate",P5<10),ROUND(M5*2/31,0),IF(AND(K5="Subordinate",OR(P5<5,P5>9)),ROUND(M5*3/31,0),IF(K5="Ministerial",ROUND(M5*2/31,0),IF(OR(K5="Class IV",P5<5),ROUND(M5/31,0),"")))))) -> 4239 | R5: =IF(N5="YES",0,IF(OR(K5="Class IV",P5<5),0,IF(K5="State Service",ROUND('GA55 Main'!$J$14*2/30,0),ROUND('GA55 Main'!$J$14/30,0)))) -> 1879 | S5: =IF(N5="YES",0,IF(OR(K5="Class IV",P5<5),0,IF(K5="State Service",ROUND('GA55 Main'!$J$15*2/31,0),ROUND('GA55 Main'!$J$15/31,0)))) -> 1819 | T5: =IF(N5="YES",0,IF(OR(K5="Class IV",P5<5),0,IF(K5="State Service",ROUND('GA55 Main'!$J$16*2/30,0),ROUND('GA55 Main'!$J$16/30,0)))) -> 1879 | U5: =IF(N5="YES",0,IF(OR(K5="Class IV",P5<5),0,IF(K5="State Service",ROUND('GA55 Main'!$J$17*2/31,0),ROUND('GA55 Main'!$J$17/31,0)))) -> 1819 | V5: =IF(N5="YES",0,IF(OR(K5="Class IV",P5<5),0,IF(K5="State Service",ROUND('GA55 Main'!$J$18*2/31,0),ROUND('GA55 Main'!$J$18/31,0)))) -> 1819 | W5: =IF(N5="YES",0,IF(OR(K5="Class IV",P5<5),0,IF(K5="State Service",ROUND('GA55 Main'!$J$19*2/28,0),ROUND('GA55 Main'!$J$19/28,0)))) -> 2013 | X5: =SUM(Q5:W5) -> 15467 | Z5: L-1 | AA5: 1
I6: =Master!A5 -> 2 | J6: =Master!B5 -> Aditya Jakhad | K6: =Master!D5 -> Ministerial | L6: =Master!F5 -> L-5 | M6: =Master!M5 -> 20800 | N6: =Master!X5 -> NO | O6: =IF(K6="State Service",ROUND(M6*15/31,0),IF(AND(K6="Subordinate",OR(L6=$Z$9,L11=$Z$7,L6=$Z$11,L6=$Z$12,L6=$Z$13)),ROUND(M6*22/31,0),IF(AND(K6="Subordinate",OR(L6=$Z$14,L6=$Z$15,L6=$Z$16,L6=$Z$17,L6=$Z$18,L6=$Z$19)),ROUND(M6*15/31,0),IF(K6="Ministerial",ROUND(M6*22/31,0),M6)))) -> 14761 | P6: =IFERROR(VLOOKUP(L6,$Z$5:$AA$30,2,FALSE),0) -> 5 | Q6: =IF(N6="YES",0,IF(K6="State Service",ROUND(M6*5/31,0),IF(AND(K6="Subordinate",P6<10),ROUND(M6*2/31,0),IF(AND(K6="Subordinate",OR(P6<5,P6>9)),ROUND(M6*3/31,0),IF(K6="Ministerial",ROUND(M6*2/31,0),IF(OR(K6="Class IV",P6<5),ROUND(M6/31,0),"")))))) -> 1342 | R6: =IF(N6="YES",0,IF(OR(K6="Class IV",P6<5),0,IF(K6="State Service",ROUND('GA55 Main'!$J$14*2/30,0),ROUND('GA55 Main'!$J$14/30,0)))) -> 1879 | S6: =IF(N6="YES",0,IF(OR(K6="Class IV",P6<5),0,IF(K6="State Service",ROUND('GA55 Main'!$J$15*2/31,0),ROUND('GA55 Main'!$J$15/31,0)))) -> 1819 | T6: =IF(N6="YES",0,IF(OR(K6="Class IV",P6<5),0,IF(K6="State Service",ROUND('GA55 Main'!$J$16*2/30,0),ROUND('GA55 Main'!$J$16/30,0)))) -> 1879 | U6: =IF(N6="YES",0,IF(OR(K6="Class IV",P6<5),0,IF(K6="State Service",ROUND('GA55 Main'!$J$17*2/31,0),ROUND('GA55 Main'!$J$17/31,0)))) -> 1819 | V6: =IF(N6="YES",0,IF(OR(K6="Class IV",P6<5),0,IF(K6="State Service",ROUND('GA55 Main'!$J$18*2/31,0),ROUND('GA55 Main'!$J$18/31,0)))) -> 1819 | W6: =IF(N6="YES",0,IF(OR(K6="Class IV",P6<5),0,IF(K6="State Service",ROUND('GA55 Main'!$J$19*2/28,0),ROUND('GA55 Main'!$J$19/28,0)))) -> 2013 | X6: =SUM(Q6:W6) -> 12570 | Z6: L-2 | AA6: 2
I7: =Master!A6 -> 3 | J7: =Master!B6 -> Chetan Ram Riyar | K7: =Master!D6 -> State Service | L7: =Master!F6 -> L-12 | M7: =Master!M6 -> 59500 | N7: =Master!X6 -> NO | O7: =IF(K7="State Service",ROUND(M7*15/31,0),IF(AND(K7="Subordinate",OR(L7=$Z$9,L12=$Z$7,L7=$Z$11,L7=$Z$12,L7=$Z$13)),ROUND(M7*22/31,0),IF(AND(K7="Subordinate",OR(L7=$Z$14,L7=$Z$15,L7=$Z$16,L7=$Z$17,L7=$Z$18,L7=$Z$19)),ROUND(M7*15/31,0),IF(K7="Ministerial",ROUND(M7*22/31,0),M7)))) -> 28790 | P7: =IFERROR(VLOOKUP(L7,$Z$5:$AA$30,2,FALSE),0) -> 12 | Q7: =IF(N7="YES",0,IF(K7="State Service",ROUND(M7*5/31,0),IF(AND(K7="Subordinate",P7<10),ROUND(M7*2/31,0),IF(AND(K7="Subordinate",OR(P7<5,P7>9)),ROUND(M7*3/31,0),IF(K7="Ministerial",ROUND(M7*2/31,0),IF(OR(K7="Class IV",P7<5),ROUND(M7/31,0),"")))))) -> 9597 | R7: =IF(N7="YES",0,IF(OR(K7="Class IV",P7<5),0,IF(K7="State Service",ROUND('GA55 Main'!$J$14*2/30,0),ROUND('GA55 Main'!$J$14/30,0)))) -> 3758 | S7: =IF(N7="YES",0,IF(OR(K7="Class IV",P7<5),0,IF(K7="State Service",ROUND('GA55 Main'!$J$15*2/31,0),ROUND('GA55 Main'!$J$15/31,0)))) -> 3637 | T7: =IF(N7="YES",0,IF(OR(K7="Class IV",P7<5),0,IF(K7="State Service",ROUND('GA55 Main'!$J$16*2/30,0),ROUND('GA55 Main'!$J$16/30,0)))) -> 3758 | U7: =IF(N7="YES",0,IF(OR(K7="Class IV",P7<5),0,IF(K7="State Service",ROUND('GA55 Main'!$J$17*2/31,0),ROUND('GA55 Main'!$J$17/31,0)))) -> 3637 | V7: =IF(N7="YES",0,IF(OR(K7="Class IV",P7<5),0,IF(K7="State Service",ROUND('GA55 Main'!$J$18*2/31,0),ROUND('GA55 Main'!$J$18/31,0)))) -> 3637 | W7: =IF(N7="YES",0,IF(OR(K7="Class IV",P7<5),0,IF(K7="State Service",ROUND('GA55 Main'!$J$19*2/28,0),ROUND('GA55 Main'!$J$19/28,0)))) -> 4027 | X7: =SUM(Q7:W7) -> 32051 | Z7: L-3 | AA7: 3 | AB7: SEP | AC7: 5108 | AD7: 1 | AE7: 2438.7097
I8: =Master!A7 -> 4 | J8: =Master!B7 -> Prakash Kumar Gaur | K8: =Master!D7 -> State Service | L8: =Master!F7 -> L-12 | M8: =Master!M7 -> 31100 | N8: =Master!X7 -> NO | O8: =IF(K8="State Service",ROUND(M8*15/31,0),IF(AND(K8="Subordinate",OR(L8=$Z$9,L13=$Z$7,L8=$Z$11,L8=$Z$12,L8=$Z$13)),ROUND(M8*22/31,0),IF(AND(K8="Subordinate",OR(L8=$Z$14,L8=$Z$15,L8=$Z$16,L8=$Z$17,L8=$Z$18,L8=$Z$19)),ROUND(M8*15/31,0),IF(K8="Ministerial",ROUND(M8*22/31,0),M8)))) -> 15048 | P8: =IFERROR(VLOOKUP(L8,$Z$5:$AA$30,2,FALSE),0) -> 12 | Q8: =IF(N8="YES",0,IF(K8="State Service",ROUND(M8*5/31,0),IF(AND(K8="Subordinate",P8<10),ROUND(M8*2/31,0),IF(AND(K8="Subordinate",OR(P8<5,P8>9)),ROUND(M8*3/31,0),IF(K8="Ministerial",ROUND(M8*2/31,0),IF(OR(K8="Class IV",P8<5),ROUND(M8/31,0),"")))))) -> 5016 | R8: =IF(N8="YES",0,IF(OR(K8="Class IV",P8<5),0,IF(K8="State Service",ROUND('GA55 Main'!$J$14*2/30,0),ROUND('GA55 Main'!$J$14/30,0)))) -> 3758 | S8: =IF(N8="YES",0,IF(OR(K8="Class IV",P8<5),0,IF(K8="State Service",ROUND('GA55 Main'!$J$15*2/31,0),ROUND('GA55 Main'!$J$15/31,0)))) -> 3637 | T8: =IF(N8="YES",0,IF(OR(K8="Class IV",P8<5),0,IF(K8="State Service",ROUND('GA55 Main'!$J$16*2/30,0),ROUND('GA55 Main'!$J$16/30,0)))) -> 3758 | U8: =IF(N8="YES",0,IF(OR(K8="Class IV",P8<5),0,IF(K8="State Service",ROUND('GA55 Main'!$J$17*2/31,0),ROUND('GA55 Main'!$J$17/31,0)))) -> 3637 | V8: =IF(N8="YES",0,IF(OR(K8="Class IV",P8<5),0,IF(K8="State Service",ROUND('GA55 Main'!$J$18*2/31,0),ROUND('GA55 Main'!$J$18/31,0)))) -> 3637 | W8: =IF(N8="YES",0,IF(OR(K8="Class IV",P8<5),0,IF(K8="State Service",ROUND('GA55 Main'!$J$19*2/28,0),ROUND('GA55 Main'!$J$19/28,0)))) -> 4027 | X8: =SUM(Q8:W8) -> 27470 | Z8: L-4 | AA8: 4 | AB8: OCT | AC8: 4944 | AD8: 2 | AE8: 4877.4194
I9: =Master!A8 -> 5 | J9: =Master!B8 -> Bheru Prasad Jangid | K9: =Master!D8 -> Subordinate | L9: =Master!F8 -> L-11 | M9: =Master!M8 -> 26500 | N9: =Master!X8 -> NO | O9: =IF(K9="State Service",ROUND(M9*15/31,0),IF(AND(K9="Subordinate",OR(L9=$Z$9,L14=$Z$7,L9=$Z$11,L9=$Z$12,L9=$Z$13)),ROUND(M9*22/31,0),IF(AND(K9="Subordinate",OR(L9=$Z$14,L9=$Z$15,L9=$Z$16,L9=$Z$17,L9=$Z$18,L9=$Z$19)),ROUND(M9*15/31,0),IF(K9="Ministerial",ROUND(M9*22/31,0),M9)))) -> 12823 | P9: =IFERROR(VLOOKUP(L9,$Z$5:$AA$30,2,FALSE),0) -> 11 | Q9: =IF(N9="YES",0,IF(K9="State Service",ROUND(M9*5/31,0),IF(AND(K9="Subordinate",P9<10),ROUND(M9*2/31,0),IF(AND(K9="Subordinate",OR(P9<5,P9>9)),ROUND(M9*3/31,0),IF(K9="Ministerial",ROUND(M9*2/31,0),IF(OR(K9="Class IV",P9<5),ROUND(M9/31,0),"")))))) -> 2565 | R9: =IF(N9="YES",0,IF(OR(K9="Class IV",P9<5),0,IF(K9="State Service",ROUND('GA55 Main'!$J$14*2/30,0),ROUND('GA55 Main'!$J$14/30,0)))) -> 1879 | S9: =IF(N9="YES",0,IF(OR(K9="Class IV",P9<5),0,IF(K9="State Service",ROUND('GA55 Main'!$J$15*2/31,0),ROUND('GA55 Main'!$J$15/31,0)))) -> 1819 | T9: =IF(N9="YES",0,IF(OR(K9="Class IV",P9<5),0,IF(K9="State Service",ROUND('GA55 Main'!$J$16*2/30,0),ROUND('GA55 Main'!$J$16/30,0)))) -> 1879 | U9: =IF(N9="YES",0,IF(OR(K9="Class IV",P9<5),0,IF(K9="State Service",ROUND('GA55 Main'!$J$17*2/31,0),ROUND('GA55 Main'!$J$17/31,0)))) -> 1819 | V9: =IF(N9="YES",0,IF(OR(K9="Class IV",P9<5),0,IF(K9="State Service",ROUND('GA55 Main'!$J$18*2/31,0),ROUND('GA55 Main'!$J$18/31,0)))) -> 1819 | W9: =IF(N9="YES",0,IF(OR(K9="Class IV",P9<5),0,IF(K9="State Service",ROUND('GA55 Main'!$J$19*2/28,0),ROUND('GA55 Main'!$J$19/28,0)))) -> 2013 | X9: =SUM(Q9:W9) -> 13793 | Z9: L-5 | AA9: 5 | AB9: NOV | AC9: 5108 | AD9: 3 | AE9: 7316.129
I10: =Master!A9 -> 6 | J10: =Master!B9 -> Mohan Ram | K10: =Master!D9 -> Class IV | L10: =Master!F9 -> L-1 | M10: =Master!M9 -> 20800 | N10: =Master!X9 -> NO | O10: =IF(K10="State Service",ROUND(M10*15/31,0),IF(AND(K10="Subordinate",OR(L10=$Z$9,L15=$Z$7,L10=$Z$11,L10=$Z$12,L10=$Z$13)),ROUND(M10*22/31,0),IF(AND(K10="Subordinate",OR(L10=$Z$14,L10=$Z$15,L10=$Z$16,L10=$Z$17,L10=$Z$18,L10=$Z$19)),ROUND(M10*15/31,0),IF(K10="Ministerial",ROUND(M10*22/31,0),M10)))) -> 20800 | P10: =IFERROR(VLOOKUP(L10,$Z$5:$AA$30,2,FALSE),0) -> 1 | Q10: =IF(N10="YES",0,IF(K10="State Service",ROUND(M10*5/31,0),IF(AND(K10="Subordinate",P10<10),ROUND(M10*2/31,0),IF(AND(K10="Subordinate",OR(P10<5,P10>9)),ROUND(M10*3/31,0),IF(K10="Ministerial",ROUND(M10*2/31,0),IF(OR(K10="Class IV",P10<5),ROUND(M10/31,0),"")))))) -> 671 | R10: =IF(N10="YES",0,IF(OR(K10="Class IV",P10<5),0,IF(K10="State Service",ROUND('GA55 Main'!$J$14*2/30,0),ROUND('GA55 Main'!$J$14/30,0)))) -> 0 | S10: =IF(N10="YES",0,IF(OR(K10="Class IV",P10<5),0,IF(K10="State Service",ROUND('GA55 Main'!$J$15*2/31,0),ROUND('GA55 Main'!$J$15/31,0)))) -> 0 | T10: =IF(N10="YES",0,IF(OR(K10="Class IV",P10<5),0,IF(K10="State Service",ROUND('GA55 Main'!$J$16*2/30,0),ROUND('GA55 Main'!$J$16/30,0)))) -> 0 | U10: =IF(N10="YES",0,IF(OR(K10="Class IV",P10<5),0,IF(K10="State Service",ROUND('GA55 Main'!$J$17*2/31,0),ROUND('GA55 Main'!$J$17/31,0)))) -> 0 | V10: =IF(N10="YES",0,IF(OR(K10="Class IV",P10<5),0,IF(K10="State Service",ROUND('GA55 Main'!$J$18*2/31,0),ROUND('GA55 Main'!$J$18/31,0)))) -> 0 | W10: =IF(N10="YES",0,IF(OR(K10="Class IV",P10<5),0,IF(K10="State Service",ROUND('GA55 Main'!$J$19*2/28,0),ROUND('GA55 Main'!$J$19/28,0)))) -> 0 | X10: =SUM(Q10:W10) -> 671 | Z10: L-6 | AA10: 6 | AB10: DEC | AC10: 4944 | AD10: 5 | AE10: 12193.548
I11: =Master!A10 -> 7 | J11: =Master!B10 -> Randheer Singh Shekhawat | K11: =Master!D10 -> Subordinate | L11: =Master!F10 -> L-13 | M11: =Master!M10 -> 63300 | N11: =Master!X10 -> NO | O11: =IF(K11="State Service",ROUND(M11*15/31,0),IF(AND(K11="Subordinate",OR(L11=$Z$9,L16=$Z$7,L11=$Z$11,L11=$Z$12,L11=$Z$13)),ROUND(M11*22/31,0),IF(AND(K11="Subordinate",OR(L11=$Z$14,L11=$Z$15,L11=$Z$16,L11=$Z$17,L11=$Z$18,L11=$Z$19)),ROUND(M11*15/31,0),IF(K11="Ministerial",ROUND(M11*22/31,0),M11)))) -> 30629 | P11: =IFERROR(VLOOKUP(L11,$Z$5:$AA$30,2,FALSE),0) -> 13 | Q11: =IF(N11="YES",0,IF(K11="State Service",ROUND(M11*5/31,0),IF(AND(K11="Subordinate",P11<10),ROUND(M11*2/31,0),IF(AND(K11="Subordinate",OR(P11<5,P11>9)),ROUND(M11*3/31,0),IF(K11="Ministerial",ROUND(M11*2/31,0),IF(OR(K11="Class IV",P11<5),ROUND(M11/31,0),"")))))) -> 6126 | R11: =IF(N11="YES",0,IF(OR(K11="Class IV",P11<5),0,IF(K11="State Service",ROUND('GA55 Main'!$J$14*2/30,0),ROUND('GA55 Main'!$J$14/30,0)))) -> 1879 | S11: =IF(N11="YES",0,IF(OR(K11="Class IV",P11<5),0,IF(K11="State Service",ROUND('GA55 Main'!$J$15*2/31,0),ROUND('GA55 Main'!$J$15/31,0)))) -> 1819 | T11: =IF(N11="YES",0,IF(OR(K11="Class IV",P11<5),0,IF(K11="State Service",ROUND('GA55 Main'!$J$16*2/30,0),ROUND('GA55 Main'!$J$16/30,0)))) -> 1879 | U11: =IF(N11="YES",0,IF(OR(K11="Class IV",P11<5),0,IF(K11="State Service",ROUND('GA55 Main'!$J$17*2/31,0),ROUND('GA55 Main'!$J$17/31,0)))) -> 1819 | V11: =IF(N11="YES",0,IF(OR(K11="Class IV",P11<5),0,IF(K11="State Service",ROUND('GA55 Main'!$J$18*2/31,0),ROUND('GA55 Main'!$J$18/31,0)))) -> 1819 | W11: =IF(N11="YES",0,IF(OR(K11="Class IV",P11<5),0,IF(K11="State Service",ROUND('GA55 Main'!$J$19*2/28,0),ROUND('GA55 Main'!$J$19/28,0)))) -> 2013 | X11: =SUM(Q11:W11) -> 17354 | Z11: L-7 | AA11: 7 | AB11: JAN | AC11: 4944
I12: =Master!A11 | J12: =Master!B11 -> 0 | K12: =Master!D11 -> 0 | L12: =Master!F11 -> 0 | M12: =Master!M11 -> 0 | N12: =Master!X11 -> 0 | O12: =IF(K12="State Service",ROUND(M12*15/31,0),IF(AND(K12="Subordinate",OR(L12=$Z$9,L17=$Z$7,L12=$Z$11,L12=$Z$12,L12=$Z$13)),ROUND(M12*22/31,0),IF(AND(K12="Subordinate",OR(L12=$Z$14,L12=$Z$15,L12=$Z$16,L12=$Z$17,L12=$Z$18,L12=$Z$19)),ROUND(M12*15/31,0),IF(K12="Ministerial",ROUND(M12*22/31,0),M12)))) -> 0 | P12: =IFERROR(VLOOKUP(L12,$Z$5:$AA$30,2,FALSE),0) -> 0 | Q12: =IF(N12="YES",0,IF(K12="State Service",ROUND(M12*5/31,0),IF(AND(K12="Subordinate",P12<10),ROUND(M12*2/31,0),IF(AND(K12="Subordinate",OR(P12<5,P12>9)),ROUND(M12*3/31,0),IF(K12="Ministerial",ROUND(M12*2/31,0),IF(OR(K12="Class IV",P12<5),ROUND(M12/31,0),"")))))) -> 0 | R12: =IF(N12="YES",0,IF(OR(K12="Class IV",P12<5),0,IF(K12="State Service",ROUND('GA55 Main'!$J$14*2/30,0),ROUND('GA55 Main'!$J$14/30,0)))) -> 0 | S12: =IF(N12="YES",0,IF(OR(K12="Class IV",P12<5),0,IF(K12="State Service",ROUND('GA55 Main'!$J$15*2/31,0),ROUND('GA55 Main'!$J$15/31,0)))) -> 0 | T12: =IF(N12="YES",0,IF(OR(K12="Class IV",P12<5),0,IF(K12="State Service",ROUND('GA55 Main'!$J$16*2/30,0),ROUND('GA55 Main'!$J$16/30,0)))) -> 0 | U12: =IF(N12="YES",0,IF(OR(K12="Class IV",P12<5),0,IF(K12="State Service",ROUND('GA55 Main'!$J$17*2/31,0),ROUND('GA55 Main'!$J$17/31,0)))) -> 0 | V12: =IF(N12="YES",0,IF(OR(K12="Class IV",P12<5),0,IF(K12="State Service",ROUND('GA55 Main'!$J$18*2/31,0),ROUND('GA55 Main'!$J$18/31,0)))) -> 0 | W12: =IF(N12="YES",0,IF(OR(K12="Class IV",P12<5),0,IF(K12="State Service",ROUND('GA55 Main'!$J$19*2/28,0),ROUND('GA55 Main'!$J$19/28,0)))) -> 0 | X12: =SUM(Q12:W12) -> 0 | Z12: L-8 | AA12: 8 | AB12: FAR | AC12: 5473
I13: =Master!A12 | J13: =Master!B12 -> 0 | K13: =Master!D12 -> 0 | L13: =Master!F12 -> 0 | M13: =Master!M12 -> 0 | N13: =Master!X12 -> 0 | O13: =IF(K13="State Service",ROUND(M13*15/31,0),IF(AND(K13="Subordinate",OR(L13=$Z$9,L18=$Z$7,L13=$Z$11,L13=$Z$12,L13=$Z$13)),ROUND(M13*22/31,0),IF(AND(K13="Subordinate",OR(L13=$Z$14,L13=$Z$15,L13=$Z$16,L13=$Z$17,L13=$Z$18,L13=$Z$19)),ROUND(M13*15/31,0),IF(K13="Ministerial",ROUND(M13*22/31,0),M13)))) -> 0 | P13: =IFERROR(VLOOKUP(L13,$Z$5:$AA$30,2,FALSE),0) -> 0 | Q13: =IF(N13="YES",0,IF(K13="State Service",ROUND(M13*5/31,0),IF(AND(K13="Subordinate",P13<10),ROUND(M13*2/31,0),IF(AND(K13="Subordinate",OR(P13<5,P13>9)),ROUND(M13*3/31,0),IF(K13="Ministerial",ROUND(M13*2/31,0),IF(OR(K13="Class IV",P13<5),ROUND(M13/31,0),"")))))) -> 0 | R13: =IF(N13="YES",0,IF(OR(K13="Class IV",P13<5),0,IF(K13="State Service",ROUND('GA55 Main'!$J$14*2/30,0),ROUND('GA55 Main'!$J$14/30,0)))) -> 0 | S13: =IF(N13="YES",0,IF(OR(K13="Class IV",P13<5),0,IF(K13="State Service",ROUND('GA55 Main'!$J$15*2/31,0),ROUND('GA55 Main'!$J$15/31,0)))) -> 0 | T13: =IF(N13="YES",0,IF(OR(K13="Class IV",P13<5),0,IF(K13="State Service",ROUND('GA55 Main'!$J$16*2/30,0),ROUND('GA55 Main'!$J$16/30,0)))) -> 0 | U13: =IF(N13="YES",0,IF(OR(K13="Class IV",P13<5),0,IF(K13="State Service",ROUND('GA55 Main'!$J$17*2/31,0),ROUND('GA55 Main'!$J$17/31,0)))) -> 0 | V13: =IF(N13="YES",0,IF(OR(K13="Class IV",P13<5),0,IF(K13="State Service",ROUND('GA55 Main'!$J$18*2/31,0),ROUND('GA55 Main'!$J$18/31,0)))) -> 0 | W13: =IF(N13="YES",0,IF(OR(K13="Class IV",P13<5),0,IF(K13="State Service",ROUND('GA55 Main'!$J$19*2/28,0),ROUND('GA55 Main'!$J$19/28,0)))) -> 0 | X13: =SUM(Q13:W13) -> 0 | Z13: L-9 | AA13: 9
I14: =Master!A13 | J14: =Master!B13 -> 0 | K14: =Master!D13 -> 0 | L14: =Master!F13 -> 0 | M14: =Master!M13 -> 0 | N14: =Master!X13 -> 0 | O14: =IF(K14="State Service",ROUND(M14*15/31,0),IF(AND(K14="Subordinate",OR(L14=$Z$9,L19=$Z$7,L14=$Z$11,L14=$Z$12,L14=$Z$13)),ROUND(M14*22/31,0),IF(AND(K14="Subordinate",OR(L14=$Z$14,L14=$Z$15,L14=$Z$16,L14=$Z$17,L14=$Z$18,L14=$Z$19)),ROUND(M14*15/31,0),IF(K14="Ministerial",ROUND(M14*22/31,0),M14)))) -> 0 | P14: =IFERROR(VLOOKUP(L14,$Z$5:$AA$30,2,FALSE),0) -> 0 | Q14: =IF(N14="YES",0,IF(K14="State Service",ROUND(M14*5/31,0),IF(AND(K14="Subordinate",P14<10),ROUND(M14*2/31,0),IF(AND(K14="Subordinate",OR(P14<5,P14>9)),ROUND(M14*3/31,0),IF(K14="Ministerial",ROUND(M14*2/31,0),IF(OR(K14="Class IV",P14<5),ROUND(M14/31,0),"")))))) -> 0 | R14: =IF(N14="YES",0,IF(OR(K14="Class IV",P14<5),0,IF(K14="State Service",ROUND('GA55 Main'!$J$14*2/30,0),ROUND('GA55 Main'!$J$14/30,0)))) -> 0 | S14: =IF(N14="YES",0,IF(OR(K14="Class IV",P14<5),0,IF(K14="State Service",ROUND('GA55 Main'!$J$15*2/31,0),ROUND('GA55 Main'!$J$15/31,0)))) -> 0 | T14: =IF(N14="YES",0,IF(OR(K14="Class IV",P14<5),0,IF(K14="State Service",ROUND('GA55 Main'!$J$16*2/30,0),ROUND('GA55 Main'!$J$16/30,0)))) -> 0 | U14: =IF(N14="YES",0,IF(OR(K14="Class IV",P14<5),0,IF(K14="State Service",ROUND('GA55 Main'!$J$17*2/31,0),ROUND('GA55 Main'!$J$17/31,0)))) -> 0 | V14: =IF(N14="YES",0,IF(OR(K14="Class IV",P14<5),0,IF(K14="State Service",ROUND('GA55 Main'!$J$18*2/31,0),ROUND('GA55 Main'!$J$18/31,0)))) -> 0 | W14: =IF(N14="YES",0,IF(OR(K14="Class IV",P14<5),0,IF(K14="State Service",ROUND('GA55 Main'!$J$19*2/28,0),ROUND('GA55 Main'!$J$19/28,0)))) -> 0 | X14: =SUM(Q14:W14) -> 0 | Z14: L-10 | AA14: 10 | AC14: =VLOOKUP(L5,$Z$5:$AA$30,2,FALSE) -> 11
I15: =Master!A14 | J15: =Master!B14 -> 0 | K15: =Master!D14 -> 0 | L15: =Master!F14 -> 0 | M15: =Master!M14 -> 0 | N15: =Master!X14 -> 0 | O15: =IF(K15="State Service",ROUND(M15*15/31,0),IF(AND(K15="Subordinate",OR(L15=$Z$9,L20=$Z$7,L15=$Z$11,L15=$Z$12,L15=$Z$13)),ROUND(M15*22/31,0),IF(AND(K15="Subordinate",OR(L15=$Z$14,L15=$Z$15,L15=$Z$16,L15=$Z$17,L15=$Z$18,L15=$Z$19)),ROUND(M15*15/31,0),IF(K15="Ministerial",ROUND(M15*22/31,0),M15)))) -> 0 | P15: =IFERROR(VLOOKUP(L15,$Z$5:$AA$30,2,FALSE),0) -> 0 | Q15: =IF(N15="YES",0,IF(K15="State Service",ROUND(M15*5/31,0),IF(AND(K15="Subordinate",P15<10),ROUND(M15*2/31,0),IF(AND(K15="Subordinate",OR(P15<5,P15>9)),ROUND(M15*3/31,0),IF(K15="Ministerial",ROUND(M15*2/31,0),IF(OR(K15="Class IV",P15<5),ROUND(M15/31,0),"")))))) -> 0 | R15: =IF(N15="YES",0,IF(OR(K15="Class IV",P15<5),0,IF(K15="State Service",ROUND('GA55 Main'!$J$14*2/30,0),ROUND('GA55 Main'!$J$14/30,0)))) -> 0 | S15: =IF(N15="YES",0,IF(OR(K15="Class IV",P15<5),0,IF(K15="State Service",ROUND('GA55 Main'!$J$15*2/31,0),ROUND('GA55 Main'!$J$15/31,0)))) -> 0 | T15: =IF(N15="YES",0,IF(OR(K15="Class IV",P15<5),0,IF(K15="State Service",ROUND('GA55 Main'!$J$16*2/30,0),ROUND('GA55 Main'!$J$16/30,0)))) -> 0 | U15: =IF(N15="YES",0,IF(OR(K15="Class IV",P15<5),0,IF(K15="State Service",ROUND('GA55 Main'!$J$17*2/31,0),ROUND('GA55 Main'!$J$17/31,0)))) -> 0 | V15: =IF(N15="YES",0,IF(OR(K15="Class IV",P15<5),0,IF(K15="State Service",ROUND('GA55 Main'!$J$18*2/31,0),ROUND('GA55 Main'!$J$18/31,0)))) -> 0 | W15: =IF(N15="YES",0,IF(OR(K15="Class IV",P15<5),0,IF(K15="State Service",ROUND('GA55 Main'!$J$19*2/28,0),ROUND('GA55 Main'!$J$19/28,0)))) -> 0 | X15: =SUM(Q15:W15) -> 0 | Z15: L-11 | AA15: 11
I16: =Master!A15 | J16: =Master!B15 -> 0 | K16: =Master!D15 -> 0 | L16: =Master!F15 -> 0 | M16: =Master!M15 -> 0 | N16: =Master!X15 -> 0 | O16: =IF(K16="State Service",ROUND(M16*15/31,0),IF(AND(K16="Subordinate",OR(L16=$Z$9,L21=$Z$7,L16=$Z$11,L16=$Z$12,L16=$Z$13)),ROUND(M16*22/31,0),IF(AND(K16="Subordinate",OR(L16=$Z$14,L16=$Z$15,L16=$Z$16,L16=$Z$17,L16=$Z$18,L16=$Z$19)),ROUND(M16*15/31,0),IF(K16="Ministerial",ROUND(M16*22/31,0),M16)))) -> 0 | P16: =IFERROR(VLOOKUP(L16,$Z$5:$AA$30,2,FALSE),0) -> 0 | Q16: =IF(N16="YES",0,IF(K16="State Service",ROUND(M16*5/31,0),IF(AND(K16="Subordinate",P16<10),ROUND(M16*2/31,0),IF(AND(K16="Subordinate",OR(P16<5,P16>9)),ROUND(M16*3/31,0),IF(K16="Ministerial",ROUND(M16*2/31,0),IF(OR(K16="Class IV",P16<5),ROUND(M16/31,0),"")))))) -> 0 | R16: =IF(N16="YES",0,IF(OR(K16="Class IV",P16<5),0,IF(K16="State Service",ROUND('GA55 Main'!$J$14*2/30,0),ROUND('GA55 Main'!$J$14/30,0)))) -> 0 | S16: =IF(N16="YES",0,IF(OR(K16="Class IV",P16<5),0,IF(K16="State Service",ROUND('GA55 Main'!$J$15*2/31,0),ROUND('GA55 Main'!$J$15/31,0)))) -> 0 | T16: =IF(N16="YES",0,IF(OR(K16="Class IV",P16<5),0,IF(K16="State Service",ROUND('GA55 Main'!$J$16*2/30,0),ROUND('GA55 Main'!$J$16/30,0)))) -> 0 | U16: =IF(N16="YES",0,IF(OR(K16="Class IV",P16<5),0,IF(K16="State Service",ROUND('GA55 Main'!$J$17*2/31,0),ROUND('GA55 Main'!$J$17/31,0)))) -> 0 | V16: =IF(N16="YES",0,IF(OR(K16="Class IV",P16<5),0,IF(K16="State Service",ROUND('GA55 Main'!$J$18*2/31,0),ROUND('GA55 Main'!$J$18/31,0)))) -> 0 | W16: =IF(N16="YES",0,IF(OR(K16="Class IV",P16<5),0,IF(K16="State Service",ROUND('GA55 Main'!$J$19*2/28,0),ROUND('GA55 Main'!$J$19/28,0)))) -> 0 | X16: =SUM(Q16:W16) -> 0 | Z16: L-12 | AA16: 12
I17: =Master!A254 -> 0 | J17: =Master!B254 -> 0 | K17: =Master!D254 -> 0 | L17: =Master!F254 -> 0 | M17: =Master!M254 -> 0 | N17: =Master!X254 -> 0 | O17: =IF(K17="State Service",ROUND(M17*15/31,0),IF(AND(K17="Subordinate",OR(L17=$Z$9,L22=$Z$7,L17=$Z$11,L17=$Z$12,L17=$Z$13)),ROUND(M17*22/31,0),IF(AND(K17="Subordinate",OR(L17=$Z$14,L17=$Z$15,L17=$Z$16,L17=$Z$17,L17=$Z$18,L17=$Z$19)),ROUND(M17*15/31,0),IF(K17="Ministerial",ROUND(M17*22/31,0),M17)))) -> 0 | P17: =IFERROR(VLOOKUP(L17,$Z$5:$AA$30,2,FALSE),0) -> 0 | Q17: =IF(N17="YES",0,IF(K17="State Service",ROUND(M17*5/31,0),IF(AND(K17="Subordinate",P17<10),ROUND(M17*2/31,0),IF(AND(K17="Subordinate",OR(P17<5,P17>9)),ROUND(M17*3/31,0),IF(K17="Ministerial",ROUND(M17*2/31,0),IF(OR(K17="Class IV",P17<5),ROUND(M17/31,0),"")))))) -> 0 | R17: =IF(N17="YES",0,IF(OR(K17="Class IV",P17<5),0,IF(K17="State Service",ROUND('GA55 Main'!$J$14*2/30,0),ROUND('GA55 Main'!$J$14/30,0)))) -> 0 | S17: =IF(N17="YES",0,IF(OR(K17="Class IV",P17<5),0,IF(K17="State Service",ROUND('GA55 Main'!$J$15*2/31,0),ROUND('GA55 Main'!$J$15/31,0)))) -> 0 | T17: =IF(N17="YES",0,IF(OR(K17="Class IV",P17<5),0,IF(K17="State Service",ROUND('GA55 Main'!$J$16*2/30,0),ROUND('GA55 Main'!$J$16/30,0)))) -> 0 | U17: =IF(N17="YES",0,IF(OR(K17="Class IV",P17<5),0,IF(K17="State Service",ROUND('GA55 Main'!$J$17*2/31,0),ROUND('GA55 Main'!$J$17/31,0)))) -> 0 | V17: =IF(N17="YES",0,IF(OR(K17="Class IV",P17<5),0,IF(K17="State Service",ROUND('GA55 Main'!$J$18*2/31,0),ROUND('GA55 Main'!$J$18/31,0)))) -> 0 | W17: =IF(N17="YES",0,IF(OR(K17="Class IV",P17<5),0,IF(K17="State Service",ROUND('GA55 Main'!$J$19*2/28,0),ROUND('GA55 Main'!$J$19/28,0)))) -> 0 | X17: =SUM(Q17:W17) -> 0 | Z17: L-13 | AA17: 13
I18: =Master!A255 -> 0 | J18: =Master!B255 -> 0 | K18: =Master!D255 -> 0 | L18: =Master!F255 -> 0 | M18: =Master!M255 -> 0 | N18: =Master!X255 -> 0 | O18: =IF(K18="State Service",ROUND(M18*15/31,0),IF(AND(K18="Subordinate",OR(L18=$Z$9,L23=$Z$7,L18=$Z$11,L18=$Z$12,L18=$Z$13)),ROUND(M18*22/31,0),IF(AND(K18="Subordinate",OR(L18=$Z$14,L18=$Z$15,L18=$Z$16,L18=$Z$17,L18=$Z$18,L18=$Z$19)),ROUND(M18*15/31,0),IF(K18="Ministerial",ROUND(M18*22/31,0),M18)))) -> 0 | P18: =IFERROR(VLOOKUP(L18,$Z$5:$AA$30,2,FALSE),0) -> 0 | Q18: =IF(N18="YES",0,IF(K18="State Service",ROUND(M18*5/31,0),IF(AND(K18="Subordinate",P18<10),ROUND(M18*2/31,0),IF(AND(K18="Subordinate",OR(P18<5,P18>9)),ROUND(M18*3/31,0),IF(K18="Ministerial",ROUND(M18*2/31,0),IF(OR(K18="Class IV",P18<5),ROUND(M18/31,0),"")))))) -> 0 | R18: =IF(N18="YES",0,IF(OR(K18="Class IV",P18<5),0,IF(K18="State Service",ROUND('GA55 Main'!$J$14*2/30,0),ROUND('GA55 Main'!$J$14/30,0)))) -> 0 | S18: =IF(N18="YES",0,IF(OR(K18="Class IV",P18<5),0,IF(K18="State Service",ROUND('GA55 Main'!$J$15*2/31,0),ROUND('GA55 Main'!$J$15/31,0)))) -> 0 | T18: =IF(N18="YES",0,IF(OR(K18="Class IV",P18<5),0,IF(K18="State Service",ROUND('GA55 Main'!$J$16*2/30,0),ROUND('GA55 Main'!$J$16/30,0)))) -> 0 | U18: =IF(N18="YES",0,IF(OR(K18="Class IV",P18<5),0,IF(K18="State Service",ROUND('GA55 Main'!$J$17*2/31,0),ROUND('GA55 Main'!$J$17/31,0)))) -> 0 | V18: =IF(N18="YES",0,IF(OR(K18="Class IV",P18<5),0,IF(K18="State Service",ROUND('GA55 Main'!$J$18*2/31,0),ROUND('GA55 Main'!$J$18/31,0)))) -> 0 | W18: =IF(N18="YES",0,IF(OR(K18="Class IV",P18<5),0,IF(K18="State Service",ROUND('GA55 Main'!$J$19*2/28,0),ROUND('GA55 Main'!$J$19/28,0)))) -> 0 | X18: =SUM(Q18:W18) -> 0 | Z18: L-14 | AA18: 14
I19: =Master!A256 -> 0 | J19: =Master!B256 -> 0 | K19: =Master!D256 -> 0 | L19: =Master!F256 -> 0 | M19: =Master!M256 -> 0 | N19: =Master!X256 -> 0 | O19: =IF(K19="State Service",ROUND(M19*15/31,0),IF(AND(K19="Subordinate",OR(L19=$Z$9,L24=$Z$7,L19=$Z$11,L19=$Z$12,L19=$Z$13)),ROUND(M19*22/31,0),IF(AND(K19="Subordinate",OR(L19=$Z$14,L19=$Z$15,L19=$Z$16,L19=$Z$17,L19=$Z$18,L19=$Z$19)),ROUND(M19*15/31,0),IF(K19="Ministerial",ROUND(M19*22/31,0),M19)))) -> 0 | P19: =IFERROR(VLOOKUP(L19,$Z$5:$AA$30,2,FALSE),0) -> 0 | Q19: =IF(N19="YES",0,IF(K19="State Service",ROUND(M19*5/31,0),IF(AND(K19="Subordinate",P19<10),ROUND(M19*2/31,0),IF(AND(K19="Subordinate",OR(P19<5,P19>9)),ROUND(M19*3/31,0),IF(K19="Ministerial",ROUND(M19*2/31,0),IF(OR(K19="Class IV",P19<5),ROUND(M19/31,0),"")))))) -> 0 | R19: =IF(N19="YES",0,IF(OR(K19="Class IV",P19<5),0,IF(K19="State Service",ROUND('GA55 Main'!$J$14*2/30,0),ROUND('GA55 Main'!$J$14/30,0)))) -> 0 | S19: =IF(N19="YES",0,IF(OR(K19="Class IV",P19<5),0,IF(K19="State Service",ROUND('GA55 Main'!$J$15*2/31,0),ROUND('GA55 Main'!$J$15/31,0)))) -> 0 | T19: =IF(N19="YES",0,IF(OR(K19="Class IV",P19<5),0,IF(K19="State Service",ROUND('GA55 Main'!$J$16*2/30,0),ROUND('GA55 Main'!$J$16/30,0)))) -> 0 | U19: =IF(N19="YES",0,IF(OR(K19="Class IV",P19<5),0,IF(K19="State Service",ROUND('GA55 Main'!$J$17*2/31,0),ROUND('GA55 Main'!$J$17/31,0)))) -> 0 | V19: =IF(N19="YES",0,IF(OR(K19="Class IV",P19<5),0,IF(K19="State Service",ROUND('GA55 Main'!$J$18*2/31,0),ROUND('GA55 Main'!$J$18/31,0)))) -> 0 | W19: =IF(N19="YES",0,IF(OR(K19="Class IV",P19<5),0,IF(K19="State Service",ROUND('GA55 Main'!$J$19*2/28,0),ROUND('GA55 Main'!$J$19/28,0)))) -> 0 | X19: =SUM(Q19:W19) -> 0 | Z19: L-15 | AA19: 15
I20: =Master!A257 -> 0 | J20: =Master!B257 -> 0 | K20: =Master!D257 -> 0 | L20: =Master!F257 -> 0 | M20: =Master!M257 -> 0 | N20: =Master!X257 -> 0 | O20: =IF(K20="State Service",ROUND(M20*15/31,0),IF(AND(K20="Subordinate",OR(L20=$Z$9,L25=$Z$7,L20=$Z$11,L20=$Z$12,L20=$Z$13)),ROUND(M20*22/31,0),IF(AND(K20="Subordinate",OR(L20=$Z$14,L20=$Z$15,L20=$Z$16,L20=$Z$17,L20=$Z$18,L20=$Z$19)),ROUND(M20*15/31,0),IF(K20="Ministerial",ROUND(M20*22/31,0),M20)))) -> 0 | P20: =IFERROR(VLOOKUP(L20,$Z$5:$AA$30,2,FALSE),0) -> 0 | Q20: =IF(N20="YES",0,IF(K20="State Service",ROUND(M20*5/31,0),IF(AND(K20="Subordinate",P20<10),ROUND(M20*2/31,0),IF(AND(K20="Subordinate",OR(P20<5,P20>9)),ROUND(M20*3/31,0),IF(K20="Ministerial",ROUND(M20*2/31,0),IF(OR(K20="Class IV",P20<5),ROUND(M20/31,0),"")))))) -> 0 | R20: =IF(N20="YES",0,IF(OR(K20="Class IV",P20<5),0,IF(K20="State Service",ROUND('GA55 Main'!$J$14*2/30,0),ROUND('GA55 Main'!$J$14/30,0)))) -> 0 | S20: =IF(N20="YES",0,IF(OR(K20="Class IV",P20<5),0,IF(K20="State Service",ROUND('GA55 Main'!$J$15*2/31,0),ROUND('GA55 Main'!$J$15/31,0)))) -> 0 | T20: =IF(N20="YES",0,IF(OR(K20="Class IV",P20<5),0,IF(K20="State Service",ROUND('GA55 Main'!$J$16*2/30,0),ROUND('GA55 Main'!$J$16/30,0)))) -> 0 | U20: =IF(N20="YES",0,IF(OR(K20="Class IV",P20<5),0,IF(K20="State Service",ROUND('GA55 Main'!$J$17*2/31,0),ROUND('GA55 Main'!$J$17/31,0)))) -> 0 | V20: =IF(N20="YES",0,IF(OR(K20="Class IV",P20<5),0,IF(K20="State Service",ROUND('GA55 Main'!$J$18*2/31,0),ROUND('GA55 Main'!$J$18/31,0)))) -> 0 | W20: =IF(N20="YES",0,IF(OR(K20="Class IV",P20<5),0,IF(K20="State Service",ROUND('GA55 Main'!$J$19*2/28,0),ROUND('GA55 Main'!$J$19/28,0)))) -> 0 | X20: =SUM(Q20:W20) -> 0 | Z20: L-16 | AA20: 16
I21: =Master!A258 -> 0 | J21: =Master!B258 -> 0 | K21: =Master!D258 -> 0 | L21: =Master!F258 -> 0 | M21: =Master!M258 -> 0 | N21: =Master!X258 -> 0 | O21: =IF(K21="State Service",ROUND(M21*15/31,0),IF(AND(K21="Subordinate",OR(L21=$Z$9,L26=$Z$7,L21=$Z$11,L21=$Z$12,L21=$Z$13)),ROUND(M21*22/31,0),IF(AND(K21="Subordinate",OR(L21=$Z$14,L21=$Z$15,L21=$Z$16,L21=$Z$17,L21=$Z$18,L21=$Z$19)),ROUND(M21*15/31,0),IF(K21="Ministerial",ROUND(M21*22/31,0),M21)))) -> 0 | P21: =IFERROR(VLOOKUP(L21,$Z$5:$AA$30,2,FALSE),0) -> 0 | Q21: =IF(N21="YES",0,IF(K21="State Service",ROUND(M21*5/31,0),IF(AND(K21="Subordinate",P21<10),ROUND(M21*2/31,0),IF(AND(K21="Subordinate",OR(P21<5,P21>9)),ROUND(M21*3/31,0),IF(K21="Ministerial",ROUND(M21*2/31,0),IF(OR(K21="Class IV",P21<5),ROUND(M21/31,0),"")))))) -> 0 | R21: =IF(N21="YES",0,IF(OR(K21="Class IV",P21<5),0,IF(K21="State Service",ROUND('GA55 Main'!$J$14*2/30,0),ROUND('GA55 Main'!$J$14/30,0)))) -> 0 | S21: =IF(N21="YES",0,IF(OR(K21="Class IV",P21<5),0,IF(K21="State Service",ROUND('GA55 Main'!$J$15*2/31,0),ROUND('GA55 Main'!$J$15/31,0)))) -> 0 | T21: =IF(N21="YES",0,IF(OR(K21="Class IV",P21<5),0,IF(K21="State Service",ROUND('GA55 Main'!$J$16*2/30,0),ROUND('GA55 Main'!$J$16/30,0)))) -> 0 | U21: =IF(N21="YES",0,IF(OR(K21="Class IV",P21<5),0,IF(K21="State Service",ROUND('GA55 Main'!$J$17*2/31,0),ROUND('GA55 Main'!$J$17/31,0)))) -> 0 | V21: =IF(N21="YES",0,IF(OR(K21="Class IV",P21<5),0,IF(K21="State Service",ROUND('GA55 Main'!$J$18*2/31,0),ROUND('GA55 Main'!$J$18/31,0)))) -> 0 | W21: =IF(N21="YES",0,IF(OR(K21="Class IV",P21<5),0,IF(K21="State Service",ROUND('GA55 Main'!$J$19*2/28,0),ROUND('GA55 Main'!$J$19/28,0)))) -> 0 | X21: =SUM(Q21:W21) -> 0 | Z21: L-17 | AA21: 17
I22: =Master!A259 -> 0 | J22: =Master!B259 -> 0 | K22: =Master!D259 -> 0 | L22: =Master!F259 -> 0 | M22: =Master!M259 -> 0 | N22: =Master!X259 -> 0 | O22: =IF(K22="State Service",ROUND(M22*15/31,0),IF(AND(K22="Subordinate",OR(L22=$Z$9,L27=$Z$7,L22=$Z$11,L22=$Z$12,L22=$Z$13)),ROUND(M22*22/31,0),IF(AND(K22="Subordinate",OR(L22=$Z$14,L22=$Z$15,L22=$Z$16,L22=$Z$17,L22=$Z$18,L22=$Z$19)),ROUND(M22*15/31,0),IF(K22="Ministerial",ROUND(M22*22/31,0),M22)))) -> 0 | P22: =IFERROR(VLOOKUP(L22,$Z$5:$AA$30,2,FALSE),0) -> 0 | Q22: =IF(N22="YES",0,IF(K22="State Service",ROUND(M22*5/31,0),IF(AND(K22="Subordinate",P22<10),ROUND(M22*2/31,0),IF(AND(K22="Subordinate",OR(P22<5,P22>9)),ROUND(M22*3/31,0),IF(K22="Ministerial",ROUND(M22*2/31,0),IF(OR(K22="Class IV",P22<5),ROUND(M22/31,0),"")))))) -> 0 | R22: =IF(N22="YES",0,IF(OR(K22="Class IV",P22<5),0,IF(K22="State Service",ROUND('GA55 Main'!$J$14*2/30,0),ROUND('GA55 Main'!$J$14/30,0)))) -> 0 | S22: =IF(N22="YES",0,IF(OR(K22="Class IV",P22<5),0,IF(K22="State Service",ROUND('GA55 Main'!$J$15*2/31,0),ROUND('GA55 Main'!$J$15/31,0)))) -> 0 | T22: =IF(N22="YES",0,IF(OR(K22="Class IV",P22<5),0,IF(K22="State Service",ROUND('GA55 Main'!$J$16*2/30,0),ROUND('GA55 Main'!$J$16/30,0)))) -> 0 | U22: =IF(N22="YES",0,IF(OR(K22="Class IV",P22<5),0,IF(K22="State Service",ROUND('GA55 Main'!$J$17*2/31,0),ROUND('GA55 Main'!$J$17/31,0)))) -> 0 | V22: =IF(N22="YES",0,IF(OR(K22="Class IV",P22<5),0,IF(K22="State Service",ROUND('GA55 Main'!$J$18*2/31,0),ROUND('GA55 Main'!$J$18/31,0)))) -> 0 | W22: =IF(N22="YES",0,IF(OR(K22="Class IV",P22<5),0,IF(K22="State Service",ROUND('GA55 Main'!$J$19*2/28,0),ROUND('GA55 Main'!$J$19/28,0)))) -> 0 | X22: =SUM(Q22:W22) -> 0 | Z22: L-18 | AA22: 18
I23: =Master!A260 -> 0 | J23: =Master!B260 -> 0 | K23: =Master!D260 -> 0 | L23: =Master!F260 -> 0 | M23: =Master!M260 -> 0 | N23: =Master!X260 -> 0 | O23: =IF(K23="State Service",ROUND(M23*15/31,0),IF(AND(K23="Subordinate",OR(L23=$Z$9,L28=$Z$7,L23=$Z$11,L23=$Z$12,L23=$Z$13)),ROUND(M23*22/31,0),IF(AND(K23="Subordinate",OR(L23=$Z$14,L23=$Z$15,L23=$Z$16,L23=$Z$17,L23=$Z$18,L23=$Z$19)),ROUND(M23*15/31,0),IF(K23="Ministerial",ROUND(M23*22/31,0),M23)))) -> 0 | P23: =IFERROR(VLOOKUP(L23,$Z$5:$AA$30,2,FALSE),0) -> 0 | Q23: =IF(N23="YES",0,IF(K23="State Service",ROUND(M23*5/31,0),IF(AND(K23="Subordinate",P23<10),ROUND(M23*2/31,0),IF(AND(K23="Subordinate",OR(P23<5,P23>9)),ROUND(M23*3/31,0),IF(K23="Ministerial",ROUND(M23*2/31,0),IF(OR(K23="Class IV",P23<5),ROUND(M23/31,0),"")))))) -> 0 | R23: =IF(N23="YES",0,IF(OR(K23="Class IV",P23<5),0,IF(K23="State Service",ROUND('GA55 Main'!$J$14*2/30,0),ROUND('GA55 Main'!$J$14/30,0)))) -> 0 | S23: =IF(N23="YES",0,IF(OR(K23="Class IV",P23<5),0,IF(K23="State Service",ROUND('GA55 Main'!$J$15*2/31,0),ROUND('GA55 Main'!$J$15/31,0)))) -> 0 | T23: =IF(N23="YES",0,IF(OR(K23="Class IV",P23<5),0,IF(K23="State Service",ROUND('GA55 Main'!$J$16*2/30,0),ROUND('GA55 Main'!$J$16/30,0)))) -> 0 | U23: =IF(N23="YES",0,IF(OR(K23="Class IV",P23<5),0,IF(K23="State Service",ROUND('GA55 Main'!$J$17*2/31,0),ROUND('GA55 Main'!$J$17/31,0)))) -> 0 | V23: =IF(N23="YES",0,IF(OR(K23="Class IV",P23<5),0,IF(K23="State Service",ROUND('GA55 Main'!$J$18*2/31,0),ROUND('GA55 Main'!$J$18/31,0)))) -> 0 | W23: =IF(N23="YES",0,IF(OR(K23="Class IV",P23<5),0,IF(K23="State Service",ROUND('GA55 Main'!$J$19*2/28,0),ROUND('GA55 Main'!$J$19/28,0)))) -> 0 | X23: =SUM(Q23:W23) -> 0 | Z23: L-19 | AA23: 19
I24: =Master!A261 -> 0 | J24: =Master!B261 -> 0 | K24: =Master!D261 -> 0 | L24: =Master!F261 -> 0 | M24: =Master!M261 -> 0 | N24: =Master!X261 -> 0 | O24: =IF(K24="State Service",ROUND(M24*15/31,0),IF(AND(K24="Subordinate",OR(L24=$Z$9,L29=$Z$7,L24=$Z$11,L24=$Z$12,L24=$Z$13)),ROUND(M24*22/31,0),IF(AND(K24="Subordinate",OR(L24=$Z$14,L24=$Z$15,L24=$Z$16,L24=$Z$17,L24=$Z$18,L24=$Z$19)),ROUND(M24*15/31,0),IF(K24="Ministerial",ROUND(M24*22/31,0),M24)))) -> 0 | P24: =IFERROR(VLOOKUP(L24,$Z$5:$AA$30,2,FALSE),0) -> 0 | Q24: =IF(N24="YES",0,IF(K24="State Service",ROUND(M24*5/31,0),IF(AND(K24="Subordinate",P24<10),ROUND(M24*2/31,0),IF(AND(K24="Subordinate",OR(P24<5,P24>9)),ROUND(M24*3/31,0),IF(K24="Ministerial",ROUND(M24*2/31,0),IF(OR(K24="Class IV",P24<5),ROUND(M24/31,0),"")))))) -> 0 | R24: =IF(N24="YES",0,IF(OR(K24="Class IV",P24<5),0,IF(K24="State Service",ROUND('GA55 Main'!$J$14*2/30,0),ROUND('GA55 Main'!$J$14/30,0)))) -> 0 | S24: =IF(N24="YES",0,IF(OR(K24="Class IV",P24<5),0,IF(K24="State Service",ROUND('GA55 Main'!$J$15*2/31,0),ROUND('GA55 Main'!$J$15/31,0)))) -> 0 | T24: =IF(N24="YES",0,IF(OR(K24="Class IV",P24<5),0,IF(K24="State Service",ROUND('GA55 Main'!$J$16*2/30,0),ROUND('GA55 Main'!$J$16/30,0)))) -> 0 | U24: =IF(N24="YES",0,IF(OR(K24="Class IV",P24<5),0,IF(K24="State Service",ROUND('GA55 Main'!$J$17*2/31,0),ROUND('GA55 Main'!$J$17/31,0)))) -> 0 | V24: =IF(N24="YES",0,IF(OR(K24="Class IV",P24<5),0,IF(K24="State Service",ROUND('GA55 Main'!$J$18*2/31,0),ROUND('GA55 Main'!$J$18/31,0)))) -> 0 | W24: =IF(N24="YES",0,IF(OR(K24="Class IV",P24<5),0,IF(K24="State Service",ROUND('GA55 Main'!$J$19*2/28,0),ROUND('GA55 Main'!$J$19/28,0)))) -> 0 | X24: =SUM(Q24:W24) -> 0 | Z24: L-20 | AA24: 20
