{"text_format":"3","workbook":"xlsx","n_sheets":10,"sheets":["Page 1","Page 2","Page 3","Page 4","Page 5","Page 6","Page 7","Page 8","Page 9","Page 9 (1)"],"not_rendered":{"images":1,"defined_names":5},"read":"whole","date_system":"1900"}

{"sheet":"Page 1","index":0,"n_rows":34,"n_cols":21,"rows_kept":34,"merged":[[0,0,0,9],[1,0,1,9],[2,0,2,9],[3,0,3,9],[4,0,4,9],[5,0,5,9],[6,0,6,9],[7,7,9,9],[10,0,10,9],[11,0,11,1],[11,2,11,9],[11,14,11,16],[12,0,12,1],[12,2,12,9],[12,14,12,16],[13,0,13,1],[13,2,13,3],[13,4,13,6],[13,7,13,9],[14,0,14,2],[14,3,14,5],[15,0,15,1],[15,2,15,9],[16,1,16,2],[16,4,16,5],[16,6,16,7],[16,8,16,9],[17,1,17,2],[17,4,17,5],[17,6,17,7],[17,8,17,9],[18,1,18,2],[18,4,18,5],[18,8,18,9],[18,18,18,22],[19,6,19,7],[20,0,20,3],[20,4,20,6],[21,0,21,3],[21,4,21,6],[22,0,22,3],[22,4,22,6],[22,18,23,22],[23,0,23,3],[23,4,23,6],[24,0,24,3],[24,4,24,6],[25,1,25,3],[25,4,25,5],[25,6,25,8],[26,1,26,3],[26,4,26,5],[26,6,26,8],[28,0,28,9],[29,0,29,9],[30,0,30,9],[31,2,31,3],[31,6,31,7],[32,0,32,9],[33,2,33,3],[33,6,33,7]]}
["jktLFkku ljdkj"]
["funs'kky;] ek/;fed f'k{kk jktLFkku chdkusj"]
["¼lkaf[;dh vuqHkkx½"]
[" 'kkyk lead izi="]
["(School Stastitics Proforma)---(S.S.P.)"]
["o\"kZ 2020&2021"]
["¼lUnHkZ frfFk 30 flrEcj 2020½"]
[{"$nulls":7},"izi= dh iwfrZ dj  ft f'k-v- ¼ek-½ dk;kZy;  dks 20 vDVwcj rd vfuok;Zr% miyC/k djkosaA "]
[]
[]
["'kkyk ls lacaf/kr lkekU; fooj.k%&"]
["1-1 'kkyk dk uke ,oa irk%",{"$nulls":13},"t; xq:nso oklqnsok;% ue%"]
["1-2 'kkyk dh vkWfQl vkbZ-"]
["1-3 nwjHkk\"k uEcj dksM uEcj lfgr%",{"$nulls":3},"1-4 iz/kkukpk;Z dk eksckbZy u- % "]
["lwpuk rS;kj djus okys ds eksckbZy u-% "]
["1-5 'kkyk dk bZ&esy vkbZ-Mh-% "]
["1-6 ftyk%",null,null,"1-7 rglhy%",null,null,"1-8 iapk;r lfefr%"]
["1-9 xzke iapk;r%",null,null,"1-10 fo/kku lHkk%",null,null,"1-11 uxj ikfydk@ifj\"kn@fuxe% ",{"$nulls":13},"PROGRAMMER"]
["1-12 Mkd?kj%",null,null,"1-13 fiudksM%  ",null,null,"1-14 'kgj@xzke dh tula[;k% ",{"$nulls":11},"HEERA LAL JAT"]
[{"$nulls":6},"¼tux.kuk 2011 ds vuqlkj½",{"$nulls":13},"Sr. TEACHER AT M.G.G.S. Bar , PALI"]
["1-15 utnhdh ek/;fed fo|ky;ksa dh nwjh¼fd-eh½% ",{"$nulls":19},"V./P.- Chandawal Nagar, Sojat (Pali)"]
["1-16 utnhdh lhfu;j ek/;fed fo|ky; dh nwjh¼fd-eh-½% ",{"$nulls":19},"WHATS APP No.  9001884272"]
["1-17 futh lhfu;j ek/;fed fo|ky;ksa dh nwjh¼fd-eh-½%",{"$nulls":17},"heeralaljatchandawal@gmail.com"]
["1-18 futh ek/;fed fo|ky; dh nwjh¼fd-eh½%    "]
["1-19 'kkyk ØeksUur o\"kZ ¼jkT;kns'k Øekad lfgr½%     "]
["izkFkfed Lrj%&  ",{"$nulls":3},"mPp izkFkfed Lrj%& "]
["¼k½ ek/;fed Lrj%&                ",{"$nulls":3}," ¼kk½ m-ek- Lrj%& "]
[]
["1-  'kkyk Lrj] izcU/k ,oa ikB~;Øe ¼tks ykxw gks mls fpfàr djsa½     "]
["1-1 'kkyk Lrj"]
["¼v½ ek/;fed lg f'k{kk %&"]
["¼k½ d{kk 1 ls 10",null," ¼kk½ d{kk 06 ls 10 ",{"$nulls":3},"¼kkk½ d{kk 9 ls 10"]
["¼c½ ek/;fed Nk=k"]
["¼k½ d{kk 1 ls 10",null," ¼kk½ d{kk 06 ls 10 ",{"$nulls":3},"¼kkk½ d{kk 9 ls 10"]

{"sheet":"Page 2","index":1,"n_rows":27,"n_cols":8,"rows_kept":27,"merged":[[1,0,1,8],[2,2,2,3],[2,6,2,7],[3,0,3,8],[4,2,4,3],[4,6,4,7],[5,0,5,8],[6,1,6,2],[6,4,6,5],[7,1,7,2],[8,0,8,8],[10,5,10,6],[11,0,11,8],[15,0,15,7],[16,0,16,7],[18,1,18,2],[18,3,18,4],[18,5,18,7]]}
[]
["¼l½ lhfu;j ek/;fed lg f'k{kk"]
["¼k½ d{kk 1 ls 12",null," ¼kk½ d{kk 06 ls 12 ",{"$nulls":3},"¼kkk½ d{kk 9 ls 12"]
["                    ¼n½ lhfu;j ek/;fed Nk=k                      "]
["¼k½ d{kk 1 ls 12",null," ¼kk½ d{kk 06 ls 12 ",{"$nulls":3},"¼kkk½ d{kk 9 ls 12"]
["1-2 izcU/k"]
["¼v½jktdh; "]
["¼c½ xSj jktdh;"]
["1-3 ikB~;Øe ,oa lEc)rk"]
[]
["¼v½ vkj-ch-,l-bZ ",null,null,"¼c½ lh-ch-,l-bZ- "]
["ek/;fed f'k{kk cksMZ jktLFkku] vtesj ¼vkj-ch-,l-bZ-½"]
[]
[]
[]
["lkj.kh la[;k&1"]
["v/;kidksa dh la[;k"]
[]
[null,"izf'kf{kr",null,"vizf'kf{kr",null,";ksx"]
["fooj.k","iq:\"k","efgyk","iq:\"k","efgyk","iq:\"k","efgyk",";ksx"]
[1,2,3,4,5,6,7,8]
["1- vuq- tkfr",3,0,0,0,{"$f":"B22+D22","v":3},{"$f":"C22+E22","v":0},{"$f":"G22+F22","v":3}]
["2- vuq- tutkfr",0,0,0,0,{"$f":"B23+D23","v":0},0,{"$f":"G23+F23","v":0}]
["3- vks- ch- lh-",4,1,0,0,4,1,5]
["4- ,l-ch-lh-",0,0,0,0,0,0,0]
["5- lkekU;",2,0,0,0,2,0,2]
[";ksx",{"$f":"SUM(B22:B26)","v":9},{"$f":"SUM(C22:C26)","v":1},0,0,9,1,10]

{"sheet":"Page 3","index":2,"n_rows":35,"n_cols":14,"rows_kept":35,"merged":[[1,0,1,13],[2,0,2,13],[3,2,3,3],[3,4,3,5],[3,6,3,7],[3,8,3,9],[3,10,3,11],[3,12,3,13],[13,0,13,13],[14,0,16,0],[14,1,16,1],[14,2,15,3],[14,4,15,5],[14,6,15,7],[14,8,15,9],[14,10,15,11],[14,12,15,13],[22,0,22,13],[23,0,25,0],[23,1,25,1],[23,2,24,3],[23,4,24,5],[23,6,24,7],[23,8,24,9],[23,10,24,11],[23,12,24,13],[30,0,30,13],[31,0,33,0],[31,1,33,1],[31,2,32,3],[31,4,32,5],[31,6,32,7],[31,8,32,9],[31,10,32,11],[31,12,32,13]]}
[]
["lkj.kh&2 "]
["d{kkokj ukek adu rFkk lSD'ku la[;k 2-1    "]
["d{kk","[k.M","vuqlwfpr tkfr ",null,"vuqlwfpr tutkfr",null,"vkschlh",null,",lchlh",null,"lkekU;",null,"dqy ukekadu"]
[1,2,"Nk=    3","Nk=k    4","Nk=\n5","Nk=k \n6","Nk=\n7","Nk=k\n 8","Nk= \n9","Nk=k    10","Nk=     11","Nk=k \n12","Nk=","Nk="]
["iwoZ izkFkfed",null,0,0,0,0,0,0,0,0,0,0,{"$f":"C6+E6+G6+I6+K6","v":0},{"$f":"D6+F6+H6+J6+L6","v":0}]
["d{kk 01",null,3,5,0,0,8,8,0,0,2,0,{"$f":"C7+E7+G7+I7+K7","v":13},{"$f":"D7+F7+H7+J7+L7","v":13}]
["d{kk 02",null,8,10,0,0,5,3,0,0,1,2,14,15]
["d{kk 03",null,2,6,2,0,7,9,0,0,2,1,13,16]
["d{kk 04",null,5,5,0,0,9,8,0,0,0,2,14,15]
["d{kk 05",null,6,7,1,1,6,10,0,0,3,2,16,20]
[";ksx ",null,{"$f":"SUM(C6:C11)","v":24},{"$f":"SUM(D6:D11)","v":33},3,1,35,38,0,0,8,7,70,79]
[]
[2.2]
["d{kk","[k.M","vuqlwfpr tkfr ",null,"vuqlwfpr tutkfr",null,"vkschlh",null,",lchlh",null,"lkekU;",null,"dqy ukekadu"]
[]
[null,null,"Nk=","Nk=k","Nk=","Nk=k","Nk=","Nk=k","Nk=","Nk=k","Nk=","Nk=k","Nk=","Nk=k"]
["d{kk 06",null,3,3,0,0,6,9,2,2,0,2,{"$f":"C18+E18+G18+I18+K18","v":11},{"$f":"D18+F18+H18+J18+L18","v":16}]
["d{kk 07",null,6,6,1,1,10,8,0,0,1,2,{"$f":"C19+E19+G19+I19+K19","v":18},{"$f":"D19+F19+H19+J19+L19","v":17}]
["d{kk 08",null,5,6,0,0,11,12,2,1,1,0,19,19]
[";ksx ",null,{"$f":"SUM(C18:C20)","v":14},{"$f":"SUM(D18:D20)","v":15},1,1,27,29,4,3,2,4,48,52]
[]
[2.3]
["d{kk","[k.M","vuqlwfpr tkfr",null,"vuqlwfpr tutkfr ",null,"vkschlh",null,",lchlh",null,"lkekU;",null,"dqy ukekadu"]
[]
[null,null,"Nk=","Nk=k","Nk=","Nk=k","Nk=","Nk=k","Nk=","Nk=k","Nk=","Nk=k","Nk=","Nk=k"]
["d{kk 09",null,15,13,0,0,12,11,2,3,3,2,{"$f":"C27+E27+G27+I27+K27","v":32},{"$f":"D27+F27+H27+J27+L27","v":29}]
["d{kk 10",null,9,9,1,0,12,11,2,1,1,2,{"$f":"C28+E28+G28+I28+K28","v":25},{"$f":"D28+F28+H28+J28+L28","v":23}]
[";ksx ",null,{"$f":"SUM(C27:C28)","v":24},{"$f":"SUM(D27:D28)","v":22},1,0,24,22,4,4,4,4,57,52]
[]
["dqy d{kkokj ukekadu ¼egk;ksx½"]
["d{kk","[k.M","vuqlwfpr tkfr",null,"vuqlwfpr tutkfr ",null,"vkschlh",null,",lchlh",null,"lkekU;",null,"dqy ukekadu"]
[]
[null,null,"Nk=","Nk=k","Nk=","Nk=k","Nk=","Nk=k","Nk=","Nk=k","Nk=","Nk=k","Nk=","Nk=k"]
[";ksx ¼iwoZ izkFkfed ls d{kk 1 ls 10 rd½",null,{"$f":"C12+C21+C29","v":62},{"$f":"D12+D21+D29","v":70},5,2,86,89,8,7,14,15,175,183]

{"sheet":"Page 4","index":3,"n_rows":35,"n_cols":14,"rows_kept":35,"merged":[[0,0,0,13],[1,0,1,13],[2,0,4,0],[2,1,4,1],[2,2,3,3],[2,4,3,5],[2,6,3,7],[2,8,3,9],[2,10,3,11],[2,12,3,13],[11,0,11,13],[12,0,12,13],[13,0,15,0],[13,1,15,1],[13,2,14,3],[13,4,14,5],[13,6,14,7],[13,8,14,9],[13,10,14,11],[13,12,14,13],[22,0,22,13],[23,0,23,13],[24,0,26,0],[24,1,26,1],[24,2,25,3],[24,4,25,5],[24,6,25,7],[24,8,25,9],[24,10,25,11],[24,12,25,13],[29,0,29,13],[30,0,30,13],[31,0,33,0],[31,1,33,1],[31,2,32,3],[31,4,32,5],[31,6,32,7],[31,8,32,9],[31,10,32,11],[31,12,32,13]]}
["ladk;okj ukekadu&d{kk&11 "]
[2.5]
["d{kk","[k.M","vuqlwfpr tkfr ",null,"vuqlwfpr tutkfr ",null,"vkschlh",null,",lchlh",null,"lkekU;",null,"dqy ukekadu"]
[]
[null,null,"Nk=","Nk=k","Nk=","Nk=k","Nk=","Nk=k","Nk=","Nk=k","Nk=","Nk=k","Nk=","Nk=k"]
["dyk",null,2,2,1,0,5,9,0,0,0,0,{"$f":"C6+E6+G6+I6+K6","v":8},{"$f":"D6+F6+H6+J6+L6","v":11}]
["foKku",null,0,0,0,0,0,0,0,0,0,0,{"$f":"C7+E7+G7+I7+K7","v":0},0]
["okf.kT;",null,0,0,0,0,0,0,0,0,0,0,0,0]
["d`f\"k",null,0,0,0,0,0,0,0,0,0,0,{"$f":"C9+E9+G9+I9+K9","v":0},0]
[";ksx",null,{"$f":"SUM(C6:C9)","v":2},{"$f":"SUM(D6:D9)","v":2},1,0,5,9,0,0,0,0,8,11]
[]
["ladk;okj ukekadu&d{kk&12  "]
[2.6]
["d{kk","[k.M","vuqlwfpr tkfr",null,"vuqlwfpr tutkfr ",null,"vkschlh",null,",lchlh",null,"lkekU;",null,"dqy ukekadu"]
[]
[null,null,"Nk=","Nk=k","Nk=","Nk=k","Nk=","Nk=k","Nk=","Nk=k","Nk=","Nk=k","Nk=","Nk=k"]
["dyk",null,6,4,1,1,13,12,0,2,5,2,{"$f":"C17+E17+G17+I17+K17","v":25},{"$f":"D17+F17+H17+J17+L17","v":21}]
["foKku",null,0,0,0,0,0,0,0,0,0,0,{"$f":"C18+E18+G18+I18+K18","v":0},0]
["okf.kT;",null,0,0,0,0,0,0,0,0,0,0,0,0]
["d`f\"k",null,0,0,0,0,0,0,1,0,0,0,1,0]
[";ksx",null,{"$f":"SUM(C17:C20)","v":6},{"$f":"SUM(D17:D20)","v":4},1,1,13,12,1,2,5,2,26,21]
[]
["dqy d{kkokj ukekadu rFkk lSD'ku la[;k ¼d{kk 11 o 12½ \n"]
[2.7]
["d{kk","[k.M","vuqlwfpr tkfr",null,"vuqlwfpr tutkfr ",null,"vkschlh",null,",lchlh",null,"lkekU;",null,"dqy ukekadu"]
[]
[null,null,"Nk=","Nk=k","Nk=","Nk=k","Nk=","Nk=k","Nk=","Nk=k","Nk=","Nk=k","Nk=","Nk=k"]
[";ksx\nd{kk 11 o 12 ",null,{"$f":"SUM(C10+C21)","v":8},{"$f":"SUM(D10+D21)","v":6},2,1,18,21,1,2,5,2,34,32]
[]
["dqy d{kkokj ukekadu ¼egk;ksx½ \n"]
[2.8]
["d{kk","[k.M","vuqlwfpr tkfr",null,"vuqlwfpr tutkfr ",null,"vkschlh",null,",lchlh",null,"lkekU;",null,"dqy ukekadu"]
[]
[null,null,"Nk=","Nk=k","Nk=","Nk=k","Nk=","Nk=k","Nk=","Nk=k","Nk=","Nk=k","Nk=","Nk=k"]
[";ksx\nd{kk 1 o 12 ",null,{"$f":"SUM('Page 3'!C35+'Page 4'!C28)","v":70},{"$f":"SUM('Page 3'!D35+'Page 4'!D28)","v":76},{"$f":"SUM('Page 3'!E35+'Page 4'!E28)","v":7},{"$f":"SUM('Page 3'!F35+'Page 4'!F28)","v":3},{"$f":"SUM('Page 3'!G35+'Page 4'!G28)","v":104},{"$f":"SUM('Page 3'!H35+'Page 4'!H28)","v":110},{"$f":"SUM('Page 3'!I35+'Page 4'!I28)","v":9},{"$f":"SUM('Page 3'!J35+'Page 4'!J28)","v":9},{"$f":"SUM('Page 3'!K35+'Page 4'!K28)","v":19},{"$f":"SUM('Page 3'!L35+'Page 4'!L28)","v":17},{"$f":"SUM('Page 3'!M35+'Page 4'!M28)","v":209},{"$f":"SUM('Page 3'!N35+'Page 4'!N28)","v":215}]

{"sheet":"Page 5","index":4,"n_rows":57,"n_cols":10,"rows_kept":57,"merged":[[0,0,0,9],[1,0,1,9],[2,0,2,9],[4,0,4,8],[5,0,6,0],[5,1,5,3],[5,4,5,6],[5,7,5,9],[13,0,13,8],[14,1,14,3],[14,4,14,6],[14,7,14,9],[22,0,22,8],[23,1,23,3],[23,4,23,6],[23,7,23,9],[31,0,31,8],[32,1,32,3],[32,4,32,6],[32,7,32,9],[40,0,40,8],[41,1,41,3],[41,4,41,6],[41,7,41,9],[49,0,49,8],[50,1,50,3],[50,4,50,6],[50,7,50,9]]}
[{"$f":"'Page 9'!$A$1","v":""}]
["lkj.kh la[;k&3"]
["d{kkokj vYila[;dksa dk ukekadu ¼lkj.kh la0&2 esa lfEefyr esa ls ½ \n"]
[]
["¼1½ eqfLye fo|kfFkZ;ksa dk ukekadu"]
["d{kk","jktdh; ",null,null,"xSj jktdh;",null,null,";ksx"]
[null,"Nk=","Nk=k",";ksx","Nk=","Nk=k",";ksx","Nk=","Nk=k",";ksx"]
[1,2,3,4,5,6,7,8,9,10]
["iwoZ izkFkfed ls 5 oha rd",8,7,{"$f":"B9+C9","v":15},0,0,{"$f":"F9+E9","v":0},{"$f":"B9+E9","v":8},{"$f":"C9+F9","v":7},{"$f":"H9+I9","v":15}]
["6 ls 8",5,5,{"$f":"B10+C10","v":10},0,0,{"$f":"F10+E10","v":0},{"$f":"B10+E10","v":5},{"$f":"C10+F10","v":5},{"$f":"H10+I10","v":10}]
["9 ls 12",0,0,0,null,null,0,0,0,0]
[";ksx",{"$f":"B9+B10+B11","v":13},{"$f":"C9+C10+C11","v":12},25,0,0,0,13,12,25]
[]
["¼2½ tSu fo|kfFkZ;ksa dk ukekadu"]
["d{kk","jktdh; ",null,null,"xSj jktdh;",null,null,";ksx"]
[null,"Nk=","Nk=k",";ksx","Nk=","Nk=k",";ksx","Nk=","Nk=k",";ksx"]
[1,2,3,4,5,6,7,8,9,10]
["iwoZ izkFkfed ls 5 oha rd",0,0,{"$f":"B18+C18","v":0},0,0,{"$f":"F18+E18","v":0},{"$f":"B18+E18","v":0},{"$f":"C18+F18","v":0},{"$f":"H18+I18","v":0}]
["6 ls 8",0,0,{"$f":"B19+C19","v":0},0,0,{"$f":"F19+E19","v":0},{"$f":"B19+E19","v":0},{"$f":"C19+F19","v":0},{"$f":"H19+I19","v":0}]
["9 ls 12",0,0,0,0,0,0,0,0,0]
[";ksx",{"$f":"B18+B19+B20","v":0},{"$f":"C18+C19+C20","v":0},{"$f":"D18+D19+D20","v":0},{"$f":"E18+E19+E20","v":0},{"$f":"F18+F19+F20","v":0},{"$f":"G18+G19+G20","v":0},{"$f":"H18+H19+H20","v":0},{"$f":"I18+I19+I20","v":0},{"$f":"J18+J19+J20","v":0}]
[]
["¼3½ ikjlh fo|kfFkZ;ksa dk ukekadu"]
["d{kk","jktdh; ",null,null,"xSj jktdh;",null,null,";ksx"]
[null,"Nk=","Nk=k",";ksx","Nk=","Nk=k",";ksx","Nk=","Nk=k",";ksx"]
[1,2,3,4,5,6,7,8,9,10]
["iwoZ izkFkfed ls 5 oha rd",0,0,{"$f":"B27+C27","v":0},0,0,{"$f":"F27+E27","v":0},{"$f":"B27+E27","v":0},{"$f":"C27+F27","v":0},{"$f":"H27+I27","v":0}]
["6 ls 8",0,0,{"$f":"B28+C28","v":0},0,0,{"$f":"F28+E28","v":0},{"$f":"B28+E28","v":0},{"$f":"C28+F28","v":0},{"$f":"H28+I28","v":0}]
["9 ls 12",0,0,0,0,0,0,0,0,0]
[";ksx",{"$f":"B27+B28+B29","v":0},{"$f":"C27+C28+C29","v":0},{"$f":"D27+D28+D29","v":0},{"$f":"E27+E28+E29","v":0},{"$f":"F27+F28+F29","v":0},{"$f":"G27+G28+G29","v":0},{"$f":"H27+H28+H29","v":0},{"$f":"I27+I28+I29","v":0},{"$f":"J27+J28+J29","v":0}]
[]
["¼4½ ckS) fo|kfFkZ;ksa dk ukekadu"]
["d{kk","jktdh; ",null,null,"xSj jktdh;",null,null,";ksx"]
[null,"Nk=","Nk=k",";ksx","Nk=","Nk=k",";ksx","Nk=","Nk=k",";ksx"]
[1,2,3,4,5,6,7,8,9,10]
["iwoZ izkFkfed ls 5 oha rd",0,0,{"$f":"B36+C36","v":0},0,0,{"$f":"F36+E36","v":0},{"$f":"B36+E36","v":0},{"$f":"C36+F36","v":0},{"$f":"H36+I36","v":0}]
["6 ls 8",0,0,{"$f":"B37+C37","v":0},0,0,{"$f":"F37+E37","v":0},{"$f":"B37+E37","v":0},{"$f":"C37+F37","v":0},{"$f":"H37+I37","v":0}]
["9 ls 12",0,0,0,0,0,0,0,0,0]
[";ksx",{"$f":"B36+B37+B38","v":0},{"$f":"C36+C37+C38","v":0},{"$f":"D36+D37+D38","v":0},{"$f":"E36+E37+E38","v":0},{"$f":"F36+F37+F38","v":0},{"$f":"G36+G37+G38","v":0},{"$f":"H36+H37+H38","v":0},{"$f":"I36+I37+I38","v":0},{"$f":"J36+J37+J38","v":0}]
[]
["¼5½ bZlkbZ fo|kfFkZ;ksa dk ukekadu"]
["d{kk","jktdh; ",null,null,"xSj jktdh;",null,null,";ksx"]
[null,"Nk=","Nk=k",";ksx","Nk=","Nk=k",";ksx","Nk=","Nk=k",";ksx"]
[1,2,3,4,5,6,7,8,9,10]
["iwoZ izkFkfed ls 5 oha rd",0,0,{"$f":"B45+C45","v":0},0,0,{"$f":"F45+E45","v":0},{"$f":"B45+E45","v":0},{"$f":"C45+F45","v":0},{"$f":"H45+I45","v":0}]
["6 ls 8",0,0,{"$f":"B46+C46","v":0},0,0,{"$f":"F46+E46","v":0},{"$f":"B46+E46","v":0},{"$f":"C46+F46","v":0},{"$f":"H46+I46","v":0}]
["9 ls 12",0,0,0,0,0,0,0,0,0]
[";ksx",{"$f":"B45+B46+B47","v":0},{"$f":"C45+C46+C47","v":0},{"$f":"D45+D46+D47","v":0},{"$f":"E45+E46+E47","v":0},{"$f":"F45+F46+F47","v":0},{"$f":"G45+G46+G47","v":0},{"$f":"H45+H46+H47","v":0},{"$f":"I45+I46+I47","v":0},{"$f":"J45+J46+J47","v":0}]
[]
["¼6½ flD[k fo|kfFkZ;ksa dk ukekadu"]
["d{kk","jktdh; ",null,null,"xSj jktdh;",null,null,";ksx"]
[null,"Nk=","Nk=k",";ksx","Nk=","Nk=k",";ksx","Nk=","Nk=k",";ksx"]
[1,2,3,4,5,6,7,8,9,10]
["iwoZ izkFkfed ls 5 oha rd",0,0,{"$f":"B54+C54","v":0},0,0,{"$f":"F54+E54","v":0},{"$f":"B54+E54","v":0},{"$f":"C54+F54","v":0},{"$f":"H54+I54","v":0}]
["6 ls 8",0,0,{"$f":"B55+C55","v":0},0,0,{"$f":"F55+E55","v":0},{"$f":"B55+E55","v":0},{"$f":"C55+F55","v":0},{"$f":"H55+I55","v":0}]
["9 ls 12",0,0,0,0,0,0,0,0,0]
[";ksx",{"$f":"B54+B55+B56","v":0},{"$f":"C54+C55+C56","v":0},{"$f":"D54+D55+D56","v":0},{"$f":"E54+E55+E56","v":0},{"$f":"F54+F55+F56","v":0},{"$f":"G54+G55+G56","v":0},{"$f":"H54+H55+H56","v":0},{"$f":"I54+I55+I56","v":0},{"$f":"J54+J55+J56","v":0}]

{"sheet":"Page 6","index":5,"n_rows":33,"n_cols":14,"rows_kept":33,"merged":[[0,0,0,13],[1,0,1,13],[2,0,2,13],[3,1,3,11],[4,0,5,0],[4,1,4,4],[4,5,4,8],[4,9,4,12],[5,1,5,2],[5,3,5,4],[5,5,5,6],[5,7,5,8],[5,9,5,10],[5,11,5,12],[6,1,6,2],[6,3,6,4],[6,5,6,6],[6,7,6,8],[6,9,6,10],[6,11,6,12],[7,1,7,2],[7,3,7,4],[7,5,7,6],[7,7,7,8],[7,9,7,10],[7,11,7,12],[8,1,8,2],[8,3,8,4],[8,5,8,6],[8,7,8,8],[8,9,8,10],[8,11,8,12],[9,1,9,2],[9,3,9,4],[9,5,9,6],[9,7,9,8],[9,9,9,10],[9,11,9,12],[10,1,10,2],[10,3,10,4],[10,5,10,6],[10,7,10,8],[10,9,10,10],[10,11,10,12],[11,1,11,2],[11,3,11,4],[11,5,11,6],[11,7,11,8],[11,9,11,10],[11,11,11,12],[13,0,13,13],[14,0,14,13],[15,0,15,13],[16,0,18,0],[16,1,17,2],[16,3,17,4],[16,5,17,6],[16,7,17,8],[16,9,17,10],[16,11,17,13]]}
[{"$f":"'Page 5'!$A$1","v":""}]
["r`rh; Hkk\"kk ysus okys fo|kfFkZ;ksa dk ukekadu"]
["lkj.kh la[;k&4"]
[null,"¼lkj.kh 2 esa lfEeyfr esa ls½"]
["Hkk\"kk","d{kk 9",{"$nulls":3},"d{kk 10",{"$nulls":3},"egk;ksx"]
[null,"Nk=",null,"Nk=k",null,"Nk=","Nk=k","Nk=","Nk=k","Nk=","Nk=k","Nk=","Nk=k","   ;ksx"]
["laLd`r",10,null,14,null,10,12,14,17,9,7,{"$f":"B7+D7+F7+H7+J7","v":57},{"$f":"C7+E7+G7+I7+K7","v":36},{"$f":"J7+L7","v":66}]
["mnwZ",10,null,14,null,2,3,1,2,1,1,{"$f":"B8+D8+F8+H8+J8","v":28},{"$f":"C8+E8+G8+I8+K8","v":6},{"$f":"J8+L8","v":29}]
["fla/kh",10,null,14,null,0,0,0,0,0,0,24,0,24]
["iatkch",10,null,14,null,0,0,0,0,0,0,24,0,24]
["xqtjkrh",10,null,14,null,0,0,0,0,0,0,24,0,24]
[";ksx",{"$f":"SUM(B7:C11)","v":50},null,{"$f":"SUM(D7:E11)","v":70},null,{"$f":"SUM(F7:G11)","v":27},null,{"$f":"SUM(H7:I11)","v":34},null,{"$f":"SUM(J7:K11)","v":18},null,{"$f":"SUM(L7:M11)","v":199},null,217]
[]
["lkj.kh la[;k&5"]
["lkekU; f'k{kk ds fy, fo|ky;ksa esa v/;;ujr~ fnO;kax cPpksa dh la[;k"]
["¼lkj.kh&2 esa lfEeyfr esa ls½"]
["d{kk","n`f\"V fnO;kax",null,"Jo.k fnO;kax",null,"vfLFk fnO;kax",null,"ekufld fnO;kax",null,"vU; fnO;kax",null,"egk;ksx"]
[]
[null,"Nk=","Nk=k","Nk=","Nk=k","Nk=","Nk=k","Nk=","Nk=k","Nk=","Nk=k","Nk=","Nk=k","   ;ksx"]
["iwoZ izkFkfed",0,0,0,0,0,0,0,0,0,0,{"$f":"B20+D20+F20+H20+J20","v":0},{"$f":"C20+E20+G20+I20+K20","v":0},{"$f":"L20+M20","v":0}]
["d{kk 01",0,0,0,0,0,0,0,0,0,0,{"$f":"B21+D21+F21+H21+J21","v":0},{"$f":"C21+E21+G21+I21+K21","v":0},{"$f":"L21+M21","v":0}]
["d{kk 02",0,1,0,0,0,0,1,0,0,0,1,1,2]
["d{kk 03",0,0,0,0,0,0,0,0,0,0,0,0,0]
["d{kk 04",0,0,1,0,0,0,0,0,0,0,1,0,1]
["d{kk 05",0,0,0,0,0,0,0,0,0,0,0,0,0]
["d{kk 06",0,0,0,0,1,0,0,0,0,0,1,0,1]
["d{kk 07",0,0,0,0,0,0,0,0,0,0,0,0,0]
["d{kk 08",0,0,0,0,0,0,0,0,0,0,0,0,0]
["d{kk 09",0,0,0,0,0,0,0,0,0,0,0,0,0]
["d{kk 10",0,0,2,0,0,0,0,0,0,0,2,0,2]
["d{kk 11",0,0,0,0,0,0,0,0,0,0,0,0,0]
["d{kk 12",0,0,0,0,0,0,0,0,0,0,0,0,0]
[";ksx",{"$f":"SUM(B20:B32)","v":0},{"$f":"SUM(C20:C32)","v":1},3,0,1,0,1,0,0,0,5,1,6]

{"sheet":"Page 7","index":6,"n_rows":31,"n_cols":4,"rows_kept":31,"merged":[[0,0,0,3],[1,0,1,3],[2,0,2,3],[4,0,5,0],[4,1,4,3],[16,0,16,3],[18,1,18,3]]}
[]
["lkj.kh la[;k& 6 \n"]
["v½ egkRek xkW/kh vaxzsth ek/;e jktdh; fo|ky;ksa esa ukekadu%&"]
[]
["d{kk","ukekadu"]
[null,"Nk=","Nk=k",";ksx"]
["d{kk 01",0,0,{"$f":"SUM(B7:C7)","v":0}]
["d{kk 02",0,0,{"$f":"SUM(B8:C8)","v":0}]
["d{kk 03",0,0,0]
["d{kk 04",0,0,0]
["d{kk 05",null,null,0]
["d{kk 06",null,null,0]
["d{kk 07",null,null,0]
["d{kk 08",1,0,1]
[";ksx",{"$f":"SUM(B7:B14)","v":1},{"$f":"SUM(C7:C14)","v":0},1]
[]
["¼c½ egkRek xkW/kh vaxzsth ek/;e jktdh; fo|ky;ksa esa v/;kid%&"]
[]
[null,"v/;kid dh la[;k "]
["in","iq:\"k","efgyk",";ksx"]
["iz/kkukpk;Z¼m-ek-½",0,1,{"$f":"SUM(B21:C21)","v":1}]
["ofj\"B v/;kid ¼xzsM&kk½",6,0,{"$f":"SUM(B22:C22)","v":6}]
["v/;kid ysoy&1 ,oa 2 ",6,1,7]
["dEI;wVj f'k{kd",1,0,1]
["ikVhvkbZ",0,1,1]
["ofj\"B lgk;d ¼xzsM&kk½",1,0,1]
["dfu\"B lgk;d ¼xzsM&kkk½",1,0,1]
["iqLrdky;k/;{k&kkk",1,0,1]
["iz;ksx'kkyk lgk;d",1,0,1]
["p-Js-d-",0,0,0]
[";ksx",{"$f":"SUM(B21:B30)","v":17},{"$f":"SUM(C21:C30)","v":3},20]

{"sheet":"Page 8","index":7,"n_rows":20,"n_cols":10,"rows_kept":20,"merged":[[0,0,0,9],[1,0,1,9],[2,0,2,9],[4,0,5,0],[4,1,4,3],[4,4,4,6],[4,7,4,9],[12,7,13,9],[14,8,14,9],[16,0,16,9],[18,0,18,3],[19,0,20,6]]}
[]
["lkj.kh la[;k&7"]
["fo|ky;ksa esa iqu% izos'kh fo|kfFkZ;ksa dh la[;k ¼o\"kZ 2020&21½ "]
[]
["d{kk","leLr tkfr",null,null,"vuqlwfpr tkfr              ¼leLr esa ls½       ",null,null,"vuqlwfpr tutkfr              ¼leLr esa ls½"]
[null,"Nk=","Nk=k",";ksx","Nk=","Nk=k",";ksx","Nk=","Nk=k",";ksx"]
["d{kk&9",12,15,{"$f":"B7+C7","v":27},5,3,{"$f":"E7+F7","v":8},2,0,{"$f":"H7+I7","v":2}]
["d{kk&10",13,8,{"$f":"B8+C8","v":21},3,2,{"$f":"E8+F8","v":5},2,1,{"$f":"H8+I8","v":3}]
["d{kk&11",10,8,{"$f":"B9+C9","v":18},5,2,7,0,1,1]
["d{kk&12",0,0,{"$f":"B10+C10","v":0},0,0,0,0,0,0]
[";ksx ¼d{kk 9 ls 12½",{"$f":"SUM(B7:B10)","v":35},{"$f":"SUM(C7:C10)","v":31},66,13,7,20,4,2,6]
[]
[{"$nulls":7},"laLFkk iz/kku dk uke] gLrk{kj e; lhy"]
[]
[{"$nulls":7},"fnukad%&",{"$f":"TODAY()","v":"2020-10-14"}]
[]
["izekf.kr fd;k tkrk gS fd mDr lwpuk iw.kZ :is.k fo|ky; fjdkMZ ls feyku dj gh rS;kj dh xbZ"]
[]
["gLrk{kj rS;kjdrkZ"]
["uksV%& tks lwpuk,sa 'kkyk niZ.k iksVZy ,oa ih-,l-ih- iksVZy ij miyC/k gSa] os lwpuk,sa \niksVZy ls gh 30 flrEcj dh vk/kkj frfFk dks yh tkosaA"]

{"sheet":"Page 9","index":8,"n_rows":36,"n_cols":8,"rows_kept":36,"merged":[[0,0,0,7],[3,0,3,7],[4,0,4,7],[6,1,6,2],[6,3,6,4],[6,5,6,7],[20,0,20,7],[21,0,21,7],[22,0,22,2],[23,0,23,2],[24,0,24,2],[25,0,25,2],[26,0,26,2],[27,0,27,2],[28,0,28,2],[29,0,29,2],[30,0,30,2],[31,0,31,2],[32,0,32,2],[33,0,33,2],[34,0,34,2],[35,0,35,2]]}
[{"$f":"IF(AND('Page 1'!C12=\"\"),\"\",'Page 1'!C12)","v":""}]
[]
[]
["lkj.kh la[;k&1"]
["v/;kidksa dh la[;k"]
[]
[null,"izf'kf{kr",null,"vizf'kf{kr",null,";ksx"]
["fooj.k","iq:\"k","efgyk","iq:\"k","efgyk","iq:\"k","efgyk",";ksx"]
[1,2,3,4,5,6,7,8]
["1- vuq- tkfr",3,0,0,0,{"$f":"B10+D10","v":3},{"$f":"C10+E10","v":0},{"$f":"G10+F10","v":3}]
["2- vuq- tutkfr",0,0,0,0,{"$f":"B11+D11","v":0},{"$f":"C11+E11","v":0},{"$f":"G11+F11","v":0}]
["3- vks- ch- lh-",4,1,0,0,4,1,5]
["4- ,l-ch-lh-",0,0,0,0,0,0,0]
["5- lkekU;",2,0,0,0,2,0,2]
[";ksx",{"$f":"SUM(B10:B14)","v":9},{"$f":"SUM(C10:C14)","v":1},0,0,9,1,10]
[]
[]
[]
[]
[]
["lkj.kh la[;k&2"]
["inokj v/;kidksa dk oxhZdj.k"]
["in",null,null,"iq:\"k","efgyk",";ksx"]
["iz/kkukpk;Z¼m-ek-½",null,null,1,0,{"$f":"E24+D24","v":1}]
["iz/kkuk/;kid ¼ek/;fed½",null,null,0,0,{"$f":"E25+D25","v":0}]
["O;k[;krk ¼Ldwy f’k{kk½ ",{"$nulls":4},0]
["O;k[;krk ¼Ldwy f'k{kk½ dyk",null,null,2,0,2]
["O;k[;krk ¼Ldwy f'k{kk½ foKku",null,null,0,0,0]
["O;k[;krk ¼Ldwy f'k{kk½ okf.kT;",null,null,0,0,0]
["O;k[;krk ¼Ldwy f'k{kk½ d`f\"k",null,null,0,0,{"$f":"E30+D30","v":0}]
["ofj\"B v/;kid ¼xzsM&kk½",null,null,3,1,4]
["v/;kid ysoy&1 ,oa 2 ",null,null,5,0,5]
[" 'kkjhfjd f'k{kd ¼xzsM&k½",null,null,0,0,0]
[" 'kkjhfjd f'k{kd ¼xzsM&kk½",null,null,0,0,0]
[" 'kkjhfjd f'k{kd ¼xzsM&kkk½",null,null,1,0,1]
[";ksx",null,null,{"$f":"SUM(D24:D35)","v":12},{"$f":"SUM(E24:E35)","v":1},13]

{"sheet":"Page 9 (1)","index":9,"n_rows":26,"n_cols":4,"rows_kept":26,"merged":[[0,0,0,3],[1,0,1,3],[2,0,2,3],[4,2,4,3],[17,0,17,3],[18,2,18,3]]}
[{"$f":"'Page 9'!$A$1","v":""}]
["lkj.kh&3 vU; deZpkjh"]
["¼ea=kfy;d deZpkjh½ ¼v½"]
[]
[null,null,"dk;Zjr"]
["in","Lohd`r","iq:\"k","efgyk"]
["lgk;d dk;kZy; v/kh{kd",0,0,0]
["fyfid xzsM k",0,0,0]
["fyfid xzsM kk",0,0,0]
["teknkj",0,0,0]
["lgk;d deZpkjh",1,0,1]
[";ksx",{"$f":"SUM(B7:B11)","v":1},{"$f":"SUM(C7:C11)","v":0},1]
[]
[]
[]
[]
[]
["xSj 'kS{kf.kd deZpkjh ¼c½"]
[null,null,"dk;Zjr"]
["in","Lohd`r","iq:\"k","efgyk"]
["iqLrdky;k/;{k&k",0,0,0]
["iqLrdky;k/;{k&kk",0,0,0]
["iqLrdky;k/;{k&kkk",0,0,0]
["iz;ksx'kkyk lgk;d",0,0,0]
["iz;ksx'kkyk ckyd",0,0,0]
[";ksx",{"$f":"SUM(B21:B25)","v":0},{"$f":"SUM(C21:C25)","v":0},{"$f":"SUM(D21:D25)","v":0}]