Workbook
Name Classes: 'School Intro'!$E$5:$E$25
Name deposit_by_month: Deposit!$B$3:$V$4
Name deposit_data: Table4[[#All],[SR.No.]:[Balance]]
Name Mediums_in_School: 'School Intro'!$C$5:$C$11
Name Months_name: Table4[[#Headers],[Jan]:[Dec]]
Name Scholar_type: 'School Intro'!#REF!
Name SR_No.: Table5[[#All],[SR.No.]]
Name Streams_in_school: Table1[[#All],[Streams in school]]
Name students_data: [1]!Table1[[#All],[Scholar No.]:[Date of Admission]]
Name total_fee: Sheet1!$A$1:$E$60

Sheet Instruction
A1: Hello Sirs and Madams,
A2: एक बार फिर से आपकी सेवा में हाजिर हु एक नया प्रोग्राम लेकर -------------
A3: Automated Fee Management
A4: For Private Schools
A5: For More Detail click on SUBSCRIBE Button below
F6: Ashwini Kumar ExcelProgrammeMaker
A13: Very easy process you can make it only in some minutes by copy and paste
A15: How to use it
A16: ☺सबसे पहले आप अपने School Intro वाली Sheet में अपने विद्यालय का नाम संचालित संकाय तथा माध्यम भरे |
A17: ☺इसके बाद आप Fee Chart वाली Sheet में आपके विद्यालय की फीस एंट्री करे |
A18: ☺इसके बाद आप अपने PSP/RTE पोर्टल को लॉग इन करे | तथा विद्यार्थी tab में जाकर विद्यार्थी का डाटा copy करके Paste RTE Data वाली Sheet में colom wise paste कर देवे |
A19: ☺फिर Deposit वाली Sheet में monthwise फ़ीस की एंट्री करे |
A21: Now it is ready to PRINT RECEIPT
A22: You can print both by month receipt and by total month receipt
A24: प्रिंट करने के लिए आप Receipt में विद्यार्थी के एस आर नंबर लिखे या ड्राप डाउन लिस्ट में से चुने और प्रिंट देवे |
A25: Receipt by month के लिए एस आर नंबर के साथ month भी लिखे या ड्राप डाउन लिस्ट में से चुने और प्रिंट देवे |
A27: For more like this You can Contact
A28: Ashwini Kumar Kuchaman City (Nagaur) Rajasthan
A29: Senior Teacher, GSSS Rooppura (K.City)
A34: +91 9166023711 | G34: sspkctakumar@gmail.com

Sheet School Intro
A1: GOVERNMENT SENIOR SECONDARY SCHOOL, ROOPPURA (KUCHAMAN CITY)
A4: Streams in school | C4: Mediums in School | E4: Classes | F4: Icon | G4: Stream
A5: Arts | C5: Hindi | E5: Prep.
A6: Commerce | C6: English | E6: LKG
A7: Agriculture | E7: UKG
A8: Science | E8: First | F8: 1st
E9: Second | F9: 2nd
E10: Third | F10: 3rd
E11: Fourth | F11: 4th
E12: Fifth | F12: 5th
E13: Sixth | F13: 6th
E14: Seventh | F14: 7th
E15: Eigth | F15: 8th
E16: Ninth | F16: 9th
E17: Tenth | F17: 10th
E18: Eleventh | F18: 11th | G18: Arts
E19: Eleventh | F19: 11th | G19: Commerce
E20: Eleventh | F20: 11th | G20: Agriculture
E21: Eleventh | F21: 11th | G21: Science
E22: Twelth | F22: 12th | G22: Arts
E23: Twelth | F23: 12th | G23: Commerce
E24: Twelth | F24: 12th | G24: Agriculture
E25: Twelth | F25: 12th | G25: Science

Sheet Fee Chart
A1: Fee Chart
A2: S.No. | B2: Class | C2: Stream | D2: Midium | E2: Admission Fees | F2: Tution Fees | G2: Transportion Fees | H2: Hostel Fees | I2: Other Charges1 | J2: Other Charges2 | K2: Other Charges3 | L2: Other Charges4 | M2: Total Fees
A3: 1 | B3: Prep. | D3: Hindi | E3: 1000 | F3: 5000 | G3: 3000 | H3: 0 | I3: 0 | J3: 0 | K3: 0 | L3: 0 | M3: =IF(SUM(E3:L3)=0,"",SUM(E3:L3)) -> 9000
A4: 2 | B4: Prep. | D4: English | E4: 1000 | F4: 6000 | G4: 3000 | H4: 0 | I4: 0 | J4: 0 | K4: 0 | L4: 0 | M4: =IF(SUM(E4:L4)=0,"",SUM(E4:L4)) -> 10000
A5: 3 | B5: LKG | D5: Hindi | E5: 1000 | F5: 5000 | G5: 3000 | H5: 0 | I5: 0 | J5: 0 | K5: 0 | L5: 0 | M5: =IF(SUM(E5:L5)=0,"",SUM(E5:L5)) -> 9000
A6: 4 | B6: LKG | D6: English | E6: 1000 | F6: 6000 | G6: 3000 | H6: 0 | I6: 0 | J6: 0 | K6: 0 | L6: 0 | M6: =IF(SUM(E6:L6)=0,"",SUM(E6:L6)) -> 10000
A7: 5 | B7: UKG | D7: Hindi | E7: 1000 | F7: 5000 | G7: 3000 | H7: 0 | I7: 0 | J7: 0 | K7: 0 | L7: 0 | M7: =IF(SUM(E7:L7)=0,"",SUM(E7:L7)) -> 9000
A8: 6 | B8: UKG | D8: English | E8: 1000 | F8: 6000 | G8: 3000 | H8: 0 | I8: 0 | J8: 0 | K8: 0 | L8: 0 | M8: =IF(SUM(E8:L8)=0,"",SUM(E8:L8)) -> 10000
A9: 7 | B9: First | D9: Hindi | E9: 1000 | F9: 6000 | G9: 3000 | H9: 0 | I9: 0 | J9: 0 | K9: 0 | L9: 0 | M9: =IF(SUM(E9:L9)=0,"",SUM(E9:L9)) -> 10000
A10: 8 | B10: First | D10: English | E10: 1000 | F10: 7000 | G10: 3000 | H10: 0 | I10: 0 | J10: 0 | K10: 0 | L10: 0 | M10: =IF(SUM(E10:L10)=0,"",SUM(E10:L10)) -> 11000
A11: 9 | B11: Second | D11: Hindi | E11: 1000 | F11: 6000 | G11: 3000 | H11: 0 | I11: 0 | J11: 0 | K11: 0 | L11: 0 | M11: =IF(SUM(E11:L11)=0,"",SUM(E11:L11)) -> 10000
A12: 10 | B12: Second | D12: English | E12: 1000 | F12: 7000 | G12: 3000 | H12: 0 | I12: 0 | J12: 0 | K12: 0 | L12: 0 | M12: =IF(SUM(E12:L12)=0,"",SUM(E12:L12)) -> 11000
A13: 11 | B13: Third | D13: Hindi | E13: 1000 | F13: 6000 | G13: 3000 | H13: 0 | I13: 0 | J13: 0 | K13: 0 | L13: 0 | M13: =IF(SUM(E13:L13)=0,"",SUM(E13:L13)) -> 10000
A14: 12 | B14: Third | D14: English | E14: 1000 | F14: 7000 | G14: 3000 | H14: 0 | I14: 0 | J14: 0 | K14: 0 | L14: 0 | M14: =IF(SUM(E14:L14)=0,"",SUM(E14:L14)) -> 11000
... A28: 26 | B28: Tenth | D28: English | E28: 1000 | F28: 10000 | G28: 3000 | H28: 5000 | I28: 0 | J28: 0 | K28: 0 | L28: 0 | M28: =IF(SUM(E28:L28)=0,"",SUM(E28:L28)) -> 19000
A29: 27 | B29: Eleventh | C29: Arts | D29: Hindi | E29: 1000 | F29: 11000 | G29: 4000 | H29: 5000 | I29: 0 | J29: 0 | K29: 0 | L29: 0 | M29: =IF(SUM(E29:L29)=0,"",SUM(E29:L29)) -> 21000
A30: 28 | B30: Eleventh | C30: Commerce | D30: Hindi | E30: 1000 | F30: 10000 | G30: 4000 | H30: 5000 | I30: 0 | J30: 0 | K30: 0 | L30: 0 | M30: =IF(SUM(E30:L30)=0,"",SUM(E30:L30)) -> 20000
A31: 29 | B31: Eleventh | C31: Agriculture | D31: Hindi | E31: 1000 | F31: 12000 | G31: 4000 | H31: 5000 | I31: 0 | J31: 0 | K31: 0 | L31: 0 | M31: =IF(SUM(E31:L31)=0,"",SUM(E31:L31)) -> 22000
A32: 30 | B32: Eleventh | C32: Science | D32: Hindi | E32: 1000 | F32: 12000 | G32: 4000 | H32: 5000 | I32: 0 | J32: 0 | K32: 0 | L32: 0 | M32: =IF(SUM(E32:L32)=0,"",SUM(E32:L32)) -> 22000
A33: 31 | B33: Eleventh | C33: Arts | D33: English | E33: 1000 | F33: 12000 | G33: 4000 | H33: 5000 | I33: 0 | J33: 0 | K33: 0 | L33: 0 | M33: =IF(SUM(E33:L33)=0,"",SUM(E33:L33)) -> 22000
A34: 32 | B34: Eleventh | C34: Commerce | D34: English | E34: 1000 | F34: 11000 | G34: 4000 | H34: 5000 | I34: 0 | J34: 0 | K34: 0 | L34: 0 | M34: =IF(SUM(E34:L34)=0,"",SUM(E34:L34)) -> 21000
A35: 33 | B35: Eleventh | C35: Agriculture | D35: English | E35: 1000 | F35: 13000 | G35: 4000 | H35: 5000 | I35: 0 | J35: 0 | K35: 0 | L35: 0 | M35: =IF(SUM(E35:L35)=0,"",SUM(E35:L35)) -> 23000
A36: 34 | B36: Eleventh | C36: Science | D36: English | E36: 1000 | F36: 13000 | G36: 4000 | H36: 5000 | I36: 0 | J36: 0 | K36: 0 | L36: 0 | M36: =IF(SUM(E36:L36)=0,"",SUM(E36:L36)) -> 23000
A37: 35 | B37: Twelth | C37: Arts | D37: Hindi | E37: 1000 | F37: 11000 | G37: 4000 | H37: 5000 | I37: 0 | J37: 0 | K37: 0 | L37: 0 | M37: =IF(SUM(E37:L37)=0,"",SUM(E37:L37)) -> 21000
A38: 36 | B38: Twelth | C38: Commerce | D38: Hindi | E38: 1000 | F38: 10000 | G38: 4000 | H38: 5000 | I38: 0 | J38: 0 | K38: 0 | L38: 0 | M38: =IF(SUM(E38:L38)=0,"",SUM(E38:L38)) -> 20000
A39: 37 | B39: Twelth | C39: Agriculture | D39: Hindi | E39: 1000 | F39: 12000 | G39: 4000 | H39: 5000 | I39: 0 | J39: 0 | K39: 0 | L39: 0 | M39: =IF(SUM(E39:L39)=0,"",SUM(E39:L39)) -> 22000
A40: 38 | B40: Twelth | C40: Science | D40: Hindi | E40: 1000 | F40: 12000 | G40: 4000 | H40: 5000 | I40: 0 | J40: 0 | K40: 0 | L40: 0 | M40: =IF(SUM(E40:L40)=0,"",SUM(E40:L40)) -> 22000
... A44: 42 | B44: Twelth | C44: Science | D44: English | E44: 1000 | F44: 13000 | G44: 4000 | H44: 5000 | I44: 0 | J44: 0 | K44: 0 | L44: 0 | M44: =IF(SUM(E44:L44)=0,"",SUM(E44:L44)) -> 23000
A45: 43 | M45: =IF(SUM(E45:L45)=0,"",SUM(E45:L45))
A46: 44 | M46: =IF(SUM(E46:L46)=0,"",SUM(E46:L46))
A47: 45 | M47: =IF(SUM(E47:L47)=0,"",SUM(E47:L47))
A48: 46 | M48: =IF(SUM(E48:L48)=0,"",SUM(E48:L48))

Sheet Sheet1
A1: =B1&"_"&C1&"_"&D1 -> Prep.__Hindi | B1: ='Fee Chart'!B3 -> Prep. | C1: =IF('Fee Chart'!C3=0,"",'Fee Chart'!C3) | D1: ='Fee Chart'!D3 -> Hindi | E1: ='Fee Chart'!M3 -> 9000
A2: =B2&"_"&C2&"_"&D2 -> Prep.__English | B2: ='Fee Chart'!B4 -> Prep. | C2: =IF('Fee Chart'!C4=0,"",'Fee Chart'!C4) | D2: ='Fee Chart'!D4 -> English | E2: ='Fee Chart'!M4 -> 10000
A3: =B3&"_"&C3&"_"&D3 -> LKG__Hindi | B3: ='Fee Chart'!B5 -> LKG | C3: =IF('Fee Chart'!C5=0,"",'Fee Chart'!C5) | D3: ='Fee Chart'!D5 -> Hindi | E3: ='Fee Chart'!M5 -> 9000
A4: =B4&"_"&C4&"_"&D4 -> LKG__English | B4: ='Fee Chart'!B6 -> LKG | C4: =IF('Fee Chart'!C6=0,"",'Fee Chart'!C6) | D4: ='Fee Chart'!D6 -> English | E4: ='Fee Chart'!M6 -> 10000
A5: =B5&"_"&C5&"_"&D5 -> UKG__Hindi | B5: ='Fee Chart'!B7 -> UKG | C5: =IF('Fee Chart'!C7=0,"",'Fee Chart'!C7) | D5: ='Fee Chart'!D7 -> Hindi | E5: ='Fee Chart'!M7 -> 9000
A6: =B6&"_"&C6&"_"&D6 -> UKG__English | B6: ='Fee Chart'!B8 -> UKG | C6: =IF('Fee Chart'!C8=0,"",'Fee Chart'!C8) | D6: ='Fee Chart'!D8 -> English | E6: ='Fee Chart'!M8 -> 10000
A7: =B7&"_"&C7&"_"&D7 -> First__Hindi | B7: ='Fee Chart'!B9 -> First | C7: =IF('Fee Chart'!C9=0,"",'Fee Chart'!C9) | D7: ='Fee Chart'!D9 -> Hindi | E7: ='Fee Chart'!M9 -> 10000
A8: =B8&"_"&C8&"_"&D8 -> First__English | B8: ='Fee Chart'!B10 -> First | C8: =IF('Fee Chart'!C10=0,"",'Fee Chart'!C10) | D8: ='Fee Chart'!D10 -> English | E8: ='Fee Chart'!M10 -> 11000
A9: =B9&"_"&C9&"_"&D9 -> Second__Hindi | B9: ='Fee Chart'!B11 -> Second | C9: =IF('Fee Chart'!C11=0,"",'Fee Chart'!C11) | D9: ='Fee Chart'!D11 -> Hindi | E9: ='Fee Chart'!M11 -> 10000
A10: =B10&"_"&C10&"_"&D10 -> Second__English | B10: ='Fee Chart'!B12 -> Second | C10: =IF('Fee Chart'!C12=0,"",'Fee Chart'!C12) | D10: ='Fee Chart'!D12 -> English | E10: ='Fee Chart'!M12 -> 11000
A11: =B11&"_"&C11&"_"&D11 -> Third__Hindi | B11: ='Fee Chart'!B13 -> Third | C11: =IF('Fee Chart'!C13=0,"",'Fee Chart'!C13) | D11: ='Fee Chart'!D13 -> Hindi | E11: ='Fee Chart'!M13 -> 10000
A12: =B12&"_"&C12&"_"&D12 -> Third__English | B12: ='Fee Chart'!B14 -> Third | C12: =IF('Fee Chart'!C14=0,"",'Fee Chart'!C14) | D12: ='Fee Chart'!D14 -> English | E12: ='Fee Chart'!M14 -> 11000
... A60: =B60&"_"&C60&"_"&D60 -> 0__0 | B60: ='Fee Chart'!B62 -> 0 | C60: =IF('Fee Chart'!C62=0,"",'Fee Chart'!C62) | D60: ='Fee Chart'!D62 -> 0 | E60: ='Fee Chart'!M62 -> 0

Sheet Installments
A1: Fees in Installments
A2: S.No. | B2: Class | C2: Stream | D2: Midium | E2: 1st Installment | F2: 2nd Installment | G2: 3rd Installment | H2: 4th Installment | I2: 5th Installment | J2: Total Fees
A3: 1 | B3: =IF('Fee Chart'!B3=0,"",'Fee Chart'!B3) -> Prep. | C3: =IF('Fee Chart'!C3=0,"",'Fee Chart'!C3) | D3: =IF('Fee Chart'!D3=0,"",'Fee Chart'!D3) -> Hindi | E3: 1000 | F3: 5000 | G3: 3000 | H3: 0 | I3: 0 | J3: =IF(SUM(E3:I3)=0,"",SUM(E3:I3)) -> 9000
A4: 2 | B4: =IF('Fee Chart'!B4=0,"",'Fee Chart'!B4) -> Prep. | C4: =IF('Fee Chart'!C4=0,"",'Fee Chart'!C4) | D4: =IF('Fee Chart'!D4=0,"",'Fee Chart'!D4) -> English | E4: 1000 | F4: 5000 | G4: 4000 | H4: 0 | I4: 0 | J4: =IF(SUM(E4:I4)=0,"",SUM(E4:I4)) -> 10000
A5: 3 | B5: =IF('Fee Chart'!B5=0,"",'Fee Chart'!B5) -> LKG | C5: =IF('Fee Chart'!C5=0,"",'Fee Chart'!C5) | D5: =IF('Fee Chart'!D5=0,"",'Fee Chart'!D5) -> Hindi | J5: =IF(SUM(E5:I5)=0,"",SUM(E5:I5))
A6: 4 | B6: =IF('Fee Chart'!B6=0,"",'Fee Chart'!B6) -> LKG | C6: =IF('Fee Chart'!C6=0,"",'Fee Chart'!C6) | D6: =IF('Fee Chart'!D6=0,"",'Fee Chart'!D6) -> English | J6: =IF(SUM(E6:I6)=0,"",SUM(E6:I6))
A7: 5 | B7: =IF('Fee Chart'!B7=0,"",'Fee Chart'!B7) -> UKG | C7: =IF('Fee Chart'!C7=0,"",'Fee Chart'!C7) | D7: =IF('Fee Chart'!D7=0,"",'Fee Chart'!D7) -> Hindi | J7: =IF(SUM(E7:I7)=0,"",SUM(E7:I7))
A8: 6 | B8: =IF('Fee Chart'!B8=0,"",'Fee Chart'!B8) -> UKG | C8: =IF('Fee Chart'!C8=0,"",'Fee Chart'!C8) | D8: =IF('Fee Chart'!D8=0,"",'Fee Chart'!D8) -> English | J8: =IF(SUM(E8:I8)=0,"",SUM(E8:I8))
A9: 7 | B9: =IF('Fee Chart'!B9=0,"",'Fee Chart'!B9) -> First | C9: =IF('Fee Chart'!C9=0,"",'Fee Chart'!C9) | D9: =IF('Fee Chart'!D9=0,"",'Fee Chart'!D9) -> Hindi | J9: =IF(SUM(E9:I9)=0,"",SUM(E9:I9))
A10: 8 | B10: =IF('Fee Chart'!B10=0,"",'Fee Chart'!B10) -> First | C10: =IF('Fee Chart'!C10=0,"",'Fee Chart'!C10) | D10: =IF('Fee Chart'!D10=0,"",'Fee Chart'!D10) -> English | J10: =IF(SUM(E10:I10)=0,"",SUM(E10:I10))
A11: 9 | B11: =IF('Fee Chart'!B11=0,"",'Fee Chart'!B11) -> Second | C11: =IF('Fee Chart'!C11=0,"",'Fee Chart'!C11) | D11: =IF('Fee Chart'!D11=0,"",'Fee Chart'!D11) -> Hindi | J11: =IF(SUM(E11:I11)=0,"",SUM(E11:I11))
A12: 10 | B12: =IF('Fee Chart'!B12=0,"",'Fee Chart'!B12) -> Second | C12: =IF('Fee Chart'!C12=0,"",'Fee Chart'!C12) | D12: =IF('Fee Chart'!D12=0,"",'Fee Chart'!D12) -> English | J12: =IF(SUM(E12:I12)=0,"",SUM(E12:I12))
A13: 11 | B13: =IF('Fee Chart'!B13=0,"",'Fee Chart'!B13) -> Third | C13: =IF('Fee Chart'!C13=0,"",'Fee Chart'!C13) | D13: =IF('Fee Chart'!D13=0,"",'Fee Chart'!D13) -> Hindi | J13: =IF(SUM(E13:I13)=0,"",SUM(E13:I13))
A14: 12 | B14: =IF('Fee Chart'!B14=0,"",'Fee Chart'!B14) -> Third | C14: =IF('Fee Chart'!C14=0,"",'Fee Chart'!C14) | D14: =IF('Fee Chart'!D14=0,"",'Fee Chart'!D14) -> English | J14: =IF(SUM(E14:I14)=0,"",SUM(E14:I14))
A15: 13 | B15: =IF('Fee Chart'!B15=0,"",'Fee Chart'!B15) -> Fourth | C15: =IF('Fee Chart'!C15=0,"",'Fee Chart'!C15) | D15: =IF('Fee Chart'!D15=0,"",'Fee Chart'!D15) -> Hindi | J15: =IF(SUM(E15:I15)=0,"",SUM(E15:I15))
A16: 14 | B16: =IF('Fee Chart'!B16=0,"",'Fee Chart'!B16) -> Fourth | C16: =IF('Fee Chart'!C16=0,"",'Fee Chart'!C16) | D16: =IF('Fee Chart'!D16=0,"",'Fee Chart'!D16) -> English | J16: =IF(SUM(E16:I16)=0,"",SUM(E16:I16))
... A48: 46 | B48: =IF('Fee Chart'!B48=0,"",'Fee Chart'!B48) | C48: =IF('Fee Chart'!C48=0,"",'Fee Chart'!C48) | D48: =IF('Fee Chart'!D48=0,"",'Fee Chart'!D48) | J48: =IF(SUM(E48:I48)=0,"",SUM(E48:I48))

Sheet Paste RTE Data
A1: S.No. | B1: Student Name | C1: Father Name | D1: Mother Name | E1: Class | F1: Medium | G1: Admission / SR No. | H1: Caste | I1: Gender | J1: DOB | K1: Is RTE Student
A2: 1 | B2: AALIYA | C2: ABDUL RASID | D2: RUKSANA BEGAM | E2: Second | F2: English | G2: 6475 | H2: OBC | I2: Girl | J2: 41418 | K2: YES
A3: 2 | B3: AALIYA BANO | C3: AABID | D3: HEENA | E3: Second | F3: Hindi | G3: 6455 | H3: OBC | I3: Girl | J3: 41092 | K3: YES
A4: 3 | B4: AAYAT BANO | C4: MOHAMMED HAFIJ | D4: SALMA | E4: Second | F4: English | G4: E136 | H4: OBC | I4: Girl | J4: 41661 | K4: YES
A5: 4 | B5: ADIBA BANO | C5: MOHAMMAD JAVED | D5: MADINA BANO | E5: Second | F5: Hindi | G5: 6470 | H5: OBC | I5: Girl | J5: 41647 | K5: YES
A6: 5 | B6: AMRAT LAL | C6: KISHAN LAL | D6: CHHOTI DEVI | E6: Second | F6: Hindi | G6: 6324 | H6: SC | I6: Boy | J6: 41053 | K6: NO
A7: 6 | B7: ANIKET | C7: MANOHAR KUMAR | D7: BIDAMI DEVI | E7: Second | F7: Hindi | G7: 6705 | H7: OBC | I7: Boy | J7: 41056 | K7: NO
A8: 7 | B8: ANJU | C8: TULSI RAM | D8: SUMAN DEVI | E8: Second | F8: Hindi | G8: 6463 | H8: SC | I8: Girl | J8: 41320 | K8: NO
A9: 8 | B9: ANURAG SARWA | C9: BAJRANG LAL SARWA | D9: RACHANA DEVI | E9: Second | F9: English | G9: E0119 | H9: OBC | I9: Boy | J9: 41506 | K9: NO
A10: 9 | B10: ANUSHKA | C10: RAKESH | D10: SANTOSH DEVI | E10: Second | F10: Hindi | G10: 6457 | H10: OBC | I10: Girl | J10: 41403 | K10: NO
A11: 10 | B11: ASAD AHMED | C11: AHASAN TAK | D11: RUKHSANA BANO | E11: Second | F11: English | G11: E0073 | H11: OBC | I11: Boy | J11: 41214 | K11: NO
A12: 11 | B12: ATIKA | C12: MOHAMMAD AKIL | D12: MUKINA | E12: Second | F12: English | G12: E138 | H12: OBC | I12: Girl | J12: 41623 | K12: YES
A13: 12 | B13: BHARAT SHARMA | C13: HEMRAJ | D13: SEETA DEVI | E13: Second | F13: Hindi | G13: 6369 | H13: GENERAL | I13: Boy | J13: 41203 | K13: NO
A14: 13 | B14: CHHATARPAL | C14: MANOJ KUMAR | D14: BULI DEVI | E14: Second | F14: Hindi | G14: 6444 | H14: SC | I14: Boy | J14: 41271 | K14: NO
A15: 14 | B15: DEVINA KULHARI | C15: RAJESH CHOUDHARY | D15: CHHOTI DEVI | E15: Second | F15: English | G15: E0087 | H15: OBC | I15: Girl | J15: 41292 | K15: NO
A16: 15 | B16: DILKHUSH | C16: RAJU RAM | D16: SANTOSH | E16: Second | F16: Hindi | G16: 6436 | H16: SC | I16: Boy | J16: 41103 | K16: NO
A17: 16 | B17: DINESH | C17: NAVAL CHAND SHARMA | D17: DROPADI | E17: Second | F17: English | G17: E0094 | H17: GENERAL | I17: Boy | J17: 41154 | K17: NO
A18: 17 | B18: DRON KULHARI | C18: RAJESH CHOUDHARY | D18: CHHOTI DEVI | E18: Second | F18: English | G18: E0088 | H18: OBC | I18: Boy | J18: 41292 | K18: NO
A19: 18 | B19: FARHAN GOURI | C19: MEHBOOB | D19: SEEMA BANO | E19: Second | F19: Hindi | G19: 6461 | H19: OBC | I19: Boy | J19: 41020 | K19: NO
A20: 19 | B20: FARHAN KHAN | C20: MEHABUB KHAN | D20: SANJEEDA BANO | E20: Second | F20: Hindi | G20: 6495 | H20: OBC | I20: Boy | J20: 41712 | K20: YES
A21: 20 | B21: GUNJAN | C21: SUBHASH CHOUDHARY | D21: BIMALA DEVI | E21: Second | F21: English | G21: E0125 | H21: OBC | I21: Girl | J21: 41615 | K21: NO
A22: 21 | B22: GUNJAN | C22: SUNIL KUMAR | D22: SHANTI DEVI | E22: Second | F22: Hindi | G22: 6583 | H22: SC | I22: Girl | J22: 41457 | K22: NO
A23: 22 | B23: HARSHIT SINGH | C23: SURENDRA SINGH | D23: PREM KANWAR | E23: Second | F23: Hindi | G23: 6476 | H23: OBC | I23: Boy | J23: 41403 | K23: NO
A24: 23 | B24: HEMANT | C24: LALU RAM | D24: ANU DEVI | E24: Second | F24: English | G24: E137 | H24: SC | I24: Boy | J24: 41110 | K24: YES
A25: 24 | B25: HEMRAJ | C25: MOHAN LAL | D25: SHARDA DEVI | E25: Second | F25: Hindi | G25: 6458 | H25: SC | I25: Boy | J25: 41841 | K25: NO
A26: 25 | B26: INDIRA | C26: KAILASH CHAND | D26: SHANTI DEVI | E26: Second | F26: Hindi | G26: 6459 | H26: OBC | I26: Girl | J26: 41322 | K26: NO
A27: 26 | B27: KAILASH RAIKA | C27: BANSI LAL | D27: SUNITA DEVI | E27: Second | F27: Hindi | G27: 6454 | H27: SBC | I27: Boy | J27: 40678 | K27: NO
A28: 27 | B28: KALPIT RANWA | C28: POKAR RAM | D28: NAN KUMARI | E28: Second | F28: English | G28: E0098 | H28: OBC | I28: Boy | J28: 42411 | K28: NO
A29: 28 | B29: KAMAL KANWAR | C29: FATEH SINGH | D29: MAMTA KANWAR | E29: Second | F29: English | G29: E0083 | H29: GENERAL | I29: Girl | J29: 41111 | K29: NO
A30: 29 | B30: KRISHNA BARUPAL | C30: MAHAVEER PRASAD BARUPAL | D30: MEERA | E30: Second | F30: Hindi | G30: 6341 | H30: SC | I30: Girl | J30: 41189 | K30: NO
A31: 30 | B31: KRITIKA | C31: BANWARI LAL MEGHWAL | D31: PARWATI | E31: Second | F31: Hindi | G31: 6453 | H31: SC | I31: Girl | J31: 41566 | K31: NO
A32: 31 | B32: LAKSHITA | C32: GOPAL PRAJAPAT | D32: BIRDI DEVI | E32: Second | F32: English | G32: E139 | H32: OBC | I32: Girl | J32: 41185 | K32: YES
A33: 32 | B33: LALITA | C33: HARI RAM | D33: MANJU DEVI | E33: Second | F33: Hindi | G33: 6582 | H33: OBC | I33: Girl | J33: 41457 | K33: NO
A34: 33 | B34: LOKESH | C34: MANGU RAM | D34: ROSHANI | E34: Second | F34: Hindi | G34: 6462 | H34: OBC | I34: Boy | J34: 40967 | K34: NO
A35: 34 | B35: MAHESH KUMAR | C35: SONU PRAKASH | D35: RENUKA DEVI | E35: Second | F35: Hindi | G35: 6450 | H35: OBC | I35: Boy | J35: 41521 | K35: YES
A36: 35 | B36: MAHIMA | C36: BHANWAR LAL | D36: SANJU DEVI | E36: Second | F36: Hindi | G36: 6447 | H36: OBC | I36: Girl | J36: 41954 | K36: NO
A37: 36 | B37: MANISHA | C37: ANANDI LAL | D37: JIMANA | E37: Second | F37: Hindi | G37: 6481 | H37: SC | I37: Girl | J37: 41140 | K37: NO
A38: 37 | B38: MAYANK | C38: BAJRANG LAL | D38: BALLU KUMAWAT | E38: Second | F38: English | G38: E0082 | H38: OBC | I38: Boy | J38: 41521 | K38: NO
A39: 38 | B39: MOHAMMED FAIZAN | C39: MOHAMMED RAFEEK | D39: MUNNI BANO | E39: Second | F39: Hindi | G39: 6396 | H39: OBC | I39: Boy | J39: 41800 | K39: NO
A40: 39 | B40: MOHD AYAN | C40: RASHID AHMED | D40: RUBINA BANO | E40: Second | F40: Hindi | G40: 6485 | H40: OBC | I40: Boy | J40: 41593 | K40: YES
A41: 40 | B41: MONIKA RAIKA | C41: SOHAN LAL RAIKA | D41: SITA DEVI | E41: Second | F41: Hindi | G41: 6473 | H41: SBC | I41: Girl | J41: 41474 | K41: NO
A42: 41 | B42: NISHA RAIKA | C42: SOHAN LAL RAIKA | D42: SITA DEVI | E42: Second | F42: Hindi | G42: 6472 | H42: SBC | I42: Girl | J42: 40992 | K42: NO
A43: 42 | B43: PANKAJ KUMAR | C43: PRADEEP KUMAR | D43: SAROJ | E43: Second | F43: Hindi | G43: 6704 | H43: SC | I43: Boy | J43: 41675 | K43: YES
A44: 43 | B44: PARIDHI | C44: SUNIL | D44: LAXMI DEVI | E44: Second | F44: Hindi | G44: 6464 | H44: OBC | I44: Girl | J44: 42000 | K44: NO
A45: 44 | B45: PAYAL | C45: PRADEEP KUMAR | D45: SAROJ | E45: Second | F45: Hindi | G45: 6703 | H45: SC | I45: Girl | J45: 41332 | K45: YES
A46: 45 | B46: POONAM BHARGAV | C46: KAMAL | D46: MANJU BHARGAV | E46: Second | F46: Hindi | G46: 6460 | H46: OBC | I46: Girl | J46: 41366 | K46: YES
A47: 46 | B47: PRAGYAT BARUPAL | C47: MAHAVEER PRASAD BARUPAL | D47: MEERA | E47: Second | F47: Hindi | G47: 6340 | H47: SC | I47: Boy | J47: 42043 | K47: NO
A48: 47 | B48: PRATIBHA | C48: GYANA RAM | D48: RAJU | E48: Second | F48: Hindi | G48: 6343 | H48: OBC | I48: Girl | J48: 41498 | K48: NO
A49: 48 | B49: PRIYANKA | C49: MANA RAM | D49: CHUNKA DEVI | E49: Second | F49: Hindi | G49: 6469 | H49: OBC | I49: Girl | J49: 41032 | K49: NO
A50: 49 | B50: PRIYANKA | C50: RAJKUMAR | D50: MANJU DEVI | E50: Second | F50: Hindi | G50: 6422 | H50: SC | I50: Girl | J50: 41612 | K50: NO
... A52: 51 | B52: RISHABH | C52: LIKHAMI CHAND | D52: DEEPIKA DEVI | E52: Second | F52: Hindi | G52: 6468 | H52: OBC | I52: Boy | J52: 40850 | K52: NO
A53: 52 | B53: ROHIT | C53: CHANDRA RAM | D53: VIMLA DEVI | E53: Second | F53: English | G53: E0130 | H53: OBC | I53: Boy | J53: 41255 | K53: NO
A54: 53 | B54: RUHAN KHOKHAR | C54: MOHD GAFFAR RANGREJ | D54: SALMA | E54: Second | F54: English | G54: E0092 | H54: OBC | I54: Girl | J54: 42036 | K54: NO
A55: 54 | B55: SABA | C55: MOHAMMAD ALI | D55: FARJANA | E55: Second | F55: English | G55: E140 | H55: OBC | I55: Girl | J55: 41440 | K55: YES
A56: 55 | B56: SALMAN KHAN | C56: MEHBUB ALI | D56: SANJIDA BANO | E56: Second | F56: Hindi | G56: 6706 | H56: OBC | I56: Boy | J56: 41446 | K56: YES
A57: 56 | B57: SAPNA | C57: RAJU RAM MEGHWAL | D57: SANTOSH | E57: Second | F57: Hindi | G57: 6478 | H57: SC | I57: Girl | J57: 41507 | K57: NO
A58: 57 | B58: SHALU RATHORE | C58: SHARWAN SINGH | D58: SUMAN | E58: Second | F58: Hindi | G58: 6584 | H58: GENERAL | I58: Girl | J58: 41457 | K58: NO
A59: 58 | B59: SOFIYA | C59: IRFAN | D59: FIROJA BANO | E59: Second | F59: Hindi | G59: 6465 | H59: OBC | I59: Girl | J59: 41704 | K59: YES
A60: 59 | B60: SUMIT MANDIWAL | C60: RAMNIWAS | D60: SANTOSH DEVI | E60: Second | F60: English | G60: E0080 | H60: OBC | I60: Boy | J60: 41572 | K60: NO
A61: 60 | B61: SUNITA MEV | C61: NOLA RAM | D61: DHANNI DEVI | E61: Second | F61: Hindi | G61: 6445 | H61: SC | I61: Girl | J61: 41666 | K61: NO
A62: 61 | B62: SURENDRA BHATI | C62: PAPPULAL | D62: MANJU DEVI | E62: Second | F62: Hindi | G62: 6477 | H62: SC | I62: Boy | J62: 41434 | K62: NO
A63: 62 | B63: TARUNA | C63: PINTU BHATI | D63: KIRAN BHATI | E63: Second | F63: Hindi | G63: 6449 | H63: SC | I63: Girl | J63: 41691 | K63: NO
A64: 63 | B64: TEJPAL | C64: BHOPAL RAM | D64: MANJU DEVI | E64: Second | F64: English | G64: E0076 | H64: OBC | I64: Boy | J64: 41032 | K64: NO
A65: 64 | B65: VINOD | C65: MUKESH | D65: SAROJ DEVI | E65: Second | F65: Hindi | G65: 6585 | H65: ST | I65: Boy | J65: 41457 | K65: NO
A66: 65 | B66: AALIYA BANO | C66: IRFAN | D66: FIROZA BANO | E66: Third | F66: Hindi | G66: 1566 | H66: OBC | I66: Girl | J66: 40938 | K66: YES
A67: 66 | B67: ABDUL KADIR | C67: ABDUL HAMID | D67: BABY BANO | E67: Third | F67: Hindi | G67: 1596 | H67: OBC | I67: Boy | J67: 40253 | K67: NO
A68: 67 | B68: AKSHA KHOKHR | C68: KAYYUM KHOKHR | D68: AFSANA BANO | E68: Third | F68: Hindi | G68: 1569 | H68: OBC | I68: Girl | J68: 40984 | K68: YES
A69: 68 | B69: AMIT | C69: SURENDRA | D69: SANTRA DEVI | E69: Third | F69: Hindi | G69: 1503 | H69: SC | I69: Boy | J69: 41579 | K69: NO
A70: 69 | B70: ANWAR ALI | C70: MOHAMMED YUNUS | D70: BILKESH BANO | E70: Third | F70: Hindi | G70: 1517 | H70: OBC | I70: Boy | J70: 40548 | K70: NO
A71: 70 | B71: ARMAN | C71: AALAM ALI | D71: FARIDA | E71: Third | F71: Hindi | G71: 1621 | H71: OBC | I71: Boy | J71: 41089 | K71: NO
A72: 71 | B72: ARPITA | C72: SURESH KUMAR | D72: SUGNA DEVI | E72: Third | F72: Hindi | G72: 6733 | H72: SC | I72: Girl | J72: 41549 | K72: NO
A73: 72 | B73: BHARTI | C73: MISHRI LAL | D73: MANJU DEVI | E73: Third | F73: Hindi | G73: 1521 | H73: SC | I73: Girl | J73: 41102 | K73: NO
A74: 73 | B74: BHAWESH KUMAR | C74: MAHESH KUMAWAT | D74: MAMTA DEVI | E74: Third | F74: Hindi | G74: 1545 | H74: OBC | I74: Boy | J74: 41257 | K74: NO
A75: 74 | B75: CHANDAN | C75: MISHRI LAL | D75: MANJU DEVI | E75: Third | F75: Hindi | G75: 1520 | H75: SC | I75: Boy | J75: 41858 | K75: NO
A76: 75 | B76: CHANDAN KHORWAL | C76: NAND KISHOR | D76: VIMLA DEVI | E76: Third | F76: Hindi | G76: 6734 | H76: SC | I76: Boy | J76: 40278 | K76: NO
A77: 76 | B77: CHHAYA PRAJAPATI | C77: RAKESH PRAJAPATI | D77: PRABHATI DEVI | E77: Third | F77: English | G77: E0078 | H77: OBC | I77: Girl | J77: 40916 | K77: NO
A78: 77 | B78: DEEP MEGHWAL | C78: YUVRAJ | D78: SANTOSH DEVI | E78: Third | F78: Hindi | G78: 1620 | H78: SC | I78: Boy | J78: 41264 | K78: NO
A79: 78 | B79: DEEPIKA | C79: RAMNIWAS KUMAWAT | D79: NIRMALA | E79: Third | F79: Hindi | G79: 1564 | H79: OBC | I79: Girl | J79: 40782 | K79: YES
A80: 79 | B80: DEVENDRA MEV | C80: RAMESHWAR LAL | D80: KISHNA DEVI | E80: Third | F80: Hindi | G80: 1508 | H80: SC | I80: Boy | J80: 41199 | K80: NO
A81: 80 | B81: DEVENDRA SOHU | C81: SEVA RAM | D81: MUNNI DEVI | E81: Third | F81: Hindi | G81: 1546 | H81: OBC | I81: Boy | J81: 40991 | K81: NO
A82: 81 | B82: DIVYANSHU PANWAR | C82: RAMNIWAS | D82: LEELA DEVI | E82: Third | F82: Hindi | G82: 1490 | H82: SC | I82: Boy | J82: 41099 | K82: NO
A83: 82 | B83: DURGA | C83: BHAGIRATH KUMAWAT | D83: GYARSI DEVI | E83: Third | F83: Hindi | G83: 1548 | H83: OBC | I83: Girl | J83: 40709 | K83: NO
A84: 83 | B84: GULAM HUSSAIN | C84: MOHAMMED RAFEEK | D84: SHABANA | E84: Third | F84: Hindi | G84: 1518 | H84: OBC | I84: Boy | J84: 41088 | K84: NO
A85: 84 | B85: HARSHITA | C85: SANJEEV KUMAR | D85: SUMAN | E85: Third | F85: Hindi | G85: 1544 | H85: OBC | I85: Girl | J85: 41082 | K85: NO
A86: 85 | B86: JOYA QURESHI | C86: MO AADHIL | D86: SALMA BANO | E86: Third | F86: Hindi | G86: 1559 | H86: OBC | I86: Girl | J86: 40927 | K86: YES
A87: 86 | B87: JYOTI PRAJAPAT | C87: TILOKA RAM | D87: SUGNA DEVI | E87: Third | F87: Hindi | G87: 1526 | H87: OBC | I87: Girl | J87: 40682 | K87: NO
A88: 87 | B88: KHUSHAL | C88: NAVRATAN | D88: SHOBHA | E88: Third | F88: Hindi | G88: 1627 | H88: SC | I88: Boy | J88: 40822 | K88: NO
A89: 88 | B89: KIRAN | C89: MISHRI LAL | D89: MANJU DEVI | E89: Third | F89: Hindi | G89: 1519 | H89: SC | I89: Girl | J89: 40497 | K89: NO
... A99: 98 | B99: NERAJ | C99: KALU RAM | D99: LEELA | E99: Third | F99: Hindi | G99: 1560 | H99: SC | I99: Girl | J99: 40778 | K99: YES
A100: 99 | B100: NIKHIL CHOUDHARY | C100: MANOJ SINGH | D100: SANJYA FAGEDIYA | E100: Third | F100: English | G100: E0144 | H100: OBC | I100: Boy | J100: 42040 | K100: NO
A101: 100 | B101: PARAMVEER SINGH | C101: DASHRATH SINGH | D101: RESHAM KANWAR | E101: Third | F101: English | G101: E0097 | H101: GENERAL | I101: Boy | J101: 41424 | K101: NO
A102: 101 | B102: PAWAN GURJAR | C102: MADAN LAL | D102: KELA DEVI | E102: Third | F102: Hindi | G102: 6646 | H102: SBC | I102: Boy | J102: 41125 | K102: NO
A103: 102 | B103: PAYAL | C103: KAMLESH | D103: MANJU DEVI | E103: Third | F103: Hindi | G103: 1506 | H103: SC | I103: Girl | J103: 40612 | K103: NO
A104: 103 | B104: PRADEEP KUMAR | C104: GANESH RAM | D104: BANWARI DEVI | E104: Third | F104: Hindi | G104: 6739 | H104: OBC | I104: Boy | J104: 41044 | K104: NO
A105: 104 | B105: RADHAKRISHAN | C105: KHETA RAM | D105: PANCHU DEVI | E105: Third | F105: Hindi | G105: 1562 | H105: OBC | I105: Boy | J105: 40746 | K105: YES
A106: 105 | B106: RANJEET | C106: RAMNIWAS | D106: SUKHI DEVI | E106: Third | F106: Hindi | G106: 1494 | H106: SC | I106: Boy | J106: 41235 | K106: NO
A107: 106 | B107: RIZWAN | C107: RIYAJ MOHAMMED | D107: RUBINA | E107: Third | F107: Hindi | G107: 1567 | H107: OBC | I107: Boy | J107: 41283 | K107: YES
A108: 107 | B108: ROHIT CHOUDHARY | C108: SHIV RAM CHOUDHARY | D108: BIMLA DEVI | E108: Third | F108: English | G108: E0146 | H108: OBC | I108: Boy | J108: 40909 | K108: NO
A109: 108 | B109: ROJI BHATI | C109: MOHAMMED HANIF BHATI | D109: SAKILA | E109: Third | F109: Hindi | G109: 1568 | H109: OBC | I109: Girl | J109: 41119 | K109: YES
A110: 109 | B110: RUKYA BANO | C110: SALIM | D110: FARJANA | E110: Third | F110: Hindi | G110: 1563 | H110: OBC | I110: Girl | J110: 41196 | K110: YES
...

Sheet Student's Data
A1: ='School Intro'!A1 -> GOVERNMENT SENIOR SECONDARY SCHOOL, ROOPPURA (KUCHAMAN CITY)
A2: Students' Data
A4: S.N. | B4: SR.No. | C4: Class | D4: Stream | E4: Name | F4: Father's name | G4: Mother's Name | H4: Medium | I4: Caste | J4: Gender | K4: DOB | L4: Is RTE Student | M4: Date of Admission
A5: =IF('Paste RTE Data'!A2=0,"",'Paste RTE Data'!A2) -> 1 | B5: =IF('Paste RTE Data'!G2=0,"",'Paste RTE Data'!G2) -> 6475 | C5: =IF('Paste RTE Data'!E2=0,"",'Paste RTE Data'!E2) -> Second | E5: =IF('Paste RTE Data'!B2=0,"",'Paste RTE Data'!B2) -> AALIYA | F5: =IF('Paste RTE Data'!C2=0,"",'Paste RTE Data'!C2) -> ABDUL RASID | G5: =IF('Paste RTE Data'!D2=0,"",'Paste RTE Data'!D2) -> RUKSANA BEGAM | H5: =IF('Paste RTE Data'!F2=0,"",'Paste RTE Data'!F2) -> English | I5: =IF('Paste RTE Data'!H2=0,"",'Paste RTE Data'!H2) -> OBC | J5: =IF('Paste RTE Data'!I2=0,"",'Paste RTE Data'!I2) -> Girl | K5: =IF('Paste RTE Data'!J2=0,"",'Paste RTE Data'!J2) -> 41418 | L5: =IF('Paste RTE Data'!K2=0,"",'Paste RTE Data'!K2) -> YES | M5: 36892
A6: =IF('Paste RTE Data'!A3=0,"",'Paste RTE Data'!A3) -> 2 | B6: =IF('Paste RTE Data'!G3=0,"",'Paste RTE Data'!G3) -> 6455 | C6: =IF('Paste RTE Data'!E3=0,"",'Paste RTE Data'!E3) -> Second | E6: =IF('Paste RTE Data'!B3=0,"",'Paste RTE Data'!B3) -> AALIYA BANO | F6: =IF('Paste RTE Data'!C3=0,"",'Paste RTE Data'!C3) -> AABID | G6: =IF('Paste RTE Data'!D3=0,"",'Paste RTE Data'!D3) -> HEENA | H6: =IF('Paste RTE Data'!F3=0,"",'Paste RTE Data'!F3) -> Hindi | I6: =IF('Paste RTE Data'!H3=0,"",'Paste RTE Data'!H3) -> OBC | J6: =IF('Paste RTE Data'!I3=0,"",'Paste RTE Data'!I3) -> Girl | K6: =IF('Paste RTE Data'!J3=0,"",'Paste RTE Data'!J3) -> 41092 | L6: =IF('Paste RTE Data'!K3=0,"",'Paste RTE Data'!K3) -> YES | M6: 44017
A7: =IF('Paste RTE Data'!A4=0,"",'Paste RTE Data'!A4) -> 3 | B7: =IF('Paste RTE Data'!G4=0,"",'Paste RTE Data'!G4) -> E136 | C7: =IF('Paste RTE Data'!E4=0,"",'Paste RTE Data'!E4) -> Second | E7: =IF('Paste RTE Data'!B4=0,"",'Paste RTE Data'!B4) -> AAYAT BANO | F7: =IF('Paste RTE Data'!C4=0,"",'Paste RTE Data'!C4) -> MOHAMMED HAFIJ | G7: =IF('Paste RTE Data'!D4=0,"",'Paste RTE Data'!D4) -> SALMA | H7: =IF('Paste RTE Data'!F4=0,"",'Paste RTE Data'!F4) -> English | I7: =IF('Paste RTE Data'!H4=0,"",'Paste RTE Data'!H4) -> OBC | J7: =IF('Paste RTE Data'!I4=0,"",'Paste RTE Data'!I4) -> Girl | K7: =IF('Paste RTE Data'!J4=0,"",'Paste RTE Data'!J4) -> 41661 | L7: =IF('Paste RTE Data'!K4=0,"",'Paste RTE Data'!K4) -> YES
A8: =IF('Paste RTE Data'!A5=0,"",'Paste RTE Data'!A5) -> 4 | B8: =IF('Paste RTE Data'!G5=0,"",'Paste RTE Data'!G5) -> 6470 | C8: =IF('Paste RTE Data'!E5=0,"",'Paste RTE Data'!E5) -> Second | E8: =IF('Paste RTE Data'!B5=0,"",'Paste RTE Data'!B5) -> ADIBA BANO | F8: =IF('Paste RTE Data'!C5=0,"",'Paste RTE Data'!C5) -> MOHAMMAD JAVED | G8: =IF('Paste RTE Data'!D5=0,"",'Paste RTE Data'!D5) -> MADINA BANO | H8: =IF('Paste RTE Data'!F5=0,"",'Paste RTE Data'!F5) -> Hindi | I8: =IF('Paste RTE Data'!H5=0,"",'Paste RTE Data'!H5) -> OBC | J8: =IF('Paste RTE Data'!I5=0,"",'Paste RTE Data'!I5) -> Girl | K8: =IF('Paste RTE Data'!J5=0,"",'Paste RTE Data'!J5) -> 41647 | L8: =IF('Paste RTE Data'!K5=0,"",'Paste RTE Data'!K5) -> YES
A9: =IF('Paste RTE Data'!A6=0,"",'Paste RTE Data'!A6) -> 5 | B9: =IF('Paste RTE Data'!G6=0,"",'Paste RTE Data'!G6) -> 6324 | C9: =IF('Paste RTE Data'!E6=0,"",'Paste RTE Data'!E6) -> Second | E9: =IF('Paste RTE Data'!B6=0,"",'Paste RTE Data'!B6) -> AMRAT LAL | F9: =IF('Paste RTE Data'!C6=0,"",'Paste RTE Data'!C6) -> KISHAN LAL | G9: =IF('Paste RTE Data'!D6=0,"",'Paste RTE Data'!D6) -> CHHOTI DEVI | H9: =IF('Paste RTE Data'!F6=0,"",'Paste RTE Data'!F6) -> Hindi | I9: =IF('Paste RTE Data'!H6=0,"",'Paste RTE Data'!H6) -> SC | J9: =IF('Paste RTE Data'!I6=0,"",'Paste RTE Data'!I6) -> Boy | K9: =IF('Paste RTE Data'!J6=0,"",'Paste RTE Data'!J6) -> 41053 | L9: =IF('Paste RTE Data'!K6=0,"",'Paste RTE Data'!K6) -> NO
A10: =IF('Paste RTE Data'!A7=0,"",'Paste RTE Data'!A7) -> 6 | B10: =IF('Paste RTE Data'!G7=0,"",'Paste RTE Data'!G7) -> 6705 | C10: =IF('Paste RTE Data'!E7=0,"",'Paste RTE Data'!E7) -> Second | E10: =IF('Paste RTE Data'!B7=0,"",'Paste RTE Data'!B7) -> ANIKET | F10: =IF('Paste RTE Data'!C7=0,"",'Paste RTE Data'!C7) -> MANOHAR KUMAR | G10: =IF('Paste RTE Data'!D7=0,"",'Paste RTE Data'!D7) -> BIDAMI DEVI | H10: =IF('Paste RTE Data'!F7=0,"",'Paste RTE Data'!F7) -> Hindi | I10: =IF('Paste RTE Data'!H7=0,"",'Paste RTE Data'!H7) -> OBC | J10: =IF('Paste RTE Data'!I7=0,"",'Paste RTE Data'!I7) -> Boy | K10: =IF('Paste RTE Data'!J7=0,"",'Paste RTE Data'!J7) -> 41056 | L10: =IF('Paste RTE Data'!K7=0,"",'Paste RTE Data'!K7) -> NO
A11: =IF('Paste RTE Data'!A8=0,"",'Paste RTE Data'!A8) -> 7 | B11: =IF('Paste RTE Data'!G8=0,"",'Paste RTE Data'!G8) -> 6463 | C11: =IF('Paste RTE Data'!E8=0,"",'Paste RTE Data'!E8) -> Second | E11: =IF('Paste RTE Data'!B8=0,"",'Paste RTE Data'!B8) -> ANJU | F11: =IF('Paste RTE Data'!C8=0,"",'Paste RTE Data'!C8) -> TULSI RAM | G11: =IF('Paste RTE Data'!D8=0,"",'Paste RTE Data'!D8) -> SUMAN DEVI | H11: =IF('Paste RTE Data'!F8=0,"",'Paste RTE Data'!F8) -> Hindi | I11: =IF('Paste RTE Data'!H8=0,"",'Paste RTE Data'!H8) -> SC | J11: =IF('Paste RTE Data'!I8=0,"",'Paste RTE Data'!I8) -> Girl | K11: =IF('Paste RTE Data'!J8=0,"",'Paste RTE Data'!J8) -> 41320 | L11: =IF('Paste RTE Data'!K8=0,"",'Paste RTE Data'!K8) -> NO
A12: =IF('Paste RTE Data'!A9=0,"",'Paste RTE Data'!A9) -> 8 | B12: =IF('Paste RTE Data'!G9=0,"",'Paste RTE Data'!G9) -> E0119 | C12: =IF('Paste RTE Data'!E9=0,"",'Paste RTE Data'!E9) -> Second | E12: =IF('Paste RTE Data'!B9=0,"",'Paste RTE Data'!B9) -> ANURAG SARWA | F12: =IF('Paste RTE Data'!C9=0,"",'Paste RTE Data'!C9) -> BAJRANG LAL SARWA | G12: =IF('Paste RTE Data'!D9=0,"",'Paste RTE Data'!D9) -> RACHANA DEVI | H12: =IF('Paste RTE Data'!F9=0,"",'Paste RTE Data'!F9) -> English | I12: =IF('Paste RTE Data'!H9=0,"",'Paste RTE Data'!H9) -> OBC | J12: =IF('Paste RTE Data'!I9=0,"",'Paste RTE Data'!I9) -> Boy | K12: =IF('Paste RTE Data'!J9=0,"",'Paste RTE Data'!J9) -> 41506 | L12: =IF('Paste RTE Data'!K9=0,"",'Paste RTE Data'!K9) -> NO
A13: =IF('Paste RTE Data'!A10=0,"",'Paste RTE Data'!A10) -> 9 | B13: =IF('Paste RTE Data'!G10=0,"",'Paste RTE Data'!G10) -> 6457 | C13: =IF('Paste RTE Data'!E10=0,"",'Paste RTE Data'!E10) -> Second | E13: =IF('Paste RTE Data'!B10=0,"",'Paste RTE Data'!B10) -> ANUSHKA | F13: =IF('Paste RTE Data'!C10=0,"",'Paste RTE Data'!C10) -> RAKESH | G13: =IF('Paste RTE Data'!D10=0,"",'Paste RTE Data'!D10) -> SANTOSH DEVI | H13: =IF('Paste RTE Data'!F10=0,"",'Paste RTE Data'!F10) -> Hindi | I13: =IF('Paste RTE Data'!H10=0,"",'Paste RTE Data'!H10) -> OBC | J13: =IF('Paste RTE Data'!I10=0,"",'Paste RTE Data'!I10) -> Girl | K13: =IF('Paste RTE Data'!J10=0,"",'Paste RTE Data'!J10) -> 41403 | L13: =IF('Paste RTE Data'!K10=0,"",'Paste RTE Data'!K10) -> NO
A14: =IF('Paste RTE Data'!A11=0,"",'Paste RTE Data'!A11) -> 10 | B14: =IF('Paste RTE Data'!G11=0,"",'Paste RTE Data'!G11) -> E0073 | C14: =IF('Paste RTE Data'!E11=0,"",'Paste RTE Data'!E11) -> Second | E14: =IF('Paste RTE Data'!B11=0,"",'Paste RTE Data'!B11) -> ASAD AHMED | F14: =IF('Paste RTE Data'!C11=0,"",'Paste RTE Data'!C11) -> AHASAN TAK | G14: =IF('Paste RTE Data'!D11=0,"",'Paste RTE Data'!D11) -> RUKHSANA BANO | H14: =IF('Paste RTE Data'!F11=0,"",'Paste RTE Data'!F11) -> English | I14: =IF('Paste RTE Data'!H11=0,"",'Paste RTE Data'!H11) -> OBC | J14: =IF('Paste RTE Data'!I11=0,"",'Paste RTE Data'!I11) -> Boy | K14: =IF('Paste RTE Data'!J11=0,"",'Paste RTE Data'!J11) -> 41214 | L14: =IF('Paste RTE Data'!K11=0,"",'Paste RTE Data'!K11) -> NO
A15: =IF('Paste RTE Data'!A12=0,"",'Paste RTE Data'!A12) -> 11 | B15: =IF('Paste RTE Data'!G12=0,"",'Paste RTE Data'!G12) -> E138 | C15: =IF('Paste RTE Data'!E12=0,"",'Paste RTE Data'!E12) -> Second | E15: =IF('Paste RTE Data'!B12=0,"",'Paste RTE Data'!B12) -> ATIKA | F15: =IF('Paste RTE Data'!C12=0,"",'Paste RTE Data'!C12) -> MOHAMMAD AKIL | G15: =IF('Paste RTE Data'!D12=0,"",'Paste RTE Data'!D12) -> MUKINA | H15: =IF('Paste RTE Data'!F12=0,"",'Paste RTE Data'!F12) -> English | I15: =IF('Paste RTE Data'!H12=0,"",'Paste RTE Data'!H12) -> OBC | J15: =IF('Paste RTE Data'!I12=0,"",'Paste RTE Data'!I12) -> Girl | K15: =IF('Paste RTE Data'!J12=0,"",'Paste RTE Data'!J12) -> 41623 | L15: =IF('Paste RTE Data'!K12=0,"",'Paste RTE Data'!K12) -> YES
A16: =IF('Paste RTE Data'!A13=0,"",'Paste RTE Data'!A13) -> 12 | B16: =IF('Paste RTE Data'!G13=0,"",'Paste RTE Data'!G13) -> 6369 | C16: =IF('Paste RTE Data'!E13=0,"",'Paste RTE Data'!E13) -> Second | E16: =IF('Paste RTE Data'!B13=0,"",'Paste RTE Data'!B13) -> BHARAT SHARMA | F16: =IF('Paste RTE Data'!C13=0,"",'Paste RTE Data'!C13) -> HEMRAJ | G16: =IF('Paste RTE Data'!D13=0,"",'Paste RTE Data'!D13) -> SEETA DEVI | H16: =IF('Paste RTE Data'!F13=0,"",'Paste RTE Data'!F13) -> Hindi | I16: =IF('Paste RTE Data'!H13=0,"",'Paste RTE Data'!H13) -> GENERAL | J16: =IF('Paste RTE Data'!I13=0,"",'Paste RTE Data'!I13) -> Boy | K16: =IF('Paste RTE Data'!J13=0,"",'Paste RTE Data'!J13) -> 41203 | L16: =IF('Paste RTE Data'!K13=0,"",'Paste RTE Data'!K13) -> NO
A17: =IF('Paste RTE Data'!A14=0,"",'Paste RTE Data'!A14) -> 13 | B17: =IF('Paste RTE Data'!G14=0,"",'Paste RTE Data'!G14) -> 6444 | C17: =IF('Paste RTE Data'!E14=0,"",'Paste RTE Data'!E14) -> Second | E17: =IF('Paste RTE Data'!B14=0,"",'Paste RTE Data'!B14) -> CHHATARPAL | F17: =IF('Paste RTE Data'!C14=0,"",'Paste RTE Data'!C14) -> MANOJ KUMAR | G17: =IF('Paste RTE Data'!D14=0,"",'Paste RTE Data'!D14) -> BULI DEVI | H17: =IF('Paste RTE Data'!F14=0,"",'Paste RTE Data'!F14) -> Hindi | I17: =IF('Paste RTE Data'!H14=0,"",'Paste RTE Data'!H14) -> SC | J17: =IF('Paste RTE Data'!I14=0,"",'Paste RTE Data'!I14) -> Boy | K17: =IF('Paste RTE Data'!J14=0,"",'Paste RTE Data'!J14) -> 41271 | L17: =IF('Paste RTE Data'!K14=0,"",'Paste RTE Data'!K14) -> NO
A18: =IF('Paste RTE Data'!A15=0,"",'Paste RTE Data'!A15) -> 14 | B18: =IF('Paste RTE Data'!G15=0,"",'Paste RTE Data'!G15) -> E0087 | C18: =IF('Paste RTE Data'!E15=0,"",'Paste RTE Data'!E15) -> Second | E18: =IF('Paste RTE Data'!B15=0,"",'Paste RTE Data'!B15) -> DEVINA KULHARI | F18: =IF('Paste RTE Data'!C15=0,"",'Paste RTE Data'!C15) -> RAJESH CHOUDHARY | G18: =IF('Paste RTE Data'!D15=0,"",'Paste RTE Data'!D15) -> CHHOTI DEVI | H18: =IF('Paste RTE Data'!F15=0,"",'Paste RTE Data'!F15) -> English | I18: =IF('Paste RTE Data'!H15=0,"",'Paste RTE Data'!H15) -> OBC | J18: =IF('Paste RTE Data'!I15=0,"",'Paste RTE Data'!I15) -> Girl | K18: =IF('Paste RTE Data'!J15=0,"",'Paste RTE Data'!J15) -> 41292 | L18: =IF('Paste RTE Data'!K15=0,"",'Paste RTE Data'!K15) -> NO
... A1017: =IF('Paste RTE Data'!A1014=0,"",'Paste RTE Data'!A1014) -> 1013 | B1017: =IF('Paste RTE Data'!G1014=0,"",'Paste RTE Data'!G1014) -> 6191 | C1017: =IF('Paste RTE Data'!E1014=0,"",'Paste RTE Data'!E1014) -> Tenth | E1017: =IF('Paste RTE Data'!B1014=0,"",'Paste RTE Data'!B1014) -> YOGESH | F1017: =IF('Paste RTE Data'!C1014=0,"",'Paste RTE Data'!C1014) -> SHIVDHAN | G1017: =IF('Paste RTE Data'!D1014=0,"",'Paste RTE Data'!D1014) -> PUNAM | H1017: =IF('Paste RTE Data'!F1014=0,"",'Paste RTE Data'!F1014) -> Hindi | I1017: =IF('Paste RTE Data'!H1014=0,"",'Paste RTE Data'!H1014) -> SBC | J1017: =IF('Paste RTE Data'!I1014=0,"",'Paste RTE Data'!I1014) -> Boy | K1017: =IF('Paste RTE Data'!J1014=0,"",'Paste RTE Data'!J1014) -> 37875 | L1017: =IF('Paste RTE Data'!K1014=0,"",'Paste RTE Data'!K1014) -> NO
A1018: =IF('Paste RTE Data'!A1015=0,"",'Paste RTE Data'!A1015) -> 1014 | B1018: =IF('Paste RTE Data'!G1015=0,"",'Paste RTE Data'!G1015) -> 5427 | C1018: =IF('Paste RTE Data'!E1015=0,"",'Paste RTE Data'!E1015) -> Twelth | D1018: Commerce | E1018: =IF('Paste RTE Data'!B1015=0,"",'Paste RTE Data'!B1015) -> AADITYA SHARMA | F1018: =IF('Paste RTE Data'!C1015=0,"",'Paste RTE Data'!C1015) -> SHRAWAN KUMAR SHARMA | G1018: =IF('Paste RTE Data'!D1015=0,"",'Paste RTE Data'!D1015) -> SUMAN SHARMA | H1018: =IF('Paste RTE Data'!F1015=0,"",'Paste RTE Data'!F1015) -> Hindi | I1018: =IF('Paste RTE Data'!H1015=0,"",'Paste RTE Data'!H1015) -> GENERAL | J1018: =IF('Paste RTE Data'!I1015=0,"",'Paste RTE Data'!I1015) -> Boy | K1018: =IF('Paste RTE Data'!J1015=0,"",'Paste RTE Data'!J1015) -> 38635 | L1018: =IF('Paste RTE Data'!K1015=0,"",'Paste RTE Data'!K1015) -> NO
A1019: =IF('Paste RTE Data'!A1016=0,"",'Paste RTE Data'!A1016) -> 1015 | B1019: =IF('Paste RTE Data'!G1016=0,"",'Paste RTE Data'!G1016) -> 4615 | C1019: =IF('Paste RTE Data'!E1016=0,"",'Paste RTE Data'!E1016) -> Twelth | D1019: Arts | E1019: =IF('Paste RTE Data'!B1016=0,"",'Paste RTE Data'!B1016) -> AANSHU DEVI | F1019: =IF('Paste RTE Data'!C1016=0,"",'Paste RTE Data'!C1016) -> BHUWANA RAM | G1019: =IF('Paste RTE Data'!D1016=0,"",'Paste RTE Data'!D1016) -> MANKI DEVI | H1019: =IF('Paste RTE Data'!F1016=0,"",'Paste RTE Data'!F1016) -> Hindi | I1019: =IF('Paste RTE Data'!H1016=0,"",'Paste RTE Data'!H1016) -> OBC | J1019: =IF('Paste RTE Data'!I1016=0,"",'Paste RTE Data'!I1016) -> Girl | K1019: =IF('Paste RTE Data'!J1016=0,"",'Paste RTE Data'!J1016) -> 36636 | L1019: =IF('Paste RTE Data'!K1016=0,"",'Paste RTE Data'!K1016) -> NO
A1020: =IF('Paste RTE Data'!A1017=0,"",'Paste RTE Data'!A1017) -> 1016 | B1020: =IF('Paste RTE Data'!G1017=0,"",'Paste RTE Data'!G1017) -> 4613 | C1020: =IF('Paste RTE Data'!E1017=0,"",'Paste RTE Data'!E1017) -> Twelth | D1020: Arts | E1020: =IF('Paste RTE Data'!B1017=0,"",'Paste RTE Data'!B1017) -> AARTI | F1020: =IF('Paste RTE Data'!C1017=0,"",'Paste RTE Data'!C1017) -> BHANWAR LAL | G1020: =IF('Paste RTE Data'!D1017=0,"",'Paste RTE Data'!D1017) -> MANJU DEVI | H1020: =IF('Paste RTE Data'!F1017=0,"",'Paste RTE Data'!F1017) -> Hindi | I1020: =IF('Paste RTE Data'!H1017=0,"",'Paste RTE Data'!H1017) -> SC | J1020: =IF('Paste RTE Data'!I1017=0,"",'Paste RTE Data'!I1017) -> Girl | K1020: =IF('Paste RTE Data'!J1017=0,"",'Paste RTE Data'!J1017) -> 36704 | L1020: =IF('Paste RTE Data'!K1017=0,"",'Paste RTE Data'!K1017) -> NO
A1021: =IF('Paste RTE Data'!A1018=0,"",'Paste RTE Data'!A1018) -> 1017 | B1021: =IF('Paste RTE Data'!G1018=0,"",'Paste RTE Data'!G1018) -> 5691 | C1021: =IF('Paste RTE Data'!E1018=0,"",'Paste RTE Data'!E1018) -> Twelth | D1021: Commerce | E1021: =IF('Paste RTE Data'!B1018=0,"",'Paste RTE Data'!B1018) -> AASHISH SHARMA | F1021: =IF('Paste RTE Data'!C1018=0,"",'Paste RTE Data'!C1018) -> SHIV BHAGWAN SHARMA | G1021: =IF('Paste RTE Data'!D1018=0,"",'Paste RTE Data'!D1018) -> GULAB DEVI | H1021: =IF('Paste RTE Data'!F1018=0,"",'Paste RTE Data'!F1018) -> Hindi | I1021: =IF('Paste RTE Data'!H1018=0,"",'Paste RTE Data'!H1018) -> GENERAL | J1021: =IF('Paste RTE Data'!I1018=0,"",'Paste RTE Data'!I1018) -> Boy | K1021: =IF('Paste RTE Data'!J1018=0,"",'Paste RTE Data'!J1018) -> 37413 | L1021: =IF('Paste RTE Data'!K1018=0,"",'Paste RTE Data'!K1018) -> NO
A1022: =IF('Paste RTE Data'!A1019=0,"",'Paste RTE Data'!A1019) -> 1018 | B1022: =IF('Paste RTE Data'!G1019=0,"",'Paste RTE Data'!G1019) -> 6373 | C1022: =IF('Paste RTE Data'!E1019=0,"",'Paste RTE Data'!E1019) -> Twelth | D1022: Agriculture | E1022: =IF('Paste RTE Data'!B1019=0,"",'Paste RTE Data'!B1019) -> AASISH | F1022: =IF('Paste RTE Data'!C1019=0,"",'Paste RTE Data'!C1019) -> CHANDERPAL | G1022: =IF('Paste RTE Data'!D1019=0,"",'Paste RTE Data'!D1019) -> VIJAYLAXMI | H1022: =IF('Paste RTE Data'!F1019=0,"",'Paste RTE Data'!F1019) -> Hindi | I1022: =IF('Paste RTE Data'!H1019=0,"",'Paste RTE Data'!H1019) -> OBC | J1022: =IF('Paste RTE Data'!I1019=0,"",'Paste RTE Data'!I1019) -> Boy | K1022: =IF('Paste RTE Data'!J1019=0,"",'Paste RTE Data'!J1019) -> 38063 | L1022: =IF('Paste RTE Data'!K1019=0,"",'Paste RTE Data'!K1019) -> NO
A1023: =IF('Paste RTE Data'!A1020=0,"",'Paste RTE Data'!A1020) -> 1019 | B1023: =IF('Paste RTE Data'!G1020=0,"",'Paste RTE Data'!G1020) -> 6525 | C1023: =IF('Paste RTE Data'!E1020=0,"",'Paste RTE Data'!E1020) -> Twelth | D1023: Science | E1023: =IF('Paste RTE Data'!B1020=0,"",'Paste RTE Data'!B1020) -> ABDUL KADIR | F1023: =IF('Paste RTE Data'!C1020=0,"",'Paste RTE Data'!C1020) -> MOHD SHARIF | G1023: =IF('Paste RTE Data'!D1020=0,"",'Paste RTE Data'!D1020) -> RAZIYA | H1023: =IF('Paste RTE Data'!F1020=0,"",'Paste RTE Data'!F1020) -> Hindi | I1023: =IF('Paste RTE Data'!H1020=0,"",'Paste RTE Data'!H1020) -> OBC | J1023: =IF('Paste RTE Data'!I1020=0,"",'Paste RTE Data'!I1020) -> Boy | K1023: =IF('Paste RTE Data'!J1020=0,"",'Paste RTE Data'!J1020) -> 38878 | L1023: =IF('Paste RTE Data'!K1020=0,"",'Paste RTE Data'!K1020) -> NO
A1024: =IF('Paste RTE Data'!A1021=0,"",'Paste RTE Data'!A1021) -> 1020 | B1024: =IF('Paste RTE Data'!G1021=0,"",'Paste RTE Data'!G1021) -> 6750 | C1024: =IF('Paste RTE Data'!E1021=0,"",'Paste RTE Data'!E1021) -> Twelth | D1024: Arts | E1024: =IF('Paste RTE Data'!B1021=0,"",'Paste RTE Data'!B1021) -> ADNAN QURESHI | F1024: =IF('Paste RTE Data'!C1021=0,"",'Paste RTE Data'!C1021) -> ASLAM QURESHI | G1024: =IF('Paste RTE Data'!D1021=0,"",'Paste RTE Data'!D1021) -> ASLAM QURESHI | H1024: =IF('Paste RTE Data'!F1021=0,"",'Paste RTE Data'!F1021) -> Hindi | I1024: =IF('Paste RTE Data'!H1021=0,"",'Paste RTE Data'!H1021) -> OBC | J1024: =IF('Paste RTE Data'!I1021=0,"",'Paste RTE Data'!I1021) -> Boy | K1024: =IF('Paste RTE Data'!J1021=0,"",'Paste RTE Data'!J1021) -> 38346 | L1024: =IF('Paste RTE Data'!K1021=0,"",'Paste RTE Data'!K1021) -> NO
A1025: =IF('Paste RTE Data'!A1022=0,"",'Paste RTE Data'!A1022) -> 1021 | B1025: =IF('Paste RTE Data'!G1022=0,"",'Paste RTE Data'!G1022) -> 6063 | C1025: =IF('Paste RTE Data'!E1022=0,"",'Paste RTE Data'!E1022) -> Twelth | D1025: Commerce | E1025: =IF('Paste RTE Data'!B1022=0,"",'Paste RTE Data'!B1022) -> AKRAM | F1025: =IF('Paste RTE Data'!C1022=0,"",'Paste RTE Data'!C1022) -> IBRAHIM | G1025: =IF('Paste RTE Data'!D1022=0,"",'Paste RTE Data'!D1022) -> SAYRA | H1025: =IF('Paste RTE Data'!F1022=0,"",'Paste RTE Data'!F1022) -> Hindi | I1025: =IF('Paste RTE Data'!H1022=0,"",'Paste RTE Data'!H1022) -> OBC | J1025: =IF('Paste RTE Data'!I1022=0,"",'Paste RTE Data'!I1022) -> Boy | K1025: =IF('Paste RTE Data'!J1022=0,"",'Paste RTE Data'!J1022) -> 38235 | L1025: =IF('Paste RTE Data'!K1022=0,"",'Paste RTE Data'!K1022) -> NO
A1026: =IF('Paste RTE Data'!A1023=0,"",'Paste RTE Data'!A1023) -> 1022 | B1026: =IF('Paste RTE Data'!G1023=0,"",'Paste RTE Data'!G1023) -> 6182 | C1026: =IF('Paste RTE Data'!E1023=0,"",'Paste RTE Data'!E1023) -> Twelth | D1026: Agriculture | E1026: =IF('Paste RTE Data'!B1023=0,"",'Paste RTE Data'!B1023) -> AKSHAT BHOI | F1026: =IF('Paste RTE Data'!C1023=0,"",'Paste RTE Data'!C1023) -> PREM PRAKASH BHOI | G1026: =IF('Paste RTE Data'!D1023=0,"",'Paste RTE Data'!D1023) -> SHOBHA BHOI | H1026: =IF('Paste RTE Data'!F1023=0,"",'Paste RTE Data'!F1023) -> Hindi | I1026: =IF('Paste RTE Data'!H1023=0,"",'Paste RTE Data'!H1023) -> OBC | J1026: =IF('Paste RTE Data'!I1023=0,"",'Paste RTE Data'!I1023) -> Boy | K1026: =IF('Paste RTE Data'!J1023=0,"",'Paste RTE Data'!J1023) -> 37798 | L1026: =IF('Paste RTE Data'!K1023=0,"",'Paste RTE Data'!K1023) -> NO
A1027: =IF('Paste RTE Data'!A1024=0,"",'Paste RTE Data'!A1024) -> 1023 | B1027: =IF('Paste RTE Data'!G1024=0,"",'Paste RTE Data'!G1024) -> 6418 | C1027: =IF('Paste RTE Data'!E1024=0,"",'Paste RTE Data'!E1024) -> Twelth | D1027: Science | E1027: =IF('Paste RTE Data'!B1024=0,"",'Paste RTE Data'!B1024) -> AKSHITA MOHANPURIYA | F1027: =IF('Paste RTE Data'!C1024=0,"",'Paste RTE Data'!C1024) -> HANUMAN PRASAD | G1027: =IF('Paste RTE Data'!D1024=0,"",'Paste RTE Data'!D1024) -> BIMLA DEVI | H1027: =IF('Paste RTE Data'!F1024=0,"",'Paste RTE Data'!F1024) -> Hindi | I1027: =IF('Paste RTE Data'!H1024=0,"",'Paste RTE Data'!H1024) -> SC | J1027: =IF('Paste RTE Data'!I1024=0,"",'Paste RTE Data'!I1024) -> Girl | K1027: =IF('Paste RTE Data'!J1024=0,"",'Paste RTE Data'!J1024) -> 38426 | L1027: =IF('Paste RTE Data'!K1024=0,"",'Paste RTE Data'!K1024) -> NO
A1028: =IF('Paste RTE Data'!A1025=0,"",'Paste RTE Data'!A1025) -> 1024 | B1028: =IF('Paste RTE Data'!G1025=0,"",'Paste RTE Data'!G1025) -> 5926 A | C1028: =IF('Paste RTE Data'!E1025=0,"",'Paste RTE Data'!E1025) -> Twelth | D1028: Arts | E1028: =IF('Paste RTE Data'!B1025=0,"",'Paste RTE Data'!B1025) -> ALAVKAS KHAN | F1028: =IF('Paste RTE Data'!C1025=0,"",'Paste RTE Data'!C1025) -> SHOKAT ALI KHAN | G1028: =IF('Paste RTE Data'!D1025=0,"",'Paste RTE Data'!D1025) -> REHANA BANO | H1028: =IF('Paste RTE Data'!F1025=0,"",'Paste RTE Data'!F1025) -> Hindi | I1028: =IF('Paste RTE Data'!H1025=0,"",'Paste RTE Data'!H1025) -> OBC | J1028: =IF('Paste RTE Data'!I1025=0,"",'Paste RTE Data'!I1025) -> Boy | K1028: =IF('Paste RTE Data'!J1025=0,"",'Paste RTE Data'!J1025) -> 38630 | L1028: =IF('Paste RTE Data'!K1025=0,"",'Paste RTE Data'!K1025) -> NO
A1029: =IF('Paste RTE Data'!A1026=0,"",'Paste RTE Data'!A1026) -> 1025 | B1029: =IF('Paste RTE Data'!G1026=0,"",'Paste RTE Data'!G1026) -> 6483 | C1029: =IF('Paste RTE Data'!E1026=0,"",'Paste RTE Data'!E1026) -> Twelth | D1029: Commerce | E1029: =IF('Paste RTE Data'!B1026=0,"",'Paste RTE Data'!B1026) -> ALTAB ALI | F1029: =IF('Paste RTE Data'!C1026=0,"",'Paste RTE Data'!C1026) -> ISMAIL | G1029: =IF('Paste RTE Data'!D1026=0,"",'Paste RTE Data'!D1026) -> DAULAT BANO | H1029: =IF('Paste RTE Data'!F1026=0,"",'Paste RTE Data'!F1026) -> Hindi | I1029: =IF('Paste RTE Data'!H1026=0,"",'Paste RTE Data'!H1026) -> OBC | J1029: =IF('Paste RTE Data'!I1026=0,"",'Paste RTE Data'!I1026) -> Boy | K1029: =IF('Paste RTE Data'!J1026=0,"",'Paste RTE Data'!J1026) -> 38810 | L1029: =IF('Paste RTE Data'!K1026=0,"",'Paste RTE Data'!K1026) -> NO
... A1392: =IF('Paste RTE Data'!A1389=0,"",'Paste RTE Data'!A1389) -> 1388 | B1392: =IF('Paste RTE Data'!G1389=0,"",'Paste RTE Data'!G1389) -> 5845 | C1392: =IF('Paste RTE Data'!E1389=0,"",'Paste RTE Data'!E1389) -> Twelth | D1392: Arts | E1392: =IF('Paste RTE Data'!B1389=0,"",'Paste RTE Data'!B1389) -> YUVRAJ SINGH RAWAT | F1392: =IF('Paste RTE Data'!C1389=0,"",'Paste RTE Data'!C1389) -> BHAWANI SINGH RAWAT | G1392: =IF('Paste RTE Data'!D1389=0,"",'Paste RTE Data'!D1389) -> GAMALA DEVI | H1392: =IF('Paste RTE Data'!F1389=0,"",'Paste RTE Data'!F1389) -> Hindi | I1392: =IF('Paste RTE Data'!H1389=0,"",'Paste RTE Data'!H1389) -> OBC | J1392: =IF('Paste RTE Data'!I1389=0,"",'Paste RTE Data'!I1389) -> Boy | K1392: =IF('Paste RTE Data'!J1389=0,"",'Paste RTE Data'!J1389) -> 37411 | L1392: =IF('Paste RTE Data'!K1389=0,"",'Paste RTE Data'!K1389) -> NO
A1393: =IF('Paste RTE Data'!A1390=0,"",'Paste RTE Data'!A1390) | B1393: =IF('Paste RTE Data'!G1390=0,"",'Paste RTE Data'!G1390) | C1393: =IF('Paste RTE Data'!E1390=0,"",'Paste RTE Data'!E1390) | E1393: =IF('Paste RTE Data'!B1390=0,"",'Paste RTE Data'!B1390) | F1393: =IF('Paste RTE Data'!C1390=0,"",'Paste RTE Data'!C1390) | G1393: =IF('Paste RTE Data'!D1390=0,"",'Paste RTE Data'!D1390) | H1393: =IF('Paste RTE Data'!F1390=0,"",'Paste RTE Data'!F1390) | I1393: =IF('Paste RTE Data'!H1390=0,"",'Paste RTE Data'!H1390) | J1393: =IF('Paste RTE Data'!I1390=0,"",'Paste RTE Data'!I1390) | K1393: =IF('Paste RTE Data'!J1390=0,"",'Paste RTE Data'!J1390) | L1393: =IF('Paste RTE Data'!K1390=0,"",'Paste RTE Data'!K1390)
A1394: =IF('Paste RTE Data'!A1391=0,"",'Paste RTE Data'!A1391) | B1394: =IF('Paste RTE Data'!G1391=0,"",'Paste RTE Data'!G1391) | C1394: =IF('Paste RTE Data'!E1391=0,"",'Paste RTE Data'!E1391) | E1394: =IF('Paste RTE Data'!B1391=0,"",'Paste RTE Data'!B1391) | F1394: =IF('Paste RTE Data'!C1391=0,"",'Paste RTE Data'!C1391) | G1394: =IF('Paste RTE Data'!D1391=0,"",'Paste RTE Data'!D1391) | H1394: =IF('Paste RTE Data'!F1391=0,"",'Paste RTE Data'!F1391) | I1394: =IF('Paste RTE Data'!H1391=0,"",'Paste RTE Data'!H1391) | J1394: =IF('Paste RTE Data'!I1391=0,"",'Paste RTE Data'!I1391) | K1394: =IF('Paste RTE Data'!J1391=0,"",'Paste RTE Data'!J1391) | L1394: =IF('Paste RTE Data'!K1391=0,"",'Paste RTE Data'!K1391)
A1395: =IF('Paste RTE Data'!A1392=0,"",'Paste RTE Data'!A1392) | B1395: =IF('Paste RTE Data'!G1392=0,"",'Paste RTE Data'!G1392) | C1395: =IF('Paste RTE Data'!E1392=0,"",'Paste RTE Data'!E1392) | E1395: =IF('Paste RTE Data'!B1392=0,"",'Paste RTE Data'!B1392) | F1395: =IF('Paste RTE Data'!C1392=0,"",'Paste RTE Data'!C1392) | G1395: =IF('Paste RTE Data'!D1392=0,"",'Paste RTE Data'!D1392) | H1395: =IF('Paste RTE Data'!F1392=0,"",'Paste RTE Data'!F1392) | I1395: =IF('Paste RTE Data'!H1392=0,"",'Paste RTE Data'!H1392) | J1395: =IF('Paste RTE Data'!I1392=0,"",'Paste RTE Data'!I1392) | K1395: =IF('Paste RTE Data'!J1392=0,"",'Paste RTE Data'!J1392) | L1395: =IF('Paste RTE Data'!K1392=0,"",'Paste RTE Data'!K1392)
A1396: =IF('Paste RTE Data'!A1393=0,"",'Paste RTE Data'!A1393) | B1396: =IF('Paste RTE Data'!G1393=0,"",'Paste RTE Data'!G1393) | C1396: =IF('Paste RTE Data'!E1393=0,"",'Paste RTE Data'!E1393) | E1396: =IF('Paste RTE Data'!B1393=0,"",'Paste RTE Data'!B1393) | F1396: =IF('Paste RTE Data'!C1393=0,"",'Paste RTE Data'!C1393) | G1396: =IF('Paste RTE Data'!D1393=0,"",'Paste RTE Data'!D1393) | H1396: =IF('Paste RTE Data'!F1393=0,"",'Paste RTE Data'!F1393) | I1396: =IF('Paste RTE Data'!H1393=0,"",'Paste RTE Data'!H1393) | J1396: =IF('Paste RTE Data'!I1393=0,"",'Paste RTE Data'!I1393) | K1396: =IF('Paste RTE Data'!J1393=0,"",'Paste RTE Data'!J1393) | L1396: =IF('Paste RTE Data'!K1393=0,"",'Paste RTE Data'!K1393)
A1397: =IF('Paste RTE Data'!A1394=0,"",'Paste RTE Data'!A1394) | B1397: =IF('Paste RTE Data'!G1394=0,"",'Paste RTE Data'!G1394) | C1397: =IF('Paste RTE Data'!E1394=0,"",'Paste RTE Data'!E1394) | E1397: =IF('Paste RTE Data'!B1394=0,"",'Paste RTE Data'!B1394) | F1397: =IF('Paste RTE Data'!C1394=0,"",'Paste RTE Data'!C1394) | G1397: =IF('Paste RTE Data'!D1394=0,"",'Paste RTE Data'!D1394) | H1397: =IF('Paste RTE Data'!F1394=0,"",'Paste RTE Data'!F1394) | I1397: =IF('Paste RTE Data'!H1394=0,"",'Paste RTE Data'!H1394) | J1397: =IF('Paste RTE Data'!I1394=0,"",'Paste RTE Data'!I1394) | K1397: =IF('Paste RTE Data'!J1394=0,"",'Paste RTE Data'!J1394) | L1397: =IF('Paste RTE Data'!K1394=0,"",'Paste RTE Data'!K1394)
A1398: =IF('Paste RTE Data'!A1395=0,"",'Paste RTE Data'!A1395) | B1398: =IF('Paste RTE Data'!G1395=0,"",'Paste RTE Data'!G1395) | C1398: =IF('Paste RTE Data'!E1395=0,"",'Paste RTE Data'!E1395) | E1398: =IF('Paste RTE Data'!B1395=0,"",'Paste RTE Data'!B1395) | F1398: =IF('Paste RTE Data'!C1395=0,"",'Paste RTE Data'!C1395) | G1398: =IF('Paste RTE Data'!D1395=0,"",'Paste RTE Data'!D1395) | H1398: =IF('Paste RTE Data'!F1395=0,"",'Paste RTE Data'!F1395) | I1398: =IF('Paste RTE Data'!H1395=0,"",'Paste RTE Data'!H1395) | J1398: =IF('Paste RTE Data'!I1395=0,"",'Paste RTE Data'!I1395) | K1398: =IF('Paste RTE Data'!J1395=0,"",'Paste RTE Data'!J1395) | L1398: =IF('Paste RTE Data'!K1395=0,"",'Paste RTE Data'!K1395)
A1399: =IF('Paste RTE Data'!A1396=0,"",'Paste RTE Data'!A1396) | B1399: =IF('Paste RTE Data'!G1396=0,"",'Paste RTE Data'!G1396) | C1399: =IF('Paste RTE Data'!E1396=0,"",'Paste RTE Data'!E1396) | E1399: =IF('Paste RTE Data'!B1396=0,"",'Paste RTE Data'!B1396) | F1399: =IF('Paste RTE Data'!C1396=0,"",'Paste RTE Data'!C1396) | G1399: =IF('Paste RTE Data'!D1396=0,"",'Paste RTE Data'!D1396) | H1399: =IF('Paste RTE Data'!F1396=0,"",'Paste RTE Data'!F1396) | I1399: =IF('Paste RTE Data'!H1396=0,"",'Paste RTE Data'!H1396) | J1399: =IF('Paste RTE Data'!I1396=0,"",'Paste RTE Data'!I1396) | K1399: =IF('Paste RTE Data'!J1396=0,"",'Paste RTE Data'!J1396) | L1399: =IF('Paste RTE Data'!K1396=0,"",'Paste RTE Data'!K1396)
A1400: =IF('Paste RTE Data'!A1397=0,"",'Paste RTE Data'!A1397) | B1400: =IF('Paste RTE Data'!G1397=0,"",'Paste RTE Data'!G1397) | C1400: =IF('Paste RTE Data'!E1397=0,"",'Paste RTE Data'!E1397) | E1400: =IF('Paste RTE Data'!B1397=0,"",'Paste RTE Data'!B1397) | F1400: =IF('Paste RTE Data'!C1397=0,"",'Paste RTE Data'!C1397) | G1400: =IF('Paste RTE Data'!D1397=0,"",'Paste RTE Data'!D1397) | H1400: =IF('Paste RTE Data'!F1397=0,"",'Paste RTE Data'!F1397) | I1400: =IF('Paste RTE Data'!H1397=0,"",'Paste RTE Data'!H1397) | J1400: =IF('Paste RTE Data'!I1397=0,"",'Paste RTE Data'!I1397) | K1400: =IF('Paste RTE Data'!J1397=0,"",'Paste RTE Data'!J1397) | L1400: =IF('Paste RTE Data'!K1397=0,"",'Paste RTE Data'!K1397)
A1401: =IF('Paste RTE Data'!A1398=0,"",'Paste RTE Data'!A1398) | B1401: =IF('Paste RTE Data'!G1398=0,"",'Paste RTE Data'!G1398) | C1401: =IF('Paste RTE Data'!E1398=0,"",'Paste RTE Data'!E1398) | E1401: =IF('Paste RTE Data'!B1398=0,"",'Paste RTE Data'!B1398) | F1401: =IF('Paste RTE Data'!C1398=0,"",'Paste RTE Data'!C1398) | G1401: =IF('Paste RTE Data'!D1398=0,"",'Paste RTE Data'!D1398) | H1401: =IF('Paste RTE Data'!F1398=0,"",'Paste RTE Data'!F1398) | I1401: =IF('Paste RTE Data'!H1398=0,"",'Paste RTE Data'!H1398) | J1401: =IF('Paste RTE Data'!I1398=0,"",'Paste RTE Data'!I1398) | K1401: =IF('Paste RTE Data'!J1398=0,"",'Paste RTE Data'!J1398) | L1401: =IF('Paste RTE Data'!K1398=0,"",'Paste RTE Data'!K1398)
A1402: =IF('Paste RTE Data'!A1399=0,"",'Paste RTE Data'!A1399) | B1402: =IF('Paste RTE Data'!G1399=0,"",'Paste RTE Data'!G1399) | C1402: =IF('Paste RTE Data'!E1399=0,"",'Paste RTE Data'!E1399) | E1402: =IF('Paste RTE Data'!B1399=0,"",'Paste RTE Data'!B1399) | F1402: =IF('Paste RTE Data'!C1399=0,"",'Paste RTE Data'!C1399) | G1402: =IF('Paste RTE Data'!D1399=0,"",'Paste RTE Data'!D1399) | H1402: =IF('Paste RTE Data'!F1399=0,"",'Paste RTE Data'!F1399) | I1402: =IF('Paste RTE Data'!H1399=0,"",'Paste RTE Data'!H1399) | J1402: =IF('Paste RTE Data'!I1399=0,"",'Paste RTE Data'!I1399) | K1402: =IF('Paste RTE Data'!J1399=0,"",'Paste RTE Data'!J1399) | L1402: =IF('Paste RTE Data'!K1399=0,"",'Paste RTE Data'!K1399)
A1403: =IF('Paste RTE Data'!A1400=0,"",'Paste RTE Data'!A1400) | B1403: =IF('Paste RTE Data'!G1400=0,"",'Paste RTE Data'!G1400) | C1403: =IF('Paste RTE Data'!E1400=0,"",'Paste RTE Data'!E1400) | E1403: =IF('Paste RTE Data'!B1400=0,"",'Paste RTE Data'!B1400) | F1403: =IF('Paste RTE Data'!C1400=0,"",'Paste RTE Data'!C1400) | G1403: =IF('Paste RTE Data'!D1400=0,"",'Paste RTE Data'!D1400) | H1403: =IF('Paste RTE Data'!F1400=0,"",'Paste RTE Data'!F1400) | I1403: =IF('Paste RTE Data'!H1400=0,"",'Paste RTE Data'!H1400) | J1403: =IF('Paste RTE Data'!I1400=0,"",'Paste RTE Data'!I1400) | K1403: =IF('Paste RTE Data'!J1400=0,"",'Paste RTE Data'!J1400) | L1403: =IF('Paste RTE Data'!K1400=0,"",'Paste RTE Data'!K1400)
A1404: =IF('Paste RTE Data'!A1401=0,"",'Paste RTE Data'!A1401) | B1404: =IF('Paste RTE Data'!G1401=0,"",'Paste RTE Data'!G1401) | C1404: =IF('Paste RTE Data'!E1401=0,"",'Paste RTE Data'!E1401) | E1404: =IF('Paste RTE Data'!B1401=0,"",'Paste RTE Data'!B1401) | F1404: =IF('Paste RTE Data'!C1401=0,"",'Paste RTE Data'!C1401) | G1404: =IF('Paste RTE Data'!D1401=0,"",'Paste RTE Data'!D1401) | H1404: =IF('Paste RTE Data'!F1401=0,"",'Paste RTE Data'!F1401) | I1404: =IF('Paste RTE Data'!H1401=0,"",'Paste RTE Data'!H1401) | J1404: =IF('Paste RTE Data'!I1401=0,"",'Paste RTE Data'!I1401) | K1404: =IF('Paste RTE Data'!J1401=0,"",'Paste RTE Data'!J1401) | L1404: =IF('Paste RTE Data'!K1401=0,"",'Paste RTE Data'!K1401)
... A3001: =IF('Paste RTE Data'!A2998=0,"",'Paste RTE Data'!A2998) | B3001: =IF('Paste RTE Data'!G2998=0,"",'Paste RTE Data'!G2998) | C3001: =IF('Paste RTE Data'!E2998=0,"",'Paste RTE Data'!E2998) | E3001: =IF('Paste RTE Data'!B2998=0,"",'Paste RTE Data'!B2998) | F3001: =IF('Paste RTE Data'!C2998=0,"",'Paste RTE Data'!C2998) | G3001: =IF('Paste RTE Data'!D2998=0,"",'Paste RTE Data'!D2998) | H3001: =IF('Paste RTE Data'!F2998=0,"",'Paste RTE Data'!F2998) | I3001: =IF('Paste RTE Data'!H2998=0,"",'Paste RTE Data'!H2998) | J3001: =IF('Paste RTE Data'!I2998=0,"",'Paste RTE Data'!I2998) | K3001: =IF('Paste RTE Data'!J2998=0,"",'Paste RTE Data'!J2998) | L3001: =IF('Paste RTE Data'!K2998=0,"",'Paste RTE Data'!K2998)

Sheet Deposit
A1: ='School Intro'!A1:G1 -> GOVERNMENT SENIOR SECONDARY SCHOOL, ROOPPURA (KUCHAMAN CITY)
A2: Fees Deposit by Months
A3: S.N. | B3: SR.No. | C3: Class | D3: Stream | E3: Medium | F3: Name | G3: Father's Name | H3: Jan | I3: Feb | J3: Mar | K3: Apr | L3: May | M3: Jun | N3: Jul | O3: Aug | P3: Sep | Q3: Oct | R3: Nov | S3: Dec | T3: Total | U3: Total fees | V3: Balance
B4: 1 | C4: 2 | D4: 3 | E4: 4 | F4: 5 | G4: 6 | H4: 7 | I4: 8 | J4: 9 | K4: 10 | L4: 11 | M4: 12 | N4: 13 | O4: 14 | P4: 15 | Q4: 16 | R4: 17 | S4: 18 | T4: 19 | U4: 20 | V4: 21
A5: =IF('Student''s Data'!A5=0,"",'Student''s Data'!A5) -> 1 | B5: =IF('Student''s Data'!B5=0,"",'Student''s Data'!B5) -> 6475 | C5: =IF('Student''s Data'!C5=0,"",'Student''s Data'!C5) -> Second | D5: =IF('Student''s Data'!D5=0,"",'Student''s Data'!D5) | E5: =IF('Student''s Data'!H5=0,"",'Student''s Data'!H5) -> English | F5: =IF('Student''s Data'!E5=0,"",'Student''s Data'!E5) -> AALIYA | G5: =IF('Student''s Data'!F5=0,"",'Student''s Data'!F5) -> ABDUL RASID | T5: =IF(SUM(Table4[[#This Row],[Jan]:[Dec]])=0,"",(SUM(Table4[[#This Row],[Jan]:[Dec]]))) | U5: =IFERROR(IF(Table5[[#This Row],[Is RTE Student]]="Yes",0,VLOOKUP(Table4[[#This Row],[Class]]&"_"&Table4[[#This Row],[Stream]]&"_"&Table4[[#This Row],[Medium]],total_fee,5,0)),0) -> 0 | V5: =IFERROR(IF(Table4[[#This Row],[Total fees]]=Table4[[#This Row],[Total]]=0,"",Table4[[#This Row],[Total fees]]-Table4[[#This Row],[Total]]),"")
A6: =IF('Student''s Data'!A6=0,"",'Student''s Data'!A6) -> 2 | B6: =IF('Student''s Data'!B6=0,"",'Student''s Data'!B6) -> 6455 | C6: =IF('Student''s Data'!C6=0,"",'Student''s Data'!C6) -> Second | D6: =IF('Student''s Data'!D6=0,"",'Student''s Data'!D6) | E6: =IF('Student''s Data'!H6=0,"",'Student''s Data'!H6) -> Hindi | F6: =IF('Student''s Data'!E6=0,"",'Student''s Data'!E6) -> AALIYA BANO | G6: =IF('Student''s Data'!F6=0,"",'Student''s Data'!F6) -> AABID | T6: =IF(SUM(Table4[[#This Row],[Jan]:[Dec]])=0,"",(SUM(Table4[[#This Row],[Jan]:[Dec]]))) | U6: =IFERROR(IF(Table5[[#This Row],[Is RTE Student]]="Yes",0,VLOOKUP(Table4[[#This Row],[Class]]&"_"&Table4[[#This Row],[Stream]]&"_"&Table4[[#This Row],[Medium]],total_fee,5,0)),0) -> 0 | V6: =IFERROR(IF(Table4[[#This Row],[Total fees]]=Table4[[#This Row],[Total]]=0,"",Table4[[#This Row],[Total fees]]-Table4[[#This Row],[Total]]),"")
A7: =IF('Student''s Data'!A7=0,"",'Student''s Data'!A7) -> 3 | B7: =IF('Student''s Data'!B7=0,"",'Student''s Data'!B7) -> E136 | C7: =IF('Student''s Data'!C7=0,"",'Student''s Data'!C7) -> Second | D7: =IF('Student''s Data'!D7=0,"",'Student''s Data'!D7) | E7: =IF('Student''s Data'!H7=0,"",'Student''s Data'!H7) -> English | F7: =IF('Student''s Data'!E7=0,"",'Student''s Data'!E7) -> AAYAT BANO | G7: =IF('Student''s Data'!F7=0,"",'Student''s Data'!F7) -> MOHAMMED HAFIJ | T7: =IF(SUM(Table4[[#This Row],[Jan]:[Dec]])=0,"",(SUM(Table4[[#This Row],[Jan]:[Dec]]))) | U7: =IFERROR(IF(Table5[[#This Row],[Is RTE Student]]="Yes",0,VLOOKUP(Table4[[#This Row],[Class]]&"_"&Table4[[#This Row],[Stream]]&"_"&Table4[[#This Row],[Medium]],total_fee,5,0)),0) -> 0 | V7: =IFERROR(IF(Table4[[#This Row],[Total fees]]=Table4[[#This Row],[Total]]=0,"",Table4[[#This Row],[Total fees]]-Table4[[#This Row],[Total]]),"")
A8: =IF('Student''s Data'!A8=0,"",'Student''s Data'!A8) -> 4 | B8: =IF('Student''s Data'!B8=0,"",'Student''s Data'!B8) -> 6470 | C8: =IF('Student''s Data'!C8=0,"",'Student''s Data'!C8) -> Second | D8: =IF('Student''s Data'!D8=0,"",'Student''s Data'!D8) | E8: =IF('Student''s Data'!H8=0,"",'Student''s Data'!H8) -> Hindi | F8: =IF('Student''s Data'!E8=0,"",'Student''s Data'!E8) -> ADIBA BANO | G8: =IF('Student''s Data'!F8=0,"",'Student''s Data'!F8) -> MOHAMMAD JAVED | T8: =IF(SUM(Table4[[#This Row],[Jan]:[Dec]])=0,"",(SUM(Table4[[#This Row],[Jan]:[Dec]]))) | U8: =IFERROR(IF(Table5[[#This Row],[Is RTE Student]]="Yes",0,VLOOKUP(Table4[[#This Row],[Class]]&"_"&Table4[[#This Row],[Stream]]&"_"&Table4[[#This Row],[Medium]],total_fee,5,0)),0) -> 0 | V8: =IFERROR(IF(Table4[[#This Row],[Total fees]]=Table4[[#This Row],[Total]]=0,"",Table4[[#This Row],[Total fees]]-Table4[[#This Row],[Total]]),"")
A9: =IF('Student''s Data'!A9=0,"",'Student''s Data'!A9) -> 5 | B9: =IF('Student''s Data'!B9=0,"",'Student''s Data'!B9) -> 6324 | C9: =IF('Student''s Data'!C9=0,"",'Student''s Data'!C9) -> Second | D9: =IF('Student''s Data'!D9=0,"",'Student''s Data'!D9) | E9: =IF('Student''s Data'!H9=0,"",'Student''s Data'!H9) -> Hindi | F9: =IF('Student''s Data'!E9=0,"",'Student''s Data'!E9) -> AMRAT LAL | G9: =IF('Student''s Data'!F9=0,"",'Student''s Data'!F9) -> KISHAN LAL | T9: =IF(SUM(Table4[[#This Row],[Jan]:[Dec]])=0,"",(SUM(Table4[[#This Row],[Jan]:[Dec]]))) | U9: =IFERROR(IF(Table5[[#This Row],[Is RTE Student]]="Yes",0,VLOOKUP(Table4[[#This Row],[Class]]&"_"&Table4[[#This Row],[Stream]]&"_"&Table4[[#This Row],[Medium]],total_fee,5,0)),0) -> 10000 | V9: =IFERROR(IF(Table4[[#This Row],[Total fees]]=Table4[[#This Row],[Total]]=0,"",Table4[[#This Row],[Total fees]]-Table4[[#This Row],[Total]]),"")
A10: =IF('Student''s Data'!A10=0,"",'Student''s Data'!A10) -> 6 | B10: =IF('Student''s Data'!B10=0,"",'Student''s Data'!B10) -> 6705 | C10: =IF('Student''s Data'!C10=0,"",'Student''s Data'!C10) -> Second | D10: =IF('Student''s Data'!D10=0,"",'Student''s Data'!D10) | E10: =IF('Student''s Data'!H10=0,"",'Student''s Data'!H10) -> Hindi | F10: =IF('Student''s Data'!E10=0,"",'Student''s Data'!E10) -> ANIKET | G10: =IF('Student''s Data'!F10=0,"",'Student''s Data'!F10) -> MANOHAR KUMAR | T10: =IF(SUM(Table4[[#This Row],[Jan]:[Dec]])=0,"",(SUM(Table4[[#This Row],[Jan]:[Dec]]))) | U10: =IFERROR(IF(Table5[[#This Row],[Is RTE Student]]="Yes",0,VLOOKUP(Table4[[#This Row],[Class]]&"_"&Table4[[#This Row],[Stream]]&"_"&Table4[[#This Row],[Medium]],total_fee,5,0)),0) -> 10000 | V10: =IFERROR(IF(Table4[[#This Row],[Total fees]]=Table4[[#This Row],[Total]]=0,"",Table4[[#This Row],[Total fees]]-Table4[[#This Row],[Total]]),"")
A11: =IF('Student''s Data'!A11=0,"",'Student''s Data'!A11) -> 7 | B11: =IF('Student''s Data'!B11=0,"",'Student''s Data'!B11) -> 6463 | C11: =IF('Student''s Data'!C11=0,"",'Student''s Data'!C11) -> Second | D11: =IF('Student''s Data'!D11=0,"",'Student''s Data'!D11) | E11: =IF('Student''s Data'!H11=0,"",'Student''s Data'!H11) -> Hindi | F11: =IF('Student''s Data'!E11=0,"",'Student''s Data'!E11) -> ANJU | G11: =IF('Student''s Data'!F11=0,"",'Student''s Data'!F11) -> TULSI RAM | T11: =IF(SUM(Table4[[#This Row],[Jan]:[Dec]])=0,"",(SUM(Table4[[#This Row],[Jan]:[Dec]]))) | U11: =IFERROR(IF(Table5[[#This Row],[Is RTE Student]]="Yes",0,VLOOKUP(Table4[[#This Row],[Class]]&"_"&Table4[[#This Row],[Stream]]&"_"&Table4[[#This Row],[Medium]],total_fee,5,0)),0) -> 10000 | V11: =IFERROR(IF(Table4[[#This Row],[Total fees]]=Table4[[#This Row],[Total]]=0,"",Table4[[#This Row],[Total fees]]-Table4[[#This Row],[Total]]),"")
A12: =IF('Student''s Data'!A12=0,"",'Student''s Data'!A12) -> 8 | B12: =IF('Student''s Data'!B12=0,"",'Student''s Data'!B12) -> E0119 | C12: =IF('Student''s Data'!C12=0,"",'Student''s Data'!C12) -> Second | D12: =IF('Student''s Data'!D12=0,"",'Student''s Data'!D12) | E12: =IF('Student''s Data'!H12=0,"",'Student''s Data'!H12) -> English | F12: =IF('Student''s Data'!E12=0,"",'Student''s Data'!E12) -> ANURAG SARWA | G12: =IF('Student''s Data'!F12=0,"",'Student''s Data'!F12) -> BAJRANG LAL SARWA | T12: =IF(SUM(Table4[[#This Row],[Jan]:[Dec]])=0,"",(SUM(Table4[[#This Row],[Jan]:[Dec]]))) | U12: =IFERROR(IF(Table5[[#This Row],[Is RTE Student]]="Yes",0,VLOOKUP(Table4[[#This Row],[Class]]&"_"&Table4[[#This Row],[Stream]]&"_"&Table4[[#This Row],[Medium]],total_fee,5,0)),0) -> 11000 | V12: =IFERROR(IF(Table4[[#This Row],[Total fees]]=Table4[[#This Row],[Total]]=0,"",Table4[[#This Row],[Total fees]]-Table4[[#This Row],[Total]]),"")
A13: =IF('Student''s Data'!A13=0,"",'Student''s Data'!A13) -> 9 | B13: =IF('Student''s Data'!B13=0,"",'Student''s Data'!B13) -> 6457 | C13: =IF('Student''s Data'!C13=0,"",'Student''s Data'!C13) -> Second | D13: =IF('Student''s Data'!D13=0,"",'Student''s Data'!D13) | E13: =IF('Student''s Data'!H13=0,"",'Student''s Data'!H13) -> Hindi | F13: =IF('Student''s Data'!E13=0,"",'Student''s Data'!E13) -> ANUSHKA | G13: =IF('Student''s Data'!F13=0,"",'Student''s Data'!F13) -> RAKESH | T13: =IF(SUM(Table4[[#This Row],[Jan]:[Dec]])=0,"",(SUM(Table4[[#This Row],[Jan]:[Dec]]))) | U13: =IFERROR(IF(Table5[[#This Row],[Is RTE Student]]="Yes",0,VLOOKUP(Table4[[#This Row],[Class]]&"_"&Table4[[#This Row],[Stream]]&"_"&Table4[[#This Row],[Medium]],total_fee,5,0)),0) -> 10000 | V13: =IFERROR(IF(Table4[[#This Row],[Total fees]]=Table4[[#This Row],[Total]]=0,"",Table4[[#This Row],[Total fees]]-Table4[[#This Row],[Total]]),"")
A14: =IF('Student''s Data'!A14=0,"",'Student''s Data'!A14) -> 10 | B14: =IF('Student''s Data'!B14=0,"",'Student''s Data'!B14) -> E0073 | C14: =IF('Student''s Data'!C14=0,"",'Student''s Data'!C14) -> Second | D14: =IF('Student''s Data'!D14=0,"",'Student''s Data'!D14) | E14: =IF('Student''s Data'!H14=0,"",'Student''s Data'!H14) -> English | F14: =IF('Student''s Data'!E14=0,"",'Student''s Data'!E14) -> ASAD AHMED | G14: =IF('Student''s Data'!F14=0,"",'Student''s Data'!F14) -> AHASAN TAK | T14: =IF(SUM(Table4[[#This Row],[Jan]:[Dec]])=0,"",(SUM(Table4[[#This Row],[Jan]:[Dec]]))) | U14: =IFERROR(IF(Table5[[#This Row],[Is RTE Student]]="Yes",0,VLOOKUP(Table4[[#This Row],[Class]]&"_"&Table4[[#This Row],[Stream]]&"_"&Table4[[#This Row],[Medium]],total_fee,5,0)),0) -> 11000 | V14: =IFERROR(IF(Table4[[#This Row],[Total fees]]=Table4[[#This Row],[Total]]=0,"",Table4[[#This Row],[Total fees]]-Table4[[#This Row],[Total]]),"")
A15: =IF('Student''s Data'!A15=0,"",'Student''s Data'!A15) -> 11 | B15: =IF('Student''s Data'!B15=0,"",'Student''s Data'!B15) -> E138 | C15: =IF('Student''s Data'!C15=0,"",'Student''s Data'!C15) -> Second | D15: =IF('Student''s Data'!D15=0,"",'Student''s Data'!D15) | E15: =IF('Student''s Data'!H15=0,"",'Student''s Data'!H15) -> English | F15: =IF('Student''s Data'!E15=0,"",'Student''s Data'!E15) -> ATIKA | G15: =IF('Student''s Data'!F15=0,"",'Student''s Data'!F15) -> MOHAMMAD AKIL | T15: =IF(SUM(Table4[[#This Row],[Jan]:[Dec]])=0,"",(SUM(Table4[[#This Row],[Jan]:[Dec]]))) | U15: =IFERROR(IF(Table5[[#This Row],[Is RTE Student]]="Yes",0,VLOOKUP(Table4[[#This Row],[Class]]&"_"&Table4[[#This Row],[Stream]]&"_"&Table4[[#This Row],[Medium]],total_fee,5,0)),0) -> 0 | V15: =IFERROR(IF(Table4[[#This Row],[Total fees]]=Table4[[#This Row],[Total]]=0,"",Table4[[#This Row],[Total fees]]-Table4[[#This Row],[Total]]),"")
A16: =IF('Student''s Data'!A16=0,"",'Student''s Data'!A16) -> 12 | B16: =IF('Student''s Data'!B16=0,"",'Student''s Data'!B16) -> 6369 | C16: =IF('Student''s Data'!C16=0,"",'Student''s Data'!C16) -> Second | D16: =IF('Student''s Data'!D16=0,"",'Student''s Data'!D16) | E16: =IF('Student''s Data'!H16=0,"",'Student''s Data'!H16) -> Hindi | F16: =IF('Student''s Data'!E16=0,"",'Student''s Data'!E16) -> BHARAT SHARMA | G16: =IF('Student''s Data'!F16=0,"",'Student''s Data'!F16) -> HEMRAJ | T16: =IF(SUM(Table4[[#This Row],[Jan]:[Dec]])=0,"",(SUM(Table4[[#This Row],[Jan]:[Dec]]))) | U16: =IFERROR(IF(Table5[[#This Row],[Is RTE Student]]="Yes",0,VLOOKUP(Table4[[#This Row],[Class]]&"_"&Table4[[#This Row],[Stream]]&"_"&Table4[[#This Row],[Medium]],total_fee,5,0)),0) -> 10000 | V16: =IFERROR(IF(Table4[[#This Row],[Total fees]]=Table4[[#This Row],[Total]]=0,"",Table4[[#This Row],[Total fees]]-Table4[[#This Row],[Total]]),"")
... A3002: =IF('Student''s Data'!A3002=0,"",'Student''s Data'!A3002) | B3002: =IF('Student''s Data'!B3002=0,"",'Student''s Data'!B3002) | C3002: =IF('Student''s Data'!C3002=0,"",'Student''s Data'!C3002) | D3002: =IF('Student''s Data'!D3002=0,"",'Student''s Data'!D3002) | E3002: =IF('Student''s Data'!H3002=0,"",'Student''s Data'!H3002) | F3002: =IF('Student''s Data'!E3002=0,"",'Student''s Data'!E3002) | G3002: =IF('Student''s Data'!F3002=0,"",'Student''s Data'!F3002) | T3002: =IF(SUM(Table4[[#This Row],[Jan]:[Dec]])=0,"",(SUM(Table4[[#This Row],[Jan]:[Dec]]))) | U3002: =IFERROR(IF(Table5[[#This Row],[Is RTE Student]]="Yes",0,VLOOKUP(Table4[[#This Row],[Class]]&"_"&Table4[[#This Row],[Stream]]&"_"&Table4[[#This Row],[Medium]],total_fee,5,0)),0) -> 0 | V3002: =IFERROR(IF(Table4[[#This Row],[Total fees]]=Table4[[#This Row],[Total]]=0,"",Table4[[#This Row],[Total fees]]-Table4[[#This Row],[Total]]),"")

Sheet ReceiptTotal
A1: ='School Intro'!$A$1 -> GOVERNMENT SENIOR SECONDARY SCHOOL, ROOPPURA (KUCHAMAN CITY)
A2: Receipt No. | J2: Student's Copy
A3: Fee Receipt
A4: Date- | B4: =TODAY() -> 44089 | J4: SR.NO. | K4: 6475
A6: Student's Name- | D6: =IFERROR(VLOOKUP($K$4,deposit_data,5,0),"NA") -> AALIYA
A8: Father's Name- | D8: =IFERROR(VLOOKUP($K$4,deposit_data,6,0),"NA") -> ABDUL RASID
A10: Class- | B10: =IFERROR(VLOOKUP($K$4,deposit_data,2,0),"NA") -> Second | D10: Stream- | E10: =IFERROR(VLOOKUP($K$4,deposit_data,3,0),"NA") | I10: Medium- | K10: =IFERROR(VLOOKUP($K$4,deposit_data,4,0),"NA") -> English
A12: Fees Deposit by Months
A13: JAN | B13: FEB | C13: MAR | D13: APR | E13: MAY | F13: JUN | G13: JUL | H13: AUG | I13: SEP | J13: OCT | K13: NOV | L13: DEC
A14: =IFERROR(VLOOKUP($K$4,deposit_data,7,0),"NA") -> 0 | B14: =IFERROR(VLOOKUP($K$4,deposit_data,8,0),"NA") -> 0 | C14: =IFERROR(VLOOKUP($K$4,deposit_data,9,0),"NA") -> 0 | D14: =IFERROR(VLOOKUP($K$4,deposit_data,10,0),"NA") -> 0 | E14: =IFERROR(VLOOKUP($K$4,deposit_data,11,0),"NA") -> 0 | F14: =IFERROR(VLOOKUP($K$4,deposit_data,12,0),"NA") -> 0 | G14: =IFERROR(VLOOKUP($K$4,deposit_data,13,0),"NA") -> 0 | H14: =IFERROR(VLOOKUP($K$4,deposit_data,14,0),"NA") -> 0 | I14: =IFERROR(VLOOKUP($K$4,deposit_data,15,0),"NA") -> 0 | J14: =IFERROR(VLOOKUP($K$4,deposit_data,16,0),"NA") -> 0 | K14: =IFERROR(VLOOKUP($K$4,deposit_data,17,0),"NA") -> 0 | L14: =IFERROR(VLOOKUP($K$4,deposit_data,18,0),"NA") -> 0
A16: Total Fees | I16: Received Upto
A17: =VLOOKUP($K$4,deposit_data,20,0) -> 0 | E17: Balance | I17: =SUM(A14:L14) -> 0
E18: =A17-I17 -> 0
A19: In Words - | C19: =PROPER(SpellNumber(I39)&" "&"Rupees Only") -> #NAME?
J20: Recevier's Sign
A22: -------------------------------------------------cut------------------------------------------------
A23: ='School Intro'!$A$1 -> GOVERNMENT SENIOR SECONDARY SCHOOL, ROOPPURA (KUCHAMAN CITY)
A24: Receipt No. | J24: Institution's Copy
A25: Fee Receipt
A26: Date- | B26: =B4 -> 44089 | J26: SR.NO. | K26: =K4 -> 6475
A28: Student's Name- | D28: =D6 -> AALIYA
A30: Father's Name- | D30: =D8 -> ABDUL RASID
A32: Class- | B32: =B10 -> Second | D32: Stream- | E32: =E10 | I32: Medium- | K32: =K10 -> English
A34: Fees Deposit by Months
A35: JAN | B35: FEB | C35: MAR | D35: APR | E35: MAY | F35: JUN | G35: JUL | H35: AUG | I35: SEP | J35: OCT | K35: NOV | L35: DEC
A36: =A14 -> 0 | B36: =B14 -> 0 | C36: =C14 -> 0 | D36: =D14 -> 0 | E36: =E14 -> 0 | F36: =F14 -> 0 | G36: =G14 -> 0 | H36: =H14 -> 0 | ... L36: =L14 -> 0
A38: Total Fees | I38: Received Upto
A39: =A17 -> 0 | E39: Balance | I39: =I17 -> 0
E40: =E18 -> 0
A41: In Words - | C41: =C19 -> #NAME?
J42: Recevier's Sign

Sheet Receiptbymonth
A1: ='School Intro'!$A$1 -> GOVERNMENT SENIOR SECONDARY SCHOOL, ROOPPURA (KUCHAMAN CITY)
A2: Receipt No. | J2: Student's Copy
A3: Fee Receipt
A4: Date- | B4: =TODAY() -> 44089 | E4: Month | F4: feb | J4: SR.NO. | K4: 6475
A6: Student's Name- | D6: =IFERROR(VLOOKUP($K$4,deposit_data,5,0),"NA") -> AALIYA
A8: Father's Name- | D8: =IFERROR(VLOOKUP($K$4,deposit_data,6,0),"NA") -> ABDUL RASID
A10: Class- | B10: =IFERROR(VLOOKUP($K$4,deposit_data,2,0),"NA") -> Second | D10: Stream- | E10: =IFERROR(VLOOKUP($K$4,deposit_data,3,0),"NA") | I10: Medium- | K10: =IFERROR(VLOOKUP($K$4,deposit_data,4,0),"NA") -> English
A12: Total Fees | C12: =IFERROR(VLOOKUP($K$4,deposit_data,20,0),"NA") -> 0 | F12: Received In This Month | J12: =IFERROR(VLOOKUP($K$4,deposit_data,HLOOKUP($F$4,deposit_by_month,2,0),0),"NA") -> 0
B14: Balance | G14: =IFERROR(VLOOKUP($K$4,deposit_data,21,0),"NA")
A16: In Words - | C16: =PROPER(SpellNumber(J12)&" "&"Rupees Only") -> #NAME?
J17: Recevier's Sign
A19: ---------------------------------------cut----------------------------------------------
A21: =A1 -> GOVERNMENT SENIOR SECONDARY SCHOOL, ROOPPURA (KUCHAMAN CITY)
A22: Receipt No. | J22: Student's Copy
A23: Fee Receipt
A24: Date- | B24: =B4 -> 44089 | E24: Month | F24: =F4 -> feb | J24: SR.NO. | K24: =K4 -> 6475
A26: Student's Name- | D26: =D6 -> AALIYA
A28: Father's Name- | D28: =D8 -> ABDUL RASID
A30: Class- | B30: =B10 -> Second | D30: Stream- | E30: =E10 | I30: Medium- | K30: =K10 -> English
A32: Total Fees | C32: =C12 -> 0 | F32: Received In This Month | J32: =J12 -> 0
B34: Balance | G34: =G14
A36: In Words - | C36: =C16 -> #NAME?
J37: Recevier's Sign
