{"text_format":"3","workbook":"xlsx","n_sheets":4,"sheets":["Instruction","School Information","PL Section Order","PL Form"],"not_rendered":{"images":5,"defined_names":5,"comments":1},"read":"whole","date_system":"1900"}

{"sheet":"Instruction","index":0,"n_rows":35,"n_cols":5,"rows_kept":35,"merged":[[2,0,2,7],[4,0,4,7],[6,0,6,7],[7,0,7,7],[8,1,8,7],[9,0,9,7],[10,1,10,7],[11,1,11,7],[12,1,12,7],[13,1,13,7],[14,1,14,7],[15,1,15,7],[17,0,17,7],[18,0,18,7],[20,0,20,7],[22,0,22,7],[24,0,24,7],[26,0,26,7],[27,0,27,7],[28,0,28,7],[30,5,30,7],[33,0,33,1],[34,0,34,1],[34,4,34,6]]}
["सादर नमस्कार गुरुजनों,"]
["आपकी सेवार्थ मेरा एक और छोटा सा प्रयास ----------------"]
["सरेंडर (उपार्जित अवकाश) सेक्शन आर्डर "]
[]
["आपकी सहायतार्थ मैने समर्पित (उपार्जित अवकाश) के नकदीकरण का आदेश बनाने के लिए यह एक्सेल प्रोग्राम बनाया है आशा करता हु इससे आपको बहुत सहायता मिलेगी |"]
[]
["प्रयोग में लेना का तरीका "]
["सर्वप्रथम School Information Sheet में आप निम्न जानकारी इस प्रकार से भरे |"]
["नाम कर्मचारी -","इसमें कर्मचारी का नाम लिखे |"]
["यदि आप चाहो तो एक साथ सभी कर्मचारियों का डाटा fill कर सकते है | जिनका प्रिंट लेना है बस वही नाम आप PL Section Order Sheet में ड्राप डाउन लिस्ट में से चुन कर प्रिंट ले सकते हो | आप को बार बार डाटा fill नही करना पड़ेगा |"]
["पद -","सम्बंधित कर्मचारी का पद ड्राप डाउन लिस्ट में से चुने |"]
["पदस्थापन स्थान  -","कर्मचारी का पदस्थापन स्थान ड्राप डाउन लिस्ट में से चुने |"]
["माह -","जिस माह का सरेंडर उठाना हो वो माह ड्राप डाउन लिस्ट में से चुने |"]
["मूल वेतन -","जिस माह का सरेंडर उठाना हो वो उस माह मूल वेतन लिखे |"]
["महंगाई भत्ता दर -","जिस माह का सरेंडर उठाना हो वो उस माह की DA Rate लिखे |"]
["कुल जमा उपार्जित अवकाश  -","कर्मचारी के कुल जमा उपार्जित अवकाश लिखे |"]
[]
[" डाटा टाइप करने के लिए आप google hindi input का यूज करे | "]
["यदि आप डाटा पेस्ट करते हो तो paste values करे |"]
[]
["ये डाटा भरने के बाद आपका PL Section Order  तैयार हो जायेगा आपको जिनका प्रिंट लेना है उस कर्मचारी का नाम PL SectionOrder Sheet में उस कर्मचारी का नाम ड्राप डाउन लिस्ट से चुने फिर इसका प्रिंट लेकर कर्मचारी की निजी पंजिका में लगा सकते है |"]
[]
["जिस डाटा की आपको जरुरत नही है आप उसे हाईड कर देवे "]
[]
["Password - \"plorder\""]
[]
["For any Problem you can Contact-"]
["Ashwini Kumar, Senior Teacher"]
["Government Senior Secondary School, Rooppura (Kuchaman City)"]
[]
[]
[]
[]
[]
["+91 9166023711",{"$nulls":3},"sspkctakumar@gmail.com"]

{"sheet":"School Information","index":1,"n_rows":32,"n_cols":12,"rows_kept":32,"merged":[[0,0,0,7],[1,0,1,7],[3,0,3,7]]}
["कार्यालय का नाम"]
["प्रधानाचार्य राजकीय उच्च माध्यमिक विद्यालय, रूपपुरा"]
[]
["आपके विद्यालय एवं अधीनस्थ विद्यालयों के कार्मिको का डाटा भरे ",{"$nulls":8},"For Print PL Order Click Here",null,"Goto Home Click here"]
[]
["क्र.स.","नाम कर्मचारी","पद","पदस्थापन स्थान","माह जिसका सरेंडर उठाना है","मूल वेतन","DA Rate","कुल जमा उपार्जित अवकाश ",null,"पीईईओ अधीनस्थ विद्यालयों के नाम ",null,"विद्यालय में पोस्ट का विवरण"]
[1,"श्री बनवारी","अध्यापक लेवेल 2","राउमावि, रूपपुरा","जुलाई",45100,{"v":0.17,"d":"17.00%"},49,null,"राउमावि, रूपपुरा",null,"प्रधानाचार्य"]
[2,"श्री छोटू सिंह","अध्यापक लेवेल 1","राउमावि, रूपपुरा","जुलाई",63100,{"v":0.17,"d":"17.00%"},264,null,"रामावि------------------",null,"उप प्रधानाचार्य"]
[3,"श्रीमती राजकुमारी झाला","अध्यापक लेवेल 1","राउमावि, रूपपुरा","जुलाई",63100,{"v":0.17,"d":"17.00%"},81,null,"रामावि------------------",null,"प्रधानाध्यापक"]
[4,"श्री 123",{"$nulls":7},"राउप्रावि ----------------",null,"वरिष्ठ अध्यापक"]
[5,"श्री 124",{"$nulls":7},"राउप्रावि ----------------",null,"व्याख्याता"]
[6,"श्री 125",{"$nulls":7},"राउप्रावि ----------------",null,"प्रबोधक"]
[7,"श्री 126",{"$nulls":7},"राउप्रावि ----------------",null,"अध्यापक लेवेल 1"]
[8,"श्री 127",{"$nulls":7},"राउप्रावि ----------------",null,"अध्यापक लेवेल 2"]
[9,"श्री 128",{"$nulls":7},"राप्रावि ------------------",null,"कनिष्ठ सहायक"]
[10,"श्री 129",{"$nulls":7},"राप्रावि ------------------",null,"वरिष्ठ सहायक"]
[11,"श्री 130",{"$nulls":7},"राप्रावि ------------------",null,"सहायक प्रशासनिक अधिकारी "]
[12,"श्री 131",{"$nulls":7},"राप्रावि ------------------",null,"सहायक कर्मचारी "]
[13,"श्री 132",{"$nulls":7},"राप्रावि ------------------",null,"शा-शिक्षक "]
[14,"श्री 133",{"$nulls":7},"अन्य",null,"वरिष्ठ शा-शिक्षक "]
[15,"श्री 134",{"$nulls":7},"अन्य",null,"जमादार"]
[16,"श्री 135",{"$nulls":7},"अन्य",null,"चतुर्थ श्रेणी कर्मचारी"]
[17,"श्री 136",{"$nulls":7},"अन्य",null,"प्रयोगशाला सहायक "]
[18,"श्री 137",{"$nulls":7},"अन्य",null,"पुस्तकालय अध्यक्ष"]
[19,"श्री 138",{"$nulls":7},"अन्य",null,"other1"]
[20,"श्री 139",{"$nulls":7},"अन्य",null,"other2"]
[21,"श्री 140",{"$nulls":7},"अन्य",null,"other3"]
[22,"श्री 141",{"$nulls":7},"अन्य",null,"other4"]
[23,"श्री 142"]
[24,"श्री 143"]
[25,"श्री 144"]
[26,"श्री 145"]

{"sheet":"PL Section Order","index":2,"n_rows":41,"n_cols":14,"rows_kept":41,"merged":[[0,0,0,9],[0,11,1,15],[1,0,1,9],[2,0,2,9],[2,11,3,15],[3,0,4,0],[3,1,4,1],[3,2,4,2],[3,3,4,3],[3,4,3,6],[3,7,3,9],[10,11,10,12],[10,13,10,16],[31,7,33,9],[40,7,42,9]]}
[{"$f":"'School Information'!A2:H2","v":"प्रधानाचार्य राजकीय उच्च माध्यमिक विद्यालय, रूपपुरा"},{"$nulls":10}," जिस वित्तीय वर्ष एवं माह का आदेश है उस वित्तीय वर्ष एवं माह का नाम लिखे।"]
["कार्यालय आदेश"]
["            वित्त विभाग, राजस्थान सरकार के आदेश क्रमांक एफ1(12)एफडी/रूल्स/2005 जयपुर दिनांक 03.09.2008 के अनुसार स्थानीय कार्यालय के अधीन कार्यरत निम्नाकित अधिकारियों/कर्मचारियों को उनके आवेदन किये जाने पर वित्तीय वर्ष 2020-21 हेतु माह जुलाई 2020 का निम्नानुसार उपार्जित अवकाश के नकद भुगतान किये जाने की स्वीकृति प्रदान की जाती हैं। इस स्वीकृति का इन्द्राज संबंधित अधिकारी/कर्मचारी की मूल सेवा पुस्तिका में लाल स्याही से कर दिया गया हैं।",{"$nulls":10},"अतिरिक्त कॉलम को हटाने के लिए SHEET को Review Tab मे जांकर पहले Unprotect करें पासवर्ड \"plorder\" फिर rows को Hide कर देवे । जिस कर्मचारी का प्रिंट लेना है उस कर्मचारी का नाम ड्राप डाउन लिस्ट से चुने |"]
["क्र.स.","नाम कर्मचारी","पद","मूल वेतन","नकद देय राशि",null,null,"समर्पित अवकाश ब्यौरा"]
[{"$nulls":4},"मूल वेतन","DA Rate","कुल योग","कुल","नकदीकरण","शेष"]
[{"$f":"'School Information'!A7","v":1},"श्री बनवारी",{"$f":"IFERROR(VLOOKUP(B6,pl_order,2,0),\"\")","v":"अध्यापक लेवेल 2"},{"$f":"IFERROR(VLOOKUP(B6,pl_order,5,0),\"\")","v":45100},{"$f":"IFERROR(ROUND(D6/2,1),\"\")","v":22550},{"$f":"IFERROR(ROUND(E6*'School Information'!G7,0),\"\")","v":3834},{"$f":"IFERROR(SUM(E6:F6),\"\")","v":26384},{"$f":"IFERROR(VLOOKUP(B6,pl_order,7,0),\"\")","v":49},15,{"$f":"IFERROR(H6-I6,\"\")","v":34}]
[{"$f":"'School Information'!A8","v":2},"श्री छोटू सिंह",{"$f":"IFERROR(VLOOKUP(B7,pl_order,2,0),\"\")","v":"अध्यापक लेवेल 1"},{"$f":"IFERROR(VLOOKUP(B7,pl_order,5,0),\"\")","v":63100},31550,{"$f":"IFERROR(ROUND(E7*'School Information'!G8,0),\"\")","v":5364},{"$f":"IFERROR(SUM(E7:F7),\"\")","v":36914},{"$f":"IFERROR(VLOOKUP(B7,pl_order,7,0),\"\")","v":264},15,{"$f":"IFERROR(H7-I7,\"\")","v":249}]
[{"$f":"'School Information'!A9","v":3},"श्रीमती राजकुमारी झाला",{"$f":"IFERROR(VLOOKUP(B8,pl_order,2,0),\"\")","v":"अध्यापक लेवेल 1"},{"$f":"IFERROR(VLOOKUP(B8,pl_order,5,0),\"\")","v":63100},31550,{"$f":"IFERROR(ROUND(E8*'School Information'!G9,0),\"\")","v":5364},36914,{"$f":"IFERROR(VLOOKUP(B8,pl_order,7,0),\"\")","v":81},15,66]
[{"$f":"'School Information'!A10","v":4},null,{"$f":"IFERROR(VLOOKUP(B9,pl_order,2,0),\"\")","v":""},{"$f":"IFERROR(VLOOKUP(B9,pl_order,5,0),\"\")","v":""},"",{"$f":"IFERROR(ROUND(E9*'School Information'!G10,0),\"\")","v":""},0,{"$f":"IFERROR(VLOOKUP(B9,pl_order,7,0),\"\")","v":""},15,""]
[{"$f":"'School Information'!A11","v":5},null,{"$f":"IFERROR(VLOOKUP(B10,pl_order,2,0),\"\")","v":""},{"$f":"IFERROR(VLOOKUP(B10,pl_order,5,0),\"\")","v":""},"",{"$f":"IFERROR(ROUND(E10*'School Information'!G11,0),\"\")","v":""},0,{"$f":"IFERROR(VLOOKUP(B10,pl_order,7,0),\"\")","v":""},15,""]
[{"$f":"'School Information'!A12","v":6},null,{"$f":"IFERROR(VLOOKUP(B11,pl_order,2,0),\"\")","v":""},{"$f":"IFERROR(VLOOKUP(B11,pl_order,5,0),\"\")","v":""},"",{"$f":"IFERROR(ROUND(E11*'School Information'!G12,0),\"\")","v":""},0,{"$f":"IFERROR(VLOOKUP(B11,pl_order,7,0),\"\")","v":""},15,"",null,"Goto Home",null,"Goto School Information"]
[{"$f":"'School Information'!A13","v":7},null,{"$f":"IFERROR(VLOOKUP(B12,pl_order,2,0),\"\")","v":""},{"$f":"IFERROR(VLOOKUP(B12,pl_order,5,0),\"\")","v":""},"",{"$f":"IFERROR(ROUND(E12*'School Information'!G13,0),\"\")","v":""},0,{"$f":"IFERROR(VLOOKUP(B12,pl_order,7,0),\"\")","v":""},15,""]
[{"$f":"'School Information'!A14","v":8},null,{"$f":"IFERROR(VLOOKUP(B13,pl_order,2,0),\"\")","v":""},{"$f":"IFERROR(VLOOKUP(B13,pl_order,5,0),\"\")","v":""},"",{"$f":"IFERROR(ROUND(E13*'School Information'!G14,0),\"\")","v":""},0,{"$f":"IFERROR(VLOOKUP(B13,pl_order,7,0),\"\")","v":""},15,""]
[{"$f":"'School Information'!A15","v":9},null,{"$f":"IFERROR(VLOOKUP(B14,pl_order,2,0),\"\")","v":""},{"$f":"IFERROR(VLOOKUP(B14,pl_order,5,0),\"\")","v":""},"",{"$f":"IFERROR(ROUND(E14*'School Information'!G15,0),\"\")","v":""},0,{"$f":"IFERROR(VLOOKUP(B14,pl_order,7,0),\"\")","v":""},15,""]
[{"$f":"'School Information'!A16","v":10},null,{"$f":"IFERROR(VLOOKUP(B15,pl_order,2,0),\"\")","v":""},{"$f":"IFERROR(VLOOKUP(B15,pl_order,5,0),\"\")","v":""},"",{"$f":"IFERROR(ROUND(E15*'School Information'!G16,0),\"\")","v":""},0,{"$f":"IFERROR(VLOOKUP(B15,pl_order,7,0),\"\")","v":""},15,""]
[{"$f":"'School Information'!A17","v":11},null,{"$f":"IFERROR(VLOOKUP(B16,pl_order,2,0),\"\")","v":""},{"$f":"IFERROR(VLOOKUP(B16,pl_order,5,0),\"\")","v":""},"",{"$f":"IFERROR(ROUND(E16*'School Information'!G17,0),\"\")","v":""},0,{"$f":"IFERROR(VLOOKUP(B16,pl_order,7,0),\"\")","v":""},15,""]
[{"$f":"'School Information'!A18","v":12},null,{"$f":"IFERROR(VLOOKUP(B17,pl_order,2,0),\"\")","v":""},{"$f":"IFERROR(VLOOKUP(B17,pl_order,5,0),\"\")","v":""},"",{"$f":"IFERROR(ROUND(E17*'School Information'!G18,0),\"\")","v":""},0,{"$f":"IFERROR(VLOOKUP(B17,pl_order,7,0),\"\")","v":""},15,""]
[{"$f":"'School Information'!A19","v":13},null,{"$f":"IFERROR(VLOOKUP(B18,pl_order,2,0),\"\")","v":""},{"$f":"IFERROR(VLOOKUP(B18,pl_order,5,0),\"\")","v":""},"",{"$f":"IFERROR(ROUND(E18*'School Information'!G19,0),\"\")","v":""},0,{"$f":"IFERROR(VLOOKUP(B18,pl_order,7,0),\"\")","v":""},15,""]
[{"$f":"'School Information'!A20","v":14},null,{"$f":"IFERROR(VLOOKUP(B19,pl_order,2,0),\"\")","v":""},{"$f":"IFERROR(VLOOKUP(B19,pl_order,5,0),\"\")","v":""},"",{"$f":"IFERROR(ROUND(E19*'School Information'!G20,0),\"\")","v":""},0,{"$f":"IFERROR(VLOOKUP(B19,pl_order,7,0),\"\")","v":""},15,""]
[{"$f":"'School Information'!A21","v":15},null,{"$f":"IFERROR(VLOOKUP(B20,pl_order,2,0),\"\")","v":""},{"$f":"IFERROR(VLOOKUP(B20,pl_order,5,0),\"\")","v":""},"",{"$f":"IFERROR(ROUND(E20*'School Information'!G21,0),\"\")","v":""},0,{"$f":"IFERROR(VLOOKUP(B20,pl_order,7,0),\"\")","v":""},15,""]
[{"$f":"'School Information'!A22","v":16},null,{"$f":"IFERROR(VLOOKUP(B21,pl_order,2,0),\"\")","v":""},{"$f":"IFERROR(VLOOKUP(B21,pl_order,5,0),\"\")","v":""},"",{"$f":"IFERROR(ROUND(E21*'School Information'!G22,0),\"\")","v":""},0,{"$f":"IFERROR(VLOOKUP(B21,pl_order,7,0),\"\")","v":""},15,""]
[{"$f":"'School Information'!A23","v":17},null,{"$f":"IFERROR(VLOOKUP(B22,pl_order,2,0),\"\")","v":""},{"$f":"IFERROR(VLOOKUP(B22,pl_order,5,0),\"\")","v":""},"",{"$f":"IFERROR(ROUND(E22*'School Information'!G23,0),\"\")","v":""},0,{"$f":"IFERROR(VLOOKUP(B22,pl_order,7,0),\"\")","v":""},15,""]
[{"$f":"'School Information'!A24","v":18},null,{"$f":"IFERROR(VLOOKUP(B23,pl_order,2,0),\"\")","v":""},{"$f":"IFERROR(VLOOKUP(B23,pl_order,5,0),\"\")","v":""},"",{"$f":"IFERROR(ROUND(E23*'School Information'!G24,0),\"\")","v":""},0,{"$f":"IFERROR(VLOOKUP(B23,pl_order,7,0),\"\")","v":""},15,""]
[{"$f":"'School Information'!A25","v":19},null,{"$f":"IFERROR(VLOOKUP(B24,pl_order,2,0),\"\")","v":""},{"$f":"IFERROR(VLOOKUP(B24,pl_order,5,0),\"\")","v":""},"",{"$f":"IFERROR(ROUND(E24*'School Information'!G25,0),\"\")","v":""},0,{"$f":"IFERROR(VLOOKUP(B24,pl_order,7,0),\"\")","v":""},15,""]
[{"$f":"'School Information'!A26","v":20},null,{"$f":"IFERROR(VLOOKUP(B25,pl_order,2,0),\"\")","v":""},{"$f":"IFERROR(VLOOKUP(B25,pl_order,5,0),\"\")","v":""},"",{"$f":"IFERROR(ROUND(E25*'School Information'!G26,0),\"\")","v":""},0,{"$f":"IFERROR(VLOOKUP(B25,pl_order,7,0),\"\")","v":""},15,""]
[{"$f":"'School Information'!A27","v":21},null,{"$f":"IFERROR(VLOOKUP(B26,pl_order,2,0),\"\")","v":""},{"$f":"IFERROR(VLOOKUP(B26,pl_order,5,0),\"\")","v":""},"",{"$f":"IFERROR(ROUND(E26*'School Information'!G27,0),\"\")","v":""},0,{"$f":"IFERROR(VLOOKUP(B26,pl_order,7,0),\"\")","v":""},15,""]
[{"$f":"'School Information'!A28","v":22},null,{"$f":"IFERROR(VLOOKUP(B27,pl_order,2,0),\"\")","v":""},{"$f":"IFERROR(VLOOKUP(B27,pl_order,5,0),\"\")","v":""},"",{"$f":"IFERROR(ROUND(E27*'School Information'!G28,0),\"\")","v":""},0,{"$f":"IFERROR(VLOOKUP(B27,pl_order,7,0),\"\")","v":""},15,""]
[{"$f":"'School Information'!A29","v":23},null,{"$f":"IFERROR(VLOOKUP(B28,pl_order,2,0),\"\")","v":""},{"$f":"IFERROR(VLOOKUP(B28,pl_order,5,0),\"\")","v":""},"",{"$f":"IFERROR(ROUND(E28*'School Information'!G29,0),\"\")","v":""},0,{"$f":"IFERROR(VLOOKUP(B28,pl_order,7,0),\"\")","v":""},15,""]
[{"$f":"'School Information'!A30","v":24},null,{"$f":"IFERROR(VLOOKUP(B29,pl_order,2,0),\"\")","v":""},{"$f":"IFERROR(VLOOKUP(B29,pl_order,5,0),\"\")","v":""},"",{"$f":"IFERROR(ROUND(E29*'School Information'!G30,0),\"\")","v":""},0,{"$f":"IFERROR(VLOOKUP(B29,pl_order,7,0),\"\")","v":""},15,""]
[{"$f":"'School Information'!A31","v":25},null,{"$f":"IFERROR(VLOOKUP(B30,pl_order,2,0),\"\")","v":""},{"$f":"IFERROR(VLOOKUP(B30,pl_order,5,0),\"\")","v":""},"",{"$f":"IFERROR(ROUND(E30*'School Information'!G31,0),\"\")","v":""},0,{"$f":"IFERROR(VLOOKUP(B30,pl_order,7,0),\"\")","v":""},15,""]
[]
[{"$nulls":7},{"$f":"'School Information'!A2","v":"प्रधानाचार्य राजकीय उच्च माध्यमिक विद्यालय, रूपपुरा"}]
[]
[]
["क्रमांक:-",{"$nulls":6},"दिनाक-"]
["प्रतिलिपि-"]
["1. उपकोष कार्यालय .................................................."]
["2. लेखा शाखा ।"]
["3. व्यक्तिगत पंजिका (संबंधित कार्मिक)"]
["4. रक्षित पत्रावली"]
[{"$nulls":7},{"$f":"'School Information'!A2","v":"प्रधानाचार्य राजकीय उच्च माध्यमिक विद्यालय, रूपपुरा"}]

{"sheet":"PL Form","index":3,"n_rows":47,"n_cols":1,"rows_kept":47,"merged":[[0,0,0,9],[1,0,1,9],[2,0,2,9],[3,0,3,9],[4,0,4,9],[20,0,20,9],[21,0,21,9],[23,0,23,9],[24,0,24,9],[31,0,31,9],[32,0,32,9],[33,0,33,9],[34,0,34,9],[35,0,35,9],[39,0,39,9],[40,0,40,9],[43,0,43,9],[44,0,44,9]]}
["lkekU; la[;k 45"]
["th-,Q-,-vkj- 64"]
[{"$f":"\"dk;kZy;\"&\" \"&'School Information'!A2","v":"dk;kZy; प्रधानाचार्य राजकीय उच्च माध्यमिक विद्यालय, रूपपुरा"}]
["jktLFkku ljdkj"]
["jktLFkku lsok fu;ekas ds vUrxZr vodk'k ds fy, vkosnu&i= dk izi="]
["1- vkosnd dk uke"]
["2- in uke"]
["3- foHkkx] dk;kZy; vkSj vuqHkkx"]
["4- osru"]
["5- x`g fdjk;k HkRrk] lokjh HkRrk] ;k orZeku in ij izkIr vU;"]
["  {kfriwfrZ HkRrk"]
["6- vkosfnr vodk'k dk izdkj vkSj mldh vof/k rFkk fnukad"]
["ftlls mldh vko';drk gS"]
["7- jfookj rFkk Nqfê;ka ;fn dksbZ gkas] ftUgas vodk'k ds igys ;k"]
["ckn eas tksM+us dk izLrko gks"]
["8- vodk'k ds fy, vkosnu nsus ds dkj.k ¼;fn og eq[;ky; ds"]
["ckgj tkus dk fopkj j[krk gks rks fofHkUu LFkkukas dk iwjk irk]"]
["tgka muds tkus dh lEHkkouk gks½"]
["9- xr vodk'k ls ykSVus dk fnukad rFkk ml vodk'k dk izdkj"]
["rFkk vof/k"]
["10- ¼d½ eSa] fj;k;rh vUroZfrZr ¼dE;wVsM vodk'k½ ds nkSjku izkIr fd;k x;k vodk'k&osru vkSj v)Z&osru vodk'k tks ml n'kk eas tcfd jktLFkku lfoZl :Yl ds fu;e 93 ds mi&fu;e ¼x½ ds [k.M ¼3½ ds uhps fn;s x;s ijUrqd ds izko?kku] mä vodk'k dh lekfIr ij vFkok mlds nkSjku] lfoZl ls esjs fjVk;j gksus dh fLFkfr eas iz;qä ugha fd;s x;s gksrs] vuqer ugha gksrk dh vof/k eas vuqer osru dh vUrj jkf'k okil vnk djus dk opu nsrk gwaA"]
["¼[k½ eSa] \"vodk'k vuksikftZr\" tks fd ml n'kk eas tcfd jktLFkku lfoZl :Yl ds fu;e 93 ¼x½] mä vodk'k dh lekfIr ij vFkok mlds nkSjku] lfoZl ls esjs LosPNkuqxr fjVk;j gksus dh fLFkfr eas iz;qä ugha fd;k x;k gksrk] vuqer ugha gksrk] dh vof/k eas izkIr fd;s x;s vodk'k&osru dks okil vnk djus dk opu nsrk gwaA"]
["11- vodk'k dk irk %&"]
["vkosnd ds gLrk{kj ¼fnukad lfgr½"]
["in uke"]
[]
[]
[]
[]
[]
["12- fu;a=.k vf/kdkjh dh vH;qfDr vkSj@;k flQkfj'k"]
["gLrk{kj ¼fnukad lfgr½"]
["in uke"]
["vodk'k vuqer gksus lEcU/kh izek.k&i="]
["¼jktif=r vf/kdkfj;kas ds ekeys eas egkys[kkiky }kjk½"]
["13- izekf.kr fd;k tkrk gS fd --------------------------------------------------------------------- ¼vodk'k dk izdkj½ fu;ekas ds fu;e--------------- ds v/khu fnukad --------------------------------ls ----------------------------------- rd -------------- dk vuqer gSA"]
[]
[]
[]
["gLrk{kj ¼fnukad lfgr½"]
["in uke"]
["14- vodk'k dh Lohd`fr nsus okys izkf/kdkjh dh vkKkA"]
[]
["gLrk{kj ¼fnukad lfgr½"]
["in uke"]
[";fn vkosnd {kfriwfrZ HkRrk izkIr dj jgk gks rks vodk'k dh Lohd`fr nsus okys inkf/kdkjh dks fy[kuk pkfg;s fd og vodk'k dh"]
["lekfIr ij mlh in ij ;k ,sls in ij tgka ,slk gh vuqer gks] dk;Z djsxkA"]