{"text_format":"3","workbook":"xlsx","n_sheets":13,"sheets":["Instructions","Basic Intro","Data Feed","Catagry","postwaij","Sbjctwise","gender","schoolwise","Ctgrywise","Postwise","Sbjtwise","gndrwise","School_wise"],"not_rendered":{"images":5,"defined_names":19},"read":"whole","date_system":"1900"}

{"sheet":"Instructions","index":0,"n_rows":37,"n_cols":5,"rows_kept":37,"merged":[[2,0,2,2],[4,0,4,2],[5,0,5,2],[6,0,6,2],[7,0,7,2],[8,0,8,2],[9,0,9,2],[10,0,10,2],[11,0,11,2],[12,0,12,2],[27,4,31,10],[32,0,32,2],[34,0,34,2],[35,0,35,2]]}
["सादर नमस्कार,"]
["आपकी सेवार्थ मेरा एक और छोटा सा प्रयास ----------------"]
["संस्थापन डाटा विद्यालय स्टाफ के लिए"]
[]
["हमारे कार्यालय में अक्सर संस्थापन से सम्बन्धित सूचनाये मांगी जाती है वो भी अलग अलग फोर्मट्स में कभी किस रूप में तो कभी किस रूप में | इस सम्बन्ध में मैने ये एक्सेल प्रोग्राम आप लोगो के वर्क को स्मार्ट बनाने के लिए बनाया है आशा करता हु आप इससे लाभान्वित होंगे |"]
["इस एक्सेल प्रोग्राम से आप स्वत: वर्गवार, पदवार, विषयवार, लिंगवार, विद्यालयवार संस्थापन डाटा तैयार कर सकते है |"]
["प्रयोग में लेना का तरीका "]
["सर्वप्रथम \"Basic intro\" वाली शीट में ये डाटा भरे -"]
["सबसे उपर अपने विद्यालय का नाम लिखे |"]
["फिर विद्यालय में पोस्ट का विवरण लिखे |"]
["विद्यालय में संचालित विषयों के नाम लिखे |"]
["पीईईओ अधीनस्थ विद्यालयों के नाम लिखे |"]
["इसके बाद \"Data Feed\" वाली शीट में ये डाटा भरे -"]
["क्र.स.",null,"ब्रांच "]
["नाम कर्मचारी",null,"ब्रांच कोड"]
["पिता/पति का नाम ",null,"कार्यग्रहण तिथि"]
["Employee ID",null,"किसी भी सरकारी सेवा में कार्यग्रहण तिथि"]
["जन्म दिनाक ",null,"शिक्षा विभाग में कार्यग्रहण तिथि"]
["जेंडर ",null,"वर्तमान पद पर कार्यग्रहण तिथि"]
["वर्ग",null,"वर्तमान पद पर कार्यग्रहण तरीका"]
["धर्म",null,"वर्तमान विद्यालय में कार्यग्रहण तिथि"]
["दिव्यांग",null,"जी.पी.एफ./प्राण नंबर"]
["वर्तमान पद",null,"एस.आई. नंबर "]
["विषय",null,"आधार नंबर"]
["स्थाई/अस्थाई",null,"भामाशाह नंबर"]
["ब्लड ग्रुप",null,"पासपोर्ट नंबर"]
["पता",null,"पैन नंबर"]
["जिला",null,"वर्तमान मूल वेतन ",null,"Would you Please Subscribe, Like And Share my Youtube Channel\nAshwini Kumar ExcelProgrammeMaker"]
["मोबाइल नंबर",null,"उच्चतम शैक्षणिक योग्यता"]
["ईमेल",null,"उच्चतम प्रशैक्षणिक योग्यता"]
["बैंक अकाउंट नंबर",null,"कर्मचारी के विद्यालय का नाम "]
[]
["ये डाटा भरने के बाद आपका संस्थापन डाटा  तैयार हो जायेगा आप वर्गवार, पदवार, विषयवार, लिंगवार, विद्यालयवार संस्थापन डाटा के प्रिंट ले सकते है |"]
[]
["For any Problem you can Contact-"]
["Ashwini Kumar, Senior Teacher"]
["sspkctakumar@gmail.com",null,9166023711]

{"sheet":"Basic Intro","index":1,"n_rows":46,"n_cols":10,"rows_kept":46,"merged":[[0,0,0,4],[2,0,2,4],[5,6,8,7],[5,9,8,10]]}
["राजकीय उच्च माध्यमिक विद्यालय, रूपपुरा (कुचामन सिटी)"]
[]
["Some Basic Information About School"]
[]
["विद्यालय में पोस्ट का विवरण",null,"विषयों के नाम",null,"पीईईओ अधीनस्थ विद्यालयों के नाम "]
["प्रधानाचार्य",null,"Accountancy",null,"राउमावि, रूपपुरा",null,"Click on icon to go to instruction",null,null,"Click on icon to Feed Data"]
["उप प्रधानाचार्य",null,"Agriculture",null,"रामावि 1"]
["प्रधानाध्यापक",null,"Art Education",null,"रामावि 2"]
["वरिष्ठ अध्यापक",null,"Biology",null,"राउप्रावि 1"]
["व्याख्याता",null,"Biology Practical",null,"राउप्रावि 2"]
["प्रबोधक",null,"Business Studies",null,"राउप्रावि 3"]
["अध्यापक लेवेल 1",null,"Chemistry",null,"राउप्रावि 4"]
["अध्यापक लेवेल 2",null,"Chemistry Practical",null,"राउप्रावि 5"]
["कनिष्ठ सहायक",null,"Computer Science",null,"राप्रावि 1"]
["वरिष्ठ सहायक",null,"Computer Science Practical",null,"राप्रावि 2"]
["सहायक प्रशासनिक अधिकारी ",null,"Economics",null,"राप्रावि 3"]
["सहायक कर्मचारी ",null,"English",null,"राप्रावि 4"]
["शा-शिक्षक ",null,"English Literature",null,"राप्रावि 5"]
["वरिष्ठ शा-शिक्षक ",null,"Enviroment Studies",null,"अन्य"]
["जमादार",null,"Geography",null,"अन्य"]
["चतुर्थ श्रेणी कर्मचारी",null,"Geography Practical",null,"अन्य"]
["प्रयोगशाला सहायक ",null,"Hindi",null,"अन्य"]
["पुस्तकालय अध्यक्ष",null,"Hindi Literature",null,"अन्य"]
["other1",null,"History",null,"अन्य"]
["other2",null,"Home Science",null,"अन्य"]
["other3",null,"Home Science Practical",null,"अन्य"]
["other4",null,"Jeewan Kaushal",null,"अन्य"]
["other5",null,"Mathematics"]
["other6",null,"Mathematics"]
["other7",null,"Physical Education"]
["other8",null,"Physics"]
["other9",null,"Physics Practical"]
["other10",null,"Political Science"]
[null,null,"Rajasthan Studies"]
[null,null,"Sanskrit"]
[null,null,"Science"]
[null,null,"Social Science"]
[null,null,"SUPW"]
[null,null,"Urdu"]
[null,null,"other 1"]
[null,null,"other 2"]
[null,null,"other 3"]
[null,null,"other 4"]
[null,null,"other 5"]
[null,null,"other 6"]
[null,null,"other 7"]

{"sheet":"Data Feed","index":2,"n_rows":121,"n_cols":36,"rows_kept":121}
["क्र.स.","नाम कर्मचारी","पिता/पति का नाम ","Employee ID","जन्म दिनाक ","जेंडर ","वर्ग","धर्म","दिव्यांग","वर्तमान पद","विषय","स्थाई/अस्थाई","ब्लड ग्रुप","पता","जिला","मोबाइल नंबर","ईमेल","बैंक अकाउंट नंबर","ब्रांच ","ब्रांच कोड","कार्यग्रहण तिथि","किसी भी सरकारी सेवा में कार्यग्रहण तिथि","शिक्षा विभाग में कार्यग्रहण तिथि","वर्तमान पद पर कार्यग्रहण तिथि","वर्तमान पद पर कार्यग्रहण तरीका","वर्तमान DDO अधीन कार्यग्रहण तिथि","जी.पी.एफ./प्राण नंबर","एस.आई. नंबर ","आधार नंबर","भामाशाह नंबर","पासपोर्ट नंबर","पैन नंबर","वर्तमान मूल वेतन ","उच्चतम शैक्षणिक योग्यता","उच्चतम प्रशैक्षणिक योग्यता","कर्मचारी के विद्यालय का नाम "]
[1,2,3,4,5,6,7,8,9,10,11,12,13,14,15,16,17,18,19,20,21,22,23,24,25,26,27,28,29,30,31,32,33,34,35,36]
[1,"श्री अश्विनी कुमार","श्री मेघराज शर्मा","RJNA201228008021","1988-02-06","Male","Gen","Hindu","No","वरिष्ठ अध्यापक","English","स्थाई","O+","कुचामन सिटी","नागौर",9166023711,"sspkctakumar@gmail.com",610370000000,"SBI","SBIN0031733","2011-10-19","2011-10-19","2011-11-19","2011-11-19",null,"2011-11-19",110000000000,6123456,123456781234,"ZXZXZXD",null,"ABCDE1111F",48500,"M.A.","M.Ed","राउमावि, रूपपुरा"]
[2,"श्री प्रकाश कुमार गौड़","श्री राजेंद्र शर्मा","RJNA201228008022","1988-02-07","Female","Gen","Hindu","No","व्याख्याता","History","स्थाई","O+","कुचामन सिटी","नागौर",9166023711,"sspkctakumar@gmail.com",610370000000,"SBI","SBIN0031733","2011-10-19","2011-10-19","2011-11-19","2011-11-19",null,"2011-11-19",110000000000,6123456,123456781234,"ZXZXZXD",null,"ABCDE1111F",48500,"M.A.","M.Ed","राउप्रावि 4"]
[3,"श्री जावेद खान","श्री","RJNA201228008023","1988-02-08","Male","OBC","Muslim","Yes","प्रधानाचार्य","Agriculture","अस्थाई","AB+","कुचामन सिटी","नागौर",9166023711,"sspkctakumar@gmail.com",610370000000,"SBI","SBIN0031733","2011-10-19","2011-10-19","2011-11-19","2011-11-19",null,"2011-11-19",110000000000,6123456,123456781234,"ZXZXZXD",null,"ABCDE1111F",48500,"M.A.","M.Ed","रामावि 2"]
[4]
[5]
[6]
[7]
[8]
[9]
[10]
[11]
[12]
[13]
[14]
[15]
[16]
[17]
[18]
[19]
[20]
[21]
[22]
[23]
[24]
[25]
[26]
[27]
[28]
[29]
[30]
[31]
[32]
[33]
[34]
[35]
[36]
[37]
[38]
[39]
[40]
[41]
[42]
[43]
[44]
[45]
[46]
[47]
[48]
[49]
[50]
[51]
[52]
[53]
[54]
[55]
[56]
[57]
[58]
[59]
[60]
[61]
[62]
[63]
[64]
[65]
[66]
[67]
[68]
[69]
[70]
[71]
[72]
[73]
[74]
[75]
[76]
[77]
[78]
[79]
[80]
[81]
[82]
[83]
[84]
[85]
[86]
[87]
[88]
[89]
[90]
[91]
[92]
[93]
[94]
[95]
[96]
[97]
[98]
[99,{"$nulls":34},"राउमावि, रूपपुरा"]
[100,{"$nulls":34},"रामावि 1"]
[101,{"$nulls":34},"रामावि 2"]
[102]
[103]
[104]
[105]
[106]
[107]
[108]
[109]
[110]
[111]
[112]
[113]
[114]
[115]
[116]
[117]
[118]
[119,"Aditya",{"$nulls":8},"English",{"$nulls":24},"राउप्रावि 2"]

{"sheet":"Catagry","index":3,"n_rows":119,"n_cols":36,"rows_kept":119,"hidden":true}
[{"$f":"B1&\"_\"&COUNTIF($B$1:B1,B1)","v":"Gen_1"},{"$f":"'Data Feed'!G3","v":"Gen"},{"$f":"'Data Feed'!B3","v":"श्री अश्विनी कुमार"},{"$f":"'Data Feed'!C3","v":"श्री मेघराज शर्मा"},{"$f":"'Data Feed'!D3","v":"RJNA201228008021"},{"$f":"'Data Feed'!E3","v":32179},{"$f":"'Data Feed'!F3","v":"Male"},{"$f":"'Data Feed'!G3","v":"Gen"},{"$f":"'Data Feed'!H3","v":"Hindu"},{"$f":"'Data Feed'!I3","v":"No"},{"$f":"'Data Feed'!J3","v":"वरिष्ठ अध्यापक"},{"$f":"'Data Feed'!K3","v":"English"},{"$f":"'Data Feed'!L3","v":"स्थाई"},{"$f":"'Data Feed'!M3","v":"O+"},{"$f":"'Data Feed'!N3","v":"कुचामन सिटी"},{"$f":"'Data Feed'!O3","v":"नागौर"},{"$f":"'Data Feed'!P3","v":9166023711},{"$f":"'Data Feed'!Q3","v":"sspkctakumar@gmail.com"},{"$f":"'Data Feed'!R3","v":610370000000},{"$f":"'Data Feed'!S3","v":"SBI"},{"$f":"'Data Feed'!T3","v":"SBIN0031733"},{"$f":"'Data Feed'!U3","v":40835},{"$f":"'Data Feed'!V3","v":40835},{"$f":"'Data Feed'!W3","v":40866},{"$f":"'Data Feed'!X3","v":40866},{"$f":"'Data Feed'!Y3","v":0},{"$f":"'Data Feed'!Z3","v":40866},{"$f":"'Data Feed'!AA3","v":110000000000},{"$f":"'Data Feed'!AB3","v":6123456},{"$f":"'Data Feed'!AC3","v":123456781234},{"$f":"'Data Feed'!AD3","v":"ZXZXZXD"},{"$f":"'Data Feed'!AE3","v":0},{"$f":"'Data Feed'!AF3","v":"ABCDE1111F"},{"$f":"'Data Feed'!AG3","v":48500},{"$f":"'Data Feed'!AH3","v":"M.A."},{"$f":"'Data Feed'!AI3","v":"M.Ed"}]
[{"$f":"B2&\"_\"&COUNTIF($B$1:B2,B2)","v":"Gen_2"},{"$f":"'Data Feed'!G4","v":"Gen"},{"$f":"'Data Feed'!B4","v":"श्री प्रकाश कुमार गौड़"},{"$f":"'Data Feed'!C4","v":"श्री राजेंद्र शर्मा"},{"$f":"'Data Feed'!D4","v":"RJNA201228008022"},{"$f":"'Data Feed'!E4","v":32180},{"$f":"'Data Feed'!F4","v":"Female"},{"$f":"'Data Feed'!G4","v":"Gen"},{"$f":"'Data Feed'!H4","v":"Hindu"},{"$f":"'Data Feed'!I4","v":"No"},{"$f":"'Data Feed'!J4","v":"व्याख्याता"},{"$f":"'Data Feed'!K4","v":"History"},{"$f":"'Data Feed'!L4","v":"स्थाई"},{"$f":"'Data Feed'!M4","v":"O+"},{"$f":"'Data Feed'!N4","v":"कुचामन सिटी"},{"$f":"'Data Feed'!O4","v":"नागौर"},{"$f":"'Data Feed'!P4","v":9166023711},{"$f":"'Data Feed'!Q4","v":"sspkctakumar@gmail.com"},{"$f":"'Data Feed'!R4","v":610370000000},{"$f":"'Data Feed'!S4","v":"SBI"},{"$f":"'Data Feed'!T4","v":"SBIN0031733"},{"$f":"'Data Feed'!U4","v":40835},{"$f":"'Data Feed'!V4","v":40835},{"$f":"'Data Feed'!W4","v":40866},{"$f":"'Data Feed'!X4","v":40866},{"$f":"'Data Feed'!Y4","v":0},{"$f":"'Data Feed'!Z4","v":40866},{"$f":"'Data Feed'!AA4","v":110000000000},{"$f":"'Data Feed'!AB4","v":6123456},{"$f":"'Data Feed'!AC4","v":123456781234},{"$f":"'Data Feed'!AD4","v":"ZXZXZXD"},{"$f":"'Data Feed'!AE4","v":0},{"$f":"'Data Feed'!AF4","v":"ABCDE1111F"},{"$f":"'Data Feed'!AG4","v":48500},{"$f":"'Data Feed'!AH4","v":"M.A."},{"$f":"'Data Feed'!AI4","v":"M.Ed"}]
[{"$f":"B3&\"_\"&COUNTIF($B$1:B3,B3)","v":"OBC_1"},{"$f":"'Data Feed'!G5","v":"OBC"},{"$f":"'Data Feed'!B5","v":"श्री जावेद खान"},{"$f":"'Data Feed'!C5","v":"श्री"},{"$f":"'Data Feed'!D5","v":"RJNA201228008023"},{"$f":"'Data Feed'!E5","v":32181},{"$f":"'Data Feed'!F5","v":"Male"},{"$f":"'Data Feed'!G5","v":"OBC"},{"$f":"'Data Feed'!H5","v":"Muslim"},{"$f":"'Data Feed'!I5","v":"Yes"},{"$f":"'Data Feed'!J5","v":"प्रधानाचार्य"},{"$f":"'Data Feed'!K5","v":"Agriculture"},{"$f":"'Data Feed'!L5","v":"अस्थाई"},{"$f":"'Data Feed'!M5","v":"AB+"},{"$f":"'Data Feed'!N5","v":"कुचामन सिटी"},{"$f":"'Data Feed'!O5","v":"नागौर"},{"$f":"'Data Feed'!P5","v":9166023711},{"$f":"'Data Feed'!Q5","v":"sspkctakumar@gmail.com"},{"$f":"'Data Feed'!R5","v":610370000000},{"$f":"'Data Feed'!S5","v":"SBI"},{"$f":"'Data Feed'!T5","v":"SBIN0031733"},{"$f":"'Data Feed'!U5","v":40835},{"$f":"'Data Feed'!V5","v":40835},{"$f":"'Data Feed'!W5","v":40866},{"$f":"'Data Feed'!X5","v":40866},{"$f":"'Data Feed'!Y5","v":0},{"$f":"'Data Feed'!Z5","v":40866},{"$f":"'Data Feed'!AA5","v":110000000000},{"$f":"'Data Feed'!AB5","v":6123456},{"$f":"'Data Feed'!AC5","v":123456781234},{"$f":"'Data Feed'!AD5","v":"ZXZXZXD"},{"$f":"'Data Feed'!AE5","v":0},{"$f":"'Data Feed'!AF5","v":"ABCDE1111F"},{"$f":"'Data Feed'!AG5","v":48500},{"$f":"'Data Feed'!AH5","v":"M.A."},{"$f":"'Data Feed'!AI5","v":"M.Ed"}]
[{"$f":"B4&\"_\"&COUNTIF($B$1:B4,B4)","v":"0_1"},{"$f":"'Data Feed'!G6","v":0},{"$f":"'Data Feed'!B6","v":0},{"$f":"'Data Feed'!C6","v":0},{"$f":"'Data Feed'!D6","v":0},{"$f":"'Data Feed'!E6","v":0},{"$f":"'Data Feed'!F6","v":0},{"$f":"'Data Feed'!G6","v":0},{"$f":"'Data Feed'!H6","v":0},{"$f":"'Data Feed'!I6","v":0},{"$f":"'Data Feed'!J6","v":0},{"$f":"'Data Feed'!K6","v":0},{"$f":"'Data Feed'!L6","v":0},{"$f":"'Data Feed'!M6","v":0},{"$f":"'Data Feed'!N6","v":0},{"$f":"'Data Feed'!O6","v":0},{"$f":"'Data Feed'!P6","v":0},{"$f":"'Data Feed'!Q6","v":0},{"$f":"'Data Feed'!R6","v":0},{"$f":"'Data Feed'!S6","v":0},{"$f":"'Data Feed'!T6","v":0},{"$f":"'Data Feed'!U6","v":0},{"$f":"'Data Feed'!V6","v":0},{"$f":"'Data Feed'!W6","v":0},{"$f":"'Data Feed'!X6","v":0},{"$f":"'Data Feed'!Y6","v":0},{"$f":"'Data Feed'!Z6","v":0},{"$f":"'Data Feed'!AA6","v":0},{"$f":"'Data Feed'!AB6","v":0},{"$f":"'Data Feed'!AC6","v":0},{"$f":"'Data Feed'!AD6","v":0},{"$f":"'Data Feed'!AE6","v":0},{"$f":"'Data Feed'!AF6","v":0},{"$f":"'Data Feed'!AG6","v":0},{"$f":"'Data Feed'!AH6","v":0},{"$f":"'Data Feed'!AI6","v":0}]
[{"$f":"B5&\"_\"&COUNTIF($B$1:B5,B5)","v":"0_2"},{"$f":"'Data Feed'!G7","v":0},{"$f":"'Data Feed'!B7","v":0},{"$f":"'Data Feed'!C7","v":0},{"$f":"'Data Feed'!D7","v":0},{"$f":"'Data Feed'!E7","v":0},{"$f":"'Data Feed'!F7","v":0},{"$f":"'Data Feed'!G7","v":0},{"$f":"'Data Feed'!H7","v":0},{"$f":"'Data Feed'!I7","v":0},{"$f":"'Data Feed'!J7","v":0},{"$f":"'Data Feed'!K7","v":0},{"$f":"'Data Feed'!L7","v":0},{"$f":"'Data Feed'!M7","v":0},{"$f":"'Data Feed'!N7","v":0},{"$f":"'Data Feed'!O7","v":0},{"$f":"'Data Feed'!P7","v":0},{"$f":"'Data Feed'!Q7","v":0},{"$f":"'Data Feed'!R7","v":0},{"$f":"'Data Feed'!S7","v":0},{"$f":"'Data Feed'!T7","v":0},{"$f":"'Data Feed'!U7","v":0},{"$f":"'Data Feed'!V7","v":0},{"$f":"'Data Feed'!W7","v":0},{"$f":"'Data Feed'!X7","v":0},{"$f":"'Data Feed'!Y7","v":0},{"$f":"'Data Feed'!Z7","v":0},{"$f":"'Data Feed'!AA7","v":0},{"$f":"'Data Feed'!AB7","v":0},{"$f":"'Data Feed'!AC7","v":0},{"$f":"'Data Feed'!AD7","v":0},{"$f":"'Data Feed'!AE7","v":0},{"$f":"'Data Feed'!AF7","v":0},{"$f":"'Data Feed'!AG7","v":0},{"$f":"'Data Feed'!AH7","v":0},{"$f":"'Data Feed'!AI7","v":0}]
[{"$f":"B6&\"_\"&COUNTIF($B$1:B6,B6)","v":"0_3"},{"$f":"'Data Feed'!G8","v":0},{"$f":"'Data Feed'!B8","v":0},{"$f":"'Data Feed'!C8","v":0},{"$f":"'Data Feed'!D8","v":0},{"$f":"'Data Feed'!E8","v":0},{"$f":"'Data Feed'!F8","v":0},{"$f":"'Data Feed'!G8","v":0},{"$f":"'Data Feed'!H8","v":0},{"$f":"'Data Feed'!I8","v":0},{"$f":"'Data Feed'!J8","v":0},{"$f":"'Data Feed'!K8","v":0},{"$f":"'Data Feed'!L8","v":0},{"$f":"'Data Feed'!M8","v":0},{"$f":"'Data Feed'!N8","v":0},{"$f":"'Data Feed'!O8","v":0},{"$f":"'Data Feed'!P8","v":0},{"$f":"'Data Feed'!Q8","v":0},{"$f":"'Data Feed'!R8","v":0},{"$f":"'Data Feed'!S8","v":0},{"$f":"'Data Feed'!T8","v":0},{"$f":"'Data Feed'!U8","v":0},{"$f":"'Data Feed'!V8","v":0},{"$f":"'Data Feed'!W8","v":0},{"$f":"'Data Feed'!X8","v":0},{"$f":"'Data Feed'!Y8","v":0},{"$f":"'Data Feed'!Z8","v":0},{"$f":"'Data Feed'!AA8","v":0},{"$f":"'Data Feed'!AB8","v":0},{"$f":"'Data Feed'!AC8","v":0},{"$f":"'Data Feed'!AD8","v":0},{"$f":"'Data Feed'!AE8","v":0},{"$f":"'Data Feed'!AF8","v":0},{"$f":"'Data Feed'!AG8","v":0},{"$f":"'Data Feed'!AH8","v":0},{"$f":"'Data Feed'!AI8","v":0}]
[{"$f":"B7&\"_\"&COUNTIF($B$1:B7,B7)","v":"0_4"},{"$f":"'Data Feed'!G9","v":0},{"$f":"'Data Feed'!B9","v":0},{"$f":"'Data Feed'!C9","v":0},{"$f":"'Data Feed'!D9","v":0},{"$f":"'Data Feed'!E9","v":0},{"$f":"'Data Feed'!F9","v":0},{"$f":"'Data Feed'!G9","v":0},{"$f":"'Data Feed'!H9","v":0},{"$f":"'Data Feed'!I9","v":0},{"$f":"'Data Feed'!J9","v":0},{"$f":"'Data Feed'!K9","v":0},{"$f":"'Data Feed'!L9","v":0},{"$f":"'Data Feed'!M9","v":0},{"$f":"'Data Feed'!N9","v":0},{"$f":"'Data Feed'!O9","v":0},{"$f":"'Data Feed'!P9","v":0},{"$f":"'Data Feed'!Q9","v":0},{"$f":"'Data Feed'!R9","v":0},{"$f":"'Data Feed'!S9","v":0},{"$f":"'Data Feed'!T9","v":0},{"$f":"'Data Feed'!U9","v":0},{"$f":"'Data Feed'!V9","v":0},{"$f":"'Data Feed'!W9","v":0},{"$f":"'Data Feed'!X9","v":0},{"$f":"'Data Feed'!Y9","v":0},{"$f":"'Data Feed'!Z9","v":0},{"$f":"'Data Feed'!AA9","v":0},{"$f":"'Data Feed'!AB9","v":0},{"$f":"'Data Feed'!AC9","v":0},{"$f":"'Data Feed'!AD9","v":0},{"$f":"'Data Feed'!AE9","v":0},{"$f":"'Data Feed'!AF9","v":0},{"$f":"'Data Feed'!AG9","v":0},{"$f":"'Data Feed'!AH9","v":0},{"$f":"'Data Feed'!AI9","v":0}]
[{"$f":"B8&\"_\"&COUNTIF($B$1:B8,B8)","v":"0_5"},{"$f":"'Data Feed'!G10","v":0},{"$f":"'Data Feed'!B10","v":0},{"$f":"'Data Feed'!C10","v":0},{"$f":"'Data Feed'!D10","v":0},{"$f":"'Data Feed'!E10","v":0},{"$f":"'Data Feed'!F10","v":0},{"$f":"'Data Feed'!G10","v":0},{"$f":"'Data Feed'!H10","v":0},{"$f":"'Data Feed'!I10","v":0},{"$f":"'Data Feed'!J10","v":0},{"$f":"'Data Feed'!K10","v":0},{"$f":"'Data Feed'!L10","v":0},{"$f":"'Data Feed'!M10","v":0},{"$f":"'Data Feed'!N10","v":0},{"$f":"'Data Feed'!O10","v":0},{"$f":"'Data Feed'!P10","v":0},{"$f":"'Data Feed'!Q10","v":0},{"$f":"'Data Feed'!R10","v":0},{"$f":"'Data Feed'!S10","v":0},{"$f":"'Data Feed'!T10","v":0},{"$f":"'Data Feed'!U10","v":0},{"$f":"'Data Feed'!V10","v":0},{"$f":"'Data Feed'!W10","v":0},{"$f":"'Data Feed'!X10","v":0},{"$f":"'Data Feed'!Y10","v":0},{"$f":"'Data Feed'!Z10","v":0},{"$f":"'Data Feed'!AA10","v":0},{"$f":"'Data Feed'!AB10","v":0},{"$f":"'Data Feed'!AC10","v":0},{"$f":"'Data Feed'!AD10","v":0},{"$f":"'Data Feed'!AE10","v":0},{"$f":"'Data Feed'!AF10","v":0},{"$f":"'Data Feed'!AG10","v":0},{"$f":"'Data Feed'!AH10","v":0},{"$f":"'Data Feed'!AI10","v":0}]
[{"$f":"B9&\"_\"&COUNTIF($B$1:B9,B9)","v":"0_6"},{"$f":"'Data Feed'!G11","v":0},{"$f":"'Data Feed'!B11","v":0},{"$f":"'Data Feed'!C11","v":0},{"$f":"'Data Feed'!D11","v":0},{"$f":"'Data Feed'!E11","v":0},{"$f":"'Data Feed'!F11","v":0},{"$f":"'Data Feed'!G11","v":0},{"$f":"'Data Feed'!H11","v":0},{"$f":"'Data Feed'!I11","v":0},{"$f":"'Data Feed'!J11","v":0},{"$f":"'Data Feed'!K11","v":0},{"$f":"'Data Feed'!L11","v":0},{"$f":"'Data Feed'!M11","v":0},{"$f":"'Data Feed'!N11","v":0},{"$f":"'Data Feed'!O11","v":0},{"$f":"'Data Feed'!P11","v":0},{"$f":"'Data Feed'!Q11","v":0},{"$f":"'Data Feed'!R11","v":0},{"$f":"'Data Feed'!S11","v":0},{"$f":"'Data Feed'!T11","v":0},{"$f":"'Data Feed'!U11","v":0},{"$f":"'Data Feed'!V11","v":0},{"$f":"'Data Feed'!W11","v":0},{"$f":"'Data Feed'!X11","v":0},{"$f":"'Data Feed'!Y11","v":0},{"$f":"'Data Feed'!Z11","v":0},{"$f":"'Data Feed'!AA11","v":0},{"$f":"'Data Feed'!AB11","v":0},{"$f":"'Data Feed'!AC11","v":0},{"$f":"'Data Feed'!AD11","v":0},{"$f":"'Data Feed'!AE11","v":0},{"$f":"'Data Feed'!AF11","v":0},{"$f":"'Data Feed'!AG11","v":0},{"$f":"'Data Feed'!AH11","v":0},{"$f":"'Data Feed'!AI11","v":0}]
[{"$f":"B10&\"_\"&COUNTIF($B$1:B10,B10)","v":"0_7"},{"$f":"'Data Feed'!G12","v":0},{"$f":"'Data Feed'!B12","v":0},{"$f":"'Data Feed'!C12","v":0},{"$f":"'Data Feed'!D12","v":0},{"$f":"'Data Feed'!E12","v":0},{"$f":"'Data Feed'!F12","v":0},{"$f":"'Data Feed'!G12","v":0},{"$f":"'Data Feed'!H12","v":0},{"$f":"'Data Feed'!I12","v":0},{"$f":"'Data Feed'!J12","v":0},{"$f":"'Data Feed'!K12","v":0},{"$f":"'Data Feed'!L12","v":0},{"$f":"'Data Feed'!M12","v":0},{"$f":"'Data Feed'!N12","v":0},{"$f":"'Data Feed'!O12","v":0},{"$f":"'Data Feed'!P12","v":0},{"$f":"'Data Feed'!Q12","v":0},{"$f":"'Data Feed'!R12","v":0},{"$f":"'Data Feed'!S12","v":0},{"$f":"'Data Feed'!T12","v":0},{"$f":"'Data Feed'!U12","v":0},{"$f":"'Data Feed'!V12","v":0},{"$f":"'Data Feed'!W12","v":0},{"$f":"'Data Feed'!X12","v":0},{"$f":"'Data Feed'!Y12","v":0},{"$f":"'Data Feed'!Z12","v":0},{"$f":"'Data Feed'!AA12","v":0},{"$f":"'Data Feed'!AB12","v":0},{"$f":"'Data Feed'!AC12","v":0},{"$f":"'Data Feed'!AD12","v":0},{"$f":"'Data Feed'!AE12","v":0},{"$f":"'Data Feed'!AF12","v":0},{"$f":"'Data Feed'!AG12","v":0},{"$f":"'Data Feed'!AH12","v":0},{"$f":"'Data Feed'!AI12","v":0}]
[{"$f":"B11&\"_\"&COUNTIF($B$1:B11,B11)","v":"0_8"},{"$f":"'Data Feed'!G13","v":0},{"$f":"'Data Feed'!B13","v":0},{"$f":"'Data Feed'!C13","v":0},{"$f":"'Data Feed'!D13","v":0},{"$f":"'Data Feed'!E13","v":0},{"$f":"'Data Feed'!F13","v":0},{"$f":"'Data Feed'!G13","v":0},{"$f":"'Data Feed'!H13","v":0},{"$f":"'Data Feed'!I13","v":0},{"$f":"'Data Feed'!J13","v":0},{"$f":"'Data Feed'!K13","v":0},{"$f":"'Data Feed'!L13","v":0},{"$f":"'Data Feed'!M13","v":0},{"$f":"'Data Feed'!N13","v":0},{"$f":"'Data Feed'!O13","v":0},{"$f":"'Data Feed'!P13","v":0},{"$f":"'Data Feed'!Q13","v":0},{"$f":"'Data Feed'!R13","v":0},{"$f":"'Data Feed'!S13","v":0},{"$f":"'Data Feed'!T13","v":0},{"$f":"'Data Feed'!U13","v":0},{"$f":"'Data Feed'!V13","v":0},{"$f":"'Data Feed'!W13","v":0},{"$f":"'Data Feed'!X13","v":0},{"$f":"'Data Feed'!Y13","v":0},{"$f":"'Data Feed'!Z13","v":0},{"$f":"'Data Feed'!AA13","v":0},{"$f":"'Data Feed'!AB13","v":0},{"$f":"'Data Feed'!AC13","v":0},{"$f":"'Data Feed'!AD13","v":0},{"$f":"'Data Feed'!AE13","v":0},{"$f":"'Data Feed'!AF13","v":0},{"$f":"'Data Feed'!AG13","v":0},{"$f":"'Data Feed'!AH13","v":0},{"$f":"'Data Feed'!AI13","v":0}]
[{"$f":"B12&\"_\"&COUNTIF($B$1:B12,B12)","v":"0_9"},{"$f":"'Data Feed'!G14","v":0},{"$f":"'Data Feed'!B14","v":0},{"$f":"'Data Feed'!C14","v":0},{"$f":"'Data Feed'!D14","v":0},{"$f":"'Data Feed'!E14","v":0},{"$f":"'Data Feed'!F14","v":0},{"$f":"'Data Feed'!G14","v":0},{"$f":"'Data Feed'!H14","v":0},{"$f":"'Data Feed'!I14","v":0},{"$f":"'Data Feed'!J14","v":0},{"$f":"'Data Feed'!K14","v":0},{"$f":"'Data Feed'!L14","v":0},{"$f":"'Data Feed'!M14","v":0},{"$f":"'Data Feed'!N14","v":0},{"$f":"'Data Feed'!O14","v":0},{"$f":"'Data Feed'!P14","v":0},{"$f":"'Data Feed'!Q14","v":0},{"$f":"'Data Feed'!R14","v":0},{"$f":"'Data Feed'!S14","v":0},{"$f":"'Data Feed'!T14","v":0},{"$f":"'Data Feed'!U14","v":0},{"$f":"'Data Feed'!V14","v":0},{"$f":"'Data Feed'!W14","v":0},{"$f":"'Data Feed'!X14","v":0},{"$f":"'Data Feed'!Y14","v":0},{"$f":"'Data Feed'!Z14","v":0},{"$f":"'Data Feed'!AA14","v":0},{"$f":"'Data Feed'!AB14","v":0},{"$f":"'Data Feed'!AC14","v":0},{"$f":"'Data Feed'!AD14","v":0},{"$f":"'Data Feed'!AE14","v":0},{"$f":"'Data Feed'!AF14","v":0},{"$f":"'Data Feed'!AG14","v":0},{"$f":"'Data Feed'!AH14","v":0},{"$f":"'Data Feed'!AI14","v":0}]
[{"$f":"B13&\"_\"&COUNTIF($B$1:B13,B13)","v":"0_10"},{"$f":"'Data Feed'!G15","v":0},{"$f":"'Data Feed'!B15","v":0},{"$f":"'Data Feed'!C15","v":0},{"$f":"'Data Feed'!D15","v":0},{"$f":"'Data Feed'!E15","v":0},{"$f":"'Data Feed'!F15","v":0},{"$f":"'Data Feed'!G15","v":0},{"$f":"'Data Feed'!H15","v":0},{"$f":"'Data Feed'!I15","v":0},{"$f":"'Data Feed'!J15","v":0},{"$f":"'Data Feed'!K15","v":0},{"$f":"'Data Feed'!L15","v":0},{"$f":"'Data Feed'!M15","v":0},{"$f":"'Data Feed'!N15","v":0},{"$f":"'Data Feed'!O15","v":0},{"$f":"'Data Feed'!P15","v":0},{"$f":"'Data Feed'!Q15","v":0},{"$f":"'Data Feed'!R15","v":0},{"$f":"'Data Feed'!S15","v":0},{"$f":"'Data Feed'!T15","v":0},{"$f":"'Data Feed'!U15","v":0},{"$f":"'Data Feed'!V15","v":0},{"$f":"'Data Feed'!W15","v":0},{"$f":"'Data Feed'!X15","v":0},{"$f":"'Data Feed'!Y15","v":0},{"$f":"'Data Feed'!Z15","v":0},{"$f":"'Data Feed'!AA15","v":0},{"$f":"'Data Feed'!AB15","v":0},{"$f":"'Data Feed'!AC15","v":0},{"$f":"'Data Feed'!AD15","v":0},{"$f":"'Data Feed'!AE15","v":0},{"$f":"'Data Feed'!AF15","v":0},{"$f":"'Data Feed'!AG15","v":0},{"$f":"'Data Feed'!AH15","v":0},{"$f":"'Data Feed'!AI15","v":0}]
[{"$f":"B14&\"_\"&COUNTIF($B$1:B14,B14)","v":"0_11"},{"$f":"'Data Feed'!G16","v":0},{"$f":"'Data Feed'!B16","v":0},{"$f":"'Data Feed'!C16","v":0},{"$f":"'Data Feed'!D16","v":0},{"$f":"'Data Feed'!E16","v":0},{"$f":"'Data Feed'!F16","v":0},{"$f":"'Data Feed'!G16","v":0},{"$f":"'Data Feed'!H16","v":0},{"$f":"'Data Feed'!I16","v":0},{"$f":"'Data Feed'!J16","v":0},{"$f":"'Data Feed'!K16","v":0},{"$f":"'Data Feed'!L16","v":0},{"$f":"'Data Feed'!M16","v":0},{"$f":"'Data Feed'!N16","v":0},{"$f":"'Data Feed'!O16","v":0},{"$f":"'Data Feed'!P16","v":0},{"$f":"'Data Feed'!Q16","v":0},{"$f":"'Data Feed'!R16","v":0},{"$f":"'Data Feed'!S16","v":0},{"$f":"'Data Feed'!T16","v":0},{"$f":"'Data Feed'!U16","v":0},{"$f":"'Data Feed'!V16","v":0},{"$f":"'Data Feed'!W16","v":0},{"$f":"'Data Feed'!X16","v":0},{"$f":"'Data Feed'!Y16","v":0},{"$f":"'Data Feed'!Z16","v":0},{"$f":"'Data Feed'!AA16","v":0},{"$f":"'Data Feed'!AB16","v":0},{"$f":"'Data Feed'!AC16","v":0},{"$f":"'Data Feed'!AD16","v":0},{"$f":"'Data Feed'!AE16","v":0},{"$f":"'Data Feed'!AF16","v":0},{"$f":"'Data Feed'!AG16","v":0},{"$f":"'Data Feed'!AH16","v":0},{"$f":"'Data Feed'!AI16","v":0}]
[{"$f":"B15&\"_\"&COUNTIF($B$1:B15,B15)","v":"0_12"},{"$f":"'Data Feed'!G17","v":0},{"$f":"'Data Feed'!B17","v":0},{"$f":"'Data Feed'!C17","v":0},{"$f":"'Data Feed'!D17","v":0},{"$f":"'Data Feed'!E17","v":0},{"$f":"'Data Feed'!F17","v":0},{"$f":"'Data Feed'!G17","v":0},{"$f":"'Data Feed'!H17","v":0},{"$f":"'Data Feed'!I17","v":0},{"$f":"'Data Feed'!J17","v":0},{"$f":"'Data Feed'!K17","v":0},{"$f":"'Data Feed'!L17","v":0},{"$f":"'Data Feed'!M17","v":0},{"$f":"'Data Feed'!N17","v":0},{"$f":"'Data Feed'!O17","v":0},{"$f":"'Data Feed'!P17","v":0},{"$f":"'Data Feed'!Q17","v":0},{"$f":"'Data Feed'!R17","v":0},{"$f":"'Data Feed'!S17","v":0},{"$f":"'Data Feed'!T17","v":0},{"$f":"'Data Feed'!U17","v":0},{"$f":"'Data Feed'!V17","v":0},{"$f":"'Data Feed'!W17","v":0},{"$f":"'Data Feed'!X17","v":0},{"$f":"'Data Feed'!Y17","v":0},{"$f":"'Data Feed'!Z17","v":0},{"$f":"'Data Feed'!AA17","v":0},{"$f":"'Data Feed'!AB17","v":0},{"$f":"'Data Feed'!AC17","v":0},{"$f":"'Data Feed'!AD17","v":0},{"$f":"'Data Feed'!AE17","v":0},{"$f":"'Data Feed'!AF17","v":0},{"$f":"'Data Feed'!AG17","v":0},{"$f":"'Data Feed'!AH17","v":0},{"$f":"'Data Feed'!AI17","v":0}]
[{"$f":"B16&\"_\"&COUNTIF($B$1:B16,B16)","v":"0_13"},{"$f":"'Data Feed'!G18","v":0},{"$f":"'Data Feed'!B18","v":0},{"$f":"'Data Feed'!C18","v":0},{"$f":"'Data Feed'!D18","v":0},{"$f":"'Data Feed'!E18","v":0},{"$f":"'Data Feed'!F18","v":0},{"$f":"'Data Feed'!G18","v":0},{"$f":"'Data Feed'!H18","v":0},{"$f":"'Data Feed'!I18","v":0},{"$f":"'Data Feed'!J18","v":0},{"$f":"'Data Feed'!K18","v":0},{"$f":"'Data Feed'!L18","v":0},{"$f":"'Data Feed'!M18","v":0},{"$f":"'Data Feed'!N18","v":0},{"$f":"'Data Feed'!O18","v":0},{"$f":"'Data Feed'!P18","v":0},{"$f":"'Data Feed'!Q18","v":0},{"$f":"'Data Feed'!R18","v":0},{"$f":"'Data Feed'!S18","v":0},{"$f":"'Data Feed'!T18","v":0},{"$f":"'Data Feed'!U18","v":0},{"$f":"'Data Feed'!V18","v":0},{"$f":"'Data Feed'!W18","v":0},{"$f":"'Data Feed'!X18","v":0},{"$f":"'Data Feed'!Y18","v":0},{"$f":"'Data Feed'!Z18","v":0},{"$f":"'Data Feed'!AA18","v":0},{"$f":"'Data Feed'!AB18","v":0},{"$f":"'Data Feed'!AC18","v":0},{"$f":"'Data Feed'!AD18","v":0},{"$f":"'Data Feed'!AE18","v":0},{"$f":"'Data Feed'!AF18","v":0},{"$f":"'Data Feed'!AG18","v":0},{"$f":"'Data Feed'!AH18","v":0},{"$f":"'Data Feed'!AI18","v":0}]
[{"$f":"B17&\"_\"&COUNTIF($B$1:B17,B17)","v":"0_14"},{"$f":"'Data Feed'!G19","v":0},{"$f":"'Data Feed'!B19","v":0},{"$f":"'Data Feed'!C19","v":0},{"$f":"'Data Feed'!D19","v":0},{"$f":"'Data Feed'!E19","v":0},{"$f":"'Data Feed'!F19","v":0},{"$f":"'Data Feed'!G19","v":0},{"$f":"'Data Feed'!H19","v":0},{"$f":"'Data Feed'!I19","v":0},{"$f":"'Data Feed'!J19","v":0},{"$f":"'Data Feed'!K19","v":0},{"$f":"'Data Feed'!L19","v":0},{"$f":"'Data Feed'!M19","v":0},{"$f":"'Data Feed'!N19","v":0},{"$f":"'Data Feed'!O19","v":0},{"$f":"'Data Feed'!P19","v":0},{"$f":"'Data Feed'!Q19","v":0},{"$f":"'Data Feed'!R19","v":0},{"$f":"'Data Feed'!S19","v":0},{"$f":"'Data Feed'!T19","v":0},{"$f":"'Data Feed'!U19","v":0},{"$f":"'Data Feed'!V19","v":0},{"$f":"'Data Feed'!W19","v":0},{"$f":"'Data Feed'!X19","v":0},{"$f":"'Data Feed'!Y19","v":0},{"$f":"'Data Feed'!Z19","v":0},{"$f":"'Data Feed'!AA19","v":0},{"$f":"'Data Feed'!AB19","v":0},{"$f":"'Data Feed'!AC19","v":0},{"$f":"'Data Feed'!AD19","v":0},{"$f":"'Data Feed'!AE19","v":0},{"$f":"'Data Feed'!AF19","v":0},{"$f":"'Data Feed'!AG19","v":0},{"$f":"'Data Feed'!AH19","v":0},{"$f":"'Data Feed'!AI19","v":0}]
[{"$f":"B18&\"_\"&COUNTIF($B$1:B18,B18)","v":"0_15"},{"$f":"'Data Feed'!G20","v":0},{"$f":"'Data Feed'!B20","v":0},{"$f":"'Data Feed'!C20","v":0},{"$f":"'Data Feed'!D20","v":0},{"$f":"'Data Feed'!E20","v":0},{"$f":"'Data Feed'!F20","v":0},{"$f":"'Data Feed'!G20","v":0},{"$f":"'Data Feed'!H20","v":0},{"$f":"'Data Feed'!I20","v":0},{"$f":"'Data Feed'!J20","v":0},{"$f":"'Data Feed'!K20","v":0},{"$f":"'Data Feed'!L20","v":0},{"$f":"'Data Feed'!M20","v":0},{"$f":"'Data Feed'!N20","v":0},{"$f":"'Data Feed'!O20","v":0},{"$f":"'Data Feed'!P20","v":0},{"$f":"'Data Feed'!Q20","v":0},{"$f":"'Data Feed'!R20","v":0},{"$f":"'Data Feed'!S20","v":0},{"$f":"'Data Feed'!T20","v":0},{"$f":"'Data Feed'!U20","v":0},{"$f":"'Data Feed'!V20","v":0},{"$f":"'Data Feed'!W20","v":0},{"$f":"'Data Feed'!X20","v":0},{"$f":"'Data Feed'!Y20","v":0},{"$f":"'Data Feed'!Z20","v":0},{"$f":"'Data Feed'!AA20","v":0},{"$f":"'Data Feed'!AB20","v":0},{"$f":"'Data Feed'!AC20","v":0},{"$f":"'Data Feed'!AD20","v":0},{"$f":"'Data Feed'!AE20","v":0},{"$f":"'Data Feed'!AF20","v":0},{"$f":"'Data Feed'!AG20","v":0},{"$f":"'Data Feed'!AH20","v":0},{"$f":"'Data Feed'!AI20","v":0}]
[{"$f":"B19&\"_\"&COUNTIF($B$1:B19,B19)","v":"0_16"},{"$f":"'Data Feed'!G21","v":0},{"$f":"'Data Feed'!B21","v":0},{"$f":"'Data Feed'!C21","v":0},{"$f":"'Data Feed'!D21","v":0},{"$f":"'Data Feed'!E21","v":0},{"$f":"'Data Feed'!F21","v":0},{"$f":"'Data Feed'!G21","v":0},{"$f":"'Data Feed'!H21","v":0},{"$f":"'Data Feed'!I21","v":0},{"$f":"'Data Feed'!J21","v":0},{"$f":"'Data Feed'!K21","v":0},{"$f":"'Data Feed'!L21","v":0},{"$f":"'Data Feed'!M21","v":0},{"$f":"'Data Feed'!N21","v":0},{"$f":"'Data Feed'!O21","v":0},{"$f":"'Data Feed'!P21","v":0},{"$f":"'Data Feed'!Q21","v":0},{"$f":"'Data Feed'!R21","v":0},{"$f":"'Data Feed'!S21","v":0},{"$f":"'Data Feed'!T21","v":0},{"$f":"'Data Feed'!U21","v":0},{"$f":"'Data Feed'!V21","v":0},{"$f":"'Data Feed'!W21","v":0},{"$f":"'Data Feed'!X21","v":0},{"$f":"'Data Feed'!Y21","v":0},{"$f":"'Data Feed'!Z21","v":0},{"$f":"'Data Feed'!AA21","v":0},{"$f":"'Data Feed'!AB21","v":0},{"$f":"'Data Feed'!AC21","v":0},{"$f":"'Data Feed'!AD21","v":0},{"$f":"'Data Feed'!AE21","v":0},{"$f":"'Data Feed'!AF21","v":0},{"$f":"'Data Feed'!AG21","v":0},{"$f":"'Data Feed'!AH21","v":0},{"$f":"'Data Feed'!AI21","v":0}]
[{"$f":"B20&\"_\"&COUNTIF($B$1:B20,B20)","v":"0_17"},{"$f":"'Data Feed'!G22","v":0},{"$f":"'Data Feed'!B22","v":0},{"$f":"'Data Feed'!C22","v":0},{"$f":"'Data Feed'!D22","v":0},{"$f":"'Data Feed'!E22","v":0},{"$f":"'Data Feed'!F22","v":0},{"$f":"'Data Feed'!G22","v":0},{"$f":"'Data Feed'!H22","v":0},{"$f":"'Data Feed'!I22","v":0},{"$f":"'Data Feed'!J22","v":0},{"$f":"'Data Feed'!K22","v":0},{"$f":"'Data Feed'!L22","v":0},{"$f":"'Data Feed'!M22","v":0},{"$f":"'Data Feed'!N22","v":0},{"$f":"'Data Feed'!O22","v":0},{"$f":"'Data Feed'!P22","v":0},{"$f":"'Data Feed'!Q22","v":0},{"$f":"'Data Feed'!R22","v":0},{"$f":"'Data Feed'!S22","v":0},{"$f":"'Data Feed'!T22","v":0},{"$f":"'Data Feed'!U22","v":0},{"$f":"'Data Feed'!V22","v":0},{"$f":"'Data Feed'!W22","v":0},{"$f":"'Data Feed'!X22","v":0},{"$f":"'Data Feed'!Y22","v":0},{"$f":"'Data Feed'!Z22","v":0},{"$f":"'Data Feed'!AA22","v":0},{"$f":"'Data Feed'!AB22","v":0},{"$f":"'Data Feed'!AC22","v":0},{"$f":"'Data Feed'!AD22","v":0},{"$f":"'Data Feed'!AE22","v":0},{"$f":"'Data Feed'!AF22","v":0},{"$f":"'Data Feed'!AG22","v":0},{"$f":"'Data Feed'!AH22","v":0},{"$f":"'Data Feed'!AI22","v":0}]
[{"$f":"B21&\"_\"&COUNTIF($B$1:B21,B21)","v":"0_18"},{"$f":"'Data Feed'!G23","v":0},{"$f":"'Data Feed'!B23","v":0},{"$f":"'Data Feed'!C23","v":0},{"$f":"'Data Feed'!D23","v":0},{"$f":"'Data Feed'!E23","v":0},{"$f":"'Data Feed'!F23","v":0},{"$f":"'Data Feed'!G23","v":0},{"$f":"'Data Feed'!H23","v":0},{"$f":"'Data Feed'!I23","v":0},{"$f":"'Data Feed'!J23","v":0},{"$f":"'Data Feed'!K23","v":0},{"$f":"'Data Feed'!L23","v":0},{"$f":"'Data Feed'!M23","v":0},{"$f":"'Data Feed'!N23","v":0},{"$f":"'Data Feed'!O23","v":0},{"$f":"'Data Feed'!P23","v":0},{"$f":"'Data Feed'!Q23","v":0},{"$f":"'Data Feed'!R23","v":0},{"$f":"'Data Feed'!S23","v":0},{"$f":"'Data Feed'!T23","v":0},{"$f":"'Data Feed'!U23","v":0},{"$f":"'Data Feed'!V23","v":0},{"$f":"'Data Feed'!W23","v":0},{"$f":"'Data Feed'!X23","v":0},{"$f":"'Data Feed'!Y23","v":0},{"$f":"'Data Feed'!Z23","v":0},{"$f":"'Data Feed'!AA23","v":0},{"$f":"'Data Feed'!AB23","v":0},{"$f":"'Data Feed'!AC23","v":0},{"$f":"'Data Feed'!AD23","v":0},{"$f":"'Data Feed'!AE23","v":0},{"$f":"'Data Feed'!AF23","v":0},{"$f":"'Data Feed'!AG23","v":0},{"$f":"'Data Feed'!AH23","v":0},{"$f":"'Data Feed'!AI23","v":0}]
[{"$f":"B22&\"_\"&COUNTIF($B$1:B22,B22)","v":"0_19"},{"$f":"'Data Feed'!G24","v":0},{"$f":"'Data Feed'!B24","v":0},{"$f":"'Data Feed'!C24","v":0},{"$f":"'Data Feed'!D24","v":0},{"$f":"'Data Feed'!E24","v":0},{"$f":"'Data Feed'!F24","v":0},{"$f":"'Data Feed'!G24","v":0},{"$f":"'Data Feed'!H24","v":0},{"$f":"'Data Feed'!I24","v":0},{"$f":"'Data Feed'!J24","v":0},{"$f":"'Data Feed'!K24","v":0},{"$f":"'Data Feed'!L24","v":0},{"$f":"'Data Feed'!M24","v":0},{"$f":"'Data Feed'!N24","v":0},{"$f":"'Data Feed'!O24","v":0},{"$f":"'Data Feed'!P24","v":0},{"$f":"'Data Feed'!Q24","v":0},{"$f":"'Data Feed'!R24","v":0},{"$f":"'Data Feed'!S24","v":0},{"$f":"'Data Feed'!T24","v":0},{"$f":"'Data Feed'!U24","v":0},{"$f":"'Data Feed'!V24","v":0},{"$f":"'Data Feed'!W24","v":0},{"$f":"'Data Feed'!X24","v":0},{"$f":"'Data Feed'!Y24","v":0},{"$f":"'Data Feed'!Z24","v":0},{"$f":"'Data Feed'!AA24","v":0},{"$f":"'Data Feed'!AB24","v":0},{"$f":"'Data Feed'!AC24","v":0},{"$f":"'Data Feed'!AD24","v":0},{"$f":"'Data Feed'!AE24","v":0},{"$f":"'Data Feed'!AF24","v":0},{"$f":"'Data Feed'!AG24","v":0},{"$f":"'Data Feed'!AH24","v":0},{"$f":"'Data Feed'!AI24","v":0}]
[{"$f":"B23&\"_\"&COUNTIF($B$1:B23,B23)","v":"0_20"},{"$f":"'Data Feed'!G25","v":0},{"$f":"'Data Feed'!B25","v":0},{"$f":"'Data Feed'!C25","v":0},{"$f":"'Data Feed'!D25","v":0},{"$f":"'Data Feed'!E25","v":0},{"$f":"'Data Feed'!F25","v":0},{"$f":"'Data Feed'!G25","v":0},{"$f":"'Data Feed'!H25","v":0},{"$f":"'Data Feed'!I25","v":0},{"$f":"'Data Feed'!J25","v":0},{"$f":"'Data Feed'!K25","v":0},{"$f":"'Data Feed'!L25","v":0},{"$f":"'Data Feed'!M25","v":0},{"$f":"'Data Feed'!N25","v":0},{"$f":"'Data Feed'!O25","v":0},{"$f":"'Data Feed'!P25","v":0},{"$f":"'Data Feed'!Q25","v":0},{"$f":"'Data Feed'!R25","v":0},{"$f":"'Data Feed'!S25","v":0},{"$f":"'Data Feed'!T25","v":0},{"$f":"'Data Feed'!U25","v":0},{"$f":"'Data Feed'!V25","v":0},{"$f":"'Data Feed'!W25","v":0},{"$f":"'Data Feed'!X25","v":0},{"$f":"'Data Feed'!Y25","v":0},{"$f":"'Data Feed'!Z25","v":0},{"$f":"'Data Feed'!AA25","v":0},{"$f":"'Data Feed'!AB25","v":0},{"$f":"'Data Feed'!AC25","v":0},{"$f":"'Data Feed'!AD25","v":0},{"$f":"'Data Feed'!AE25","v":0},{"$f":"'Data Feed'!AF25","v":0},{"$f":"'Data Feed'!AG25","v":0},{"$f":"'Data Feed'!AH25","v":0},{"$f":"'Data Feed'!AI25","v":0}]
[{"$f":"B24&\"_\"&COUNTIF($B$1:B24,B24)","v":"0_21"},{"$f":"'Data Feed'!G26","v":0},{"$f":"'Data Feed'!B26","v":0},{"$f":"'Data Feed'!C26","v":0},{"$f":"'Data Feed'!D26","v":0},{"$f":"'Data Feed'!E26","v":0},{"$f":"'Data Feed'!F26","v":0},{"$f":"'Data Feed'!G26","v":0},{"$f":"'Data Feed'!H26","v":0},{"$f":"'Data Feed'!I26","v":0},{"$f":"'Data Feed'!J26","v":0},{"$f":"'Data Feed'!K26","v":0},{"$f":"'Data Feed'!L26","v":0},{"$f":"'Data Feed'!M26","v":0},{"$f":"'Data Feed'!N26","v":0},{"$f":"'Data Feed'!O26","v":0},{"$f":"'Data Feed'!P26","v":0},{"$f":"'Data Feed'!Q26","v":0},{"$f":"'Data Feed'!R26","v":0},{"$f":"'Data Feed'!S26","v":0},{"$f":"'Data Feed'!T26","v":0},{"$f":"'Data Feed'!U26","v":0},{"$f":"'Data Feed'!V26","v":0},{"$f":"'Data Feed'!W26","v":0},{"$f":"'Data Feed'!X26","v":0},{"$f":"'Data Feed'!Y26","v":0},{"$f":"'Data Feed'!Z26","v":0},{"$f":"'Data Feed'!AA26","v":0},{"$f":"'Data Feed'!AB26","v":0},{"$f":"'Data Feed'!AC26","v":0},{"$f":"'Data Feed'!AD26","v":0},{"$f":"'Data Feed'!AE26","v":0},{"$f":"'Data Feed'!AF26","v":0},{"$f":"'Data Feed'!AG26","v":0},{"$f":"'Data Feed'!AH26","v":0},{"$f":"'Data Feed'!AI26","v":0}]
[{"$f":"B25&\"_\"&COUNTIF($B$1:B25,B25)","v":"0_22"},{"$f":"'Data Feed'!G27","v":0},{"$f":"'Data Feed'!B27","v":0},{"$f":"'Data Feed'!C27","v":0},{"$f":"'Data Feed'!D27","v":0},{"$f":"'Data Feed'!E27","v":0},{"$f":"'Data Feed'!F27","v":0},{"$f":"'Data Feed'!G27","v":0},{"$f":"'Data Feed'!H27","v":0},{"$f":"'Data Feed'!I27","v":0},{"$f":"'Data Feed'!J27","v":0},{"$f":"'Data Feed'!K27","v":0},{"$f":"'Data Feed'!L27","v":0},{"$f":"'Data Feed'!M27","v":0},{"$f":"'Data Feed'!N27","v":0},{"$f":"'Data Feed'!O27","v":0},{"$f":"'Data Feed'!P27","v":0},{"$f":"'Data Feed'!Q27","v":0},{"$f":"'Data Feed'!R27","v":0},{"$f":"'Data Feed'!S27","v":0},{"$f":"'Data Feed'!T27","v":0},{"$f":"'Data Feed'!U27","v":0},{"$f":"'Data Feed'!V27","v":0},{"$f":"'Data Feed'!W27","v":0},{"$f":"'Data Feed'!X27","v":0},{"$f":"'Data Feed'!Y27","v":0},{"$f":"'Data Feed'!Z27","v":0},{"$f":"'Data Feed'!AA27","v":0},{"$f":"'Data Feed'!AB27","v":0},{"$f":"'Data Feed'!AC27","v":0},{"$f":"'Data Feed'!AD27","v":0},{"$f":"'Data Feed'!AE27","v":0},{"$f":"'Data Feed'!AF27","v":0},{"$f":"'Data Feed'!AG27","v":0},{"$f":"'Data Feed'!AH27","v":0},{"$f":"'Data Feed'!AI27","v":0}]
[{"$f":"B26&\"_\"&COUNTIF($B$1:B26,B26)","v":"0_23"},{"$f":"'Data Feed'!G28","v":0},{"$f":"'Data Feed'!B28","v":0},{"$f":"'Data Feed'!C28","v":0},{"$f":"'Data Feed'!D28","v":0},{"$f":"'Data Feed'!E28","v":0},{"$f":"'Data Feed'!F28","v":0},{"$f":"'Data Feed'!G28","v":0},{"$f":"'Data Feed'!H28","v":0},{"$f":"'Data Feed'!I28","v":0},{"$f":"'Data Feed'!J28","v":0},{"$f":"'Data Feed'!K28","v":0},{"$f":"'Data Feed'!L28","v":0},{"$f":"'Data Feed'!M28","v":0},{"$f":"'Data Feed'!N28","v":0},{"$f":"'Data Feed'!O28","v":0},{"$f":"'Data Feed'!P28","v":0},{"$f":"'Data Feed'!Q28","v":0},{"$f":"'Data Feed'!R28","v":0},{"$f":"'Data Feed'!S28","v":0},{"$f":"'Data Feed'!T28","v":0},{"$f":"'Data Feed'!U28","v":0},{"$f":"'Data Feed'!V28","v":0},{"$f":"'Data Feed'!W28","v":0},{"$f":"'Data Feed'!X28","v":0},{"$f":"'Data Feed'!Y28","v":0},{"$f":"'Data Feed'!Z28","v":0},{"$f":"'Data Feed'!AA28","v":0},{"$f":"'Data Feed'!AB28","v":0},{"$f":"'Data Feed'!AC28","v":0},{"$f":"'Data Feed'!AD28","v":0},{"$f":"'Data Feed'!AE28","v":0},{"$f":"'Data Feed'!AF28","v":0},{"$f":"'Data Feed'!AG28","v":0},{"$f":"'Data Feed'!AH28","v":0},{"$f":"'Data Feed'!AI28","v":0}]
[{"$f":"B27&\"_\"&COUNTIF($B$1:B27,B27)","v":"0_24"},{"$f":"'Data Feed'!G29","v":0},{"$f":"'Data Feed'!B29","v":0},{"$f":"'Data Feed'!C29","v":0},{"$f":"'Data Feed'!D29","v":0},{"$f":"'Data Feed'!E29","v":0},{"$f":"'Data Feed'!F29","v":0},{"$f":"'Data Feed'!G29","v":0},{"$f":"'Data Feed'!H29","v":0},{"$f":"'Data Feed'!I29","v":0},{"$f":"'Data Feed'!J29","v":0},{"$f":"'Data Feed'!K29","v":0},{"$f":"'Data Feed'!L29","v":0},{"$f":"'Data Feed'!M29","v":0},{"$f":"'Data Feed'!N29","v":0},{"$f":"'Data Feed'!O29","v":0},{"$f":"'Data Feed'!P29","v":0},{"$f":"'Data Feed'!Q29","v":0},{"$f":"'Data Feed'!R29","v":0},{"$f":"'Data Feed'!S29","v":0},{"$f":"'Data Feed'!T29","v":0},{"$f":"'Data Feed'!U29","v":0},{"$f":"'Data Feed'!V29","v":0},{"$f":"'Data Feed'!W29","v":0},{"$f":"'Data Feed'!X29","v":0},{"$f":"'Data Feed'!Y29","v":0},{"$f":"'Data Feed'!Z29","v":0},{"$f":"'Data Feed'!AA29","v":0},{"$f":"'Data Feed'!AB29","v":0},{"$f":"'Data Feed'!AC29","v":0},{"$f":"'Data Feed'!AD29","v":0},{"$f":"'Data Feed'!AE29","v":0},{"$f":"'Data Feed'!AF29","v":0},{"$f":"'Data Feed'!AG29","v":0},{"$f":"'Data Feed'!AH29","v":0},{"$f":"'Data Feed'!AI29","v":0}]
[{"$f":"B28&\"_\"&COUNTIF($B$1:B28,B28)","v":"0_25"},{"$f":"'Data Feed'!G30","v":0},{"$f":"'Data Feed'!B30","v":0},{"$f":"'Data Feed'!C30","v":0},{"$f":"'Data Feed'!D30","v":0},{"$f":"'Data Feed'!E30","v":0},{"$f":"'Data Feed'!F30","v":0},{"$f":"'Data Feed'!G30","v":0},{"$f":"'Data Feed'!H30","v":0},{"$f":"'Data Feed'!I30","v":0},{"$f":"'Data Feed'!J30","v":0},{"$f":"'Data Feed'!K30","v":0},{"$f":"'Data Feed'!L30","v":0},{"$f":"'Data Feed'!M30","v":0},{"$f":"'Data Feed'!N30","v":0},{"$f":"'Data Feed'!O30","v":0},{"$f":"'Data Feed'!P30","v":0},{"$f":"'Data Feed'!Q30","v":0},{"$f":"'Data Feed'!R30","v":0},{"$f":"'Data Feed'!S30","v":0},{"$f":"'Data Feed'!T30","v":0},{"$f":"'Data Feed'!U30","v":0},{"$f":"'Data Feed'!V30","v":0},{"$f":"'Data Feed'!W30","v":0},{"$f":"'Data Feed'!X30","v":0},{"$f":"'Data Feed'!Y30","v":0},{"$f":"'Data Feed'!Z30","v":0},{"$f":"'Data Feed'!AA30","v":0},{"$f":"'Data Feed'!AB30","v":0},{"$f":"'Data Feed'!AC30","v":0},{"$f":"'Data Feed'!AD30","v":0},{"$f":"'Data Feed'!AE30","v":0},{"$f":"'Data Feed'!AF30","v":0},{"$f":"'Data Feed'!AG30","v":0},{"$f":"'Data Feed'!AH30","v":0},{"$f":"'Data Feed'!AI30","v":0}]
[{"$f":"B29&\"_\"&COUNTIF($B$1:B29,B29)","v":"0_26"},{"$f":"'Data Feed'!G31","v":0},{"$f":"'Data Feed'!B31","v":0},{"$f":"'Data Feed'!C31","v":0},{"$f":"'Data Feed'!D31","v":0},{"$f":"'Data Feed'!E31","v":0},{"$f":"'Data Feed'!F31","v":0},{"$f":"'Data Feed'!G31","v":0},{"$f":"'Data Feed'!H31","v":0},{"$f":"'Data Feed'!I31","v":0},{"$f":"'Data Feed'!J31","v":0},{"$f":"'Data Feed'!K31","v":0},{"$f":"'Data Feed'!L31","v":0},{"$f":"'Data Feed'!M31","v":0},{"$f":"'Data Feed'!N31","v":0},{"$f":"'Data Feed'!O31","v":0},{"$f":"'Data Feed'!P31","v":0},{"$f":"'Data Feed'!Q31","v":0},{"$f":"'Data Feed'!R31","v":0},{"$f":"'Data Feed'!S31","v":0},{"$f":"'Data Feed'!T31","v":0},{"$f":"'Data Feed'!U31","v":0},{"$f":"'Data Feed'!V31","v":0},{"$f":"'Data Feed'!W31","v":0},{"$f":"'Data Feed'!X31","v":0},{"$f":"'Data Feed'!Y31","v":0},{"$f":"'Data Feed'!Z31","v":0},{"$f":"'Data Feed'!AA31","v":0},{"$f":"'Data Feed'!AB31","v":0},{"$f":"'Data Feed'!AC31","v":0},{"$f":"'Data Feed'!AD31","v":0},{"$f":"'Data Feed'!AE31","v":0},{"$f":"'Data Feed'!AF31","v":0},{"$f":"'Data Feed'!AG31","v":0},{"$f":"'Data Feed'!AH31","v":0},{"$f":"'Data Feed'!AI31","v":0}]
[{"$f":"B30&\"_\"&COUNTIF($B$1:B30,B30)","v":"0_27"},{"$f":"'Data Feed'!G32","v":0},{"$f":"'Data Feed'!B32","v":0},{"$f":"'Data Feed'!C32","v":0},{"$f":"'Data Feed'!D32","v":0},{"$f":"'Data Feed'!E32","v":0},{"$f":"'Data Feed'!F32","v":0},{"$f":"'Data Feed'!G32","v":0},{"$f":"'Data Feed'!H32","v":0},{"$f":"'Data Feed'!I32","v":0},{"$f":"'Data Feed'!J32","v":0},{"$f":"'Data Feed'!K32","v":0},{"$f":"'Data Feed'!L32","v":0},{"$f":"'Data Feed'!M32","v":0},{"$f":"'Data Feed'!N32","v":0},{"$f":"'Data Feed'!O32","v":0},{"$f":"'Data Feed'!P32","v":0},{"$f":"'Data Feed'!Q32","v":0},{"$f":"'Data Feed'!R32","v":0},{"$f":"'Data Feed'!S32","v":0},{"$f":"'Data Feed'!T32","v":0},{"$f":"'Data Feed'!U32","v":0},{"$f":"'Data Feed'!V32","v":0},{"$f":"'Data Feed'!W32","v":0},{"$f":"'Data Feed'!X32","v":0},{"$f":"'Data Feed'!Y32","v":0},{"$f":"'Data Feed'!Z32","v":0},{"$f":"'Data Feed'!AA32","v":0},{"$f":"'Data Feed'!AB32","v":0},{"$f":"'Data Feed'!AC32","v":0},{"$f":"'Data Feed'!AD32","v":0},{"$f":"'Data Feed'!AE32","v":0},{"$f":"'Data Feed'!AF32","v":0},{"$f":"'Data Feed'!AG32","v":0},{"$f":"'Data Feed'!AH32","v":0},{"$f":"'Data Feed'!AI32","v":0}]
[{"$f":"B31&\"_\"&COUNTIF($B$1:B31,B31)","v":"0_28"},{"$f":"'Data Feed'!G33","v":0},{"$f":"'Data Feed'!B33","v":0},{"$f":"'Data Feed'!C33","v":0},{"$f":"'Data Feed'!D33","v":0},{"$f":"'Data Feed'!E33","v":0},{"$f":"'Data Feed'!F33","v":0},{"$f":"'Data Feed'!G33","v":0},{"$f":"'Data Feed'!H33","v":0},{"$f":"'Data Feed'!I33","v":0},{"$f":"'Data Feed'!J33","v":0},{"$f":"'Data Feed'!K33","v":0},{"$f":"'Data Feed'!L33","v":0},{"$f":"'Data Feed'!M33","v":0},{"$f":"'Data Feed'!N33","v":0},{"$f":"'Data Feed'!O33","v":0},{"$f":"'Data Feed'!P33","v":0},{"$f":"'Data Feed'!Q33","v":0},{"$f":"'Data Feed'!R33","v":0},{"$f":"'Data Feed'!S33","v":0},{"$f":"'Data Feed'!T33","v":0},{"$f":"'Data Feed'!U33","v":0},{"$f":"'Data Feed'!V33","v":0},{"$f":"'Data Feed'!W33","v":0},{"$f":"'Data Feed'!X33","v":0},{"$f":"'Data Feed'!Y33","v":0},{"$f":"'Data Feed'!Z33","v":0},{"$f":"'Data Feed'!AA33","v":0},{"$f":"'Data Feed'!AB33","v":0},{"$f":"'Data Feed'!AC33","v":0},{"$f":"'Data Feed'!AD33","v":0},{"$f":"'Data Feed'!AE33","v":0},{"$f":"'Data Feed'!AF33","v":0},{"$f":"'Data Feed'!AG33","v":0},{"$f":"'Data Feed'!AH33","v":0},{"$f":"'Data Feed'!AI33","v":0}]
[{"$f":"B32&\"_\"&COUNTIF($B$1:B32,B32)","v":"0_29"},{"$f":"'Data Feed'!G34","v":0},{"$f":"'Data Feed'!B34","v":0},{"$f":"'Data Feed'!C34","v":0},{"$f":"'Data Feed'!D34","v":0},{"$f":"'Data Feed'!E34","v":0},{"$f":"'Data Feed'!F34","v":0},{"$f":"'Data Feed'!G34","v":0},{"$f":"'Data Feed'!H34","v":0},{"$f":"'Data Feed'!I34","v":0},{"$f":"'Data Feed'!J34","v":0},{"$f":"'Data Feed'!K34","v":0},{"$f":"'Data Feed'!L34","v":0},{"$f":"'Data Feed'!M34","v":0},{"$f":"'Data Feed'!N34","v":0},{"$f":"'Data Feed'!O34","v":0},{"$f":"'Data Feed'!P34","v":0},{"$f":"'Data Feed'!Q34","v":0},{"$f":"'Data Feed'!R34","v":0},{"$f":"'Data Feed'!S34","v":0},{"$f":"'Data Feed'!T34","v":0},{"$f":"'Data Feed'!U34","v":0},{"$f":"'Data Feed'!V34","v":0},{"$f":"'Data Feed'!W34","v":0},{"$f":"'Data Feed'!X34","v":0},{"$f":"'Data Feed'!Y34","v":0},{"$f":"'Data Feed'!Z34","v":0},{"$f":"'Data Feed'!AA34","v":0},{"$f":"'Data Feed'!AB34","v":0},{"$f":"'Data Feed'!AC34","v":0},{"$f":"'Data Feed'!AD34","v":0},{"$f":"'Data Feed'!AE34","v":0},{"$f":"'Data Feed'!AF34","v":0},{"$f":"'Data Feed'!AG34","v":0},{"$f":"'Data Feed'!AH34","v":0},{"$f":"'Data Feed'!AI34","v":0}]
[{"$f":"B33&\"_\"&COUNTIF($B$1:B33,B33)","v":"0_30"},{"$f":"'Data Feed'!G35","v":0},{"$f":"'Data Feed'!B35","v":0},{"$f":"'Data Feed'!C35","v":0},{"$f":"'Data Feed'!D35","v":0},{"$f":"'Data Feed'!E35","v":0},{"$f":"'Data Feed'!F35","v":0},{"$f":"'Data Feed'!G35","v":0},{"$f":"'Data Feed'!H35","v":0},{"$f":"'Data Feed'!I35","v":0},{"$f":"'Data Feed'!J35","v":0},{"$f":"'Data Feed'!K35","v":0},{"$f":"'Data Feed'!L35","v":0},{"$f":"'Data Feed'!M35","v":0},{"$f":"'Data Feed'!N35","v":0},{"$f":"'Data Feed'!O35","v":0},{"$f":"'Data Feed'!P35","v":0},{"$f":"'Data Feed'!Q35","v":0},{"$f":"'Data Feed'!R35","v":0},{"$f":"'Data Feed'!S35","v":0},{"$f":"'Data Feed'!T35","v":0},{"$f":"'Data Feed'!U35","v":0},{"$f":"'Data Feed'!V35","v":0},{"$f":"'Data Feed'!W35","v":0},{"$f":"'Data Feed'!X35","v":0},{"$f":"'Data Feed'!Y35","v":0},{"$f":"'Data Feed'!Z35","v":0},{"$f":"'Data Feed'!AA35","v":0},{"$f":"'Data Feed'!AB35","v":0},{"$f":"'Data Feed'!AC35","v":0},{"$f":"'Data Feed'!AD35","v":0},{"$f":"'Data Feed'!AE35","v":0},{"$f":"'Data Feed'!AF35","v":0},{"$f":"'Data Feed'!AG35","v":0},{"$f":"'Data Feed'!AH35","v":0},{"$f":"'Data Feed'!AI35","v":0}]
[{"$f":"B34&\"_\"&COUNTIF($B$1:B34,B34)","v":"0_31"},{"$f":"'Data Feed'!G36","v":0},{"$f":"'Data Feed'!B36","v":0},{"$f":"'Data Feed'!C36","v":0},{"$f":"'Data Feed'!D36","v":0},{"$f":"'Data Feed'!E36","v":0},{"$f":"'Data Feed'!F36","v":0},{"$f":"'Data Feed'!G36","v":0},{"$f":"'Data Feed'!H36","v":0},{"$f":"'Data Feed'!I36","v":0},{"$f":"'Data Feed'!J36","v":0},{"$f":"'Data Feed'!K36","v":0},{"$f":"'Data Feed'!L36","v":0},{"$f":"'Data Feed'!M36","v":0},{"$f":"'Data Feed'!N36","v":0},{"$f":"'Data Feed'!O36","v":0},{"$f":"'Data Feed'!P36","v":0},{"$f":"'Data Feed'!Q36","v":0},{"$f":"'Data Feed'!R36","v":0},{"$f":"'Data Feed'!S36","v":0},{"$f":"'Data Feed'!T36","v":0},{"$f":"'Data Feed'!U36","v":0},{"$f":"'Data Feed'!V36","v":0},{"$f":"'Data Feed'!W36","v":0},{"$f":"'Data Feed'!X36","v":0},{"$f":"'Data Feed'!Y36","v":0},{"$f":"'Data Feed'!Z36","v":0},{"$f":"'Data Feed'!AA36","v":0},{"$f":"'Data Feed'!AB36","v":0},{"$f":"'Data Feed'!AC36","v":0},{"$f":"'Data Feed'!AD36","v":0},{"$f":"'Data Feed'!AE36","v":0},{"$f":"'Data Feed'!AF36","v":0},{"$f":"'Data Feed'!AG36","v":0},{"$f":"'Data Feed'!AH36","v":0},{"$f":"'Data Feed'!AI36","v":0}]
[{"$f":"B35&\"_\"&COUNTIF($B$1:B35,B35)","v":"0_32"},{"$f":"'Data Feed'!G37","v":0},{"$f":"'Data Feed'!B37","v":0},{"$f":"'Data Feed'!C37","v":0},{"$f":"'Data Feed'!D37","v":0},{"$f":"'Data Feed'!E37","v":0},{"$f":"'Data Feed'!F37","v":0},{"$f":"'Data Feed'!G37","v":0},{"$f":"'Data Feed'!H37","v":0},{"$f":"'Data Feed'!I37","v":0},{"$f":"'Data Feed'!J37","v":0},{"$f":"'Data Feed'!K37","v":0},{"$f":"'Data Feed'!L37","v":0},{"$f":"'Data Feed'!M37","v":0},{"$f":"'Data Feed'!N37","v":0},{"$f":"'Data Feed'!O37","v":0},{"$f":"'Data Feed'!P37","v":0},{"$f":"'Data Feed'!Q37","v":0},{"$f":"'Data Feed'!R37","v":0},{"$f":"'Data Feed'!S37","v":0},{"$f":"'Data Feed'!T37","v":0},{"$f":"'Data Feed'!U37","v":0},{"$f":"'Data Feed'!V37","v":0},{"$f":"'Data Feed'!W37","v":0},{"$f":"'Data Feed'!X37","v":0},{"$f":"'Data Feed'!Y37","v":0},{"$f":"'Data Feed'!Z37","v":0},{"$f":"'Data Feed'!AA37","v":0},{"$f":"'Data Feed'!AB37","v":0},{"$f":"'Data Feed'!AC37","v":0},{"$f":"'Data Feed'!AD37","v":0},{"$f":"'Data Feed'!AE37","v":0},{"$f":"'Data Feed'!AF37","v":0},{"$f":"'Data Feed'!AG37","v":0},{"$f":"'Data Feed'!AH37","v":0},{"$f":"'Data Feed'!AI37","v":0}]
[{"$f":"B36&\"_\"&COUNTIF($B$1:B36,B36)","v":"0_33"},{"$f":"'Data Feed'!G38","v":0},{"$f":"'Data Feed'!B38","v":0},{"$f":"'Data Feed'!C38","v":0},{"$f":"'Data Feed'!D38","v":0},{"$f":"'Data Feed'!E38","v":0},{"$f":"'Data Feed'!F38","v":0},{"$f":"'Data Feed'!G38","v":0},{"$f":"'Data Feed'!H38","v":0},{"$f":"'Data Feed'!I38","v":0},{"$f":"'Data Feed'!J38","v":0},{"$f":"'Data Feed'!K38","v":0},{"$f":"'Data Feed'!L38","v":0},{"$f":"'Data Feed'!M38","v":0},{"$f":"'Data Feed'!N38","v":0},{"$f":"'Data Feed'!O38","v":0},{"$f":"'Data Feed'!P38","v":0},{"$f":"'Data Feed'!Q38","v":0},{"$f":"'Data Feed'!R38","v":0},{"$f":"'Data Feed'!S38","v":0},{"$f":"'Data Feed'!T38","v":0},{"$f":"'Data Feed'!U38","v":0},{"$f":"'Data Feed'!V38","v":0},{"$f":"'Data Feed'!W38","v":0},{"$f":"'Data Feed'!X38","v":0},{"$f":"'Data Feed'!Y38","v":0},{"$f":"'Data Feed'!Z38","v":0},{"$f":"'Data Feed'!AA38","v":0},{"$f":"'Data Feed'!AB38","v":0},{"$f":"'Data Feed'!AC38","v":0},{"$f":"'Data Feed'!AD38","v":0},{"$f":"'Data Feed'!AE38","v":0},{"$f":"'Data Feed'!AF38","v":0},{"$f":"'Data Feed'!AG38","v":0},{"$f":"'Data Feed'!AH38","v":0},{"$f":"'Data Feed'!AI38","v":0}]
[{"$f":"B37&\"_\"&COUNTIF($B$1:B37,B37)","v":"0_34"},{"$f":"'Data Feed'!G39","v":0},{"$f":"'Data Feed'!B39","v":0},{"$f":"'Data Feed'!C39","v":0},{"$f":"'Data Feed'!D39","v":0},{"$f":"'Data Feed'!E39","v":0},{"$f":"'Data Feed'!F39","v":0},{"$f":"'Data Feed'!G39","v":0},{"$f":"'Data Feed'!H39","v":0},{"$f":"'Data Feed'!I39","v":0},{"$f":"'Data Feed'!J39","v":0},{"$f":"'Data Feed'!K39","v":0},{"$f":"'Data Feed'!L39","v":0},{"$f":"'Data Feed'!M39","v":0},{"$f":"'Data Feed'!N39","v":0},{"$f":"'Data Feed'!O39","v":0},{"$f":"'Data Feed'!P39","v":0},{"$f":"'Data Feed'!Q39","v":0},{"$f":"'Data Feed'!R39","v":0},{"$f":"'Data Feed'!S39","v":0},{"$f":"'Data Feed'!T39","v":0},{"$f":"'Data Feed'!U39","v":0},{"$f":"'Data Feed'!V39","v":0},{"$f":"'Data Feed'!W39","v":0},{"$f":"'Data Feed'!X39","v":0},{"$f":"'Data Feed'!Y39","v":0},{"$f":"'Data Feed'!Z39","v":0},{"$f":"'Data Feed'!AA39","v":0},{"$f":"'Data Feed'!AB39","v":0},{"$f":"'Data Feed'!AC39","v":0},{"$f":"'Data Feed'!AD39","v":0},{"$f":"'Data Feed'!AE39","v":0},{"$f":"'Data Feed'!AF39","v":0},{"$f":"'Data Feed'!AG39","v":0},{"$f":"'Data Feed'!AH39","v":0},{"$f":"'Data Feed'!AI39","v":0}]
[{"$f":"B38&\"_\"&COUNTIF($B$1:B38,B38)","v":"0_35"},{"$f":"'Data Feed'!G40","v":0},{"$f":"'Data Feed'!B40","v":0},{"$f":"'Data Feed'!C40","v":0},{"$f":"'Data Feed'!D40","v":0},{"$f":"'Data Feed'!E40","v":0},{"$f":"'Data Feed'!F40","v":0},{"$f":"'Data Feed'!G40","v":0},{"$f":"'Data Feed'!H40","v":0},{"$f":"'Data Feed'!I40","v":0},{"$f":"'Data Feed'!J40","v":0},{"$f":"'Data Feed'!K40","v":0},{"$f":"'Data Feed'!L40","v":0},{"$f":"'Data Feed'!M40","v":0},{"$f":"'Data Feed'!N40","v":0},{"$f":"'Data Feed'!O40","v":0},{"$f":"'Data Feed'!P40","v":0},{"$f":"'Data Feed'!Q40","v":0},{"$f":"'Data Feed'!R40","v":0},{"$f":"'Data Feed'!S40","v":0},{"$f":"'Data Feed'!T40","v":0},{"$f":"'Data Feed'!U40","v":0},{"$f":"'Data Feed'!V40","v":0},{"$f":"'Data Feed'!W40","v":0},{"$f":"'Data Feed'!X40","v":0},{"$f":"'Data Feed'!Y40","v":0},{"$f":"'Data Feed'!Z40","v":0},{"$f":"'Data Feed'!AA40","v":0},{"$f":"'Data Feed'!AB40","v":0},{"$f":"'Data Feed'!AC40","v":0},{"$f":"'Data Feed'!AD40","v":0},{"$f":"'Data Feed'!AE40","v":0},{"$f":"'Data Feed'!AF40","v":0},{"$f":"'Data Feed'!AG40","v":0},{"$f":"'Data Feed'!AH40","v":0},{"$f":"'Data Feed'!AI40","v":0}]
[{"$f":"B39&\"_\"&COUNTIF($B$1:B39,B39)","v":"0_36"},{"$f":"'Data Feed'!G41","v":0},{"$f":"'Data Feed'!B41","v":0},{"$f":"'Data Feed'!C41","v":0},{"$f":"'Data Feed'!D41","v":0},{"$f":"'Data Feed'!E41","v":0},{"$f":"'Data Feed'!F41","v":0},{"$f":"'Data Feed'!G41","v":0},{"$f":"'Data Feed'!H41","v":0},{"$f":"'Data Feed'!I41","v":0},{"$f":"'Data Feed'!J41","v":0},{"$f":"'Data Feed'!K41","v":0},{"$f":"'Data Feed'!L41","v":0},{"$f":"'Data Feed'!M41","v":0},{"$f":"'Data Feed'!N41","v":0},{"$f":"'Data Feed'!O41","v":0},{"$f":"'Data Feed'!P41","v":0},{"$f":"'Data Feed'!Q41","v":0},{"$f":"'Data Feed'!R41","v":0},{"$f":"'Data Feed'!S41","v":0},{"$f":"'Data Feed'!T41","v":0},{"$f":"'Data Feed'!U41","v":0},{"$f":"'Data Feed'!V41","v":0},{"$f":"'Data Feed'!W41","v":0},{"$f":"'Data Feed'!X41","v":0},{"$f":"'Data Feed'!Y41","v":0},{"$f":"'Data Feed'!Z41","v":0},{"$f":"'Data Feed'!AA41","v":0},{"$f":"'Data Feed'!AB41","v":0},{"$f":"'Data Feed'!AC41","v":0},{"$f":"'Data Feed'!AD41","v":0},{"$f":"'Data Feed'!AE41","v":0},{"$f":"'Data Feed'!AF41","v":0},{"$f":"'Data Feed'!AG41","v":0},{"$f":"'Data Feed'!AH41","v":0},{"$f":"'Data Feed'!AI41","v":0}]
[{"$f":"B40&\"_\"&COUNTIF($B$1:B40,B40)","v":"0_37"},{"$f":"'Data Feed'!G42","v":0},{"$f":"'Data Feed'!B42","v":0},{"$f":"'Data Feed'!C42","v":0},{"$f":"'Data Feed'!D42","v":0},{"$f":"'Data Feed'!E42","v":0},{"$f":"'Data Feed'!F42","v":0},{"$f":"'Data Feed'!G42","v":0},{"$f":"'Data Feed'!H42","v":0},{"$f":"'Data Feed'!I42","v":0},{"$f":"'Data Feed'!J42","v":0},{"$f":"'Data Feed'!K42","v":0},{"$f":"'Data Feed'!L42","v":0},{"$f":"'Data Feed'!M42","v":0},{"$f":"'Data Feed'!N42","v":0},{"$f":"'Data Feed'!O42","v":0},{"$f":"'Data Feed'!P42","v":0},{"$f":"'Data Feed'!Q42","v":0},{"$f":"'Data Feed'!R42","v":0},{"$f":"'Data Feed'!S42","v":0},{"$f":"'Data Feed'!T42","v":0},{"$f":"'Data Feed'!U42","v":0},{"$f":"'Data Feed'!V42","v":0},{"$f":"'Data Feed'!W42","v":0},{"$f":"'Data Feed'!X42","v":0},{"$f":"'Data Feed'!Y42","v":0},{"$f":"'Data Feed'!Z42","v":0},{"$f":"'Data Feed'!AA42","v":0},{"$f":"'Data Feed'!AB42","v":0},{"$f":"'Data Feed'!AC42","v":0},{"$f":"'Data Feed'!AD42","v":0},{"$f":"'Data Feed'!AE42","v":0},{"$f":"'Data Feed'!AF42","v":0},{"$f":"'Data Feed'!AG42","v":0},{"$f":"'Data Feed'!AH42","v":0},{"$f":"'Data Feed'!AI42","v":0}]
[{"$f":"B41&\"_\"&COUNTIF($B$1:B41,B41)","v":"0_38"},{"$f":"'Data Feed'!G43","v":0},{"$f":"'Data Feed'!B43","v":0},{"$f":"'Data Feed'!C43","v":0},{"$f":"'Data Feed'!D43","v":0},{"$f":"'Data Feed'!E43","v":0},{"$f":"'Data Feed'!F43","v":0},{"$f":"'Data Feed'!G43","v":0},{"$f":"'Data Feed'!H43","v":0},{"$f":"'Data Feed'!I43","v":0},{"$f":"'Data Feed'!J43","v":0},{"$f":"'Data Feed'!K43","v":0},{"$f":"'Data Feed'!L43","v":0},{"$f":"'Data Feed'!M43","v":0},{"$f":"'Data Feed'!N43","v":0},{"$f":"'Data Feed'!O43","v":0},{"$f":"'Data Feed'!P43","v":0},{"$f":"'Data Feed'!Q43","v":0},{"$f":"'Data Feed'!R43","v":0},{"$f":"'Data Feed'!S43","v":0},{"$f":"'Data Feed'!T43","v":0},{"$f":"'Data Feed'!U43","v":0},{"$f":"'Data Feed'!V43","v":0},{"$f":"'Data Feed'!W43","v":0},{"$f":"'Data Feed'!X43","v":0},{"$f":"'Data Feed'!Y43","v":0},{"$f":"'Data Feed'!Z43","v":0},{"$f":"'Data Feed'!AA43","v":0},{"$f":"'Data Feed'!AB43","v":0},{"$f":"'Data Feed'!AC43","v":0},{"$f":"'Data Feed'!AD43","v":0},{"$f":"'Data Feed'!AE43","v":0},{"$f":"'Data Feed'!AF43","v":0},{"$f":"'Data Feed'!AG43","v":0},{"$f":"'Data Feed'!AH43","v":0},{"$f":"'Data Feed'!AI43","v":0}]
[{"$f":"B42&\"_\"&COUNTIF($B$1:B42,B42)","v":"0_39"},{"$f":"'Data Feed'!G44","v":0},{"$f":"'Data Feed'!B44","v":0},{"$f":"'Data Feed'!C44","v":0},{"$f":"'Data Feed'!D44","v":0},{"$f":"'Data Feed'!E44","v":0},{"$f":"'Data Feed'!F44","v":0},{"$f":"'Data Feed'!G44","v":0},{"$f":"'Data Feed'!H44","v":0},{"$f":"'Data Feed'!I44","v":0},{"$f":"'Data Feed'!J44","v":0},{"$f":"'Data Feed'!K44","v":0},{"$f":"'Data Feed'!L44","v":0},{"$f":"'Data Feed'!M44","v":0},{"$f":"'Data Feed'!N44","v":0},{"$f":"'Data Feed'!O44","v":0},{"$f":"'Data Feed'!P44","v":0},{"$f":"'Data Feed'!Q44","v":0},{"$f":"'Data Feed'!R44","v":0},{"$f":"'Data Feed'!S44","v":0},{"$f":"'Data Feed'!T44","v":0},{"$f":"'Data Feed'!U44","v":0},{"$f":"'Data Feed'!V44","v":0},{"$f":"'Data Feed'!W44","v":0},{"$f":"'Data Feed'!X44","v":0},{"$f":"'Data Feed'!Y44","v":0},{"$f":"'Data Feed'!Z44","v":0},{"$f":"'Data Feed'!AA44","v":0},{"$f":"'Data Feed'!AB44","v":0},{"$f":"'Data Feed'!AC44","v":0},{"$f":"'Data Feed'!AD44","v":0},{"$f":"'Data Feed'!AE44","v":0},{"$f":"'Data Feed'!AF44","v":0},{"$f":"'Data Feed'!AG44","v":0},{"$f":"'Data Feed'!AH44","v":0},{"$f":"'Data Feed'!AI44","v":0}]
[{"$f":"B43&\"_\"&COUNTIF($B$1:B43,B43)","v":"0_40"},{"$f":"'Data Feed'!G45","v":0},{"$f":"'Data Feed'!B45","v":0},{"$f":"'Data Feed'!C45","v":0},{"$f":"'Data Feed'!D45","v":0},{"$f":"'Data Feed'!E45","v":0},{"$f":"'Data Feed'!F45","v":0},{"$f":"'Data Feed'!G45","v":0},{"$f":"'Data Feed'!H45","v":0},{"$f":"'Data Feed'!I45","v":0},{"$f":"'Data Feed'!J45","v":0},{"$f":"'Data Feed'!K45","v":0},{"$f":"'Data Feed'!L45","v":0},{"$f":"'Data Feed'!M45","v":0},{"$f":"'Data Feed'!N45","v":0},{"$f":"'Data Feed'!O45","v":0},{"$f":"'Data Feed'!P45","v":0},{"$f":"'Data Feed'!Q45","v":0},{"$f":"'Data Feed'!R45","v":0},{"$f":"'Data Feed'!S45","v":0},{"$f":"'Data Feed'!T45","v":0},{"$f":"'Data Feed'!U45","v":0},{"$f":"'Data Feed'!V45","v":0},{"$f":"'Data Feed'!W45","v":0},{"$f":"'Data Feed'!X45","v":0},{"$f":"'Data Feed'!Y45","v":0},{"$f":"'Data Feed'!Z45","v":0},{"$f":"'Data Feed'!AA45","v":0},{"$f":"'Data Feed'!AB45","v":0},{"$f":"'Data Feed'!AC45","v":0},{"$f":"'Data Feed'!AD45","v":0},{"$f":"'Data Feed'!AE45","v":0},{"$f":"'Data Feed'!AF45","v":0},{"$f":"'Data Feed'!AG45","v":0},{"$f":"'Data Feed'!AH45","v":0},{"$f":"'Data Feed'!AI45","v":0}]
[{"$f":"B44&\"_\"&COUNTIF($B$1:B44,B44)","v":"0_41"},{"$f":"'Data Feed'!G46","v":0},{"$f":"'Data Feed'!B46","v":0},{"$f":"'Data Feed'!C46","v":0},{"$f":"'Data Feed'!D46","v":0},{"$f":"'Data Feed'!E46","v":0},{"$f":"'Data Feed'!F46","v":0},{"$f":"'Data Feed'!G46","v":0},{"$f":"'Data Feed'!H46","v":0},{"$f":"'Data Feed'!I46","v":0},{"$f":"'Data Feed'!J46","v":0},{"$f":"'Data Feed'!K46","v":0},{"$f":"'Data Feed'!L46","v":0},{"$f":"'Data Feed'!M46","v":0},{"$f":"'Data Feed'!N46","v":0},{"$f":"'Data Feed'!O46","v":0},{"$f":"'Data Feed'!P46","v":0},{"$f":"'Data Feed'!Q46","v":0},{"$f":"'Data Feed'!R46","v":0},{"$f":"'Data Feed'!S46","v":0},{"$f":"'Data Feed'!T46","v":0},{"$f":"'Data Feed'!U46","v":0},{"$f":"'Data Feed'!V46","v":0},{"$f":"'Data Feed'!W46","v":0},{"$f":"'Data Feed'!X46","v":0},{"$f":"'Data Feed'!Y46","v":0},{"$f":"'Data Feed'!Z46","v":0},{"$f":"'Data Feed'!AA46","v":0},{"$f":"'Data Feed'!AB46","v":0},{"$f":"'Data Feed'!AC46","v":0},{"$f":"'Data Feed'!AD46","v":0},{"$f":"'Data Feed'!AE46","v":0},{"$f":"'Data Feed'!AF46","v":0},{"$f":"'Data Feed'!AG46","v":0},{"$f":"'Data Feed'!AH46","v":0},{"$f":"'Data Feed'!AI46","v":0}]
[{"$f":"B45&\"_\"&COUNTIF($B$1:B45,B45)","v":"0_42"},{"$f":"'Data Feed'!G47","v":0},{"$f":"'Data Feed'!B47","v":0},{"$f":"'Data Feed'!C47","v":0},{"$f":"'Data Feed'!D47","v":0},{"$f":"'Data Feed'!E47","v":0},{"$f":"'Data Feed'!F47","v":0},{"$f":"'Data Feed'!G47","v":0},{"$f":"'Data Feed'!H47","v":0},{"$f":"'Data Feed'!I47","v":0},{"$f":"'Data Feed'!J47","v":0},{"$f":"'Data Feed'!K47","v":0},{"$f":"'Data Feed'!L47","v":0},{"$f":"'Data Feed'!M47","v":0},{"$f":"'Data Feed'!N47","v":0},{"$f":"'Data Feed'!O47","v":0},{"$f":"'Data Feed'!P47","v":0},{"$f":"'Data Feed'!Q47","v":0},{"$f":"'Data Feed'!R47","v":0},{"$f":"'Data Feed'!S47","v":0},{"$f":"'Data Feed'!T47","v":0},{"$f":"'Data Feed'!U47","v":0},{"$f":"'Data Feed'!V47","v":0},{"$f":"'Data Feed'!W47","v":0},{"$f":"'Data Feed'!X47","v":0},{"$f":"'Data Feed'!Y47","v":0},{"$f":"'Data Feed'!Z47","v":0},{"$f":"'Data Feed'!AA47","v":0},{"$f":"'Data Feed'!AB47","v":0},{"$f":"'Data Feed'!AC47","v":0},{"$f":"'Data Feed'!AD47","v":0},{"$f":"'Data Feed'!AE47","v":0},{"$f":"'Data Feed'!AF47","v":0},{"$f":"'Data Feed'!AG47","v":0},{"$f":"'Data Feed'!AH47","v":0},{"$f":"'Data Feed'!AI47","v":0}]
[{"$f":"B46&\"_\"&COUNTIF($B$1:B46,B46)","v":"0_43"},{"$f":"'Data Feed'!G48","v":0},{"$f":"'Data Feed'!B48","v":0},{"$f":"'Data Feed'!C48","v":0},{"$f":"'Data Feed'!D48","v":0},{"$f":"'Data Feed'!E48","v":0},{"$f":"'Data Feed'!F48","v":0},{"$f":"'Data Feed'!G48","v":0},{"$f":"'Data Feed'!H48","v":0},{"$f":"'Data Feed'!I48","v":0},{"$f":"'Data Feed'!J48","v":0},{"$f":"'Data Feed'!K48","v":0},{"$f":"'Data Feed'!L48","v":0},{"$f":"'Data Feed'!M48","v":0},{"$f":"'Data Feed'!N48","v":0},{"$f":"'Data Feed'!O48","v":0},{"$f":"'Data Feed'!P48","v":0},{"$f":"'Data Feed'!Q48","v":0},{"$f":"'Data Feed'!R48","v":0},{"$f":"'Data Feed'!S48","v":0},{"$f":"'Data Feed'!T48","v":0},{"$f":"'Data Feed'!U48","v":0},{"$f":"'Data Feed'!V48","v":0},{"$f":"'Data Feed'!W48","v":0},{"$f":"'Data Feed'!X48","v":0},{"$f":"'Data Feed'!Y48","v":0},{"$f":"'Data Feed'!Z48","v":0},{"$f":"'Data Feed'!AA48","v":0},{"$f":"'Data Feed'!AB48","v":0},{"$f":"'Data Feed'!AC48","v":0},{"$f":"'Data Feed'!AD48","v":0},{"$f":"'Data Feed'!AE48","v":0},{"$f":"'Data Feed'!AF48","v":0},{"$f":"'Data Feed'!AG48","v":0},{"$f":"'Data Feed'!AH48","v":0},{"$f":"'Data Feed'!AI48","v":0}]
[{"$f":"B47&\"_\"&COUNTIF($B$1:B47,B47)","v":"0_44"},{"$f":"'Data Feed'!G49","v":0},{"$f":"'Data Feed'!B49","v":0},{"$f":"'Data Feed'!C49","v":0},{"$f":"'Data Feed'!D49","v":0},{"$f":"'Data Feed'!E49","v":0},{"$f":"'Data Feed'!F49","v":0},{"$f":"'Data Feed'!G49","v":0},{"$f":"'Data Feed'!H49","v":0},{"$f":"'Data Feed'!I49","v":0},{"$f":"'Data Feed'!J49","v":0},{"$f":"'Data Feed'!K49","v":0},{"$f":"'Data Feed'!L49","v":0},{"$f":"'Data Feed'!M49","v":0},{"$f":"'Data Feed'!N49","v":0},{"$f":"'Data Feed'!O49","v":0},{"$f":"'Data Feed'!P49","v":0},{"$f":"'Data Feed'!Q49","v":0},{"$f":"'Data Feed'!R49","v":0},{"$f":"'Data Feed'!S49","v":0},{"$f":"'Data Feed'!T49","v":0},{"$f":"'Data Feed'!U49","v":0},{"$f":"'Data Feed'!V49","v":0},{"$f":"'Data Feed'!W49","v":0},{"$f":"'Data Feed'!X49","v":0},{"$f":"'Data Feed'!Y49","v":0},{"$f":"'Data Feed'!Z49","v":0},{"$f":"'Data Feed'!AA49","v":0},{"$f":"'Data Feed'!AB49","v":0},{"$f":"'Data Feed'!AC49","v":0},{"$f":"'Data Feed'!AD49","v":0},{"$f":"'Data Feed'!AE49","v":0},{"$f":"'Data Feed'!AF49","v":0},{"$f":"'Data Feed'!AG49","v":0},{"$f":"'Data Feed'!AH49","v":0},{"$f":"'Data Feed'!AI49","v":0}]
[{"$f":"B48&\"_\"&COUNTIF($B$1:B48,B48)","v":"0_45"},{"$f":"'Data Feed'!G50","v":0},{"$f":"'Data Feed'!B50","v":0},{"$f":"'Data Feed'!C50","v":0},{"$f":"'Data Feed'!D50","v":0},{"$f":"'Data Feed'!E50","v":0},{"$f":"'Data Feed'!F50","v":0},{"$f":"'Data Feed'!G50","v":0},{"$f":"'Data Feed'!H50","v":0},{"$f":"'Data Feed'!I50","v":0},{"$f":"'Data Feed'!J50","v":0},{"$f":"'Data Feed'!K50","v":0},{"$f":"'Data Feed'!L50","v":0},{"$f":"'Data Feed'!M50","v":0},{"$f":"'Data Feed'!N50","v":0},{"$f":"'Data Feed'!O50","v":0},{"$f":"'Data Feed'!P50","v":0},{"$f":"'Data Feed'!Q50","v":0},{"$f":"'Data Feed'!R50","v":0},{"$f":"'Data Feed'!S50","v":0},{"$f":"'Data Feed'!T50","v":0},{"$f":"'Data Feed'!U50","v":0},{"$f":"'Data Feed'!V50","v":0},{"$f":"'Data Feed'!W50","v":0},{"$f":"'Data Feed'!X50","v":0},{"$f":"'Data Feed'!Y50","v":0},{"$f":"'Data Feed'!Z50","v":0},{"$f":"'Data Feed'!AA50","v":0},{"$f":"'Data Feed'!AB50","v":0},{"$f":"'Data Feed'!AC50","v":0},{"$f":"'Data Feed'!AD50","v":0},{"$f":"'Data Feed'!AE50","v":0},{"$f":"'Data Feed'!AF50","v":0},{"$f":"'Data Feed'!AG50","v":0},{"$f":"'Data Feed'!AH50","v":0},{"$f":"'Data Feed'!AI50","v":0}]
[{"$f":"B49&\"_\"&COUNTIF($B$1:B49,B49)","v":"0_46"},{"$f":"'Data Feed'!G51","v":0},{"$f":"'Data Feed'!B51","v":0},{"$f":"'Data Feed'!C51","v":0},{"$f":"'Data Feed'!D51","v":0},{"$f":"'Data Feed'!E51","v":0},{"$f":"'Data Feed'!F51","v":0},{"$f":"'Data Feed'!G51","v":0},{"$f":"'Data Feed'!H51","v":0},{"$f":"'Data Feed'!I51","v":0},{"$f":"'Data Feed'!J51","v":0},{"$f":"'Data Feed'!K51","v":0},{"$f":"'Data Feed'!L51","v":0},{"$f":"'Data Feed'!M51","v":0},{"$f":"'Data Feed'!N51","v":0},{"$f":"'Data Feed'!O51","v":0},{"$f":"'Data Feed'!P51","v":0},{"$f":"'Data Feed'!Q51","v":0},{"$f":"'Data Feed'!R51","v":0},{"$f":"'Data Feed'!S51","v":0},{"$f":"'Data Feed'!T51","v":0},{"$f":"'Data Feed'!U51","v":0},{"$f":"'Data Feed'!V51","v":0},{"$f":"'Data Feed'!W51","v":0},{"$f":"'Data Feed'!X51","v":0},{"$f":"'Data Feed'!Y51","v":0},{"$f":"'Data Feed'!Z51","v":0},{"$f":"'Data Feed'!AA51","v":0},{"$f":"'Data Feed'!AB51","v":0},{"$f":"'Data Feed'!AC51","v":0},{"$f":"'Data Feed'!AD51","v":0},{"$f":"'Data Feed'!AE51","v":0},{"$f":"'Data Feed'!AF51","v":0},{"$f":"'Data Feed'!AG51","v":0},{"$f":"'Data Feed'!AH51","v":0},{"$f":"'Data Feed'!AI51","v":0}]
[{"$f":"B50&\"_\"&COUNTIF($B$1:B50,B50)","v":"0_47"},{"$f":"'Data Feed'!G52","v":0},{"$f":"'Data Feed'!B52","v":0},{"$f":"'Data Feed'!C52","v":0},{"$f":"'Data Feed'!D52","v":0},{"$f":"'Data Feed'!E52","v":0},{"$f":"'Data Feed'!F52","v":0},{"$f":"'Data Feed'!G52","v":0},{"$f":"'Data Feed'!H52","v":0},{"$f":"'Data Feed'!I52","v":0},{"$f":"'Data Feed'!J52","v":0},{"$f":"'Data Feed'!K52","v":0},{"$f":"'Data Feed'!L52","v":0},{"$f":"'Data Feed'!M52","v":0},{"$f":"'Data Feed'!N52","v":0},{"$f":"'Data Feed'!O52","v":0},{"$f":"'Data Feed'!P52","v":0},{"$f":"'Data Feed'!Q52","v":0},{"$f":"'Data Feed'!R52","v":0},{"$f":"'Data Feed'!S52","v":0},{"$f":"'Data Feed'!T52","v":0},{"$f":"'Data Feed'!U52","v":0},{"$f":"'Data Feed'!V52","v":0},{"$f":"'Data Feed'!W52","v":0},{"$f":"'Data Feed'!X52","v":0},{"$f":"'Data Feed'!Y52","v":0},{"$f":"'Data Feed'!Z52","v":0},{"$f":"'Data Feed'!AA52","v":0},{"$f":"'Data Feed'!AB52","v":0},{"$f":"'Data Feed'!AC52","v":0},{"$f":"'Data Feed'!AD52","v":0},{"$f":"'Data Feed'!AE52","v":0},{"$f":"'Data Feed'!AF52","v":0},{"$f":"'Data Feed'!AG52","v":0},{"$f":"'Data Feed'!AH52","v":0},{"$f":"'Data Feed'!AI52","v":0}]
[{"$f":"B51&\"_\"&COUNTIF($B$1:B51,B51)","v":"0_48"},{"$f":"'Data Feed'!G53","v":0},{"$f":"'Data Feed'!B53","v":0},{"$f":"'Data Feed'!C53","v":0},{"$f":"'Data Feed'!D53","v":0},{"$f":"'Data Feed'!E53","v":0},{"$f":"'Data Feed'!F53","v":0},{"$f":"'Data Feed'!G53","v":0},{"$f":"'Data Feed'!H53","v":0},{"$f":"'Data Feed'!I53","v":0},{"$f":"'Data Feed'!J53","v":0},{"$f":"'Data Feed'!K53","v":0},{"$f":"'Data Feed'!L53","v":0},{"$f":"'Data Feed'!M53","v":0},{"$f":"'Data Feed'!N53","v":0},{"$f":"'Data Feed'!O53","v":0},{"$f":"'Data Feed'!P53","v":0},{"$f":"'Data Feed'!Q53","v":0},{"$f":"'Data Feed'!R53","v":0},{"$f":"'Data Feed'!S53","v":0},{"$f":"'Data Feed'!T53","v":0},{"$f":"'Data Feed'!U53","v":0},{"$f":"'Data Feed'!V53","v":0},{"$f":"'Data Feed'!W53","v":0},{"$f":"'Data Feed'!X53","v":0},{"$f":"'Data Feed'!Y53","v":0},{"$f":"'Data Feed'!Z53","v":0},{"$f":"'Data Feed'!AA53","v":0},{"$f":"'Data Feed'!AB53","v":0},{"$f":"'Data Feed'!AC53","v":0},{"$f":"'Data Feed'!AD53","v":0},{"$f":"'Data Feed'!AE53","v":0},{"$f":"'Data Feed'!AF53","v":0},{"$f":"'Data Feed'!AG53","v":0},{"$f":"'Data Feed'!AH53","v":0},{"$f":"'Data Feed'!AI53","v":0}]
[{"$f":"B52&\"_\"&COUNTIF($B$1:B52,B52)","v":"0_49"},{"$f":"'Data Feed'!G54","v":0},{"$f":"'Data Feed'!B54","v":0},{"$f":"'Data Feed'!C54","v":0},{"$f":"'Data Feed'!D54","v":0},{"$f":"'Data Feed'!E54","v":0},{"$f":"'Data Feed'!F54","v":0},{"$f":"'Data Feed'!G54","v":0},{"$f":"'Data Feed'!H54","v":0},{"$f":"'Data Feed'!I54","v":0},{"$f":"'Data Feed'!J54","v":0},{"$f":"'Data Feed'!K54","v":0},{"$f":"'Data Feed'!L54","v":0},{"$f":"'Data Feed'!M54","v":0},{"$f":"'Data Feed'!N54","v":0},{"$f":"'Data Feed'!O54","v":0},{"$f":"'Data Feed'!P54","v":0},{"$f":"'Data Feed'!Q54","v":0},{"$f":"'Data Feed'!R54","v":0},{"$f":"'Data Feed'!S54","v":0},{"$f":"'Data Feed'!T54","v":0},{"$f":"'Data Feed'!U54","v":0},{"$f":"'Data Feed'!V54","v":0},{"$f":"'Data Feed'!W54","v":0},{"$f":"'Data Feed'!X54","v":0},{"$f":"'Data Feed'!Y54","v":0},{"$f":"'Data Feed'!Z54","v":0},{"$f":"'Data Feed'!AA54","v":0},{"$f":"'Data Feed'!AB54","v":0},{"$f":"'Data Feed'!AC54","v":0},{"$f":"'Data Feed'!AD54","v":0},{"$f":"'Data Feed'!AE54","v":0},{"$f":"'Data Feed'!AF54","v":0},{"$f":"'Data Feed'!AG54","v":0},{"$f":"'Data Feed'!AH54","v":0},{"$f":"'Data Feed'!AI54","v":0}]
[{"$f":"B53&\"_\"&COUNTIF($B$1:B53,B53)","v":"0_50"},{"$f":"'Data Feed'!G55","v":0},{"$f":"'Data Feed'!B55","v":0},{"$f":"'Data Feed'!C55","v":0},{"$f":"'Data Feed'!D55","v":0},{"$f":"'Data Feed'!E55","v":0},{"$f":"'Data Feed'!F55","v":0},{"$f":"'Data Feed'!G55","v":0},{"$f":"'Data Feed'!H55","v":0},{"$f":"'Data Feed'!I55","v":0},{"$f":"'Data Feed'!J55","v":0},{"$f":"'Data Feed'!K55","v":0},{"$f":"'Data Feed'!L55","v":0},{"$f":"'Data Feed'!M55","v":0},{"$f":"'Data Feed'!N55","v":0},{"$f":"'Data Feed'!O55","v":0},{"$f":"'Data Feed'!P55","v":0},{"$f":"'Data Feed'!Q55","v":0},{"$f":"'Data Feed'!R55","v":0},{"$f":"'Data Feed'!S55","v":0},{"$f":"'Data Feed'!T55","v":0},{"$f":"'Data Feed'!U55","v":0},{"$f":"'Data Feed'!V55","v":0},{"$f":"'Data Feed'!W55","v":0},{"$f":"'Data Feed'!X55","v":0},{"$f":"'Data Feed'!Y55","v":0},{"$f":"'Data Feed'!Z55","v":0},{"$f":"'Data Feed'!AA55","v":0},{"$f":"'Data Feed'!AB55","v":0},{"$f":"'Data Feed'!AC55","v":0},{"$f":"'Data Feed'!AD55","v":0},{"$f":"'Data Feed'!AE55","v":0},{"$f":"'Data Feed'!AF55","v":0},{"$f":"'Data Feed'!AG55","v":0},{"$f":"'Data Feed'!AH55","v":0},{"$f":"'Data Feed'!AI55","v":0}]
[{"$f":"B54&\"_\"&COUNTIF($B$1:B54,B54)","v":"0_51"},{"$f":"'Data Feed'!G56","v":0},{"$f":"'Data Feed'!B56","v":0},{"$f":"'Data Feed'!C56","v":0},{"$f":"'Data Feed'!D56","v":0},{"$f":"'Data Feed'!E56","v":0},{"$f":"'Data Feed'!F56","v":0},{"$f":"'Data Feed'!G56","v":0},{"$f":"'Data Feed'!H56","v":0},{"$f":"'Data Feed'!I56","v":0},{"$f":"'Data Feed'!J56","v":0},{"$f":"'Data Feed'!K56","v":0},{"$f":"'Data Feed'!L56","v":0},{"$f":"'Data Feed'!M56","v":0},{"$f":"'Data Feed'!N56","v":0},{"$f":"'Data Feed'!O56","v":0},{"$f":"'Data Feed'!P56","v":0},{"$f":"'Data Feed'!Q56","v":0},{"$f":"'Data Feed'!R56","v":0},{"$f":"'Data Feed'!S56","v":0},{"$f":"'Data Feed'!T56","v":0},{"$f":"'Data Feed'!U56","v":0},{"$f":"'Data Feed'!V56","v":0},{"$f":"'Data Feed'!W56","v":0},{"$f":"'Data Feed'!X56","v":0},{"$f":"'Data Feed'!Y56","v":0},{"$f":"'Data Feed'!Z56","v":0},{"$f":"'Data Feed'!AA56","v":0},{"$f":"'Data Feed'!AB56","v":0},{"$f":"'Data Feed'!AC56","v":0},{"$f":"'Data Feed'!AD56","v":0},{"$f":"'Data Feed'!AE56","v":0},{"$f":"'Data Feed'!AF56","v":0},{"$f":"'Data Feed'!AG56","v":0},{"$f":"'Data Feed'!AH56","v":0},{"$f":"'Data Feed'!AI56","v":0}]
[{"$f":"B55&\"_\"&COUNTIF($B$1:B55,B55)","v":"0_52"},{"$f":"'Data Feed'!G57","v":0},{"$f":"'Data Feed'!B57","v":0},{"$f":"'Data Feed'!C57","v":0},{"$f":"'Data Feed'!D57","v":0},{"$f":"'Data Feed'!E57","v":0},{"$f":"'Data Feed'!F57","v":0},{"$f":"'Data Feed'!G57","v":0},{"$f":"'Data Feed'!H57","v":0},{"$f":"'Data Feed'!I57","v":0},{"$f":"'Data Feed'!J57","v":0},{"$f":"'Data Feed'!K57","v":0},{"$f":"'Data Feed'!L57","v":0},{"$f":"'Data Feed'!M57","v":0},{"$f":"'Data Feed'!N57","v":0},{"$f":"'Data Feed'!O57","v":0},{"$f":"'Data Feed'!P57","v":0},{"$f":"'Data Feed'!Q57","v":0},{"$f":"'Data Feed'!R57","v":0},{"$f":"'Data Feed'!S57","v":0},{"$f":"'Data Feed'!T57","v":0},{"$f":"'Data Feed'!U57","v":0},{"$f":"'Data Feed'!V57","v":0},{"$f":"'Data Feed'!W57","v":0},{"$f":"'Data Feed'!X57","v":0},{"$f":"'Data Feed'!Y57","v":0},{"$f":"'Data Feed'!Z57","v":0},{"$f":"'Data Feed'!AA57","v":0},{"$f":"'Data Feed'!AB57","v":0},{"$f":"'Data Feed'!AC57","v":0},{"$f":"'Data Feed'!AD57","v":0},{"$f":"'Data Feed'!AE57","v":0},{"$f":"'Data Feed'!AF57","v":0},{"$f":"'Data Feed'!AG57","v":0},{"$f":"'Data Feed'!AH57","v":0},{"$f":"'Data Feed'!AI57","v":0}]
[{"$f":"B56&\"_\"&COUNTIF($B$1:B56,B56)","v":"0_53"},{"$f":"'Data Feed'!G58","v":0},{"$f":"'Data Feed'!B58","v":0},{"$f":"'Data Feed'!C58","v":0},{"$f":"'Data Feed'!D58","v":0},{"$f":"'Data Feed'!E58","v":0},{"$f":"'Data Feed'!F58","v":0},{"$f":"'Data Feed'!G58","v":0},{"$f":"'Data Feed'!H58","v":0},{"$f":"'Data Feed'!I58","v":0},{"$f":"'Data Feed'!J58","v":0},{"$f":"'Data Feed'!K58","v":0},{"$f":"'Data Feed'!L58","v":0},{"$f":"'Data Feed'!M58","v":0},{"$f":"'Data Feed'!N58","v":0},{"$f":"'Data Feed'!O58","v":0},{"$f":"'Data Feed'!P58","v":0},{"$f":"'Data Feed'!Q58","v":0},{"$f":"'Data Feed'!R58","v":0},{"$f":"'Data Feed'!S58","v":0},{"$f":"'Data Feed'!T58","v":0},{"$f":"'Data Feed'!U58","v":0},{"$f":"'Data Feed'!V58","v":0},{"$f":"'Data Feed'!W58","v":0},{"$f":"'Data Feed'!X58","v":0},{"$f":"'Data Feed'!Y58","v":0},{"$f":"'Data Feed'!Z58","v":0},{"$f":"'Data Feed'!AA58","v":0},{"$f":"'Data Feed'!AB58","v":0},{"$f":"'Data Feed'!AC58","v":0},{"$f":"'Data Feed'!AD58","v":0},{"$f":"'Data Feed'!AE58","v":0},{"$f":"'Data Feed'!AF58","v":0},{"$f":"'Data Feed'!AG58","v":0},{"$f":"'Data Feed'!AH58","v":0},{"$f":"'Data Feed'!AI58","v":0}]
[{"$f":"B57&\"_\"&COUNTIF($B$1:B57,B57)","v":"0_54"},{"$f":"'Data Feed'!G59","v":0},{"$f":"'Data Feed'!B59","v":0},{"$f":"'Data Feed'!C59","v":0},{"$f":"'Data Feed'!D59","v":0},{"$f":"'Data Feed'!E59","v":0},{"$f":"'Data Feed'!F59","v":0},{"$f":"'Data Feed'!G59","v":0},{"$f":"'Data Feed'!H59","v":0},{"$f":"'Data Feed'!I59","v":0},{"$f":"'Data Feed'!J59","v":0},{"$f":"'Data Feed'!K59","v":0},{"$f":"'Data Feed'!L59","v":0},{"$f":"'Data Feed'!M59","v":0},{"$f":"'Data Feed'!N59","v":0},{"$f":"'Data Feed'!O59","v":0},{"$f":"'Data Feed'!P59","v":0},{"$f":"'Data Feed'!Q59","v":0},{"$f":"'Data Feed'!R59","v":0},{"$f":"'Data Feed'!S59","v":0},{"$f":"'Data Feed'!T59","v":0},{"$f":"'Data Feed'!U59","v":0},{"$f":"'Data Feed'!V59","v":0},{"$f":"'Data Feed'!W59","v":0},{"$f":"'Data Feed'!X59","v":0},{"$f":"'Data Feed'!Y59","v":0},{"$f":"'Data Feed'!Z59","v":0},{"$f":"'Data Feed'!AA59","v":0},{"$f":"'Data Feed'!AB59","v":0},{"$f":"'Data Feed'!AC59","v":0},{"$f":"'Data Feed'!AD59","v":0},{"$f":"'Data Feed'!AE59","v":0},{"$f":"'Data Feed'!AF59","v":0},{"$f":"'Data Feed'!AG59","v":0},{"$f":"'Data Feed'!AH59","v":0},{"$f":"'Data Feed'!AI59","v":0}]
[{"$f":"B58&\"_\"&COUNTIF($B$1:B58,B58)","v":"0_55"},{"$f":"'Data Feed'!G60","v":0},{"$f":"'Data Feed'!B60","v":0},{"$f":"'Data Feed'!C60","v":0},{"$f":"'Data Feed'!D60","v":0},{"$f":"'Data Feed'!E60","v":0},{"$f":"'Data Feed'!F60","v":0},{"$f":"'Data Feed'!G60","v":0},{"$f":"'Data Feed'!H60","v":0},{"$f":"'Data Feed'!I60","v":0},{"$f":"'Data Feed'!J60","v":0},{"$f":"'Data Feed'!K60","v":0},{"$f":"'Data Feed'!L60","v":0},{"$f":"'Data Feed'!M60","v":0},{"$f":"'Data Feed'!N60","v":0},{"$f":"'Data Feed'!O60","v":0},{"$f":"'Data Feed'!P60","v":0},{"$f":"'Data Feed'!Q60","v":0},{"$f":"'Data Feed'!R60","v":0},{"$f":"'Data Feed'!S60","v":0},{"$f":"'Data Feed'!T60","v":0},{"$f":"'Data Feed'!U60","v":0},{"$f":"'Data Feed'!V60","v":0},{"$f":"'Data Feed'!W60","v":0},{"$f":"'Data Feed'!X60","v":0},{"$f":"'Data Feed'!Y60","v":0},{"$f":"'Data Feed'!Z60","v":0},{"$f":"'Data Feed'!AA60","v":0},{"$f":"'Data Feed'!AB60","v":0},{"$f":"'Data Feed'!AC60","v":0},{"$f":"'Data Feed'!AD60","v":0},{"$f":"'Data Feed'!AE60","v":0},{"$f":"'Data Feed'!AF60","v":0},{"$f":"'Data Feed'!AG60","v":0},{"$f":"'Data Feed'!AH60","v":0},{"$f":"'Data Feed'!AI60","v":0}]
[{"$f":"B59&\"_\"&COUNTIF($B$1:B59,B59)","v":"0_56"},{"$f":"'Data Feed'!G61","v":0},{"$f":"'Data Feed'!B61","v":0},{"$f":"'Data Feed'!C61","v":0},{"$f":"'Data Feed'!D61","v":0},{"$f":"'Data Feed'!E61","v":0},{"$f":"'Data Feed'!F61","v":0},{"$f":"'Data Feed'!G61","v":0},{"$f":"'Data Feed'!H61","v":0},{"$f":"'Data Feed'!I61","v":0},{"$f":"'Data Feed'!J61","v":0},{"$f":"'Data Feed'!K61","v":0},{"$f":"'Data Feed'!L61","v":0},{"$f":"'Data Feed'!M61","v":0},{"$f":"'Data Feed'!N61","v":0},{"$f":"'Data Feed'!O61","v":0},{"$f":"'Data Feed'!P61","v":0},{"$f":"'Data Feed'!Q61","v":0},{"$f":"'Data Feed'!R61","v":0},{"$f":"'Data Feed'!S61","v":0},{"$f":"'Data Feed'!T61","v":0},{"$f":"'Data Feed'!U61","v":0},{"$f":"'Data Feed'!V61","v":0},{"$f":"'Data Feed'!W61","v":0},{"$f":"'Data Feed'!X61","v":0},{"$f":"'Data Feed'!Y61","v":0},{"$f":"'Data Feed'!Z61","v":0},{"$f":"'Data Feed'!AA61","v":0},{"$f":"'Data Feed'!AB61","v":0},{"$f":"'Data Feed'!AC61","v":0},{"$f":"'Data Feed'!AD61","v":0},{"$f":"'Data Feed'!AE61","v":0},{"$f":"'Data Feed'!AF61","v":0},{"$f":"'Data Feed'!AG61","v":0},{"$f":"'Data Feed'!AH61","v":0},{"$f":"'Data Feed'!AI61","v":0}]
[{"$f":"B60&\"_\"&COUNTIF($B$1:B60,B60)","v":"0_57"},{"$f":"'Data Feed'!G62","v":0},{"$f":"'Data Feed'!B62","v":0},{"$f":"'Data Feed'!C62","v":0},{"$f":"'Data Feed'!D62","v":0},{"$f":"'Data Feed'!E62","v":0},{"$f":"'Data Feed'!F62","v":0},{"$f":"'Data Feed'!G62","v":0},{"$f":"'Data Feed'!H62","v":0},{"$f":"'Data Feed'!I62","v":0},{"$f":"'Data Feed'!J62","v":0},{"$f":"'Data Feed'!K62","v":0},{"$f":"'Data Feed'!L62","v":0},{"$f":"'Data Feed'!M62","v":0},{"$f":"'Data Feed'!N62","v":0},{"$f":"'Data Feed'!O62","v":0},{"$f":"'Data Feed'!P62","v":0},{"$f":"'Data Feed'!Q62","v":0},{"$f":"'Data Feed'!R62","v":0},{"$f":"'Data Feed'!S62","v":0},{"$f":"'Data Feed'!T62","v":0},{"$f":"'Data Feed'!U62","v":0},{"$f":"'Data Feed'!V62","v":0},{"$f":"'Data Feed'!W62","v":0},{"$f":"'Data Feed'!X62","v":0},{"$f":"'Data Feed'!Y62","v":0},{"$f":"'Data Feed'!Z62","v":0},{"$f":"'Data Feed'!AA62","v":0},{"$f":"'Data Feed'!AB62","v":0},{"$f":"'Data Feed'!AC62","v":0},{"$f":"'Data Feed'!AD62","v":0},{"$f":"'Data Feed'!AE62","v":0},{"$f":"'Data Feed'!AF62","v":0},{"$f":"'Data Feed'!AG62","v":0},{"$f":"'Data Feed'!AH62","v":0},{"$f":"'Data Feed'!AI62","v":0}]
[{"$f":"B61&\"_\"&COUNTIF($B$1:B61,B61)","v":"0_58"},{"$f":"'Data Feed'!G63","v":0},{"$f":"'Data Feed'!B63","v":0},{"$f":"'Data Feed'!C63","v":0},{"$f":"'Data Feed'!D63","v":0},{"$f":"'Data Feed'!E63","v":0},{"$f":"'Data Feed'!F63","v":0},{"$f":"'Data Feed'!G63","v":0},{"$f":"'Data Feed'!H63","v":0},{"$f":"'Data Feed'!I63","v":0},{"$f":"'Data Feed'!J63","v":0},{"$f":"'Data Feed'!K63","v":0},{"$f":"'Data Feed'!L63","v":0},{"$f":"'Data Feed'!M63","v":0},{"$f":"'Data Feed'!N63","v":0},{"$f":"'Data Feed'!O63","v":0},{"$f":"'Data Feed'!P63","v":0},{"$f":"'Data Feed'!Q63","v":0},{"$f":"'Data Feed'!R63","v":0},{"$f":"'Data Feed'!S63","v":0},{"$f":"'Data Feed'!T63","v":0},{"$f":"'Data Feed'!U63","v":0},{"$f":"'Data Feed'!V63","v":0},{"$f":"'Data Feed'!W63","v":0},{"$f":"'Data Feed'!X63","v":0},{"$f":"'Data Feed'!Y63","v":0},{"$f":"'Data Feed'!Z63","v":0},{"$f":"'Data Feed'!AA63","v":0},{"$f":"'Data Feed'!AB63","v":0},{"$f":"'Data Feed'!AC63","v":0},{"$f":"'Data Feed'!AD63","v":0},{"$f":"'Data Feed'!AE63","v":0},{"$f":"'Data Feed'!AF63","v":0},{"$f":"'Data Feed'!AG63","v":0},{"$f":"'Data Feed'!AH63","v":0},{"$f":"'Data Feed'!AI63","v":0}]
[{"$f":"B62&\"_\"&COUNTIF($B$1:B62,B62)","v":"0_59"},{"$f":"'Data Feed'!G64","v":0},{"$f":"'Data Feed'!B64","v":0},{"$f":"'Data Feed'!C64","v":0},{"$f":"'Data Feed'!D64","v":0},{"$f":"'Data Feed'!E64","v":0},{"$f":"'Data Feed'!F64","v":0},{"$f":"'Data Feed'!G64","v":0},{"$f":"'Data Feed'!H64","v":0},{"$f":"'Data Feed'!I64","v":0},{"$f":"'Data Feed'!J64","v":0},{"$f":"'Data Feed'!K64","v":0},{"$f":"'Data Feed'!L64","v":0},{"$f":"'Data Feed'!M64","v":0},{"$f":"'Data Feed'!N64","v":0},{"$f":"'Data Feed'!O64","v":0},{"$f":"'Data Feed'!P64","v":0},{"$f":"'Data Feed'!Q64","v":0},{"$f":"'Data Feed'!R64","v":0},{"$f":"'Data Feed'!S64","v":0},{"$f":"'Data Feed'!T64","v":0},{"$f":"'Data Feed'!U64","v":0},{"$f":"'Data Feed'!V64","v":0},{"$f":"'Data Feed'!W64","v":0},{"$f":"'Data Feed'!X64","v":0},{"$f":"'Data Feed'!Y64","v":0},{"$f":"'Data Feed'!Z64","v":0},{"$f":"'Data Feed'!AA64","v":0},{"$f":"'Data Feed'!AB64","v":0},{"$f":"'Data Feed'!AC64","v":0},{"$f":"'Data Feed'!AD64","v":0},{"$f":"'Data Feed'!AE64","v":0},{"$f":"'Data Feed'!AF64","v":0},{"$f":"'Data Feed'!AG64","v":0},{"$f":"'Data Feed'!AH64","v":0},{"$f":"'Data Feed'!AI64","v":0}]
[{"$f":"B63&\"_\"&COUNTIF($B$1:B63,B63)","v":"0_60"},{"$f":"'Data Feed'!G65","v":0},{"$f":"'Data Feed'!B65","v":0},{"$f":"'Data Feed'!C65","v":0},{"$f":"'Data Feed'!D65","v":0},{"$f":"'Data Feed'!E65","v":0},{"$f":"'Data Feed'!F65","v":0},{"$f":"'Data Feed'!G65","v":0},{"$f":"'Data Feed'!H65","v":0},{"$f":"'Data Feed'!I65","v":0},{"$f":"'Data Feed'!J65","v":0},{"$f":"'Data Feed'!K65","v":0},{"$f":"'Data Feed'!L65","v":0},{"$f":"'Data Feed'!M65","v":0},{"$f":"'Data Feed'!N65","v":0},{"$f":"'Data Feed'!O65","v":0},{"$f":"'Data Feed'!P65","v":0},{"$f":"'Data Feed'!Q65","v":0},{"$f":"'Data Feed'!R65","v":0},{"$f":"'Data Feed'!S65","v":0},{"$f":"'Data Feed'!T65","v":0},{"$f":"'Data Feed'!U65","v":0},{"$f":"'Data Feed'!V65","v":0},{"$f":"'Data Feed'!W65","v":0},{"$f":"'Data Feed'!X65","v":0},{"$f":"'Data Feed'!Y65","v":0},{"$f":"'Data Feed'!Z65","v":0},{"$f":"'Data Feed'!AA65","v":0},{"$f":"'Data Feed'!AB65","v":0},{"$f":"'Data Feed'!AC65","v":0},{"$f":"'Data Feed'!AD65","v":0},{"$f":"'Data Feed'!AE65","v":0},{"$f":"'Data Feed'!AF65","v":0},{"$f":"'Data Feed'!AG65","v":0},{"$f":"'Data Feed'!AH65","v":0},{"$f":"'Data Feed'!AI65","v":0}]
[{"$f":"B64&\"_\"&COUNTIF($B$1:B64,B64)","v":"0_61"},{"$f":"'Data Feed'!G66","v":0},{"$f":"'Data Feed'!B66","v":0},{"$f":"'Data Feed'!C66","v":0},{"$f":"'Data Feed'!D66","v":0},{"$f":"'Data Feed'!E66","v":0},{"$f":"'Data Feed'!F66","v":0},{"$f":"'Data Feed'!G66","v":0},{"$f":"'Data Feed'!H66","v":0},{"$f":"'Data Feed'!I66","v":0},{"$f":"'Data Feed'!J66","v":0},{"$f":"'Data Feed'!K66","v":0},{"$f":"'Data Feed'!L66","v":0},{"$f":"'Data Feed'!M66","v":0},{"$f":"'Data Feed'!N66","v":0},{"$f":"'Data Feed'!O66","v":0},{"$f":"'Data Feed'!P66","v":0},{"$f":"'Data Feed'!Q66","v":0},{"$f":"'Data Feed'!R66","v":0},{"$f":"'Data Feed'!S66","v":0},{"$f":"'Data Feed'!T66","v":0},{"$f":"'Data Feed'!U66","v":0},{"$f":"'Data Feed'!V66","v":0},{"$f":"'Data Feed'!W66","v":0},{"$f":"'Data Feed'!X66","v":0},{"$f":"'Data Feed'!Y66","v":0},{"$f":"'Data Feed'!Z66","v":0},{"$f":"'Data Feed'!AA66","v":0},{"$f":"'Data Feed'!AB66","v":0},{"$f":"'Data Feed'!AC66","v":0},{"$f":"'Data Feed'!AD66","v":0},{"$f":"'Data Feed'!AE66","v":0},{"$f":"'Data Feed'!AF66","v":0},{"$f":"'Data Feed'!AG66","v":0},{"$f":"'Data Feed'!AH66","v":0},{"$f":"'Data Feed'!AI66","v":0}]
[{"$f":"B65&\"_\"&COUNTIF($B$1:B65,B65)","v":"0_62"},{"$f":"'Data Feed'!G67","v":0},{"$f":"'Data Feed'!B67","v":0},{"$f":"'Data Feed'!C67","v":0},{"$f":"'Data Feed'!D67","v":0},{"$f":"'Data Feed'!E67","v":0},{"$f":"'Data Feed'!F67","v":0},{"$f":"'Data Feed'!G67","v":0},{"$f":"'Data Feed'!H67","v":0},{"$f":"'Data Feed'!I67","v":0},{"$f":"'Data Feed'!J67","v":0},{"$f":"'Data Feed'!K67","v":0},{"$f":"'Data Feed'!L67","v":0},{"$f":"'Data Feed'!M67","v":0},{"$f":"'Data Feed'!N67","v":0},{"$f":"'Data Feed'!O67","v":0},{"$f":"'Data Feed'!P67","v":0},{"$f":"'Data Feed'!Q67","v":0},{"$f":"'Data Feed'!R67","v":0},{"$f":"'Data Feed'!S67","v":0},{"$f":"'Data Feed'!T67","v":0},{"$f":"'Data Feed'!U67","v":0},{"$f":"'Data Feed'!V67","v":0},{"$f":"'Data Feed'!W67","v":0},{"$f":"'Data Feed'!X67","v":0},{"$f":"'Data Feed'!Y67","v":0},{"$f":"'Data Feed'!Z67","v":0},{"$f":"'Data Feed'!AA67","v":0},{"$f":"'Data Feed'!AB67","v":0},{"$f":"'Data Feed'!AC67","v":0},{"$f":"'Data Feed'!AD67","v":0},{"$f":"'Data Feed'!AE67","v":0},{"$f":"'Data Feed'!AF67","v":0},{"$f":"'Data Feed'!AG67","v":0},{"$f":"'Data Feed'!AH67","v":0},{"$f":"'Data Feed'!AI67","v":0}]
[{"$f":"B66&\"_\"&COUNTIF($B$1:B66,B66)","v":"0_63"},{"$f":"'Data Feed'!G68","v":0},{"$f":"'Data Feed'!B68","v":0},{"$f":"'Data Feed'!C68","v":0},{"$f":"'Data Feed'!D68","v":0},{"$f":"'Data Feed'!E68","v":0},{"$f":"'Data Feed'!F68","v":0},{"$f":"'Data Feed'!G68","v":0},{"$f":"'Data Feed'!H68","v":0},{"$f":"'Data Feed'!I68","v":0},{"$f":"'Data Feed'!J68","v":0},{"$f":"'Data Feed'!K68","v":0},{"$f":"'Data Feed'!L68","v":0},{"$f":"'Data Feed'!M68","v":0},{"$f":"'Data Feed'!N68","v":0},{"$f":"'Data Feed'!O68","v":0},{"$f":"'Data Feed'!P68","v":0},{"$f":"'Data Feed'!Q68","v":0},{"$f":"'Data Feed'!R68","v":0},{"$f":"'Data Feed'!S68","v":0},{"$f":"'Data Feed'!T68","v":0},{"$f":"'Data Feed'!U68","v":0},{"$f":"'Data Feed'!V68","v":0},{"$f":"'Data Feed'!W68","v":0},{"$f":"'Data Feed'!X68","v":0},{"$f":"'Data Feed'!Y68","v":0},{"$f":"'Data Feed'!Z68","v":0},{"$f":"'Data Feed'!AA68","v":0},{"$f":"'Data Feed'!AB68","v":0},{"$f":"'Data Feed'!AC68","v":0},{"$f":"'Data Feed'!AD68","v":0},{"$f":"'Data Feed'!AE68","v":0},{"$f":"'Data Feed'!AF68","v":0},{"$f":"'Data Feed'!AG68","v":0},{"$f":"'Data Feed'!AH68","v":0},{"$f":"'Data Feed'!AI68","v":0}]
[{"$f":"B67&\"_\"&COUNTIF($B$1:B67,B67)","v":"0_64"},{"$f":"'Data Feed'!G69","v":0},{"$f":"'Data Feed'!B69","v":0},{"$f":"'Data Feed'!C69","v":0},{"$f":"'Data Feed'!D69","v":0},{"$f":"'Data Feed'!E69","v":0},{"$f":"'Data Feed'!F69","v":0},{"$f":"'Data Feed'!G69","v":0},{"$f":"'Data Feed'!H69","v":0},{"$f":"'Data Feed'!I69","v":0},{"$f":"'Data Feed'!J69","v":0},{"$f":"'Data Feed'!K69","v":0},{"$f":"'Data Feed'!L69","v":0},{"$f":"'Data Feed'!M69","v":0},{"$f":"'Data Feed'!N69","v":0},{"$f":"'Data Feed'!O69","v":0},{"$f":"'Data Feed'!P69","v":0},{"$f":"'Data Feed'!Q69","v":0},{"$f":"'Data Feed'!R69","v":0},{"$f":"'Data Feed'!S69","v":0},{"$f":"'Data Feed'!T69","v":0},{"$f":"'Data Feed'!U69","v":0},{"$f":"'Data Feed'!V69","v":0},{"$f":"'Data Feed'!W69","v":0},{"$f":"'Data Feed'!X69","v":0},{"$f":"'Data Feed'!Y69","v":0},{"$f":"'Data Feed'!Z69","v":0},{"$f":"'Data Feed'!AA69","v":0},{"$f":"'Data Feed'!AB69","v":0},{"$f":"'Data Feed'!AC69","v":0},{"$f":"'Data Feed'!AD69","v":0},{"$f":"'Data Feed'!AE69","v":0},{"$f":"'Data Feed'!AF69","v":0},{"$f":"'Data Feed'!AG69","v":0},{"$f":"'Data Feed'!AH69","v":0},{"$f":"'Data Feed'!AI69","v":0}]
[{"$f":"B68&\"_\"&COUNTIF($B$1:B68,B68)","v":"0_65"},{"$f":"'Data Feed'!G70","v":0},{"$f":"'Data Feed'!B70","v":0},{"$f":"'Data Feed'!C70","v":0},{"$f":"'Data Feed'!D70","v":0},{"$f":"'Data Feed'!E70","v":0},{"$f":"'Data Feed'!F70","v":0},{"$f":"'Data Feed'!G70","v":0},{"$f":"'Data Feed'!H70","v":0},{"$f":"'Data Feed'!I70","v":0},{"$f":"'Data Feed'!J70","v":0},{"$f":"'Data Feed'!K70","v":0},{"$f":"'Data Feed'!L70","v":0},{"$f":"'Data Feed'!M70","v":0},{"$f":"'Data Feed'!N70","v":0},{"$f":"'Data Feed'!O70","v":0},{"$f":"'Data Feed'!P70","v":0},{"$f":"'Data Feed'!Q70","v":0},{"$f":"'Data Feed'!R70","v":0},{"$f":"'Data Feed'!S70","v":0},{"$f":"'Data Feed'!T70","v":0},{"$f":"'Data Feed'!U70","v":0},{"$f":"'Data Feed'!V70","v":0},{"$f":"'Data Feed'!W70","v":0},{"$f":"'Data Feed'!X70","v":0},{"$f":"'Data Feed'!Y70","v":0},{"$f":"'Data Feed'!Z70","v":0},{"$f":"'Data Feed'!AA70","v":0},{"$f":"'Data Feed'!AB70","v":0},{"$f":"'Data Feed'!AC70","v":0},{"$f":"'Data Feed'!AD70","v":0},{"$f":"'Data Feed'!AE70","v":0},{"$f":"'Data Feed'!AF70","v":0},{"$f":"'Data Feed'!AG70","v":0},{"$f":"'Data Feed'!AH70","v":0},{"$f":"'Data Feed'!AI70","v":0}]
[{"$f":"B69&\"_\"&COUNTIF($B$1:B69,B69)","v":"0_66"},{"$f":"'Data Feed'!G71","v":0},{"$f":"'Data Feed'!B71","v":0},{"$f":"'Data Feed'!C71","v":0},{"$f":"'Data Feed'!D71","v":0},{"$f":"'Data Feed'!E71","v":0},{"$f":"'Data Feed'!F71","v":0},{"$f":"'Data Feed'!G71","v":0},{"$f":"'Data Feed'!H71","v":0},{"$f":"'Data Feed'!I71","v":0},{"$f":"'Data Feed'!J71","v":0},{"$f":"'Data Feed'!K71","v":0},{"$f":"'Data Feed'!L71","v":0},{"$f":"'Data Feed'!M71","v":0},{"$f":"'Data Feed'!N71","v":0},{"$f":"'Data Feed'!O71","v":0},{"$f":"'Data Feed'!P71","v":0},{"$f":"'Data Feed'!Q71","v":0},{"$f":"'Data Feed'!R71","v":0},{"$f":"'Data Feed'!S71","v":0},{"$f":"'Data Feed'!T71","v":0},{"$f":"'Data Feed'!U71","v":0},{"$f":"'Data Feed'!V71","v":0},{"$f":"'Data Feed'!W71","v":0},{"$f":"'Data Feed'!X71","v":0},{"$f":"'Data Feed'!Y71","v":0},{"$f":"'Data Feed'!Z71","v":0},{"$f":"'Data Feed'!AA71","v":0},{"$f":"'Data Feed'!AB71","v":0},{"$f":"'Data Feed'!AC71","v":0},{"$f":"'Data Feed'!AD71","v":0},{"$f":"'Data Feed'!AE71","v":0},{"$f":"'Data Feed'!AF71","v":0},{"$f":"'Data Feed'!AG71","v":0},{"$f":"'Data Feed'!AH71","v":0},{"$f":"'Data Feed'!AI71","v":0}]
[{"$f":"B70&\"_\"&COUNTIF($B$1:B70,B70)","v":"0_67"},{"$f":"'Data Feed'!G72","v":0},{"$f":"'Data Feed'!B72","v":0},{"$f":"'Data Feed'!C72","v":0},{"$f":"'Data Feed'!D72","v":0},{"$f":"'Data Feed'!E72","v":0},{"$f":"'Data Feed'!F72","v":0},{"$f":"'Data Feed'!G72","v":0},{"$f":"'Data Feed'!H72","v":0},{"$f":"'Data Feed'!I72","v":0},{"$f":"'Data Feed'!J72","v":0},{"$f":"'Data Feed'!K72","v":0},{"$f":"'Data Feed'!L72","v":0},{"$f":"'Data Feed'!M72","v":0},{"$f":"'Data Feed'!N72","v":0},{"$f":"'Data Feed'!O72","v":0},{"$f":"'Data Feed'!P72","v":0},{"$f":"'Data Feed'!Q72","v":0},{"$f":"'Data Feed'!R72","v":0},{"$f":"'Data Feed'!S72","v":0},{"$f":"'Data Feed'!T72","v":0},{"$f":"'Data Feed'!U72","v":0},{"$f":"'Data Feed'!V72","v":0},{"$f":"'Data Feed'!W72","v":0},{"$f":"'Data Feed'!X72","v":0},{"$f":"'Data Feed'!Y72","v":0},{"$f":"'Data Feed'!Z72","v":0},{"$f":"'Data Feed'!AA72","v":0},{"$f":"'Data Feed'!AB72","v":0},{"$f":"'Data Feed'!AC72","v":0},{"$f":"'Data Feed'!AD72","v":0},{"$f":"'Data Feed'!AE72","v":0},{"$f":"'Data Feed'!AF72","v":0},{"$f":"'Data Feed'!AG72","v":0},{"$f":"'Data Feed'!AH72","v":0},{"$f":"'Data Feed'!AI72","v":0}]
[{"$f":"B71&\"_\"&COUNTIF($B$1:B71,B71)","v":"0_68"},{"$f":"'Data Feed'!G73","v":0},{"$f":"'Data Feed'!B73","v":0},{"$f":"'Data Feed'!C73","v":0},{"$f":"'Data Feed'!D73","v":0},{"$f":"'Data Feed'!E73","v":0},{"$f":"'Data Feed'!F73","v":0},{"$f":"'Data Feed'!G73","v":0},{"$f":"'Data Feed'!H73","v":0},{"$f":"'Data Feed'!I73","v":0},{"$f":"'Data Feed'!J73","v":0},{"$f":"'Data Feed'!K73","v":0},{"$f":"'Data Feed'!L73","v":0},{"$f":"'Data Feed'!M73","v":0},{"$f":"'Data Feed'!N73","v":0},{"$f":"'Data Feed'!O73","v":0},{"$f":"'Data Feed'!P73","v":0},{"$f":"'Data Feed'!Q73","v":0},{"$f":"'Data Feed'!R73","v":0},{"$f":"'Data Feed'!S73","v":0},{"$f":"'Data Feed'!T73","v":0},{"$f":"'Data Feed'!U73","v":0},{"$f":"'Data Feed'!V73","v":0},{"$f":"'Data Feed'!W73","v":0},{"$f":"'Data Feed'!X73","v":0},{"$f":"'Data Feed'!Y73","v":0},{"$f":"'Data Feed'!Z73","v":0},{"$f":"'Data Feed'!AA73","v":0},{"$f":"'Data Feed'!AB73","v":0},{"$f":"'Data Feed'!AC73","v":0},{"$f":"'Data Feed'!AD73","v":0},{"$f":"'Data Feed'!AE73","v":0},{"$f":"'Data Feed'!AF73","v":0},{"$f":"'Data Feed'!AG73","v":0},{"$f":"'Data Feed'!AH73","v":0},{"$f":"'Data Feed'!AI73","v":0}]
[{"$f":"B72&\"_\"&COUNTIF($B$1:B72,B72)","v":"0_69"},{"$f":"'Data Feed'!G74","v":0},{"$f":"'Data Feed'!B74","v":0},{"$f":"'Data Feed'!C74","v":0},{"$f":"'Data Feed'!D74","v":0},{"$f":"'Data Feed'!E74","v":0},{"$f":"'Data Feed'!F74","v":0},{"$f":"'Data Feed'!G74","v":0},{"$f":"'Data Feed'!H74","v":0},{"$f":"'Data Feed'!I74","v":0},{"$f":"'Data Feed'!J74","v":0},{"$f":"'Data Feed'!K74","v":0},{"$f":"'Data Feed'!L74","v":0},{"$f":"'Data Feed'!M74","v":0},{"$f":"'Data Feed'!N74","v":0},{"$f":"'Data Feed'!O74","v":0},{"$f":"'Data Feed'!P74","v":0},{"$f":"'Data Feed'!Q74","v":0},{"$f":"'Data Feed'!R74","v":0},{"$f":"'Data Feed'!S74","v":0},{"$f":"'Data Feed'!T74","v":0},{"$f":"'Data Feed'!U74","v":0},{"$f":"'Data Feed'!V74","v":0},{"$f":"'Data Feed'!W74","v":0},{"$f":"'Data Feed'!X74","v":0},{"$f":"'Data Feed'!Y74","v":0},{"$f":"'Data Feed'!Z74","v":0},{"$f":"'Data Feed'!AA74","v":0},{"$f":"'Data Feed'!AB74","v":0},{"$f":"'Data Feed'!AC74","v":0},{"$f":"'Data Feed'!AD74","v":0},{"$f":"'Data Feed'!AE74","v":0},{"$f":"'Data Feed'!AF74","v":0},{"$f":"'Data Feed'!AG74","v":0},{"$f":"'Data Feed'!AH74","v":0},{"$f":"'Data Feed'!AI74","v":0}]
[{"$f":"B73&\"_\"&COUNTIF($B$1:B73,B73)","v":"0_70"},{"$f":"'Data Feed'!G75","v":0},{"$f":"'Data Feed'!B75","v":0},{"$f":"'Data Feed'!C75","v":0},{"$f":"'Data Feed'!D75","v":0},{"$f":"'Data Feed'!E75","v":0},{"$f":"'Data Feed'!F75","v":0},{"$f":"'Data Feed'!G75","v":0},{"$f":"'Data Feed'!H75","v":0},{"$f":"'Data Feed'!I75","v":0},{"$f":"'Data Feed'!J75","v":0},{"$f":"'Data Feed'!K75","v":0},{"$f":"'Data Feed'!L75","v":0},{"$f":"'Data Feed'!M75","v":0},{"$f":"'Data Feed'!N75","v":0},{"$f":"'Data Feed'!O75","v":0},{"$f":"'Data Feed'!P75","v":0},{"$f":"'Data Feed'!Q75","v":0},{"$f":"'Data Feed'!R75","v":0},{"$f":"'Data Feed'!S75","v":0},{"$f":"'Data Feed'!T75","v":0},{"$f":"'Data Feed'!U75","v":0},{"$f":"'Data Feed'!V75","v":0},{"$f":"'Data Feed'!W75","v":0},{"$f":"'Data Feed'!X75","v":0},{"$f":"'Data Feed'!Y75","v":0},{"$f":"'Data Feed'!Z75","v":0},{"$f":"'Data Feed'!AA75","v":0},{"$f":"'Data Feed'!AB75","v":0},{"$f":"'Data Feed'!AC75","v":0},{"$f":"'Data Feed'!AD75","v":0},{"$f":"'Data Feed'!AE75","v":0},{"$f":"'Data Feed'!AF75","v":0},{"$f":"'Data Feed'!AG75","v":0},{"$f":"'Data Feed'!AH75","v":0},{"$f":"'Data Feed'!AI75","v":0}]
[{"$f":"B74&\"_\"&COUNTIF($B$1:B74,B74)","v":"0_71"},{"$f":"'Data Feed'!G76","v":0},{"$f":"'Data Feed'!B76","v":0},{"$f":"'Data Feed'!C76","v":0},{"$f":"'Data Feed'!D76","v":0},{"$f":"'Data Feed'!E76","v":0},{"$f":"'Data Feed'!F76","v":0},{"$f":"'Data Feed'!G76","v":0},{"$f":"'Data Feed'!H76","v":0},{"$f":"'Data Feed'!I76","v":0},{"$f":"'Data Feed'!J76","v":0},{"$f":"'Data Feed'!K76","v":0},{"$f":"'Data Feed'!L76","v":0},{"$f":"'Data Feed'!M76","v":0},{"$f":"'Data Feed'!N76","v":0},{"$f":"'Data Feed'!O76","v":0},{"$f":"'Data Feed'!P76","v":0},{"$f":"'Data Feed'!Q76","v":0},{"$f":"'Data Feed'!R76","v":0},{"$f":"'Data Feed'!S76","v":0},{"$f":"'Data Feed'!T76","v":0},{"$f":"'Data Feed'!U76","v":0},{"$f":"'Data Feed'!V76","v":0},{"$f":"'Data Feed'!W76","v":0},{"$f":"'Data Feed'!X76","v":0},{"$f":"'Data Feed'!Y76","v":0},{"$f":"'Data Feed'!Z76","v":0},{"$f":"'Data Feed'!AA76","v":0},{"$f":"'Data Feed'!AB76","v":0},{"$f":"'Data Feed'!AC76","v":0},{"$f":"'Data Feed'!AD76","v":0},{"$f":"'Data Feed'!AE76","v":0},{"$f":"'Data Feed'!AF76","v":0},{"$f":"'Data Feed'!AG76","v":0},{"$f":"'Data Feed'!AH76","v":0},{"$f":"'Data Feed'!AI76","v":0}]
[{"$f":"B75&\"_\"&COUNTIF($B$1:B75,B75)","v":"0_72"},{"$f":"'Data Feed'!G77","v":0},{"$f":"'Data Feed'!B77","v":0},{"$f":"'Data Feed'!C77","v":0},{"$f":"'Data Feed'!D77","v":0},{"$f":"'Data Feed'!E77","v":0},{"$f":"'Data Feed'!F77","v":0},{"$f":"'Data Feed'!G77","v":0},{"$f":"'Data Feed'!H77","v":0},{"$f":"'Data Feed'!I77","v":0},{"$f":"'Data Feed'!J77","v":0},{"$f":"'Data Feed'!K77","v":0},{"$f":"'Data Feed'!L77","v":0},{"$f":"'Data Feed'!M77","v":0},{"$f":"'Data Feed'!N77","v":0},{"$f":"'Data Feed'!O77","v":0},{"$f":"'Data Feed'!P77","v":0},{"$f":"'Data Feed'!Q77","v":0},{"$f":"'Data Feed'!R77","v":0},{"$f":"'Data Feed'!S77","v":0},{"$f":"'Data Feed'!T77","v":0},{"$f":"'Data Feed'!U77","v":0},{"$f":"'Data Feed'!V77","v":0},{"$f":"'Data Feed'!W77","v":0},{"$f":"'Data Feed'!X77","v":0},{"$f":"'Data Feed'!Y77","v":0},{"$f":"'Data Feed'!Z77","v":0},{"$f":"'Data Feed'!AA77","v":0},{"$f":"'Data Feed'!AB77","v":0},{"$f":"'Data Feed'!AC77","v":0},{"$f":"'Data Feed'!AD77","v":0},{"$f":"'Data Feed'!AE77","v":0},{"$f":"'Data Feed'!AF77","v":0},{"$f":"'Data Feed'!AG77","v":0},{"$f":"'Data Feed'!AH77","v":0},{"$f":"'Data Feed'!AI77","v":0}]
[{"$f":"B76&\"_\"&COUNTIF($B$1:B76,B76)","v":"0_73"},{"$f":"'Data Feed'!G78","v":0},{"$f":"'Data Feed'!B78","v":0},{"$f":"'Data Feed'!C78","v":0},{"$f":"'Data Feed'!D78","v":0},{"$f":"'Data Feed'!E78","v":0},{"$f":"'Data Feed'!F78","v":0},{"$f":"'Data Feed'!G78","v":0},{"$f":"'Data Feed'!H78","v":0},{"$f":"'Data Feed'!I78","v":0},{"$f":"'Data Feed'!J78","v":0},{"$f":"'Data Feed'!K78","v":0},{"$f":"'Data Feed'!L78","v":0},{"$f":"'Data Feed'!M78","v":0},{"$f":"'Data Feed'!N78","v":0},{"$f":"'Data Feed'!O78","v":0},{"$f":"'Data Feed'!P78","v":0},{"$f":"'Data Feed'!Q78","v":0},{"$f":"'Data Feed'!R78","v":0},{"$f":"'Data Feed'!S78","v":0},{"$f":"'Data Feed'!T78","v":0},{"$f":"'Data Feed'!U78","v":0},{"$f":"'Data Feed'!V78","v":0},{"$f":"'Data Feed'!W78","v":0},{"$f":"'Data Feed'!X78","v":0},{"$f":"'Data Feed'!Y78","v":0},{"$f":"'Data Feed'!Z78","v":0},{"$f":"'Data Feed'!AA78","v":0},{"$f":"'Data Feed'!AB78","v":0},{"$f":"'Data Feed'!AC78","v":0},{"$f":"'Data Feed'!AD78","v":0},{"$f":"'Data Feed'!AE78","v":0},{"$f":"'Data Feed'!AF78","v":0},{"$f":"'Data Feed'!AG78","v":0},{"$f":"'Data Feed'!AH78","v":0},{"$f":"'Data Feed'!AI78","v":0}]
[{"$f":"B77&\"_\"&COUNTIF($B$1:B77,B77)","v":"0_74"},{"$f":"'Data Feed'!G79","v":0},{"$f":"'Data Feed'!B79","v":0},{"$f":"'Data Feed'!C79","v":0},{"$f":"'Data Feed'!D79","v":0},{"$f":"'Data Feed'!E79","v":0},{"$f":"'Data Feed'!F79","v":0},{"$f":"'Data Feed'!G79","v":0},{"$f":"'Data Feed'!H79","v":0},{"$f":"'Data Feed'!I79","v":0},{"$f":"'Data Feed'!J79","v":0},{"$f":"'Data Feed'!K79","v":0},{"$f":"'Data Feed'!L79","v":0},{"$f":"'Data Feed'!M79","v":0},{"$f":"'Data Feed'!N79","v":0},{"$f":"'Data Feed'!O79","v":0},{"$f":"'Data Feed'!P79","v":0},{"$f":"'Data Feed'!Q79","v":0},{"$f":"'Data Feed'!R79","v":0},{"$f":"'Data Feed'!S79","v":0},{"$f":"'Data Feed'!T79","v":0},{"$f":"'Data Feed'!U79","v":0},{"$f":"'Data Feed'!V79","v":0},{"$f":"'Data Feed'!W79","v":0},{"$f":"'Data Feed'!X79","v":0},{"$f":"'Data Feed'!Y79","v":0},{"$f":"'Data Feed'!Z79","v":0},{"$f":"'Data Feed'!AA79","v":0},{"$f":"'Data Feed'!AB79","v":0},{"$f":"'Data Feed'!AC79","v":0},{"$f":"'Data Feed'!AD79","v":0},{"$f":"'Data Feed'!AE79","v":0},{"$f":"'Data Feed'!AF79","v":0},{"$f":"'Data Feed'!AG79","v":0},{"$f":"'Data Feed'!AH79","v":0},{"$f":"'Data Feed'!AI79","v":0}]
[{"$f":"B78&\"_\"&COUNTIF($B$1:B78,B78)","v":"0_75"},{"$f":"'Data Feed'!G80","v":0},{"$f":"'Data Feed'!B80","v":0},{"$f":"'Data Feed'!C80","v":0},{"$f":"'Data Feed'!D80","v":0},{"$f":"'Data Feed'!E80","v":0},{"$f":"'Data Feed'!F80","v":0},{"$f":"'Data Feed'!G80","v":0},{"$f":"'Data Feed'!H80","v":0},{"$f":"'Data Feed'!I80","v":0},{"$f":"'Data Feed'!J80","v":0},{"$f":"'Data Feed'!K80","v":0},{"$f":"'Data Feed'!L80","v":0},{"$f":"'Data Feed'!M80","v":0},{"$f":"'Data Feed'!N80","v":0},{"$f":"'Data Feed'!O80","v":0},{"$f":"'Data Feed'!P80","v":0},{"$f":"'Data Feed'!Q80","v":0},{"$f":"'Data Feed'!R80","v":0},{"$f":"'Data Feed'!S80","v":0},{"$f":"'Data Feed'!T80","v":0},{"$f":"'Data Feed'!U80","v":0},{"$f":"'Data Feed'!V80","v":0},{"$f":"'Data Feed'!W80","v":0},{"$f":"'Data Feed'!X80","v":0},{"$f":"'Data Feed'!Y80","v":0},{"$f":"'Data Feed'!Z80","v":0},{"$f":"'Data Feed'!AA80","v":0},{"$f":"'Data Feed'!AB80","v":0},{"$f":"'Data Feed'!AC80","v":0},{"$f":"'Data Feed'!AD80","v":0},{"$f":"'Data Feed'!AE80","v":0},{"$f":"'Data Feed'!AF80","v":0},{"$f":"'Data Feed'!AG80","v":0},{"$f":"'Data Feed'!AH80","v":0},{"$f":"'Data Feed'!AI80","v":0}]
[{"$f":"B79&\"_\"&COUNTIF($B$1:B79,B79)","v":"0_76"},{"$f":"'Data Feed'!G81","v":0},{"$f":"'Data Feed'!B81","v":0},{"$f":"'Data Feed'!C81","v":0},{"$f":"'Data Feed'!D81","v":0},{"$f":"'Data Feed'!E81","v":0},{"$f":"'Data Feed'!F81","v":0},{"$f":"'Data Feed'!G81","v":0},{"$f":"'Data Feed'!H81","v":0},{"$f":"'Data Feed'!I81","v":0},{"$f":"'Data Feed'!J81","v":0},{"$f":"'Data Feed'!K81","v":0},{"$f":"'Data Feed'!L81","v":0},{"$f":"'Data Feed'!M81","v":0},{"$f":"'Data Feed'!N81","v":0},{"$f":"'Data Feed'!O81","v":0},{"$f":"'Data Feed'!P81","v":0},{"$f":"'Data Feed'!Q81","v":0},{"$f":"'Data Feed'!R81","v":0},{"$f":"'Data Feed'!S81","v":0},{"$f":"'Data Feed'!T81","v":0},{"$f":"'Data Feed'!U81","v":0},{"$f":"'Data Feed'!V81","v":0},{"$f":"'Data Feed'!W81","v":0},{"$f":"'Data Feed'!X81","v":0},{"$f":"'Data Feed'!Y81","v":0},{"$f":"'Data Feed'!Z81","v":0},{"$f":"'Data Feed'!AA81","v":0},{"$f":"'Data Feed'!AB81","v":0},{"$f":"'Data Feed'!AC81","v":0},{"$f":"'Data Feed'!AD81","v":0},{"$f":"'Data Feed'!AE81","v":0},{"$f":"'Data Feed'!AF81","v":0},{"$f":"'Data Feed'!AG81","v":0},{"$f":"'Data Feed'!AH81","v":0},{"$f":"'Data Feed'!AI81","v":0}]
[{"$f":"B80&\"_\"&COUNTIF($B$1:B80,B80)","v":"0_77"},{"$f":"'Data Feed'!G82","v":0},{"$f":"'Data Feed'!B82","v":0},{"$f":"'Data Feed'!C82","v":0},{"$f":"'Data Feed'!D82","v":0},{"$f":"'Data Feed'!E82","v":0},{"$f":"'Data Feed'!F82","v":0},{"$f":"'Data Feed'!G82","v":0},{"$f":"'Data Feed'!H82","v":0},{"$f":"'Data Feed'!I82","v":0},{"$f":"'Data Feed'!J82","v":0},{"$f":"'Data Feed'!K82","v":0},{"$f":"'Data Feed'!L82","v":0},{"$f":"'Data Feed'!M82","v":0},{"$f":"'Data Feed'!N82","v":0},{"$f":"'Data Feed'!O82","v":0},{"$f":"'Data Feed'!P82","v":0},{"$f":"'Data Feed'!Q82","v":0},{"$f":"'Data Feed'!R82","v":0},{"$f":"'Data Feed'!S82","v":0},{"$f":"'Data Feed'!T82","v":0},{"$f":"'Data Feed'!U82","v":0},{"$f":"'Data Feed'!V82","v":0},{"$f":"'Data Feed'!W82","v":0},{"$f":"'Data Feed'!X82","v":0},{"$f":"'Data Feed'!Y82","v":0},{"$f":"'Data Feed'!Z82","v":0},{"$f":"'Data Feed'!AA82","v":0},{"$f":"'Data Feed'!AB82","v":0},{"$f":"'Data Feed'!AC82","v":0},{"$f":"'Data Feed'!AD82","v":0},{"$f":"'Data Feed'!AE82","v":0},{"$f":"'Data Feed'!AF82","v":0},{"$f":"'Data Feed'!AG82","v":0},{"$f":"'Data Feed'!AH82","v":0},{"$f":"'Data Feed'!AI82","v":0}]
[{"$f":"B81&\"_\"&COUNTIF($B$1:B81,B81)","v":"0_78"},{"$f":"'Data Feed'!G83","v":0},{"$f":"'Data Feed'!B83","v":0},{"$f":"'Data Feed'!C83","v":0},{"$f":"'Data Feed'!D83","v":0},{"$f":"'Data Feed'!E83","v":0},{"$f":"'Data Feed'!F83","v":0},{"$f":"'Data Feed'!G83","v":0},{"$f":"'Data Feed'!H83","v":0},{"$f":"'Data Feed'!I83","v":0},{"$f":"'Data Feed'!J83","v":0},{"$f":"'Data Feed'!K83","v":0},{"$f":"'Data Feed'!L83","v":0},{"$f":"'Data Feed'!M83","v":0},{"$f":"'Data Feed'!N83","v":0},{"$f":"'Data Feed'!O83","v":0},{"$f":"'Data Feed'!P83","v":0},{"$f":"'Data Feed'!Q83","v":0},{"$f":"'Data Feed'!R83","v":0},{"$f":"'Data Feed'!S83","v":0},{"$f":"'Data Feed'!T83","v":0},{"$f":"'Data Feed'!U83","v":0},{"$f":"'Data Feed'!V83","v":0},{"$f":"'Data Feed'!W83","v":0},{"$f":"'Data Feed'!X83","v":0},{"$f":"'Data Feed'!Y83","v":0},{"$f":"'Data Feed'!Z83","v":0},{"$f":"'Data Feed'!AA83","v":0},{"$f":"'Data Feed'!AB83","v":0},{"$f":"'Data Feed'!AC83","v":0},{"$f":"'Data Feed'!AD83","v":0},{"$f":"'Data Feed'!AE83","v":0},{"$f":"'Data Feed'!AF83","v":0},{"$f":"'Data Feed'!AG83","v":0},{"$f":"'Data Feed'!AH83","v":0},{"$f":"'Data Feed'!AI83","v":0}]
[{"$f":"B82&\"_\"&COUNTIF($B$1:B82,B82)","v":"0_79"},{"$f":"'Data Feed'!G84","v":0},{"$f":"'Data Feed'!B84","v":0},{"$f":"'Data Feed'!C84","v":0},{"$f":"'Data Feed'!D84","v":0},{"$f":"'Data Feed'!E84","v":0},{"$f":"'Data Feed'!F84","v":0},{"$f":"'Data Feed'!G84","v":0},{"$f":"'Data Feed'!H84","v":0},{"$f":"'Data Feed'!I84","v":0},{"$f":"'Data Feed'!J84","v":0},{"$f":"'Data Feed'!K84","v":0},{"$f":"'Data Feed'!L84","v":0},{"$f":"'Data Feed'!M84","v":0},{"$f":"'Data Feed'!N84","v":0},{"$f":"'Data Feed'!O84","v":0},{"$f":"'Data Feed'!P84","v":0},{"$f":"'Data Feed'!Q84","v":0},{"$f":"'Data Feed'!R84","v":0},{"$f":"'Data Feed'!S84","v":0},{"$f":"'Data Feed'!T84","v":0},{"$f":"'Data Feed'!U84","v":0},{"$f":"'Data Feed'!V84","v":0},{"$f":"'Data Feed'!W84","v":0},{"$f":"'Data Feed'!X84","v":0},{"$f":"'Data Feed'!Y84","v":0},{"$f":"'Data Feed'!Z84","v":0},{"$f":"'Data Feed'!AA84","v":0},{"$f":"'Data Feed'!AB84","v":0},{"$f":"'Data Feed'!AC84","v":0},{"$f":"'Data Feed'!AD84","v":0},{"$f":"'Data Feed'!AE84","v":0},{"$f":"'Data Feed'!AF84","v":0},{"$f":"'Data Feed'!AG84","v":0},{"$f":"'Data Feed'!AH84","v":0},{"$f":"'Data Feed'!AI84","v":0}]
[{"$f":"B83&\"_\"&COUNTIF($B$1:B83,B83)","v":"0_80"},{"$f":"'Data Feed'!G85","v":0},{"$f":"'Data Feed'!B85","v":0},{"$f":"'Data Feed'!C85","v":0},{"$f":"'Data Feed'!D85","v":0},{"$f":"'Data Feed'!E85","v":0},{"$f":"'Data Feed'!F85","v":0},{"$f":"'Data Feed'!G85","v":0},{"$f":"'Data Feed'!H85","v":0},{"$f":"'Data Feed'!I85","v":0},{"$f":"'Data Feed'!J85","v":0},{"$f":"'Data Feed'!K85","v":0},{"$f":"'Data Feed'!L85","v":0},{"$f":"'Data Feed'!M85","v":0},{"$f":"'Data Feed'!N85","v":0},{"$f":"'Data Feed'!O85","v":0},{"$f":"'Data Feed'!P85","v":0},{"$f":"'Data Feed'!Q85","v":0},{"$f":"'Data Feed'!R85","v":0},{"$f":"'Data Feed'!S85","v":0},{"$f":"'Data Feed'!T85","v":0},{"$f":"'Data Feed'!U85","v":0},{"$f":"'Data Feed'!V85","v":0},{"$f":"'Data Feed'!W85","v":0},{"$f":"'Data Feed'!X85","v":0},{"$f":"'Data Feed'!Y85","v":0},{"$f":"'Data Feed'!Z85","v":0},{"$f":"'Data Feed'!AA85","v":0},{"$f":"'Data Feed'!AB85","v":0},{"$f":"'Data Feed'!AC85","v":0},{"$f":"'Data Feed'!AD85","v":0},{"$f":"'Data Feed'!AE85","v":0},{"$f":"'Data Feed'!AF85","v":0},{"$f":"'Data Feed'!AG85","v":0},{"$f":"'Data Feed'!AH85","v":0},{"$f":"'Data Feed'!AI85","v":0}]
[{"$f":"B84&\"_\"&COUNTIF($B$1:B84,B84)","v":"0_81"},{"$f":"'Data Feed'!G86","v":0},{"$f":"'Data Feed'!B86","v":0},{"$f":"'Data Feed'!C86","v":0},{"$f":"'Data Feed'!D86","v":0},{"$f":"'Data Feed'!E86","v":0},{"$f":"'Data Feed'!F86","v":0},{"$f":"'Data Feed'!G86","v":0},{"$f":"'Data Feed'!H86","v":0},{"$f":"'Data Feed'!I86","v":0},{"$f":"'Data Feed'!J86","v":0},{"$f":"'Data Feed'!K86","v":0},{"$f":"'Data Feed'!L86","v":0},{"$f":"'Data Feed'!M86","v":0},{"$f":"'Data Feed'!N86","v":0},{"$f":"'Data Feed'!O86","v":0},{"$f":"'Data Feed'!P86","v":0},{"$f":"'Data Feed'!Q86","v":0},{"$f":"'Data Feed'!R86","v":0},{"$f":"'Data Feed'!S86","v":0},{"$f":"'Data Feed'!T86","v":0},{"$f":"'Data Feed'!U86","v":0},{"$f":"'Data Feed'!V86","v":0},{"$f":"'Data Feed'!W86","v":0},{"$f":"'Data Feed'!X86","v":0},{"$f":"'Data Feed'!Y86","v":0},{"$f":"'Data Feed'!Z86","v":0},{"$f":"'Data Feed'!AA86","v":0},{"$f":"'Data Feed'!AB86","v":0},{"$f":"'Data Feed'!AC86","v":0},{"$f":"'Data Feed'!AD86","v":0},{"$f":"'Data Feed'!AE86","v":0},{"$f":"'Data Feed'!AF86","v":0},{"$f":"'Data Feed'!AG86","v":0},{"$f":"'Data Feed'!AH86","v":0},{"$f":"'Data Feed'!AI86","v":0}]
[{"$f":"B85&\"_\"&COUNTIF($B$1:B85,B85)","v":"0_82"},{"$f":"'Data Feed'!G87","v":0},{"$f":"'Data Feed'!B87","v":0},{"$f":"'Data Feed'!C87","v":0},{"$f":"'Data Feed'!D87","v":0},{"$f":"'Data Feed'!E87","v":0},{"$f":"'Data Feed'!F87","v":0},{"$f":"'Data Feed'!G87","v":0},{"$f":"'Data Feed'!H87","v":0},{"$f":"'Data Feed'!I87","v":0},{"$f":"'Data Feed'!J87","v":0},{"$f":"'Data Feed'!K87","v":0},{"$f":"'Data Feed'!L87","v":0},{"$f":"'Data Feed'!M87","v":0},{"$f":"'Data Feed'!N87","v":0},{"$f":"'Data Feed'!O87","v":0},{"$f":"'Data Feed'!P87","v":0},{"$f":"'Data Feed'!Q87","v":0},{"$f":"'Data Feed'!R87","v":0},{"$f":"'Data Feed'!S87","v":0},{"$f":"'Data Feed'!T87","v":0},{"$f":"'Data Feed'!U87","v":0},{"$f":"'Data Feed'!V87","v":0},{"$f":"'Data Feed'!W87","v":0},{"$f":"'Data Feed'!X87","v":0},{"$f":"'Data Feed'!Y87","v":0},{"$f":"'Data Feed'!Z87","v":0},{"$f":"'Data Feed'!AA87","v":0},{"$f":"'Data Feed'!AB87","v":0},{"$f":"'Data Feed'!AC87","v":0},{"$f":"'Data Feed'!AD87","v":0},{"$f":"'Data Feed'!AE87","v":0},{"$f":"'Data Feed'!AF87","v":0},{"$f":"'Data Feed'!AG87","v":0},{"$f":"'Data Feed'!AH87","v":0},{"$f":"'Data Feed'!AI87","v":0}]
[{"$f":"B86&\"_\"&COUNTIF($B$1:B86,B86)","v":"0_83"},{"$f":"'Data Feed'!G88","v":0},{"$f":"'Data Feed'!B88","v":0},{"$f":"'Data Feed'!C88","v":0},{"$f":"'Data Feed'!D88","v":0},{"$f":"'Data Feed'!E88","v":0},{"$f":"'Data Feed'!F88","v":0},{"$f":"'Data Feed'!G88","v":0},{"$f":"'Data Feed'!H88","v":0},{"$f":"'Data Feed'!I88","v":0},{"$f":"'Data Feed'!J88","v":0},{"$f":"'Data Feed'!K88","v":0},{"$f":"'Data Feed'!L88","v":0},{"$f":"'Data Feed'!M88","v":0},{"$f":"'Data Feed'!N88","v":0},{"$f":"'Data Feed'!O88","v":0},{"$f":"'Data Feed'!P88","v":0},{"$f":"'Data Feed'!Q88","v":0},{"$f":"'Data Feed'!R88","v":0},{"$f":"'Data Feed'!S88","v":0},{"$f":"'Data Feed'!T88","v":0},{"$f":"'Data Feed'!U88","v":0},{"$f":"'Data Feed'!V88","v":0},{"$f":"'Data Feed'!W88","v":0},{"$f":"'Data Feed'!X88","v":0},{"$f":"'Data Feed'!Y88","v":0},{"$f":"'Data Feed'!Z88","v":0},{"$f":"'Data Feed'!AA88","v":0},{"$f":"'Data Feed'!AB88","v":0},{"$f":"'Data Feed'!AC88","v":0},{"$f":"'Data Feed'!AD88","v":0},{"$f":"'Data Feed'!AE88","v":0},{"$f":"'Data Feed'!AF88","v":0},{"$f":"'Data Feed'!AG88","v":0},{"$f":"'Data Feed'!AH88","v":0},{"$f":"'Data Feed'!AI88","v":0}]
[{"$f":"B87&\"_\"&COUNTIF($B$1:B87,B87)","v":"0_84"},{"$f":"'Data Feed'!G89","v":0},{"$f":"'Data Feed'!B89","v":0},{"$f":"'Data Feed'!C89","v":0},{"$f":"'Data Feed'!D89","v":0},{"$f":"'Data Feed'!E89","v":0},{"$f":"'Data Feed'!F89","v":0},{"$f":"'Data Feed'!G89","v":0},{"$f":"'Data Feed'!H89","v":0},{"$f":"'Data Feed'!I89","v":0},{"$f":"'Data Feed'!J89","v":0},{"$f":"'Data Feed'!K89","v":0},{"$f":"'Data Feed'!L89","v":0},{"$f":"'Data Feed'!M89","v":0},{"$f":"'Data Feed'!N89","v":0},{"$f":"'Data Feed'!O89","v":0},{"$f":"'Data Feed'!P89","v":0},{"$f":"'Data Feed'!Q89","v":0},{"$f":"'Data Feed'!R89","v":0},{"$f":"'Data Feed'!S89","v":0},{"$f":"'Data Feed'!T89","v":0},{"$f":"'Data Feed'!U89","v":0},{"$f":"'Data Feed'!V89","v":0},{"$f":"'Data Feed'!W89","v":0},{"$f":"'Data Feed'!X89","v":0},{"$f":"'Data Feed'!Y89","v":0},{"$f":"'Data Feed'!Z89","v":0},{"$f":"'Data Feed'!AA89","v":0},{"$f":"'Data Feed'!AB89","v":0},{"$f":"'Data Feed'!AC89","v":0},{"$f":"'Data Feed'!AD89","v":0},{"$f":"'Data Feed'!AE89","v":0},{"$f":"'Data Feed'!AF89","v":0},{"$f":"'Data Feed'!AG89","v":0},{"$f":"'Data Feed'!AH89","v":0},{"$f":"'Data Feed'!AI89","v":0}]
[{"$f":"B88&\"_\"&COUNTIF($B$1:B88,B88)","v":"0_85"},{"$f":"'Data Feed'!G90","v":0},{"$f":"'Data Feed'!B90","v":0},{"$f":"'Data Feed'!C90","v":0},{"$f":"'Data Feed'!D90","v":0},{"$f":"'Data Feed'!E90","v":0},{"$f":"'Data Feed'!F90","v":0},{"$f":"'Data Feed'!G90","v":0},{"$f":"'Data Feed'!H90","v":0},{"$f":"'Data Feed'!I90","v":0},{"$f":"'Data Feed'!J90","v":0},{"$f":"'Data Feed'!K90","v":0},{"$f":"'Data Feed'!L90","v":0},{"$f":"'Data Feed'!M90","v":0},{"$f":"'Data Feed'!N90","v":0},{"$f":"'Data Feed'!O90","v":0},{"$f":"'Data Feed'!P90","v":0},{"$f":"'Data Feed'!Q90","v":0},{"$f":"'Data Feed'!R90","v":0},{"$f":"'Data Feed'!S90","v":0},{"$f":"'Data Feed'!T90","v":0},{"$f":"'Data Feed'!U90","v":0},{"$f":"'Data Feed'!V90","v":0},{"$f":"'Data Feed'!W90","v":0},{"$f":"'Data Feed'!X90","v":0},{"$f":"'Data Feed'!Y90","v":0},{"$f":"'Data Feed'!Z90","v":0},{"$f":"'Data Feed'!AA90","v":0},{"$f":"'Data Feed'!AB90","v":0},{"$f":"'Data Feed'!AC90","v":0},{"$f":"'Data Feed'!AD90","v":0},{"$f":"'Data Feed'!AE90","v":0},{"$f":"'Data Feed'!AF90","v":0},{"$f":"'Data Feed'!AG90","v":0},{"$f":"'Data Feed'!AH90","v":0},{"$f":"'Data Feed'!AI90","v":0}]
[{"$f":"B89&\"_\"&COUNTIF($B$1:B89,B89)","v":"0_86"},{"$f":"'Data Feed'!G91","v":0},{"$f":"'Data Feed'!B91","v":0},{"$f":"'Data Feed'!C91","v":0},{"$f":"'Data Feed'!D91","v":0},{"$f":"'Data Feed'!E91","v":0},{"$f":"'Data Feed'!F91","v":0},{"$f":"'Data Feed'!G91","v":0},{"$f":"'Data Feed'!H91","v":0},{"$f":"'Data Feed'!I91","v":0},{"$f":"'Data Feed'!J91","v":0},{"$f":"'Data Feed'!K91","v":0},{"$f":"'Data Feed'!L91","v":0},{"$f":"'Data Feed'!M91","v":0},{"$f":"'Data Feed'!N91","v":0},{"$f":"'Data Feed'!O91","v":0},{"$f":"'Data Feed'!P91","v":0},{"$f":"'Data Feed'!Q91","v":0},{"$f":"'Data Feed'!R91","v":0},{"$f":"'Data Feed'!S91","v":0},{"$f":"'Data Feed'!T91","v":0},{"$f":"'Data Feed'!U91","v":0},{"$f":"'Data Feed'!V91","v":0},{"$f":"'Data Feed'!W91","v":0},{"$f":"'Data Feed'!X91","v":0},{"$f":"'Data Feed'!Y91","v":0},{"$f":"'Data Feed'!Z91","v":0},{"$f":"'Data Feed'!AA91","v":0},{"$f":"'Data Feed'!AB91","v":0},{"$f":"'Data Feed'!AC91","v":0},{"$f":"'Data Feed'!AD91","v":0},{"$f":"'Data Feed'!AE91","v":0},{"$f":"'Data Feed'!AF91","v":0},{"$f":"'Data Feed'!AG91","v":0},{"$f":"'Data Feed'!AH91","v":0},{"$f":"'Data Feed'!AI91","v":0}]
[{"$f":"B90&\"_\"&COUNTIF($B$1:B90,B90)","v":"0_87"},{"$f":"'Data Feed'!G92","v":0},{"$f":"'Data Feed'!B92","v":0},{"$f":"'Data Feed'!C92","v":0},{"$f":"'Data Feed'!D92","v":0},{"$f":"'Data Feed'!E92","v":0},{"$f":"'Data Feed'!F92","v":0},{"$f":"'Data Feed'!G92","v":0},{"$f":"'Data Feed'!H92","v":0},{"$f":"'Data Feed'!I92","v":0},{"$f":"'Data Feed'!J92","v":0},{"$f":"'Data Feed'!K92","v":0},{"$f":"'Data Feed'!L92","v":0},{"$f":"'Data Feed'!M92","v":0},{"$f":"'Data Feed'!N92","v":0},{"$f":"'Data Feed'!O92","v":0},{"$f":"'Data Feed'!P92","v":0},{"$f":"'Data Feed'!Q92","v":0},{"$f":"'Data Feed'!R92","v":0},{"$f":"'Data Feed'!S92","v":0},{"$f":"'Data Feed'!T92","v":0},{"$f":"'Data Feed'!U92","v":0},{"$f":"'Data Feed'!V92","v":0},{"$f":"'Data Feed'!W92","v":0},{"$f":"'Data Feed'!X92","v":0},{"$f":"'Data Feed'!Y92","v":0},{"$f":"'Data Feed'!Z92","v":0},{"$f":"'Data Feed'!AA92","v":0},{"$f":"'Data Feed'!AB92","v":0},{"$f":"'Data Feed'!AC92","v":0},{"$f":"'Data Feed'!AD92","v":0},{"$f":"'Data Feed'!AE92","v":0},{"$f":"'Data Feed'!AF92","v":0},{"$f":"'Data Feed'!AG92","v":0},{"$f":"'Data Feed'!AH92","v":0},{"$f":"'Data Feed'!AI92","v":0}]
[{"$f":"B91&\"_\"&COUNTIF($B$1:B91,B91)","v":"0_88"},{"$f":"'Data Feed'!G93","v":0},{"$f":"'Data Feed'!B93","v":0},{"$f":"'Data Feed'!C93","v":0},{"$f":"'Data Feed'!D93","v":0},{"$f":"'Data Feed'!E93","v":0},{"$f":"'Data Feed'!F93","v":0},{"$f":"'Data Feed'!G93","v":0},{"$f":"'Data Feed'!H93","v":0},{"$f":"'Data Feed'!I93","v":0},{"$f":"'Data Feed'!J93","v":0},{"$f":"'Data Feed'!K93","v":0},{"$f":"'Data Feed'!L93","v":0},{"$f":"'Data Feed'!M93","v":0},{"$f":"'Data Feed'!N93","v":0},{"$f":"'Data Feed'!O93","v":0},{"$f":"'Data Feed'!P93","v":0},{"$f":"'Data Feed'!Q93","v":0},{"$f":"'Data Feed'!R93","v":0},{"$f":"'Data Feed'!S93","v":0},{"$f":"'Data Feed'!T93","v":0},{"$f":"'Data Feed'!U93","v":0},{"$f":"'Data Feed'!V93","v":0},{"$f":"'Data Feed'!W93","v":0},{"$f":"'Data Feed'!X93","v":0},{"$f":"'Data Feed'!Y93","v":0},{"$f":"'Data Feed'!Z93","v":0},{"$f":"'Data Feed'!AA93","v":0},{"$f":"'Data Feed'!AB93","v":0},{"$f":"'Data Feed'!AC93","v":0},{"$f":"'Data Feed'!AD93","v":0},{"$f":"'Data Feed'!AE93","v":0},{"$f":"'Data Feed'!AF93","v":0},{"$f":"'Data Feed'!AG93","v":0},{"$f":"'Data Feed'!AH93","v":0},{"$f":"'Data Feed'!AI93","v":0}]
[{"$f":"B92&\"_\"&COUNTIF($B$1:B92,B92)","v":"0_89"},{"$f":"'Data Feed'!G94","v":0},{"$f":"'Data Feed'!B94","v":0},{"$f":"'Data Feed'!C94","v":0},{"$f":"'Data Feed'!D94","v":0},{"$f":"'Data Feed'!E94","v":0},{"$f":"'Data Feed'!F94","v":0},{"$f":"'Data Feed'!G94","v":0},{"$f":"'Data Feed'!H94","v":0},{"$f":"'Data Feed'!I94","v":0},{"$f":"'Data Feed'!J94","v":0},{"$f":"'Data Feed'!K94","v":0},{"$f":"'Data Feed'!L94","v":0},{"$f":"'Data Feed'!M94","v":0},{"$f":"'Data Feed'!N94","v":0},{"$f":"'Data Feed'!O94","v":0},{"$f":"'Data Feed'!P94","v":0},{"$f":"'Data Feed'!Q94","v":0},{"$f":"'Data Feed'!R94","v":0},{"$f":"'Data Feed'!S94","v":0},{"$f":"'Data Feed'!T94","v":0},{"$f":"'Data Feed'!U94","v":0},{"$f":"'Data Feed'!V94","v":0},{"$f":"'Data Feed'!W94","v":0},{"$f":"'Data Feed'!X94","v":0},{"$f":"'Data Feed'!Y94","v":0},{"$f":"'Data Feed'!Z94","v":0},{"$f":"'Data Feed'!AA94","v":0},{"$f":"'Data Feed'!AB94","v":0},{"$f":"'Data Feed'!AC94","v":0},{"$f":"'Data Feed'!AD94","v":0},{"$f":"'Data Feed'!AE94","v":0},{"$f":"'Data Feed'!AF94","v":0},{"$f":"'Data Feed'!AG94","v":0},{"$f":"'Data Feed'!AH94","v":0},{"$f":"'Data Feed'!AI94","v":0}]
[{"$f":"B93&\"_\"&COUNTIF($B$1:B93,B93)","v":"0_90"},{"$f":"'Data Feed'!G95","v":0},{"$f":"'Data Feed'!B95","v":0},{"$f":"'Data Feed'!C95","v":0},{"$f":"'Data Feed'!D95","v":0},{"$f":"'Data Feed'!E95","v":0},{"$f":"'Data Feed'!F95","v":0},{"$f":"'Data Feed'!G95","v":0},{"$f":"'Data Feed'!H95","v":0},{"$f":"'Data Feed'!I95","v":0},{"$f":"'Data Feed'!J95","v":0},{"$f":"'Data Feed'!K95","v":0},{"$f":"'Data Feed'!L95","v":0},{"$f":"'Data Feed'!M95","v":0},{"$f":"'Data Feed'!N95","v":0},{"$f":"'Data Feed'!O95","v":0},{"$f":"'Data Feed'!P95","v":0},{"$f":"'Data Feed'!Q95","v":0},{"$f":"'Data Feed'!R95","v":0},{"$f":"'Data Feed'!S95","v":0},{"$f":"'Data Feed'!T95","v":0},{"$f":"'Data Feed'!U95","v":0},{"$f":"'Data Feed'!V95","v":0},{"$f":"'Data Feed'!W95","v":0},{"$f":"'Data Feed'!X95","v":0},{"$f":"'Data Feed'!Y95","v":0},{"$f":"'Data Feed'!Z95","v":0},{"$f":"'Data Feed'!AA95","v":0},{"$f":"'Data Feed'!AB95","v":0},{"$f":"'Data Feed'!AC95","v":0},{"$f":"'Data Feed'!AD95","v":0},{"$f":"'Data Feed'!AE95","v":0},{"$f":"'Data Feed'!AF95","v":0},{"$f":"'Data Feed'!AG95","v":0},{"$f":"'Data Feed'!AH95","v":0},{"$f":"'Data Feed'!AI95","v":0}]
[{"$f":"B94&\"_\"&COUNTIF($B$1:B94,B94)","v":"0_91"},{"$f":"'Data Feed'!G96","v":0},{"$f":"'Data Feed'!B96","v":0},{"$f":"'Data Feed'!C96","v":0},{"$f":"'Data Feed'!D96","v":0},{"$f":"'Data Feed'!E96","v":0},{"$f":"'Data Feed'!F96","v":0},{"$f":"'Data Feed'!G96","v":0},{"$f":"'Data Feed'!H96","v":0},{"$f":"'Data Feed'!I96","v":0},{"$f":"'Data Feed'!J96","v":0},{"$f":"'Data Feed'!K96","v":0},{"$f":"'Data Feed'!L96","v":0},{"$f":"'Data Feed'!M96","v":0},{"$f":"'Data Feed'!N96","v":0},{"$f":"'Data Feed'!O96","v":0},{"$f":"'Data Feed'!P96","v":0},{"$f":"'Data Feed'!Q96","v":0},{"$f":"'Data Feed'!R96","v":0},{"$f":"'Data Feed'!S96","v":0},{"$f":"'Data Feed'!T96","v":0},{"$f":"'Data Feed'!U96","v":0},{"$f":"'Data Feed'!V96","v":0},{"$f":"'Data Feed'!W96","v":0},{"$f":"'Data Feed'!X96","v":0},{"$f":"'Data Feed'!Y96","v":0},{"$f":"'Data Feed'!Z96","v":0},{"$f":"'Data Feed'!AA96","v":0},{"$f":"'Data Feed'!AB96","v":0},{"$f":"'Data Feed'!AC96","v":0},{"$f":"'Data Feed'!AD96","v":0},{"$f":"'Data Feed'!AE96","v":0},{"$f":"'Data Feed'!AF96","v":0},{"$f":"'Data Feed'!AG96","v":0},{"$f":"'Data Feed'!AH96","v":0},{"$f":"'Data Feed'!AI96","v":0}]
[{"$f":"B95&\"_\"&COUNTIF($B$1:B95,B95)","v":"0_92"},{"$f":"'Data Feed'!G97","v":0},{"$f":"'Data Feed'!B97","v":0},{"$f":"'Data Feed'!C97","v":0},{"$f":"'Data Feed'!D97","v":0},{"$f":"'Data Feed'!E97","v":0},{"$f":"'Data Feed'!F97","v":0},{"$f":"'Data Feed'!G97","v":0},{"$f":"'Data Feed'!H97","v":0},{"$f":"'Data Feed'!I97","v":0},{"$f":"'Data Feed'!J97","v":0},{"$f":"'Data Feed'!K97","v":0},{"$f":"'Data Feed'!L97","v":0},{"$f":"'Data Feed'!M97","v":0},{"$f":"'Data Feed'!N97","v":0},{"$f":"'Data Feed'!O97","v":0},{"$f":"'Data Feed'!P97","v":0},{"$f":"'Data Feed'!Q97","v":0},{"$f":"'Data Feed'!R97","v":0},{"$f":"'Data Feed'!S97","v":0},{"$f":"'Data Feed'!T97","v":0},{"$f":"'Data Feed'!U97","v":0},{"$f":"'Data Feed'!V97","v":0},{"$f":"'Data Feed'!W97","v":0},{"$f":"'Data Feed'!X97","v":0},{"$f":"'Data Feed'!Y97","v":0},{"$f":"'Data Feed'!Z97","v":0},{"$f":"'Data Feed'!AA97","v":0},{"$f":"'Data Feed'!AB97","v":0},{"$f":"'Data Feed'!AC97","v":0},{"$f":"'Data Feed'!AD97","v":0},{"$f":"'Data Feed'!AE97","v":0},{"$f":"'Data Feed'!AF97","v":0},{"$f":"'Data Feed'!AG97","v":0},{"$f":"'Data Feed'!AH97","v":0},{"$f":"'Data Feed'!AI97","v":0}]
[{"$f":"B96&\"_\"&COUNTIF($B$1:B96,B96)","v":"0_93"},{"$f":"'Data Feed'!G98","v":0},{"$f":"'Data Feed'!B98","v":0},{"$f":"'Data Feed'!C98","v":0},{"$f":"'Data Feed'!D98","v":0},{"$f":"'Data Feed'!E98","v":0},{"$f":"'Data Feed'!F98","v":0},{"$f":"'Data Feed'!G98","v":0},{"$f":"'Data Feed'!H98","v":0},{"$f":"'Data Feed'!I98","v":0},{"$f":"'Data Feed'!J98","v":0},{"$f":"'Data Feed'!K98","v":0},{"$f":"'Data Feed'!L98","v":0},{"$f":"'Data Feed'!M98","v":0},{"$f":"'Data Feed'!N98","v":0},{"$f":"'Data Feed'!O98","v":0},{"$f":"'Data Feed'!P98","v":0},{"$f":"'Data Feed'!Q98","v":0},{"$f":"'Data Feed'!R98","v":0},{"$f":"'Data Feed'!S98","v":0},{"$f":"'Data Feed'!T98","v":0},{"$f":"'Data Feed'!U98","v":0},{"$f":"'Data Feed'!V98","v":0},{"$f":"'Data Feed'!W98","v":0},{"$f":"'Data Feed'!X98","v":0},{"$f":"'Data Feed'!Y98","v":0},{"$f":"'Data Feed'!Z98","v":0},{"$f":"'Data Feed'!AA98","v":0},{"$f":"'Data Feed'!AB98","v":0},{"$f":"'Data Feed'!AC98","v":0},{"$f":"'Data Feed'!AD98","v":0},{"$f":"'Data Feed'!AE98","v":0},{"$f":"'Data Feed'!AF98","v":0},{"$f":"'Data Feed'!AG98","v":0},{"$f":"'Data Feed'!AH98","v":0},{"$f":"'Data Feed'!AI98","v":0}]
[{"$f":"B97&\"_\"&COUNTIF($B$1:B97,B97)","v":"0_94"},{"$f":"'Data Feed'!G99","v":0},{"$f":"'Data Feed'!B99","v":0},{"$f":"'Data Feed'!C99","v":0},{"$f":"'Data Feed'!D99","v":0},{"$f":"'Data Feed'!E99","v":0},{"$f":"'Data Feed'!F99","v":0},{"$f":"'Data Feed'!G99","v":0},{"$f":"'Data Feed'!H99","v":0},{"$f":"'Data Feed'!I99","v":0},{"$f":"'Data Feed'!J99","v":0},{"$f":"'Data Feed'!K99","v":0},{"$f":"'Data Feed'!L99","v":0},{"$f":"'Data Feed'!M99","v":0},{"$f":"'Data Feed'!N99","v":0},{"$f":"'Data Feed'!O99","v":0},{"$f":"'Data Feed'!P99","v":0},{"$f":"'Data Feed'!Q99","v":0},{"$f":"'Data Feed'!R99","v":0},{"$f":"'Data Feed'!S99","v":0},{"$f":"'Data Feed'!T99","v":0},{"$f":"'Data Feed'!U99","v":0},{"$f":"'Data Feed'!V99","v":0},{"$f":"'Data Feed'!W99","v":0},{"$f":"'Data Feed'!X99","v":0},{"$f":"'Data Feed'!Y99","v":0},{"$f":"'Data Feed'!Z99","v":0},{"$f":"'Data Feed'!AA99","v":0},{"$f":"'Data Feed'!AB99","v":0},{"$f":"'Data Feed'!AC99","v":0},{"$f":"'Data Feed'!AD99","v":0},{"$f":"'Data Feed'!AE99","v":0},{"$f":"'Data Feed'!AF99","v":0},{"$f":"'Data Feed'!AG99","v":0},{"$f":"'Data Feed'!AH99","v":0},{"$f":"'Data Feed'!AI99","v":0}]
[{"$f":"B98&\"_\"&COUNTIF($B$1:B98,B98)","v":"0_95"},{"$f":"'Data Feed'!G100","v":0},{"$f":"'Data Feed'!B100","v":0},{"$f":"'Data Feed'!C100","v":0},{"$f":"'Data Feed'!D100","v":0},{"$f":"'Data Feed'!E100","v":0},{"$f":"'Data Feed'!F100","v":0},{"$f":"'Data Feed'!G100","v":0},{"$f":"'Data Feed'!H100","v":0},{"$f":"'Data Feed'!I100","v":0},{"$f":"'Data Feed'!J100","v":0},{"$f":"'Data Feed'!K100","v":0},{"$f":"'Data Feed'!L100","v":0},{"$f":"'Data Feed'!M100","v":0},{"$f":"'Data Feed'!N100","v":0},{"$f":"'Data Feed'!O100","v":0},{"$f":"'Data Feed'!P100","v":0},{"$f":"'Data Feed'!Q100","v":0},{"$f":"'Data Feed'!R100","v":0},{"$f":"'Data Feed'!S100","v":0},{"$f":"'Data Feed'!T100","v":0},{"$f":"'Data Feed'!U100","v":0},{"$f":"'Data Feed'!V100","v":0},{"$f":"'Data Feed'!W100","v":0},{"$f":"'Data Feed'!X100","v":0},{"$f":"'Data Feed'!Y100","v":0},{"$f":"'Data Feed'!Z100","v":0},{"$f":"'Data Feed'!AA100","v":0},{"$f":"'Data Feed'!AB100","v":0},{"$f":"'Data Feed'!AC100","v":0},{"$f":"'Data Feed'!AD100","v":0},{"$f":"'Data Feed'!AE100","v":0},{"$f":"'Data Feed'!AF100","v":0},{"$f":"'Data Feed'!AG100","v":0},{"$f":"'Data Feed'!AH100","v":0},{"$f":"'Data Feed'!AI100","v":0}]
[{"$f":"B99&\"_\"&COUNTIF($B$1:B99,B99)","v":"0_96"},{"$f":"'Data Feed'!G101","v":0},{"$f":"'Data Feed'!B101","v":0},{"$f":"'Data Feed'!C101","v":0},{"$f":"'Data Feed'!D101","v":0},{"$f":"'Data Feed'!E101","v":0},{"$f":"'Data Feed'!F101","v":0},{"$f":"'Data Feed'!G101","v":0},{"$f":"'Data Feed'!H101","v":0},{"$f":"'Data Feed'!I101","v":0},{"$f":"'Data Feed'!J101","v":0},{"$f":"'Data Feed'!K101","v":0},{"$f":"'Data Feed'!L101","v":0},{"$f":"'Data Feed'!M101","v":0},{"$f":"'Data Feed'!N101","v":0},{"$f":"'Data Feed'!O101","v":0},{"$f":"'Data Feed'!P101","v":0},{"$f":"'Data Feed'!Q101","v":0},{"$f":"'Data Feed'!R101","v":0},{"$f":"'Data Feed'!S101","v":0},{"$f":"'Data Feed'!T101","v":0},{"$f":"'Data Feed'!U101","v":0},{"$f":"'Data Feed'!V101","v":0},{"$f":"'Data Feed'!W101","v":0},{"$f":"'Data Feed'!X101","v":0},{"$f":"'Data Feed'!Y101","v":0},{"$f":"'Data Feed'!Z101","v":0},{"$f":"'Data Feed'!AA101","v":0},{"$f":"'Data Feed'!AB101","v":0},{"$f":"'Data Feed'!AC101","v":0},{"$f":"'Data Feed'!AD101","v":0},{"$f":"'Data Feed'!AE101","v":0},{"$f":"'Data Feed'!AF101","v":0},{"$f":"'Data Feed'!AG101","v":0},{"$f":"'Data Feed'!AH101","v":0},{"$f":"'Data Feed'!AI101","v":0}]
[{"$f":"B100&\"_\"&COUNTIF($B$1:B100,B100)","v":"0_97"},{"$f":"'Data Feed'!G102","v":0},{"$f":"'Data Feed'!B102","v":0},{"$f":"'Data Feed'!C102","v":0},{"$f":"'Data Feed'!D102","v":0},{"$f":"'Data Feed'!E102","v":0},{"$f":"'Data Feed'!F102","v":0},{"$f":"'Data Feed'!G102","v":0},{"$f":"'Data Feed'!H102","v":0},{"$f":"'Data Feed'!I102","v":0},{"$f":"'Data Feed'!J102","v":0},{"$f":"'Data Feed'!K102","v":0},{"$f":"'Data Feed'!L102","v":0},{"$f":"'Data Feed'!M102","v":0},{"$f":"'Data Feed'!N102","v":0},{"$f":"'Data Feed'!O102","v":0},{"$f":"'Data Feed'!P102","v":0},{"$f":"'Data Feed'!Q102","v":0},{"$f":"'Data Feed'!R102","v":0},{"$f":"'Data Feed'!S102","v":0},{"$f":"'Data Feed'!T102","v":0},{"$f":"'Data Feed'!U102","v":0},{"$f":"'Data Feed'!V102","v":0},{"$f":"'Data Feed'!W102","v":0},{"$f":"'Data Feed'!X102","v":0},{"$f":"'Data Feed'!Y102","v":0},{"$f":"'Data Feed'!Z102","v":0},{"$f":"'Data Feed'!AA102","v":0},{"$f":"'Data Feed'!AB102","v":0},{"$f":"'Data Feed'!AC102","v":0},{"$f":"'Data Feed'!AD102","v":0},{"$f":"'Data Feed'!AE102","v":0},{"$f":"'Data Feed'!AF102","v":0},{"$f":"'Data Feed'!AG102","v":0},{"$f":"'Data Feed'!AH102","v":0},{"$f":"'Data Feed'!AI102","v":0}]
[{"$f":"B101&\"_\"&COUNTIF($B$1:B101,B101)","v":"0_98"},{"$f":"'Data Feed'!G103","v":0},{"$f":"'Data Feed'!B103","v":0},{"$f":"'Data Feed'!C103","v":0},{"$f":"'Data Feed'!D103","v":0},{"$f":"'Data Feed'!E103","v":0},{"$f":"'Data Feed'!F103","v":0},{"$f":"'Data Feed'!G103","v":0},{"$f":"'Data Feed'!H103","v":0},{"$f":"'Data Feed'!I103","v":0},{"$f":"'Data Feed'!J103","v":0},{"$f":"'Data Feed'!K103","v":0},{"$f":"'Data Feed'!L103","v":0},{"$f":"'Data Feed'!M103","v":0},{"$f":"'Data Feed'!N103","v":0},{"$f":"'Data Feed'!O103","v":0},{"$f":"'Data Feed'!P103","v":0},{"$f":"'Data Feed'!Q103","v":0},{"$f":"'Data Feed'!R103","v":0},{"$f":"'Data Feed'!S103","v":0},{"$f":"'Data Feed'!T103","v":0},{"$f":"'Data Feed'!U103","v":0},{"$f":"'Data Feed'!V103","v":0},{"$f":"'Data Feed'!W103","v":0},{"$f":"'Data Feed'!X103","v":0},{"$f":"'Data Feed'!Y103","v":0},{"$f":"'Data Feed'!Z103","v":0},{"$f":"'Data Feed'!AA103","v":0},{"$f":"'Data Feed'!AB103","v":0},{"$f":"'Data Feed'!AC103","v":0},{"$f":"'Data Feed'!AD103","v":0},{"$f":"'Data Feed'!AE103","v":0},{"$f":"'Data Feed'!AF103","v":0},{"$f":"'Data Feed'!AG103","v":0},{"$f":"'Data Feed'!AH103","v":0},{"$f":"'Data Feed'!AI103","v":0}]
[{"$f":"B102&\"_\"&COUNTIF($B$1:B102,B102)","v":"0_99"},{"$f":"'Data Feed'!G104","v":0},{"$f":"'Data Feed'!B104","v":0},{"$f":"'Data Feed'!C104","v":0},{"$f":"'Data Feed'!D104","v":0},{"$f":"'Data Feed'!E104","v":0},{"$f":"'Data Feed'!F104","v":0},{"$f":"'Data Feed'!G104","v":0},{"$f":"'Data Feed'!H104","v":0},{"$f":"'Data Feed'!I104","v":0},{"$f":"'Data Feed'!J104","v":0},{"$f":"'Data Feed'!K104","v":0},{"$f":"'Data Feed'!L104","v":0},{"$f":"'Data Feed'!M104","v":0},{"$f":"'Data Feed'!N104","v":0},{"$f":"'Data Feed'!O104","v":0},{"$f":"'Data Feed'!P104","v":0},{"$f":"'Data Feed'!Q104","v":0},{"$f":"'Data Feed'!R104","v":0},{"$f":"'Data Feed'!S104","v":0},{"$f":"'Data Feed'!T104","v":0},{"$f":"'Data Feed'!U104","v":0},{"$f":"'Data Feed'!V104","v":0},{"$f":"'Data Feed'!W104","v":0},{"$f":"'Data Feed'!X104","v":0},{"$f":"'Data Feed'!Y104","v":0},{"$f":"'Data Feed'!Z104","v":0},{"$f":"'Data Feed'!AA104","v":0},{"$f":"'Data Feed'!AB104","v":0},{"$f":"'Data Feed'!AC104","v":0},{"$f":"'Data Feed'!AD104","v":0},{"$f":"'Data Feed'!AE104","v":0},{"$f":"'Data Feed'!AF104","v":0},{"$f":"'Data Feed'!AG104","v":0},{"$f":"'Data Feed'!AH104","v":0},{"$f":"'Data Feed'!AI104","v":0}]
[{"$f":"B103&\"_\"&COUNTIF($B$1:B103,B103)","v":"0_100"},{"$f":"'Data Feed'!G105","v":0},{"$f":"'Data Feed'!B105","v":0},{"$f":"'Data Feed'!C105","v":0},{"$f":"'Data Feed'!D105","v":0},{"$f":"'Data Feed'!E105","v":0},{"$f":"'Data Feed'!F105","v":0},{"$f":"'Data Feed'!G105","v":0},{"$f":"'Data Feed'!H105","v":0},{"$f":"'Data Feed'!I105","v":0},{"$f":"'Data Feed'!J105","v":0},{"$f":"'Data Feed'!K105","v":0},{"$f":"'Data Feed'!L105","v":0},{"$f":"'Data Feed'!M105","v":0},{"$f":"'Data Feed'!N105","v":0},{"$f":"'Data Feed'!O105","v":0},{"$f":"'Data Feed'!P105","v":0},{"$f":"'Data Feed'!Q105","v":0},{"$f":"'Data Feed'!R105","v":0},{"$f":"'Data Feed'!S105","v":0},{"$f":"'Data Feed'!T105","v":0},{"$f":"'Data Feed'!U105","v":0},{"$f":"'Data Feed'!V105","v":0},{"$f":"'Data Feed'!W105","v":0},{"$f":"'Data Feed'!X105","v":0},{"$f":"'Data Feed'!Y105","v":0},{"$f":"'Data Feed'!Z105","v":0},{"$f":"'Data Feed'!AA105","v":0},{"$f":"'Data Feed'!AB105","v":0},{"$f":"'Data Feed'!AC105","v":0},{"$f":"'Data Feed'!AD105","v":0},{"$f":"'Data Feed'!AE105","v":0},{"$f":"'Data Feed'!AF105","v":0},{"$f":"'Data Feed'!AG105","v":0},{"$f":"'Data Feed'!AH105","v":0},{"$f":"'Data Feed'!AI105","v":0}]
[{"$f":"B104&\"_\"&COUNTIF($B$1:B104,B104)","v":"0_101"},{"$f":"'Data Feed'!G106","v":0},{"$f":"'Data Feed'!B106","v":0},{"$f":"'Data Feed'!C106","v":0},{"$f":"'Data Feed'!D106","v":0},{"$f":"'Data Feed'!E106","v":0},{"$f":"'Data Feed'!F106","v":0},{"$f":"'Data Feed'!G106","v":0},{"$f":"'Data Feed'!H106","v":0},{"$f":"'Data Feed'!I106","v":0},{"$f":"'Data Feed'!J106","v":0},{"$f":"'Data Feed'!K106","v":0},{"$f":"'Data Feed'!L106","v":0},{"$f":"'Data Feed'!M106","v":0},{"$f":"'Data Feed'!N106","v":0},{"$f":"'Data Feed'!O106","v":0},{"$f":"'Data Feed'!P106","v":0},{"$f":"'Data Feed'!Q106","v":0},{"$f":"'Data Feed'!R106","v":0},{"$f":"'Data Feed'!S106","v":0},{"$f":"'Data Feed'!T106","v":0},{"$f":"'Data Feed'!U106","v":0},{"$f":"'Data Feed'!V106","v":0},{"$f":"'Data Feed'!W106","v":0},{"$f":"'Data Feed'!X106","v":0},{"$f":"'Data Feed'!Y106","v":0},{"$f":"'Data Feed'!Z106","v":0},{"$f":"'Data Feed'!AA106","v":0},{"$f":"'Data Feed'!AB106","v":0},{"$f":"'Data Feed'!AC106","v":0},{"$f":"'Data Feed'!AD106","v":0},{"$f":"'Data Feed'!AE106","v":0},{"$f":"'Data Feed'!AF106","v":0},{"$f":"'Data Feed'!AG106","v":0},{"$f":"'Data Feed'!AH106","v":0},{"$f":"'Data Feed'!AI106","v":0}]
[{"$f":"B105&\"_\"&COUNTIF($B$1:B105,B105)","v":"0_102"},{"$f":"'Data Feed'!G107","v":0},{"$f":"'Data Feed'!B107","v":0},{"$f":"'Data Feed'!C107","v":0},{"$f":"'Data Feed'!D107","v":0},{"$f":"'Data Feed'!E107","v":0},{"$f":"'Data Feed'!F107","v":0},{"$f":"'Data Feed'!G107","v":0},{"$f":"'Data Feed'!H107","v":0},{"$f":"'Data Feed'!I107","v":0},{"$f":"'Data Feed'!J107","v":0},{"$f":"'Data Feed'!K107","v":0},{"$f":"'Data Feed'!L107","v":0},{"$f":"'Data Feed'!M107","v":0},{"$f":"'Data Feed'!N107","v":0},{"$f":"'Data Feed'!O107","v":0},{"$f":"'Data Feed'!P107","v":0},{"$f":"'Data Feed'!Q107","v":0},{"$f":"'Data Feed'!R107","v":0},{"$f":"'Data Feed'!S107","v":0},{"$f":"'Data Feed'!T107","v":0},{"$f":"'Data Feed'!U107","v":0},{"$f":"'Data Feed'!V107","v":0},{"$f":"'Data Feed'!W107","v":0},{"$f":"'Data Feed'!X107","v":0},{"$f":"'Data Feed'!Y107","v":0},{"$f":"'Data Feed'!Z107","v":0},{"$f":"'Data Feed'!AA107","v":0},{"$f":"'Data Feed'!AB107","v":0},{"$f":"'Data Feed'!AC107","v":0},{"$f":"'Data Feed'!AD107","v":0},{"$f":"'Data Feed'!AE107","v":0},{"$f":"'Data Feed'!AF107","v":0},{"$f":"'Data Feed'!AG107","v":0},{"$f":"'Data Feed'!AH107","v":0},{"$f":"'Data Feed'!AI107","v":0}]
[{"$f":"B106&\"_\"&COUNTIF($B$1:B106,B106)","v":"0_103"},{"$f":"'Data Feed'!G108","v":0},{"$f":"'Data Feed'!B108","v":0},{"$f":"'Data Feed'!C108","v":0},{"$f":"'Data Feed'!D108","v":0},{"$f":"'Data Feed'!E108","v":0},{"$f":"'Data Feed'!F108","v":0},{"$f":"'Data Feed'!G108","v":0},{"$f":"'Data Feed'!H108","v":0},{"$f":"'Data Feed'!I108","v":0},{"$f":"'Data Feed'!J108","v":0},{"$f":"'Data Feed'!K108","v":0},{"$f":"'Data Feed'!L108","v":0},{"$f":"'Data Feed'!M108","v":0},{"$f":"'Data Feed'!N108","v":0},{"$f":"'Data Feed'!O108","v":0},{"$f":"'Data Feed'!P108","v":0},{"$f":"'Data Feed'!Q108","v":0},{"$f":"'Data Feed'!R108","v":0},{"$f":"'Data Feed'!S108","v":0},{"$f":"'Data Feed'!T108","v":0},{"$f":"'Data Feed'!U108","v":0},{"$f":"'Data Feed'!V108","v":0},{"$f":"'Data Feed'!W108","v":0},{"$f":"'Data Feed'!X108","v":0},{"$f":"'Data Feed'!Y108","v":0},{"$f":"'Data Feed'!Z108","v":0},{"$f":"'Data Feed'!AA108","v":0},{"$f":"'Data Feed'!AB108","v":0},{"$f":"'Data Feed'!AC108","v":0},{"$f":"'Data Feed'!AD108","v":0},{"$f":"'Data Feed'!AE108","v":0},{"$f":"'Data Feed'!AF108","v":0},{"$f":"'Data Feed'!AG108","v":0},{"$f":"'Data Feed'!AH108","v":0},{"$f":"'Data Feed'!AI108","v":0}]
[{"$f":"B107&\"_\"&COUNTIF($B$1:B107,B107)","v":"0_104"},{"$f":"'Data Feed'!G109","v":0},{"$f":"'Data Feed'!B109","v":0},{"$f":"'Data Feed'!C109","v":0},{"$f":"'Data Feed'!D109","v":0},{"$f":"'Data Feed'!E109","v":0},{"$f":"'Data Feed'!F109","v":0},{"$f":"'Data Feed'!G109","v":0},{"$f":"'Data Feed'!H109","v":0},{"$f":"'Data Feed'!I109","v":0},{"$f":"'Data Feed'!J109","v":0},{"$f":"'Data Feed'!K109","v":0},{"$f":"'Data Feed'!L109","v":0},{"$f":"'Data Feed'!M109","v":0},{"$f":"'Data Feed'!N109","v":0},{"$f":"'Data Feed'!O109","v":0},{"$f":"'Data Feed'!P109","v":0},{"$f":"'Data Feed'!Q109","v":0},{"$f":"'Data Feed'!R109","v":0},{"$f":"'Data Feed'!S109","v":0},{"$f":"'Data Feed'!T109","v":0},{"$f":"'Data Feed'!U109","v":0},{"$f":"'Data Feed'!V109","v":0},{"$f":"'Data Feed'!W109","v":0},{"$f":"'Data Feed'!X109","v":0},{"$f":"'Data Feed'!Y109","v":0},{"$f":"'Data Feed'!Z109","v":0},{"$f":"'Data Feed'!AA109","v":0},{"$f":"'Data Feed'!AB109","v":0},{"$f":"'Data Feed'!AC109","v":0},{"$f":"'Data Feed'!AD109","v":0},{"$f":"'Data Feed'!AE109","v":0},{"$f":"'Data Feed'!AF109","v":0},{"$f":"'Data Feed'!AG109","v":0},{"$f":"'Data Feed'!AH109","v":0},{"$f":"'Data Feed'!AI109","v":0}]
[{"$f":"B108&\"_\"&COUNTIF($B$1:B108,B108)","v":"0_105"},{"$f":"'Data Feed'!G110","v":0},{"$f":"'Data Feed'!B110","v":0},{"$f":"'Data Feed'!C110","v":0},{"$f":"'Data Feed'!D110","v":0},{"$f":"'Data Feed'!E110","v":0},{"$f":"'Data Feed'!F110","v":0},{"$f":"'Data Feed'!G110","v":0},{"$f":"'Data Feed'!H110","v":0},{"$f":"'Data Feed'!I110","v":0},{"$f":"'Data Feed'!J110","v":0},{"$f":"'Data Feed'!K110","v":0},{"$f":"'Data Feed'!L110","v":0},{"$f":"'Data Feed'!M110","v":0},{"$f":"'Data Feed'!N110","v":0},{"$f":"'Data Feed'!O110","v":0},{"$f":"'Data Feed'!P110","v":0},{"$f":"'Data Feed'!Q110","v":0},{"$f":"'Data Feed'!R110","v":0},{"$f":"'Data Feed'!S110","v":0},{"$f":"'Data Feed'!T110","v":0},{"$f":"'Data Feed'!U110","v":0},{"$f":"'Data Feed'!V110","v":0},{"$f":"'Data Feed'!W110","v":0},{"$f":"'Data Feed'!X110","v":0},{"$f":"'Data Feed'!Y110","v":0},{"$f":"'Data Feed'!Z110","v":0},{"$f":"'Data Feed'!AA110","v":0},{"$f":"'Data Feed'!AB110","v":0},{"$f":"'Data Feed'!AC110","v":0},{"$f":"'Data Feed'!AD110","v":0},{"$f":"'Data Feed'!AE110","v":0},{"$f":"'Data Feed'!AF110","v":0},{"$f":"'Data Feed'!AG110","v":0},{"$f":"'Data Feed'!AH110","v":0},{"$f":"'Data Feed'!AI110","v":0}]
[{"$f":"B109&\"_\"&COUNTIF($B$1:B109,B109)","v":"0_106"},{"$f":"'Data Feed'!G111","v":0},{"$f":"'Data Feed'!B111","v":0},{"$f":"'Data Feed'!C111","v":0},{"$f":"'Data Feed'!D111","v":0},{"$f":"'Data Feed'!E111","v":0},{"$f":"'Data Feed'!F111","v":0},{"$f":"'Data Feed'!G111","v":0},{"$f":"'Data Feed'!H111","v":0},{"$f":"'Data Feed'!I111","v":0},{"$f":"'Data Feed'!J111","v":0},{"$f":"'Data Feed'!K111","v":0},{"$f":"'Data Feed'!L111","v":0},{"$f":"'Data Feed'!M111","v":0},{"$f":"'Data Feed'!N111","v":0},{"$f":"'Data Feed'!O111","v":0},{"$f":"'Data Feed'!P111","v":0},{"$f":"'Data Feed'!Q111","v":0},{"$f":"'Data Feed'!R111","v":0},{"$f":"'Data Feed'!S111","v":0},{"$f":"'Data Feed'!T111","v":0},{"$f":"'Data Feed'!U111","v":0},{"$f":"'Data Feed'!V111","v":0},{"$f":"'Data Feed'!W111","v":0},{"$f":"'Data Feed'!X111","v":0},{"$f":"'Data Feed'!Y111","v":0},{"$f":"'Data Feed'!Z111","v":0},{"$f":"'Data Feed'!AA111","v":0},{"$f":"'Data Feed'!AB111","v":0},{"$f":"'Data Feed'!AC111","v":0},{"$f":"'Data Feed'!AD111","v":0},{"$f":"'Data Feed'!AE111","v":0},{"$f":"'Data Feed'!AF111","v":0},{"$f":"'Data Feed'!AG111","v":0},{"$f":"'Data Feed'!AH111","v":0},{"$f":"'Data Feed'!AI111","v":0}]
[{"$f":"B110&\"_\"&COUNTIF($B$1:B110,B110)","v":"0_107"},{"$f":"'Data Feed'!G112","v":0},{"$f":"'Data Feed'!B112","v":0},{"$f":"'Data Feed'!C112","v":0},{"$f":"'Data Feed'!D112","v":0},{"$f":"'Data Feed'!E112","v":0},{"$f":"'Data Feed'!F112","v":0},{"$f":"'Data Feed'!G112","v":0},{"$f":"'Data Feed'!H112","v":0},{"$f":"'Data Feed'!I112","v":0},{"$f":"'Data Feed'!J112","v":0},{"$f":"'Data Feed'!K112","v":0},{"$f":"'Data Feed'!L112","v":0},{"$f":"'Data Feed'!M112","v":0},{"$f":"'Data Feed'!N112","v":0},{"$f":"'Data Feed'!O112","v":0},{"$f":"'Data Feed'!P112","v":0},{"$f":"'Data Feed'!Q112","v":0},{"$f":"'Data Feed'!R112","v":0},{"$f":"'Data Feed'!S112","v":0},{"$f":"'Data Feed'!T112","v":0},{"$f":"'Data Feed'!U112","v":0},{"$f":"'Data Feed'!V112","v":0},{"$f":"'Data Feed'!W112","v":0},{"$f":"'Data Feed'!X112","v":0},{"$f":"'Data Feed'!Y112","v":0},{"$f":"'Data Feed'!Z112","v":0},{"$f":"'Data Feed'!AA112","v":0},{"$f":"'Data Feed'!AB112","v":0},{"$f":"'Data Feed'!AC112","v":0},{"$f":"'Data Feed'!AD112","v":0},{"$f":"'Data Feed'!AE112","v":0},{"$f":"'Data Feed'!AF112","v":0},{"$f":"'Data Feed'!AG112","v":0},{"$f":"'Data Feed'!AH112","v":0},{"$f":"'Data Feed'!AI112","v":0}]
[{"$f":"B111&\"_\"&COUNTIF($B$1:B111,B111)","v":"0_108"},{"$f":"'Data Feed'!G113","v":0},{"$f":"'Data Feed'!B113","v":0},{"$f":"'Data Feed'!C113","v":0},{"$f":"'Data Feed'!D113","v":0},{"$f":"'Data Feed'!E113","v":0},{"$f":"'Data Feed'!F113","v":0},{"$f":"'Data Feed'!G113","v":0},{"$f":"'Data Feed'!H113","v":0},{"$f":"'Data Feed'!I113","v":0},{"$f":"'Data Feed'!J113","v":0},{"$f":"'Data Feed'!K113","v":0},{"$f":"'Data Feed'!L113","v":0},{"$f":"'Data Feed'!M113","v":0},{"$f":"'Data Feed'!N113","v":0},{"$f":"'Data Feed'!O113","v":0},{"$f":"'Data Feed'!P113","v":0},{"$f":"'Data Feed'!Q113","v":0},{"$f":"'Data Feed'!R113","v":0},{"$f":"'Data Feed'!S113","v":0},{"$f":"'Data Feed'!T113","v":0},{"$f":"'Data Feed'!U113","v":0},{"$f":"'Data Feed'!V113","v":0},{"$f":"'Data Feed'!W113","v":0},{"$f":"'Data Feed'!X113","v":0},{"$f":"'Data Feed'!Y113","v":0},{"$f":"'Data Feed'!Z113","v":0},{"$f":"'Data Feed'!AA113","v":0},{"$f":"'Data Feed'!AB113","v":0},{"$f":"'Data Feed'!AC113","v":0},{"$f":"'Data Feed'!AD113","v":0},{"$f":"'Data Feed'!AE113","v":0},{"$f":"'Data Feed'!AF113","v":0},{"$f":"'Data Feed'!AG113","v":0},{"$f":"'Data Feed'!AH113","v":0},{"$f":"'Data Feed'!AI113","v":0}]
[{"$f":"B112&\"_\"&COUNTIF($B$1:B112,B112)","v":"0_109"},{"$f":"'Data Feed'!G114","v":0},{"$f":"'Data Feed'!B114","v":0},{"$f":"'Data Feed'!C114","v":0},{"$f":"'Data Feed'!D114","v":0},{"$f":"'Data Feed'!E114","v":0},{"$f":"'Data Feed'!F114","v":0},{"$f":"'Data Feed'!G114","v":0},{"$f":"'Data Feed'!H114","v":0},{"$f":"'Data Feed'!I114","v":0},{"$f":"'Data Feed'!J114","v":0},{"$f":"'Data Feed'!K114","v":0},{"$f":"'Data Feed'!L114","v":0},{"$f":"'Data Feed'!M114","v":0},{"$f":"'Data Feed'!N114","v":0},{"$f":"'Data Feed'!O114","v":0},{"$f":"'Data Feed'!P114","v":0},{"$f":"'Data Feed'!Q114","v":0},{"$f":"'Data Feed'!R114","v":0},{"$f":"'Data Feed'!S114","v":0},{"$f":"'Data Feed'!T114","v":0},{"$f":"'Data Feed'!U114","v":0},{"$f":"'Data Feed'!V114","v":0},{"$f":"'Data Feed'!W114","v":0},{"$f":"'Data Feed'!X114","v":0},{"$f":"'Data Feed'!Y114","v":0},{"$f":"'Data Feed'!Z114","v":0},{"$f":"'Data Feed'!AA114","v":0},{"$f":"'Data Feed'!AB114","v":0},{"$f":"'Data Feed'!AC114","v":0},{"$f":"'Data Feed'!AD114","v":0},{"$f":"'Data Feed'!AE114","v":0},{"$f":"'Data Feed'!AF114","v":0},{"$f":"'Data Feed'!AG114","v":0},{"$f":"'Data Feed'!AH114","v":0},{"$f":"'Data Feed'!AI114","v":0}]
[{"$f":"B113&\"_\"&COUNTIF($B$1:B113,B113)","v":"0_110"},{"$f":"'Data Feed'!G115","v":0},{"$f":"'Data Feed'!B115","v":0},{"$f":"'Data Feed'!C115","v":0},{"$f":"'Data Feed'!D115","v":0},{"$f":"'Data Feed'!E115","v":0},{"$f":"'Data Feed'!F115","v":0},{"$f":"'Data Feed'!G115","v":0},{"$f":"'Data Feed'!H115","v":0},{"$f":"'Data Feed'!I115","v":0},{"$f":"'Data Feed'!J115","v":0},{"$f":"'Data Feed'!K115","v":0},{"$f":"'Data Feed'!L115","v":0},{"$f":"'Data Feed'!M115","v":0},{"$f":"'Data Feed'!N115","v":0},{"$f":"'Data Feed'!O115","v":0},{"$f":"'Data Feed'!P115","v":0},{"$f":"'Data Feed'!Q115","v":0},{"$f":"'Data Feed'!R115","v":0},{"$f":"'Data Feed'!S115","v":0},{"$f":"'Data Feed'!T115","v":0},{"$f":"'Data Feed'!U115","v":0},{"$f":"'Data Feed'!V115","v":0},{"$f":"'Data Feed'!W115","v":0},{"$f":"'Data Feed'!X115","v":0},{"$f":"'Data Feed'!Y115","v":0},{"$f":"'Data Feed'!Z115","v":0},{"$f":"'Data Feed'!AA115","v":0},{"$f":"'Data Feed'!AB115","v":0},{"$f":"'Data Feed'!AC115","v":0},{"$f":"'Data Feed'!AD115","v":0},{"$f":"'Data Feed'!AE115","v":0},{"$f":"'Data Feed'!AF115","v":0},{"$f":"'Data Feed'!AG115","v":0},{"$f":"'Data Feed'!AH115","v":0},{"$f":"'Data Feed'!AI115","v":0}]
[{"$f":"B114&\"_\"&COUNTIF($B$1:B114,B114)","v":"0_111"},{"$f":"'Data Feed'!G116","v":0},{"$f":"'Data Feed'!B116","v":0},{"$f":"'Data Feed'!C116","v":0},{"$f":"'Data Feed'!D116","v":0},{"$f":"'Data Feed'!E116","v":0},{"$f":"'Data Feed'!F116","v":0},{"$f":"'Data Feed'!G116","v":0},{"$f":"'Data Feed'!H116","v":0},{"$f":"'Data Feed'!I116","v":0},{"$f":"'Data Feed'!J116","v":0},{"$f":"'Data Feed'!K116","v":0},{"$f":"'Data Feed'!L116","v":0},{"$f":"'Data Feed'!M116","v":0},{"$f":"'Data Feed'!N116","v":0},{"$f":"'Data Feed'!O116","v":0},{"$f":"'Data Feed'!P116","v":0},{"$f":"'Data Feed'!Q116","v":0},{"$f":"'Data Feed'!R116","v":0},{"$f":"'Data Feed'!S116","v":0},{"$f":"'Data Feed'!T116","v":0},{"$f":"'Data Feed'!U116","v":0},{"$f":"'Data Feed'!V116","v":0},{"$f":"'Data Feed'!W116","v":0},{"$f":"'Data Feed'!X116","v":0},{"$f":"'Data Feed'!Y116","v":0},{"$f":"'Data Feed'!Z116","v":0},{"$f":"'Data Feed'!AA116","v":0},{"$f":"'Data Feed'!AB116","v":0},{"$f":"'Data Feed'!AC116","v":0},{"$f":"'Data Feed'!AD116","v":0},{"$f":"'Data Feed'!AE116","v":0},{"$f":"'Data Feed'!AF116","v":0},{"$f":"'Data Feed'!AG116","v":0},{"$f":"'Data Feed'!AH116","v":0},{"$f":"'Data Feed'!AI116","v":0}]
[{"$f":"B115&\"_\"&COUNTIF($B$1:B115,B115)","v":"0_112"},{"$f":"'Data Feed'!G117","v":0},{"$f":"'Data Feed'!B117","v":0},{"$f":"'Data Feed'!C117","v":0},{"$f":"'Data Feed'!D117","v":0},{"$f":"'Data Feed'!E117","v":0},{"$f":"'Data Feed'!F117","v":0},{"$f":"'Data Feed'!G117","v":0},{"$f":"'Data Feed'!H117","v":0},{"$f":"'Data Feed'!I117","v":0},{"$f":"'Data Feed'!J117","v":0},{"$f":"'Data Feed'!K117","v":0},{"$f":"'Data Feed'!L117","v":0},{"$f":"'Data Feed'!M117","v":0},{"$f":"'Data Feed'!N117","v":0},{"$f":"'Data Feed'!O117","v":0},{"$f":"'Data Feed'!P117","v":0},{"$f":"'Data Feed'!Q117","v":0},{"$f":"'Data Feed'!R117","v":0},{"$f":"'Data Feed'!S117","v":0},{"$f":"'Data Feed'!T117","v":0},{"$f":"'Data Feed'!U117","v":0},{"$f":"'Data Feed'!V117","v":0},{"$f":"'Data Feed'!W117","v":0},{"$f":"'Data Feed'!X117","v":0},{"$f":"'Data Feed'!Y117","v":0},{"$f":"'Data Feed'!Z117","v":0},{"$f":"'Data Feed'!AA117","v":0},{"$f":"'Data Feed'!AB117","v":0},{"$f":"'Data Feed'!AC117","v":0},{"$f":"'Data Feed'!AD117","v":0},{"$f":"'Data Feed'!AE117","v":0},{"$f":"'Data Feed'!AF117","v":0},{"$f":"'Data Feed'!AG117","v":0},{"$f":"'Data Feed'!AH117","v":0},{"$f":"'Data Feed'!AI117","v":0}]
[{"$f":"B116&\"_\"&COUNTIF($B$1:B116,B116)","v":"0_113"},{"$f":"'Data Feed'!G118","v":0},{"$f":"'Data Feed'!B118","v":0},{"$f":"'Data Feed'!C118","v":0},{"$f":"'Data Feed'!D118","v":0},{"$f":"'Data Feed'!E118","v":0},{"$f":"'Data Feed'!F118","v":0},{"$f":"'Data Feed'!G118","v":0},{"$f":"'Data Feed'!H118","v":0},{"$f":"'Data Feed'!I118","v":0},{"$f":"'Data Feed'!J118","v":0},{"$f":"'Data Feed'!K118","v":0},{"$f":"'Data Feed'!L118","v":0},{"$f":"'Data Feed'!M118","v":0},{"$f":"'Data Feed'!N118","v":0},{"$f":"'Data Feed'!O118","v":0},{"$f":"'Data Feed'!P118","v":0},{"$f":"'Data Feed'!Q118","v":0},{"$f":"'Data Feed'!R118","v":0},{"$f":"'Data Feed'!S118","v":0},{"$f":"'Data Feed'!T118","v":0},{"$f":"'Data Feed'!U118","v":0},{"$f":"'Data Feed'!V118","v":0},{"$f":"'Data Feed'!W118","v":0},{"$f":"'Data Feed'!X118","v":0},{"$f":"'Data Feed'!Y118","v":0},{"$f":"'Data Feed'!Z118","v":0},{"$f":"'Data Feed'!AA118","v":0},{"$f":"'Data Feed'!AB118","v":0},{"$f":"'Data Feed'!AC118","v":0},{"$f":"'Data Feed'!AD118","v":0},{"$f":"'Data Feed'!AE118","v":0},{"$f":"'Data Feed'!AF118","v":0},{"$f":"'Data Feed'!AG118","v":0},{"$f":"'Data Feed'!AH118","v":0},{"$f":"'Data Feed'!AI118","v":0}]
[{"$f":"B117&\"_\"&COUNTIF($B$1:B117,B117)","v":"0_114"},{"$f":"'Data Feed'!G119","v":0},{"$f":"'Data Feed'!B119","v":0},{"$f":"'Data Feed'!C119","v":0},{"$f":"'Data Feed'!D119","v":0},{"$f":"'Data Feed'!E119","v":0},{"$f":"'Data Feed'!F119","v":0},{"$f":"'Data Feed'!G119","v":0},{"$f":"'Data Feed'!H119","v":0},{"$f":"'Data Feed'!I119","v":0},{"$f":"'Data Feed'!J119","v":0},{"$f":"'Data Feed'!K119","v":0},{"$f":"'Data Feed'!L119","v":0},{"$f":"'Data Feed'!M119","v":0},{"$f":"'Data Feed'!N119","v":0},{"$f":"'Data Feed'!O119","v":0},{"$f":"'Data Feed'!P119","v":0},{"$f":"'Data Feed'!Q119","v":0},{"$f":"'Data Feed'!R119","v":0},{"$f":"'Data Feed'!S119","v":0},{"$f":"'Data Feed'!T119","v":0},{"$f":"'Data Feed'!U119","v":0},{"$f":"'Data Feed'!V119","v":0},{"$f":"'Data Feed'!W119","v":0},{"$f":"'Data Feed'!X119","v":0},{"$f":"'Data Feed'!Y119","v":0},{"$f":"'Data Feed'!Z119","v":0},{"$f":"'Data Feed'!AA119","v":0},{"$f":"'Data Feed'!AB119","v":0},{"$f":"'Data Feed'!AC119","v":0},{"$f":"'Data Feed'!AD119","v":0},{"$f":"'Data Feed'!AE119","v":0},{"$f":"'Data Feed'!AF119","v":0},{"$f":"'Data Feed'!AG119","v":0},{"$f":"'Data Feed'!AH119","v":0},{"$f":"'Data Feed'!AI119","v":0}]
[{"$f":"B118&\"_\"&COUNTIF($B$1:B118,B118)","v":"0_115"},{"$f":"'Data Feed'!G120","v":0},{"$f":"'Data Feed'!B120","v":0},{"$f":"'Data Feed'!C120","v":0},{"$f":"'Data Feed'!D120","v":0},{"$f":"'Data Feed'!E120","v":0},{"$f":"'Data Feed'!F120","v":0},{"$f":"'Data Feed'!G120","v":0},{"$f":"'Data Feed'!H120","v":0},{"$f":"'Data Feed'!I120","v":0},{"$f":"'Data Feed'!J120","v":0},{"$f":"'Data Feed'!K120","v":0},{"$f":"'Data Feed'!L120","v":0},{"$f":"'Data Feed'!M120","v":0},{"$f":"'Data Feed'!N120","v":0},{"$f":"'Data Feed'!O120","v":0},{"$f":"'Data Feed'!P120","v":0},{"$f":"'Data Feed'!Q120","v":0},{"$f":"'Data Feed'!R120","v":0},{"$f":"'Data Feed'!S120","v":0},{"$f":"'Data Feed'!T120","v":0},{"$f":"'Data Feed'!U120","v":0},{"$f":"'Data Feed'!V120","v":0},{"$f":"'Data Feed'!W120","v":0},{"$f":"'Data Feed'!X120","v":0},{"$f":"'Data Feed'!Y120","v":0},{"$f":"'Data Feed'!Z120","v":0},{"$f":"'Data Feed'!AA120","v":0},{"$f":"'Data Feed'!AB120","v":0},{"$f":"'Data Feed'!AC120","v":0},{"$f":"'Data Feed'!AD120","v":0},{"$f":"'Data Feed'!AE120","v":0},{"$f":"'Data Feed'!AF120","v":0},{"$f":"'Data Feed'!AG120","v":0},{"$f":"'Data Feed'!AH120","v":0},{"$f":"'Data Feed'!AI120","v":0}]
[{"$f":"B119&\"_\"&COUNTIF($B$1:B119,B119)","v":"0_116"},{"$f":"'Data Feed'!G121","v":0},{"$f":"'Data Feed'!B121","v":"Aditya"},{"$f":"'Data Feed'!C121","v":0},{"$f":"'Data Feed'!D121","v":0},{"$f":"'Data Feed'!E121","v":0},{"$f":"'Data Feed'!F121","v":0},{"$f":"'Data Feed'!G121","v":0},{"$f":"'Data Feed'!H121","v":0},{"$f":"'Data Feed'!I121","v":0},{"$f":"'Data Feed'!J121","v":0},{"$f":"'Data Feed'!K121","v":"English"},{"$f":"'Data Feed'!L121","v":0},{"$f":"'Data Feed'!M121","v":0},{"$f":"'Data Feed'!N121","v":0},{"$f":"'Data Feed'!O121","v":0},{"$f":"'Data Feed'!P121","v":0},{"$f":"'Data Feed'!Q121","v":0},{"$f":"'Data Feed'!R121","v":0},{"$f":"'Data Feed'!S121","v":0},{"$f":"'Data Feed'!T121","v":0},{"$f":"'Data Feed'!U121","v":0},{"$f":"'Data Feed'!V121","v":0},{"$f":"'Data Feed'!W121","v":0},{"$f":"'Data Feed'!X121","v":0},{"$f":"'Data Feed'!Y121","v":0},{"$f":"'Data Feed'!Z121","v":0},{"$f":"'Data Feed'!AA121","v":0},{"$f":"'Data Feed'!AB121","v":0},{"$f":"'Data Feed'!AC121","v":0},{"$f":"'Data Feed'!AD121","v":0},{"$f":"'Data Feed'!AE121","v":0},{"$f":"'Data Feed'!AF121","v":0},{"$f":"'Data Feed'!AG121","v":0},{"$f":"'Data Feed'!AH121","v":0},{"$f":"'Data Feed'!AI121","v":0}]

{"sheet":"postwaij","index":4,"n_rows":119,"n_cols":36,"rows_kept":119,"hidden":true}
[{"$f":"B1&\"_\"&COUNTIF($B$1:B1,B1)","v":"वरिष्ठ अध्यापक_1"},{"$f":"'Data Feed'!J3","v":"वरिष्ठ अध्यापक"},{"$f":"'Data Feed'!B3","v":"श्री अश्विनी कुमार"},{"$f":"'Data Feed'!C3","v":"श्री मेघराज शर्मा"},{"$f":"'Data Feed'!D3","v":"RJNA201228008021"},{"$f":"'Data Feed'!E3","v":32179},{"$f":"'Data Feed'!F3","v":"Male"},{"$f":"'Data Feed'!G3","v":"Gen"},{"$f":"'Data Feed'!H3","v":"Hindu"},{"$f":"'Data Feed'!I3","v":"No"},{"$f":"'Data Feed'!J3","v":"वरिष्ठ अध्यापक"},{"$f":"'Data Feed'!K3","v":"English"},{"$f":"'Data Feed'!L3","v":"स्थाई"},{"$f":"'Data Feed'!M3","v":"O+"},{"$f":"'Data Feed'!N3","v":"कुचामन सिटी"},{"$f":"'Data Feed'!O3","v":"नागौर"},{"$f":"'Data Feed'!P3","v":9166023711},{"$f":"'Data Feed'!Q3","v":"sspkctakumar@gmail.com"},{"$f":"'Data Feed'!R3","v":610370000000},{"$f":"'Data Feed'!S3","v":"SBI"},{"$f":"'Data Feed'!T3","v":"SBIN0031733"},{"$f":"'Data Feed'!U3","v":40835},{"$f":"'Data Feed'!V3","v":40835},{"$f":"'Data Feed'!W3","v":40866},{"$f":"'Data Feed'!X3","v":40866},{"$f":"'Data Feed'!Y3","v":0},{"$f":"'Data Feed'!Z3","v":40866},{"$f":"'Data Feed'!AA3","v":110000000000},{"$f":"'Data Feed'!AB3","v":6123456},{"$f":"'Data Feed'!AC3","v":123456781234},{"$f":"'Data Feed'!AD3","v":"ZXZXZXD"},{"$f":"'Data Feed'!AE3","v":0},{"$f":"'Data Feed'!AF3","v":"ABCDE1111F"},{"$f":"'Data Feed'!AG3","v":48500},{"$f":"'Data Feed'!AH3","v":"M.A."},{"$f":"'Data Feed'!AI3","v":"M.Ed"}]
[{"$f":"B2&\"_\"&COUNTIF($B$1:B2,B2)","v":"व्याख्याता_1"},{"$f":"'Data Feed'!J4","v":"व्याख्याता"},{"$f":"'Data Feed'!B4","v":"श्री प्रकाश कुमार गौड़"},{"$f":"'Data Feed'!C4","v":"श्री राजेंद्र शर्मा"},{"$f":"'Data Feed'!D4","v":"RJNA201228008022"},{"$f":"'Data Feed'!E4","v":32180},{"$f":"'Data Feed'!F4","v":"Female"},{"$f":"'Data Feed'!G4","v":"Gen"},{"$f":"'Data Feed'!H4","v":"Hindu"},{"$f":"'Data Feed'!I4","v":"No"},{"$f":"'Data Feed'!J4","v":"व्याख्याता"},{"$f":"'Data Feed'!K4","v":"History"},{"$f":"'Data Feed'!L4","v":"स्थाई"},{"$f":"'Data Feed'!M4","v":"O+"},{"$f":"'Data Feed'!N4","v":"कुचामन सिटी"},{"$f":"'Data Feed'!O4","v":"नागौर"},{"$f":"'Data Feed'!P4","v":9166023711},{"$f":"'Data Feed'!Q4","v":"sspkctakumar@gmail.com"},{"$f":"'Data Feed'!R4","v":610370000000},{"$f":"'Data Feed'!S4","v":"SBI"},{"$f":"'Data Feed'!T4","v":"SBIN0031733"},{"$f":"'Data Feed'!U4","v":40835},{"$f":"'Data Feed'!V4","v":40835},{"$f":"'Data Feed'!W4","v":40866},{"$f":"'Data Feed'!X4","v":40866},{"$f":"'Data Feed'!Y4","v":0},{"$f":"'Data Feed'!Z4","v":40866},{"$f":"'Data Feed'!AA4","v":110000000000},{"$f":"'Data Feed'!AB4","v":6123456},{"$f":"'Data Feed'!AC4","v":123456781234},{"$f":"'Data Feed'!AD4","v":"ZXZXZXD"},{"$f":"'Data Feed'!AE4","v":0},{"$f":"'Data Feed'!AF4","v":"ABCDE1111F"},{"$f":"'Data Feed'!AG4","v":48500},{"$f":"'Data Feed'!AH4","v":"M.A."},{"$f":"'Data Feed'!AI4","v":"M.Ed"}]
[{"$f":"B3&\"_\"&COUNTIF($B$1:B3,B3)","v":"प्रधानाचार्य_1"},{"$f":"'Data Feed'!J5","v":"प्रधानाचार्य"},{"$f":"'Data Feed'!B5","v":"श्री जावेद खान"},{"$f":"'Data Feed'!C5","v":"श्री"},{"$f":"'Data Feed'!D5","v":"RJNA201228008023"},{"$f":"'Data Feed'!E5","v":32181},{"$f":"'Data Feed'!F5","v":"Male"},{"$f":"'Data Feed'!G5","v":"OBC"},{"$f":"'Data Feed'!H5","v":"Muslim"},{"$f":"'Data Feed'!I5","v":"Yes"},{"$f":"'Data Feed'!J5","v":"प्रधानाचार्य"},{"$f":"'Data Feed'!K5","v":"Agriculture"},{"$f":"'Data Feed'!L5","v":"अस्थाई"},{"$f":"'Data Feed'!M5","v":"AB+"},{"$f":"'Data Feed'!N5","v":"कुचामन सिटी"},{"$f":"'Data Feed'!O5","v":"नागौर"},{"$f":"'Data Feed'!P5","v":9166023711},{"$f":"'Data Feed'!Q5","v":"sspkctakumar@gmail.com"},{"$f":"'Data Feed'!R5","v":610370000000},{"$f":"'Data Feed'!S5","v":"SBI"},{"$f":"'Data Feed'!T5","v":"SBIN0031733"},{"$f":"'Data Feed'!U5","v":40835},{"$f":"'Data Feed'!V5","v":40835},{"$f":"'Data Feed'!W5","v":40866},{"$f":"'Data Feed'!X5","v":40866},{"$f":"'Data Feed'!Y5","v":0},{"$f":"'Data Feed'!Z5","v":40866},{"$f":"'Data Feed'!AA5","v":110000000000},{"$f":"'Data Feed'!AB5","v":6123456},{"$f":"'Data Feed'!AC5","v":123456781234},{"$f":"'Data Feed'!AD5","v":"ZXZXZXD"},{"$f":"'Data Feed'!AE5","v":0},{"$f":"'Data Feed'!AF5","v":"ABCDE1111F"},{"$f":"'Data Feed'!AG5","v":48500},{"$f":"'Data Feed'!AH5","v":"M.A."},{"$f":"'Data Feed'!AI5","v":"M.Ed"}]
[{"$f":"B4&\"_\"&COUNTIF($B$1:B4,B4)","v":"0_1"},{"$f":"'Data Feed'!J6","v":0},{"$f":"'Data Feed'!B6","v":0},{"$f":"'Data Feed'!C6","v":0},{"$f":"'Data Feed'!D6","v":0},{"$f":"'Data Feed'!E6","v":0},{"$f":"'Data Feed'!F6","v":0},{"$f":"'Data Feed'!G6","v":0},{"$f":"'Data Feed'!H6","v":0},{"$f":"'Data Feed'!I6","v":0},{"$f":"'Data Feed'!J6","v":0},{"$f":"'Data Feed'!K6","v":0},{"$f":"'Data Feed'!L6","v":0},{"$f":"'Data Feed'!M6","v":0},{"$f":"'Data Feed'!N6","v":0},{"$f":"'Data Feed'!O6","v":0},{"$f":"'Data Feed'!P6","v":0},{"$f":"'Data Feed'!Q6","v":0},{"$f":"'Data Feed'!R6","v":0},{"$f":"'Data Feed'!S6","v":0},{"$f":"'Data Feed'!T6","v":0},{"$f":"'Data Feed'!U6","v":0},{"$f":"'Data Feed'!V6","v":0},{"$f":"'Data Feed'!W6","v":0},{"$f":"'Data Feed'!X6","v":0},{"$f":"'Data Feed'!Y6","v":0},{"$f":"'Data Feed'!Z6","v":0},{"$f":"'Data Feed'!AA6","v":0},{"$f":"'Data Feed'!AB6","v":0},{"$f":"'Data Feed'!AC6","v":0},{"$f":"'Data Feed'!AD6","v":0},{"$f":"'Data Feed'!AE6","v":0},{"$f":"'Data Feed'!AF6","v":0},{"$f":"'Data Feed'!AG6","v":0},{"$f":"'Data Feed'!AH6","v":0},{"$f":"'Data Feed'!AI6","v":0}]
[{"$f":"B5&\"_\"&COUNTIF($B$1:B5,B5)","v":"0_2"},{"$f":"'Data Feed'!J7","v":0},{"$f":"'Data Feed'!B7","v":0},{"$f":"'Data Feed'!C7","v":0},{"$f":"'Data Feed'!D7","v":0},{"$f":"'Data Feed'!E7","v":0},{"$f":"'Data Feed'!F7","v":0},{"$f":"'Data Feed'!G7","v":0},{"$f":"'Data Feed'!H7","v":0},{"$f":"'Data Feed'!I7","v":0},{"$f":"'Data Feed'!J7","v":0},{"$f":"'Data Feed'!K7","v":0},{"$f":"'Data Feed'!L7","v":0},{"$f":"'Data Feed'!M7","v":0},{"$f":"'Data Feed'!N7","v":0},{"$f":"'Data Feed'!O7","v":0},{"$f":"'Data Feed'!P7","v":0},{"$f":"'Data Feed'!Q7","v":0},{"$f":"'Data Feed'!R7","v":0},{"$f":"'Data Feed'!S7","v":0},{"$f":"'Data Feed'!T7","v":0},{"$f":"'Data Feed'!U7","v":0},{"$f":"'Data Feed'!V7","v":0},{"$f":"'Data Feed'!W7","v":0},{"$f":"'Data Feed'!X7","v":0},{"$f":"'Data Feed'!Y7","v":0},{"$f":"'Data Feed'!Z7","v":0},{"$f":"'Data Feed'!AA7","v":0},{"$f":"'Data Feed'!AB7","v":0},{"$f":"'Data Feed'!AC7","v":0},{"$f":"'Data Feed'!AD7","v":0},{"$f":"'Data Feed'!AE7","v":0},{"$f":"'Data Feed'!AF7","v":0},{"$f":"'Data Feed'!AG7","v":0},{"$f":"'Data Feed'!AH7","v":0},{"$f":"'Data Feed'!AI7","v":0}]
[{"$f":"B6&\"_\"&COUNTIF($B$1:B6,B6)","v":"0_3"},{"$f":"'Data Feed'!J8","v":0},{"$f":"'Data Feed'!B8","v":0},{"$f":"'Data Feed'!C8","v":0},{"$f":"'Data Feed'!D8","v":0},{"$f":"'Data Feed'!E8","v":0},{"$f":"'Data Feed'!F8","v":0},{"$f":"'Data Feed'!G8","v":0},{"$f":"'Data Feed'!H8","v":0},{"$f":"'Data Feed'!I8","v":0},{"$f":"'Data Feed'!J8","v":0},{"$f":"'Data Feed'!K8","v":0},{"$f":"'Data Feed'!L8","v":0},{"$f":"'Data Feed'!M8","v":0},{"$f":"'Data Feed'!N8","v":0},{"$f":"'Data Feed'!O8","v":0},{"$f":"'Data Feed'!P8","v":0},{"$f":"'Data Feed'!Q8","v":0},{"$f":"'Data Feed'!R8","v":0},{"$f":"'Data Feed'!S8","v":0},{"$f":"'Data Feed'!T8","v":0},{"$f":"'Data Feed'!U8","v":0},{"$f":"'Data Feed'!V8","v":0},{"$f":"'Data Feed'!W8","v":0},{"$f":"'Data Feed'!X8","v":0},{"$f":"'Data Feed'!Y8","v":0},{"$f":"'Data Feed'!Z8","v":0},{"$f":"'Data Feed'!AA8","v":0},{"$f":"'Data Feed'!AB8","v":0},{"$f":"'Data Feed'!AC8","v":0},{"$f":"'Data Feed'!AD8","v":0},{"$f":"'Data Feed'!AE8","v":0},{"$f":"'Data Feed'!AF8","v":0},{"$f":"'Data Feed'!AG8","v":0},{"$f":"'Data Feed'!AH8","v":0},{"$f":"'Data Feed'!AI8","v":0}]
[{"$f":"B7&\"_\"&COUNTIF($B$1:B7,B7)","v":"0_4"},{"$f":"'Data Feed'!J9","v":0},{"$f":"'Data Feed'!B9","v":0},{"$f":"'Data Feed'!C9","v":0},{"$f":"'Data Feed'!D9","v":0},{"$f":"'Data Feed'!E9","v":0},{"$f":"'Data Feed'!F9","v":0},{"$f":"'Data Feed'!G9","v":0},{"$f":"'Data Feed'!H9","v":0},{"$f":"'Data Feed'!I9","v":0},{"$f":"'Data Feed'!J9","v":0},{"$f":"'Data Feed'!K9","v":0},{"$f":"'Data Feed'!L9","v":0},{"$f":"'Data Feed'!M9","v":0},{"$f":"'Data Feed'!N9","v":0},{"$f":"'Data Feed'!O9","v":0},{"$f":"'Data Feed'!P9","v":0},{"$f":"'Data Feed'!Q9","v":0},{"$f":"'Data Feed'!R9","v":0},{"$f":"'Data Feed'!S9","v":0},{"$f":"'Data Feed'!T9","v":0},{"$f":"'Data Feed'!U9","v":0},{"$f":"'Data Feed'!V9","v":0},{"$f":"'Data Feed'!W9","v":0},{"$f":"'Data Feed'!X9","v":0},{"$f":"'Data Feed'!Y9","v":0},{"$f":"'Data Feed'!Z9","v":0},{"$f":"'Data Feed'!AA9","v":0},{"$f":"'Data Feed'!AB9","v":0},{"$f":"'Data Feed'!AC9","v":0},{"$f":"'Data Feed'!AD9","v":0},{"$f":"'Data Feed'!AE9","v":0},{"$f":"'Data Feed'!AF9","v":0},{"$f":"'Data Feed'!AG9","v":0},{"$f":"'Data Feed'!AH9","v":0},{"$f":"'Data Feed'!AI9","v":0}]
[{"$f":"B8&\"_\"&COUNTIF($B$1:B8,B8)","v":"0_5"},{"$f":"'Data Feed'!J10","v":0},{"$f":"'Data Feed'!B10","v":0},{"$f":"'Data Feed'!C10","v":0},{"$f":"'Data Feed'!D10","v":0},{"$f":"'Data Feed'!E10","v":0},{"$f":"'Data Feed'!F10","v":0},{"$f":"'Data Feed'!G10","v":0},{"$f":"'Data Feed'!H10","v":0},{"$f":"'Data Feed'!I10","v":0},{"$f":"'Data Feed'!J10","v":0},{"$f":"'Data Feed'!K10","v":0},{"$f":"'Data Feed'!L10","v":0},{"$f":"'Data Feed'!M10","v":0},{"$f":"'Data Feed'!N10","v":0},{"$f":"'Data Feed'!O10","v":0},{"$f":"'Data Feed'!P10","v":0},{"$f":"'Data Feed'!Q10","v":0},{"$f":"'Data Feed'!R10","v":0},{"$f":"'Data Feed'!S10","v":0},{"$f":"'Data Feed'!T10","v":0},{"$f":"'Data Feed'!U10","v":0},{"$f":"'Data Feed'!V10","v":0},{"$f":"'Data Feed'!W10","v":0},{"$f":"'Data Feed'!X10","v":0},{"$f":"'Data Feed'!Y10","v":0},{"$f":"'Data Feed'!Z10","v":0},{"$f":"'Data Feed'!AA10","v":0},{"$f":"'Data Feed'!AB10","v":0},{"$f":"'Data Feed'!AC10","v":0},{"$f":"'Data Feed'!AD10","v":0},{"$f":"'Data Feed'!AE10","v":0},{"$f":"'Data Feed'!AF10","v":0},{"$f":"'Data Feed'!AG10","v":0},{"$f":"'Data Feed'!AH10","v":0},{"$f":"'Data Feed'!AI10","v":0}]
[{"$f":"B9&\"_\"&COUNTIF($B$1:B9,B9)","v":"0_6"},{"$f":"'Data Feed'!J11","v":0},{"$f":"'Data Feed'!B11","v":0},{"$f":"'Data Feed'!C11","v":0},{"$f":"'Data Feed'!D11","v":0},{"$f":"'Data Feed'!E11","v":0},{"$f":"'Data Feed'!F11","v":0},{"$f":"'Data Feed'!G11","v":0},{"$f":"'Data Feed'!H11","v":0},{"$f":"'Data Feed'!I11","v":0},{"$f":"'Data Feed'!J11","v":0},{"$f":"'Data Feed'!K11","v":0},{"$f":"'Data Feed'!L11","v":0},{"$f":"'Data Feed'!M11","v":0},{"$f":"'Data Feed'!N11","v":0},{"$f":"'Data Feed'!O11","v":0},{"$f":"'Data Feed'!P11","v":0},{"$f":"'Data Feed'!Q11","v":0},{"$f":"'Data Feed'!R11","v":0},{"$f":"'Data Feed'!S11","v":0},{"$f":"'Data Feed'!T11","v":0},{"$f":"'Data Feed'!U11","v":0},{"$f":"'Data Feed'!V11","v":0},{"$f":"'Data Feed'!W11","v":0},{"$f":"'Data Feed'!X11","v":0},{"$f":"'Data Feed'!Y11","v":0},{"$f":"'Data Feed'!Z11","v":0},{"$f":"'Data Feed'!AA11","v":0},{"$f":"'Data Feed'!AB11","v":0},{"$f":"'Data Feed'!AC11","v":0},{"$f":"'Data Feed'!AD11","v":0},{"$f":"'Data Feed'!AE11","v":0},{"$f":"'Data Feed'!AF11","v":0},{"$f":"'Data Feed'!AG11","v":0},{"$f":"'Data Feed'!AH11","v":0},{"$f":"'Data Feed'!AI11","v":0}]
[{"$f":"B10&\"_\"&COUNTIF($B$1:B10,B10)","v":"0_7"},{"$f":"'Data Feed'!J12","v":0},{"$f":"'Data Feed'!B12","v":0},{"$f":"'Data Feed'!C12","v":0},{"$f":"'Data Feed'!D12","v":0},{"$f":"'Data Feed'!E12","v":0},{"$f":"'Data Feed'!F12","v":0},{"$f":"'Data Feed'!G12","v":0},{"$f":"'Data Feed'!H12","v":0},{"$f":"'Data Feed'!I12","v":0},{"$f":"'Data Feed'!J12","v":0},{"$f":"'Data Feed'!K12","v":0},{"$f":"'Data Feed'!L12","v":0},{"$f":"'Data Feed'!M12","v":0},{"$f":"'Data Feed'!N12","v":0},{"$f":"'Data Feed'!O12","v":0},{"$f":"'Data Feed'!P12","v":0},{"$f":"'Data Feed'!Q12","v":0},{"$f":"'Data Feed'!R12","v":0},{"$f":"'Data Feed'!S12","v":0},{"$f":"'Data Feed'!T12","v":0},{"$f":"'Data Feed'!U12","v":0},{"$f":"'Data Feed'!V12","v":0},{"$f":"'Data Feed'!W12","v":0},{"$f":"'Data Feed'!X12","v":0},{"$f":"'Data Feed'!Y12","v":0},{"$f":"'Data Feed'!Z12","v":0},{"$f":"'Data Feed'!AA12","v":0},{"$f":"'Data Feed'!AB12","v":0},{"$f":"'Data Feed'!AC12","v":0},{"$f":"'Data Feed'!AD12","v":0},{"$f":"'Data Feed'!AE12","v":0},{"$f":"'Data Feed'!AF12","v":0},{"$f":"'Data Feed'!AG12","v":0},{"$f":"'Data Feed'!AH12","v":0},{"$f":"'Data Feed'!AI12","v":0}]
[{"$f":"B11&\"_\"&COUNTIF($B$1:B11,B11)","v":"0_8"},{"$f":"'Data Feed'!J13","v":0},{"$f":"'Data Feed'!B13","v":0},{"$f":"'Data Feed'!C13","v":0},{"$f":"'Data Feed'!D13","v":0},{"$f":"'Data Feed'!E13","v":0},{"$f":"'Data Feed'!F13","v":0},{"$f":"'Data Feed'!G13","v":0},{"$f":"'Data Feed'!H13","v":0},{"$f":"'Data Feed'!I13","v":0},{"$f":"'Data Feed'!J13","v":0},{"$f":"'Data Feed'!K13","v":0},{"$f":"'Data Feed'!L13","v":0},{"$f":"'Data Feed'!M13","v":0},{"$f":"'Data Feed'!N13","v":0},{"$f":"'Data Feed'!O13","v":0},{"$f":"'Data Feed'!P13","v":0},{"$f":"'Data Feed'!Q13","v":0},{"$f":"'Data Feed'!R13","v":0},{"$f":"'Data Feed'!S13","v":0},{"$f":"'Data Feed'!T13","v":0},{"$f":"'Data Feed'!U13","v":0},{"$f":"'Data Feed'!V13","v":0},{"$f":"'Data Feed'!W13","v":0},{"$f":"'Data Feed'!X13","v":0},{"$f":"'Data Feed'!Y13","v":0},{"$f":"'Data Feed'!Z13","v":0},{"$f":"'Data Feed'!AA13","v":0},{"$f":"'Data Feed'!AB13","v":0},{"$f":"'Data Feed'!AC13","v":0},{"$f":"'Data Feed'!AD13","v":0},{"$f":"'Data Feed'!AE13","v":0},{"$f":"'Data Feed'!AF13","v":0},{"$f":"'Data Feed'!AG13","v":0},{"$f":"'Data Feed'!AH13","v":0},{"$f":"'Data Feed'!AI13","v":0}]
[{"$f":"B12&\"_\"&COUNTIF($B$1:B12,B12)","v":"0_9"},{"$f":"'Data Feed'!J14","v":0},{"$f":"'Data Feed'!B14","v":0},{"$f":"'Data Feed'!C14","v":0},{"$f":"'Data Feed'!D14","v":0},{"$f":"'Data Feed'!E14","v":0},{"$f":"'Data Feed'!F14","v":0},{"$f":"'Data Feed'!G14","v":0},{"$f":"'Data Feed'!H14","v":0},{"$f":"'Data Feed'!I14","v":0},{"$f":"'Data Feed'!J14","v":0},{"$f":"'Data Feed'!K14","v":0},{"$f":"'Data Feed'!L14","v":0},{"$f":"'Data Feed'!M14","v":0},{"$f":"'Data Feed'!N14","v":0},{"$f":"'Data Feed'!O14","v":0},{"$f":"'Data Feed'!P14","v":0},{"$f":"'Data Feed'!Q14","v":0},{"$f":"'Data Feed'!R14","v":0},{"$f":"'Data Feed'!S14","v":0},{"$f":"'Data Feed'!T14","v":0},{"$f":"'Data Feed'!U14","v":0},{"$f":"'Data Feed'!V14","v":0},{"$f":"'Data Feed'!W14","v":0},{"$f":"'Data Feed'!X14","v":0},{"$f":"'Data Feed'!Y14","v":0},{"$f":"'Data Feed'!Z14","v":0},{"$f":"'Data Feed'!AA14","v":0},{"$f":"'Data Feed'!AB14","v":0},{"$f":"'Data Feed'!AC14","v":0},{"$f":"'Data Feed'!AD14","v":0},{"$f":"'Data Feed'!AE14","v":0},{"$f":"'Data Feed'!AF14","v":0},{"$f":"'Data Feed'!AG14","v":0},{"$f":"'Data Feed'!AH14","v":0},{"$f":"'Data Feed'!AI14","v":0}]
[{"$f":"B13&\"_\"&COUNTIF($B$1:B13,B13)","v":"0_10"},{"$f":"'Data Feed'!J15","v":0},{"$f":"'Data Feed'!B15","v":0},{"$f":"'Data Feed'!C15","v":0},{"$f":"'Data Feed'!D15","v":0},{"$f":"'Data Feed'!E15","v":0},{"$f":"'Data Feed'!F15","v":0},{"$f":"'Data Feed'!G15","v":0},{"$f":"'Data Feed'!H15","v":0},{"$f":"'Data Feed'!I15","v":0},{"$f":"'Data Feed'!J15","v":0},{"$f":"'Data Feed'!K15","v":0},{"$f":"'Data Feed'!L15","v":0},{"$f":"'Data Feed'!M15","v":0},{"$f":"'Data Feed'!N15","v":0},{"$f":"'Data Feed'!O15","v":0},{"$f":"'Data Feed'!P15","v":0},{"$f":"'Data Feed'!Q15","v":0},{"$f":"'Data Feed'!R15","v":0},{"$f":"'Data Feed'!S15","v":0},{"$f":"'Data Feed'!T15","v":0},{"$f":"'Data Feed'!U15","v":0},{"$f":"'Data Feed'!V15","v":0},{"$f":"'Data Feed'!W15","v":0},{"$f":"'Data Feed'!X15","v":0},{"$f":"'Data Feed'!Y15","v":0},{"$f":"'Data Feed'!Z15","v":0},{"$f":"'Data Feed'!AA15","v":0},{"$f":"'Data Feed'!AB15","v":0},{"$f":"'Data Feed'!AC15","v":0},{"$f":"'Data Feed'!AD15","v":0},{"$f":"'Data Feed'!AE15","v":0},{"$f":"'Data Feed'!AF15","v":0},{"$f":"'Data Feed'!AG15","v":0},{"$f":"'Data Feed'!AH15","v":0},{"$f":"'Data Feed'!AI15","v":0}]
[{"$f":"B14&\"_\"&COUNTIF($B$1:B14,B14)","v":"0_11"},{"$f":"'Data Feed'!J16","v":0},{"$f":"'Data Feed'!B16","v":0},{"$f":"'Data Feed'!C16","v":0},{"$f":"'Data Feed'!D16","v":0},{"$f":"'Data Feed'!E16","v":0},{"$f":"'Data Feed'!F16","v":0},{"$f":"'Data Feed'!G16","v":0},{"$f":"'Data Feed'!H16","v":0},{"$f":"'Data Feed'!I16","v":0},{"$f":"'Data Feed'!J16","v":0},{"$f":"'Data Feed'!K16","v":0},{"$f":"'Data Feed'!L16","v":0},{"$f":"'Data Feed'!M16","v":0},{"$f":"'Data Feed'!N16","v":0},{"$f":"'Data Feed'!O16","v":0},{"$f":"'Data Feed'!P16","v":0},{"$f":"'Data Feed'!Q16","v":0},{"$f":"'Data Feed'!R16","v":0},{"$f":"'Data Feed'!S16","v":0},{"$f":"'Data Feed'!T16","v":0},{"$f":"'Data Feed'!U16","v":0},{"$f":"'Data Feed'!V16","v":0},{"$f":"'Data Feed'!W16","v":0},{"$f":"'Data Feed'!X16","v":0},{"$f":"'Data Feed'!Y16","v":0},{"$f":"'Data Feed'!Z16","v":0},{"$f":"'Data Feed'!AA16","v":0},{"$f":"'Data Feed'!AB16","v":0},{"$f":"'Data Feed'!AC16","v":0},{"$f":"'Data Feed'!AD16","v":0},{"$f":"'Data Feed'!AE16","v":0},{"$f":"'Data Feed'!AF16","v":0},{"$f":"'Data Feed'!AG16","v":0},{"$f":"'Data Feed'!AH16","v":0},{"$f":"'Data Feed'!AI16","v":0}]
[{"$f":"B15&\"_\"&COUNTIF($B$1:B15,B15)","v":"0_12"},{"$f":"'Data Feed'!J17","v":0},{"$f":"'Data Feed'!B17","v":0},{"$f":"'Data Feed'!C17","v":0},{"$f":"'Data Feed'!D17","v":0},{"$f":"'Data Feed'!E17","v":0},{"$f":"'Data Feed'!F17","v":0},{"$f":"'Data Feed'!G17","v":0},{"$f":"'Data Feed'!H17","v":0},{"$f":"'Data Feed'!I17","v":0},{"$f":"'Data Feed'!J17","v":0},{"$f":"'Data Feed'!K17","v":0},{"$f":"'Data Feed'!L17","v":0},{"$f":"'Data Feed'!M17","v":0},{"$f":"'Data Feed'!N17","v":0},{"$f":"'Data Feed'!O17","v":0},{"$f":"'Data Feed'!P17","v":0},{"$f":"'Data Feed'!Q17","v":0},{"$f":"'Data Feed'!R17","v":0},{"$f":"'Data Feed'!S17","v":0},{"$f":"'Data Feed'!T17","v":0},{"$f":"'Data Feed'!U17","v":0},{"$f":"'Data Feed'!V17","v":0},{"$f":"'Data Feed'!W17","v":0},{"$f":"'Data Feed'!X17","v":0},{"$f":"'Data Feed'!Y17","v":0},{"$f":"'Data Feed'!Z17","v":0},{"$f":"'Data Feed'!AA17","v":0},{"$f":"'Data Feed'!AB17","v":0},{"$f":"'Data Feed'!AC17","v":0},{"$f":"'Data Feed'!AD17","v":0},{"$f":"'Data Feed'!AE17","v":0},{"$f":"'Data Feed'!AF17","v":0},{"$f":"'Data Feed'!AG17","v":0},{"$f":"'Data Feed'!AH17","v":0},{"$f":"'Data Feed'!AI17","v":0}]
[{"$f":"B16&\"_\"&COUNTIF($B$1:B16,B16)","v":"0_13"},{"$f":"'Data Feed'!J18","v":0},{"$f":"'Data Feed'!B18","v":0},{"$f":"'Data Feed'!C18","v":0},{"$f":"'Data Feed'!D18","v":0},{"$f":"'Data Feed'!E18","v":0},{"$f":"'Data Feed'!F18","v":0},{"$f":"'Data Feed'!G18","v":0},{"$f":"'Data Feed'!H18","v":0},{"$f":"'Data Feed'!I18","v":0},{"$f":"'Data Feed'!J18","v":0},{"$f":"'Data Feed'!K18","v":0},{"$f":"'Data Feed'!L18","v":0},{"$f":"'Data Feed'!M18","v":0},{"$f":"'Data Feed'!N18","v":0},{"$f":"'Data Feed'!O18","v":0},{"$f":"'Data Feed'!P18","v":0},{"$f":"'Data Feed'!Q18","v":0},{"$f":"'Data Feed'!R18","v":0},{"$f":"'Data Feed'!S18","v":0},{"$f":"'Data Feed'!T18","v":0},{"$f":"'Data Feed'!U18","v":0},{"$f":"'Data Feed'!V18","v":0},{"$f":"'Data Feed'!W18","v":0},{"$f":"'Data Feed'!X18","v":0},{"$f":"'Data Feed'!Y18","v":0},{"$f":"'Data Feed'!Z18","v":0},{"$f":"'Data Feed'!AA18","v":0},{"$f":"'Data Feed'!AB18","v":0},{"$f":"'Data Feed'!AC18","v":0},{"$f":"'Data Feed'!AD18","v":0},{"$f":"'Data Feed'!AE18","v":0},{"$f":"'Data Feed'!AF18","v":0},{"$f":"'Data Feed'!AG18","v":0},{"$f":"'Data Feed'!AH18","v":0},{"$f":"'Data Feed'!AI18","v":0}]
[{"$f":"B17&\"_\"&COUNTIF($B$1:B17,B17)","v":"0_14"},{"$f":"'Data Feed'!J19","v":0},{"$f":"'Data Feed'!B19","v":0},{"$f":"'Data Feed'!C19","v":0},{"$f":"'Data Feed'!D19","v":0},{"$f":"'Data Feed'!E19","v":0},{"$f":"'Data Feed'!F19","v":0},{"$f":"'Data Feed'!G19","v":0},{"$f":"'Data Feed'!H19","v":0},{"$f":"'Data Feed'!I19","v":0},{"$f":"'Data Feed'!J19","v":0},{"$f":"'Data Feed'!K19","v":0},{"$f":"'Data Feed'!L19","v":0},{"$f":"'Data Feed'!M19","v":0},{"$f":"'Data Feed'!N19","v":0},{"$f":"'Data Feed'!O19","v":0},{"$f":"'Data Feed'!P19","v":0},{"$f":"'Data Feed'!Q19","v":0},{"$f":"'Data Feed'!R19","v":0},{"$f":"'Data Feed'!S19","v":0},{"$f":"'Data Feed'!T19","v":0},{"$f":"'Data Feed'!U19","v":0},{"$f":"'Data Feed'!V19","v":0},{"$f":"'Data Feed'!W19","v":0},{"$f":"'Data Feed'!X19","v":0},{"$f":"'Data Feed'!Y19","v":0},{"$f":"'Data Feed'!Z19","v":0},{"$f":"'Data Feed'!AA19","v":0},{"$f":"'Data Feed'!AB19","v":0},{"$f":"'Data Feed'!AC19","v":0},{"$f":"'Data Feed'!AD19","v":0},{"$f":"'Data Feed'!AE19","v":0},{"$f":"'Data Feed'!AF19","v":0},{"$f":"'Data Feed'!AG19","v":0},{"$f":"'Data Feed'!AH19","v":0},{"$f":"'Data Feed'!AI19","v":0}]
[{"$f":"B18&\"_\"&COUNTIF($B$1:B18,B18)","v":"0_15"},{"$f":"'Data Feed'!J20","v":0},{"$f":"'Data Feed'!B20","v":0},{"$f":"'Data Feed'!C20","v":0},{"$f":"'Data Feed'!D20","v":0},{"$f":"'Data Feed'!E20","v":0},{"$f":"'Data Feed'!F20","v":0},{"$f":"'Data Feed'!G20","v":0},{"$f":"'Data Feed'!H20","v":0},{"$f":"'Data Feed'!I20","v":0},{"$f":"'Data Feed'!J20","v":0},{"$f":"'Data Feed'!K20","v":0},{"$f":"'Data Feed'!L20","v":0},{"$f":"'Data Feed'!M20","v":0},{"$f":"'Data Feed'!N20","v":0},{"$f":"'Data Feed'!O20","v":0},{"$f":"'Data Feed'!P20","v":0},{"$f":"'Data Feed'!Q20","v":0},{"$f":"'Data Feed'!R20","v":0},{"$f":"'Data Feed'!S20","v":0},{"$f":"'Data Feed'!T20","v":0},{"$f":"'Data Feed'!U20","v":0},{"$f":"'Data Feed'!V20","v":0},{"$f":"'Data Feed'!W20","v":0},{"$f":"'Data Feed'!X20","v":0},{"$f":"'Data Feed'!Y20","v":0},{"$f":"'Data Feed'!Z20","v":0},{"$f":"'Data Feed'!AA20","v":0},{"$f":"'Data Feed'!AB20","v":0},{"$f":"'Data Feed'!AC20","v":0},{"$f":"'Data Feed'!AD20","v":0},{"$f":"'Data Feed'!AE20","v":0},{"$f":"'Data Feed'!AF20","v":0},{"$f":"'Data Feed'!AG20","v":0},{"$f":"'Data Feed'!AH20","v":0},{"$f":"'Data Feed'!AI20","v":0}]
[{"$f":"B19&\"_\"&COUNTIF($B$1:B19,B19)","v":"0_16"},{"$f":"'Data Feed'!J21","v":0},{"$f":"'Data Feed'!B21","v":0},{"$f":"'Data Feed'!C21","v":0},{"$f":"'Data Feed'!D21","v":0},{"$f":"'Data Feed'!E21","v":0},{"$f":"'Data Feed'!F21","v":0},{"$f":"'Data Feed'!G21","v":0},{"$f":"'Data Feed'!H21","v":0},{"$f":"'Data Feed'!I21","v":0},{"$f":"'Data Feed'!J21","v":0},{"$f":"'Data Feed'!K21","v":0},{"$f":"'Data Feed'!L21","v":0},{"$f":"'Data Feed'!M21","v":0},{"$f":"'Data Feed'!N21","v":0},{"$f":"'Data Feed'!O21","v":0},{"$f":"'Data Feed'!P21","v":0},{"$f":"'Data Feed'!Q21","v":0},{"$f":"'Data Feed'!R21","v":0},{"$f":"'Data Feed'!S21","v":0},{"$f":"'Data Feed'!T21","v":0},{"$f":"'Data Feed'!U21","v":0},{"$f":"'Data Feed'!V21","v":0},{"$f":"'Data Feed'!W21","v":0},{"$f":"'Data Feed'!X21","v":0},{"$f":"'Data Feed'!Y21","v":0},{"$f":"'Data Feed'!Z21","v":0},{"$f":"'Data Feed'!AA21","v":0},{"$f":"'Data Feed'!AB21","v":0},{"$f":"'Data Feed'!AC21","v":0},{"$f":"'Data Feed'!AD21","v":0},{"$f":"'Data Feed'!AE21","v":0},{"$f":"'Data Feed'!AF21","v":0},{"$f":"'Data Feed'!AG21","v":0},{"$f":"'Data Feed'!AH21","v":0},{"$f":"'Data Feed'!AI21","v":0}]
[{"$f":"B20&\"_\"&COUNTIF($B$1:B20,B20)","v":"0_17"},{"$f":"'Data Feed'!J22","v":0},{"$f":"'Data Feed'!B22","v":0},{"$f":"'Data Feed'!C22","v":0},{"$f":"'Data Feed'!D22","v":0},{"$f":"'Data Feed'!E22","v":0},{"$f":"'Data Feed'!F22","v":0},{"$f":"'Data Feed'!G22","v":0},{"$f":"'Data Feed'!H22","v":0},{"$f":"'Data Feed'!I22","v":0},{"$f":"'Data Feed'!J22","v":0},{"$f":"'Data Feed'!K22","v":0},{"$f":"'Data Feed'!L22","v":0},{"$f":"'Data Feed'!M22","v":0},{"$f":"'Data Feed'!N22","v":0},{"$f":"'Data Feed'!O22","v":0},{"$f":"'Data Feed'!P22","v":0},{"$f":"'Data Feed'!Q22","v":0},{"$f":"'Data Feed'!R22","v":0},{"$f":"'Data Feed'!S22","v":0},{"$f":"'Data Feed'!T22","v":0},{"$f":"'Data Feed'!U22","v":0},{"$f":"'Data Feed'!V22","v":0},{"$f":"'Data Feed'!W22","v":0},{"$f":"'Data Feed'!X22","v":0},{"$f":"'Data Feed'!Y22","v":0},{"$f":"'Data Feed'!Z22","v":0},{"$f":"'Data Feed'!AA22","v":0},{"$f":"'Data Feed'!AB22","v":0},{"$f":"'Data Feed'!AC22","v":0},{"$f":"'Data Feed'!AD22","v":0},{"$f":"'Data Feed'!AE22","v":0},{"$f":"'Data Feed'!AF22","v":0},{"$f":"'Data Feed'!AG22","v":0},{"$f":"'Data Feed'!AH22","v":0},{"$f":"'Data Feed'!AI22","v":0}]
[{"$f":"B21&\"_\"&COUNTIF($B$1:B21,B21)","v":"0_18"},{"$f":"'Data Feed'!J23","v":0},{"$f":"'Data Feed'!B23","v":0},{"$f":"'Data Feed'!C23","v":0},{"$f":"'Data Feed'!D23","v":0},{"$f":"'Data Feed'!E23","v":0},{"$f":"'Data Feed'!F23","v":0},{"$f":"'Data Feed'!G23","v":0},{"$f":"'Data Feed'!H23","v":0},{"$f":"'Data Feed'!I23","v":0},{"$f":"'Data Feed'!J23","v":0},{"$f":"'Data Feed'!K23","v":0},{"$f":"'Data Feed'!L23","v":0},{"$f":"'Data Feed'!M23","v":0},{"$f":"'Data Feed'!N23","v":0},{"$f":"'Data Feed'!O23","v":0},{"$f":"'Data Feed'!P23","v":0},{"$f":"'Data Feed'!Q23","v":0},{"$f":"'Data Feed'!R23","v":0},{"$f":"'Data Feed'!S23","v":0},{"$f":"'Data Feed'!T23","v":0},{"$f":"'Data Feed'!U23","v":0},{"$f":"'Data Feed'!V23","v":0},{"$f":"'Data Feed'!W23","v":0},{"$f":"'Data Feed'!X23","v":0},{"$f":"'Data Feed'!Y23","v":0},{"$f":"'Data Feed'!Z23","v":0},{"$f":"'Data Feed'!AA23","v":0},{"$f":"'Data Feed'!AB23","v":0},{"$f":"'Data Feed'!AC23","v":0},{"$f":"'Data Feed'!AD23","v":0},{"$f":"'Data Feed'!AE23","v":0},{"$f":"'Data Feed'!AF23","v":0},{"$f":"'Data Feed'!AG23","v":0},{"$f":"'Data Feed'!AH23","v":0},{"$f":"'Data Feed'!AI23","v":0}]
[{"$f":"B22&\"_\"&COUNTIF($B$1:B22,B22)","v":"0_19"},{"$f":"'Data Feed'!J24","v":0},{"$f":"'Data Feed'!B24","v":0},{"$f":"'Data Feed'!C24","v":0},{"$f":"'Data Feed'!D24","v":0},{"$f":"'Data Feed'!E24","v":0},{"$f":"'Data Feed'!F24","v":0},{"$f":"'Data Feed'!G24","v":0},{"$f":"'Data Feed'!H24","v":0},{"$f":"'Data Feed'!I24","v":0},{"$f":"'Data Feed'!J24","v":0},{"$f":"'Data Feed'!K24","v":0},{"$f":"'Data Feed'!L24","v":0},{"$f":"'Data Feed'!M24","v":0},{"$f":"'Data Feed'!N24","v":0},{"$f":"'Data Feed'!O24","v":0},{"$f":"'Data Feed'!P24","v":0},{"$f":"'Data Feed'!Q24","v":0},{"$f":"'Data Feed'!R24","v":0},{"$f":"'Data Feed'!S24","v":0},{"$f":"'Data Feed'!T24","v":0},{"$f":"'Data Feed'!U24","v":0},{"$f":"'Data Feed'!V24","v":0},{"$f":"'Data Feed'!W24","v":0},{"$f":"'Data Feed'!X24","v":0},{"$f":"'Data Feed'!Y24","v":0},{"$f":"'Data Feed'!Z24","v":0},{"$f":"'Data Feed'!AA24","v":0},{"$f":"'Data Feed'!AB24","v":0},{"$f":"'Data Feed'!AC24","v":0},{"$f":"'Data Feed'!AD24","v":0},{"$f":"'Data Feed'!AE24","v":0},{"$f":"'Data Feed'!AF24","v":0},{"$f":"'Data Feed'!AG24","v":0},{"$f":"'Data Feed'!AH24","v":0},{"$f":"'Data Feed'!AI24","v":0}]
[{"$f":"B23&\"_\"&COUNTIF($B$1:B23,B23)","v":"0_20"},{"$f":"'Data Feed'!J25","v":0},{"$f":"'Data Feed'!B25","v":0},{"$f":"'Data Feed'!C25","v":0},{"$f":"'Data Feed'!D25","v":0},{"$f":"'Data Feed'!E25","v":0},{"$f":"'Data Feed'!F25","v":0},{"$f":"'Data Feed'!G25","v":0},{"$f":"'Data Feed'!H25","v":0},{"$f":"'Data Feed'!I25","v":0},{"$f":"'Data Feed'!J25","v":0},{"$f":"'Data Feed'!K25","v":0},{"$f":"'Data Feed'!L25","v":0},{"$f":"'Data Feed'!M25","v":0},{"$f":"'Data Feed'!N25","v":0},{"$f":"'Data Feed'!O25","v":0},{"$f":"'Data Feed'!P25","v":0},{"$f":"'Data Feed'!Q25","v":0},{"$f":"'Data Feed'!R25","v":0},{"$f":"'Data Feed'!S25","v":0},{"$f":"'Data Feed'!T25","v":0},{"$f":"'Data Feed'!U25","v":0},{"$f":"'Data Feed'!V25","v":0},{"$f":"'Data Feed'!W25","v":0},{"$f":"'Data Feed'!X25","v":0},{"$f":"'Data Feed'!Y25","v":0},{"$f":"'Data Feed'!Z25","v":0},{"$f":"'Data Feed'!AA25","v":0},{"$f":"'Data Feed'!AB25","v":0},{"$f":"'Data Feed'!AC25","v":0},{"$f":"'Data Feed'!AD25","v":0},{"$f":"'Data Feed'!AE25","v":0},{"$f":"'Data Feed'!AF25","v":0},{"$f":"'Data Feed'!AG25","v":0},{"$f":"'Data Feed'!AH25","v":0},{"$f":"'Data Feed'!AI25","v":0}]
[{"$f":"B24&\"_\"&COUNTIF($B$1:B24,B24)","v":"0_21"},{"$f":"'Data Feed'!J26","v":0},{"$f":"'Data Feed'!B26","v":0},{"$f":"'Data Feed'!C26","v":0},{"$f":"'Data Feed'!D26","v":0},{"$f":"'Data Feed'!E26","v":0},{"$f":"'Data Feed'!F26","v":0},{"$f":"'Data Feed'!G26","v":0},{"$f":"'Data Feed'!H26","v":0},{"$f":"'Data Feed'!I26","v":0},{"$f":"'Data Feed'!J26","v":0},{"$f":"'Data Feed'!K26","v":0},{"$f":"'Data Feed'!L26","v":0},{"$f":"'Data Feed'!M26","v":0},{"$f":"'Data Feed'!N26","v":0},{"$f":"'Data Feed'!O26","v":0},{"$f":"'Data Feed'!P26","v":0},{"$f":"'Data Feed'!Q26","v":0},{"$f":"'Data Feed'!R26","v":0},{"$f":"'Data Feed'!S26","v":0},{"$f":"'Data Feed'!T26","v":0},{"$f":"'Data Feed'!U26","v":0},{"$f":"'Data Feed'!V26","v":0},{"$f":"'Data Feed'!W26","v":0},{"$f":"'Data Feed'!X26","v":0},{"$f":"'Data Feed'!Y26","v":0},{"$f":"'Data Feed'!Z26","v":0},{"$f":"'Data Feed'!AA26","v":0},{"$f":"'Data Feed'!AB26","v":0},{"$f":"'Data Feed'!AC26","v":0},{"$f":"'Data Feed'!AD26","v":0},{"$f":"'Data Feed'!AE26","v":0},{"$f":"'Data Feed'!AF26","v":0},{"$f":"'Data Feed'!AG26","v":0},{"$f":"'Data Feed'!AH26","v":0},{"$f":"'Data Feed'!AI26","v":0}]
[{"$f":"B25&\"_\"&COUNTIF($B$1:B25,B25)","v":"0_22"},{"$f":"'Data Feed'!J27","v":0},{"$f":"'Data Feed'!B27","v":0},{"$f":"'Data Feed'!C27","v":0},{"$f":"'Data Feed'!D27","v":0},{"$f":"'Data Feed'!E27","v":0},{"$f":"'Data Feed'!F27","v":0},{"$f":"'Data Feed'!G27","v":0},{"$f":"'Data Feed'!H27","v":0},{"$f":"'Data Feed'!I27","v":0},{"$f":"'Data Feed'!J27","v":0},{"$f":"'Data Feed'!K27","v":0},{"$f":"'Data Feed'!L27","v":0},{"$f":"'Data Feed'!M27","v":0},{"$f":"'Data Feed'!N27","v":0},{"$f":"'Data Feed'!O27","v":0},{"$f":"'Data Feed'!P27","v":0},{"$f":"'Data Feed'!Q27","v":0},{"$f":"'Data Feed'!R27","v":0},{"$f":"'Data Feed'!S27","v":0},{"$f":"'Data Feed'!T27","v":0},{"$f":"'Data Feed'!U27","v":0},{"$f":"'Data Feed'!V27","v":0},{"$f":"'Data Feed'!W27","v":0},{"$f":"'Data Feed'!X27","v":0},{"$f":"'Data Feed'!Y27","v":0},{"$f":"'Data Feed'!Z27","v":0},{"$f":"'Data Feed'!AA27","v":0},{"$f":"'Data Feed'!AB27","v":0},{"$f":"'Data Feed'!AC27","v":0},{"$f":"'Data Feed'!AD27","v":0},{"$f":"'Data Feed'!AE27","v":0},{"$f":"'Data Feed'!AF27","v":0},{"$f":"'Data Feed'!AG27","v":0},{"$f":"'Data Feed'!AH27","v":0},{"$f":"'Data Feed'!AI27","v":0}]
[{"$f":"B26&\"_\"&COUNTIF($B$1:B26,B26)","v":"0_23"},{"$f":"'Data Feed'!J28","v":0},{"$f":"'Data Feed'!B28","v":0},{"$f":"'Data Feed'!C28","v":0},{"$f":"'Data Feed'!D28","v":0},{"$f":"'Data Feed'!E28","v":0},{"$f":"'Data Feed'!F28","v":0},{"$f":"'Data Feed'!G28","v":0},{"$f":"'Data Feed'!H28","v":0},{"$f":"'Data Feed'!I28","v":0},{"$f":"'Data Feed'!J28","v":0},{"$f":"'Data Feed'!K28","v":0},{"$f":"'Data Feed'!L28","v":0},{"$f":"'Data Feed'!M28","v":0},{"$f":"'Data Feed'!N28","v":0},{"$f":"'Data Feed'!O28","v":0},{"$f":"'Data Feed'!P28","v":0},{"$f":"'Data Feed'!Q28","v":0},{"$f":"'Data Feed'!R28","v":0},{"$f":"'Data Feed'!S28","v":0},{"$f":"'Data Feed'!T28","v":0},{"$f":"'Data Feed'!U28","v":0},{"$f":"'Data Feed'!V28","v":0},{"$f":"'Data Feed'!W28","v":0},{"$f":"'Data Feed'!X28","v":0},{"$f":"'Data Feed'!Y28","v":0},{"$f":"'Data Feed'!Z28","v":0},{"$f":"'Data Feed'!AA28","v":0},{"$f":"'Data Feed'!AB28","v":0},{"$f":"'Data Feed'!AC28","v":0},{"$f":"'Data Feed'!AD28","v":0},{"$f":"'Data Feed'!AE28","v":0},{"$f":"'Data Feed'!AF28","v":0},{"$f":"'Data Feed'!AG28","v":0},{"$f":"'Data Feed'!AH28","v":0},{"$f":"'Data Feed'!AI28","v":0}]
[{"$f":"B27&\"_\"&COUNTIF($B$1:B27,B27)","v":"0_24"},{"$f":"'Data Feed'!J29","v":0},{"$f":"'Data Feed'!B29","v":0},{"$f":"'Data Feed'!C29","v":0},{"$f":"'Data Feed'!D29","v":0},{"$f":"'Data Feed'!E29","v":0},{"$f":"'Data Feed'!F29","v":0},{"$f":"'Data Feed'!G29","v":0},{"$f":"'Data Feed'!H29","v":0},{"$f":"'Data Feed'!I29","v":0},{"$f":"'Data Feed'!J29","v":0},{"$f":"'Data Feed'!K29","v":0},{"$f":"'Data Feed'!L29","v":0},{"$f":"'Data Feed'!M29","v":0},{"$f":"'Data Feed'!N29","v":0},{"$f":"'Data Feed'!O29","v":0},{"$f":"'Data Feed'!P29","v":0},{"$f":"'Data Feed'!Q29","v":0},{"$f":"'Data Feed'!R29","v":0},{"$f":"'Data Feed'!S29","v":0},{"$f":"'Data Feed'!T29","v":0},{"$f":"'Data Feed'!U29","v":0},{"$f":"'Data Feed'!V29","v":0},{"$f":"'Data Feed'!W29","v":0},{"$f":"'Data Feed'!X29","v":0},{"$f":"'Data Feed'!Y29","v":0},{"$f":"'Data Feed'!Z29","v":0},{"$f":"'Data Feed'!AA29","v":0},{"$f":"'Data Feed'!AB29","v":0},{"$f":"'Data Feed'!AC29","v":0},{"$f":"'Data Feed'!AD29","v":0},{"$f":"'Data Feed'!AE29","v":0},{"$f":"'Data Feed'!AF29","v":0},{"$f":"'Data Feed'!AG29","v":0},{"$f":"'Data Feed'!AH29","v":0},{"$f":"'Data Feed'!AI29","v":0}]
[{"$f":"B28&\"_\"&COUNTIF($B$1:B28,B28)","v":"0_25"},{"$f":"'Data Feed'!J30","v":0},{"$f":"'Data Feed'!B30","v":0},{"$f":"'Data Feed'!C30","v":0},{"$f":"'Data Feed'!D30","v":0},{"$f":"'Data Feed'!E30","v":0},{"$f":"'Data Feed'!F30","v":0},{"$f":"'Data Feed'!G30","v":0},{"$f":"'Data Feed'!H30","v":0},{"$f":"'Data Feed'!I30","v":0},{"$f":"'Data Feed'!J30","v":0},{"$f":"'Data Feed'!K30","v":0},{"$f":"'Data Feed'!L30","v":0},{"$f":"'Data Feed'!M30","v":0},{"$f":"'Data Feed'!N30","v":0},{"$f":"'Data Feed'!O30","v":0},{"$f":"'Data Feed'!P30","v":0},{"$f":"'Data Feed'!Q30","v":0},{"$f":"'Data Feed'!R30","v":0},{"$f":"'Data Feed'!S30","v":0},{"$f":"'Data Feed'!T30","v":0},{"$f":"'Data Feed'!U30","v":0},{"$f":"'Data Feed'!V30","v":0},{"$f":"'Data Feed'!W30","v":0},{"$f":"'Data Feed'!X30","v":0},{"$f":"'Data Feed'!Y30","v":0},{"$f":"'Data Feed'!Z30","v":0},{"$f":"'Data Feed'!AA30","v":0},{"$f":"'Data Feed'!AB30","v":0},{"$f":"'Data Feed'!AC30","v":0},{"$f":"'Data Feed'!AD30","v":0},{"$f":"'Data Feed'!AE30","v":0},{"$f":"'Data Feed'!AF30","v":0},{"$f":"'Data Feed'!AG30","v":0},{"$f":"'Data Feed'!AH30","v":0},{"$f":"'Data Feed'!AI30","v":0}]
[{"$f":"B29&\"_\"&COUNTIF($B$1:B29,B29)","v":"0_26"},{"$f":"'Data Feed'!J31","v":0},{"$f":"'Data Feed'!B31","v":0},{"$f":"'Data Feed'!C31","v":0},{"$f":"'Data Feed'!D31","v":0},{"$f":"'Data Feed'!E31","v":0},{"$f":"'Data Feed'!F31","v":0},{"$f":"'Data Feed'!G31","v":0},{"$f":"'Data Feed'!H31","v":0},{"$f":"'Data Feed'!I31","v":0},{"$f":"'Data Feed'!J31","v":0},{"$f":"'Data Feed'!K31","v":0},{"$f":"'Data Feed'!L31","v":0},{"$f":"'Data Feed'!M31","v":0},{"$f":"'Data Feed'!N31","v":0},{"$f":"'Data Feed'!O31","v":0},{"$f":"'Data Feed'!P31","v":0},{"$f":"'Data Feed'!Q31","v":0},{"$f":"'Data Feed'!R31","v":0},{"$f":"'Data Feed'!S31","v":0},{"$f":"'Data Feed'!T31","v":0},{"$f":"'Data Feed'!U31","v":0},{"$f":"'Data Feed'!V31","v":0},{"$f":"'Data Feed'!W31","v":0},{"$f":"'Data Feed'!X31","v":0},{"$f":"'Data Feed'!Y31","v":0},{"$f":"'Data Feed'!Z31","v":0},{"$f":"'Data Feed'!AA31","v":0},{"$f":"'Data Feed'!AB31","v":0},{"$f":"'Data Feed'!AC31","v":0},{"$f":"'Data Feed'!AD31","v":0},{"$f":"'Data Feed'!AE31","v":0},{"$f":"'Data Feed'!AF31","v":0},{"$f":"'Data Feed'!AG31","v":0},{"$f":"'Data Feed'!AH31","v":0},{"$f":"'Data Feed'!AI31","v":0}]
[{"$f":"B30&\"_\"&COUNTIF($B$1:B30,B30)","v":"0_27"},{"$f":"'Data Feed'!J32","v":0},{"$f":"'Data Feed'!B32","v":0},{"$f":"'Data Feed'!C32","v":0},{"$f":"'Data Feed'!D32","v":0},{"$f":"'Data Feed'!E32","v":0},{"$f":"'Data Feed'!F32","v":0},{"$f":"'Data Feed'!G32","v":0},{"$f":"'Data Feed'!H32","v":0},{"$f":"'Data Feed'!I32","v":0},{"$f":"'Data Feed'!J32","v":0},{"$f":"'Data Feed'!K32","v":0},{"$f":"'Data Feed'!L32","v":0},{"$f":"'Data Feed'!M32","v":0},{"$f":"'Data Feed'!N32","v":0},{"$f":"'Data Feed'!O32","v":0},{"$f":"'Data Feed'!P32","v":0},{"$f":"'Data Feed'!Q32","v":0},{"$f":"'Data Feed'!R32","v":0},{"$f":"'Data Feed'!S32","v":0},{"$f":"'Data Feed'!T32","v":0},{"$f":"'Data Feed'!U32","v":0},{"$f":"'Data Feed'!V32","v":0},{"$f":"'Data Feed'!W32","v":0},{"$f":"'Data Feed'!X32","v":0},{"$f":"'Data Feed'!Y32","v":0},{"$f":"'Data Feed'!Z32","v":0},{"$f":"'Data Feed'!AA32","v":0},{"$f":"'Data Feed'!AB32","v":0},{"$f":"'Data Feed'!AC32","v":0},{"$f":"'Data Feed'!AD32","v":0},{"$f":"'Data Feed'!AE32","v":0},{"$f":"'Data Feed'!AF32","v":0},{"$f":"'Data Feed'!AG32","v":0},{"$f":"'Data Feed'!AH32","v":0},{"$f":"'Data Feed'!AI32","v":0}]
[{"$f":"B31&\"_\"&COUNTIF($B$1:B31,B31)","v":"0_28"},{"$f":"'Data Feed'!J33","v":0},{"$f":"'Data Feed'!B33","v":0},{"$f":"'Data Feed'!C33","v":0},{"$f":"'Data Feed'!D33","v":0},{"$f":"'Data Feed'!E33","v":0},{"$f":"'Data Feed'!F33","v":0},{"$f":"'Data Feed'!G33","v":0},{"$f":"'Data Feed'!H33","v":0},{"$f":"'Data Feed'!I33","v":0},{"$f":"'Data Feed'!J33","v":0},{"$f":"'Data Feed'!K33","v":0},{"$f":"'Data Feed'!L33","v":0},{"$f":"'Data Feed'!M33","v":0},{"$f":"'Data Feed'!N33","v":0},{"$f":"'Data Feed'!O33","v":0},{"$f":"'Data Feed'!P33","v":0},{"$f":"'Data Feed'!Q33","v":0},{"$f":"'Data Feed'!R33","v":0},{"$f":"'Data Feed'!S33","v":0},{"$f":"'Data Feed'!T33","v":0},{"$f":"'Data Feed'!U33","v":0},{"$f":"'Data Feed'!V33","v":0},{"$f":"'Data Feed'!W33","v":0},{"$f":"'Data Feed'!X33","v":0},{"$f":"'Data Feed'!Y33","v":0},{"$f":"'Data Feed'!Z33","v":0},{"$f":"'Data Feed'!AA33","v":0},{"$f":"'Data Feed'!AB33","v":0},{"$f":"'Data Feed'!AC33","v":0},{"$f":"'Data Feed'!AD33","v":0},{"$f":"'Data Feed'!AE33","v":0},{"$f":"'Data Feed'!AF33","v":0},{"$f":"'Data Feed'!AG33","v":0},{"$f":"'Data Feed'!AH33","v":0},{"$f":"'Data Feed'!AI33","v":0}]
[{"$f":"B32&\"_\"&COUNTIF($B$1:B32,B32)","v":"0_29"},{"$f":"'Data Feed'!J34","v":0},{"$f":"'Data Feed'!B34","v":0},{"$f":"'Data Feed'!C34","v":0},{"$f":"'Data Feed'!D34","v":0},{"$f":"'Data Feed'!E34","v":0},{"$f":"'Data Feed'!F34","v":0},{"$f":"'Data Feed'!G34","v":0},{"$f":"'Data Feed'!H34","v":0},{"$f":"'Data Feed'!I34","v":0},{"$f":"'Data Feed'!J34","v":0},{"$f":"'Data Feed'!K34","v":0},{"$f":"'Data Feed'!L34","v":0},{"$f":"'Data Feed'!M34","v":0},{"$f":"'Data Feed'!N34","v":0},{"$f":"'Data Feed'!O34","v":0},{"$f":"'Data Feed'!P34","v":0},{"$f":"'Data Feed'!Q34","v":0},{"$f":"'Data Feed'!R34","v":0},{"$f":"'Data Feed'!S34","v":0},{"$f":"'Data Feed'!T34","v":0},{"$f":"'Data Feed'!U34","v":0},{"$f":"'Data Feed'!V34","v":0},{"$f":"'Data Feed'!W34","v":0},{"$f":"'Data Feed'!X34","v":0},{"$f":"'Data Feed'!Y34","v":0},{"$f":"'Data Feed'!Z34","v":0},{"$f":"'Data Feed'!AA34","v":0},{"$f":"'Data Feed'!AB34","v":0},{"$f":"'Data Feed'!AC34","v":0},{"$f":"'Data Feed'!AD34","v":0},{"$f":"'Data Feed'!AE34","v":0},{"$f":"'Data Feed'!AF34","v":0},{"$f":"'Data Feed'!AG34","v":0},{"$f":"'Data Feed'!AH34","v":0},{"$f":"'Data Feed'!AI34","v":0}]
[{"$f":"B33&\"_\"&COUNTIF($B$1:B33,B33)","v":"0_30"},{"$f":"'Data Feed'!J35","v":0},{"$f":"'Data Feed'!B35","v":0},{"$f":"'Data Feed'!C35","v":0},{"$f":"'Data Feed'!D35","v":0},{"$f":"'Data Feed'!E35","v":0},{"$f":"'Data Feed'!F35","v":0},{"$f":"'Data Feed'!G35","v":0},{"$f":"'Data Feed'!H35","v":0},{"$f":"'Data Feed'!I35","v":0},{"$f":"'Data Feed'!J35","v":0},{"$f":"'Data Feed'!K35","v":0},{"$f":"'Data Feed'!L35","v":0},{"$f":"'Data Feed'!M35","v":0},{"$f":"'Data Feed'!N35","v":0},{"$f":"'Data Feed'!O35","v":0},{"$f":"'Data Feed'!P35","v":0},{"$f":"'Data Feed'!Q35","v":0},{"$f":"'Data Feed'!R35","v":0},{"$f":"'Data Feed'!S35","v":0},{"$f":"'Data Feed'!T35","v":0},{"$f":"'Data Feed'!U35","v":0},{"$f":"'Data Feed'!V35","v":0},{"$f":"'Data Feed'!W35","v":0},{"$f":"'Data Feed'!X35","v":0},{"$f":"'Data Feed'!Y35","v":0},{"$f":"'Data Feed'!Z35","v":0},{"$f":"'Data Feed'!AA35","v":0},{"$f":"'Data Feed'!AB35","v":0},{"$f":"'Data Feed'!AC35","v":0},{"$f":"'Data Feed'!AD35","v":0},{"$f":"'Data Feed'!AE35","v":0},{"$f":"'Data Feed'!AF35","v":0},{"$f":"'Data Feed'!AG35","v":0},{"$f":"'Data Feed'!AH35","v":0},{"$f":"'Data Feed'!AI35","v":0}]
[{"$f":"B34&\"_\"&COUNTIF($B$1:B34,B34)","v":"0_31"},{"$f":"'Data Feed'!J36","v":0},{"$f":"'Data Feed'!B36","v":0},{"$f":"'Data Feed'!C36","v":0},{"$f":"'Data Feed'!D36","v":0},{"$f":"'Data Feed'!E36","v":0},{"$f":"'Data Feed'!F36","v":0},{"$f":"'Data Feed'!G36","v":0},{"$f":"'Data Feed'!H36","v":0},{"$f":"'Data Feed'!I36","v":0},{"$f":"'Data Feed'!J36","v":0},{"$f":"'Data Feed'!K36","v":0},{"$f":"'Data Feed'!L36","v":0},{"$f":"'Data Feed'!M36","v":0},{"$f":"'Data Feed'!N36","v":0},{"$f":"'Data Feed'!O36","v":0},{"$f":"'Data Feed'!P36","v":0},{"$f":"'Data Feed'!Q36","v":0},{"$f":"'Data Feed'!R36","v":0},{"$f":"'Data Feed'!S36","v":0},{"$f":"'Data Feed'!T36","v":0},{"$f":"'Data Feed'!U36","v":0},{"$f":"'Data Feed'!V36","v":0},{"$f":"'Data Feed'!W36","v":0},{"$f":"'Data Feed'!X36","v":0},{"$f":"'Data Feed'!Y36","v":0},{"$f":"'Data Feed'!Z36","v":0},{"$f":"'Data Feed'!AA36","v":0},{"$f":"'Data Feed'!AB36","v":0},{"$f":"'Data Feed'!AC36","v":0},{"$f":"'Data Feed'!AD36","v":0},{"$f":"'Data Feed'!AE36","v":0},{"$f":"'Data Feed'!AF36","v":0},{"$f":"'Data Feed'!AG36","v":0},{"$f":"'Data Feed'!AH36","v":0},{"$f":"'Data Feed'!AI36","v":0}]
[{"$f":"B35&\"_\"&COUNTIF($B$1:B35,B35)","v":"0_32"},{"$f":"'Data Feed'!J37","v":0},{"$f":"'Data Feed'!B37","v":0},{"$f":"'Data Feed'!C37","v":0},{"$f":"'Data Feed'!D37","v":0},{"$f":"'Data Feed'!E37","v":0},{"$f":"'Data Feed'!F37","v":0},{"$f":"'Data Feed'!G37","v":0},{"$f":"'Data Feed'!H37","v":0},{"$f":"'Data Feed'!I37","v":0},{"$f":"'Data Feed'!J37","v":0},{"$f":"'Data Feed'!K37","v":0},{"$f":"'Data Feed'!L37","v":0},{"$f":"'Data Feed'!M37","v":0},{"$f":"'Data Feed'!N37","v":0},{"$f":"'Data Feed'!O37","v":0},{"$f":"'Data Feed'!P37","v":0},{"$f":"'Data Feed'!Q37","v":0},{"$f":"'Data Feed'!R37","v":0},{"$f":"'Data Feed'!S37","v":0},{"$f":"'Data Feed'!T37","v":0},{"$f":"'Data Feed'!U37","v":0},{"$f":"'Data Feed'!V37","v":0},{"$f":"'Data Feed'!W37","v":0},{"$f":"'Data Feed'!X37","v":0},{"$f":"'Data Feed'!Y37","v":0},{"$f":"'Data Feed'!Z37","v":0},{"$f":"'Data Feed'!AA37","v":0},{"$f":"'Data Feed'!AB37","v":0},{"$f":"'Data Feed'!AC37","v":0},{"$f":"'Data Feed'!AD37","v":0},{"$f":"'Data Feed'!AE37","v":0},{"$f":"'Data Feed'!AF37","v":0},{"$f":"'Data Feed'!AG37","v":0},{"$f":"'Data Feed'!AH37","v":0},{"$f":"'Data Feed'!AI37","v":0}]
[{"$f":"B36&\"_\"&COUNTIF($B$1:B36,B36)","v":"0_33"},{"$f":"'Data Feed'!J38","v":0},{"$f":"'Data Feed'!B38","v":0},{"$f":"'Data Feed'!C38","v":0},{"$f":"'Data Feed'!D38","v":0},{"$f":"'Data Feed'!E38","v":0},{"$f":"'Data Feed'!F38","v":0},{"$f":"'Data Feed'!G38","v":0},{"$f":"'Data Feed'!H38","v":0},{"$f":"'Data Feed'!I38","v":0},{"$f":"'Data Feed'!J38","v":0},{"$f":"'Data Feed'!K38","v":0},{"$f":"'Data Feed'!L38","v":0},{"$f":"'Data Feed'!M38","v":0},{"$f":"'Data Feed'!N38","v":0},{"$f":"'Data Feed'!O38","v":0},{"$f":"'Data Feed'!P38","v":0},{"$f":"'Data Feed'!Q38","v":0},{"$f":"'Data Feed'!R38","v":0},{"$f":"'Data Feed'!S38","v":0},{"$f":"'Data Feed'!T38","v":0},{"$f":"'Data Feed'!U38","v":0},{"$f":"'Data Feed'!V38","v":0},{"$f":"'Data Feed'!W38","v":0},{"$f":"'Data Feed'!X38","v":0},{"$f":"'Data Feed'!Y38","v":0},{"$f":"'Data Feed'!Z38","v":0},{"$f":"'Data Feed'!AA38","v":0},{"$f":"'Data Feed'!AB38","v":0},{"$f":"'Data Feed'!AC38","v":0},{"$f":"'Data Feed'!AD38","v":0},{"$f":"'Data Feed'!AE38","v":0},{"$f":"'Data Feed'!AF38","v":0},{"$f":"'Data Feed'!AG38","v":0},{"$f":"'Data Feed'!AH38","v":0},{"$f":"'Data Feed'!AI38","v":0}]
[{"$f":"B37&\"_\"&COUNTIF($B$1:B37,B37)","v":"0_34"},{"$f":"'Data Feed'!J39","v":0},{"$f":"'Data Feed'!B39","v":0},{"$f":"'Data Feed'!C39","v":0},{"$f":"'Data Feed'!D39","v":0},{"$f":"'Data Feed'!E39","v":0},{"$f":"'Data Feed'!F39","v":0},{"$f":"'Data Feed'!G39","v":0},{"$f":"'Data Feed'!H39","v":0},{"$f":"'Data Feed'!I39","v":0},{"$f":"'Data Feed'!J39","v":0},{"$f":"'Data Feed'!K39","v":0},{"$f":"'Data Feed'!L39","v":0},{"$f":"'Data Feed'!M39","v":0},{"$f":"'Data Feed'!N39","v":0},{"$f":"'Data Feed'!O39","v":0},{"$f":"'Data Feed'!P39","v":0},{"$f":"'Data Feed'!Q39","v":0},{"$f":"'Data Feed'!R39","v":0},{"$f":"'Data Feed'!S39","v":0},{"$f":"'Data Feed'!T39","v":0},{"$f":"'Data Feed'!U39","v":0},{"$f":"'Data Feed'!V39","v":0},{"$f":"'Data Feed'!W39","v":0},{"$f":"'Data Feed'!X39","v":0},{"$f":"'Data Feed'!Y39","v":0},{"$f":"'Data Feed'!Z39","v":0},{"$f":"'Data Feed'!AA39","v":0},{"$f":"'Data Feed'!AB39","v":0},{"$f":"'Data Feed'!AC39","v":0},{"$f":"'Data Feed'!AD39","v":0},{"$f":"'Data Feed'!AE39","v":0},{"$f":"'Data Feed'!AF39","v":0},{"$f":"'Data Feed'!AG39","v":0},{"$f":"'Data Feed'!AH39","v":0},{"$f":"'Data Feed'!AI39","v":0}]
[{"$f":"B38&\"_\"&COUNTIF($B$1:B38,B38)","v":"0_35"},{"$f":"'Data Feed'!J40","v":0},{"$f":"'Data Feed'!B40","v":0},{"$f":"'Data Feed'!C40","v":0},{"$f":"'Data Feed'!D40","v":0},{"$f":"'Data Feed'!E40","v":0},{"$f":"'Data Feed'!F40","v":0},{"$f":"'Data Feed'!G40","v":0},{"$f":"'Data Feed'!H40","v":0},{"$f":"'Data Feed'!I40","v":0},{"$f":"'Data Feed'!J40","v":0},{"$f":"'Data Feed'!K40","v":0},{"$f":"'Data Feed'!L40","v":0},{"$f":"'Data Feed'!M40","v":0},{"$f":"'Data Feed'!N40","v":0},{"$f":"'Data Feed'!O40","v":0},{"$f":"'Data Feed'!P40","v":0},{"$f":"'Data Feed'!Q40","v":0},{"$f":"'Data Feed'!R40","v":0},{"$f":"'Data Feed'!S40","v":0},{"$f":"'Data Feed'!T40","v":0},{"$f":"'Data Feed'!U40","v":0},{"$f":"'Data Feed'!V40","v":0},{"$f":"'Data Feed'!W40","v":0},{"$f":"'Data Feed'!X40","v":0},{"$f":"'Data Feed'!Y40","v":0},{"$f":"'Data Feed'!Z40","v":0},{"$f":"'Data Feed'!AA40","v":0},{"$f":"'Data Feed'!AB40","v":0},{"$f":"'Data Feed'!AC40","v":0},{"$f":"'Data Feed'!AD40","v":0},{"$f":"'Data Feed'!AE40","v":0},{"$f":"'Data Feed'!AF40","v":0},{"$f":"'Data Feed'!AG40","v":0},{"$f":"'Data Feed'!AH40","v":0},{"$f":"'Data Feed'!AI40","v":0}]
[{"$f":"B39&\"_\"&COUNTIF($B$1:B39,B39)","v":"0_36"},{"$f":"'Data Feed'!J41","v":0},{"$f":"'Data Feed'!B41","v":0},{"$f":"'Data Feed'!C41","v":0},{"$f":"'Data Feed'!D41","v":0},{"$f":"'Data Feed'!E41","v":0},{"$f":"'Data Feed'!F41","v":0},{"$f":"'Data Feed'!G41","v":0},{"$f":"'Data Feed'!H41","v":0},{"$f":"'Data Feed'!I41","v":0},{"$f":"'Data Feed'!J41","v":0},{"$f":"'Data Feed'!K41","v":0},{"$f":"'Data Feed'!L41","v":0},{"$f":"'Data Feed'!M41","v":0},{"$f":"'Data Feed'!N41","v":0},{"$f":"'Data Feed'!O41","v":0},{"$f":"'Data Feed'!P41","v":0},{"$f":"'Data Feed'!Q41","v":0},{"$f":"'Data Feed'!R41","v":0},{"$f":"'Data Feed'!S41","v":0},{"$f":"'Data Feed'!T41","v":0},{"$f":"'Data Feed'!U41","v":0},{"$f":"'Data Feed'!V41","v":0},{"$f":"'Data Feed'!W41","v":0},{"$f":"'Data Feed'!X41","v":0},{"$f":"'Data Feed'!Y41","v":0},{"$f":"'Data Feed'!Z41","v":0},{"$f":"'Data Feed'!AA41","v":0},{"$f":"'Data Feed'!AB41","v":0},{"$f":"'Data Feed'!AC41","v":0},{"$f":"'Data Feed'!AD41","v":0},{"$f":"'Data Feed'!AE41","v":0},{"$f":"'Data Feed'!AF41","v":0},{"$f":"'Data Feed'!AG41","v":0},{"$f":"'Data Feed'!AH41","v":0},{"$f":"'Data Feed'!AI41","v":0}]
[{"$f":"B40&\"_\"&COUNTIF($B$1:B40,B40)","v":"0_37"},{"$f":"'Data Feed'!J42","v":0},{"$f":"'Data Feed'!B42","v":0},{"$f":"'Data Feed'!C42","v":0},{"$f":"'Data Feed'!D42","v":0},{"$f":"'Data Feed'!E42","v":0},{"$f":"'Data Feed'!F42","v":0},{"$f":"'Data Feed'!G42","v":0},{"$f":"'Data Feed'!H42","v":0},{"$f":"'Data Feed'!I42","v":0},{"$f":"'Data Feed'!J42","v":0},{"$f":"'Data Feed'!K42","v":0},{"$f":"'Data Feed'!L42","v":0},{"$f":"'Data Feed'!M42","v":0},{"$f":"'Data Feed'!N42","v":0},{"$f":"'Data Feed'!O42","v":0},{"$f":"'Data Feed'!P42","v":0},{"$f":"'Data Feed'!Q42","v":0},{"$f":"'Data Feed'!R42","v":0},{"$f":"'Data Feed'!S42","v":0},{"$f":"'Data Feed'!T42","v":0},{"$f":"'Data Feed'!U42","v":0},{"$f":"'Data Feed'!V42","v":0},{"$f":"'Data Feed'!W42","v":0},{"$f":"'Data Feed'!X42","v":0},{"$f":"'Data Feed'!Y42","v":0},{"$f":"'Data Feed'!Z42","v":0},{"$f":"'Data Feed'!AA42","v":0},{"$f":"'Data Feed'!AB42","v":0},{"$f":"'Data Feed'!AC42","v":0},{"$f":"'Data Feed'!AD42","v":0},{"$f":"'Data Feed'!AE42","v":0},{"$f":"'Data Feed'!AF42","v":0},{"$f":"'Data Feed'!AG42","v":0},{"$f":"'Data Feed'!AH42","v":0},{"$f":"'Data Feed'!AI42","v":0}]
[{"$f":"B41&\"_\"&COUNTIF($B$1:B41,B41)","v":"0_38"},{"$f":"'Data Feed'!J43","v":0},{"$f":"'Data Feed'!B43","v":0},{"$f":"'Data Feed'!C43","v":0},{"$f":"'Data Feed'!D43","v":0},{"$f":"'Data Feed'!E43","v":0},{"$f":"'Data Feed'!F43","v":0},{"$f":"'Data Feed'!G43","v":0},{"$f":"'Data Feed'!H43","v":0},{"$f":"'Data Feed'!I43","v":0},{"$f":"'Data Feed'!J43","v":0},{"$f":"'Data Feed'!K43","v":0},{"$f":"'Data Feed'!L43","v":0},{"$f":"'Data Feed'!M43","v":0},{"$f":"'Data Feed'!N43","v":0},{"$f":"'Data Feed'!O43","v":0},{"$f":"'Data Feed'!P43","v":0},{"$f":"'Data Feed'!Q43","v":0},{"$f":"'Data Feed'!R43","v":0},{"$f":"'Data Feed'!S43","v":0},{"$f":"'Data Feed'!T43","v":0},{"$f":"'Data Feed'!U43","v":0},{"$f":"'Data Feed'!V43","v":0},{"$f":"'Data Feed'!W43","v":0},{"$f":"'Data Feed'!X43","v":0},{"$f":"'Data Feed'!Y43","v":0},{"$f":"'Data Feed'!Z43","v":0},{"$f":"'Data Feed'!AA43","v":0},{"$f":"'Data Feed'!AB43","v":0},{"$f":"'Data Feed'!AC43","v":0},{"$f":"'Data Feed'!AD43","v":0},{"$f":"'Data Feed'!AE43","v":0},{"$f":"'Data Feed'!AF43","v":0},{"$f":"'Data Feed'!AG43","v":0},{"$f":"'Data Feed'!AH43","v":0},{"$f":"'Data Feed'!AI43","v":0}]
[{"$f":"B42&\"_\"&COUNTIF($B$1:B42,B42)","v":"0_39"},{"$f":"'Data Feed'!J44","v":0},{"$f":"'Data Feed'!B44","v":0},{"$f":"'Data Feed'!C44","v":0},{"$f":"'Data Feed'!D44","v":0},{"$f":"'Data Feed'!E44","v":0},{"$f":"'Data Feed'!F44","v":0},{"$f":"'Data Feed'!G44","v":0},{"$f":"'Data Feed'!H44","v":0},{"$f":"'Data Feed'!I44","v":0},{"$f":"'Data Feed'!J44","v":0},{"$f":"'Data Feed'!K44","v":0},{"$f":"'Data Feed'!L44","v":0},{"$f":"'Data Feed'!M44","v":0},{"$f":"'Data Feed'!N44","v":0},{"$f":"'Data Feed'!O44","v":0},{"$f":"'Data Feed'!P44","v":0},{"$f":"'Data Feed'!Q44","v":0},{"$f":"'Data Feed'!R44","v":0},{"$f":"'Data Feed'!S44","v":0},{"$f":"'Data Feed'!T44","v":0},{"$f":"'Data Feed'!U44","v":0},{"$f":"'Data Feed'!V44","v":0},{"$f":"'Data Feed'!W44","v":0},{"$f":"'Data Feed'!X44","v":0},{"$f":"'Data Feed'!Y44","v":0},{"$f":"'Data Feed'!Z44","v":0},{"$f":"'Data Feed'!AA44","v":0},{"$f":"'Data Feed'!AB44","v":0},{"$f":"'Data Feed'!AC44","v":0},{"$f":"'Data Feed'!AD44","v":0},{"$f":"'Data Feed'!AE44","v":0},{"$f":"'Data Feed'!AF44","v":0},{"$f":"'Data Feed'!AG44","v":0},{"$f":"'Data Feed'!AH44","v":0},{"$f":"'Data Feed'!AI44","v":0}]
[{"$f":"B43&\"_\"&COUNTIF($B$1:B43,B43)","v":"0_40"},{"$f":"'Data Feed'!J45","v":0},{"$f":"'Data Feed'!B45","v":0},{"$f":"'Data Feed'!C45","v":0},{"$f":"'Data Feed'!D45","v":0},{"$f":"'Data Feed'!E45","v":0},{"$f":"'Data Feed'!F45","v":0},{"$f":"'Data Feed'!G45","v":0},{"$f":"'Data Feed'!H45","v":0},{"$f":"'Data Feed'!I45","v":0},{"$f":"'Data Feed'!J45","v":0},{"$f":"'Data Feed'!K45","v":0},{"$f":"'Data Feed'!L45","v":0},{"$f":"'Data Feed'!M45","v":0},{"$f":"'Data Feed'!N45","v":0},{"$f":"'Data Feed'!O45","v":0},{"$f":"'Data Feed'!P45","v":0},{"$f":"'Data Feed'!Q45","v":0},{"$f":"'Data Feed'!R45","v":0},{"$f":"'Data Feed'!S45","v":0},{"$f":"'Data Feed'!T45","v":0},{"$f":"'Data Feed'!U45","v":0},{"$f":"'Data Feed'!V45","v":0},{"$f":"'Data Feed'!W45","v":0},{"$f":"'Data Feed'!X45","v":0},{"$f":"'Data Feed'!Y45","v":0},{"$f":"'Data Feed'!Z45","v":0},{"$f":"'Data Feed'!AA45","v":0},{"$f":"'Data Feed'!AB45","v":0},{"$f":"'Data Feed'!AC45","v":0},{"$f":"'Data Feed'!AD45","v":0},{"$f":"'Data Feed'!AE45","v":0},{"$f":"'Data Feed'!AF45","v":0},{"$f":"'Data Feed'!AG45","v":0},{"$f":"'Data Feed'!AH45","v":0},{"$f":"'Data Feed'!AI45","v":0}]
[{"$f":"B44&\"_\"&COUNTIF($B$1:B44,B44)","v":"0_41"},{"$f":"'Data Feed'!J46","v":0},{"$f":"'Data Feed'!B46","v":0},{"$f":"'Data Feed'!C46","v":0},{"$f":"'Data Feed'!D46","v":0},{"$f":"'Data Feed'!E46","v":0},{"$f":"'Data Feed'!F46","v":0},{"$f":"'Data Feed'!G46","v":0},{"$f":"'Data Feed'!H46","v":0},{"$f":"'Data Feed'!I46","v":0},{"$f":"'Data Feed'!J46","v":0},{"$f":"'Data Feed'!K46","v":0},{"$f":"'Data Feed'!L46","v":0},{"$f":"'Data Feed'!M46","v":0},{"$f":"'Data Feed'!N46","v":0},{"$f":"'Data Feed'!O46","v":0},{"$f":"'Data Feed'!P46","v":0},{"$f":"'Data Feed'!Q46","v":0},{"$f":"'Data Feed'!R46","v":0},{"$f":"'Data Feed'!S46","v":0},{"$f":"'Data Feed'!T46","v":0},{"$f":"'Data Feed'!U46","v":0},{"$f":"'Data Feed'!V46","v":0},{"$f":"'Data Feed'!W46","v":0},{"$f":"'Data Feed'!X46","v":0},{"$f":"'Data Feed'!Y46","v":0},{"$f":"'Data Feed'!Z46","v":0},{"$f":"'Data Feed'!AA46","v":0},{"$f":"'Data Feed'!AB46","v":0},{"$f":"'Data Feed'!AC46","v":0},{"$f":"'Data Feed'!AD46","v":0},{"$f":"'Data Feed'!AE46","v":0},{"$f":"'Data Feed'!AF46","v":0},{"$f":"'Data Feed'!AG46","v":0},{"$f":"'Data Feed'!AH46","v":0},{"$f":"'Data Feed'!AI46","v":0}]
[{"$f":"B45&\"_\"&COUNTIF($B$1:B45,B45)","v":"0_42"},{"$f":"'Data Feed'!J47","v":0},{"$f":"'Data Feed'!B47","v":0},{"$f":"'Data Feed'!C47","v":0},{"$f":"'Data Feed'!D47","v":0},{"$f":"'Data Feed'!E47","v":0},{"$f":"'Data Feed'!F47","v":0},{"$f":"'Data Feed'!G47","v":0},{"$f":"'Data Feed'!H47","v":0},{"$f":"'Data Feed'!I47","v":0},{"$f":"'Data Feed'!J47","v":0},{"$f":"'Data Feed'!K47","v":0},{"$f":"'Data Feed'!L47","v":0},{"$f":"'Data Feed'!M47","v":0},{"$f":"'Data Feed'!N47","v":0},{"$f":"'Data Feed'!O47","v":0},{"$f":"'Data Feed'!P47","v":0},{"$f":"'Data Feed'!Q47","v":0},{"$f":"'Data Feed'!R47","v":0},{"$f":"'Data Feed'!S47","v":0},{"$f":"'Data Feed'!T47","v":0},{"$f":"'Data Feed'!U47","v":0},{"$f":"'Data Feed'!V47","v":0},{"$f":"'Data Feed'!W47","v":0},{"$f":"'Data Feed'!X47","v":0},{"$f":"'Data Feed'!Y47","v":0},{"$f":"'Data Feed'!Z47","v":0},{"$f":"'Data Feed'!AA47","v":0},{"$f":"'Data Feed'!AB47","v":0},{"$f":"'Data Feed'!AC47","v":0},{"$f":"'Data Feed'!AD47","v":0},{"$f":"'Data Feed'!AE47","v":0},{"$f":"'Data Feed'!AF47","v":0},{"$f":"'Data Feed'!AG47","v":0},{"$f":"'Data Feed'!AH47","v":0},{"$f":"'Data Feed'!AI47","v":0}]
[{"$f":"B46&\"_\"&COUNTIF($B$1:B46,B46)","v":"0_43"},{"$f":"'Data Feed'!J48","v":0},{"$f":"'Data Feed'!B48","v":0},{"$f":"'Data Feed'!C48","v":0},{"$f":"'Data Feed'!D48","v":0},{"$f":"'Data Feed'!E48","v":0},{"$f":"'Data Feed'!F48","v":0},{"$f":"'Data Feed'!G48","v":0},{"$f":"'Data Feed'!H48","v":0},{"$f":"'Data Feed'!I48","v":0},{"$f":"'Data Feed'!J48","v":0},{"$f":"'Data Feed'!K48","v":0},{"$f":"'Data Feed'!L48","v":0},{"$f":"'Data Feed'!M48","v":0},{"$f":"'Data Feed'!N48","v":0},{"$f":"'Data Feed'!O48","v":0},{"$f":"'Data Feed'!P48","v":0},{"$f":"'Data Feed'!Q48","v":0},{"$f":"'Data Feed'!R48","v":0},{"$f":"'Data Feed'!S48","v":0},{"$f":"'Data Feed'!T48","v":0},{"$f":"'Data Feed'!U48","v":0},{"$f":"'Data Feed'!V48","v":0},{"$f":"'Data Feed'!W48","v":0},{"$f":"'Data Feed'!X48","v":0},{"$f":"'Data Feed'!Y48","v":0},{"$f":"'Data Feed'!Z48","v":0},{"$f":"'Data Feed'!AA48","v":0},{"$f":"'Data Feed'!AB48","v":0},{"$f":"'Data Feed'!AC48","v":0},{"$f":"'Data Feed'!AD48","v":0},{"$f":"'Data Feed'!AE48","v":0},{"$f":"'Data Feed'!AF48","v":0},{"$f":"'Data Feed'!AG48","v":0},{"$f":"'Data Feed'!AH48","v":0},{"$f":"'Data Feed'!AI48","v":0}]
[{"$f":"B47&\"_\"&COUNTIF($B$1:B47,B47)","v":"0_44"},{"$f":"'Data Feed'!J49","v":0},{"$f":"'Data Feed'!B49","v":0},{"$f":"'Data Feed'!C49","v":0},{"$f":"'Data Feed'!D49","v":0},{"$f":"'Data Feed'!E49","v":0},{"$f":"'Data Feed'!F49","v":0},{"$f":"'Data Feed'!G49","v":0},{"$f":"'Data Feed'!H49","v":0},{"$f":"'Data Feed'!I49","v":0},{"$f":"'Data Feed'!J49","v":0},{"$f":"'Data Feed'!K49","v":0},{"$f":"'Data Feed'!L49","v":0},{"$f":"'Data Feed'!M49","v":0},{"$f":"'Data Feed'!N49","v":0},{"$f":"'Data Feed'!O49","v":0},{"$f":"'Data Feed'!P49","v":0},{"$f":"'Data Feed'!Q49","v":0},{"$f":"'Data Feed'!R49","v":0},{"$f":"'Data Feed'!S49","v":0},{"$f":"'Data Feed'!T49","v":0},{"$f":"'Data Feed'!U49","v":0},{"$f":"'Data Feed'!V49","v":0},{"$f":"'Data Feed'!W49","v":0},{"$f":"'Data Feed'!X49","v":0},{"$f":"'Data Feed'!Y49","v":0},{"$f":"'Data Feed'!Z49","v":0},{"$f":"'Data Feed'!AA49","v":0},{"$f":"'Data Feed'!AB49","v":0},{"$f":"'Data Feed'!AC49","v":0},{"$f":"'Data Feed'!AD49","v":0},{"$f":"'Data Feed'!AE49","v":0},{"$f":"'Data Feed'!AF49","v":0},{"$f":"'Data Feed'!AG49","v":0},{"$f":"'Data Feed'!AH49","v":0},{"$f":"'Data Feed'!AI49","v":0}]
[{"$f":"B48&\"_\"&COUNTIF($B$1:B48,B48)","v":"0_45"},{"$f":"'Data Feed'!J50","v":0},{"$f":"'Data Feed'!B50","v":0},{"$f":"'Data Feed'!C50","v":0},{"$f":"'Data Feed'!D50","v":0},{"$f":"'Data Feed'!E50","v":0},{"$f":"'Data Feed'!F50","v":0},{"$f":"'Data Feed'!G50","v":0},{"$f":"'Data Feed'!H50","v":0},{"$f":"'Data Feed'!I50","v":0},{"$f":"'Data Feed'!J50","v":0},{"$f":"'Data Feed'!K50","v":0},{"$f":"'Data Feed'!L50","v":0},{"$f":"'Data Feed'!M50","v":0},{"$f":"'Data Feed'!N50","v":0},{"$f":"'Data Feed'!O50","v":0},{"$f":"'Data Feed'!P50","v":0},{"$f":"'Data Feed'!Q50","v":0},{"$f":"'Data Feed'!R50","v":0},{"$f":"'Data Feed'!S50","v":0},{"$f":"'Data Feed'!T50","v":0},{"$f":"'Data Feed'!U50","v":0},{"$f":"'Data Feed'!V50","v":0},{"$f":"'Data Feed'!W50","v":0},{"$f":"'Data Feed'!X50","v":0},{"$f":"'Data Feed'!Y50","v":0},{"$f":"'Data Feed'!Z50","v":0},{"$f":"'Data Feed'!AA50","v":0},{"$f":"'Data Feed'!AB50","v":0},{"$f":"'Data Feed'!AC50","v":0},{"$f":"'Data Feed'!AD50","v":0},{"$f":"'Data Feed'!AE50","v":0},{"$f":"'Data Feed'!AF50","v":0},{"$f":"'Data Feed'!AG50","v":0},{"$f":"'Data Feed'!AH50","v":0},{"$f":"'Data Feed'!AI50","v":0}]
[{"$f":"B49&\"_\"&COUNTIF($B$1:B49,B49)","v":"0_46"},{"$f":"'Data Feed'!J51","v":0},{"$f":"'Data Feed'!B51","v":0},{"$f":"'Data Feed'!C51","v":0},{"$f":"'Data Feed'!D51","v":0},{"$f":"'Data Feed'!E51","v":0},{"$f":"'Data Feed'!F51","v":0},{"$f":"'Data Feed'!G51","v":0},{"$f":"'Data Feed'!H51","v":0},{"$f":"'Data Feed'!I51","v":0},{"$f":"'Data Feed'!J51","v":0},{"$f":"'Data Feed'!K51","v":0},{"$f":"'Data Feed'!L51","v":0},{"$f":"'Data Feed'!M51","v":0},{"$f":"'Data Feed'!N51","v":0},{"$f":"'Data Feed'!O51","v":0},{"$f":"'Data Feed'!P51","v":0},{"$f":"'Data Feed'!Q51","v":0},{"$f":"'Data Feed'!R51","v":0},{"$f":"'Data Feed'!S51","v":0},{"$f":"'Data Feed'!T51","v":0},{"$f":"'Data Feed'!U51","v":0},{"$f":"'Data Feed'!V51","v":0},{"$f":"'Data Feed'!W51","v":0},{"$f":"'Data Feed'!X51","v":0},{"$f":"'Data Feed'!Y51","v":0},{"$f":"'Data Feed'!Z51","v":0},{"$f":"'Data Feed'!AA51","v":0},{"$f":"'Data Feed'!AB51","v":0},{"$f":"'Data Feed'!AC51","v":0},{"$f":"'Data Feed'!AD51","v":0},{"$f":"'Data Feed'!AE51","v":0},{"$f":"'Data Feed'!AF51","v":0},{"$f":"'Data Feed'!AG51","v":0},{"$f":"'Data Feed'!AH51","v":0},{"$f":"'Data Feed'!AI51","v":0}]
[{"$f":"B50&\"_\"&COUNTIF($B$1:B50,B50)","v":"0_47"},{"$f":"'Data Feed'!J52","v":0},{"$f":"'Data Feed'!B52","v":0},{"$f":"'Data Feed'!C52","v":0},{"$f":"'Data Feed'!D52","v":0},{"$f":"'Data Feed'!E52","v":0},{"$f":"'Data Feed'!F52","v":0},{"$f":"'Data Feed'!G52","v":0},{"$f":"'Data Feed'!H52","v":0},{"$f":"'Data Feed'!I52","v":0},{"$f":"'Data Feed'!J52","v":0},{"$f":"'Data Feed'!K52","v":0},{"$f":"'Data Feed'!L52","v":0},{"$f":"'Data Feed'!M52","v":0},{"$f":"'Data Feed'!N52","v":0},{"$f":"'Data Feed'!O52","v":0},{"$f":"'Data Feed'!P52","v":0},{"$f":"'Data Feed'!Q52","v":0},{"$f":"'Data Feed'!R52","v":0},{"$f":"'Data Feed'!S52","v":0},{"$f":"'Data Feed'!T52","v":0},{"$f":"'Data Feed'!U52","v":0},{"$f":"'Data Feed'!V52","v":0},{"$f":"'Data Feed'!W52","v":0},{"$f":"'Data Feed'!X52","v":0},{"$f":"'Data Feed'!Y52","v":0},{"$f":"'Data Feed'!Z52","v":0},{"$f":"'Data Feed'!AA52","v":0},{"$f":"'Data Feed'!AB52","v":0},{"$f":"'Data Feed'!AC52","v":0},{"$f":"'Data Feed'!AD52","v":0},{"$f":"'Data Feed'!AE52","v":0},{"$f":"'Data Feed'!AF52","v":0},{"$f":"'Data Feed'!AG52","v":0},{"$f":"'Data Feed'!AH52","v":0},{"$f":"'Data Feed'!AI52","v":0}]
[{"$f":"B51&\"_\"&COUNTIF($B$1:B51,B51)","v":"0_48"},{"$f":"'Data Feed'!J53","v":0},{"$f":"'Data Feed'!B53","v":0},{"$f":"'Data Feed'!C53","v":0},{"$f":"'Data Feed'!D53","v":0},{"$f":"'Data Feed'!E53","v":0},{"$f":"'Data Feed'!F53","v":0},{"$f":"'Data Feed'!G53","v":0},{"$f":"'Data Feed'!H53","v":0},{"$f":"'Data Feed'!I53","v":0},{"$f":"'Data Feed'!J53","v":0},{"$f":"'Data Feed'!K53","v":0},{"$f":"'Data Feed'!L53","v":0},{"$f":"'Data Feed'!M53","v":0},{"$f":"'Data Feed'!N53","v":0},{"$f":"'Data Feed'!O53","v":0},{"$f":"'Data Feed'!P53","v":0},{"$f":"'Data Feed'!Q53","v":0},{"$f":"'Data Feed'!R53","v":0},{"$f":"'Data Feed'!S53","v":0},{"$f":"'Data Feed'!T53","v":0},{"$f":"'Data Feed'!U53","v":0},{"$f":"'Data Feed'!V53","v":0},{"$f":"'Data Feed'!W53","v":0},{"$f":"'Data Feed'!X53","v":0},{"$f":"'Data Feed'!Y53","v":0},{"$f":"'Data Feed'!Z53","v":0},{"$f":"'Data Feed'!AA53","v":0},{"$f":"'Data Feed'!AB53","v":0},{"$f":"'Data Feed'!AC53","v":0},{"$f":"'Data Feed'!AD53","v":0},{"$f":"'Data Feed'!AE53","v":0},{"$f":"'Data Feed'!AF53","v":0},{"$f":"'Data Feed'!AG53","v":0},{"$f":"'Data Feed'!AH53","v":0},{"$f":"'Data Feed'!AI53","v":0}]
[{"$f":"B52&\"_\"&COUNTIF($B$1:B52,B52)","v":"0_49"},{"$f":"'Data Feed'!J54","v":0},{"$f":"'Data Feed'!B54","v":0},{"$f":"'Data Feed'!C54","v":0},{"$f":"'Data Feed'!D54","v":0},{"$f":"'Data Feed'!E54","v":0},{"$f":"'Data Feed'!F54","v":0},{"$f":"'Data Feed'!G54","v":0},{"$f":"'Data Feed'!H54","v":0},{"$f":"'Data Feed'!I54","v":0},{"$f":"'Data Feed'!J54","v":0},{"$f":"'Data Feed'!K54","v":0},{"$f":"'Data Feed'!L54","v":0},{"$f":"'Data Feed'!M54","v":0},{"$f":"'Data Feed'!N54","v":0},{"$f":"'Data Feed'!O54","v":0},{"$f":"'Data Feed'!P54","v":0},{"$f":"'Data Feed'!Q54","v":0},{"$f":"'Data Feed'!R54","v":0},{"$f":"'Data Feed'!S54","v":0},{"$f":"'Data Feed'!T54","v":0},{"$f":"'Data Feed'!U54","v":0},{"$f":"'Data Feed'!V54","v":0},{"$f":"'Data Feed'!W54","v":0},{"$f":"'Data Feed'!X54","v":0},{"$f":"'Data Feed'!Y54","v":0},{"$f":"'Data Feed'!Z54","v":0},{"$f":"'Data Feed'!AA54","v":0},{"$f":"'Data Feed'!AB54","v":0},{"$f":"'Data Feed'!AC54","v":0},{"$f":"'Data Feed'!AD54","v":0},{"$f":"'Data Feed'!AE54","v":0},{"$f":"'Data Feed'!AF54","v":0},{"$f":"'Data Feed'!AG54","v":0},{"$f":"'Data Feed'!AH54","v":0},{"$f":"'Data Feed'!AI54","v":0}]
[{"$f":"B53&\"_\"&COUNTIF($B$1:B53,B53)","v":"0_50"},{"$f":"'Data Feed'!J55","v":0},{"$f":"'Data Feed'!B55","v":0},{"$f":"'Data Feed'!C55","v":0},{"$f":"'Data Feed'!D55","v":0},{"$f":"'Data Feed'!E55","v":0},{"$f":"'Data Feed'!F55","v":0},{"$f":"'Data Feed'!G55","v":0},{"$f":"'Data Feed'!H55","v":0},{"$f":"'Data Feed'!I55","v":0},{"$f":"'Data Feed'!J55","v":0},{"$f":"'Data Feed'!K55","v":0},{"$f":"'Data Feed'!L55","v":0},{"$f":"'Data Feed'!M55","v":0},{"$f":"'Data Feed'!N55","v":0},{"$f":"'Data Feed'!O55","v":0},{"$f":"'Data Feed'!P55","v":0},{"$f":"'Data Feed'!Q55","v":0},{"$f":"'Data Feed'!R55","v":0},{"$f":"'Data Feed'!S55","v":0},{"$f":"'Data Feed'!T55","v":0},{"$f":"'Data Feed'!U55","v":0},{"$f":"'Data Feed'!V55","v":0},{"$f":"'Data Feed'!W55","v":0},{"$f":"'Data Feed'!X55","v":0},{"$f":"'Data Feed'!Y55","v":0},{"$f":"'Data Feed'!Z55","v":0},{"$f":"'Data Feed'!AA55","v":0},{"$f":"'Data Feed'!AB55","v":0},{"$f":"'Data Feed'!AC55","v":0},{"$f":"'Data Feed'!AD55","v":0},{"$f":"'Data Feed'!AE55","v":0},{"$f":"'Data Feed'!AF55","v":0},{"$f":"'Data Feed'!AG55","v":0},{"$f":"'Data Feed'!AH55","v":0},{"$f":"'Data Feed'!AI55","v":0}]
[{"$f":"B54&\"_\"&COUNTIF($B$1:B54,B54)","v":"0_51"},{"$f":"'Data Feed'!J56","v":0},{"$f":"'Data Feed'!B56","v":0},{"$f":"'Data Feed'!C56","v":0},{"$f":"'Data Feed'!D56","v":0},{"$f":"'Data Feed'!E56","v":0},{"$f":"'Data Feed'!F56","v":0},{"$f":"'Data Feed'!G56","v":0},{"$f":"'Data Feed'!H56","v":0},{"$f":"'Data Feed'!I56","v":0},{"$f":"'Data Feed'!J56","v":0},{"$f":"'Data Feed'!K56","v":0},{"$f":"'Data Feed'!L56","v":0},{"$f":"'Data Feed'!M56","v":0},{"$f":"'Data Feed'!N56","v":0},{"$f":"'Data Feed'!O56","v":0},{"$f":"'Data Feed'!P56","v":0},{"$f":"'Data Feed'!Q56","v":0},{"$f":"'Data Feed'!R56","v":0},{"$f":"'Data Feed'!S56","v":0},{"$f":"'Data Feed'!T56","v":0},{"$f":"'Data Feed'!U56","v":0},{"$f":"'Data Feed'!V56","v":0},{"$f":"'Data Feed'!W56","v":0},{"$f":"'Data Feed'!X56","v":0},{"$f":"'Data Feed'!Y56","v":0},{"$f":"'Data Feed'!Z56","v":0},{"$f":"'Data Feed'!AA56","v":0},{"$f":"'Data Feed'!AB56","v":0},{"$f":"'Data Feed'!AC56","v":0},{"$f":"'Data Feed'!AD56","v":0},{"$f":"'Data Feed'!AE56","v":0},{"$f":"'Data Feed'!AF56","v":0},{"$f":"'Data Feed'!AG56","v":0},{"$f":"'Data Feed'!AH56","v":0},{"$f":"'Data Feed'!AI56","v":0}]
[{"$f":"B55&\"_\"&COUNTIF($B$1:B55,B55)","v":"0_52"},{"$f":"'Data Feed'!J57","v":0},{"$f":"'Data Feed'!B57","v":0},{"$f":"'Data Feed'!C57","v":0},{"$f":"'Data Feed'!D57","v":0},{"$f":"'Data Feed'!E57","v":0},{"$f":"'Data Feed'!F57","v":0},{"$f":"'Data Feed'!G57","v":0},{"$f":"'Data Feed'!H57","v":0},{"$f":"'Data Feed'!I57","v":0},{"$f":"'Data Feed'!J57","v":0},{"$f":"'Data Feed'!K57","v":0},{"$f":"'Data Feed'!L57","v":0},{"$f":"'Data Feed'!M57","v":0},{"$f":"'Data Feed'!N57","v":0},{"$f":"'Data Feed'!O57","v":0},{"$f":"'Data Feed'!P57","v":0},{"$f":"'Data Feed'!Q57","v":0},{"$f":"'Data Feed'!R57","v":0},{"$f":"'Data Feed'!S57","v":0},{"$f":"'Data Feed'!T57","v":0},{"$f":"'Data Feed'!U57","v":0},{"$f":"'Data Feed'!V57","v":0},{"$f":"'Data Feed'!W57","v":0},{"$f":"'Data Feed'!X57","v":0},{"$f":"'Data Feed'!Y57","v":0},{"$f":"'Data Feed'!Z57","v":0},{"$f":"'Data Feed'!AA57","v":0},{"$f":"'Data Feed'!AB57","v":0},{"$f":"'Data Feed'!AC57","v":0},{"$f":"'Data Feed'!AD57","v":0},{"$f":"'Data Feed'!AE57","v":0},{"$f":"'Data Feed'!AF57","v":0},{"$f":"'Data Feed'!AG57","v":0},{"$f":"'Data Feed'!AH57","v":0},{"$f":"'Data Feed'!AI57","v":0}]
[{"$f":"B56&\"_\"&COUNTIF($B$1:B56,B56)","v":"0_53"},{"$f":"'Data Feed'!J58","v":0},{"$f":"'Data Feed'!B58","v":0},{"$f":"'Data Feed'!C58","v":0},{"$f":"'Data Feed'!D58","v":0},{"$f":"'Data Feed'!E58","v":0},{"$f":"'Data Feed'!F58","v":0},{"$f":"'Data Feed'!G58","v":0},{"$f":"'Data Feed'!H58","v":0},{"$f":"'Data Feed'!I58","v":0},{"$f":"'Data Feed'!J58","v":0},{"$f":"'Data Feed'!K58","v":0},{"$f":"'Data Feed'!L58","v":0},{"$f":"'Data Feed'!M58","v":0},{"$f":"'Data Feed'!N58","v":0},{"$f":"'Data Feed'!O58","v":0},{"$f":"'Data Feed'!P58","v":0},{"$f":"'Data Feed'!Q58","v":0},{"$f":"'Data Feed'!R58","v":0},{"$f":"'Data Feed'!S58","v":0},{"$f":"'Data Feed'!T58","v":0},{"$f":"'Data Feed'!U58","v":0},{"$f":"'Data Feed'!V58","v":0},{"$f":"'Data Feed'!W58","v":0},{"$f":"'Data Feed'!X58","v":0},{"$f":"'Data Feed'!Y58","v":0},{"$f":"'Data Feed'!Z58","v":0},{"$f":"'Data Feed'!AA58","v":0},{"$f":"'Data Feed'!AB58","v":0},{"$f":"'Data Feed'!AC58","v":0},{"$f":"'Data Feed'!AD58","v":0},{"$f":"'Data Feed'!AE58","v":0},{"$f":"'Data Feed'!AF58","v":0},{"$f":"'Data Feed'!AG58","v":0},{"$f":"'Data Feed'!AH58","v":0},{"$f":"'Data Feed'!AI58","v":0}]
[{"$f":"B57&\"_\"&COUNTIF($B$1:B57,B57)","v":"0_54"},{"$f":"'Data Feed'!J59","v":0},{"$f":"'Data Feed'!B59","v":0},{"$f":"'Data Feed'!C59","v":0},{"$f":"'Data Feed'!D59","v":0},{"$f":"'Data Feed'!E59","v":0},{"$f":"'Data Feed'!F59","v":0},{"$f":"'Data Feed'!G59","v":0},{"$f":"'Data Feed'!H59","v":0},{"$f":"'Data Feed'!I59","v":0},{"$f":"'Data Feed'!J59","v":0},{"$f":"'Data Feed'!K59","v":0},{"$f":"'Data Feed'!L59","v":0},{"$f":"'Data Feed'!M59","v":0},{"$f":"'Data Feed'!N59","v":0},{"$f":"'Data Feed'!O59","v":0},{"$f":"'Data Feed'!P59","v":0},{"$f":"'Data Feed'!Q59","v":0},{"$f":"'Data Feed'!R59","v":0},{"$f":"'Data Feed'!S59","v":0},{"$f":"'Data Feed'!T59","v":0},{"$f":"'Data Feed'!U59","v":0},{"$f":"'Data Feed'!V59","v":0},{"$f":"'Data Feed'!W59","v":0},{"$f":"'Data Feed'!X59","v":0},{"$f":"'Data Feed'!Y59","v":0},{"$f":"'Data Feed'!Z59","v":0},{"$f":"'Data Feed'!AA59","v":0},{"$f":"'Data Feed'!AB59","v":0},{"$f":"'Data Feed'!AC59","v":0},{"$f":"'Data Feed'!AD59","v":0},{"$f":"'Data Feed'!AE59","v":0},{"$f":"'Data Feed'!AF59","v":0},{"$f":"'Data Feed'!AG59","v":0},{"$f":"'Data Feed'!AH59","v":0},{"$f":"'Data Feed'!AI59","v":0}]
[{"$f":"B58&\"_\"&COUNTIF($B$1:B58,B58)","v":"0_55"},{"$f":"'Data Feed'!J60","v":0},{"$f":"'Data Feed'!B60","v":0},{"$f":"'Data Feed'!C60","v":0},{"$f":"'Data Feed'!D60","v":0},{"$f":"'Data Feed'!E60","v":0},{"$f":"'Data Feed'!F60","v":0},{"$f":"'Data Feed'!G60","v":0},{"$f":"'Data Feed'!H60","v":0},{"$f":"'Data Feed'!I60","v":0},{"$f":"'Data Feed'!J60","v":0},{"$f":"'Data Feed'!K60","v":0},{"$f":"'Data Feed'!L60","v":0},{"$f":"'Data Feed'!M60","v":0},{"$f":"'Data Feed'!N60","v":0},{"$f":"'Data Feed'!O60","v":0},{"$f":"'Data Feed'!P60","v":0},{"$f":"'Data Feed'!Q60","v":0},{"$f":"'Data Feed'!R60","v":0},{"$f":"'Data Feed'!S60","v":0},{"$f":"'Data Feed'!T60","v":0},{"$f":"'Data Feed'!U60","v":0},{"$f":"'Data Feed'!V60","v":0},{"$f":"'Data Feed'!W60","v":0},{"$f":"'Data Feed'!X60","v":0},{"$f":"'Data Feed'!Y60","v":0},{"$f":"'Data Feed'!Z60","v":0},{"$f":"'Data Feed'!AA60","v":0},{"$f":"'Data Feed'!AB60","v":0},{"$f":"'Data Feed'!AC60","v":0},{"$f":"'Data Feed'!AD60","v":0},{"$f":"'Data Feed'!AE60","v":0},{"$f":"'Data Feed'!AF60","v":0},{"$f":"'Data Feed'!AG60","v":0},{"$f":"'Data Feed'!AH60","v":0},{"$f":"'Data Feed'!AI60","v":0}]
[{"$f":"B59&\"_\"&COUNTIF($B$1:B59,B59)","v":"0_56"},{"$f":"'Data Feed'!J61","v":0},{"$f":"'Data Feed'!B61","v":0},{"$f":"'Data Feed'!C61","v":0},{"$f":"'Data Feed'!D61","v":0},{"$f":"'Data Feed'!E61","v":0},{"$f":"'Data Feed'!F61","v":0},{"$f":"'Data Feed'!G61","v":0},{"$f":"'Data Feed'!H61","v":0},{"$f":"'Data Feed'!I61","v":0},{"$f":"'Data Feed'!J61","v":0},{"$f":"'Data Feed'!K61","v":0},{"$f":"'Data Feed'!L61","v":0},{"$f":"'Data Feed'!M61","v":0},{"$f":"'Data Feed'!N61","v":0},{"$f":"'Data Feed'!O61","v":0},{"$f":"'Data Feed'!P61","v":0},{"$f":"'Data Feed'!Q61","v":0},{"$f":"'Data Feed'!R61","v":0},{"$f":"'Data Feed'!S61","v":0},{"$f":"'Data Feed'!T61","v":0},{"$f":"'Data Feed'!U61","v":0},{"$f":"'Data Feed'!V61","v":0},{"$f":"'Data Feed'!W61","v":0},{"$f":"'Data Feed'!X61","v":0},{"$f":"'Data Feed'!Y61","v":0},{"$f":"'Data Feed'!Z61","v":0},{"$f":"'Data Feed'!AA61","v":0},{"$f":"'Data Feed'!AB61","v":0},{"$f":"'Data Feed'!AC61","v":0},{"$f":"'Data Feed'!AD61","v":0},{"$f":"'Data Feed'!AE61","v":0},{"$f":"'Data Feed'!AF61","v":0},{"$f":"'Data Feed'!AG61","v":0},{"$f":"'Data Feed'!AH61","v":0},{"$f":"'Data Feed'!AI61","v":0}]
[{"$f":"B60&\"_\"&COUNTIF($B$1:B60,B60)","v":"0_57"},{"$f":"'Data Feed'!J62","v":0},{"$f":"'Data Feed'!B62","v":0},{"$f":"'Data Feed'!C62","v":0},{"$f":"'Data Feed'!D62","v":0},{"$f":"'Data Feed'!E62","v":0},{"$f":"'Data Feed'!F62","v":0},{"$f":"'Data Feed'!G62","v":0},{"$f":"'Data Feed'!H62","v":0},{"$f":"'Data Feed'!I62","v":0},{"$f":"'Data Feed'!J62","v":0},{"$f":"'Data Feed'!K62","v":0},{"$f":"'Data Feed'!L62","v":0},{"$f":"'Data Feed'!M62","v":0},{"$f":"'Data Feed'!N62","v":0},{"$f":"'Data Feed'!O62","v":0},{"$f":"'Data Feed'!P62","v":0},{"$f":"'Data Feed'!Q62","v":0},{"$f":"'Data Feed'!R62","v":0},{"$f":"'Data Feed'!S62","v":0},{"$f":"'Data Feed'!T62","v":0},{"$f":"'Data Feed'!U62","v":0},{"$f":"'Data Feed'!V62","v":0},{"$f":"'Data Feed'!W62","v":0},{"$f":"'Data Feed'!X62","v":0},{"$f":"'Data Feed'!Y62","v":0},{"$f":"'Data Feed'!Z62","v":0},{"$f":"'Data Feed'!AA62","v":0},{"$f":"'Data Feed'!AB62","v":0},{"$f":"'Data Feed'!AC62","v":0},{"$f":"'Data Feed'!AD62","v":0},{"$f":"'Data Feed'!AE62","v":0},{"$f":"'Data Feed'!AF62","v":0},{"$f":"'Data Feed'!AG62","v":0},{"$f":"'Data Feed'!AH62","v":0},{"$f":"'Data Feed'!AI62","v":0}]
[{"$f":"B61&\"_\"&COUNTIF($B$1:B61,B61)","v":"0_58"},{"$f":"'Data Feed'!J63","v":0},{"$f":"'Data Feed'!B63","v":0},{"$f":"'Data Feed'!C63","v":0},{"$f":"'Data Feed'!D63","v":0},{"$f":"'Data Feed'!E63","v":0},{"$f":"'Data Feed'!F63","v":0},{"$f":"'Data Feed'!G63","v":0},{"$f":"'Data Feed'!H63","v":0},{"$f":"'Data Feed'!I63","v":0},{"$f":"'Data Feed'!J63","v":0},{"$f":"'Data Feed'!K63","v":0},{"$f":"'Data Feed'!L63","v":0},{"$f":"'Data Feed'!M63","v":0},{"$f":"'Data Feed'!N63","v":0},{"$f":"'Data Feed'!O63","v":0},{"$f":"'Data Feed'!P63","v":0},{"$f":"'Data Feed'!Q63","v":0},{"$f":"'Data Feed'!R63","v":0},{"$f":"'Data Feed'!S63","v":0},{"$f":"'Data Feed'!T63","v":0},{"$f":"'Data Feed'!U63","v":0},{"$f":"'Data Feed'!V63","v":0},{"$f":"'Data Feed'!W63","v":0},{"$f":"'Data Feed'!X63","v":0},{"$f":"'Data Feed'!Y63","v":0},{"$f":"'Data Feed'!Z63","v":0},{"$f":"'Data Feed'!AA63","v":0},{"$f":"'Data Feed'!AB63","v":0},{"$f":"'Data Feed'!AC63","v":0},{"$f":"'Data Feed'!AD63","v":0},{"$f":"'Data Feed'!AE63","v":0},{"$f":"'Data Feed'!AF63","v":0},{"$f":"'Data Feed'!AG63","v":0},{"$f":"'Data Feed'!AH63","v":0},{"$f":"'Data Feed'!AI63","v":0}]
[{"$f":"B62&\"_\"&COUNTIF($B$1:B62,B62)","v":"0_59"},{"$f":"'Data Feed'!J64","v":0},{"$f":"'Data Feed'!B64","v":0},{"$f":"'Data Feed'!C64","v":0},{"$f":"'Data Feed'!D64","v":0},{"$f":"'Data Feed'!E64","v":0},{"$f":"'Data Feed'!F64","v":0},{"$f":"'Data Feed'!G64","v":0},{"$f":"'Data Feed'!H64","v":0},{"$f":"'Data Feed'!I64","v":0},{"$f":"'Data Feed'!J64","v":0},{"$f":"'Data Feed'!K64","v":0},{"$f":"'Data Feed'!L64","v":0},{"$f":"'Data Feed'!M64","v":0},{"$f":"'Data Feed'!N64","v":0},{"$f":"'Data Feed'!O64","v":0},{"$f":"'Data Feed'!P64","v":0},{"$f":"'Data Feed'!Q64","v":0},{"$f":"'Data Feed'!R64","v":0},{"$f":"'Data Feed'!S64","v":0},{"$f":"'Data Feed'!T64","v":0},{"$f":"'Data Feed'!U64","v":0},{"$f":"'Data Feed'!V64","v":0},{"$f":"'Data Feed'!W64","v":0},{"$f":"'Data Feed'!X64","v":0},{"$f":"'Data Feed'!Y64","v":0},{"$f":"'Data Feed'!Z64","v":0},{"$f":"'Data Feed'!AA64","v":0},{"$f":"'Data Feed'!AB64","v":0},{"$f":"'Data Feed'!AC64","v":0},{"$f":"'Data Feed'!AD64","v":0},{"$f":"'Data Feed'!AE64","v":0},{"$f":"'Data Feed'!AF64","v":0},{"$f":"'Data Feed'!AG64","v":0},{"$f":"'Data Feed'!AH64","v":0},{"$f":"'Data Feed'!AI64","v":0}]
[{"$f":"B63&\"_\"&COUNTIF($B$1:B63,B63)","v":"0_60"},{"$f":"'Data Feed'!J65","v":0},{"$f":"'Data Feed'!B65","v":0},{"$f":"'Data Feed'!C65","v":0},{"$f":"'Data Feed'!D65","v":0},{"$f":"'Data Feed'!E65","v":0},{"$f":"'Data Feed'!F65","v":0},{"$f":"'Data Feed'!G65","v":0},{"$f":"'Data Feed'!H65","v":0},{"$f":"'Data Feed'!I65","v":0},{"$f":"'Data Feed'!J65","v":0},{"$f":"'Data Feed'!K65","v":0},{"$f":"'Data Feed'!L65","v":0},{"$f":"'Data Feed'!M65","v":0},{"$f":"'Data Feed'!N65","v":0},{"$f":"'Data Feed'!O65","v":0},{"$f":"'Data Feed'!P65","v":0},{"$f":"'Data Feed'!Q65","v":0},{"$f":"'Data Feed'!R65","v":0},{"$f":"'Data Feed'!S65","v":0},{"$f":"'Data Feed'!T65","v":0},{"$f":"'Data Feed'!U65","v":0},{"$f":"'Data Feed'!V65","v":0},{"$f":"'Data Feed'!W65","v":0},{"$f":"'Data Feed'!X65","v":0},{"$f":"'Data Feed'!Y65","v":0},{"$f":"'Data Feed'!Z65","v":0},{"$f":"'Data Feed'!AA65","v":0},{"$f":"'Data Feed'!AB65","v":0},{"$f":"'Data Feed'!AC65","v":0},{"$f":"'Data Feed'!AD65","v":0},{"$f":"'Data Feed'!AE65","v":0},{"$f":"'Data Feed'!AF65","v":0},{"$f":"'Data Feed'!AG65","v":0},{"$f":"'Data Feed'!AH65","v":0},{"$f":"'Data Feed'!AI65","v":0}]
[{"$f":"B64&\"_\"&COUNTIF($B$1:B64,B64)","v":"0_61"},{"$f":"'Data Feed'!J66","v":0},{"$f":"'Data Feed'!B66","v":0},{"$f":"'Data Feed'!C66","v":0},{"$f":"'Data Feed'!D66","v":0},{"$f":"'Data Feed'!E66","v":0},{"$f":"'Data Feed'!F66","v":0},{"$f":"'Data Feed'!G66","v":0},{"$f":"'Data Feed'!H66","v":0},{"$f":"'Data Feed'!I66","v":0},{"$f":"'Data Feed'!J66","v":0},{"$f":"'Data Feed'!K66","v":0},{"$f":"'Data Feed'!L66","v":0},{"$f":"'Data Feed'!M66","v":0},{"$f":"'Data Feed'!N66","v":0},{"$f":"'Data Feed'!O66","v":0},{"$f":"'Data Feed'!P66","v":0},{"$f":"'Data Feed'!Q66","v":0},{"$f":"'Data Feed'!R66","v":0},{"$f":"'Data Feed'!S66","v":0},{"$f":"'Data Feed'!T66","v":0},{"$f":"'Data Feed'!U66","v":0},{"$f":"'Data Feed'!V66","v":0},{"$f":"'Data Feed'!W66","v":0},{"$f":"'Data Feed'!X66","v":0},{"$f":"'Data Feed'!Y66","v":0},{"$f":"'Data Feed'!Z66","v":0},{"$f":"'Data Feed'!AA66","v":0},{"$f":"'Data Feed'!AB66","v":0},{"$f":"'Data Feed'!AC66","v":0},{"$f":"'Data Feed'!AD66","v":0},{"$f":"'Data Feed'!AE66","v":0},{"$f":"'Data Feed'!AF66","v":0},{"$f":"'Data Feed'!AG66","v":0},{"$f":"'Data Feed'!AH66","v":0},{"$f":"'Data Feed'!AI66","v":0}]
[{"$f":"B65&\"_\"&COUNTIF($B$1:B65,B65)","v":"0_62"},{"$f":"'Data Feed'!J67","v":0},{"$f":"'Data Feed'!B67","v":0},{"$f":"'Data Feed'!C67","v":0},{"$f":"'Data Feed'!D67","v":0},{"$f":"'Data Feed'!E67","v":0},{"$f":"'Data Feed'!F67","v":0},{"$f":"'Data Feed'!G67","v":0},{"$f":"'Data Feed'!H67","v":0},{"$f":"'Data Feed'!I67","v":0},{"$f":"'Data Feed'!J67","v":0},{"$f":"'Data Feed'!K67","v":0},{"$f":"'Data Feed'!L67","v":0},{"$f":"'Data Feed'!M67","v":0},{"$f":"'Data Feed'!N67","v":0},{"$f":"'Data Feed'!O67","v":0},{"$f":"'Data Feed'!P67","v":0},{"$f":"'Data Feed'!Q67","v":0},{"$f":"'Data Feed'!R67","v":0},{"$f":"'Data Feed'!S67","v":0},{"$f":"'Data Feed'!T67","v":0},{"$f":"'Data Feed'!U67","v":0},{"$f":"'Data Feed'!V67","v":0},{"$f":"'Data Feed'!W67","v":0},{"$f":"'Data Feed'!X67","v":0},{"$f":"'Data Feed'!Y67","v":0},{"$f":"'Data Feed'!Z67","v":0},{"$f":"'Data Feed'!AA67","v":0},{"$f":"'Data Feed'!AB67","v":0},{"$f":"'Data Feed'!AC67","v":0},{"$f":"'Data Feed'!AD67","v":0},{"$f":"'Data Feed'!AE67","v":0},{"$f":"'Data Feed'!AF67","v":0},{"$f":"'Data Feed'!AG67","v":0},{"$f":"'Data Feed'!AH67","v":0},{"$f":"'Data Feed'!AI67","v":0}]
[{"$f":"B66&\"_\"&COUNTIF($B$1:B66,B66)","v":"0_63"},{"$f":"'Data Feed'!J68","v":0},{"$f":"'Data Feed'!B68","v":0},{"$f":"'Data Feed'!C68","v":0},{"$f":"'Data Feed'!D68","v":0},{"$f":"'Data Feed'!E68","v":0},{"$f":"'Data Feed'!F68","v":0},{"$f":"'Data Feed'!G68","v":0},{"$f":"'Data Feed'!H68","v":0},{"$f":"'Data Feed'!I68","v":0},{"$f":"'Data Feed'!J68","v":0},{"$f":"'Data Feed'!K68","v":0},{"$f":"'Data Feed'!L68","v":0},{"$f":"'Data Feed'!M68","v":0},{"$f":"'Data Feed'!N68","v":0},{"$f":"'Data Feed'!O68","v":0},{"$f":"'Data Feed'!P68","v":0},{"$f":"'Data Feed'!Q68","v":0},{"$f":"'Data Feed'!R68","v":0},{"$f":"'Data Feed'!S68","v":0},{"$f":"'Data Feed'!T68","v":0},{"$f":"'Data Feed'!U68","v":0},{"$f":"'Data Feed'!V68","v":0},{"$f":"'Data Feed'!W68","v":0},{"$f":"'Data Feed'!X68","v":0},{"$f":"'Data Feed'!Y68","v":0},{"$f":"'Data Feed'!Z68","v":0},{"$f":"'Data Feed'!AA68","v":0},{"$f":"'Data Feed'!AB68","v":0},{"$f":"'Data Feed'!AC68","v":0},{"$f":"'Data Feed'!AD68","v":0},{"$f":"'Data Feed'!AE68","v":0},{"$f":"'Data Feed'!AF68","v":0},{"$f":"'Data Feed'!AG68","v":0},{"$f":"'Data Feed'!AH68","v":0},{"$f":"'Data Feed'!AI68","v":0}]
[{"$f":"B67&\"_\"&COUNTIF($B$1:B67,B67)","v":"0_64"},{"$f":"'Data Feed'!J69","v":0},{"$f":"'Data Feed'!B69","v":0},{"$f":"'Data Feed'!C69","v":0},{"$f":"'Data Feed'!D69","v":0},{"$f":"'Data Feed'!E69","v":0},{"$f":"'Data Feed'!F69","v":0},{"$f":"'Data Feed'!G69","v":0},{"$f":"'Data Feed'!H69","v":0},{"$f":"'Data Feed'!I69","v":0},{"$f":"'Data Feed'!J69","v":0},{"$f":"'Data Feed'!K69","v":0},{"$f":"'Data Feed'!L69","v":0},{"$f":"'Data Feed'!M69","v":0},{"$f":"'Data Feed'!N69","v":0},{"$f":"'Data Feed'!O69","v":0},{"$f":"'Data Feed'!P69","v":0},{"$f":"'Data Feed'!Q69","v":0},{"$f":"'Data Feed'!R69","v":0},{"$f":"'Data Feed'!S69","v":0},{"$f":"'Data Feed'!T69","v":0},{"$f":"'Data Feed'!U69","v":0},{"$f":"'Data Feed'!V69","v":0},{"$f":"'Data Feed'!W69","v":0},{"$f":"'Data Feed'!X69","v":0},{"$f":"'Data Feed'!Y69","v":0},{"$f":"'Data Feed'!Z69","v":0},{"$f":"'Data Feed'!AA69","v":0},{"$f":"'Data Feed'!AB69","v":0},{"$f":"'Data Feed'!AC69","v":0},{"$f":"'Data Feed'!AD69","v":0},{"$f":"'Data Feed'!AE69","v":0},{"$f":"'Data Feed'!AF69","v":0},{"$f":"'Data Feed'!AG69","v":0},{"$f":"'Data Feed'!AH69","v":0},{"$f":"'Data Feed'!AI69","v":0}]
[{"$f":"B68&\"_\"&COUNTIF($B$1:B68,B68)","v":"0_65"},{"$f":"'Data Feed'!J70","v":0},{"$f":"'Data Feed'!B70","v":0},{"$f":"'Data Feed'!C70","v":0},{"$f":"'Data Feed'!D70","v":0},{"$f":"'Data Feed'!E70","v":0},{"$f":"'Data Feed'!F70","v":0},{"$f":"'Data Feed'!G70","v":0},{"$f":"'Data Feed'!H70","v":0},{"$f":"'Data Feed'!I70","v":0},{"$f":"'Data Feed'!J70","v":0},{"$f":"'Data Feed'!K70","v":0},{"$f":"'Data Feed'!L70","v":0},{"$f":"'Data Feed'!M70","v":0},{"$f":"'Data Feed'!N70","v":0},{"$f":"'Data Feed'!O70","v":0},{"$f":"'Data Feed'!P70","v":0},{"$f":"'Data Feed'!Q70","v":0},{"$f":"'Data Feed'!R70","v":0},{"$f":"'Data Feed'!S70","v":0},{"$f":"'Data Feed'!T70","v":0},{"$f":"'Data Feed'!U70","v":0},{"$f":"'Data Feed'!V70","v":0},{"$f":"'Data Feed'!W70","v":0},{"$f":"'Data Feed'!X70","v":0},{"$f":"'Data Feed'!Y70","v":0},{"$f":"'Data Feed'!Z70","v":0},{"$f":"'Data Feed'!AA70","v":0},{"$f":"'Data Feed'!AB70","v":0},{"$f":"'Data Feed'!AC70","v":0},{"$f":"'Data Feed'!AD70","v":0},{"$f":"'Data Feed'!AE70","v":0},{"$f":"'Data Feed'!AF70","v":0},{"$f":"'Data Feed'!AG70","v":0},{"$f":"'Data Feed'!AH70","v":0},{"$f":"'Data Feed'!AI70","v":0}]
[{"$f":"B69&\"_\"&COUNTIF($B$1:B69,B69)","v":"0_66"},{"$f":"'Data Feed'!J71","v":0},{"$f":"'Data Feed'!B71","v":0},{"$f":"'Data Feed'!C71","v":0},{"$f":"'Data Feed'!D71","v":0},{"$f":"'Data Feed'!E71","v":0},{"$f":"'Data Feed'!F71","v":0},{"$f":"'Data Feed'!G71","v":0},{"$f":"'Data Feed'!H71","v":0},{"$f":"'Data Feed'!I71","v":0},{"$f":"'Data Feed'!J71","v":0},{"$f":"'Data Feed'!K71","v":0},{"$f":"'Data Feed'!L71","v":0},{"$f":"'Data Feed'!M71","v":0},{"$f":"'Data Feed'!N71","v":0},{"$f":"'Data Feed'!O71","v":0},{"$f":"'Data Feed'!P71","v":0},{"$f":"'Data Feed'!Q71","v":0},{"$f":"'Data Feed'!R71","v":0},{"$f":"'Data Feed'!S71","v":0},{"$f":"'Data Feed'!T71","v":0},{"$f":"'Data Feed'!U71","v":0},{"$f":"'Data Feed'!V71","v":0},{"$f":"'Data Feed'!W71","v":0},{"$f":"'Data Feed'!X71","v":0},{"$f":"'Data Feed'!Y71","v":0},{"$f":"'Data Feed'!Z71","v":0},{"$f":"'Data Feed'!AA71","v":0},{"$f":"'Data Feed'!AB71","v":0},{"$f":"'Data Feed'!AC71","v":0},{"$f":"'Data Feed'!AD71","v":0},{"$f":"'Data Feed'!AE71","v":0},{"$f":"'Data Feed'!AF71","v":0},{"$f":"'Data Feed'!AG71","v":0},{"$f":"'Data Feed'!AH71","v":0},{"$f":"'Data Feed'!AI71","v":0}]
[{"$f":"B70&\"_\"&COUNTIF($B$1:B70,B70)","v":"0_67"},{"$f":"'Data Feed'!J72","v":0},{"$f":"'Data Feed'!B72","v":0},{"$f":"'Data Feed'!C72","v":0},{"$f":"'Data Feed'!D72","v":0},{"$f":"'Data Feed'!E72","v":0},{"$f":"'Data Feed'!F72","v":0},{"$f":"'Data Feed'!G72","v":0},{"$f":"'Data Feed'!H72","v":0},{"$f":"'Data Feed'!I72","v":0},{"$f":"'Data Feed'!J72","v":0},{"$f":"'Data Feed'!K72","v":0},{"$f":"'Data Feed'!L72","v":0},{"$f":"'Data Feed'!M72","v":0},{"$f":"'Data Feed'!N72","v":0},{"$f":"'Data Feed'!O72","v":0},{"$f":"'Data Feed'!P72","v":0},{"$f":"'Data Feed'!Q72","v":0},{"$f":"'Data Feed'!R72","v":0},{"$f":"'Data Feed'!S72","v":0},{"$f":"'Data Feed'!T72","v":0},{"$f":"'Data Feed'!U72","v":0},{"$f":"'Data Feed'!V72","v":0},{"$f":"'Data Feed'!W72","v":0},{"$f":"'Data Feed'!X72","v":0},{"$f":"'Data Feed'!Y72","v":0},{"$f":"'Data Feed'!Z72","v":0},{"$f":"'Data Feed'!AA72","v":0},{"$f":"'Data Feed'!AB72","v":0},{"$f":"'Data Feed'!AC72","v":0},{"$f":"'Data Feed'!AD72","v":0},{"$f":"'Data Feed'!AE72","v":0},{"$f":"'Data Feed'!AF72","v":0},{"$f":"'Data Feed'!AG72","v":0},{"$f":"'Data Feed'!AH72","v":0},{"$f":"'Data Feed'!AI72","v":0}]
[{"$f":"B71&\"_\"&COUNTIF($B$1:B71,B71)","v":"0_68"},{"$f":"'Data Feed'!J73","v":0},{"$f":"'Data Feed'!B73","v":0},{"$f":"'Data Feed'!C73","v":0},{"$f":"'Data Feed'!D73","v":0},{"$f":"'Data Feed'!E73","v":0},{"$f":"'Data Feed'!F73","v":0},{"$f":"'Data Feed'!G73","v":0},{"$f":"'Data Feed'!H73","v":0},{"$f":"'Data Feed'!I73","v":0},{"$f":"'Data Feed'!J73","v":0},{"$f":"'Data Feed'!K73","v":0},{"$f":"'Data Feed'!L73","v":0},{"$f":"'Data Feed'!M73","v":0},{"$f":"'Data Feed'!N73","v":0},{"$f":"'Data Feed'!O73","v":0},{"$f":"'Data Feed'!P73","v":0},{"$f":"'Data Feed'!Q73","v":0},{"$f":"'Data Feed'!R73","v":0},{"$f":"'Data Feed'!S73","v":0},{"$f":"'Data Feed'!T73","v":0},{"$f":"'Data Feed'!U73","v":0},{"$f":"'Data Feed'!V73","v":0},{"$f":"'Data Feed'!W73","v":0},{"$f":"'Data Feed'!X73","v":0},{"$f":"'Data Feed'!Y73","v":0},{"$f":"'Data Feed'!Z73","v":0},{"$f":"'Data Feed'!AA73","v":0},{"$f":"'Data Feed'!AB73","v":0},{"$f":"'Data Feed'!AC73","v":0},{"$f":"'Data Feed'!AD73","v":0},{"$f":"'Data Feed'!AE73","v":0},{"$f":"'Data Feed'!AF73","v":0},{"$f":"'Data Feed'!AG73","v":0},{"$f":"'Data Feed'!AH73","v":0},{"$f":"'Data Feed'!AI73","v":0}]
[{"$f":"B72&\"_\"&COUNTIF($B$1:B72,B72)","v":"0_69"},{"$f":"'Data Feed'!J74","v":0},{"$f":"'Data Feed'!B74","v":0},{"$f":"'Data Feed'!C74","v":0},{"$f":"'Data Feed'!D74","v":0},{"$f":"'Data Feed'!E74","v":0},{"$f":"'Data Feed'!F74","v":0},{"$f":"'Data Feed'!G74","v":0},{"$f":"'Data Feed'!H74","v":0},{"$f":"'Data Feed'!I74","v":0},{"$f":"'Data Feed'!J74","v":0},{"$f":"'Data Feed'!K74","v":0},{"$f":"'Data Feed'!L74","v":0},{"$f":"'Data Feed'!M74","v":0},{"$f":"'Data Feed'!N74","v":0},{"$f":"'Data Feed'!O74","v":0},{"$f":"'Data Feed'!P74","v":0},{"$f":"'Data Feed'!Q74","v":0},{"$f":"'Data Feed'!R74","v":0},{"$f":"'Data Feed'!S74","v":0},{"$f":"'Data Feed'!T74","v":0},{"$f":"'Data Feed'!U74","v":0},{"$f":"'Data Feed'!V74","v":0},{"$f":"'Data Feed'!W74","v":0},{"$f":"'Data Feed'!X74","v":0},{"$f":"'Data Feed'!Y74","v":0},{"$f":"'Data Feed'!Z74","v":0},{"$f":"'Data Feed'!AA74","v":0},{"$f":"'Data Feed'!AB74","v":0},{"$f":"'Data Feed'!AC74","v":0},{"$f":"'Data Feed'!AD74","v":0},{"$f":"'Data Feed'!AE74","v":0},{"$f":"'Data Feed'!AF74","v":0},{"$f":"'Data Feed'!AG74","v":0},{"$f":"'Data Feed'!AH74","v":0},{"$f":"'Data Feed'!AI74","v":0}]
[{"$f":"B73&\"_\"&COUNTIF($B$1:B73,B73)","v":"0_70"},{"$f":"'Data Feed'!J75","v":0},{"$f":"'Data Feed'!B75","v":0},{"$f":"'Data Feed'!C75","v":0},{"$f":"'Data Feed'!D75","v":0},{"$f":"'Data Feed'!E75","v":0},{"$f":"'Data Feed'!F75","v":0},{"$f":"'Data Feed'!G75","v":0},{"$f":"'Data Feed'!H75","v":0},{"$f":"'Data Feed'!I75","v":0},{"$f":"'Data Feed'!J75","v":0},{"$f":"'Data Feed'!K75","v":0},{"$f":"'Data Feed'!L75","v":0},{"$f":"'Data Feed'!M75","v":0},{"$f":"'Data Feed'!N75","v":0},{"$f":"'Data Feed'!O75","v":0},{"$f":"'Data Feed'!P75","v":0},{"$f":"'Data Feed'!Q75","v":0},{"$f":"'Data Feed'!R75","v":0},{"$f":"'Data Feed'!S75","v":0},{"$f":"'Data Feed'!T75","v":0},{"$f":"'Data Feed'!U75","v":0},{"$f":"'Data Feed'!V75","v":0},{"$f":"'Data Feed'!W75","v":0},{"$f":"'Data Feed'!X75","v":0},{"$f":"'Data Feed'!Y75","v":0},{"$f":"'Data Feed'!Z75","v":0},{"$f":"'Data Feed'!AA75","v":0},{"$f":"'Data Feed'!AB75","v":0},{"$f":"'Data Feed'!AC75","v":0},{"$f":"'Data Feed'!AD75","v":0},{"$f":"'Data Feed'!AE75","v":0},{"$f":"'Data Feed'!AF75","v":0},{"$f":"'Data Feed'!AG75","v":0},{"$f":"'Data Feed'!AH75","v":0},{"$f":"'Data Feed'!AI75","v":0}]
[{"$f":"B74&\"_\"&COUNTIF($B$1:B74,B74)","v":"0_71"},{"$f":"'Data Feed'!J76","v":0},{"$f":"'Data Feed'!B76","v":0},{"$f":"'Data Feed'!C76","v":0},{"$f":"'Data Feed'!D76","v":0},{"$f":"'Data Feed'!E76","v":0},{"$f":"'Data Feed'!F76","v":0},{"$f":"'Data Feed'!G76","v":0},{"$f":"'Data Feed'!H76","v":0},{"$f":"'Data Feed'!I76","v":0},{"$f":"'Data Feed'!J76","v":0},{"$f":"'Data Feed'!K76","v":0},{"$f":"'Data Feed'!L76","v":0},{"$f":"'Data Feed'!M76","v":0},{"$f":"'Data Feed'!N76","v":0},{"$f":"'Data Feed'!O76","v":0},{"$f":"'Data Feed'!P76","v":0},{"$f":"'Data Feed'!Q76","v":0},{"$f":"'Data Feed'!R76","v":0},{"$f":"'Data Feed'!S76","v":0},{"$f":"'Data Feed'!T76","v":0},{"$f":"'Data Feed'!U76","v":0},{"$f":"'Data Feed'!V76","v":0},{"$f":"'Data Feed'!W76","v":0},{"$f":"'Data Feed'!X76","v":0},{"$f":"'Data Feed'!Y76","v":0},{"$f":"'Data Feed'!Z76","v":0},{"$f":"'Data Feed'!AA76","v":0},{"$f":"'Data Feed'!AB76","v":0},{"$f":"'Data Feed'!AC76","v":0},{"$f":"'Data Feed'!AD76","v":0},{"$f":"'Data Feed'!AE76","v":0},{"$f":"'Data Feed'!AF76","v":0},{"$f":"'Data Feed'!AG76","v":0},{"$f":"'Data Feed'!AH76","v":0},{"$f":"'Data Feed'!AI76","v":0}]
[{"$f":"B75&\"_\"&COUNTIF($B$1:B75,B75)","v":"0_72"},{"$f":"'Data Feed'!J77","v":0},{"$f":"'Data Feed'!B77","v":0},{"$f":"'Data Feed'!C77","v":0},{"$f":"'Data Feed'!D77","v":0},{"$f":"'Data Feed'!E77","v":0},{"$f":"'Data Feed'!F77","v":0},{"$f":"'Data Feed'!G77","v":0},{"$f":"'Data Feed'!H77","v":0},{"$f":"'Data Feed'!I77","v":0},{"$f":"'Data Feed'!J77","v":0},{"$f":"'Data Feed'!K77","v":0},{"$f":"'Data Feed'!L77","v":0},{"$f":"'Data Feed'!M77","v":0},{"$f":"'Data Feed'!N77","v":0},{"$f":"'Data Feed'!O77","v":0},{"$f":"'Data Feed'!P77","v":0},{"$f":"'Data Feed'!Q77","v":0},{"$f":"'Data Feed'!R77","v":0},{"$f":"'Data Feed'!S77","v":0},{"$f":"'Data Feed'!T77","v":0},{"$f":"'Data Feed'!U77","v":0},{"$f":"'Data Feed'!V77","v":0},{"$f":"'Data Feed'!W77","v":0},{"$f":"'Data Feed'!X77","v":0},{"$f":"'Data Feed'!Y77","v":0},{"$f":"'Data Feed'!Z77","v":0},{"$f":"'Data Feed'!AA77","v":0},{"$f":"'Data Feed'!AB77","v":0},{"$f":"'Data Feed'!AC77","v":0},{"$f":"'Data Feed'!AD77","v":0},{"$f":"'Data Feed'!AE77","v":0},{"$f":"'Data Feed'!AF77","v":0},{"$f":"'Data Feed'!AG77","v":0},{"$f":"'Data Feed'!AH77","v":0},{"$f":"'Data Feed'!AI77","v":0}]
[{"$f":"B76&\"_\"&COUNTIF($B$1:B76,B76)","v":"0_73"},{"$f":"'Data Feed'!J78","v":0},{"$f":"'Data Feed'!B78","v":0},{"$f":"'Data Feed'!C78","v":0},{"$f":"'Data Feed'!D78","v":0},{"$f":"'Data Feed'!E78","v":0},{"$f":"'Data Feed'!F78","v":0},{"$f":"'Data Feed'!G78","v":0},{"$f":"'Data Feed'!H78","v":0},{"$f":"'Data Feed'!I78","v":0},{"$f":"'Data Feed'!J78","v":0},{"$f":"'Data Feed'!K78","v":0},{"$f":"'Data Feed'!L78","v":0},{"$f":"'Data Feed'!M78","v":0},{"$f":"'Data Feed'!N78","v":0},{"$f":"'Data Feed'!O78","v":0},{"$f":"'Data Feed'!P78","v":0},{"$f":"'Data Feed'!Q78","v":0},{"$f":"'Data Feed'!R78","v":0},{"$f":"'Data Feed'!S78","v":0},{"$f":"'Data Feed'!T78","v":0},{"$f":"'Data Feed'!U78","v":0},{"$f":"'Data Feed'!V78","v":0},{"$f":"'Data Feed'!W78","v":0},{"$f":"'Data Feed'!X78","v":0},{"$f":"'Data Feed'!Y78","v":0},{"$f":"'Data Feed'!Z78","v":0},{"$f":"'Data Feed'!AA78","v":0},{"$f":"'Data Feed'!AB78","v":0},{"$f":"'Data Feed'!AC78","v":0},{"$f":"'Data Feed'!AD78","v":0},{"$f":"'Data Feed'!AE78","v":0},{"$f":"'Data Feed'!AF78","v":0},{"$f":"'Data Feed'!AG78","v":0},{"$f":"'Data Feed'!AH78","v":0},{"$f":"'Data Feed'!AI78","v":0}]
[{"$f":"B77&\"_\"&COUNTIF($B$1:B77,B77)","v":"0_74"},{"$f":"'Data Feed'!J79","v":0},{"$f":"'Data Feed'!B79","v":0},{"$f":"'Data Feed'!C79","v":0},{"$f":"'Data Feed'!D79","v":0},{"$f":"'Data Feed'!E79","v":0},{"$f":"'Data Feed'!F79","v":0},{"$f":"'Data Feed'!G79","v":0},{"$f":"'Data Feed'!H79","v":0},{"$f":"'Data Feed'!I79","v":0},{"$f":"'Data Feed'!J79","v":0},{"$f":"'Data Feed'!K79","v":0},{"$f":"'Data Feed'!L79","v":0},{"$f":"'Data Feed'!M79","v":0},{"$f":"'Data Feed'!N79","v":0},{"$f":"'Data Feed'!O79","v":0},{"$f":"'Data Feed'!P79","v":0},{"$f":"'Data Feed'!Q79","v":0},{"$f":"'Data Feed'!R79","v":0},{"$f":"'Data Feed'!S79","v":0},{"$f":"'Data Feed'!T79","v":0},{"$f":"'Data Feed'!U79","v":0},{"$f":"'Data Feed'!V79","v":0},{"$f":"'Data Feed'!W79","v":0},{"$f":"'Data Feed'!X79","v":0},{"$f":"'Data Feed'!Y79","v":0},{"$f":"'Data Feed'!Z79","v":0},{"$f":"'Data Feed'!AA79","v":0},{"$f":"'Data Feed'!AB79","v":0},{"$f":"'Data Feed'!AC79","v":0},{"$f":"'Data Feed'!AD79","v":0},{"$f":"'Data Feed'!AE79","v":0},{"$f":"'Data Feed'!AF79","v":0},{"$f":"'Data Feed'!AG79","v":0},{"$f":"'Data Feed'!AH79","v":0},{"$f":"'Data Feed'!AI79","v":0}]
[{"$f":"B78&\"_\"&COUNTIF($B$1:B78,B78)","v":"0_75"},{"$f":"'Data Feed'!J80","v":0},{"$f":"'Data Feed'!B80","v":0},{"$f":"'Data Feed'!C80","v":0},{"$f":"'Data Feed'!D80","v":0},{"$f":"'Data Feed'!E80","v":0},{"$f":"'Data Feed'!F80","v":0},{"$f":"'Data Feed'!G80","v":0},{"$f":"'Data Feed'!H80","v":0},{"$f":"'Data Feed'!I80","v":0},{"$f":"'Data Feed'!J80","v":0},{"$f":"'Data Feed'!K80","v":0},{"$f":"'Data Feed'!L80","v":0},{"$f":"'Data Feed'!M80","v":0},{"$f":"'Data Feed'!N80","v":0},{"$f":"'Data Feed'!O80","v":0},{"$f":"'Data Feed'!P80","v":0},{"$f":"'Data Feed'!Q80","v":0},{"$f":"'Data Feed'!R80","v":0},{"$f":"'Data Feed'!S80","v":0},{"$f":"'Data Feed'!T80","v":0},{"$f":"'Data Feed'!U80","v":0},{"$f":"'Data Feed'!V80","v":0},{"$f":"'Data Feed'!W80","v":0},{"$f":"'Data Feed'!X80","v":0},{"$f":"'Data Feed'!Y80","v":0},{"$f":"'Data Feed'!Z80","v":0},{"$f":"'Data Feed'!AA80","v":0},{"$f":"'Data Feed'!AB80","v":0},{"$f":"'Data Feed'!AC80","v":0},{"$f":"'Data Feed'!AD80","v":0},{"$f":"'Data Feed'!AE80","v":0},{"$f":"'Data Feed'!AF80","v":0},{"$f":"'Data Feed'!AG80","v":0},{"$f":"'Data Feed'!AH80","v":0},{"$f":"'Data Feed'!AI80","v":0}]
[{"$f":"B79&\"_\"&COUNTIF($B$1:B79,B79)","v":"0_76"},{"$f":"'Data Feed'!J81","v":0},{"$f":"'Data Feed'!B81","v":0},{"$f":"'Data Feed'!C81","v":0},{"$f":"'Data Feed'!D81","v":0},{"$f":"'Data Feed'!E81","v":0},{"$f":"'Data Feed'!F81","v":0},{"$f":"'Data Feed'!G81","v":0},{"$f":"'Data Feed'!H81","v":0},{"$f":"'Data Feed'!I81","v":0},{"$f":"'Data Feed'!J81","v":0},{"$f":"'Data Feed'!K81","v":0},{"$f":"'Data Feed'!L81","v":0},{"$f":"'Data Feed'!M81","v":0},{"$f":"'Data Feed'!N81","v":0},{"$f":"'Data Feed'!O81","v":0},{"$f":"'Data Feed'!P81","v":0},{"$f":"'Data Feed'!Q81","v":0},{"$f":"'Data Feed'!R81","v":0},{"$f":"'Data Feed'!S81","v":0},{"$f":"'Data Feed'!T81","v":0},{"$f":"'Data Feed'!U81","v":0},{"$f":"'Data Feed'!V81","v":0},{"$f":"'Data Feed'!W81","v":0},{"$f":"'Data Feed'!X81","v":0},{"$f":"'Data Feed'!Y81","v":0},{"$f":"'Data Feed'!Z81","v":0},{"$f":"'Data Feed'!AA81","v":0},{"$f":"'Data Feed'!AB81","v":0},{"$f":"'Data Feed'!AC81","v":0},{"$f":"'Data Feed'!AD81","v":0},{"$f":"'Data Feed'!AE81","v":0},{"$f":"'Data Feed'!AF81","v":0},{"$f":"'Data Feed'!AG81","v":0},{"$f":"'Data Feed'!AH81","v":0},{"$f":"'Data Feed'!AI81","v":0}]
[{"$f":"B80&\"_\"&COUNTIF($B$1:B80,B80)","v":"0_77"},{"$f":"'Data Feed'!J82","v":0},{"$f":"'Data Feed'!B82","v":0},{"$f":"'Data Feed'!C82","v":0},{"$f":"'Data Feed'!D82","v":0},{"$f":"'Data Feed'!E82","v":0},{"$f":"'Data Feed'!F82","v":0},{"$f":"'Data Feed'!G82","v":0},{"$f":"'Data Feed'!H82","v":0},{"$f":"'Data Feed'!I82","v":0},{"$f":"'Data Feed'!J82","v":0},{"$f":"'Data Feed'!K82","v":0},{"$f":"'Data Feed'!L82","v":0},{"$f":"'Data Feed'!M82","v":0},{"$f":"'Data Feed'!N82","v":0},{"$f":"'Data Feed'!O82","v":0},{"$f":"'Data Feed'!P82","v":0},{"$f":"'Data Feed'!Q82","v":0},{"$f":"'Data Feed'!R82","v":0},{"$f":"'Data Feed'!S82","v":0},{"$f":"'Data Feed'!T82","v":0},{"$f":"'Data Feed'!U82","v":0},{"$f":"'Data Feed'!V82","v":0},{"$f":"'Data Feed'!W82","v":0},{"$f":"'Data Feed'!X82","v":0},{"$f":"'Data Feed'!Y82","v":0},{"$f":"'Data Feed'!Z82","v":0},{"$f":"'Data Feed'!AA82","v":0},{"$f":"'Data Feed'!AB82","v":0},{"$f":"'Data Feed'!AC82","v":0},{"$f":"'Data Feed'!AD82","v":0},{"$f":"'Data Feed'!AE82","v":0},{"$f":"'Data Feed'!AF82","v":0},{"$f":"'Data Feed'!AG82","v":0},{"$f":"'Data Feed'!AH82","v":0},{"$f":"'Data Feed'!AI82","v":0}]
[{"$f":"B81&\"_\"&COUNTIF($B$1:B81,B81)","v":"0_78"},{"$f":"'Data Feed'!J83","v":0},{"$f":"'Data Feed'!B83","v":0},{"$f":"'Data Feed'!C83","v":0},{"$f":"'Data Feed'!D83","v":0},{"$f":"'Data Feed'!E83","v":0},{"$f":"'Data Feed'!F83","v":0},{"$f":"'Data Feed'!G83","v":0},{"$f":"'Data Feed'!H83","v":0},{"$f":"'Data Feed'!I83","v":0},{"$f":"'Data Feed'!J83","v":0},{"$f":"'Data Feed'!K83","v":0},{"$f":"'Data Feed'!L83","v":0},{"$f":"'Data Feed'!M83","v":0},{"$f":"'Data Feed'!N83","v":0},{"$f":"'Data Feed'!O83","v":0},{"$f":"'Data Feed'!P83","v":0},{"$f":"'Data Feed'!Q83","v":0},{"$f":"'Data Feed'!R83","v":0},{"$f":"'Data Feed'!S83","v":0},{"$f":"'Data Feed'!T83","v":0},{"$f":"'Data Feed'!U83","v":0},{"$f":"'Data Feed'!V83","v":0},{"$f":"'Data Feed'!W83","v":0},{"$f":"'Data Feed'!X83","v":0},{"$f":"'Data Feed'!Y83","v":0},{"$f":"'Data Feed'!Z83","v":0},{"$f":"'Data Feed'!AA83","v":0},{"$f":"'Data Feed'!AB83","v":0},{"$f":"'Data Feed'!AC83","v":0},{"$f":"'Data Feed'!AD83","v":0},{"$f":"'Data Feed'!AE83","v":0},{"$f":"'Data Feed'!AF83","v":0},{"$f":"'Data Feed'!AG83","v":0},{"$f":"'Data Feed'!AH83","v":0},{"$f":"'Data Feed'!AI83","v":0}]
[{"$f":"B82&\"_\"&COUNTIF($B$1:B82,B82)","v":"0_79"},{"$f":"'Data Feed'!J84","v":0},{"$f":"'Data Feed'!B84","v":0},{"$f":"'Data Feed'!C84","v":0},{"$f":"'Data Feed'!D84","v":0},{"$f":"'Data Feed'!E84","v":0},{"$f":"'Data Feed'!F84","v":0},{"$f":"'Data Feed'!G84","v":0},{"$f":"'Data Feed'!H84","v":0},{"$f":"'Data Feed'!I84","v":0},{"$f":"'Data Feed'!J84","v":0},{"$f":"'Data Feed'!K84","v":0},{"$f":"'Data Feed'!L84","v":0},{"$f":"'Data Feed'!M84","v":0},{"$f":"'Data Feed'!N84","v":0},{"$f":"'Data Feed'!O84","v":0},{"$f":"'Data Feed'!P84","v":0},{"$f":"'Data Feed'!Q84","v":0},{"$f":"'Data Feed'!R84","v":0},{"$f":"'Data Feed'!S84","v":0},{"$f":"'Data Feed'!T84","v":0},{"$f":"'Data Feed'!U84","v":0},{"$f":"'Data Feed'!V84","v":0},{"$f":"'Data Feed'!W84","v":0},{"$f":"'Data Feed'!X84","v":0},{"$f":"'Data Feed'!Y84","v":0},{"$f":"'Data Feed'!Z84","v":0},{"$f":"'Data Feed'!AA84","v":0},{"$f":"'Data Feed'!AB84","v":0},{"$f":"'Data Feed'!AC84","v":0},{"$f":"'Data Feed'!AD84","v":0},{"$f":"'Data Feed'!AE84","v":0},{"$f":"'Data Feed'!AF84","v":0},{"$f":"'Data Feed'!AG84","v":0},{"$f":"'Data Feed'!AH84","v":0},{"$f":"'Data Feed'!AI84","v":0}]
[{"$f":"B83&\"_\"&COUNTIF($B$1:B83,B83)","v":"0_80"},{"$f":"'Data Feed'!J85","v":0},{"$f":"'Data Feed'!B85","v":0},{"$f":"'Data Feed'!C85","v":0},{"$f":"'Data Feed'!D85","v":0},{"$f":"'Data Feed'!E85","v":0},{"$f":"'Data Feed'!F85","v":0},{"$f":"'Data Feed'!G85","v":0},{"$f":"'Data Feed'!H85","v":0},{"$f":"'Data Feed'!I85","v":0},{"$f":"'Data Feed'!J85","v":0},{"$f":"'Data Feed'!K85","v":0},{"$f":"'Data Feed'!L85","v":0},{"$f":"'Data Feed'!M85","v":0},{"$f":"'Data Feed'!N85","v":0},{"$f":"'Data Feed'!O85","v":0},{"$f":"'Data Feed'!P85","v":0},{"$f":"'Data Feed'!Q85","v":0},{"$f":"'Data Feed'!R85","v":0},{"$f":"'Data Feed'!S85","v":0},{"$f":"'Data Feed'!T85","v":0},{"$f":"'Data Feed'!U85","v":0},{"$f":"'Data Feed'!V85","v":0},{"$f":"'Data Feed'!W85","v":0},{"$f":"'Data Feed'!X85","v":0},{"$f":"'Data Feed'!Y85","v":0},{"$f":"'Data Feed'!Z85","v":0},{"$f":"'Data Feed'!AA85","v":0},{"$f":"'Data Feed'!AB85","v":0},{"$f":"'Data Feed'!AC85","v":0},{"$f":"'Data Feed'!AD85","v":0},{"$f":"'Data Feed'!AE85","v":0},{"$f":"'Data Feed'!AF85","v":0},{"$f":"'Data Feed'!AG85","v":0},{"$f":"'Data Feed'!AH85","v":0},{"$f":"'Data Feed'!AI85","v":0}]
[{"$f":"B84&\"_\"&COUNTIF($B$1:B84,B84)","v":"0_81"},{"$f":"'Data Feed'!J86","v":0},{"$f":"'Data Feed'!B86","v":0},{"$f":"'Data Feed'!C86","v":0},{"$f":"'Data Feed'!D86","v":0},{"$f":"'Data Feed'!E86","v":0},{"$f":"'Data Feed'!F86","v":0},{"$f":"'Data Feed'!G86","v":0},{"$f":"'Data Feed'!H86","v":0},{"$f":"'Data Feed'!I86","v":0},{"$f":"'Data Feed'!J86","v":0},{"$f":"'Data Feed'!K86","v":0},{"$f":"'Data Feed'!L86","v":0},{"$f":"'Data Feed'!M86","v":0},{"$f":"'Data Feed'!N86","v":0},{"$f":"'Data Feed'!O86","v":0},{"$f":"'Data Feed'!P86","v":0},{"$f":"'Data Feed'!Q86","v":0},{"$f":"'Data Feed'!R86","v":0},{"$f":"'Data Feed'!S86","v":0},{"$f":"'Data Feed'!T86","v":0},{"$f":"'Data Feed'!U86","v":0},{"$f":"'Data Feed'!V86","v":0},{"$f":"'Data Feed'!W86","v":0},{"$f":"'Data Feed'!X86","v":0},{"$f":"'Data Feed'!Y86","v":0},{"$f":"'Data Feed'!Z86","v":0},{"$f":"'Data Feed'!AA86","v":0},{"$f":"'Data Feed'!AB86","v":0},{"$f":"'Data Feed'!AC86","v":0},{"$f":"'Data Feed'!AD86","v":0},{"$f":"'Data Feed'!AE86","v":0},{"$f":"'Data Feed'!AF86","v":0},{"$f":"'Data Feed'!AG86","v":0},{"$f":"'Data Feed'!AH86","v":0},{"$f":"'Data Feed'!AI86","v":0}]
[{"$f":"B85&\"_\"&COUNTIF($B$1:B85,B85)","v":"0_82"},{"$f":"'Data Feed'!J87","v":0},{"$f":"'Data Feed'!B87","v":0},{"$f":"'Data Feed'!C87","v":0},{"$f":"'Data Feed'!D87","v":0},{"$f":"'Data Feed'!E87","v":0},{"$f":"'Data Feed'!F87","v":0},{"$f":"'Data Feed'!G87","v":0},{"$f":"'Data Feed'!H87","v":0},{"$f":"'Data Feed'!I87","v":0},{"$f":"'Data Feed'!J87","v":0},{"$f":"'Data Feed'!K87","v":0},{"$f":"'Data Feed'!L87","v":0},{"$f":"'Data Feed'!M87","v":0},{"$f":"'Data Feed'!N87","v":0},{"$f":"'Data Feed'!O87","v":0},{"$f":"'Data Feed'!P87","v":0},{"$f":"'Data Feed'!Q87","v":0},{"$f":"'Data Feed'!R87","v":0},{"$f":"'Data Feed'!S87","v":0},{"$f":"'Data Feed'!T87","v":0},{"$f":"'Data Feed'!U87","v":0},{"$f":"'Data Feed'!V87","v":0},{"$f":"'Data Feed'!W87","v":0},{"$f":"'Data Feed'!X87","v":0},{"$f":"'Data Feed'!Y87","v":0},{"$f":"'Data Feed'!Z87","v":0},{"$f":"'Data Feed'!AA87","v":0},{"$f":"'Data Feed'!AB87","v":0},{"$f":"'Data Feed'!AC87","v":0},{"$f":"'Data Feed'!AD87","v":0},{"$f":"'Data Feed'!AE87","v":0},{"$f":"'Data Feed'!AF87","v":0},{"$f":"'Data Feed'!AG87","v":0},{"$f":"'Data Feed'!AH87","v":0},{"$f":"'Data Feed'!AI87","v":0}]
[{"$f":"B86&\"_\"&COUNTIF($B$1:B86,B86)","v":"0_83"},{"$f":"'Data Feed'!J88","v":0},{"$f":"'Data Feed'!B88","v":0},{"$f":"'Data Feed'!C88","v":0},{"$f":"'Data Feed'!D88","v":0},{"$f":"'Data Feed'!E88","v":0},{"$f":"'Data Feed'!F88","v":0},{"$f":"'Data Feed'!G88","v":0},{"$f":"'Data Feed'!H88","v":0},{"$f":"'Data Feed'!I88","v":0},{"$f":"'Data Feed'!J88","v":0},{"$f":"'Data Feed'!K88","v":0},{"$f":"'Data Feed'!L88","v":0},{"$f":"'Data Feed'!M88","v":0},{"$f":"'Data Feed'!N88","v":0},{"$f":"'Data Feed'!O88","v":0},{"$f":"'Data Feed'!P88","v":0},{"$f":"'Data Feed'!Q88","v":0},{"$f":"'Data Feed'!R88","v":0},{"$f":"'Data Feed'!S88","v":0},{"$f":"'Data Feed'!T88","v":0},{"$f":"'Data Feed'!U88","v":0},{"$f":"'Data Feed'!V88","v":0},{"$f":"'Data Feed'!W88","v":0},{"$f":"'Data Feed'!X88","v":0},{"$f":"'Data Feed'!Y88","v":0},{"$f":"'Data Feed'!Z88","v":0},{"$f":"'Data Feed'!AA88","v":0},{"$f":"'Data Feed'!AB88","v":0},{"$f":"'Data Feed'!AC88","v":0},{"$f":"'Data Feed'!AD88","v":0},{"$f":"'Data Feed'!AE88","v":0},{"$f":"'Data Feed'!AF88","v":0},{"$f":"'Data Feed'!AG88","v":0},{"$f":"'Data Feed'!AH88","v":0},{"$f":"'Data Feed'!AI88","v":0}]
[{"$f":"B87&\"_\"&COUNTIF($B$1:B87,B87)","v":"0_84"},{"$f":"'Data Feed'!J89","v":0},{"$f":"'Data Feed'!B89","v":0},{"$f":"'Data Feed'!C89","v":0},{"$f":"'Data Feed'!D89","v":0},{"$f":"'Data Feed'!E89","v":0},{"$f":"'Data Feed'!F89","v":0},{"$f":"'Data Feed'!G89","v":0},{"$f":"'Data Feed'!H89","v":0},{"$f":"'Data Feed'!I89","v":0},{"$f":"'Data Feed'!J89","v":0},{"$f":"'Data Feed'!K89","v":0},{"$f":"'Data Feed'!L89","v":0},{"$f":"'Data Feed'!M89","v":0},{"$f":"'Data Feed'!N89","v":0},{"$f":"'Data Feed'!O89","v":0},{"$f":"'Data Feed'!P89","v":0},{"$f":"'Data Feed'!Q89","v":0},{"$f":"'Data Feed'!R89","v":0},{"$f":"'Data Feed'!S89","v":0},{"$f":"'Data Feed'!T89","v":0},{"$f":"'Data Feed'!U89","v":0},{"$f":"'Data Feed'!V89","v":0},{"$f":"'Data Feed'!W89","v":0},{"$f":"'Data Feed'!X89","v":0},{"$f":"'Data Feed'!Y89","v":0},{"$f":"'Data Feed'!Z89","v":0},{"$f":"'Data Feed'!AA89","v":0},{"$f":"'Data Feed'!AB89","v":0},{"$f":"'Data Feed'!AC89","v":0},{"$f":"'Data Feed'!AD89","v":0},{"$f":"'Data Feed'!AE89","v":0},{"$f":"'Data Feed'!AF89","v":0},{"$f":"'Data Feed'!AG89","v":0},{"$f":"'Data Feed'!AH89","v":0},{"$f":"'Data Feed'!AI89","v":0}]
[{"$f":"B88&\"_\"&COUNTIF($B$1:B88,B88)","v":"0_85"},{"$f":"'Data Feed'!J90","v":0},{"$f":"'Data Feed'!B90","v":0},{"$f":"'Data Feed'!C90","v":0},{"$f":"'Data Feed'!D90","v":0},{"$f":"'Data Feed'!E90","v":0},{"$f":"'Data Feed'!F90","v":0},{"$f":"'Data Feed'!G90","v":0},{"$f":"'Data Feed'!H90","v":0},{"$f":"'Data Feed'!I90","v":0},{"$f":"'Data Feed'!J90","v":0},{"$f":"'Data Feed'!K90","v":0},{"$f":"'Data Feed'!L90","v":0},{"$f":"'Data Feed'!M90","v":0},{"$f":"'Data Feed'!N90","v":0},{"$f":"'Data Feed'!O90","v":0},{"$f":"'Data Feed'!P90","v":0},{"$f":"'Data Feed'!Q90","v":0},{"$f":"'Data Feed'!R90","v":0},{"$f":"'Data Feed'!S90","v":0},{"$f":"'Data Feed'!T90","v":0},{"$f":"'Data Feed'!U90","v":0},{"$f":"'Data Feed'!V90","v":0},{"$f":"'Data Feed'!W90","v":0},{"$f":"'Data Feed'!X90","v":0},{"$f":"'Data Feed'!Y90","v":0},{"$f":"'Data Feed'!Z90","v":0},{"$f":"'Data Feed'!AA90","v":0},{"$f":"'Data Feed'!AB90","v":0},{"$f":"'Data Feed'!AC90","v":0},{"$f":"'Data Feed'!AD90","v":0},{"$f":"'Data Feed'!AE90","v":0},{"$f":"'Data Feed'!AF90","v":0},{"$f":"'Data Feed'!AG90","v":0},{"$f":"'Data Feed'!AH90","v":0},{"$f":"'Data Feed'!AI90","v":0}]
[{"$f":"B89&\"_\"&COUNTIF($B$1:B89,B89)","v":"0_86"},{"$f":"'Data Feed'!J91","v":0},{"$f":"'Data Feed'!B91","v":0},{"$f":"'Data Feed'!C91","v":0},{"$f":"'Data Feed'!D91","v":0},{"$f":"'Data Feed'!E91","v":0},{"$f":"'Data Feed'!F91","v":0},{"$f":"'Data Feed'!G91","v":0},{"$f":"'Data Feed'!H91","v":0},{"$f":"'Data Feed'!I91","v":0},{"$f":"'Data Feed'!J91","v":0},{"$f":"'Data Feed'!K91","v":0},{"$f":"'Data Feed'!L91","v":0},{"$f":"'Data Feed'!M91","v":0},{"$f":"'Data Feed'!N91","v":0},{"$f":"'Data Feed'!O91","v":0},{"$f":"'Data Feed'!P91","v":0},{"$f":"'Data Feed'!Q91","v":0},{"$f":"'Data Feed'!R91","v":0},{"$f":"'Data Feed'!S91","v":0},{"$f":"'Data Feed'!T91","v":0},{"$f":"'Data Feed'!U91","v":0},{"$f":"'Data Feed'!V91","v":0},{"$f":"'Data Feed'!W91","v":0},{"$f":"'Data Feed'!X91","v":0},{"$f":"'Data Feed'!Y91","v":0},{"$f":"'Data Feed'!Z91","v":0},{"$f":"'Data Feed'!AA91","v":0},{"$f":"'Data Feed'!AB91","v":0},{"$f":"'Data Feed'!AC91","v":0},{"$f":"'Data Feed'!AD91","v":0},{"$f":"'Data Feed'!AE91","v":0},{"$f":"'Data Feed'!AF91","v":0},{"$f":"'Data Feed'!AG91","v":0},{"$f":"'Data Feed'!AH91","v":0},{"$f":"'Data Feed'!AI91","v":0}]
[{"$f":"B90&\"_\"&COUNTIF($B$1:B90,B90)","v":"0_87"},{"$f":"'Data Feed'!J92","v":0},{"$f":"'Data Feed'!B92","v":0},{"$f":"'Data Feed'!C92","v":0},{"$f":"'Data Feed'!D92","v":0},{"$f":"'Data Feed'!E92","v":0},{"$f":"'Data Feed'!F92","v":0},{"$f":"'Data Feed'!G92","v":0},{"$f":"'Data Feed'!H92","v":0},{"$f":"'Data Feed'!I92","v":0},{"$f":"'Data Feed'!J92","v":0},{"$f":"'Data Feed'!K92","v":0},{"$f":"'Data Feed'!L92","v":0},{"$f":"'Data Feed'!M92","v":0},{"$f":"'Data Feed'!N92","v":0},{"$f":"'Data Feed'!O92","v":0},{"$f":"'Data Feed'!P92","v":0},{"$f":"'Data Feed'!Q92","v":0},{"$f":"'Data Feed'!R92","v":0},{"$f":"'Data Feed'!S92","v":0},{"$f":"'Data Feed'!T92","v":0},{"$f":"'Data Feed'!U92","v":0},{"$f":"'Data Feed'!V92","v":0},{"$f":"'Data Feed'!W92","v":0},{"$f":"'Data Feed'!X92","v":0},{"$f":"'Data Feed'!Y92","v":0},{"$f":"'Data Feed'!Z92","v":0},{"$f":"'Data Feed'!AA92","v":0},{"$f":"'Data Feed'!AB92","v":0},{"$f":"'Data Feed'!AC92","v":0},{"$f":"'Data Feed'!AD92","v":0},{"$f":"'Data Feed'!AE92","v":0},{"$f":"'Data Feed'!AF92","v":0},{"$f":"'Data Feed'!AG92","v":0},{"$f":"'Data Feed'!AH92","v":0},{"$f":"'Data Feed'!AI92","v":0}]
[{"$f":"B91&\"_\"&COUNTIF($B$1:B91,B91)","v":"0_88"},{"$f":"'Data Feed'!J93","v":0},{"$f":"'Data Feed'!B93","v":0},{"$f":"'Data Feed'!C93","v":0},{"$f":"'Data Feed'!D93","v":0},{"$f":"'Data Feed'!E93","v":0},{"$f":"'Data Feed'!F93","v":0},{"$f":"'Data Feed'!G93","v":0},{"$f":"'Data Feed'!H93","v":0},{"$f":"'Data Feed'!I93","v":0},{"$f":"'Data Feed'!J93","v":0},{"$f":"'Data Feed'!K93","v":0},{"$f":"'Data Feed'!L93","v":0},{"$f":"'Data Feed'!M93","v":0},{"$f":"'Data Feed'!N93","v":0},{"$f":"'Data Feed'!O93","v":0},{"$f":"'Data Feed'!P93","v":0},{"$f":"'Data Feed'!Q93","v":0},{"$f":"'Data Feed'!R93","v":0},{"$f":"'Data Feed'!S93","v":0},{"$f":"'Data Feed'!T93","v":0},{"$f":"'Data Feed'!U93","v":0},{"$f":"'Data Feed'!V93","v":0},{"$f":"'Data Feed'!W93","v":0},{"$f":"'Data Feed'!X93","v":0},{"$f":"'Data Feed'!Y93","v":0},{"$f":"'Data Feed'!Z93","v":0},{"$f":"'Data Feed'!AA93","v":0},{"$f":"'Data Feed'!AB93","v":0},{"$f":"'Data Feed'!AC93","v":0},{"$f":"'Data Feed'!AD93","v":0},{"$f":"'Data Feed'!AE93","v":0},{"$f":"'Data Feed'!AF93","v":0},{"$f":"'Data Feed'!AG93","v":0},{"$f":"'Data Feed'!AH93","v":0},{"$f":"'Data Feed'!AI93","v":0}]
[{"$f":"B92&\"_\"&COUNTIF($B$1:B92,B92)","v":"0_89"},{"$f":"'Data Feed'!J94","v":0},{"$f":"'Data Feed'!B94","v":0},{"$f":"'Data Feed'!C94","v":0},{"$f":"'Data Feed'!D94","v":0},{"$f":"'Data Feed'!E94","v":0},{"$f":"'Data Feed'!F94","v":0},{"$f":"'Data Feed'!G94","v":0},{"$f":"'Data Feed'!H94","v":0},{"$f":"'Data Feed'!I94","v":0},{"$f":"'Data Feed'!J94","v":0},{"$f":"'Data Feed'!K94","v":0},{"$f":"'Data Feed'!L94","v":0},{"$f":"'Data Feed'!M94","v":0},{"$f":"'Data Feed'!N94","v":0},{"$f":"'Data Feed'!O94","v":0},{"$f":"'Data Feed'!P94","v":0},{"$f":"'Data Feed'!Q94","v":0},{"$f":"'Data Feed'!R94","v":0},{"$f":"'Data Feed'!S94","v":0},{"$f":"'Data Feed'!T94","v":0},{"$f":"'Data Feed'!U94","v":0},{"$f":"'Data Feed'!V94","v":0},{"$f":"'Data Feed'!W94","v":0},{"$f":"'Data Feed'!X94","v":0},{"$f":"'Data Feed'!Y94","v":0},{"$f":"'Data Feed'!Z94","v":0},{"$f":"'Data Feed'!AA94","v":0},{"$f":"'Data Feed'!AB94","v":0},{"$f":"'Data Feed'!AC94","v":0},{"$f":"'Data Feed'!AD94","v":0},{"$f":"'Data Feed'!AE94","v":0},{"$f":"'Data Feed'!AF94","v":0},{"$f":"'Data Feed'!AG94","v":0},{"$f":"'Data Feed'!AH94","v":0},{"$f":"'Data Feed'!AI94","v":0}]
[{"$f":"B93&\"_\"&COUNTIF($B$1:B93,B93)","v":"0_90"},{"$f":"'Data Feed'!J95","v":0},{"$f":"'Data Feed'!B95","v":0},{"$f":"'Data Feed'!C95","v":0},{"$f":"'Data Feed'!D95","v":0},{"$f":"'Data Feed'!E95","v":0},{"$f":"'Data Feed'!F95","v":0},{"$f":"'Data Feed'!G95","v":0},{"$f":"'Data Feed'!H95","v":0},{"$f":"'Data Feed'!I95","v":0},{"$f":"'Data Feed'!J95","v":0},{"$f":"'Data Feed'!K95","v":0},{"$f":"'Data Feed'!L95","v":0},{"$f":"'Data Feed'!M95","v":0},{"$f":"'Data Feed'!N95","v":0},{"$f":"'Data Feed'!O95","v":0},{"$f":"'Data Feed'!P95","v":0},{"$f":"'Data Feed'!Q95","v":0},{"$f":"'Data Feed'!R95","v":0},{"$f":"'Data Feed'!S95","v":0},{"$f":"'Data Feed'!T95","v":0},{"$f":"'Data Feed'!U95","v":0},{"$f":"'Data Feed'!V95","v":0},{"$f":"'Data Feed'!W95","v":0},{"$f":"'Data Feed'!X95","v":0},{"$f":"'Data Feed'!Y95","v":0},{"$f":"'Data Feed'!Z95","v":0},{"$f":"'Data Feed'!AA95","v":0},{"$f":"'Data Feed'!AB95","v":0},{"$f":"'Data Feed'!AC95","v":0},{"$f":"'Data Feed'!AD95","v":0},{"$f":"'Data Feed'!AE95","v":0},{"$f":"'Data Feed'!AF95","v":0},{"$f":"'Data Feed'!AG95","v":0},{"$f":"'Data Feed'!AH95","v":0},{"$f":"'Data Feed'!AI95","v":0}]
[{"$f":"B94&\"_\"&COUNTIF($B$1:B94,B94)","v":"0_91"},{"$f":"'Data Feed'!J96","v":0},{"$f":"'Data Feed'!B96","v":0},{"$f":"'Data Feed'!C96","v":0},{"$f":"'Data Feed'!D96","v":0},{"$f":"'Data Feed'!E96","v":0},{"$f":"'Data Feed'!F96","v":0},{"$f":"'Data Feed'!G96","v":0},{"$f":"'Data Feed'!H96","v":0},{"$f":"'Data Feed'!I96","v":0},{"$f":"'Data Feed'!J96","v":0},{"$f":"'Data Feed'!K96","v":0},{"$f":"'Data Feed'!L96","v":0},{"$f":"'Data Feed'!M96","v":0},{"$f":"'Data Feed'!N96","v":0},{"$f":"'Data Feed'!O96","v":0},{"$f":"'Data Feed'!P96","v":0},{"$f":"'Data Feed'!Q96","v":0},{"$f":"'Data Feed'!R96","v":0},{"$f":"'Data Feed'!S96","v":0},{"$f":"'Data Feed'!T96","v":0},{"$f":"'Data Feed'!U96","v":0},{"$f":"'Data Feed'!V96","v":0},{"$f":"'Data Feed'!W96","v":0},{"$f":"'Data Feed'!X96","v":0},{"$f":"'Data Feed'!Y96","v":0},{"$f":"'Data Feed'!Z96","v":0},{"$f":"'Data Feed'!AA96","v":0},{"$f":"'Data Feed'!AB96","v":0},{"$f":"'Data Feed'!AC96","v":0},{"$f":"'Data Feed'!AD96","v":0},{"$f":"'Data Feed'!AE96","v":0},{"$f":"'Data Feed'!AF96","v":0},{"$f":"'Data Feed'!AG96","v":0},{"$f":"'Data Feed'!AH96","v":0},{"$f":"'Data Feed'!AI96","v":0}]
[{"$f":"B95&\"_\"&COUNTIF($B$1:B95,B95)","v":"0_92"},{"$f":"'Data Feed'!J97","v":0},{"$f":"'Data Feed'!B97","v":0},{"$f":"'Data Feed'!C97","v":0},{"$f":"'Data Feed'!D97","v":0},{"$f":"'Data Feed'!E97","v":0},{"$f":"'Data Feed'!F97","v":0},{"$f":"'Data Feed'!G97","v":0},{"$f":"'Data Feed'!H97","v":0},{"$f":"'Data Feed'!I97","v":0},{"$f":"'Data Feed'!J97","v":0},{"$f":"'Data Feed'!K97","v":0},{"$f":"'Data Feed'!L97","v":0},{"$f":"'Data Feed'!M97","v":0},{"$f":"'Data Feed'!N97","v":0},{"$f":"'Data Feed'!O97","v":0},{"$f":"'Data Feed'!P97","v":0},{"$f":"'Data Feed'!Q97","v":0},{"$f":"'Data Feed'!R97","v":0},{"$f":"'Data Feed'!S97","v":0},{"$f":"'Data Feed'!T97","v":0},{"$f":"'Data Feed'!U97","v":0},{"$f":"'Data Feed'!V97","v":0},{"$f":"'Data Feed'!W97","v":0},{"$f":"'Data Feed'!X97","v":0},{"$f":"'Data Feed'!Y97","v":0},{"$f":"'Data Feed'!Z97","v":0},{"$f":"'Data Feed'!AA97","v":0},{"$f":"'Data Feed'!AB97","v":0},{"$f":"'Data Feed'!AC97","v":0},{"$f":"'Data Feed'!AD97","v":0},{"$f":"'Data Feed'!AE97","v":0},{"$f":"'Data Feed'!AF97","v":0},{"$f":"'Data Feed'!AG97","v":0},{"$f":"'Data Feed'!AH97","v":0},{"$f":"'Data Feed'!AI97","v":0}]
[{"$f":"B96&\"_\"&COUNTIF($B$1:B96,B96)","v":"0_93"},{"$f":"'Data Feed'!J98","v":0},{"$f":"'Data Feed'!B98","v":0},{"$f":"'Data Feed'!C98","v":0},{"$f":"'Data Feed'!D98","v":0},{"$f":"'Data Feed'!E98","v":0},{"$f":"'Data Feed'!F98","v":0},{"$f":"'Data Feed'!G98","v":0},{"$f":"'Data Feed'!H98","v":0},{"$f":"'Data Feed'!I98","v":0},{"$f":"'Data Feed'!J98","v":0},{"$f":"'Data Feed'!K98","v":0},{"$f":"'Data Feed'!L98","v":0},{"$f":"'Data Feed'!M98","v":0},{"$f":"'Data Feed'!N98","v":0},{"$f":"'Data Feed'!O98","v":0},{"$f":"'Data Feed'!P98","v":0},{"$f":"'Data Feed'!Q98","v":0},{"$f":"'Data Feed'!R98","v":0},{"$f":"'Data Feed'!S98","v":0},{"$f":"'Data Feed'!T98","v":0},{"$f":"'Data Feed'!U98","v":0},{"$f":"'Data Feed'!V98","v":0},{"$f":"'Data Feed'!W98","v":0},{"$f":"'Data Feed'!X98","v":0},{"$f":"'Data Feed'!Y98","v":0},{"$f":"'Data Feed'!Z98","v":0},{"$f":"'Data Feed'!AA98","v":0},{"$f":"'Data Feed'!AB98","v":0},{"$f":"'Data Feed'!AC98","v":0},{"$f":"'Data Feed'!AD98","v":0},{"$f":"'Data Feed'!AE98","v":0},{"$f":"'Data Feed'!AF98","v":0},{"$f":"'Data Feed'!AG98","v":0},{"$f":"'Data Feed'!AH98","v":0},{"$f":"'Data Feed'!AI98","v":0}]
[{"$f":"B97&\"_\"&COUNTIF($B$1:B97,B97)","v":"0_94"},{"$f":"'Data Feed'!J99","v":0},{"$f":"'Data Feed'!B99","v":0},{"$f":"'Data Feed'!C99","v":0},{"$f":"'Data Feed'!D99","v":0},{"$f":"'Data Feed'!E99","v":0},{"$f":"'Data Feed'!F99","v":0},{"$f":"'Data Feed'!G99","v":0},{"$f":"'Data Feed'!H99","v":0},{"$f":"'Data Feed'!I99","v":0},{"$f":"'Data Feed'!J99","v":0},{"$f":"'Data Feed'!K99","v":0},{"$f":"'Data Feed'!L99","v":0},{"$f":"'Data Feed'!M99","v":0},{"$f":"'Data Feed'!N99","v":0},{"$f":"'Data Feed'!O99","v":0},{"$f":"'Data Feed'!P99","v":0},{"$f":"'Data Feed'!Q99","v":0},{"$f":"'Data Feed'!R99","v":0},{"$f":"'Data Feed'!S99","v":0},{"$f":"'Data Feed'!T99","v":0},{"$f":"'Data Feed'!U99","v":0},{"$f":"'Data Feed'!V99","v":0},{"$f":"'Data Feed'!W99","v":0},{"$f":"'Data Feed'!X99","v":0},{"$f":"'Data Feed'!Y99","v":0},{"$f":"'Data Feed'!Z99","v":0},{"$f":"'Data Feed'!AA99","v":0},{"$f":"'Data Feed'!AB99","v":0},{"$f":"'Data Feed'!AC99","v":0},{"$f":"'Data Feed'!AD99","v":0},{"$f":"'Data Feed'!AE99","v":0},{"$f":"'Data Feed'!AF99","v":0},{"$f":"'Data Feed'!AG99","v":0},{"$f":"'Data Feed'!AH99","v":0},{"$f":"'Data Feed'!AI99","v":0}]
[{"$f":"B98&\"_\"&COUNTIF($B$1:B98,B98)","v":"0_95"},{"$f":"'Data Feed'!J100","v":0},{"$f":"'Data Feed'!B100","v":0},{"$f":"'Data Feed'!C100","v":0},{"$f":"'Data Feed'!D100","v":0},{"$f":"'Data Feed'!E100","v":0},{"$f":"'Data Feed'!F100","v":0},{"$f":"'Data Feed'!G100","v":0},{"$f":"'Data Feed'!H100","v":0},{"$f":"'Data Feed'!I100","v":0},{"$f":"'Data Feed'!J100","v":0},{"$f":"'Data Feed'!K100","v":0},{"$f":"'Data Feed'!L100","v":0},{"$f":"'Data Feed'!M100","v":0},{"$f":"'Data Feed'!N100","v":0},{"$f":"'Data Feed'!O100","v":0},{"$f":"'Data Feed'!P100","v":0},{"$f":"'Data Feed'!Q100","v":0},{"$f":"'Data Feed'!R100","v":0},{"$f":"'Data Feed'!S100","v":0},{"$f":"'Data Feed'!T100","v":0},{"$f":"'Data Feed'!U100","v":0},{"$f":"'Data Feed'!V100","v":0},{"$f":"'Data Feed'!W100","v":0},{"$f":"'Data Feed'!X100","v":0},{"$f":"'Data Feed'!Y100","v":0},{"$f":"'Data Feed'!Z100","v":0},{"$f":"'Data Feed'!AA100","v":0},{"$f":"'Data Feed'!AB100","v":0},{"$f":"'Data Feed'!AC100","v":0},{"$f":"'Data Feed'!AD100","v":0},{"$f":"'Data Feed'!AE100","v":0},{"$f":"'Data Feed'!AF100","v":0},{"$f":"'Data Feed'!AG100","v":0},{"$f":"'Data Feed'!AH100","v":0},{"$f":"'Data Feed'!AI100","v":0}]
[{"$f":"B99&\"_\"&COUNTIF($B$1:B99,B99)","v":"0_96"},{"$f":"'Data Feed'!J101","v":0},{"$f":"'Data Feed'!B101","v":0},{"$f":"'Data Feed'!C101","v":0},{"$f":"'Data Feed'!D101","v":0},{"$f":"'Data Feed'!E101","v":0},{"$f":"'Data Feed'!F101","v":0},{"$f":"'Data Feed'!G101","v":0},{"$f":"'Data Feed'!H101","v":0},{"$f":"'Data Feed'!I101","v":0},{"$f":"'Data Feed'!J101","v":0},{"$f":"'Data Feed'!K101","v":0},{"$f":"'Data Feed'!L101","v":0},{"$f":"'Data Feed'!M101","v":0},{"$f":"'Data Feed'!N101","v":0},{"$f":"'Data Feed'!O101","v":0},{"$f":"'Data Feed'!P101","v":0},{"$f":"'Data Feed'!Q101","v":0},{"$f":"'Data Feed'!R101","v":0},{"$f":"'Data Feed'!S101","v":0},{"$f":"'Data Feed'!T101","v":0},{"$f":"'Data Feed'!U101","v":0},{"$f":"'Data Feed'!V101","v":0},{"$f":"'Data Feed'!W101","v":0},{"$f":"'Data Feed'!X101","v":0},{"$f":"'Data Feed'!Y101","v":0},{"$f":"'Data Feed'!Z101","v":0},{"$f":"'Data Feed'!AA101","v":0},{"$f":"'Data Feed'!AB101","v":0},{"$f":"'Data Feed'!AC101","v":0},{"$f":"'Data Feed'!AD101","v":0},{"$f":"'Data Feed'!AE101","v":0},{"$f":"'Data Feed'!AF101","v":0},{"$f":"'Data Feed'!AG101","v":0},{"$f":"'Data Feed'!AH101","v":0},{"$f":"'Data Feed'!AI101","v":0}]
[{"$f":"B100&\"_\"&COUNTIF($B$1:B100,B100)","v":"0_97"},{"$f":"'Data Feed'!J102","v":0},{"$f":"'Data Feed'!B102","v":0},{"$f":"'Data Feed'!C102","v":0},{"$f":"'Data Feed'!D102","v":0},{"$f":"'Data Feed'!E102","v":0},{"$f":"'Data Feed'!F102","v":0},{"$f":"'Data Feed'!G102","v":0},{"$f":"'Data Feed'!H102","v":0},{"$f":"'Data Feed'!I102","v":0},{"$f":"'Data Feed'!J102","v":0},{"$f":"'Data Feed'!K102","v":0},{"$f":"'Data Feed'!L102","v":0},{"$f":"'Data Feed'!M102","v":0},{"$f":"'Data Feed'!N102","v":0},{"$f":"'Data Feed'!O102","v":0},{"$f":"'Data Feed'!P102","v":0},{"$f":"'Data Feed'!Q102","v":0},{"$f":"'Data Feed'!R102","v":0},{"$f":"'Data Feed'!S102","v":0},{"$f":"'Data Feed'!T102","v":0},{"$f":"'Data Feed'!U102","v":0},{"$f":"'Data Feed'!V102","v":0},{"$f":"'Data Feed'!W102","v":0},{"$f":"'Data Feed'!X102","v":0},{"$f":"'Data Feed'!Y102","v":0},{"$f":"'Data Feed'!Z102","v":0},{"$f":"'Data Feed'!AA102","v":0},{"$f":"'Data Feed'!AB102","v":0},{"$f":"'Data Feed'!AC102","v":0},{"$f":"'Data Feed'!AD102","v":0},{"$f":"'Data Feed'!AE102","v":0},{"$f":"'Data Feed'!AF102","v":0},{"$f":"'Data Feed'!AG102","v":0},{"$f":"'Data Feed'!AH102","v":0},{"$f":"'Data Feed'!AI102","v":0}]
[{"$f":"B101&\"_\"&COUNTIF($B$1:B101,B101)","v":"0_98"},{"$f":"'Data Feed'!J103","v":0},{"$f":"'Data Feed'!B103","v":0},{"$f":"'Data Feed'!C103","v":0},{"$f":"'Data Feed'!D103","v":0},{"$f":"'Data Feed'!E103","v":0},{"$f":"'Data Feed'!F103","v":0},{"$f":"'Data Feed'!G103","v":0},{"$f":"'Data Feed'!H103","v":0},{"$f":"'Data Feed'!I103","v":0},{"$f":"'Data Feed'!J103","v":0},{"$f":"'Data Feed'!K103","v":0},{"$f":"'Data Feed'!L103","v":0},{"$f":"'Data Feed'!M103","v":0},{"$f":"'Data Feed'!N103","v":0},{"$f":"'Data Feed'!O103","v":0},{"$f":"'Data Feed'!P103","v":0},{"$f":"'Data Feed'!Q103","v":0},{"$f":"'Data Feed'!R103","v":0},{"$f":"'Data Feed'!S103","v":0},{"$f":"'Data Feed'!T103","v":0},{"$f":"'Data Feed'!U103","v":0},{"$f":"'Data Feed'!V103","v":0},{"$f":"'Data Feed'!W103","v":0},{"$f":"'Data Feed'!X103","v":0},{"$f":"'Data Feed'!Y103","v":0},{"$f":"'Data Feed'!Z103","v":0},{"$f":"'Data Feed'!AA103","v":0},{"$f":"'Data Feed'!AB103","v":0},{"$f":"'Data Feed'!AC103","v":0},{"$f":"'Data Feed'!AD103","v":0},{"$f":"'Data Feed'!AE103","v":0},{"$f":"'Data Feed'!AF103","v":0},{"$f":"'Data Feed'!AG103","v":0},{"$f":"'Data Feed'!AH103","v":0},{"$f":"'Data Feed'!AI103","v":0}]
[{"$f":"B102&\"_\"&COUNTIF($B$1:B102,B102)","v":"0_99"},{"$f":"'Data Feed'!J104","v":0},{"$f":"'Data Feed'!B104","v":0},{"$f":"'Data Feed'!C104","v":0},{"$f":"'Data Feed'!D104","v":0},{"$f":"'Data Feed'!E104","v":0},{"$f":"'Data Feed'!F104","v":0},{"$f":"'Data Feed'!G104","v":0},{"$f":"'Data Feed'!H104","v":0},{"$f":"'Data Feed'!I104","v":0},{"$f":"'Data Feed'!J104","v":0},{"$f":"'Data Feed'!K104","v":0},{"$f":"'Data Feed'!L104","v":0},{"$f":"'Data Feed'!M104","v":0},{"$f":"'Data Feed'!N104","v":0},{"$f":"'Data Feed'!O104","v":0},{"$f":"'Data Feed'!P104","v":0},{"$f":"'Data Feed'!Q104","v":0},{"$f":"'Data Feed'!R104","v":0},{"$f":"'Data Feed'!S104","v":0},{"$f":"'Data Feed'!T104","v":0},{"$f":"'Data Feed'!U104","v":0},{"$f":"'Data Feed'!V104","v":0},{"$f":"'Data Feed'!W104","v":0},{"$f":"'Data Feed'!X104","v":0},{"$f":"'Data Feed'!Y104","v":0},{"$f":"'Data Feed'!Z104","v":0},{"$f":"'Data Feed'!AA104","v":0},{"$f":"'Data Feed'!AB104","v":0},{"$f":"'Data Feed'!AC104","v":0},{"$f":"'Data Feed'!AD104","v":0},{"$f":"'Data Feed'!AE104","v":0},{"$f":"'Data Feed'!AF104","v":0},{"$f":"'Data Feed'!AG104","v":0},{"$f":"'Data Feed'!AH104","v":0},{"$f":"'Data Feed'!AI104","v":0}]
[{"$f":"B103&\"_\"&COUNTIF($B$1:B103,B103)","v":"0_100"},{"$f":"'Data Feed'!J105","v":0},{"$f":"'Data Feed'!B105","v":0},{"$f":"'Data Feed'!C105","v":0},{"$f":"'Data Feed'!D105","v":0},{"$f":"'Data Feed'!E105","v":0},{"$f":"'Data Feed'!F105","v":0},{"$f":"'Data Feed'!G105","v":0},{"$f":"'Data Feed'!H105","v":0},{"$f":"'Data Feed'!I105","v":0},{"$f":"'Data Feed'!J105","v":0},{"$f":"'Data Feed'!K105","v":0},{"$f":"'Data Feed'!L105","v":0},{"$f":"'Data Feed'!M105","v":0},{"$f":"'Data Feed'!N105","v":0},{"$f":"'Data Feed'!O105","v":0},{"$f":"'Data Feed'!P105","v":0},{"$f":"'Data Feed'!Q105","v":0},{"$f":"'Data Feed'!R105","v":0},{"$f":"'Data Feed'!S105","v":0},{"$f":"'Data Feed'!T105","v":0},{"$f":"'Data Feed'!U105","v":0},{"$f":"'Data Feed'!V105","v":0},{"$f":"'Data Feed'!W105","v":0},{"$f":"'Data Feed'!X105","v":0},{"$f":"'Data Feed'!Y105","v":0},{"$f":"'Data Feed'!Z105","v":0},{"$f":"'Data Feed'!AA105","v":0},{"$f":"'Data Feed'!AB105","v":0},{"$f":"'Data Feed'!AC105","v":0},{"$f":"'Data Feed'!AD105","v":0},{"$f":"'Data Feed'!AE105","v":0},{"$f":"'Data Feed'!AF105","v":0},{"$f":"'Data Feed'!AG105","v":0},{"$f":"'Data Feed'!AH105","v":0},{"$f":"'Data Feed'!AI105","v":0}]
[{"$f":"B104&\"_\"&COUNTIF($B$1:B104,B104)","v":"0_101"},{"$f":"'Data Feed'!J106","v":0},{"$f":"'Data Feed'!B106","v":0},{"$f":"'Data Feed'!C106","v":0},{"$f":"'Data Feed'!D106","v":0},{"$f":"'Data Feed'!E106","v":0},{"$f":"'Data Feed'!F106","v":0},{"$f":"'Data Feed'!G106","v":0},{"$f":"'Data Feed'!H106","v":0},{"$f":"'Data Feed'!I106","v":0},{"$f":"'Data Feed'!J106","v":0},{"$f":"'Data Feed'!K106","v":0},{"$f":"'Data Feed'!L106","v":0},{"$f":"'Data Feed'!M106","v":0},{"$f":"'Data Feed'!N106","v":0},{"$f":"'Data Feed'!O106","v":0},{"$f":"'Data Feed'!P106","v":0},{"$f":"'Data Feed'!Q106","v":0},{"$f":"'Data Feed'!R106","v":0},{"$f":"'Data Feed'!S106","v":0},{"$f":"'Data Feed'!T106","v":0},{"$f":"'Data Feed'!U106","v":0},{"$f":"'Data Feed'!V106","v":0},{"$f":"'Data Feed'!W106","v":0},{"$f":"'Data Feed'!X106","v":0},{"$f":"'Data Feed'!Y106","v":0},{"$f":"'Data Feed'!Z106","v":0},{"$f":"'Data Feed'!AA106","v":0},{"$f":"'Data Feed'!AB106","v":0},{"$f":"'Data Feed'!AC106","v":0},{"$f":"'Data Feed'!AD106","v":0},{"$f":"'Data Feed'!AE106","v":0},{"$f":"'Data Feed'!AF106","v":0},{"$f":"'Data Feed'!AG106","v":0},{"$f":"'Data Feed'!AH106","v":0},{"$f":"'Data Feed'!AI106","v":0}]
[{"$f":"B105&\"_\"&COUNTIF($B$1:B105,B105)","v":"0_102"},{"$f":"'Data Feed'!J107","v":0},{"$f":"'Data Feed'!B107","v":0},{"$f":"'Data Feed'!C107","v":0},{"$f":"'Data Feed'!D107","v":0},{"$f":"'Data Feed'!E107","v":0},{"$f":"'Data Feed'!F107","v":0},{"$f":"'Data Feed'!G107","v":0},{"$f":"'Data Feed'!H107","v":0},{"$f":"'Data Feed'!I107","v":0},{"$f":"'Data Feed'!J107","v":0},{"$f":"'Data Feed'!K107","v":0},{"$f":"'Data Feed'!L107","v":0},{"$f":"'Data Feed'!M107","v":0},{"$f":"'Data Feed'!N107","v":0},{"$f":"'Data Feed'!O107","v":0},{"$f":"'Data Feed'!P107","v":0},{"$f":"'Data Feed'!Q107","v":0},{"$f":"'Data Feed'!R107","v":0},{"$f":"'Data Feed'!S107","v":0},{"$f":"'Data Feed'!T107","v":0},{"$f":"'Data Feed'!U107","v":0},{"$f":"'Data Feed'!V107","v":0},{"$f":"'Data Feed'!W107","v":0},{"$f":"'Data Feed'!X107","v":0},{"$f":"'Data Feed'!Y107","v":0},{"$f":"'Data Feed'!Z107","v":0},{"$f":"'Data Feed'!AA107","v":0},{"$f":"'Data Feed'!AB107","v":0},{"$f":"'Data Feed'!AC107","v":0},{"$f":"'Data Feed'!AD107","v":0},{"$f":"'Data Feed'!AE107","v":0},{"$f":"'Data Feed'!AF107","v":0},{"$f":"'Data Feed'!AG107","v":0},{"$f":"'Data Feed'!AH107","v":0},{"$f":"'Data Feed'!AI107","v":0}]
[{"$f":"B106&\"_\"&COUNTIF($B$1:B106,B106)","v":"0_103"},{"$f":"'Data Feed'!J108","v":0},{"$f":"'Data Feed'!B108","v":0},{"$f":"'Data Feed'!C108","v":0},{"$f":"'Data Feed'!D108","v":0},{"$f":"'Data Feed'!E108","v":0},{"$f":"'Data Feed'!F108","v":0},{"$f":"'Data Feed'!G108","v":0},{"$f":"'Data Feed'!H108","v":0},{"$f":"'Data Feed'!I108","v":0},{"$f":"'Data Feed'!J108","v":0},{"$f":"'Data Feed'!K108","v":0},{"$f":"'Data Feed'!L108","v":0},{"$f":"'Data Feed'!M108","v":0},{"$f":"'Data Feed'!N108","v":0},{"$f":"'Data Feed'!O108","v":0},{"$f":"'Data Feed'!P108","v":0},{"$f":"'Data Feed'!Q108","v":0},{"$f":"'Data Feed'!R108","v":0},{"$f":"'Data Feed'!S108","v":0},{"$f":"'Data Feed'!T108","v":0},{"$f":"'Data Feed'!U108","v":0},{"$f":"'Data Feed'!V108","v":0},{"$f":"'Data Feed'!W108","v":0},{"$f":"'Data Feed'!X108","v":0},{"$f":"'Data Feed'!Y108","v":0},{"$f":"'Data Feed'!Z108","v":0},{"$f":"'Data Feed'!AA108","v":0},{"$f":"'Data Feed'!AB108","v":0},{"$f":"'Data Feed'!AC108","v":0},{"$f":"'Data Feed'!AD108","v":0},{"$f":"'Data Feed'!AE108","v":0},{"$f":"'Data Feed'!AF108","v":0},{"$f":"'Data Feed'!AG108","v":0},{"$f":"'Data Feed'!AH108","v":0},{"$f":"'Data Feed'!AI108","v":0}]
[{"$f":"B107&\"_\"&COUNTIF($B$1:B107,B107)","v":"0_104"},{"$f":"'Data Feed'!J109","v":0},{"$f":"'Data Feed'!B109","v":0},{"$f":"'Data Feed'!C109","v":0},{"$f":"'Data Feed'!D109","v":0},{"$f":"'Data Feed'!E109","v":0},{"$f":"'Data Feed'!F109","v":0},{"$f":"'Data Feed'!G109","v":0},{"$f":"'Data Feed'!H109","v":0},{"$f":"'Data Feed'!I109","v":0},{"$f":"'Data Feed'!J109","v":0},{"$f":"'Data Feed'!K109","v":0},{"$f":"'Data Feed'!L109","v":0},{"$f":"'Data Feed'!M109","v":0},{"$f":"'Data Feed'!N109","v":0},{"$f":"'Data Feed'!O109","v":0},{"$f":"'Data Feed'!P109","v":0},{"$f":"'Data Feed'!Q109","v":0},{"$f":"'Data Feed'!R109","v":0},{"$f":"'Data Feed'!S109","v":0},{"$f":"'Data Feed'!T109","v":0},{"$f":"'Data Feed'!U109","v":0},{"$f":"'Data Feed'!V109","v":0},{"$f":"'Data Feed'!W109","v":0},{"$f":"'Data Feed'!X109","v":0},{"$f":"'Data Feed'!Y109","v":0},{"$f":"'Data Feed'!Z109","v":0},{"$f":"'Data Feed'!AA109","v":0},{"$f":"'Data Feed'!AB109","v":0},{"$f":"'Data Feed'!AC109","v":0},{"$f":"'Data Feed'!AD109","v":0},{"$f":"'Data Feed'!AE109","v":0},{"$f":"'Data Feed'!AF109","v":0},{"$f":"'Data Feed'!AG109","v":0},{"$f":"'Data Feed'!AH109","v":0},{"$f":"'Data Feed'!AI109","v":0}]
[{"$f":"B108&\"_\"&COUNTIF($B$1:B108,B108)","v":"0_105"},{"$f":"'Data Feed'!J110","v":0},{"$f":"'Data Feed'!B110","v":0},{"$f":"'Data Feed'!C110","v":0},{"$f":"'Data Feed'!D110","v":0},{"$f":"'Data Feed'!E110","v":0},{"$f":"'Data Feed'!F110","v":0},{"$f":"'Data Feed'!G110","v":0},{"$f":"'Data Feed'!H110","v":0},{"$f":"'Data Feed'!I110","v":0},{"$f":"'Data Feed'!J110","v":0},{"$f":"'Data Feed'!K110","v":0},{"$f":"'Data Feed'!L110","v":0},{"$f":"'Data Feed'!M110","v":0},{"$f":"'Data Feed'!N110","v":0},{"$f":"'Data Feed'!O110","v":0},{"$f":"'Data Feed'!P110","v":0},{"$f":"'Data Feed'!Q110","v":0},{"$f":"'Data Feed'!R110","v":0},{"$f":"'Data Feed'!S110","v":0},{"$f":"'Data Feed'!T110","v":0},{"$f":"'Data Feed'!U110","v":0},{"$f":"'Data Feed'!V110","v":0},{"$f":"'Data Feed'!W110","v":0},{"$f":"'Data Feed'!X110","v":0},{"$f":"'Data Feed'!Y110","v":0},{"$f":"'Data Feed'!Z110","v":0},{"$f":"'Data Feed'!AA110","v":0},{"$f":"'Data Feed'!AB110","v":0},{"$f":"'Data Feed'!AC110","v":0},{"$f":"'Data Feed'!AD110","v":0},{"$f":"'Data Feed'!AE110","v":0},{"$f":"'Data Feed'!AF110","v":0},{"$f":"'Data Feed'!AG110","v":0},{"$f":"'Data Feed'!AH110","v":0},{"$f":"'Data Feed'!AI110","v":0}]
[{"$f":"B109&\"_\"&COUNTIF($B$1:B109,B109)","v":"0_106"},{"$f":"'Data Feed'!J111","v":0},{"$f":"'Data Feed'!B111","v":0},{"$f":"'Data Feed'!C111","v":0},{"$f":"'Data Feed'!D111","v":0},{"$f":"'Data Feed'!E111","v":0},{"$f":"'Data Feed'!F111","v":0},{"$f":"'Data Feed'!G111","v":0},{"$f":"'Data Feed'!H111","v":0},{"$f":"'Data Feed'!I111","v":0},{"$f":"'Data Feed'!J111","v":0},{"$f":"'Data Feed'!K111","v":0},{"$f":"'Data Feed'!L111","v":0},{"$f":"'Data Feed'!M111","v":0},{"$f":"'Data Feed'!N111","v":0},{"$f":"'Data Feed'!O111","v":0},{"$f":"'Data Feed'!P111","v":0},{"$f":"'Data Feed'!Q111","v":0},{"$f":"'Data Feed'!R111","v":0},{"$f":"'Data Feed'!S111","v":0},{"$f":"'Data Feed'!T111","v":0},{"$f":"'Data Feed'!U111","v":0},{"$f":"'Data Feed'!V111","v":0},{"$f":"'Data Feed'!W111","v":0},{"$f":"'Data Feed'!X111","v":0},{"$f":"'Data Feed'!Y111","v":0},{"$f":"'Data Feed'!Z111","v":0},{"$f":"'Data Feed'!AA111","v":0},{"$f":"'Data Feed'!AB111","v":0},{"$f":"'Data Feed'!AC111","v":0},{"$f":"'Data Feed'!AD111","v":0},{"$f":"'Data Feed'!AE111","v":0},{"$f":"'Data Feed'!AF111","v":0},{"$f":"'Data Feed'!AG111","v":0},{"$f":"'Data Feed'!AH111","v":0},{"$f":"'Data Feed'!AI111","v":0}]
[{"$f":"B110&\"_\"&COUNTIF($B$1:B110,B110)","v":"0_107"},{"$f":"'Data Feed'!J112","v":0},{"$f":"'Data Feed'!B112","v":0},{"$f":"'Data Feed'!C112","v":0},{"$f":"'Data Feed'!D112","v":0},{"$f":"'Data Feed'!E112","v":0},{"$f":"'Data Feed'!F112","v":0},{"$f":"'Data Feed'!G112","v":0},{"$f":"'Data Feed'!H112","v":0},{"$f":"'Data Feed'!I112","v":0},{"$f":"'Data Feed'!J112","v":0},{"$f":"'Data Feed'!K112","v":0},{"$f":"'Data Feed'!L112","v":0},{"$f":"'Data Feed'!M112","v":0},{"$f":"'Data Feed'!N112","v":0},{"$f":"'Data Feed'!O112","v":0},{"$f":"'Data Feed'!P112","v":0},{"$f":"'Data Feed'!Q112","v":0},{"$f":"'Data Feed'!R112","v":0},{"$f":"'Data Feed'!S112","v":0},{"$f":"'Data Feed'!T112","v":0},{"$f":"'Data Feed'!U112","v":0},{"$f":"'Data Feed'!V112","v":0},{"$f":"'Data Feed'!W112","v":0},{"$f":"'Data Feed'!X112","v":0},{"$f":"'Data Feed'!Y112","v":0},{"$f":"'Data Feed'!Z112","v":0},{"$f":"'Data Feed'!AA112","v":0},{"$f":"'Data Feed'!AB112","v":0},{"$f":"'Data Feed'!AC112","v":0},{"$f":"'Data Feed'!AD112","v":0},{"$f":"'Data Feed'!AE112","v":0},{"$f":"'Data Feed'!AF112","v":0},{"$f":"'Data Feed'!AG112","v":0},{"$f":"'Data Feed'!AH112","v":0},{"$f":"'Data Feed'!AI112","v":0}]
[{"$f":"B111&\"_\"&COUNTIF($B$1:B111,B111)","v":"0_108"},{"$f":"'Data Feed'!J113","v":0},{"$f":"'Data Feed'!B113","v":0},{"$f":"'Data Feed'!C113","v":0},{"$f":"'Data Feed'!D113","v":0},{"$f":"'Data Feed'!E113","v":0},{"$f":"'Data Feed'!F113","v":0},{"$f":"'Data Feed'!G113","v":0},{"$f":"'Data Feed'!H113","v":0},{"$f":"'Data Feed'!I113","v":0},{"$f":"'Data Feed'!J113","v":0},{"$f":"'Data Feed'!K113","v":0},{"$f":"'Data Feed'!L113","v":0},{"$f":"'Data Feed'!M113","v":0},{"$f":"'Data Feed'!N113","v":0},{"$f":"'Data Feed'!O113","v":0},{"$f":"'Data Feed'!P113","v":0},{"$f":"'Data Feed'!Q113","v":0},{"$f":"'Data Feed'!R113","v":0},{"$f":"'Data Feed'!S113","v":0},{"$f":"'Data Feed'!T113","v":0},{"$f":"'Data Feed'!U113","v":0},{"$f":"'Data Feed'!V113","v":0},{"$f":"'Data Feed'!W113","v":0},{"$f":"'Data Feed'!X113","v":0},{"$f":"'Data Feed'!Y113","v":0},{"$f":"'Data Feed'!Z113","v":0},{"$f":"'Data Feed'!AA113","v":0},{"$f":"'Data Feed'!AB113","v":0},{"$f":"'Data Feed'!AC113","v":0},{"$f":"'Data Feed'!AD113","v":0},{"$f":"'Data Feed'!AE113","v":0},{"$f":"'Data Feed'!AF113","v":0},{"$f":"'Data Feed'!AG113","v":0},{"$f":"'Data Feed'!AH113","v":0},{"$f":"'Data Feed'!AI113","v":0}]
[{"$f":"B112&\"_\"&COUNTIF($B$1:B112,B112)","v":"0_109"},{"$f":"'Data Feed'!J114","v":0},{"$f":"'Data Feed'!B114","v":0},{"$f":"'Data Feed'!C114","v":0},{"$f":"'Data Feed'!D114","v":0},{"$f":"'Data Feed'!E114","v":0},{"$f":"'Data Feed'!F114","v":0},{"$f":"'Data Feed'!G114","v":0},{"$f":"'Data Feed'!H114","v":0},{"$f":"'Data Feed'!I114","v":0},{"$f":"'Data Feed'!J114","v":0},{"$f":"'Data Feed'!K114","v":0},{"$f":"'Data Feed'!L114","v":0},{"$f":"'Data Feed'!M114","v":0},{"$f":"'Data Feed'!N114","v":0},{"$f":"'Data Feed'!O114","v":0},{"$f":"'Data Feed'!P114","v":0},{"$f":"'Data Feed'!Q114","v":0},{"$f":"'Data Feed'!R114","v":0},{"$f":"'Data Feed'!S114","v":0},{"$f":"'Data Feed'!T114","v":0},{"$f":"'Data Feed'!U114","v":0},{"$f":"'Data Feed'!V114","v":0},{"$f":"'Data Feed'!W114","v":0},{"$f":"'Data Feed'!X114","v":0},{"$f":"'Data Feed'!Y114","v":0},{"$f":"'Data Feed'!Z114","v":0},{"$f":"'Data Feed'!AA114","v":0},{"$f":"'Data Feed'!AB114","v":0},{"$f":"'Data Feed'!AC114","v":0},{"$f":"'Data Feed'!AD114","v":0},{"$f":"'Data Feed'!AE114","v":0},{"$f":"'Data Feed'!AF114","v":0},{"$f":"'Data Feed'!AG114","v":0},{"$f":"'Data Feed'!AH114","v":0},{"$f":"'Data Feed'!AI114","v":0}]
[{"$f":"B113&\"_\"&COUNTIF($B$1:B113,B113)","v":"0_110"},{"$f":"'Data Feed'!J115","v":0},{"$f":"'Data Feed'!B115","v":0},{"$f":"'Data Feed'!C115","v":0},{"$f":"'Data Feed'!D115","v":0},{"$f":"'Data Feed'!E115","v":0},{"$f":"'Data Feed'!F115","v":0},{"$f":"'Data Feed'!G115","v":0},{"$f":"'Data Feed'!H115","v":0},{"$f":"'Data Feed'!I115","v":0},{"$f":"'Data Feed'!J115","v":0},{"$f":"'Data Feed'!K115","v":0},{"$f":"'Data Feed'!L115","v":0},{"$f":"'Data Feed'!M115","v":0},{"$f":"'Data Feed'!N115","v":0},{"$f":"'Data Feed'!O115","v":0},{"$f":"'Data Feed'!P115","v":0},{"$f":"'Data Feed'!Q115","v":0},{"$f":"'Data Feed'!R115","v":0},{"$f":"'Data Feed'!S115","v":0},{"$f":"'Data Feed'!T115","v":0},{"$f":"'Data Feed'!U115","v":0},{"$f":"'Data Feed'!V115","v":0},{"$f":"'Data Feed'!W115","v":0},{"$f":"'Data Feed'!X115","v":0},{"$f":"'Data Feed'!Y115","v":0},{"$f":"'Data Feed'!Z115","v":0},{"$f":"'Data Feed'!AA115","v":0},{"$f":"'Data Feed'!AB115","v":0},{"$f":"'Data Feed'!AC115","v":0},{"$f":"'Data Feed'!AD115","v":0},{"$f":"'Data Feed'!AE115","v":0},{"$f":"'Data Feed'!AF115","v":0},{"$f":"'Data Feed'!AG115","v":0},{"$f":"'Data Feed'!AH115","v":0},{"$f":"'Data Feed'!AI115","v":0}]
[{"$f":"B114&\"_\"&COUNTIF($B$1:B114,B114)","v":"0_111"},{"$f":"'Data Feed'!J116","v":0},{"$f":"'Data Feed'!B116","v":0},{"$f":"'Data Feed'!C116","v":0},{"$f":"'Data Feed'!D116","v":0},{"$f":"'Data Feed'!E116","v":0},{"$f":"'Data Feed'!F116","v":0},{"$f":"'Data Feed'!G116","v":0},{"$f":"'Data Feed'!H116","v":0},{"$f":"'Data Feed'!I116","v":0},{"$f":"'Data Feed'!J116","v":0},{"$f":"'Data Feed'!K116","v":0},{"$f":"'Data Feed'!L116","v":0},{"$f":"'Data Feed'!M116","v":0},{"$f":"'Data Feed'!N116","v":0},{"$f":"'Data Feed'!O116","v":0},{"$f":"'Data Feed'!P116","v":0},{"$f":"'Data Feed'!Q116","v":0},{"$f":"'Data Feed'!R116","v":0},{"$f":"'Data Feed'!S116","v":0},{"$f":"'Data Feed'!T116","v":0},{"$f":"'Data Feed'!U116","v":0},{"$f":"'Data Feed'!V116","v":0},{"$f":"'Data Feed'!W116","v":0},{"$f":"'Data Feed'!X116","v":0},{"$f":"'Data Feed'!Y116","v":0},{"$f":"'Data Feed'!Z116","v":0},{"$f":"'Data Feed'!AA116","v":0},{"$f":"'Data Feed'!AB116","v":0},{"$f":"'Data Feed'!AC116","v":0},{"$f":"'Data Feed'!AD116","v":0},{"$f":"'Data Feed'!AE116","v":0},{"$f":"'Data Feed'!AF116","v":0},{"$f":"'Data Feed'!AG116","v":0},{"$f":"'Data Feed'!AH116","v":0},{"$f":"'Data Feed'!AI116","v":0}]
[{"$f":"B115&\"_\"&COUNTIF($B$1:B115,B115)","v":"0_112"},{"$f":"'Data Feed'!J117","v":0},{"$f":"'Data Feed'!B117","v":0},{"$f":"'Data Feed'!C117","v":0},{"$f":"'Data Feed'!D117","v":0},{"$f":"'Data Feed'!E117","v":0},{"$f":"'Data Feed'!F117","v":0},{"$f":"'Data Feed'!G117","v":0},{"$f":"'Data Feed'!H117","v":0},{"$f":"'Data Feed'!I117","v":0},{"$f":"'Data Feed'!J117","v":0},{"$f":"'Data Feed'!K117","v":0},{"$f":"'Data Feed'!L117","v":0},{"$f":"'Data Feed'!M117","v":0},{"$f":"'Data Feed'!N117","v":0},{"$f":"'Data Feed'!O117","v":0},{"$f":"'Data Feed'!P117","v":0},{"$f":"'Data Feed'!Q117","v":0},{"$f":"'Data Feed'!R117","v":0},{"$f":"'Data Feed'!S117","v":0},{"$f":"'Data Feed'!T117","v":0},{"$f":"'Data Feed'!U117","v":0},{"$f":"'Data Feed'!V117","v":0},{"$f":"'Data Feed'!W117","v":0},{"$f":"'Data Feed'!X117","v":0},{"$f":"'Data Feed'!Y117","v":0},{"$f":"'Data Feed'!Z117","v":0},{"$f":"'Data Feed'!AA117","v":0},{"$f":"'Data Feed'!AB117","v":0},{"$f":"'Data Feed'!AC117","v":0},{"$f":"'Data Feed'!AD117","v":0},{"$f":"'Data Feed'!AE117","v":0},{"$f":"'Data Feed'!AF117","v":0},{"$f":"'Data Feed'!AG117","v":0},{"$f":"'Data Feed'!AH117","v":0},{"$f":"'Data Feed'!AI117","v":0}]
[{"$f":"B116&\"_\"&COUNTIF($B$1:B116,B116)","v":"0_113"},{"$f":"'Data Feed'!J118","v":0},{"$f":"'Data Feed'!B118","v":0},{"$f":"'Data Feed'!C118","v":0},{"$f":"'Data Feed'!D118","v":0},{"$f":"'Data Feed'!E118","v":0},{"$f":"'Data Feed'!F118","v":0},{"$f":"'Data Feed'!G118","v":0},{"$f":"'Data Feed'!H118","v":0},{"$f":"'Data Feed'!I118","v":0},{"$f":"'Data Feed'!J118","v":0},{"$f":"'Data Feed'!K118","v":0},{"$f":"'Data Feed'!L118","v":0},{"$f":"'Data Feed'!M118","v":0},{"$f":"'Data Feed'!N118","v":0},{"$f":"'Data Feed'!O118","v":0},{"$f":"'Data Feed'!P118","v":0},{"$f":"'Data Feed'!Q118","v":0},{"$f":"'Data Feed'!R118","v":0},{"$f":"'Data Feed'!S118","v":0},{"$f":"'Data Feed'!T118","v":0},{"$f":"'Data Feed'!U118","v":0},{"$f":"'Data Feed'!V118","v":0},{"$f":"'Data Feed'!W118","v":0},{"$f":"'Data Feed'!X118","v":0},{"$f":"'Data Feed'!Y118","v":0},{"$f":"'Data Feed'!Z118","v":0},{"$f":"'Data Feed'!AA118","v":0},{"$f":"'Data Feed'!AB118","v":0},{"$f":"'Data Feed'!AC118","v":0},{"$f":"'Data Feed'!AD118","v":0},{"$f":"'Data Feed'!AE118","v":0},{"$f":"'Data Feed'!AF118","v":0},{"$f":"'Data Feed'!AG118","v":0},{"$f":"'Data Feed'!AH118","v":0},{"$f":"'Data Feed'!AI118","v":0}]
[{"$f":"B117&\"_\"&COUNTIF($B$1:B117,B117)","v":"0_114"},{"$f":"'Data Feed'!J119","v":0},{"$f":"'Data Feed'!B119","v":0},{"$f":"'Data Feed'!C119","v":0},{"$f":"'Data Feed'!D119","v":0},{"$f":"'Data Feed'!E119","v":0},{"$f":"'Data Feed'!F119","v":0},{"$f":"'Data Feed'!G119","v":0},{"$f":"'Data Feed'!H119","v":0},{"$f":"'Data Feed'!I119","v":0},{"$f":"'Data Feed'!J119","v":0},{"$f":"'Data Feed'!K119","v":0},{"$f":"'Data Feed'!L119","v":0},{"$f":"'Data Feed'!M119","v":0},{"$f":"'Data Feed'!N119","v":0},{"$f":"'Data Feed'!O119","v":0},{"$f":"'Data Feed'!P119","v":0},{"$f":"'Data Feed'!Q119","v":0},{"$f":"'Data Feed'!R119","v":0},{"$f":"'Data Feed'!S119","v":0},{"$f":"'Data Feed'!T119","v":0},{"$f":"'Data Feed'!U119","v":0},{"$f":"'Data Feed'!V119","v":0},{"$f":"'Data Feed'!W119","v":0},{"$f":"'Data Feed'!X119","v":0},{"$f":"'Data Feed'!Y119","v":0},{"$f":"'Data Feed'!Z119","v":0},{"$f":"'Data Feed'!AA119","v":0},{"$f":"'Data Feed'!AB119","v":0},{"$f":"'Data Feed'!AC119","v":0},{"$f":"'Data Feed'!AD119","v":0},{"$f":"'Data Feed'!AE119","v":0},{"$f":"'Data Feed'!AF119","v":0},{"$f":"'Data Feed'!AG119","v":0},{"$f":"'Data Feed'!AH119","v":0},{"$f":"'Data Feed'!AI119","v":0}]
[{"$f":"B118&\"_\"&COUNTIF($B$1:B118,B118)","v":"0_115"},{"$f":"'Data Feed'!J120","v":0},{"$f":"'Data Feed'!B120","v":0},{"$f":"'Data Feed'!C120","v":0},{"$f":"'Data Feed'!D120","v":0},{"$f":"'Data Feed'!E120","v":0},{"$f":"'Data Feed'!F120","v":0},{"$f":"'Data Feed'!G120","v":0},{"$f":"'Data Feed'!H120","v":0},{"$f":"'Data Feed'!I120","v":0},{"$f":"'Data Feed'!J120","v":0},{"$f":"'Data Feed'!K120","v":0},{"$f":"'Data Feed'!L120","v":0},{"$f":"'Data Feed'!M120","v":0},{"$f":"'Data Feed'!N120","v":0},{"$f":"'Data Feed'!O120","v":0},{"$f":"'Data Feed'!P120","v":0},{"$f":"'Data Feed'!Q120","v":0},{"$f":"'Data Feed'!R120","v":0},{"$f":"'Data Feed'!S120","v":0},{"$f":"'Data Feed'!T120","v":0},{"$f":"'Data Feed'!U120","v":0},{"$f":"'Data Feed'!V120","v":0},{"$f":"'Data Feed'!W120","v":0},{"$f":"'Data Feed'!X120","v":0},{"$f":"'Data Feed'!Y120","v":0},{"$f":"'Data Feed'!Z120","v":0},{"$f":"'Data Feed'!AA120","v":0},{"$f":"'Data Feed'!AB120","v":0},{"$f":"'Data Feed'!AC120","v":0},{"$f":"'Data Feed'!AD120","v":0},{"$f":"'Data Feed'!AE120","v":0},{"$f":"'Data Feed'!AF120","v":0},{"$f":"'Data Feed'!AG120","v":0},{"$f":"'Data Feed'!AH120","v":0},{"$f":"'Data Feed'!AI120","v":0}]
[{"$f":"B119&\"_\"&COUNTIF($B$1:B119,B119)","v":"0_116"},{"$f":"'Data Feed'!J121","v":0},{"$f":"'Data Feed'!B121","v":"Aditya"},{"$f":"'Data Feed'!C121","v":0},{"$f":"'Data Feed'!D121","v":0},{"$f":"'Data Feed'!E121","v":0},{"$f":"'Data Feed'!F121","v":0},{"$f":"'Data Feed'!G121","v":0},{"$f":"'Data Feed'!H121","v":0},{"$f":"'Data Feed'!I121","v":0},{"$f":"'Data Feed'!J121","v":0},{"$f":"'Data Feed'!K121","v":"English"},{"$f":"'Data Feed'!L121","v":0},{"$f":"'Data Feed'!M121","v":0},{"$f":"'Data Feed'!N121","v":0},{"$f":"'Data Feed'!O121","v":0},{"$f":"'Data Feed'!P121","v":0},{"$f":"'Data Feed'!Q121","v":0},{"$f":"'Data Feed'!R121","v":0},{"$f":"'Data Feed'!S121","v":0},{"$f":"'Data Feed'!T121","v":0},{"$f":"'Data Feed'!U121","v":0},{"$f":"'Data Feed'!V121","v":0},{"$f":"'Data Feed'!W121","v":0},{"$f":"'Data Feed'!X121","v":0},{"$f":"'Data Feed'!Y121","v":0},{"$f":"'Data Feed'!Z121","v":0},{"$f":"'Data Feed'!AA121","v":0},{"$f":"'Data Feed'!AB121","v":0},{"$f":"'Data Feed'!AC121","v":0},{"$f":"'Data Feed'!AD121","v":0},{"$f":"'Data Feed'!AE121","v":0},{"$f":"'Data Feed'!AF121","v":0},{"$f":"'Data Feed'!AG121","v":0},{"$f":"'Data Feed'!AH121","v":0},{"$f":"'Data Feed'!AI121","v":0}]

{"sheet":"Sbjctwise","index":5,"n_rows":119,"n_cols":36,"rows_kept":119,"hidden":true}
[{"$f":"B1&\"_\"&(COUNTIF($B$1:B1,B1))","v":"English_1"},{"$f":"'Data Feed'!K3","v":"English"},{"$f":"'Data Feed'!B3","v":"श्री अश्विनी कुमार"},{"$f":"'Data Feed'!C3","v":"श्री मेघराज शर्मा"},{"$f":"'Data Feed'!D3","v":"RJNA201228008021"},{"$f":"'Data Feed'!E3","v":32179},{"$f":"'Data Feed'!F3","v":"Male"},{"$f":"'Data Feed'!G3","v":"Gen"},{"$f":"'Data Feed'!H3","v":"Hindu"},{"$f":"'Data Feed'!I3","v":"No"},{"$f":"'Data Feed'!J3","v":"वरिष्ठ अध्यापक"},{"$f":"'Data Feed'!K3","v":"English"},{"$f":"'Data Feed'!L3","v":"स्थाई"},{"$f":"'Data Feed'!M3","v":"O+"},{"$f":"'Data Feed'!N3","v":"कुचामन सिटी"},{"$f":"'Data Feed'!O3","v":"नागौर"},{"$f":"'Data Feed'!P3","v":9166023711},{"$f":"'Data Feed'!Q3","v":"sspkctakumar@gmail.com"},{"$f":"'Data Feed'!R3","v":610370000000},{"$f":"'Data Feed'!S3","v":"SBI"},{"$f":"'Data Feed'!T3","v":"SBIN0031733"},{"$f":"'Data Feed'!U3","v":40835},{"$f":"'Data Feed'!V3","v":40835},{"$f":"'Data Feed'!W3","v":40866},{"$f":"'Data Feed'!X3","v":40866},{"$f":"'Data Feed'!Y3","v":0},{"$f":"'Data Feed'!Z3","v":40866},{"$f":"'Data Feed'!AA3","v":110000000000},{"$f":"'Data Feed'!AB3","v":6123456},{"$f":"'Data Feed'!AC3","v":123456781234},{"$f":"'Data Feed'!AD3","v":"ZXZXZXD"},{"$f":"'Data Feed'!AE3","v":0},{"$f":"'Data Feed'!AF3","v":"ABCDE1111F"},{"$f":"'Data Feed'!AG3","v":48500},{"$f":"'Data Feed'!AH3","v":"M.A."},{"$f":"'Data Feed'!AI3","v":"M.Ed"}]
[{"$f":"B2&\"_\"&(COUNTIF($B$1:B2,B2))","v":"History_1"},{"$f":"'Data Feed'!K4","v":"History"},{"$f":"'Data Feed'!B4","v":"श्री प्रकाश कुमार गौड़"},{"$f":"'Data Feed'!C4","v":"श्री राजेंद्र शर्मा"},{"$f":"'Data Feed'!D4","v":"RJNA201228008022"},{"$f":"'Data Feed'!E4","v":32180},{"$f":"'Data Feed'!F4","v":"Female"},{"$f":"'Data Feed'!G4","v":"Gen"},{"$f":"'Data Feed'!H4","v":"Hindu"},{"$f":"'Data Feed'!I4","v":"No"},{"$f":"'Data Feed'!J4","v":"व्याख्याता"},{"$f":"'Data Feed'!K4","v":"History"},{"$f":"'Data Feed'!L4","v":"स्थाई"},{"$f":"'Data Feed'!M4","v":"O+"},{"$f":"'Data Feed'!N4","v":"कुचामन सिटी"},{"$f":"'Data Feed'!O4","v":"नागौर"},{"$f":"'Data Feed'!P4","v":9166023711},{"$f":"'Data Feed'!Q4","v":"sspkctakumar@gmail.com"},{"$f":"'Data Feed'!R4","v":610370000000},{"$f":"'Data Feed'!S4","v":"SBI"},{"$f":"'Data Feed'!T4","v":"SBIN0031733"},{"$f":"'Data Feed'!U4","v":40835},{"$f":"'Data Feed'!V4","v":40835},{"$f":"'Data Feed'!W4","v":40866},{"$f":"'Data Feed'!X4","v":40866},{"$f":"'Data Feed'!Y4","v":0},{"$f":"'Data Feed'!Z4","v":40866},{"$f":"'Data Feed'!AA4","v":110000000000},{"$f":"'Data Feed'!AB4","v":6123456},{"$f":"'Data Feed'!AC4","v":123456781234},{"$f":"'Data Feed'!AD4","v":"ZXZXZXD"},{"$f":"'Data Feed'!AE4","v":0},{"$f":"'Data Feed'!AF4","v":"ABCDE1111F"},{"$f":"'Data Feed'!AG4","v":48500},{"$f":"'Data Feed'!AH4","v":"M.A."},{"$f":"'Data Feed'!AI4","v":"M.Ed"}]
[{"$f":"B3&\"_\"&(COUNTIF($B$1:B3,B3))","v":"Agriculture_1"},{"$f":"'Data Feed'!K5","v":"Agriculture"},{"$f":"'Data Feed'!B5","v":"श्री जावेद खान"},{"$f":"'Data Feed'!C5","v":"श्री"},{"$f":"'Data Feed'!D5","v":"RJNA201228008023"},{"$f":"'Data Feed'!E5","v":32181},{"$f":"'Data Feed'!F5","v":"Male"},{"$f":"'Data Feed'!G5","v":"OBC"},{"$f":"'Data Feed'!H5","v":"Muslim"},{"$f":"'Data Feed'!I5","v":"Yes"},{"$f":"'Data Feed'!J5","v":"प्रधानाचार्य"},{"$f":"'Data Feed'!K5","v":"Agriculture"},{"$f":"'Data Feed'!L5","v":"अस्थाई"},{"$f":"'Data Feed'!M5","v":"AB+"},{"$f":"'Data Feed'!N5","v":"कुचामन सिटी"},{"$f":"'Data Feed'!O5","v":"नागौर"},{"$f":"'Data Feed'!P5","v":9166023711},{"$f":"'Data Feed'!Q5","v":"sspkctakumar@gmail.com"},{"$f":"'Data Feed'!R5","v":610370000000},{"$f":"'Data Feed'!S5","v":"SBI"},{"$f":"'Data Feed'!T5","v":"SBIN0031733"},{"$f":"'Data Feed'!U5","v":40835},{"$f":"'Data Feed'!V5","v":40835},{"$f":"'Data Feed'!W5","v":40866},{"$f":"'Data Feed'!X5","v":40866},{"$f":"'Data Feed'!Y5","v":0},{"$f":"'Data Feed'!Z5","v":40866},{"$f":"'Data Feed'!AA5","v":110000000000},{"$f":"'Data Feed'!AB5","v":6123456},{"$f":"'Data Feed'!AC5","v":123456781234},{"$f":"'Data Feed'!AD5","v":"ZXZXZXD"},{"$f":"'Data Feed'!AE5","v":0},{"$f":"'Data Feed'!AF5","v":"ABCDE1111F"},{"$f":"'Data Feed'!AG5","v":48500},{"$f":"'Data Feed'!AH5","v":"M.A."},{"$f":"'Data Feed'!AI5","v":"M.Ed"}]
[{"$f":"B4&\"_\"&(COUNTIF($B$1:B4,B4))","v":"0_1"},{"$f":"'Data Feed'!K6","v":0},{"$f":"'Data Feed'!B6","v":0},{"$f":"'Data Feed'!C6","v":0},{"$f":"'Data Feed'!D6","v":0},{"$f":"'Data Feed'!E6","v":0},{"$f":"'Data Feed'!F6","v":0},{"$f":"'Data Feed'!G6","v":0},{"$f":"'Data Feed'!H6","v":0},{"$f":"'Data Feed'!I6","v":0},{"$f":"'Data Feed'!J6","v":0},{"$f":"'Data Feed'!K6","v":0},{"$f":"'Data Feed'!L6","v":0},{"$f":"'Data Feed'!M6","v":0},{"$f":"'Data Feed'!N6","v":0},{"$f":"'Data Feed'!O6","v":0},{"$f":"'Data Feed'!P6","v":0},{"$f":"'Data Feed'!Q6","v":0},{"$f":"'Data Feed'!R6","v":0},{"$f":"'Data Feed'!S6","v":0},{"$f":"'Data Feed'!T6","v":0},{"$f":"'Data Feed'!U6","v":0},{"$f":"'Data Feed'!V6","v":0},{"$f":"'Data Feed'!W6","v":0},{"$f":"'Data Feed'!X6","v":0},{"$f":"'Data Feed'!Y6","v":0},{"$f":"'Data Feed'!Z6","v":0},{"$f":"'Data Feed'!AA6","v":0},{"$f":"'Data Feed'!AB6","v":0},{"$f":"'Data Feed'!AC6","v":0},{"$f":"'Data Feed'!AD6","v":0},{"$f":"'Data Feed'!AE6","v":0},{"$f":"'Data Feed'!AF6","v":0},{"$f":"'Data Feed'!AG6","v":0},{"$f":"'Data Feed'!AH6","v":0},{"$f":"'Data Feed'!AI6","v":0}]
[{"$f":"B5&\"_\"&(COUNTIF($B$1:B5,B5))","v":"0_2"},{"$f":"'Data Feed'!K7","v":0},{"$f":"'Data Feed'!B7","v":0},{"$f":"'Data Feed'!C7","v":0},{"$f":"'Data Feed'!D7","v":0},{"$f":"'Data Feed'!E7","v":0},{"$f":"'Data Feed'!F7","v":0},{"$f":"'Data Feed'!G7","v":0},{"$f":"'Data Feed'!H7","v":0},{"$f":"'Data Feed'!I7","v":0},{"$f":"'Data Feed'!J7","v":0},{"$f":"'Data Feed'!K7","v":0},{"$f":"'Data Feed'!L7","v":0},{"$f":"'Data Feed'!M7","v":0},{"$f":"'Data Feed'!N7","v":0},{"$f":"'Data Feed'!O7","v":0},{"$f":"'Data Feed'!P7","v":0},{"$f":"'Data Feed'!Q7","v":0},{"$f":"'Data Feed'!R7","v":0},{"$f":"'Data Feed'!S7","v":0},{"$f":"'Data Feed'!T7","v":0},{"$f":"'Data Feed'!U7","v":0},{"$f":"'Data Feed'!V7","v":0},{"$f":"'Data Feed'!W7","v":0},{"$f":"'Data Feed'!X7","v":0},{"$f":"'Data Feed'!Y7","v":0},{"$f":"'Data Feed'!Z7","v":0},{"$f":"'Data Feed'!AA7","v":0},{"$f":"'Data Feed'!AB7","v":0},{"$f":"'Data Feed'!AC7","v":0},{"$f":"'Data Feed'!AD7","v":0},{"$f":"'Data Feed'!AE7","v":0},{"$f":"'Data Feed'!AF7","v":0},{"$f":"'Data Feed'!AG7","v":0},{"$f":"'Data Feed'!AH7","v":0},{"$f":"'Data Feed'!AI7","v":0}]
[{"$f":"B6&\"_\"&(COUNTIF($B$1:B6,B6))","v":"0_3"},{"$f":"'Data Feed'!K8","v":0},{"$f":"'Data Feed'!B8","v":0},{"$f":"'Data Feed'!C8","v":0},{"$f":"'Data Feed'!D8","v":0},{"$f":"'Data Feed'!E8","v":0},{"$f":"'Data Feed'!F8","v":0},{"$f":"'Data Feed'!G8","v":0},{"$f":"'Data Feed'!H8","v":0},{"$f":"'Data Feed'!I8","v":0},{"$f":"'Data Feed'!J8","v":0},{"$f":"'Data Feed'!K8","v":0},{"$f":"'Data Feed'!L8","v":0},{"$f":"'Data Feed'!M8","v":0},{"$f":"'Data Feed'!N8","v":0},{"$f":"'Data Feed'!O8","v":0},{"$f":"'Data Feed'!P8","v":0},{"$f":"'Data Feed'!Q8","v":0},{"$f":"'Data Feed'!R8","v":0},{"$f":"'Data Feed'!S8","v":0},{"$f":"'Data Feed'!T8","v":0},{"$f":"'Data Feed'!U8","v":0},{"$f":"'Data Feed'!V8","v":0},{"$f":"'Data Feed'!W8","v":0},{"$f":"'Data Feed'!X8","v":0},{"$f":"'Data Feed'!Y8","v":0},{"$f":"'Data Feed'!Z8","v":0},{"$f":"'Data Feed'!AA8","v":0},{"$f":"'Data Feed'!AB8","v":0},{"$f":"'Data Feed'!AC8","v":0},{"$f":"'Data Feed'!AD8","v":0},{"$f":"'Data Feed'!AE8","v":0},{"$f":"'Data Feed'!AF8","v":0},{"$f":"'Data Feed'!AG8","v":0},{"$f":"'Data Feed'!AH8","v":0},{"$f":"'Data Feed'!AI8","v":0}]
[{"$f":"B7&\"_\"&(COUNTIF($B$1:B7,B7))","v":"0_4"},{"$f":"'Data Feed'!K9","v":0},{"$f":"'Data Feed'!B9","v":0},{"$f":"'Data Feed'!C9","v":0},{"$f":"'Data Feed'!D9","v":0},{"$f":"'Data Feed'!E9","v":0},{"$f":"'Data Feed'!F9","v":0},{"$f":"'Data Feed'!G9","v":0},{"$f":"'Data Feed'!H9","v":0},{"$f":"'Data Feed'!I9","v":0},{"$f":"'Data Feed'!J9","v":0},{"$f":"'Data Feed'!K9","v":0},{"$f":"'Data Feed'!L9","v":0},{"$f":"'Data Feed'!M9","v":0},{"$f":"'Data Feed'!N9","v":0},{"$f":"'Data Feed'!O9","v":0},{"$f":"'Data Feed'!P9","v":0},{"$f":"'Data Feed'!Q9","v":0},{"$f":"'Data Feed'!R9","v":0},{"$f":"'Data Feed'!S9","v":0},{"$f":"'Data Feed'!T9","v":0},{"$f":"'Data Feed'!U9","v":0},{"$f":"'Data Feed'!V9","v":0},{"$f":"'Data Feed'!W9","v":0},{"$f":"'Data Feed'!X9","v":0},{"$f":"'Data Feed'!Y9","v":0},{"$f":"'Data Feed'!Z9","v":0},{"$f":"'Data Feed'!AA9","v":0},{"$f":"'Data Feed'!AB9","v":0},{"$f":"'Data Feed'!AC9","v":0},{"$f":"'Data Feed'!AD9","v":0},{"$f":"'Data Feed'!AE9","v":0},{"$f":"'Data Feed'!AF9","v":0},{"$f":"'Data Feed'!AG9","v":0},{"$f":"'Data Feed'!AH9","v":0},{"$f":"'Data Feed'!AI9","v":0}]
[{"$f":"B8&\"_\"&(COUNTIF($B$1:B8,B8))","v":"0_5"},{"$f":"'Data Feed'!K10","v":0},{"$f":"'Data Feed'!B10","v":0},{"$f":"'Data Feed'!C10","v":0},{"$f":"'Data Feed'!D10","v":0},{"$f":"'Data Feed'!E10","v":0},{"$f":"'Data Feed'!F10","v":0},{"$f":"'Data Feed'!G10","v":0},{"$f":"'Data Feed'!H10","v":0},{"$f":"'Data Feed'!I10","v":0},{"$f":"'Data Feed'!J10","v":0},{"$f":"'Data Feed'!K10","v":0},{"$f":"'Data Feed'!L10","v":0},{"$f":"'Data Feed'!M10","v":0},{"$f":"'Data Feed'!N10","v":0},{"$f":"'Data Feed'!O10","v":0},{"$f":"'Data Feed'!P10","v":0},{"$f":"'Data Feed'!Q10","v":0},{"$f":"'Data Feed'!R10","v":0},{"$f":"'Data Feed'!S10","v":0},{"$f":"'Data Feed'!T10","v":0},{"$f":"'Data Feed'!U10","v":0},{"$f":"'Data Feed'!V10","v":0},{"$f":"'Data Feed'!W10","v":0},{"$f":"'Data Feed'!X10","v":0},{"$f":"'Data Feed'!Y10","v":0},{"$f":"'Data Feed'!Z10","v":0},{"$f":"'Data Feed'!AA10","v":0},{"$f":"'Data Feed'!AB10","v":0},{"$f":"'Data Feed'!AC10","v":0},{"$f":"'Data Feed'!AD10","v":0},{"$f":"'Data Feed'!AE10","v":0},{"$f":"'Data Feed'!AF10","v":0},{"$f":"'Data Feed'!AG10","v":0},{"$f":"'Data Feed'!AH10","v":0},{"$f":"'Data Feed'!AI10","v":0}]
[{"$f":"B9&\"_\"&(COUNTIF($B$1:B9,B9))","v":"0_6"},{"$f":"'Data Feed'!K11","v":0},{"$f":"'Data Feed'!B11","v":0},{"$f":"'Data Feed'!C11","v":0},{"$f":"'Data Feed'!D11","v":0},{"$f":"'Data Feed'!E11","v":0},{"$f":"'Data Feed'!F11","v":0},{"$f":"'Data Feed'!G11","v":0},{"$f":"'Data Feed'!H11","v":0},{"$f":"'Data Feed'!I11","v":0},{"$f":"'Data Feed'!J11","v":0},{"$f":"'Data Feed'!K11","v":0},{"$f":"'Data Feed'!L11","v":0},{"$f":"'Data Feed'!M11","v":0},{"$f":"'Data Feed'!N11","v":0},{"$f":"'Data Feed'!O11","v":0},{"$f":"'Data Feed'!P11","v":0},{"$f":"'Data Feed'!Q11","v":0},{"$f":"'Data Feed'!R11","v":0},{"$f":"'Data Feed'!S11","v":0},{"$f":"'Data Feed'!T11","v":0},{"$f":"'Data Feed'!U11","v":0},{"$f":"'Data Feed'!V11","v":0},{"$f":"'Data Feed'!W11","v":0},{"$f":"'Data Feed'!X11","v":0},{"$f":"'Data Feed'!Y11","v":0},{"$f":"'Data Feed'!Z11","v":0},{"$f":"'Data Feed'!AA11","v":0},{"$f":"'Data Feed'!AB11","v":0},{"$f":"'Data Feed'!AC11","v":0},{"$f":"'Data Feed'!AD11","v":0},{"$f":"'Data Feed'!AE11","v":0},{"$f":"'Data Feed'!AF11","v":0},{"$f":"'Data Feed'!AG11","v":0},{"$f":"'Data Feed'!AH11","v":0},{"$f":"'Data Feed'!AI11","v":0}]
[{"$f":"B10&\"_\"&(COUNTIF($B$1:B10,B10))","v":"0_7"},{"$f":"'Data Feed'!K12","v":0},{"$f":"'Data Feed'!B12","v":0},{"$f":"'Data Feed'!C12","v":0},{"$f":"'Data Feed'!D12","v":0},{"$f":"'Data Feed'!E12","v":0},{"$f":"'Data Feed'!F12","v":0},{"$f":"'Data Feed'!G12","v":0},{"$f":"'Data Feed'!H12","v":0},{"$f":"'Data Feed'!I12","v":0},{"$f":"'Data Feed'!J12","v":0},{"$f":"'Data Feed'!K12","v":0},{"$f":"'Data Feed'!L12","v":0},{"$f":"'Data Feed'!M12","v":0},{"$f":"'Data Feed'!N12","v":0},{"$f":"'Data Feed'!O12","v":0},{"$f":"'Data Feed'!P12","v":0},{"$f":"'Data Feed'!Q12","v":0},{"$f":"'Data Feed'!R12","v":0},{"$f":"'Data Feed'!S12","v":0},{"$f":"'Data Feed'!T12","v":0},{"$f":"'Data Feed'!U12","v":0},{"$f":"'Data Feed'!V12","v":0},{"$f":"'Data Feed'!W12","v":0},{"$f":"'Data Feed'!X12","v":0},{"$f":"'Data Feed'!Y12","v":0},{"$f":"'Data Feed'!Z12","v":0},{"$f":"'Data Feed'!AA12","v":0},{"$f":"'Data Feed'!AB12","v":0},{"$f":"'Data Feed'!AC12","v":0},{"$f":"'Data Feed'!AD12","v":0},{"$f":"'Data Feed'!AE12","v":0},{"$f":"'Data Feed'!AF12","v":0},{"$f":"'Data Feed'!AG12","v":0},{"$f":"'Data Feed'!AH12","v":0},{"$f":"'Data Feed'!AI12","v":0}]
[{"$f":"B11&\"_\"&(COUNTIF($B$1:B11,B11))","v":"0_8"},{"$f":"'Data Feed'!K13","v":0},{"$f":"'Data Feed'!B13","v":0},{"$f":"'Data Feed'!C13","v":0},{"$f":"'Data Feed'!D13","v":0},{"$f":"'Data Feed'!E13","v":0},{"$f":"'Data Feed'!F13","v":0},{"$f":"'Data Feed'!G13","v":0},{"$f":"'Data Feed'!H13","v":0},{"$f":"'Data Feed'!I13","v":0},{"$f":"'Data Feed'!J13","v":0},{"$f":"'Data Feed'!K13","v":0},{"$f":"'Data Feed'!L13","v":0},{"$f":"'Data Feed'!M13","v":0},{"$f":"'Data Feed'!N13","v":0},{"$f":"'Data Feed'!O13","v":0},{"$f":"'Data Feed'!P13","v":0},{"$f":"'Data Feed'!Q13","v":0},{"$f":"'Data Feed'!R13","v":0},{"$f":"'Data Feed'!S13","v":0},{"$f":"'Data Feed'!T13","v":0},{"$f":"'Data Feed'!U13","v":0},{"$f":"'Data Feed'!V13","v":0},{"$f":"'Data Feed'!W13","v":0},{"$f":"'Data Feed'!X13","v":0},{"$f":"'Data Feed'!Y13","v":0},{"$f":"'Data Feed'!Z13","v":0},{"$f":"'Data Feed'!AA13","v":0},{"$f":"'Data Feed'!AB13","v":0},{"$f":"'Data Feed'!AC13","v":0},{"$f":"'Data Feed'!AD13","v":0},{"$f":"'Data Feed'!AE13","v":0},{"$f":"'Data Feed'!AF13","v":0},{"$f":"'Data Feed'!AG13","v":0},{"$f":"'Data Feed'!AH13","v":0},{"$f":"'Data Feed'!AI13","v":0}]
[{"$f":"B12&\"_\"&(COUNTIF($B$1:B12,B12))","v":"0_9"},{"$f":"'Data Feed'!K14","v":0},{"$f":"'Data Feed'!B14","v":0},{"$f":"'Data Feed'!C14","v":0},{"$f":"'Data Feed'!D14","v":0},{"$f":"'Data Feed'!E14","v":0},{"$f":"'Data Feed'!F14","v":0},{"$f":"'Data Feed'!G14","v":0},{"$f":"'Data Feed'!H14","v":0},{"$f":"'Data Feed'!I14","v":0},{"$f":"'Data Feed'!J14","v":0},{"$f":"'Data Feed'!K14","v":0},{"$f":"'Data Feed'!L14","v":0},{"$f":"'Data Feed'!M14","v":0},{"$f":"'Data Feed'!N14","v":0},{"$f":"'Data Feed'!O14","v":0},{"$f":"'Data Feed'!P14","v":0},{"$f":"'Data Feed'!Q14","v":0},{"$f":"'Data Feed'!R14","v":0},{"$f":"'Data Feed'!S14","v":0},{"$f":"'Data Feed'!T14","v":0},{"$f":"'Data Feed'!U14","v":0},{"$f":"'Data Feed'!V14","v":0},{"$f":"'Data Feed'!W14","v":0},{"$f":"'Data Feed'!X14","v":0},{"$f":"'Data Feed'!Y14","v":0},{"$f":"'Data Feed'!Z14","v":0},{"$f":"'Data Feed'!AA14","v":0},{"$f":"'Data Feed'!AB14","v":0},{"$f":"'Data Feed'!AC14","v":0},{"$f":"'Data Feed'!AD14","v":0},{"$f":"'Data Feed'!AE14","v":0},{"$f":"'Data Feed'!AF14","v":0},{"$f":"'Data Feed'!AG14","v":0},{"$f":"'Data Feed'!AH14","v":0},{"$f":"'Data Feed'!AI14","v":0}]
[{"$f":"B13&\"_\"&(COUNTIF($B$1:B13,B13))","v":"0_10"},{"$f":"'Data Feed'!K15","v":0},{"$f":"'Data Feed'!B15","v":0},{"$f":"'Data Feed'!C15","v":0},{"$f":"'Data Feed'!D15","v":0},{"$f":"'Data Feed'!E15","v":0},{"$f":"'Data Feed'!F15","v":0},{"$f":"'Data Feed'!G15","v":0},{"$f":"'Data Feed'!H15","v":0},{"$f":"'Data Feed'!I15","v":0},{"$f":"'Data Feed'!J15","v":0},{"$f":"'Data Feed'!K15","v":0},{"$f":"'Data Feed'!L15","v":0},{"$f":"'Data Feed'!M15","v":0},{"$f":"'Data Feed'!N15","v":0},{"$f":"'Data Feed'!O15","v":0},{"$f":"'Data Feed'!P15","v":0},{"$f":"'Data Feed'!Q15","v":0},{"$f":"'Data Feed'!R15","v":0},{"$f":"'Data Feed'!S15","v":0},{"$f":"'Data Feed'!T15","v":0},{"$f":"'Data Feed'!U15","v":0},{"$f":"'Data Feed'!V15","v":0},{"$f":"'Data Feed'!W15","v":0},{"$f":"'Data Feed'!X15","v":0},{"$f":"'Data Feed'!Y15","v":0},{"$f":"'Data Feed'!Z15","v":0},{"$f":"'Data Feed'!AA15","v":0},{"$f":"'Data Feed'!AB15","v":0},{"$f":"'Data Feed'!AC15","v":0},{"$f":"'Data Feed'!AD15","v":0},{"$f":"'Data Feed'!AE15","v":0},{"$f":"'Data Feed'!AF15","v":0},{"$f":"'Data Feed'!AG15","v":0},{"$f":"'Data Feed'!AH15","v":0},{"$f":"'Data Feed'!AI15","v":0}]
[{"$f":"B14&\"_\"&(COUNTIF($B$1:B14,B14))","v":"0_11"},{"$f":"'Data Feed'!K16","v":0},{"$f":"'Data Feed'!B16","v":0},{"$f":"'Data Feed'!C16","v":0},{"$f":"'Data Feed'!D16","v":0},{"$f":"'Data Feed'!E16","v":0},{"$f":"'Data Feed'!F16","v":0},{"$f":"'Data Feed'!G16","v":0},{"$f":"'Data Feed'!H16","v":0},{"$f":"'Data Feed'!I16","v":0},{"$f":"'Data Feed'!J16","v":0},{"$f":"'Data Feed'!K16","v":0},{"$f":"'Data Feed'!L16","v":0},{"$f":"'Data Feed'!M16","v":0},{"$f":"'Data Feed'!N16","v":0},{"$f":"'Data Feed'!O16","v":0},{"$f":"'Data Feed'!P16","v":0},{"$f":"'Data Feed'!Q16","v":0},{"$f":"'Data Feed'!R16","v":0},{"$f":"'Data Feed'!S16","v":0},{"$f":"'Data Feed'!T16","v":0},{"$f":"'Data Feed'!U16","v":0},{"$f":"'Data Feed'!V16","v":0},{"$f":"'Data Feed'!W16","v":0},{"$f":"'Data Feed'!X16","v":0},{"$f":"'Data Feed'!Y16","v":0},{"$f":"'Data Feed'!Z16","v":0},{"$f":"'Data Feed'!AA16","v":0},{"$f":"'Data Feed'!AB16","v":0},{"$f":"'Data Feed'!AC16","v":0},{"$f":"'Data Feed'!AD16","v":0},{"$f":"'Data Feed'!AE16","v":0},{"$f":"'Data Feed'!AF16","v":0},{"$f":"'Data Feed'!AG16","v":0},{"$f":"'Data Feed'!AH16","v":0},{"$f":"'Data Feed'!AI16","v":0}]
[{"$f":"B15&\"_\"&(COUNTIF($B$1:B15,B15))","v":"0_12"},{"$f":"'Data Feed'!K17","v":0},{"$f":"'Data Feed'!B17","v":0},{"$f":"'Data Feed'!C17","v":0},{"$f":"'Data Feed'!D17","v":0},{"$f":"'Data Feed'!E17","v":0},{"$f":"'Data Feed'!F17","v":0},{"$f":"'Data Feed'!G17","v":0},{"$f":"'Data Feed'!H17","v":0},{"$f":"'Data Feed'!I17","v":0},{"$f":"'Data Feed'!J17","v":0},{"$f":"'Data Feed'!K17","v":0},{"$f":"'Data Feed'!L17","v":0},{"$f":"'Data Feed'!M17","v":0},{"$f":"'Data Feed'!N17","v":0},{"$f":"'Data Feed'!O17","v":0},{"$f":"'Data Feed'!P17","v":0},{"$f":"'Data Feed'!Q17","v":0},{"$f":"'Data Feed'!R17","v":0},{"$f":"'Data Feed'!S17","v":0},{"$f":"'Data Feed'!T17","v":0},{"$f":"'Data Feed'!U17","v":0},{"$f":"'Data Feed'!V17","v":0},{"$f":"'Data Feed'!W17","v":0},{"$f":"'Data Feed'!X17","v":0},{"$f":"'Data Feed'!Y17","v":0},{"$f":"'Data Feed'!Z17","v":0},{"$f":"'Data Feed'!AA17","v":0},{"$f":"'Data Feed'!AB17","v":0},{"$f":"'Data Feed'!AC17","v":0},{"$f":"'Data Feed'!AD17","v":0},{"$f":"'Data Feed'!AE17","v":0},{"$f":"'Data Feed'!AF17","v":0},{"$f":"'Data Feed'!AG17","v":0},{"$f":"'Data Feed'!AH17","v":0},{"$f":"'Data Feed'!AI17","v":0}]
[{"$f":"B16&\"_\"&(COUNTIF($B$1:B16,B16))","v":"0_13"},{"$f":"'Data Feed'!K18","v":0},{"$f":"'Data Feed'!B18","v":0},{"$f":"'Data Feed'!C18","v":0},{"$f":"'Data Feed'!D18","v":0},{"$f":"'Data Feed'!E18","v":0},{"$f":"'Data Feed'!F18","v":0},{"$f":"'Data Feed'!G18","v":0},{"$f":"'Data Feed'!H18","v":0},{"$f":"'Data Feed'!I18","v":0},{"$f":"'Data Feed'!J18","v":0},{"$f":"'Data Feed'!K18","v":0},{"$f":"'Data Feed'!L18","v":0},{"$f":"'Data Feed'!M18","v":0},{"$f":"'Data Feed'!N18","v":0},{"$f":"'Data Feed'!O18","v":0},{"$f":"'Data Feed'!P18","v":0},{"$f":"'Data Feed'!Q18","v":0},{"$f":"'Data Feed'!R18","v":0},{"$f":"'Data Feed'!S18","v":0},{"$f":"'Data Feed'!T18","v":0},{"$f":"'Data Feed'!U18","v":0},{"$f":"'Data Feed'!V18","v":0},{"$f":"'Data Feed'!W18","v":0},{"$f":"'Data Feed'!X18","v":0},{"$f":"'Data Feed'!Y18","v":0},{"$f":"'Data Feed'!Z18","v":0},{"$f":"'Data Feed'!AA18","v":0},{"$f":"'Data Feed'!AB18","v":0},{"$f":"'Data Feed'!AC18","v":0},{"$f":"'Data Feed'!AD18","v":0},{"$f":"'Data Feed'!AE18","v":0},{"$f":"'Data Feed'!AF18","v":0},{"$f":"'Data Feed'!AG18","v":0},{"$f":"'Data Feed'!AH18","v":0},{"$f":"'Data Feed'!AI18","v":0}]
[{"$f":"B17&\"_\"&(COUNTIF($B$1:B17,B17))","v":"0_14"},{"$f":"'Data Feed'!K19","v":0},{"$f":"'Data Feed'!B19","v":0},{"$f":"'Data Feed'!C19","v":0},{"$f":"'Data Feed'!D19","v":0},{"$f":"'Data Feed'!E19","v":0},{"$f":"'Data Feed'!F19","v":0},{"$f":"'Data Feed'!G19","v":0},{"$f":"'Data Feed'!H19","v":0},{"$f":"'Data Feed'!I19","v":0},{"$f":"'Data Feed'!J19","v":0},{"$f":"'Data Feed'!K19","v":0},{"$f":"'Data Feed'!L19","v":0},{"$f":"'Data Feed'!M19","v":0},{"$f":"'Data Feed'!N19","v":0},{"$f":"'Data Feed'!O19","v":0},{"$f":"'Data Feed'!P19","v":0},{"$f":"'Data Feed'!Q19","v":0},{"$f":"'Data Feed'!R19","v":0},{"$f":"'Data Feed'!S19","v":0},{"$f":"'Data Feed'!T19","v":0},{"$f":"'Data Feed'!U19","v":0},{"$f":"'Data Feed'!V19","v":0},{"$f":"'Data Feed'!W19","v":0},{"$f":"'Data Feed'!X19","v":0},{"$f":"'Data Feed'!Y19","v":0},{"$f":"'Data Feed'!Z19","v":0},{"$f":"'Data Feed'!AA19","v":0},{"$f":"'Data Feed'!AB19","v":0},{"$f":"'Data Feed'!AC19","v":0},{"$f":"'Data Feed'!AD19","v":0},{"$f":"'Data Feed'!AE19","v":0},{"$f":"'Data Feed'!AF19","v":0},{"$f":"'Data Feed'!AG19","v":0},{"$f":"'Data Feed'!AH19","v":0},{"$f":"'Data Feed'!AI19","v":0}]
[{"$f":"B18&\"_\"&(COUNTIF($B$1:B18,B18))","v":"0_15"},{"$f":"'Data Feed'!K20","v":0},{"$f":"'Data Feed'!B20","v":0},{"$f":"'Data Feed'!C20","v":0},{"$f":"'Data Feed'!D20","v":0},{"$f":"'Data Feed'!E20","v":0},{"$f":"'Data Feed'!F20","v":0},{"$f":"'Data Feed'!G20","v":0},{"$f":"'Data Feed'!H20","v":0},{"$f":"'Data Feed'!I20","v":0},{"$f":"'Data Feed'!J20","v":0},{"$f":"'Data Feed'!K20","v":0},{"$f":"'Data Feed'!L20","v":0},{"$f":"'Data Feed'!M20","v":0},{"$f":"'Data Feed'!N20","v":0},{"$f":"'Data Feed'!O20","v":0},{"$f":"'Data Feed'!P20","v":0},{"$f":"'Data Feed'!Q20","v":0},{"$f":"'Data Feed'!R20","v":0},{"$f":"'Data Feed'!S20","v":0},{"$f":"'Data Feed'!T20","v":0},{"$f":"'Data Feed'!U20","v":0},{"$f":"'Data Feed'!V20","v":0},{"$f":"'Data Feed'!W20","v":0},{"$f":"'Data Feed'!X20","v":0},{"$f":"'Data Feed'!Y20","v":0},{"$f":"'Data Feed'!Z20","v":0},{"$f":"'Data Feed'!AA20","v":0},{"$f":"'Data Feed'!AB20","v":0},{"$f":"'Data Feed'!AC20","v":0},{"$f":"'Data Feed'!AD20","v":0},{"$f":"'Data Feed'!AE20","v":0},{"$f":"'Data Feed'!AF20","v":0},{"$f":"'Data Feed'!AG20","v":0},{"$f":"'Data Feed'!AH20","v":0},{"$f":"'Data Feed'!AI20","v":0}]
[{"$f":"B19&\"_\"&(COUNTIF($B$1:B19,B19))","v":"0_16"},{"$f":"'Data Feed'!K21","v":0},{"$f":"'Data Feed'!B21","v":0},{"$f":"'Data Feed'!C21","v":0},{"$f":"'Data Feed'!D21","v":0},{"$f":"'Data Feed'!E21","v":0},{"$f":"'Data Feed'!F21","v":0},{"$f":"'Data Feed'!G21","v":0},{"$f":"'Data Feed'!H21","v":0},{"$f":"'Data Feed'!I21","v":0},{"$f":"'Data Feed'!J21","v":0},{"$f":"'Data Feed'!K21","v":0},{"$f":"'Data Feed'!L21","v":0},{"$f":"'Data Feed'!M21","v":0},{"$f":"'Data Feed'!N21","v":0},{"$f":"'Data Feed'!O21","v":0},{"$f":"'Data Feed'!P21","v":0},{"$f":"'Data Feed'!Q21","v":0},{"$f":"'Data Feed'!R21","v":0},{"$f":"'Data Feed'!S21","v":0},{"$f":"'Data Feed'!T21","v":0},{"$f":"'Data Feed'!U21","v":0},{"$f":"'Data Feed'!V21","v":0},{"$f":"'Data Feed'!W21","v":0},{"$f":"'Data Feed'!X21","v":0},{"$f":"'Data Feed'!Y21","v":0},{"$f":"'Data Feed'!Z21","v":0},{"$f":"'Data Feed'!AA21","v":0},{"$f":"'Data Feed'!AB21","v":0},{"$f":"'Data Feed'!AC21","v":0},{"$f":"'Data Feed'!AD21","v":0},{"$f":"'Data Feed'!AE21","v":0},{"$f":"'Data Feed'!AF21","v":0},{"$f":"'Data Feed'!AG21","v":0},{"$f":"'Data Feed'!AH21","v":0},{"$f":"'Data Feed'!AI21","v":0}]
[{"$f":"B20&\"_\"&(COUNTIF($B$1:B20,B20))","v":"0_17"},{"$f":"'Data Feed'!K22","v":0},{"$f":"'Data Feed'!B22","v":0},{"$f":"'Data Feed'!C22","v":0},{"$f":"'Data Feed'!D22","v":0},{"$f":"'Data Feed'!E22","v":0},{"$f":"'Data Feed'!F22","v":0},{"$f":"'Data Feed'!G22","v":0},{"$f":"'Data Feed'!H22","v":0},{"$f":"'Data Feed'!I22","v":0},{"$f":"'Data Feed'!J22","v":0},{"$f":"'Data Feed'!K22","v":0},{"$f":"'Data Feed'!L22","v":0},{"$f":"'Data Feed'!M22","v":0},{"$f":"'Data Feed'!N22","v":0},{"$f":"'Data Feed'!O22","v":0},{"$f":"'Data Feed'!P22","v":0},{"$f":"'Data Feed'!Q22","v":0},{"$f":"'Data Feed'!R22","v":0},{"$f":"'Data Feed'!S22","v":0},{"$f":"'Data Feed'!T22","v":0},{"$f":"'Data Feed'!U22","v":0},{"$f":"'Data Feed'!V22","v":0},{"$f":"'Data Feed'!W22","v":0},{"$f":"'Data Feed'!X22","v":0},{"$f":"'Data Feed'!Y22","v":0},{"$f":"'Data Feed'!Z22","v":0},{"$f":"'Data Feed'!AA22","v":0},{"$f":"'Data Feed'!AB22","v":0},{"$f":"'Data Feed'!AC22","v":0},{"$f":"'Data Feed'!AD22","v":0},{"$f":"'Data Feed'!AE22","v":0},{"$f":"'Data Feed'!AF22","v":0},{"$f":"'Data Feed'!AG22","v":0},{"$f":"'Data Feed'!AH22","v":0},{"$f":"'Data Feed'!AI22","v":0}]
[{"$f":"B21&\"_\"&(COUNTIF($B$1:B21,B21))","v":"0_18"},{"$f":"'Data Feed'!K23","v":0},{"$f":"'Data Feed'!B23","v":0},{"$f":"'Data Feed'!C23","v":0},{"$f":"'Data Feed'!D23","v":0},{"$f":"'Data Feed'!E23","v":0},{"$f":"'Data Feed'!F23","v":0},{"$f":"'Data Feed'!G23","v":0},{"$f":"'Data Feed'!H23","v":0},{"$f":"'Data Feed'!I23","v":0},{"$f":"'Data Feed'!J23","v":0},{"$f":"'Data Feed'!K23","v":0},{"$f":"'Data Feed'!L23","v":0},{"$f":"'Data Feed'!M23","v":0},{"$f":"'Data Feed'!N23","v":0},{"$f":"'Data Feed'!O23","v":0},{"$f":"'Data Feed'!P23","v":0},{"$f":"'Data Feed'!Q23","v":0},{"$f":"'Data Feed'!R23","v":0},{"$f":"'Data Feed'!S23","v":0},{"$f":"'Data Feed'!T23","v":0},{"$f":"'Data Feed'!U23","v":0},{"$f":"'Data Feed'!V23","v":0},{"$f":"'Data Feed'!W23","v":0},{"$f":"'Data Feed'!X23","v":0},{"$f":"'Data Feed'!Y23","v":0},{"$f":"'Data Feed'!Z23","v":0},{"$f":"'Data Feed'!AA23","v":0},{"$f":"'Data Feed'!AB23","v":0},{"$f":"'Data Feed'!AC23","v":0},{"$f":"'Data Feed'!AD23","v":0},{"$f":"'Data Feed'!AE23","v":0},{"$f":"'Data Feed'!AF23","v":0},{"$f":"'Data Feed'!AG23","v":0},{"$f":"'Data Feed'!AH23","v":0},{"$f":"'Data Feed'!AI23","v":0}]
[{"$f":"B22&\"_\"&(COUNTIF($B$1:B22,B22))","v":"0_19"},{"$f":"'Data Feed'!K24","v":0},{"$f":"'Data Feed'!B24","v":0},{"$f":"'Data Feed'!C24","v":0},{"$f":"'Data Feed'!D24","v":0},{"$f":"'Data Feed'!E24","v":0},{"$f":"'Data Feed'!F24","v":0},{"$f":"'Data Feed'!G24","v":0},{"$f":"'Data Feed'!H24","v":0},{"$f":"'Data Feed'!I24","v":0},{"$f":"'Data Feed'!J24","v":0},{"$f":"'Data Feed'!K24","v":0},{"$f":"'Data Feed'!L24","v":0},{"$f":"'Data Feed'!M24","v":0},{"$f":"'Data Feed'!N24","v":0},{"$f":"'Data Feed'!O24","v":0},{"$f":"'Data Feed'!P24","v":0},{"$f":"'Data Feed'!Q24","v":0},{"$f":"'Data Feed'!R24","v":0},{"$f":"'Data Feed'!S24","v":0},{"$f":"'Data Feed'!T24","v":0},{"$f":"'Data Feed'!U24","v":0},{"$f":"'Data Feed'!V24","v":0},{"$f":"'Data Feed'!W24","v":0},{"$f":"'Data Feed'!X24","v":0},{"$f":"'Data Feed'!Y24","v":0},{"$f":"'Data Feed'!Z24","v":0},{"$f":"'Data Feed'!AA24","v":0},{"$f":"'Data Feed'!AB24","v":0},{"$f":"'Data Feed'!AC24","v":0},{"$f":"'Data Feed'!AD24","v":0},{"$f":"'Data Feed'!AE24","v":0},{"$f":"'Data Feed'!AF24","v":0},{"$f":"'Data Feed'!AG24","v":0},{"$f":"'Data Feed'!AH24","v":0},{"$f":"'Data Feed'!AI24","v":0}]
[{"$f":"B23&\"_\"&(COUNTIF($B$1:B23,B23))","v":"0_20"},{"$f":"'Data Feed'!K25","v":0},{"$f":"'Data Feed'!B25","v":0},{"$f":"'Data Feed'!C25","v":0},{"$f":"'Data Feed'!D25","v":0},{"$f":"'Data Feed'!E25","v":0},{"$f":"'Data Feed'!F25","v":0},{"$f":"'Data Feed'!G25","v":0},{"$f":"'Data Feed'!H25","v":0},{"$f":"'Data Feed'!I25","v":0},{"$f":"'Data Feed'!J25","v":0},{"$f":"'Data Feed'!K25","v":0},{"$f":"'Data Feed'!L25","v":0},{"$f":"'Data Feed'!M25","v":0},{"$f":"'Data Feed'!N25","v":0},{"$f":"'Data Feed'!O25","v":0},{"$f":"'Data Feed'!P25","v":0},{"$f":"'Data Feed'!Q25","v":0},{"$f":"'Data Feed'!R25","v":0},{"$f":"'Data Feed'!S25","v":0},{"$f":"'Data Feed'!T25","v":0},{"$f":"'Data Feed'!U25","v":0},{"$f":"'Data Feed'!V25","v":0},{"$f":"'Data Feed'!W25","v":0},{"$f":"'Data Feed'!X25","v":0},{"$f":"'Data Feed'!Y25","v":0},{"$f":"'Data Feed'!Z25","v":0},{"$f":"'Data Feed'!AA25","v":0},{"$f":"'Data Feed'!AB25","v":0},{"$f":"'Data Feed'!AC25","v":0},{"$f":"'Data Feed'!AD25","v":0},{"$f":"'Data Feed'!AE25","v":0},{"$f":"'Data Feed'!AF25","v":0},{"$f":"'Data Feed'!AG25","v":0},{"$f":"'Data Feed'!AH25","v":0},{"$f":"'Data Feed'!AI25","v":0}]
[{"$f":"B24&\"_\"&(COUNTIF($B$1:B24,B24))","v":"0_21"},{"$f":"'Data Feed'!K26","v":0},{"$f":"'Data Feed'!B26","v":0},{"$f":"'Data Feed'!C26","v":0},{"$f":"'Data Feed'!D26","v":0},{"$f":"'Data Feed'!E26","v":0},{"$f":"'Data Feed'!F26","v":0},{"$f":"'Data Feed'!G26","v":0},{"$f":"'Data Feed'!H26","v":0},{"$f":"'Data Feed'!I26","v":0},{"$f":"'Data Feed'!J26","v":0},{"$f":"'Data Feed'!K26","v":0},{"$f":"'Data Feed'!L26","v":0},{"$f":"'Data Feed'!M26","v":0},{"$f":"'Data Feed'!N26","v":0},{"$f":"'Data Feed'!O26","v":0},{"$f":"'Data Feed'!P26","v":0},{"$f":"'Data Feed'!Q26","v":0},{"$f":"'Data Feed'!R26","v":0},{"$f":"'Data Feed'!S26","v":0},{"$f":"'Data Feed'!T26","v":0},{"$f":"'Data Feed'!U26","v":0},{"$f":"'Data Feed'!V26","v":0},{"$f":"'Data Feed'!W26","v":0},{"$f":"'Data Feed'!X26","v":0},{"$f":"'Data Feed'!Y26","v":0},{"$f":"'Data Feed'!Z26","v":0},{"$f":"'Data Feed'!AA26","v":0},{"$f":"'Data Feed'!AB26","v":0},{"$f":"'Data Feed'!AC26","v":0},{"$f":"'Data Feed'!AD26","v":0},{"$f":"'Data Feed'!AE26","v":0},{"$f":"'Data Feed'!AF26","v":0},{"$f":"'Data Feed'!AG26","v":0},{"$f":"'Data Feed'!AH26","v":0},{"$f":"'Data Feed'!AI26","v":0}]
[{"$f":"B25&\"_\"&(COUNTIF($B$1:B25,B25))","v":"0_22"},{"$f":"'Data Feed'!K27","v":0},{"$f":"'Data Feed'!B27","v":0},{"$f":"'Data Feed'!C27","v":0},{"$f":"'Data Feed'!D27","v":0},{"$f":"'Data Feed'!E27","v":0},{"$f":"'Data Feed'!F27","v":0},{"$f":"'Data Feed'!G27","v":0},{"$f":"'Data Feed'!H27","v":0},{"$f":"'Data Feed'!I27","v":0},{"$f":"'Data Feed'!J27","v":0},{"$f":"'Data Feed'!K27","v":0},{"$f":"'Data Feed'!L27","v":0},{"$f":"'Data Feed'!M27","v":0},{"$f":"'Data Feed'!N27","v":0},{"$f":"'Data Feed'!O27","v":0},{"$f":"'Data Feed'!P27","v":0},{"$f":"'Data Feed'!Q27","v":0},{"$f":"'Data Feed'!R27","v":0},{"$f":"'Data Feed'!S27","v":0},{"$f":"'Data Feed'!T27","v":0},{"$f":"'Data Feed'!U27","v":0},{"$f":"'Data Feed'!V27","v":0},{"$f":"'Data Feed'!W27","v":0},{"$f":"'Data Feed'!X27","v":0},{"$f":"'Data Feed'!Y27","v":0},{"$f":"'Data Feed'!Z27","v":0},{"$f":"'Data Feed'!AA27","v":0},{"$f":"'Data Feed'!AB27","v":0},{"$f":"'Data Feed'!AC27","v":0},{"$f":"'Data Feed'!AD27","v":0},{"$f":"'Data Feed'!AE27","v":0},{"$f":"'Data Feed'!AF27","v":0},{"$f":"'Data Feed'!AG27","v":0},{"$f":"'Data Feed'!AH27","v":0},{"$f":"'Data Feed'!AI27","v":0}]
[{"$f":"B26&\"_\"&(COUNTIF($B$1:B26,B26))","v":"0_23"},{"$f":"'Data Feed'!K28","v":0},{"$f":"'Data Feed'!B28","v":0},{"$f":"'Data Feed'!C28","v":0},{"$f":"'Data Feed'!D28","v":0},{"$f":"'Data Feed'!E28","v":0},{"$f":"'Data Feed'!F28","v":0},{"$f":"'Data Feed'!G28","v":0},{"$f":"'Data Feed'!H28","v":0},{"$f":"'Data Feed'!I28","v":0},{"$f":"'Data Feed'!J28","v":0},{"$f":"'Data Feed'!K28","v":0},{"$f":"'Data Feed'!L28","v":0},{"$f":"'Data Feed'!M28","v":0},{"$f":"'Data Feed'!N28","v":0},{"$f":"'Data Feed'!O28","v":0},{"$f":"'Data Feed'!P28","v":0},{"$f":"'Data Feed'!Q28","v":0},{"$f":"'Data Feed'!R28","v":0},{"$f":"'Data Feed'!S28","v":0},{"$f":"'Data Feed'!T28","v":0},{"$f":"'Data Feed'!U28","v":0},{"$f":"'Data Feed'!V28","v":0},{"$f":"'Data Feed'!W28","v":0},{"$f":"'Data Feed'!X28","v":0},{"$f":"'Data Feed'!Y28","v":0},{"$f":"'Data Feed'!Z28","v":0},{"$f":"'Data Feed'!AA28","v":0},{"$f":"'Data Feed'!AB28","v":0},{"$f":"'Data Feed'!AC28","v":0},{"$f":"'Data Feed'!AD28","v":0},{"$f":"'Data Feed'!AE28","v":0},{"$f":"'Data Feed'!AF28","v":0},{"$f":"'Data Feed'!AG28","v":0},{"$f":"'Data Feed'!AH28","v":0},{"$f":"'Data Feed'!AI28","v":0}]
[{"$f":"B27&\"_\"&(COUNTIF($B$1:B27,B27))","v":"0_24"},{"$f":"'Data Feed'!K29","v":0},{"$f":"'Data Feed'!B29","v":0},{"$f":"'Data Feed'!C29","v":0},{"$f":"'Data Feed'!D29","v":0},{"$f":"'Data Feed'!E29","v":0},{"$f":"'Data Feed'!F29","v":0},{"$f":"'Data Feed'!G29","v":0},{"$f":"'Data Feed'!H29","v":0},{"$f":"'Data Feed'!I29","v":0},{"$f":"'Data Feed'!J29","v":0},{"$f":"'Data Feed'!K29","v":0},{"$f":"'Data Feed'!L29","v":0},{"$f":"'Data Feed'!M29","v":0},{"$f":"'Data Feed'!N29","v":0},{"$f":"'Data Feed'!O29","v":0},{"$f":"'Data Feed'!P29","v":0},{"$f":"'Data Feed'!Q29","v":0},{"$f":"'Data Feed'!R29","v":0},{"$f":"'Data Feed'!S29","v":0},{"$f":"'Data Feed'!T29","v":0},{"$f":"'Data Feed'!U29","v":0},{"$f":"'Data Feed'!V29","v":0},{"$f":"'Data Feed'!W29","v":0},{"$f":"'Data Feed'!X29","v":0},{"$f":"'Data Feed'!Y29","v":0},{"$f":"'Data Feed'!Z29","v":0},{"$f":"'Data Feed'!AA29","v":0},{"$f":"'Data Feed'!AB29","v":0},{"$f":"'Data Feed'!AC29","v":0},{"$f":"'Data Feed'!AD29","v":0},{"$f":"'Data Feed'!AE29","v":0},{"$f":"'Data Feed'!AF29","v":0},{"$f":"'Data Feed'!AG29","v":0},{"$f":"'Data Feed'!AH29","v":0},{"$f":"'Data Feed'!AI29","v":0}]
[{"$f":"B28&\"_\"&(COUNTIF($B$1:B28,B28))","v":"0_25"},{"$f":"'Data Feed'!K30","v":0},{"$f":"'Data Feed'!B30","v":0},{"$f":"'Data Feed'!C30","v":0},{"$f":"'Data Feed'!D30","v":0},{"$f":"'Data Feed'!E30","v":0},{"$f":"'Data Feed'!F30","v":0},{"$f":"'Data Feed'!G30","v":0},{"$f":"'Data Feed'!H30","v":0},{"$f":"'Data Feed'!I30","v":0},{"$f":"'Data Feed'!J30","v":0},{"$f":"'Data Feed'!K30","v":0},{"$f":"'Data Feed'!L30","v":0},{"$f":"'Data Feed'!M30","v":0},{"$f":"'Data Feed'!N30","v":0},{"$f":"'Data Feed'!O30","v":0},{"$f":"'Data Feed'!P30","v":0},{"$f":"'Data Feed'!Q30","v":0},{"$f":"'Data Feed'!R30","v":0},{"$f":"'Data Feed'!S30","v":0},{"$f":"'Data Feed'!T30","v":0},{"$f":"'Data Feed'!U30","v":0},{"$f":"'Data Feed'!V30","v":0},{"$f":"'Data Feed'!W30","v":0},{"$f":"'Data Feed'!X30","v":0},{"$f":"'Data Feed'!Y30","v":0},{"$f":"'Data Feed'!Z30","v":0},{"$f":"'Data Feed'!AA30","v":0},{"$f":"'Data Feed'!AB30","v":0},{"$f":"'Data Feed'!AC30","v":0},{"$f":"'Data Feed'!AD30","v":0},{"$f":"'Data Feed'!AE30","v":0},{"$f":"'Data Feed'!AF30","v":0},{"$f":"'Data Feed'!AG30","v":0},{"$f":"'Data Feed'!AH30","v":0},{"$f":"'Data Feed'!AI30","v":0}]
[{"$f":"B29&\"_\"&(COUNTIF($B$1:B29,B29))","v":"0_26"},{"$f":"'Data Feed'!K31","v":0},{"$f":"'Data Feed'!B31","v":0},{"$f":"'Data Feed'!C31","v":0},{"$f":"'Data Feed'!D31","v":0},{"$f":"'Data Feed'!E31","v":0},{"$f":"'Data Feed'!F31","v":0},{"$f":"'Data Feed'!G31","v":0},{"$f":"'Data Feed'!H31","v":0},{"$f":"'Data Feed'!I31","v":0},{"$f":"'Data Feed'!J31","v":0},{"$f":"'Data Feed'!K31","v":0},{"$f":"'Data Feed'!L31","v":0},{"$f":"'Data Feed'!M31","v":0},{"$f":"'Data Feed'!N31","v":0},{"$f":"'Data Feed'!O31","v":0},{"$f":"'Data Feed'!P31","v":0},{"$f":"'Data Feed'!Q31","v":0},{"$f":"'Data Feed'!R31","v":0},{"$f":"'Data Feed'!S31","v":0},{"$f":"'Data Feed'!T31","v":0},{"$f":"'Data Feed'!U31","v":0},{"$f":"'Data Feed'!V31","v":0},{"$f":"'Data Feed'!W31","v":0},{"$f":"'Data Feed'!X31","v":0},{"$f":"'Data Feed'!Y31","v":0},{"$f":"'Data Feed'!Z31","v":0},{"$f":"'Data Feed'!AA31","v":0},{"$f":"'Data Feed'!AB31","v":0},{"$f":"'Data Feed'!AC31","v":0},{"$f":"'Data Feed'!AD31","v":0},{"$f":"'Data Feed'!AE31","v":0},{"$f":"'Data Feed'!AF31","v":0},{"$f":"'Data Feed'!AG31","v":0},{"$f":"'Data Feed'!AH31","v":0},{"$f":"'Data Feed'!AI31","v":0}]
[{"$f":"B30&\"_\"&(COUNTIF($B$1:B30,B30))","v":"0_27"},{"$f":"'Data Feed'!K32","v":0},{"$f":"'Data Feed'!B32","v":0},{"$f":"'Data Feed'!C32","v":0},{"$f":"'Data Feed'!D32","v":0},{"$f":"'Data Feed'!E32","v":0},{"$f":"'Data Feed'!F32","v":0},{"$f":"'Data Feed'!G32","v":0},{"$f":"'Data Feed'!H32","v":0},{"$f":"'Data Feed'!I32","v":0},{"$f":"'Data Feed'!J32","v":0},{"$f":"'Data Feed'!K32","v":0},{"$f":"'Data Feed'!L32","v":0},{"$f":"'Data Feed'!M32","v":0},{"$f":"'Data Feed'!N32","v":0},{"$f":"'Data Feed'!O32","v":0},{"$f":"'Data Feed'!P32","v":0},{"$f":"'Data Feed'!Q32","v":0},{"$f":"'Data Feed'!R32","v":0},{"$f":"'Data Feed'!S32","v":0},{"$f":"'Data Feed'!T32","v":0},{"$f":"'Data Feed'!U32","v":0},{"$f":"'Data Feed'!V32","v":0},{"$f":"'Data Feed'!W32","v":0},{"$f":"'Data Feed'!X32","v":0},{"$f":"'Data Feed'!Y32","v":0},{"$f":"'Data Feed'!Z32","v":0},{"$f":"'Data Feed'!AA32","v":0},{"$f":"'Data Feed'!AB32","v":0},{"$f":"'Data Feed'!AC32","v":0},{"$f":"'Data Feed'!AD32","v":0},{"$f":"'Data Feed'!AE32","v":0},{"$f":"'Data Feed'!AF32","v":0},{"$f":"'Data Feed'!AG32","v":0},{"$f":"'Data Feed'!AH32","v":0},{"$f":"'Data Feed'!AI32","v":0}]
[{"$f":"B31&\"_\"&(COUNTIF($B$1:B31,B31))","v":"0_28"},{"$f":"'Data Feed'!K33","v":0},{"$f":"'Data Feed'!B33","v":0},{"$f":"'Data Feed'!C33","v":0},{"$f":"'Data Feed'!D33","v":0},{"$f":"'Data Feed'!E33","v":0},{"$f":"'Data Feed'!F33","v":0},{"$f":"'Data Feed'!G33","v":0},{"$f":"'Data Feed'!H33","v":0},{"$f":"'Data Feed'!I33","v":0},{"$f":"'Data Feed'!J33","v":0},{"$f":"'Data Feed'!K33","v":0},{"$f":"'Data Feed'!L33","v":0},{"$f":"'Data Feed'!M33","v":0},{"$f":"'Data Feed'!N33","v":0},{"$f":"'Data Feed'!O33","v":0},{"$f":"'Data Feed'!P33","v":0},{"$f":"'Data Feed'!Q33","v":0},{"$f":"'Data Feed'!R33","v":0},{"$f":"'Data Feed'!S33","v":0},{"$f":"'Data Feed'!T33","v":0},{"$f":"'Data Feed'!U33","v":0},{"$f":"'Data Feed'!V33","v":0},{"$f":"'Data Feed'!W33","v":0},{"$f":"'Data Feed'!X33","v":0},{"$f":"'Data Feed'!Y33","v":0},{"$f":"'Data Feed'!Z33","v":0},{"$f":"'Data Feed'!AA33","v":0},{"$f":"'Data Feed'!AB33","v":0},{"$f":"'Data Feed'!AC33","v":0},{"$f":"'Data Feed'!AD33","v":0},{"$f":"'Data Feed'!AE33","v":0},{"$f":"'Data Feed'!AF33","v":0},{"$f":"'Data Feed'!AG33","v":0},{"$f":"'Data Feed'!AH33","v":0},{"$f":"'Data Feed'!AI33","v":0}]
[{"$f":"B32&\"_\"&(COUNTIF($B$1:B32,B32))","v":"0_29"},{"$f":"'Data Feed'!K34","v":0},{"$f":"'Data Feed'!B34","v":0},{"$f":"'Data Feed'!C34","v":0},{"$f":"'Data Feed'!D34","v":0},{"$f":"'Data Feed'!E34","v":0},{"$f":"'Data Feed'!F34","v":0},{"$f":"'Data Feed'!G34","v":0},{"$f":"'Data Feed'!H34","v":0},{"$f":"'Data Feed'!I34","v":0},{"$f":"'Data Feed'!J34","v":0},{"$f":"'Data Feed'!K34","v":0},{"$f":"'Data Feed'!L34","v":0},{"$f":"'Data Feed'!M34","v":0},{"$f":"'Data Feed'!N34","v":0},{"$f":"'Data Feed'!O34","v":0},{"$f":"'Data Feed'!P34","v":0},{"$f":"'Data Feed'!Q34","v":0},{"$f":"'Data Feed'!R34","v":0},{"$f":"'Data Feed'!S34","v":0},{"$f":"'Data Feed'!T34","v":0},{"$f":"'Data Feed'!U34","v":0},{"$f":"'Data Feed'!V34","v":0},{"$f":"'Data Feed'!W34","v":0},{"$f":"'Data Feed'!X34","v":0},{"$f":"'Data Feed'!Y34","v":0},{"$f":"'Data Feed'!Z34","v":0},{"$f":"'Data Feed'!AA34","v":0},{"$f":"'Data Feed'!AB34","v":0},{"$f":"'Data Feed'!AC34","v":0},{"$f":"'Data Feed'!AD34","v":0},{"$f":"'Data Feed'!AE34","v":0},{"$f":"'Data Feed'!AF34","v":0},{"$f":"'Data Feed'!AG34","v":0},{"$f":"'Data Feed'!AH34","v":0},{"$f":"'Data Feed'!AI34","v":0}]
[{"$f":"B33&\"_\"&(COUNTIF($B$1:B33,B33))","v":"0_30"},{"$f":"'Data Feed'!K35","v":0},{"$f":"'Data Feed'!B35","v":0},{"$f":"'Data Feed'!C35","v":0},{"$f":"'Data Feed'!D35","v":0},{"$f":"'Data Feed'!E35","v":0},{"$f":"'Data Feed'!F35","v":0},{"$f":"'Data Feed'!G35","v":0},{"$f":"'Data Feed'!H35","v":0},{"$f":"'Data Feed'!I35","v":0},{"$f":"'Data Feed'!J35","v":0},{"$f":"'Data Feed'!K35","v":0},{"$f":"'Data Feed'!L35","v":0},{"$f":"'Data Feed'!M35","v":0},{"$f":"'Data Feed'!N35","v":0},{"$f":"'Data Feed'!O35","v":0},{"$f":"'Data Feed'!P35","v":0},{"$f":"'Data Feed'!Q35","v":0},{"$f":"'Data Feed'!R35","v":0},{"$f":"'Data Feed'!S35","v":0},{"$f":"'Data Feed'!T35","v":0},{"$f":"'Data Feed'!U35","v":0},{"$f":"'Data Feed'!V35","v":0},{"$f":"'Data Feed'!W35","v":0},{"$f":"'Data Feed'!X35","v":0},{"$f":"'Data Feed'!Y35","v":0},{"$f":"'Data Feed'!Z35","v":0},{"$f":"'Data Feed'!AA35","v":0},{"$f":"'Data Feed'!AB35","v":0},{"$f":"'Data Feed'!AC35","v":0},{"$f":"'Data Feed'!AD35","v":0},{"$f":"'Data Feed'!AE35","v":0},{"$f":"'Data Feed'!AF35","v":0},{"$f":"'Data Feed'!AG35","v":0},{"$f":"'Data Feed'!AH35","v":0},{"$f":"'Data Feed'!AI35","v":0}]
[{"$f":"B34&\"_\"&(COUNTIF($B$1:B34,B34))","v":"0_31"},{"$f":"'Data Feed'!K36","v":0},{"$f":"'Data Feed'!B36","v":0},{"$f":"'Data Feed'!C36","v":0},{"$f":"'Data Feed'!D36","v":0},{"$f":"'Data Feed'!E36","v":0},{"$f":"'Data Feed'!F36","v":0},{"$f":"'Data Feed'!G36","v":0},{"$f":"'Data Feed'!H36","v":0},{"$f":"'Data Feed'!I36","v":0},{"$f":"'Data Feed'!J36","v":0},{"$f":"'Data Feed'!K36","v":0},{"$f":"'Data Feed'!L36","v":0},{"$f":"'Data Feed'!M36","v":0},{"$f":"'Data Feed'!N36","v":0},{"$f":"'Data Feed'!O36","v":0},{"$f":"'Data Feed'!P36","v":0},{"$f":"'Data Feed'!Q36","v":0},{"$f":"'Data Feed'!R36","v":0},{"$f":"'Data Feed'!S36","v":0},{"$f":"'Data Feed'!T36","v":0},{"$f":"'Data Feed'!U36","v":0},{"$f":"'Data Feed'!V36","v":0},{"$f":"'Data Feed'!W36","v":0},{"$f":"'Data Feed'!X36","v":0},{"$f":"'Data Feed'!Y36","v":0},{"$f":"'Data Feed'!Z36","v":0},{"$f":"'Data Feed'!AA36","v":0},{"$f":"'Data Feed'!AB36","v":0},{"$f":"'Data Feed'!AC36","v":0},{"$f":"'Data Feed'!AD36","v":0},{"$f":"'Data Feed'!AE36","v":0},{"$f":"'Data Feed'!AF36","v":0},{"$f":"'Data Feed'!AG36","v":0},{"$f":"'Data Feed'!AH36","v":0},{"$f":"'Data Feed'!AI36","v":0}]
[{"$f":"B35&\"_\"&(COUNTIF($B$1:B35,B35))","v":"0_32"},{"$f":"'Data Feed'!K37","v":0},{"$f":"'Data Feed'!B37","v":0},{"$f":"'Data Feed'!C37","v":0},{"$f":"'Data Feed'!D37","v":0},{"$f":"'Data Feed'!E37","v":0},{"$f":"'Data Feed'!F37","v":0},{"$f":"'Data Feed'!G37","v":0},{"$f":"'Data Feed'!H37","v":0},{"$f":"'Data Feed'!I37","v":0},{"$f":"'Data Feed'!J37","v":0},{"$f":"'Data Feed'!K37","v":0},{"$f":"'Data Feed'!L37","v":0},{"$f":"'Data Feed'!M37","v":0},{"$f":"'Data Feed'!N37","v":0},{"$f":"'Data Feed'!O37","v":0},{"$f":"'Data Feed'!P37","v":0},{"$f":"'Data Feed'!Q37","v":0},{"$f":"'Data Feed'!R37","v":0},{"$f":"'Data Feed'!S37","v":0},{"$f":"'Data Feed'!T37","v":0},{"$f":"'Data Feed'!U37","v":0},{"$f":"'Data Feed'!V37","v":0},{"$f":"'Data Feed'!W37","v":0},{"$f":"'Data Feed'!X37","v":0},{"$f":"'Data Feed'!Y37","v":0},{"$f":"'Data Feed'!Z37","v":0},{"$f":"'Data Feed'!AA37","v":0},{"$f":"'Data Feed'!AB37","v":0},{"$f":"'Data Feed'!AC37","v":0},{"$f":"'Data Feed'!AD37","v":0},{"$f":"'Data Feed'!AE37","v":0},{"$f":"'Data Feed'!AF37","v":0},{"$f":"'Data Feed'!AG37","v":0},{"$f":"'Data Feed'!AH37","v":0},{"$f":"'Data Feed'!AI37","v":0}]
[{"$f":"B36&\"_\"&(COUNTIF($B$1:B36,B36))","v":"0_33"},{"$f":"'Data Feed'!K38","v":0},{"$f":"'Data Feed'!B38","v":0},{"$f":"'Data Feed'!C38","v":0},{"$f":"'Data Feed'!D38","v":0},{"$f":"'Data Feed'!E38","v":0},{"$f":"'Data Feed'!F38","v":0},{"$f":"'Data Feed'!G38","v":0},{"$f":"'Data Feed'!H38","v":0},{"$f":"'Data Feed'!I38","v":0},{"$f":"'Data Feed'!J38","v":0},{"$f":"'Data Feed'!K38","v":0},{"$f":"'Data Feed'!L38","v":0},{"$f":"'Data Feed'!M38","v":0},{"$f":"'Data Feed'!N38","v":0},{"$f":"'Data Feed'!O38","v":0},{"$f":"'Data Feed'!P38","v":0},{"$f":"'Data Feed'!Q38","v":0},{"$f":"'Data Feed'!R38","v":0},{"$f":"'Data Feed'!S38","v":0},{"$f":"'Data Feed'!T38","v":0},{"$f":"'Data Feed'!U38","v":0},{"$f":"'Data Feed'!V38","v":0},{"$f":"'Data Feed'!W38","v":0},{"$f":"'Data Feed'!X38","v":0},{"$f":"'Data Feed'!Y38","v":0},{"$f":"'Data Feed'!Z38","v":0},{"$f":"'Data Feed'!AA38","v":0},{"$f":"'Data Feed'!AB38","v":0},{"$f":"'Data Feed'!AC38","v":0},{"$f":"'Data Feed'!AD38","v":0},{"$f":"'Data Feed'!AE38","v":0},{"$f":"'Data Feed'!AF38","v":0},{"$f":"'Data Feed'!AG38","v":0},{"$f":"'Data Feed'!AH38","v":0},{"$f":"'Data Feed'!AI38","v":0}]
[{"$f":"B37&\"_\"&(COUNTIF($B$1:B37,B37))","v":"0_34"},{"$f":"'Data Feed'!K39","v":0},{"$f":"'Data Feed'!B39","v":0},{"$f":"'Data Feed'!C39","v":0},{"$f":"'Data Feed'!D39","v":0},{"$f":"'Data Feed'!E39","v":0},{"$f":"'Data Feed'!F39","v":0},{"$f":"'Data Feed'!G39","v":0},{"$f":"'Data Feed'!H39","v":0},{"$f":"'Data Feed'!I39","v":0},{"$f":"'Data Feed'!J39","v":0},{"$f":"'Data Feed'!K39","v":0},{"$f":"'Data Feed'!L39","v":0},{"$f":"'Data Feed'!M39","v":0},{"$f":"'Data Feed'!N39","v":0},{"$f":"'Data Feed'!O39","v":0},{"$f":"'Data Feed'!P39","v":0},{"$f":"'Data Feed'!Q39","v":0},{"$f":"'Data Feed'!R39","v":0},{"$f":"'Data Feed'!S39","v":0},{"$f":"'Data Feed'!T39","v":0},{"$f":"'Data Feed'!U39","v":0},{"$f":"'Data Feed'!V39","v":0},{"$f":"'Data Feed'!W39","v":0},{"$f":"'Data Feed'!X39","v":0},{"$f":"'Data Feed'!Y39","v":0},{"$f":"'Data Feed'!Z39","v":0},{"$f":"'Data Feed'!AA39","v":0},{"$f":"'Data Feed'!AB39","v":0},{"$f":"'Data Feed'!AC39","v":0},{"$f":"'Data Feed'!AD39","v":0},{"$f":"'Data Feed'!AE39","v":0},{"$f":"'Data Feed'!AF39","v":0},{"$f":"'Data Feed'!AG39","v":0},{"$f":"'Data Feed'!AH39","v":0},{"$f":"'Data Feed'!AI39","v":0}]
[{"$f":"B38&\"_\"&(COUNTIF($B$1:B38,B38))","v":"0_35"},{"$f":"'Data Feed'!K40","v":0},{"$f":"'Data Feed'!B40","v":0},{"$f":"'Data Feed'!C40","v":0},{"$f":"'Data Feed'!D40","v":0},{"$f":"'Data Feed'!E40","v":0},{"$f":"'Data Feed'!F40","v":0},{"$f":"'Data Feed'!G40","v":0},{"$f":"'Data Feed'!H40","v":0},{"$f":"'Data Feed'!I40","v":0},{"$f":"'Data Feed'!J40","v":0},{"$f":"'Data Feed'!K40","v":0},{"$f":"'Data Feed'!L40","v":0},{"$f":"'Data Feed'!M40","v":0},{"$f":"'Data Feed'!N40","v":0},{"$f":"'Data Feed'!O40","v":0},{"$f":"'Data Feed'!P40","v":0},{"$f":"'Data Feed'!Q40","v":0},{"$f":"'Data Feed'!R40","v":0},{"$f":"'Data Feed'!S40","v":0},{"$f":"'Data Feed'!T40","v":0},{"$f":"'Data Feed'!U40","v":0},{"$f":"'Data Feed'!V40","v":0},{"$f":"'Data Feed'!W40","v":0},{"$f":"'Data Feed'!X40","v":0},{"$f":"'Data Feed'!Y40","v":0},{"$f":"'Data Feed'!Z40","v":0},{"$f":"'Data Feed'!AA40","v":0},{"$f":"'Data Feed'!AB40","v":0},{"$f":"'Data Feed'!AC40","v":0},{"$f":"'Data Feed'!AD40","v":0},{"$f":"'Data Feed'!AE40","v":0},{"$f":"'Data Feed'!AF40","v":0},{"$f":"'Data Feed'!AG40","v":0},{"$f":"'Data Feed'!AH40","v":0},{"$f":"'Data Feed'!AI40","v":0}]
[{"$f":"B39&\"_\"&(COUNTIF($B$1:B39,B39))","v":"0_36"},{"$f":"'Data Feed'!K41","v":0},{"$f":"'Data Feed'!B41","v":0},{"$f":"'Data Feed'!C41","v":0},{"$f":"'Data Feed'!D41","v":0},{"$f":"'Data Feed'!E41","v":0},{"$f":"'Data Feed'!F41","v":0},{"$f":"'Data Feed'!G41","v":0},{"$f":"'Data Feed'!H41","v":0},{"$f":"'Data Feed'!I41","v":0},{"$f":"'Data Feed'!J41","v":0},{"$f":"'Data Feed'!K41","v":0},{"$f":"'Data Feed'!L41","v":0},{"$f":"'Data Feed'!M41","v":0},{"$f":"'Data Feed'!N41","v":0},{"$f":"'Data Feed'!O41","v":0},{"$f":"'Data Feed'!P41","v":0},{"$f":"'Data Feed'!Q41","v":0},{"$f":"'Data Feed'!R41","v":0},{"$f":"'Data Feed'!S41","v":0},{"$f":"'Data Feed'!T41","v":0},{"$f":"'Data Feed'!U41","v":0},{"$f":"'Data Feed'!V41","v":0},{"$f":"'Data Feed'!W41","v":0},{"$f":"'Data Feed'!X41","v":0},{"$f":"'Data Feed'!Y41","v":0},{"$f":"'Data Feed'!Z41","v":0},{"$f":"'Data Feed'!AA41","v":0},{"$f":"'Data Feed'!AB41","v":0},{"$f":"'Data Feed'!AC41","v":0},{"$f":"'Data Feed'!AD41","v":0},{"$f":"'Data Feed'!AE41","v":0},{"$f":"'Data Feed'!AF41","v":0},{"$f":"'Data Feed'!AG41","v":0},{"$f":"'Data Feed'!AH41","v":0},{"$f":"'Data Feed'!AI41","v":0}]
[{"$f":"B40&\"_\"&(COUNTIF($B$1:B40,B40))","v":"0_37"},{"$f":"'Data Feed'!K42","v":0},{"$f":"'Data Feed'!B42","v":0},{"$f":"'Data Feed'!C42","v":0},{"$f":"'Data Feed'!D42","v":0},{"$f":"'Data Feed'!E42","v":0},{"$f":"'Data Feed'!F42","v":0},{"$f":"'Data Feed'!G42","v":0},{"$f":"'Data Feed'!H42","v":0},{"$f":"'Data Feed'!I42","v":0},{"$f":"'Data Feed'!J42","v":0},{"$f":"'Data Feed'!K42","v":0},{"$f":"'Data Feed'!L42","v":0},{"$f":"'Data Feed'!M42","v":0},{"$f":"'Data Feed'!N42","v":0},{"$f":"'Data Feed'!O42","v":0},{"$f":"'Data Feed'!P42","v":0},{"$f":"'Data Feed'!Q42","v":0},{"$f":"'Data Feed'!R42","v":0},{"$f":"'Data Feed'!S42","v":0},{"$f":"'Data Feed'!T42","v":0},{"$f":"'Data Feed'!U42","v":0},{"$f":"'Data Feed'!V42","v":0},{"$f":"'Data Feed'!W42","v":0},{"$f":"'Data Feed'!X42","v":0},{"$f":"'Data Feed'!Y42","v":0},{"$f":"'Data Feed'!Z42","v":0},{"$f":"'Data Feed'!AA42","v":0},{"$f":"'Data Feed'!AB42","v":0},{"$f":"'Data Feed'!AC42","v":0},{"$f":"'Data Feed'!AD42","v":0},{"$f":"'Data Feed'!AE42","v":0},{"$f":"'Data Feed'!AF42","v":0},{"$f":"'Data Feed'!AG42","v":0},{"$f":"'Data Feed'!AH42","v":0},{"$f":"'Data Feed'!AI42","v":0}]
[{"$f":"B41&\"_\"&(COUNTIF($B$1:B41,B41))","v":"0_38"},{"$f":"'Data Feed'!K43","v":0},{"$f":"'Data Feed'!B43","v":0},{"$f":"'Data Feed'!C43","v":0},{"$f":"'Data Feed'!D43","v":0},{"$f":"'Data Feed'!E43","v":0},{"$f":"'Data Feed'!F43","v":0},{"$f":"'Data Feed'!G43","v":0},{"$f":"'Data Feed'!H43","v":0},{"$f":"'Data Feed'!I43","v":0},{"$f":"'Data Feed'!J43","v":0},{"$f":"'Data Feed'!K43","v":0},{"$f":"'Data Feed'!L43","v":0},{"$f":"'Data Feed'!M43","v":0},{"$f":"'Data Feed'!N43","v":0},{"$f":"'Data Feed'!O43","v":0},{"$f":"'Data Feed'!P43","v":0},{"$f":"'Data Feed'!Q43","v":0},{"$f":"'Data Feed'!R43","v":0},{"$f":"'Data Feed'!S43","v":0},{"$f":"'Data Feed'!T43","v":0},{"$f":"'Data Feed'!U43","v":0},{"$f":"'Data Feed'!V43","v":0},{"$f":"'Data Feed'!W43","v":0},{"$f":"'Data Feed'!X43","v":0},{"$f":"'Data Feed'!Y43","v":0},{"$f":"'Data Feed'!Z43","v":0},{"$f":"'Data Feed'!AA43","v":0},{"$f":"'Data Feed'!AB43","v":0},{"$f":"'Data Feed'!AC43","v":0},{"$f":"'Data Feed'!AD43","v":0},{"$f":"'Data Feed'!AE43","v":0},{"$f":"'Data Feed'!AF43","v":0},{"$f":"'Data Feed'!AG43","v":0},{"$f":"'Data Feed'!AH43","v":0},{"$f":"'Data Feed'!AI43","v":0}]
[{"$f":"B42&\"_\"&(COUNTIF($B$1:B42,B42))","v":"0_39"},{"$f":"'Data Feed'!K44","v":0},{"$f":"'Data Feed'!B44","v":0},{"$f":"'Data Feed'!C44","v":0},{"$f":"'Data Feed'!D44","v":0},{"$f":"'Data Feed'!E44","v":0},{"$f":"'Data Feed'!F44","v":0},{"$f":"'Data Feed'!G44","v":0},{"$f":"'Data Feed'!H44","v":0},{"$f":"'Data Feed'!I44","v":0},{"$f":"'Data Feed'!J44","v":0},{"$f":"'Data Feed'!K44","v":0},{"$f":"'Data Feed'!L44","v":0},{"$f":"'Data Feed'!M44","v":0},{"$f":"'Data Feed'!N44","v":0},{"$f":"'Data Feed'!O44","v":0},{"$f":"'Data Feed'!P44","v":0},{"$f":"'Data Feed'!Q44","v":0},{"$f":"'Data Feed'!R44","v":0},{"$f":"'Data Feed'!S44","v":0},{"$f":"'Data Feed'!T44","v":0},{"$f":"'Data Feed'!U44","v":0},{"$f":"'Data Feed'!V44","v":0},{"$f":"'Data Feed'!W44","v":0},{"$f":"'Data Feed'!X44","v":0},{"$f":"'Data Feed'!Y44","v":0},{"$f":"'Data Feed'!Z44","v":0},{"$f":"'Data Feed'!AA44","v":0},{"$f":"'Data Feed'!AB44","v":0},{"$f":"'Data Feed'!AC44","v":0},{"$f":"'Data Feed'!AD44","v":0},{"$f":"'Data Feed'!AE44","v":0},{"$f":"'Data Feed'!AF44","v":0},{"$f":"'Data Feed'!AG44","v":0},{"$f":"'Data Feed'!AH44","v":0},{"$f":"'Data Feed'!AI44","v":0}]
[{"$f":"B43&\"_\"&(COUNTIF($B$1:B43,B43))","v":"0_40"},{"$f":"'Data Feed'!K45","v":0},{"$f":"'Data Feed'!B45","v":0},{"$f":"'Data Feed'!C45","v":0},{"$f":"'Data Feed'!D45","v":0},{"$f":"'Data Feed'!E45","v":0},{"$f":"'Data Feed'!F45","v":0},{"$f":"'Data Feed'!G45","v":0},{"$f":"'Data Feed'!H45","v":0},{"$f":"'Data Feed'!I45","v":0},{"$f":"'Data Feed'!J45","v":0},{"$f":"'Data Feed'!K45","v":0},{"$f":"'Data Feed'!L45","v":0},{"$f":"'Data Feed'!M45","v":0},{"$f":"'Data Feed'!N45","v":0},{"$f":"'Data Feed'!O45","v":0},{"$f":"'Data Feed'!P45","v":0},{"$f":"'Data Feed'!Q45","v":0},{"$f":"'Data Feed'!R45","v":0},{"$f":"'Data Feed'!S45","v":0},{"$f":"'Data Feed'!T45","v":0},{"$f":"'Data Feed'!U45","v":0},{"$f":"'Data Feed'!V45","v":0},{"$f":"'Data Feed'!W45","v":0},{"$f":"'Data Feed'!X45","v":0},{"$f":"'Data Feed'!Y45","v":0},{"$f":"'Data Feed'!Z45","v":0},{"$f":"'Data Feed'!AA45","v":0},{"$f":"'Data Feed'!AB45","v":0},{"$f":"'Data Feed'!AC45","v":0},{"$f":"'Data Feed'!AD45","v":0},{"$f":"'Data Feed'!AE45","v":0},{"$f":"'Data Feed'!AF45","v":0},{"$f":"'Data Feed'!AG45","v":0},{"$f":"'Data Feed'!AH45","v":0},{"$f":"'Data Feed'!AI45","v":0}]
[{"$f":"B44&\"_\"&(COUNTIF($B$1:B44,B44))","v":"0_41"},{"$f":"'Data Feed'!K46","v":0},{"$f":"'Data Feed'!B46","v":0},{"$f":"'Data Feed'!C46","v":0},{"$f":"'Data Feed'!D46","v":0},{"$f":"'Data Feed'!E46","v":0},{"$f":"'Data Feed'!F46","v":0},{"$f":"'Data Feed'!G46","v":0},{"$f":"'Data Feed'!H46","v":0},{"$f":"'Data Feed'!I46","v":0},{"$f":"'Data Feed'!J46","v":0},{"$f":"'Data Feed'!K46","v":0},{"$f":"'Data Feed'!L46","v":0},{"$f":"'Data Feed'!M46","v":0},{"$f":"'Data Feed'!N46","v":0},{"$f":"'Data Feed'!O46","v":0},{"$f":"'Data Feed'!P46","v":0},{"$f":"'Data Feed'!Q46","v":0},{"$f":"'Data Feed'!R46","v":0},{"$f":"'Data Feed'!S46","v":0},{"$f":"'Data Feed'!T46","v":0},{"$f":"'Data Feed'!U46","v":0},{"$f":"'Data Feed'!V46","v":0},{"$f":"'Data Feed'!W46","v":0},{"$f":"'Data Feed'!X46","v":0},{"$f":"'Data Feed'!Y46","v":0},{"$f":"'Data Feed'!Z46","v":0},{"$f":"'Data Feed'!AA46","v":0},{"$f":"'Data Feed'!AB46","v":0},{"$f":"'Data Feed'!AC46","v":0},{"$f":"'Data Feed'!AD46","v":0},{"$f":"'Data Feed'!AE46","v":0},{"$f":"'Data Feed'!AF46","v":0},{"$f":"'Data Feed'!AG46","v":0},{"$f":"'Data Feed'!AH46","v":0},{"$f":"'Data Feed'!AI46","v":0}]
[{"$f":"B45&\"_\"&(COUNTIF($B$1:B45,B45))","v":"0_42"},{"$f":"'Data Feed'!K47","v":0},{"$f":"'Data Feed'!B47","v":0},{"$f":"'Data Feed'!C47","v":0},{"$f":"'Data Feed'!D47","v":0},{"$f":"'Data Feed'!E47","v":0},{"$f":"'Data Feed'!F47","v":0},{"$f":"'Data Feed'!G47","v":0},{"$f":"'Data Feed'!H47","v":0},{"$f":"'Data Feed'!I47","v":0},{"$f":"'Data Feed'!J47","v":0},{"$f":"'Data Feed'!K47","v":0},{"$f":"'Data Feed'!L47","v":0},{"$f":"'Data Feed'!M47","v":0},{"$f":"'Data Feed'!N47","v":0},{"$f":"'Data Feed'!O47","v":0},{"$f":"'Data Feed'!P47","v":0},{"$f":"'Data Feed'!Q47","v":0},{"$f":"'Data Feed'!R47","v":0},{"$f":"'Data Feed'!S47","v":0},{"$f":"'Data Feed'!T47","v":0},{"$f":"'Data Feed'!U47","v":0},{"$f":"'Data Feed'!V47","v":0},{"$f":"'Data Feed'!W47","v":0},{"$f":"'Data Feed'!X47","v":0},{"$f":"'Data Feed'!Y47","v":0},{"$f":"'Data Feed'!Z47","v":0},{"$f":"'Data Feed'!AA47","v":0},{"$f":"'Data Feed'!AB47","v":0},{"$f":"'Data Feed'!AC47","v":0},{"$f":"'Data Feed'!AD47","v":0},{"$f":"'Data Feed'!AE47","v":0},{"$f":"'Data Feed'!AF47","v":0},{"$f":"'Data Feed'!AG47","v":0},{"$f":"'Data Feed'!AH47","v":0},{"$f":"'Data Feed'!AI47","v":0}]
[{"$f":"B46&\"_\"&(COUNTIF($B$1:B46,B46))","v":"0_43"},{"$f":"'Data Feed'!K48","v":0},{"$f":"'Data Feed'!B48","v":0},{"$f":"'Data Feed'!C48","v":0},{"$f":"'Data Feed'!D48","v":0},{"$f":"'Data Feed'!E48","v":0},{"$f":"'Data Feed'!F48","v":0},{"$f":"'Data Feed'!G48","v":0},{"$f":"'Data Feed'!H48","v":0},{"$f":"'Data Feed'!I48","v":0},{"$f":"'Data Feed'!J48","v":0},{"$f":"'Data Feed'!K48","v":0},{"$f":"'Data Feed'!L48","v":0},{"$f":"'Data Feed'!M48","v":0},{"$f":"'Data Feed'!N48","v":0},{"$f":"'Data Feed'!O48","v":0},{"$f":"'Data Feed'!P48","v":0},{"$f":"'Data Feed'!Q48","v":0},{"$f":"'Data Feed'!R48","v":0},{"$f":"'Data Feed'!S48","v":0},{"$f":"'Data Feed'!T48","v":0},{"$f":"'Data Feed'!U48","v":0},{"$f":"'Data Feed'!V48","v":0},{"$f":"'Data Feed'!W48","v":0},{"$f":"'Data Feed'!X48","v":0},{"$f":"'Data Feed'!Y48","v":0},{"$f":"'Data Feed'!Z48","v":0},{"$f":"'Data Feed'!AA48","v":0},{"$f":"'Data Feed'!AB48","v":0},{"$f":"'Data Feed'!AC48","v":0},{"$f":"'Data Feed'!AD48","v":0},{"$f":"'Data Feed'!AE48","v":0},{"$f":"'Data Feed'!AF48","v":0},{"$f":"'Data Feed'!AG48","v":0},{"$f":"'Data Feed'!AH48","v":0},{"$f":"'Data Feed'!AI48","v":0}]
[{"$f":"B47&\"_\"&(COUNTIF($B$1:B47,B47))","v":"0_44"},{"$f":"'Data Feed'!K49","v":0},{"$f":"'Data Feed'!B49","v":0},{"$f":"'Data Feed'!C49","v":0},{"$f":"'Data Feed'!D49","v":0},{"$f":"'Data Feed'!E49","v":0},{"$f":"'Data Feed'!F49","v":0},{"$f":"'Data Feed'!G49","v":0},{"$f":"'Data Feed'!H49","v":0},{"$f":"'Data Feed'!I49","v":0},{"$f":"'Data Feed'!J49","v":0},{"$f":"'Data Feed'!K49","v":0},{"$f":"'Data Feed'!L49","v":0},{"$f":"'Data Feed'!M49","v":0},{"$f":"'Data Feed'!N49","v":0},{"$f":"'Data Feed'!O49","v":0},{"$f":"'Data Feed'!P49","v":0},{"$f":"'Data Feed'!Q49","v":0},{"$f":"'Data Feed'!R49","v":0},{"$f":"'Data Feed'!S49","v":0},{"$f":"'Data Feed'!T49","v":0},{"$f":"'Data Feed'!U49","v":0},{"$f":"'Data Feed'!V49","v":0},{"$f":"'Data Feed'!W49","v":0},{"$f":"'Data Feed'!X49","v":0},{"$f":"'Data Feed'!Y49","v":0},{"$f":"'Data Feed'!Z49","v":0},{"$f":"'Data Feed'!AA49","v":0},{"$f":"'Data Feed'!AB49","v":0},{"$f":"'Data Feed'!AC49","v":0},{"$f":"'Data Feed'!AD49","v":0},{"$f":"'Data Feed'!AE49","v":0},{"$f":"'Data Feed'!AF49","v":0},{"$f":"'Data Feed'!AG49","v":0},{"$f":"'Data Feed'!AH49","v":0},{"$f":"'Data Feed'!AI49","v":0}]
[{"$f":"B48&\"_\"&(COUNTIF($B$1:B48,B48))","v":"0_45"},{"$f":"'Data Feed'!K50","v":0},{"$f":"'Data Feed'!B50","v":0},{"$f":"'Data Feed'!C50","v":0},{"$f":"'Data Feed'!D50","v":0},{"$f":"'Data Feed'!E50","v":0},{"$f":"'Data Feed'!F50","v":0},{"$f":"'Data Feed'!G50","v":0},{"$f":"'Data Feed'!H50","v":0},{"$f":"'Data Feed'!I50","v":0},{"$f":"'Data Feed'!J50","v":0},{"$f":"'Data Feed'!K50","v":0},{"$f":"'Data Feed'!L50","v":0},{"$f":"'Data Feed'!M50","v":0},{"$f":"'Data Feed'!N50","v":0},{"$f":"'Data Feed'!O50","v":0},{"$f":"'Data Feed'!P50","v":0},{"$f":"'Data Feed'!Q50","v":0},{"$f":"'Data Feed'!R50","v":0},{"$f":"'Data Feed'!S50","v":0},{"$f":"'Data Feed'!T50","v":0},{"$f":"'Data Feed'!U50","v":0},{"$f":"'Data Feed'!V50","v":0},{"$f":"'Data Feed'!W50","v":0},{"$f":"'Data Feed'!X50","v":0},{"$f":"'Data Feed'!Y50","v":0},{"$f":"'Data Feed'!Z50","v":0},{"$f":"'Data Feed'!AA50","v":0},{"$f":"'Data Feed'!AB50","v":0},{"$f":"'Data Feed'!AC50","v":0},{"$f":"'Data Feed'!AD50","v":0},{"$f":"'Data Feed'!AE50","v":0},{"$f":"'Data Feed'!AF50","v":0},{"$f":"'Data Feed'!AG50","v":0},{"$f":"'Data Feed'!AH50","v":0},{"$f":"'Data Feed'!AI50","v":0}]
[{"$f":"B49&\"_\"&(COUNTIF($B$1:B49,B49))","v":"0_46"},{"$f":"'Data Feed'!K51","v":0},{"$f":"'Data Feed'!B51","v":0},{"$f":"'Data Feed'!C51","v":0},{"$f":"'Data Feed'!D51","v":0},{"$f":"'Data Feed'!E51","v":0},{"$f":"'Data Feed'!F51","v":0},{"$f":"'Data Feed'!G51","v":0},{"$f":"'Data Feed'!H51","v":0},{"$f":"'Data Feed'!I51","v":0},{"$f":"'Data Feed'!J51","v":0},{"$f":"'Data Feed'!K51","v":0},{"$f":"'Data Feed'!L51","v":0},{"$f":"'Data Feed'!M51","v":0},{"$f":"'Data Feed'!N51","v":0},{"$f":"'Data Feed'!O51","v":0},{"$f":"'Data Feed'!P51","v":0},{"$f":"'Data Feed'!Q51","v":0},{"$f":"'Data Feed'!R51","v":0},{"$f":"'Data Feed'!S51","v":0},{"$f":"'Data Feed'!T51","v":0},{"$f":"'Data Feed'!U51","v":0},{"$f":"'Data Feed'!V51","v":0},{"$f":"'Data Feed'!W51","v":0},{"$f":"'Data Feed'!X51","v":0},{"$f":"'Data Feed'!Y51","v":0},{"$f":"'Data Feed'!Z51","v":0},{"$f":"'Data Feed'!AA51","v":0},{"$f":"'Data Feed'!AB51","v":0},{"$f":"'Data Feed'!AC51","v":0},{"$f":"'Data Feed'!AD51","v":0},{"$f":"'Data Feed'!AE51","v":0},{"$f":"'Data Feed'!AF51","v":0},{"$f":"'Data Feed'!AG51","v":0},{"$f":"'Data Feed'!AH51","v":0},{"$f":"'Data Feed'!AI51","v":0}]
[{"$f":"B50&\"_\"&(COUNTIF($B$1:B50,B50))","v":"0_47"},{"$f":"'Data Feed'!K52","v":0},{"$f":"'Data Feed'!B52","v":0},{"$f":"'Data Feed'!C52","v":0},{"$f":"'Data Feed'!D52","v":0},{"$f":"'Data Feed'!E52","v":0},{"$f":"'Data Feed'!F52","v":0},{"$f":"'Data Feed'!G52","v":0},{"$f":"'Data Feed'!H52","v":0},{"$f":"'Data Feed'!I52","v":0},{"$f":"'Data Feed'!J52","v":0},{"$f":"'Data Feed'!K52","v":0},{"$f":"'Data Feed'!L52","v":0},{"$f":"'Data Feed'!M52","v":0},{"$f":"'Data Feed'!N52","v":0},{"$f":"'Data Feed'!O52","v":0},{"$f":"'Data Feed'!P52","v":0},{"$f":"'Data Feed'!Q52","v":0},{"$f":"'Data Feed'!R52","v":0},{"$f":"'Data Feed'!S52","v":0},{"$f":"'Data Feed'!T52","v":0},{"$f":"'Data Feed'!U52","v":0},{"$f":"'Data Feed'!V52","v":0},{"$f":"'Data Feed'!W52","v":0},{"$f":"'Data Feed'!X52","v":0},{"$f":"'Data Feed'!Y52","v":0},{"$f":"'Data Feed'!Z52","v":0},{"$f":"'Data Feed'!AA52","v":0},{"$f":"'Data Feed'!AB52","v":0},{"$f":"'Data Feed'!AC52","v":0},{"$f":"'Data Feed'!AD52","v":0},{"$f":"'Data Feed'!AE52","v":0},{"$f":"'Data Feed'!AF52","v":0},{"$f":"'Data Feed'!AG52","v":0},{"$f":"'Data Feed'!AH52","v":0},{"$f":"'Data Feed'!AI52","v":0}]
[{"$f":"B51&\"_\"&(COUNTIF($B$1:B51,B51))","v":"0_48"},{"$f":"'Data Feed'!K53","v":0},{"$f":"'Data Feed'!B53","v":0},{"$f":"'Data Feed'!C53","v":0},{"$f":"'Data Feed'!D53","v":0},{"$f":"'Data Feed'!E53","v":0},{"$f":"'Data Feed'!F53","v":0},{"$f":"'Data Feed'!G53","v":0},{"$f":"'Data Feed'!H53","v":0},{"$f":"'Data Feed'!I53","v":0},{"$f":"'Data Feed'!J53","v":0},{"$f":"'Data Feed'!K53","v":0},{"$f":"'Data Feed'!L53","v":0},{"$f":"'Data Feed'!M53","v":0},{"$f":"'Data Feed'!N53","v":0},{"$f":"'Data Feed'!O53","v":0},{"$f":"'Data Feed'!P53","v":0},{"$f":"'Data Feed'!Q53","v":0},{"$f":"'Data Feed'!R53","v":0},{"$f":"'Data Feed'!S53","v":0},{"$f":"'Data Feed'!T53","v":0},{"$f":"'Data Feed'!U53","v":0},{"$f":"'Data Feed'!V53","v":0},{"$f":"'Data Feed'!W53","v":0},{"$f":"'Data Feed'!X53","v":0},{"$f":"'Data Feed'!Y53","v":0},{"$f":"'Data Feed'!Z53","v":0},{"$f":"'Data Feed'!AA53","v":0},{"$f":"'Data Feed'!AB53","v":0},{"$f":"'Data Feed'!AC53","v":0},{"$f":"'Data Feed'!AD53","v":0},{"$f":"'Data Feed'!AE53","v":0},{"$f":"'Data Feed'!AF53","v":0},{"$f":"'Data Feed'!AG53","v":0},{"$f":"'Data Feed'!AH53","v":0},{"$f":"'Data Feed'!AI53","v":0}]
[{"$f":"B52&\"_\"&(COUNTIF($B$1:B52,B52))","v":"0_49"},{"$f":"'Data Feed'!K54","v":0},{"$f":"'Data Feed'!B54","v":0},{"$f":"'Data Feed'!C54","v":0},{"$f":"'Data Feed'!D54","v":0},{"$f":"'Data Feed'!E54","v":0},{"$f":"'Data Feed'!F54","v":0},{"$f":"'Data Feed'!G54","v":0},{"$f":"'Data Feed'!H54","v":0},{"$f":"'Data Feed'!I54","v":0},{"$f":"'Data Feed'!J54","v":0},{"$f":"'Data Feed'!K54","v":0},{"$f":"'Data Feed'!L54","v":0},{"$f":"'Data Feed'!M54","v":0},{"$f":"'Data Feed'!N54","v":0},{"$f":"'Data Feed'!O54","v":0},{"$f":"'Data Feed'!P54","v":0},{"$f":"'Data Feed'!Q54","v":0},{"$f":"'Data Feed'!R54","v":0},{"$f":"'Data Feed'!S54","v":0},{"$f":"'Data Feed'!T54","v":0},{"$f":"'Data Feed'!U54","v":0},{"$f":"'Data Feed'!V54","v":0},{"$f":"'Data Feed'!W54","v":0},{"$f":"'Data Feed'!X54","v":0},{"$f":"'Data Feed'!Y54","v":0},{"$f":"'Data Feed'!Z54","v":0},{"$f":"'Data Feed'!AA54","v":0},{"$f":"'Data Feed'!AB54","v":0},{"$f":"'Data Feed'!AC54","v":0},{"$f":"'Data Feed'!AD54","v":0},{"$f":"'Data Feed'!AE54","v":0},{"$f":"'Data Feed'!AF54","v":0},{"$f":"'Data Feed'!AG54","v":0},{"$f":"'Data Feed'!AH54","v":0},{"$f":"'Data Feed'!AI54","v":0}]
[{"$f":"B53&\"_\"&(COUNTIF($B$1:B53,B53))","v":"0_50"},{"$f":"'Data Feed'!K55","v":0},{"$f":"'Data Feed'!B55","v":0},{"$f":"'Data Feed'!C55","v":0},{"$f":"'Data Feed'!D55","v":0},{"$f":"'Data Feed'!E55","v":0},{"$f":"'Data Feed'!F55","v":0},{"$f":"'Data Feed'!G55","v":0},{"$f":"'Data Feed'!H55","v":0},{"$f":"'Data Feed'!I55","v":0},{"$f":"'Data Feed'!J55","v":0},{"$f":"'Data Feed'!K55","v":0},{"$f":"'Data Feed'!L55","v":0},{"$f":"'Data Feed'!M55","v":0},{"$f":"'Data Feed'!N55","v":0},{"$f":"'Data Feed'!O55","v":0},{"$f":"'Data Feed'!P55","v":0},{"$f":"'Data Feed'!Q55","v":0},{"$f":"'Data Feed'!R55","v":0},{"$f":"'Data Feed'!S55","v":0},{"$f":"'Data Feed'!T55","v":0},{"$f":"'Data Feed'!U55","v":0},{"$f":"'Data Feed'!V55","v":0},{"$f":"'Data Feed'!W55","v":0},{"$f":"'Data Feed'!X55","v":0},{"$f":"'Data Feed'!Y55","v":0},{"$f":"'Data Feed'!Z55","v":0},{"$f":"'Data Feed'!AA55","v":0},{"$f":"'Data Feed'!AB55","v":0},{"$f":"'Data Feed'!AC55","v":0},{"$f":"'Data Feed'!AD55","v":0},{"$f":"'Data Feed'!AE55","v":0},{"$f":"'Data Feed'!AF55","v":0},{"$f":"'Data Feed'!AG55","v":0},{"$f":"'Data Feed'!AH55","v":0},{"$f":"'Data Feed'!AI55","v":0}]
[{"$f":"B54&\"_\"&(COUNTIF($B$1:B54,B54))","v":"0_51"},{"$f":"'Data Feed'!K56","v":0},{"$f":"'Data Feed'!B56","v":0},{"$f":"'Data Feed'!C56","v":0},{"$f":"'Data Feed'!D56","v":0},{"$f":"'Data Feed'!E56","v":0},{"$f":"'Data Feed'!F56","v":0},{"$f":"'Data Feed'!G56","v":0},{"$f":"'Data Feed'!H56","v":0},{"$f":"'Data Feed'!I56","v":0},{"$f":"'Data Feed'!J56","v":0},{"$f":"'Data Feed'!K56","v":0},{"$f":"'Data Feed'!L56","v":0},{"$f":"'Data Feed'!M56","v":0},{"$f":"'Data Feed'!N56","v":0},{"$f":"'Data Feed'!O56","v":0},{"$f":"'Data Feed'!P56","v":0},{"$f":"'Data Feed'!Q56","v":0},{"$f":"'Data Feed'!R56","v":0},{"$f":"'Data Feed'!S56","v":0},{"$f":"'Data Feed'!T56","v":0},{"$f":"'Data Feed'!U56","v":0},{"$f":"'Data Feed'!V56","v":0},{"$f":"'Data Feed'!W56","v":0},{"$f":"'Data Feed'!X56","v":0},{"$f":"'Data Feed'!Y56","v":0},{"$f":"'Data Feed'!Z56","v":0},{"$f":"'Data Feed'!AA56","v":0},{"$f":"'Data Feed'!AB56","v":0},{"$f":"'Data Feed'!AC56","v":0},{"$f":"'Data Feed'!AD56","v":0},{"$f":"'Data Feed'!AE56","v":0},{"$f":"'Data Feed'!AF56","v":0},{"$f":"'Data Feed'!AG56","v":0},{"$f":"'Data Feed'!AH56","v":0},{"$f":"'Data Feed'!AI56","v":0}]
[{"$f":"B55&\"_\"&(COUNTIF($B$1:B55,B55))","v":"0_52"},{"$f":"'Data Feed'!K57","v":0},{"$f":"'Data Feed'!B57","v":0},{"$f":"'Data Feed'!C57","v":0},{"$f":"'Data Feed'!D57","v":0},{"$f":"'Data Feed'!E57","v":0},{"$f":"'Data Feed'!F57","v":0},{"$f":"'Data Feed'!G57","v":0},{"$f":"'Data Feed'!H57","v":0},{"$f":"'Data Feed'!I57","v":0},{"$f":"'Data Feed'!J57","v":0},{"$f":"'Data Feed'!K57","v":0},{"$f":"'Data Feed'!L57","v":0},{"$f":"'Data Feed'!M57","v":0},{"$f":"'Data Feed'!N57","v":0},{"$f":"'Data Feed'!O57","v":0},{"$f":"'Data Feed'!P57","v":0},{"$f":"'Data Feed'!Q57","v":0},{"$f":"'Data Feed'!R57","v":0},{"$f":"'Data Feed'!S57","v":0},{"$f":"'Data Feed'!T57","v":0},{"$f":"'Data Feed'!U57","v":0},{"$f":"'Data Feed'!V57","v":0},{"$f":"'Data Feed'!W57","v":0},{"$f":"'Data Feed'!X57","v":0},{"$f":"'Data Feed'!Y57","v":0},{"$f":"'Data Feed'!Z57","v":0},{"$f":"'Data Feed'!AA57","v":0},{"$f":"'Data Feed'!AB57","v":0},{"$f":"'Data Feed'!AC57","v":0},{"$f":"'Data Feed'!AD57","v":0},{"$f":"'Data Feed'!AE57","v":0},{"$f":"'Data Feed'!AF57","v":0},{"$f":"'Data Feed'!AG57","v":0},{"$f":"'Data Feed'!AH57","v":0},{"$f":"'Data Feed'!AI57","v":0}]
[{"$f":"B56&\"_\"&(COUNTIF($B$1:B56,B56))","v":"0_53"},{"$f":"'Data Feed'!K58","v":0},{"$f":"'Data Feed'!B58","v":0},{"$f":"'Data Feed'!C58","v":0},{"$f":"'Data Feed'!D58","v":0},{"$f":"'Data Feed'!E58","v":0},{"$f":"'Data Feed'!F58","v":0},{"$f":"'Data Feed'!G58","v":0},{"$f":"'Data Feed'!H58","v":0},{"$f":"'Data Feed'!I58","v":0},{"$f":"'Data Feed'!J58","v":0},{"$f":"'Data Feed'!K58","v":0},{"$f":"'Data Feed'!L58","v":0},{"$f":"'Data Feed'!M58","v":0},{"$f":"'Data Feed'!N58","v":0},{"$f":"'Data Feed'!O58","v":0},{"$f":"'Data Feed'!P58","v":0},{"$f":"'Data Feed'!Q58","v":0},{"$f":"'Data Feed'!R58","v":0},{"$f":"'Data Feed'!S58","v":0},{"$f":"'Data Feed'!T58","v":0},{"$f":"'Data Feed'!U58","v":0},{"$f":"'Data Feed'!V58","v":0},{"$f":"'Data Feed'!W58","v":0},{"$f":"'Data Feed'!X58","v":0},{"$f":"'Data Feed'!Y58","v":0},{"$f":"'Data Feed'!Z58","v":0},{"$f":"'Data Feed'!AA58","v":0},{"$f":"'Data Feed'!AB58","v":0},{"$f":"'Data Feed'!AC58","v":0},{"$f":"'Data Feed'!AD58","v":0},{"$f":"'Data Feed'!AE58","v":0},{"$f":"'Data Feed'!AF58","v":0},{"$f":"'Data Feed'!AG58","v":0},{"$f":"'Data Feed'!AH58","v":0},{"$f":"'Data Feed'!AI58","v":0}]
[{"$f":"B57&\"_\"&(COUNTIF($B$1:B57,B57))","v":"0_54"},{"$f":"'Data Feed'!K59","v":0},{"$f":"'Data Feed'!B59","v":0},{"$f":"'Data Feed'!C59","v":0},{"$f":"'Data Feed'!D59","v":0},{"$f":"'Data Feed'!E59","v":0},{"$f":"'Data Feed'!F59","v":0},{"$f":"'Data Feed'!G59","v":0},{"$f":"'Data Feed'!H59","v":0},{"$f":"'Data Feed'!I59","v":0},{"$f":"'Data Feed'!J59","v":0},{"$f":"'Data Feed'!K59","v":0},{"$f":"'Data Feed'!L59","v":0},{"$f":"'Data Feed'!M59","v":0},{"$f":"'Data Feed'!N59","v":0},{"$f":"'Data Feed'!O59","v":0},{"$f":"'Data Feed'!P59","v":0},{"$f":"'Data Feed'!Q59","v":0},{"$f":"'Data Feed'!R59","v":0},{"$f":"'Data Feed'!S59","v":0},{"$f":"'Data Feed'!T59","v":0},{"$f":"'Data Feed'!U59","v":0},{"$f":"'Data Feed'!V59","v":0},{"$f":"'Data Feed'!W59","v":0},{"$f":"'Data Feed'!X59","v":0},{"$f":"'Data Feed'!Y59","v":0},{"$f":"'Data Feed'!Z59","v":0},{"$f":"'Data Feed'!AA59","v":0},{"$f":"'Data Feed'!AB59","v":0},{"$f":"'Data Feed'!AC59","v":0},{"$f":"'Data Feed'!AD59","v":0},{"$f":"'Data Feed'!AE59","v":0},{"$f":"'Data Feed'!AF59","v":0},{"$f":"'Data Feed'!AG59","v":0},{"$f":"'Data Feed'!AH59","v":0},{"$f":"'Data Feed'!AI59","v":0}]
[{"$f":"B58&\"_\"&(COUNTIF($B$1:B58,B58))","v":"0_55"},{"$f":"'Data Feed'!K60","v":0},{"$f":"'Data Feed'!B60","v":0},{"$f":"'Data Feed'!C60","v":0},{"$f":"'Data Feed'!D60","v":0},{"$f":"'Data Feed'!E60","v":0},{"$f":"'Data Feed'!F60","v":0},{"$f":"'Data Feed'!G60","v":0},{"$f":"'Data Feed'!H60","v":0},{"$f":"'Data Feed'!I60","v":0},{"$f":"'Data Feed'!J60","v":0},{"$f":"'Data Feed'!K60","v":0},{"$f":"'Data Feed'!L60","v":0},{"$f":"'Data Feed'!M60","v":0},{"$f":"'Data Feed'!N60","v":0},{"$f":"'Data Feed'!O60","v":0},{"$f":"'Data Feed'!P60","v":0},{"$f":"'Data Feed'!Q60","v":0},{"$f":"'Data Feed'!R60","v":0},{"$f":"'Data Feed'!S60","v":0},{"$f":"'Data Feed'!T60","v":0},{"$f":"'Data Feed'!U60","v":0},{"$f":"'Data Feed'!V60","v":0},{"$f":"'Data Feed'!W60","v":0},{"$f":"'Data Feed'!X60","v":0},{"$f":"'Data Feed'!Y60","v":0},{"$f":"'Data Feed'!Z60","v":0},{"$f":"'Data Feed'!AA60","v":0},{"$f":"'Data Feed'!AB60","v":0},{"$f":"'Data Feed'!AC60","v":0},{"$f":"'Data Feed'!AD60","v":0},{"$f":"'Data Feed'!AE60","v":0},{"$f":"'Data Feed'!AF60","v":0},{"$f":"'Data Feed'!AG60","v":0},{"$f":"'Data Feed'!AH60","v":0},{"$f":"'Data Feed'!AI60","v":0}]
[{"$f":"B59&\"_\"&(COUNTIF($B$1:B59,B59))","v":"0_56"},{"$f":"'Data Feed'!K61","v":0},{"$f":"'Data Feed'!B61","v":0},{"$f":"'Data Feed'!C61","v":0},{"$f":"'Data Feed'!D61","v":0},{"$f":"'Data Feed'!E61","v":0},{"$f":"'Data Feed'!F61","v":0},{"$f":"'Data Feed'!G61","v":0},{"$f":"'Data Feed'!H61","v":0},{"$f":"'Data Feed'!I61","v":0},{"$f":"'Data Feed'!J61","v":0},{"$f":"'Data Feed'!K61","v":0},{"$f":"'Data Feed'!L61","v":0},{"$f":"'Data Feed'!M61","v":0},{"$f":"'Data Feed'!N61","v":0},{"$f":"'Data Feed'!O61","v":0},{"$f":"'Data Feed'!P61","v":0},{"$f":"'Data Feed'!Q61","v":0},{"$f":"'Data Feed'!R61","v":0},{"$f":"'Data Feed'!S61","v":0},{"$f":"'Data Feed'!T61","v":0},{"$f":"'Data Feed'!U61","v":0},{"$f":"'Data Feed'!V61","v":0},{"$f":"'Data Feed'!W61","v":0},{"$f":"'Data Feed'!X61","v":0},{"$f":"'Data Feed'!Y61","v":0},{"$f":"'Data Feed'!Z61","v":0},{"$f":"'Data Feed'!AA61","v":0},{"$f":"'Data Feed'!AB61","v":0},{"$f":"'Data Feed'!AC61","v":0},{"$f":"'Data Feed'!AD61","v":0},{"$f":"'Data Feed'!AE61","v":0},{"$f":"'Data Feed'!AF61","v":0},{"$f":"'Data Feed'!AG61","v":0},{"$f":"'Data Feed'!AH61","v":0},{"$f":"'Data Feed'!AI61","v":0}]
[{"$f":"B60&\"_\"&(COUNTIF($B$1:B60,B60))","v":"0_57"},{"$f":"'Data Feed'!K62","v":0},{"$f":"'Data Feed'!B62","v":0},{"$f":"'Data Feed'!C62","v":0},{"$f":"'Data Feed'!D62","v":0},{"$f":"'Data Feed'!E62","v":0},{"$f":"'Data Feed'!F62","v":0},{"$f":"'Data Feed'!G62","v":0},{"$f":"'Data Feed'!H62","v":0},{"$f":"'Data Feed'!I62","v":0},{"$f":"'Data Feed'!J62","v":0},{"$f":"'Data Feed'!K62","v":0},{"$f":"'Data Feed'!L62","v":0},{"$f":"'Data Feed'!M62","v":0},{"$f":"'Data Feed'!N62","v":0},{"$f":"'Data Feed'!O62","v":0},{"$f":"'Data Feed'!P62","v":0},{"$f":"'Data Feed'!Q62","v":0},{"$f":"'Data Feed'!R62","v":0},{"$f":"'Data Feed'!S62","v":0},{"$f":"'Data Feed'!T62","v":0},{"$f":"'Data Feed'!U62","v":0},{"$f":"'Data Feed'!V62","v":0},{"$f":"'Data Feed'!W62","v":0},{"$f":"'Data Feed'!X62","v":0},{"$f":"'Data Feed'!Y62","v":0},{"$f":"'Data Feed'!Z62","v":0},{"$f":"'Data Feed'!AA62","v":0},{"$f":"'Data Feed'!AB62","v":0},{"$f":"'Data Feed'!AC62","v":0},{"$f":"'Data Feed'!AD62","v":0},{"$f":"'Data Feed'!AE62","v":0},{"$f":"'Data Feed'!AF62","v":0},{"$f":"'Data Feed'!AG62","v":0},{"$f":"'Data Feed'!AH62","v":0},{"$f":"'Data Feed'!AI62","v":0}]
[{"$f":"B61&\"_\"&(COUNTIF($B$1:B61,B61))","v":"0_58"},{"$f":"'Data Feed'!K63","v":0},{"$f":"'Data Feed'!B63","v":0},{"$f":"'Data Feed'!C63","v":0},{"$f":"'Data Feed'!D63","v":0},{"$f":"'Data Feed'!E63","v":0},{"$f":"'Data Feed'!F63","v":0},{"$f":"'Data Feed'!G63","v":0},{"$f":"'Data Feed'!H63","v":0},{"$f":"'Data Feed'!I63","v":0},{"$f":"'Data Feed'!J63","v":0},{"$f":"'Data Feed'!K63","v":0},{"$f":"'Data Feed'!L63","v":0},{"$f":"'Data Feed'!M63","v":0},{"$f":"'Data Feed'!N63","v":0},{"$f":"'Data Feed'!O63","v":0},{"$f":"'Data Feed'!P63","v":0},{"$f":"'Data Feed'!Q63","v":0},{"$f":"'Data Feed'!R63","v":0},{"$f":"'Data Feed'!S63","v":0},{"$f":"'Data Feed'!T63","v":0},{"$f":"'Data Feed'!U63","v":0},{"$f":"'Data Feed'!V63","v":0},{"$f":"'Data Feed'!W63","v":0},{"$f":"'Data Feed'!X63","v":0},{"$f":"'Data Feed'!Y63","v":0},{"$f":"'Data Feed'!Z63","v":0},{"$f":"'Data Feed'!AA63","v":0},{"$f":"'Data Feed'!AB63","v":0},{"$f":"'Data Feed'!AC63","v":0},{"$f":"'Data Feed'!AD63","v":0},{"$f":"'Data Feed'!AE63","v":0},{"$f":"'Data Feed'!AF63","v":0},{"$f":"'Data Feed'!AG63","v":0},{"$f":"'Data Feed'!AH63","v":0},{"$f":"'Data Feed'!AI63","v":0}]
[{"$f":"B62&\"_\"&(COUNTIF($B$1:B62,B62))","v":"0_59"},{"$f":"'Data Feed'!K64","v":0},{"$f":"'Data Feed'!B64","v":0},{"$f":"'Data Feed'!C64","v":0},{"$f":"'Data Feed'!D64","v":0},{"$f":"'Data Feed'!E64","v":0},{"$f":"'Data Feed'!F64","v":0},{"$f":"'Data Feed'!G64","v":0},{"$f":"'Data Feed'!H64","v":0},{"$f":"'Data Feed'!I64","v":0},{"$f":"'Data Feed'!J64","v":0},{"$f":"'Data Feed'!K64","v":0},{"$f":"'Data Feed'!L64","v":0},{"$f":"'Data Feed'!M64","v":0},{"$f":"'Data Feed'!N64","v":0},{"$f":"'Data Feed'!O64","v":0},{"$f":"'Data Feed'!P64","v":0},{"$f":"'Data Feed'!Q64","v":0},{"$f":"'Data Feed'!R64","v":0},{"$f":"'Data Feed'!S64","v":0},{"$f":"'Data Feed'!T64","v":0},{"$f":"'Data Feed'!U64","v":0},{"$f":"'Data Feed'!V64","v":0},{"$f":"'Data Feed'!W64","v":0},{"$f":"'Data Feed'!X64","v":0},{"$f":"'Data Feed'!Y64","v":0},{"$f":"'Data Feed'!Z64","v":0},{"$f":"'Data Feed'!AA64","v":0},{"$f":"'Data Feed'!AB64","v":0},{"$f":"'Data Feed'!AC64","v":0},{"$f":"'Data Feed'!AD64","v":0},{"$f":"'Data Feed'!AE64","v":0},{"$f":"'Data Feed'!AF64","v":0},{"$f":"'Data Feed'!AG64","v":0},{"$f":"'Data Feed'!AH64","v":0},{"$f":"'Data Feed'!AI64","v":0}]
[{"$f":"B63&\"_\"&(COUNTIF($B$1:B63,B63))","v":"0_60"},{"$f":"'Data Feed'!K65","v":0},{"$f":"'Data Feed'!B65","v":0},{"$f":"'Data Feed'!C65","v":0},{"$f":"'Data Feed'!D65","v":0},{"$f":"'Data Feed'!E65","v":0},{"$f":"'Data Feed'!F65","v":0},{"$f":"'Data Feed'!G65","v":0},{"$f":"'Data Feed'!H65","v":0},{"$f":"'Data Feed'!I65","v":0},{"$f":"'Data Feed'!J65","v":0},{"$f":"'Data Feed'!K65","v":0},{"$f":"'Data Feed'!L65","v":0},{"$f":"'Data Feed'!M65","v":0},{"$f":"'Data Feed'!N65","v":0},{"$f":"'Data Feed'!O65","v":0},{"$f":"'Data Feed'!P65","v":0},{"$f":"'Data Feed'!Q65","v":0},{"$f":"'Data Feed'!R65","v":0},{"$f":"'Data Feed'!S65","v":0},{"$f":"'Data Feed'!T65","v":0},{"$f":"'Data Feed'!U65","v":0},{"$f":"'Data Feed'!V65","v":0},{"$f":"'Data Feed'!W65","v":0},{"$f":"'Data Feed'!X65","v":0},{"$f":"'Data Feed'!Y65","v":0},{"$f":"'Data Feed'!Z65","v":0},{"$f":"'Data Feed'!AA65","v":0},{"$f":"'Data Feed'!AB65","v":0},{"$f":"'Data Feed'!AC65","v":0},{"$f":"'Data Feed'!AD65","v":0},{"$f":"'Data Feed'!AE65","v":0},{"$f":"'Data Feed'!AF65","v":0},{"$f":"'Data Feed'!AG65","v":0},{"$f":"'Data Feed'!AH65","v":0},{"$f":"'Data Feed'!AI65","v":0}]
[{"$f":"B64&\"_\"&(COUNTIF($B$1:B64,B64))","v":"0_61"},{"$f":"'Data Feed'!K66","v":0},{"$f":"'Data Feed'!B66","v":0},{"$f":"'Data Feed'!C66","v":0},{"$f":"'Data Feed'!D66","v":0},{"$f":"'Data Feed'!E66","v":0},{"$f":"'Data Feed'!F66","v":0},{"$f":"'Data Feed'!G66","v":0},{"$f":"'Data Feed'!H66","v":0},{"$f":"'Data Feed'!I66","v":0},{"$f":"'Data Feed'!J66","v":0},{"$f":"'Data Feed'!K66","v":0},{"$f":"'Data Feed'!L66","v":0},{"$f":"'Data Feed'!M66","v":0},{"$f":"'Data Feed'!N66","v":0},{"$f":"'Data Feed'!O66","v":0},{"$f":"'Data Feed'!P66","v":0},{"$f":"'Data Feed'!Q66","v":0},{"$f":"'Data Feed'!R66","v":0},{"$f":"'Data Feed'!S66","v":0},{"$f":"'Data Feed'!T66","v":0},{"$f":"'Data Feed'!U66","v":0},{"$f":"'Data Feed'!V66","v":0},{"$f":"'Data Feed'!W66","v":0},{"$f":"'Data Feed'!X66","v":0},{"$f":"'Data Feed'!Y66","v":0},{"$f":"'Data Feed'!Z66","v":0},{"$f":"'Data Feed'!AA66","v":0},{"$f":"'Data Feed'!AB66","v":0},{"$f":"'Data Feed'!AC66","v":0},{"$f":"'Data Feed'!AD66","v":0},{"$f":"'Data Feed'!AE66","v":0},{"$f":"'Data Feed'!AF66","v":0},{"$f":"'Data Feed'!AG66","v":0},{"$f":"'Data Feed'!AH66","v":0},{"$f":"'Data Feed'!AI66","v":0}]
[{"$f":"B65&\"_\"&(COUNTIF($B$1:B65,B65))","v":"0_62"},{"$f":"'Data Feed'!K67","v":0},{"$f":"'Data Feed'!B67","v":0},{"$f":"'Data Feed'!C67","v":0},{"$f":"'Data Feed'!D67","v":0},{"$f":"'Data Feed'!E67","v":0},{"$f":"'Data Feed'!F67","v":0},{"$f":"'Data Feed'!G67","v":0},{"$f":"'Data Feed'!H67","v":0},{"$f":"'Data Feed'!I67","v":0},{"$f":"'Data Feed'!J67","v":0},{"$f":"'Data Feed'!K67","v":0},{"$f":"'Data Feed'!L67","v":0},{"$f":"'Data Feed'!M67","v":0},{"$f":"'Data Feed'!N67","v":0},{"$f":"'Data Feed'!O67","v":0},{"$f":"'Data Feed'!P67","v":0},{"$f":"'Data Feed'!Q67","v":0},{"$f":"'Data Feed'!R67","v":0},{"$f":"'Data Feed'!S67","v":0},{"$f":"'Data Feed'!T67","v":0},{"$f":"'Data Feed'!U67","v":0},{"$f":"'Data Feed'!V67","v":0},{"$f":"'Data Feed'!W67","v":0},{"$f":"'Data Feed'!X67","v":0},{"$f":"'Data Feed'!Y67","v":0},{"$f":"'Data Feed'!Z67","v":0},{"$f":"'Data Feed'!AA67","v":0},{"$f":"'Data Feed'!AB67","v":0},{"$f":"'Data Feed'!AC67","v":0},{"$f":"'Data Feed'!AD67","v":0},{"$f":"'Data Feed'!AE67","v":0},{"$f":"'Data Feed'!AF67","v":0},{"$f":"'Data Feed'!AG67","v":0},{"$f":"'Data Feed'!AH67","v":0},{"$f":"'Data Feed'!AI67","v":0}]
[{"$f":"B66&\"_\"&(COUNTIF($B$1:B66,B66))","v":"0_63"},{"$f":"'Data Feed'!K68","v":0},{"$f":"'Data Feed'!B68","v":0},{"$f":"'Data Feed'!C68","v":0},{"$f":"'Data Feed'!D68","v":0},{"$f":"'Data Feed'!E68","v":0},{"$f":"'Data Feed'!F68","v":0},{"$f":"'Data Feed'!G68","v":0},{"$f":"'Data Feed'!H68","v":0},{"$f":"'Data Feed'!I68","v":0},{"$f":"'Data Feed'!J68","v":0},{"$f":"'Data Feed'!K68","v":0},{"$f":"'Data Feed'!L68","v":0},{"$f":"'Data Feed'!M68","v":0},{"$f":"'Data Feed'!N68","v":0},{"$f":"'Data Feed'!O68","v":0},{"$f":"'Data Feed'!P68","v":0},{"$f":"'Data Feed'!Q68","v":0},{"$f":"'Data Feed'!R68","v":0},{"$f":"'Data Feed'!S68","v":0},{"$f":"'Data Feed'!T68","v":0},{"$f":"'Data Feed'!U68","v":0},{"$f":"'Data Feed'!V68","v":0},{"$f":"'Data Feed'!W68","v":0},{"$f":"'Data Feed'!X68","v":0},{"$f":"'Data Feed'!Y68","v":0},{"$f":"'Data Feed'!Z68","v":0},{"$f":"'Data Feed'!AA68","v":0},{"$f":"'Data Feed'!AB68","v":0},{"$f":"'Data Feed'!AC68","v":0},{"$f":"'Data Feed'!AD68","v":0},{"$f":"'Data Feed'!AE68","v":0},{"$f":"'Data Feed'!AF68","v":0},{"$f":"'Data Feed'!AG68","v":0},{"$f":"'Data Feed'!AH68","v":0},{"$f":"'Data Feed'!AI68","v":0}]
[{"$f":"B67&\"_\"&(COUNTIF($B$1:B67,B67))","v":"0_64"},{"$f":"'Data Feed'!K69","v":0},{"$f":"'Data Feed'!B69","v":0},{"$f":"'Data Feed'!C69","v":0},{"$f":"'Data Feed'!D69","v":0},{"$f":"'Data Feed'!E69","v":0},{"$f":"'Data Feed'!F69","v":0},{"$f":"'Data Feed'!G69","v":0},{"$f":"'Data Feed'!H69","v":0},{"$f":"'Data Feed'!I69","v":0},{"$f":"'Data Feed'!J69","v":0},{"$f":"'Data Feed'!K69","v":0},{"$f":"'Data Feed'!L69","v":0},{"$f":"'Data Feed'!M69","v":0},{"$f":"'Data Feed'!N69","v":0},{"$f":"'Data Feed'!O69","v":0},{"$f":"'Data Feed'!P69","v":0},{"$f":"'Data Feed'!Q69","v":0},{"$f":"'Data Feed'!R69","v":0},{"$f":"'Data Feed'!S69","v":0},{"$f":"'Data Feed'!T69","v":0},{"$f":"'Data Feed'!U69","v":0},{"$f":"'Data Feed'!V69","v":0},{"$f":"'Data Feed'!W69","v":0},{"$f":"'Data Feed'!X69","v":0},{"$f":"'Data Feed'!Y69","v":0},{"$f":"'Data Feed'!Z69","v":0},{"$f":"'Data Feed'!AA69","v":0},{"$f":"'Data Feed'!AB69","v":0},{"$f":"'Data Feed'!AC69","v":0},{"$f":"'Data Feed'!AD69","v":0},{"$f":"'Data Feed'!AE69","v":0},{"$f":"'Data Feed'!AF69","v":0},{"$f":"'Data Feed'!AG69","v":0},{"$f":"'Data Feed'!AH69","v":0},{"$f":"'Data Feed'!AI69","v":0}]
[{"$f":"B68&\"_\"&(COUNTIF($B$1:B68,B68))","v":"0_65"},{"$f":"'Data Feed'!K70","v":0},{"$f":"'Data Feed'!B70","v":0},{"$f":"'Data Feed'!C70","v":0},{"$f":"'Data Feed'!D70","v":0},{"$f":"'Data Feed'!E70","v":0},{"$f":"'Data Feed'!F70","v":0},{"$f":"'Data Feed'!G70","v":0},{"$f":"'Data Feed'!H70","v":0},{"$f":"'Data Feed'!I70","v":0},{"$f":"'Data Feed'!J70","v":0},{"$f":"'Data Feed'!K70","v":0},{"$f":"'Data Feed'!L70","v":0},{"$f":"'Data Feed'!M70","v":0},{"$f":"'Data Feed'!N70","v":0},{"$f":"'Data Feed'!O70","v":0},{"$f":"'Data Feed'!P70","v":0},{"$f":"'Data Feed'!Q70","v":0},{"$f":"'Data Feed'!R70","v":0},{"$f":"'Data Feed'!S70","v":0},{"$f":"'Data Feed'!T70","v":0},{"$f":"'Data Feed'!U70","v":0},{"$f":"'Data Feed'!V70","v":0},{"$f":"'Data Feed'!W70","v":0},{"$f":"'Data Feed'!X70","v":0},{"$f":"'Data Feed'!Y70","v":0},{"$f":"'Data Feed'!Z70","v":0},{"$f":"'Data Feed'!AA70","v":0},{"$f":"'Data Feed'!AB70","v":0},{"$f":"'Data Feed'!AC70","v":0},{"$f":"'Data Feed'!AD70","v":0},{"$f":"'Data Feed'!AE70","v":0},{"$f":"'Data Feed'!AF70","v":0},{"$f":"'Data Feed'!AG70","v":0},{"$f":"'Data Feed'!AH70","v":0},{"$f":"'Data Feed'!AI70","v":0}]
[{"$f":"B69&\"_\"&(COUNTIF($B$1:B69,B69))","v":"0_66"},{"$f":"'Data Feed'!K71","v":0},{"$f":"'Data Feed'!B71","v":0},{"$f":"'Data Feed'!C71","v":0},{"$f":"'Data Feed'!D71","v":0},{"$f":"'Data Feed'!E71","v":0},{"$f":"'Data Feed'!F71","v":0},{"$f":"'Data Feed'!G71","v":0},{"$f":"'Data Feed'!H71","v":0},{"$f":"'Data Feed'!I71","v":0},{"$f":"'Data Feed'!J71","v":0},{"$f":"'Data Feed'!K71","v":0},{"$f":"'Data Feed'!L71","v":0},{"$f":"'Data Feed'!M71","v":0},{"$f":"'Data Feed'!N71","v":0},{"$f":"'Data Feed'!O71","v":0},{"$f":"'Data Feed'!P71","v":0},{"$f":"'Data Feed'!Q71","v":0},{"$f":"'Data Feed'!R71","v":0},{"$f":"'Data Feed'!S71","v":0},{"$f":"'Data Feed'!T71","v":0},{"$f":"'Data Feed'!U71","v":0},{"$f":"'Data Feed'!V71","v":0},{"$f":"'Data Feed'!W71","v":0},{"$f":"'Data Feed'!X71","v":0},{"$f":"'Data Feed'!Y71","v":0},{"$f":"'Data Feed'!Z71","v":0},{"$f":"'Data Feed'!AA71","v":0},{"$f":"'Data Feed'!AB71","v":0},{"$f":"'Data Feed'!AC71","v":0},{"$f":"'Data Feed'!AD71","v":0},{"$f":"'Data Feed'!AE71","v":0},{"$f":"'Data Feed'!AF71","v":0},{"$f":"'Data Feed'!AG71","v":0},{"$f":"'Data Feed'!AH71","v":0},{"$f":"'Data Feed'!AI71","v":0}]
[{"$f":"B70&\"_\"&(COUNTIF($B$1:B70,B70))","v":"0_67"},{"$f":"'Data Feed'!K72","v":0},{"$f":"'Data Feed'!B72","v":0},{"$f":"'Data Feed'!C72","v":0},{"$f":"'Data Feed'!D72","v":0},{"$f":"'Data Feed'!E72","v":0},{"$f":"'Data Feed'!F72","v":0},{"$f":"'Data Feed'!G72","v":0},{"$f":"'Data Feed'!H72","v":0},{"$f":"'Data Feed'!I72","v":0},{"$f":"'Data Feed'!J72","v":0},{"$f":"'Data Feed'!K72","v":0},{"$f":"'Data Feed'!L72","v":0},{"$f":"'Data Feed'!M72","v":0},{"$f":"'Data Feed'!N72","v":0},{"$f":"'Data Feed'!O72","v":0},{"$f":"'Data Feed'!P72","v":0},{"$f":"'Data Feed'!Q72","v":0},{"$f":"'Data Feed'!R72","v":0},{"$f":"'Data Feed'!S72","v":0},{"$f":"'Data Feed'!T72","v":0},{"$f":"'Data Feed'!U72","v":0},{"$f":"'Data Feed'!V72","v":0},{"$f":"'Data Feed'!W72","v":0},{"$f":"'Data Feed'!X72","v":0},{"$f":"'Data Feed'!Y72","v":0},{"$f":"'Data Feed'!Z72","v":0},{"$f":"'Data Feed'!AA72","v":0},{"$f":"'Data Feed'!AB72","v":0},{"$f":"'Data Feed'!AC72","v":0},{"$f":"'Data Feed'!AD72","v":0},{"$f":"'Data Feed'!AE72","v":0},{"$f":"'Data Feed'!AF72","v":0},{"$f":"'Data Feed'!AG72","v":0},{"$f":"'Data Feed'!AH72","v":0},{"$f":"'Data Feed'!AI72","v":0}]
[{"$f":"B71&\"_\"&(COUNTIF($B$1:B71,B71))","v":"0_68"},{"$f":"'Data Feed'!K73","v":0},{"$f":"'Data Feed'!B73","v":0},{"$f":"'Data Feed'!C73","v":0},{"$f":"'Data Feed'!D73","v":0},{"$f":"'Data Feed'!E73","v":0},{"$f":"'Data Feed'!F73","v":0},{"$f":"'Data Feed'!G73","v":0},{"$f":"'Data Feed'!H73","v":0},{"$f":"'Data Feed'!I73","v":0},{"$f":"'Data Feed'!J73","v":0},{"$f":"'Data Feed'!K73","v":0},{"$f":"'Data Feed'!L73","v":0},{"$f":"'Data Feed'!M73","v":0},{"$f":"'Data Feed'!N73","v":0},{"$f":"'Data Feed'!O73","v":0},{"$f":"'Data Feed'!P73","v":0},{"$f":"'Data Feed'!Q73","v":0},{"$f":"'Data Feed'!R73","v":0},{"$f":"'Data Feed'!S73","v":0},{"$f":"'Data Feed'!T73","v":0},{"$f":"'Data Feed'!U73","v":0},{"$f":"'Data Feed'!V73","v":0},{"$f":"'Data Feed'!W73","v":0},{"$f":"'Data Feed'!X73","v":0},{"$f":"'Data Feed'!Y73","v":0},{"$f":"'Data Feed'!Z73","v":0},{"$f":"'Data Feed'!AA73","v":0},{"$f":"'Data Feed'!AB73","v":0},{"$f":"'Data Feed'!AC73","v":0},{"$f":"'Data Feed'!AD73","v":0},{"$f":"'Data Feed'!AE73","v":0},{"$f":"'Data Feed'!AF73","v":0},{"$f":"'Data Feed'!AG73","v":0},{"$f":"'Data Feed'!AH73","v":0},{"$f":"'Data Feed'!AI73","v":0}]
[{"$f":"B72&\"_\"&(COUNTIF($B$1:B72,B72))","v":"0_69"},{"$f":"'Data Feed'!K74","v":0},{"$f":"'Data Feed'!B74","v":0},{"$f":"'Data Feed'!C74","v":0},{"$f":"'Data Feed'!D74","v":0},{"$f":"'Data Feed'!E74","v":0},{"$f":"'Data Feed'!F74","v":0},{"$f":"'Data Feed'!G74","v":0},{"$f":"'Data Feed'!H74","v":0},{"$f":"'Data Feed'!I74","v":0},{"$f":"'Data Feed'!J74","v":0},{"$f":"'Data Feed'!K74","v":0},{"$f":"'Data Feed'!L74","v":0},{"$f":"'Data Feed'!M74","v":0},{"$f":"'Data Feed'!N74","v":0},{"$f":"'Data Feed'!O74","v":0},{"$f":"'Data Feed'!P74","v":0},{"$f":"'Data Feed'!Q74","v":0},{"$f":"'Data Feed'!R74","v":0},{"$f":"'Data Feed'!S74","v":0},{"$f":"'Data Feed'!T74","v":0},{"$f":"'Data Feed'!U74","v":0},{"$f":"'Data Feed'!V74","v":0},{"$f":"'Data Feed'!W74","v":0},{"$f":"'Data Feed'!X74","v":0},{"$f":"'Data Feed'!Y74","v":0},{"$f":"'Data Feed'!Z74","v":0},{"$f":"'Data Feed'!AA74","v":0},{"$f":"'Data Feed'!AB74","v":0},{"$f":"'Data Feed'!AC74","v":0},{"$f":"'Data Feed'!AD74","v":0},{"$f":"'Data Feed'!AE74","v":0},{"$f":"'Data Feed'!AF74","v":0},{"$f":"'Data Feed'!AG74","v":0},{"$f":"'Data Feed'!AH74","v":0},{"$f":"'Data Feed'!AI74","v":0}]
[{"$f":"B73&\"_\"&(COUNTIF($B$1:B73,B73))","v":"0_70"},{"$f":"'Data Feed'!K75","v":0},{"$f":"'Data Feed'!B75","v":0},{"$f":"'Data Feed'!C75","v":0},{"$f":"'Data Feed'!D75","v":0},{"$f":"'Data Feed'!E75","v":0},{"$f":"'Data Feed'!F75","v":0},{"$f":"'Data Feed'!G75","v":0},{"$f":"'Data Feed'!H75","v":0},{"$f":"'Data Feed'!I75","v":0},{"$f":"'Data Feed'!J75","v":0},{"$f":"'Data Feed'!K75","v":0},{"$f":"'Data Feed'!L75","v":0},{"$f":"'Data Feed'!M75","v":0},{"$f":"'Data Feed'!N75","v":0},{"$f":"'Data Feed'!O75","v":0},{"$f":"'Data Feed'!P75","v":0},{"$f":"'Data Feed'!Q75","v":0},{"$f":"'Data Feed'!R75","v":0},{"$f":"'Data Feed'!S75","v":0},{"$f":"'Data Feed'!T75","v":0},{"$f":"'Data Feed'!U75","v":0},{"$f":"'Data Feed'!V75","v":0},{"$f":"'Data Feed'!W75","v":0},{"$f":"'Data Feed'!X75","v":0},{"$f":"'Data Feed'!Y75","v":0},{"$f":"'Data Feed'!Z75","v":0},{"$f":"'Data Feed'!AA75","v":0},{"$f":"'Data Feed'!AB75","v":0},{"$f":"'Data Feed'!AC75","v":0},{"$f":"'Data Feed'!AD75","v":0},{"$f":"'Data Feed'!AE75","v":0},{"$f":"'Data Feed'!AF75","v":0},{"$f":"'Data Feed'!AG75","v":0},{"$f":"'Data Feed'!AH75","v":0},{"$f":"'Data Feed'!AI75","v":0}]
[{"$f":"B74&\"_\"&(COUNTIF($B$1:B74,B74))","v":"0_71"},{"$f":"'Data Feed'!K76","v":0},{"$f":"'Data Feed'!B76","v":0},{"$f":"'Data Feed'!C76","v":0},{"$f":"'Data Feed'!D76","v":0},{"$f":"'Data Feed'!E76","v":0},{"$f":"'Data Feed'!F76","v":0},{"$f":"'Data Feed'!G76","v":0},{"$f":"'Data Feed'!H76","v":0},{"$f":"'Data Feed'!I76","v":0},{"$f":"'Data Feed'!J76","v":0},{"$f":"'Data Feed'!K76","v":0},{"$f":"'Data Feed'!L76","v":0},{"$f":"'Data Feed'!M76","v":0},{"$f":"'Data Feed'!N76","v":0},{"$f":"'Data Feed'!O76","v":0},{"$f":"'Data Feed'!P76","v":0},{"$f":"'Data Feed'!Q76","v":0},{"$f":"'Data Feed'!R76","v":0},{"$f":"'Data Feed'!S76","v":0},{"$f":"'Data Feed'!T76","v":0},{"$f":"'Data Feed'!U76","v":0},{"$f":"'Data Feed'!V76","v":0},{"$f":"'Data Feed'!W76","v":0},{"$f":"'Data Feed'!X76","v":0},{"$f":"'Data Feed'!Y76","v":0},{"$f":"'Data Feed'!Z76","v":0},{"$f":"'Data Feed'!AA76","v":0},{"$f":"'Data Feed'!AB76","v":0},{"$f":"'Data Feed'!AC76","v":0},{"$f":"'Data Feed'!AD76","v":0},{"$f":"'Data Feed'!AE76","v":0},{"$f":"'Data Feed'!AF76","v":0},{"$f":"'Data Feed'!AG76","v":0},{"$f":"'Data Feed'!AH76","v":0},{"$f":"'Data Feed'!AI76","v":0}]
[{"$f":"B75&\"_\"&(COUNTIF($B$1:B75,B75))","v":"0_72"},{"$f":"'Data Feed'!K77","v":0},{"$f":"'Data Feed'!B77","v":0},{"$f":"'Data Feed'!C77","v":0},{"$f":"'Data Feed'!D77","v":0},{"$f":"'Data Feed'!E77","v":0},{"$f":"'Data Feed'!F77","v":0},{"$f":"'Data Feed'!G77","v":0},{"$f":"'Data Feed'!H77","v":0},{"$f":"'Data Feed'!I77","v":0},{"$f":"'Data Feed'!J77","v":0},{"$f":"'Data Feed'!K77","v":0},{"$f":"'Data Feed'!L77","v":0},{"$f":"'Data Feed'!M77","v":0},{"$f":"'Data Feed'!N77","v":0},{"$f":"'Data Feed'!O77","v":0},{"$f":"'Data Feed'!P77","v":0},{"$f":"'Data Feed'!Q77","v":0},{"$f":"'Data Feed'!R77","v":0},{"$f":"'Data Feed'!S77","v":0},{"$f":"'Data Feed'!T77","v":0},{"$f":"'Data Feed'!U77","v":0},{"$f":"'Data Feed'!V77","v":0},{"$f":"'Data Feed'!W77","v":0},{"$f":"'Data Feed'!X77","v":0},{"$f":"'Data Feed'!Y77","v":0},{"$f":"'Data Feed'!Z77","v":0},{"$f":"'Data Feed'!AA77","v":0},{"$f":"'Data Feed'!AB77","v":0},{"$f":"'Data Feed'!AC77","v":0},{"$f":"'Data Feed'!AD77","v":0},{"$f":"'Data Feed'!AE77","v":0},{"$f":"'Data Feed'!AF77","v":0},{"$f":"'Data Feed'!AG77","v":0},{"$f":"'Data Feed'!AH77","v":0},{"$f":"'Data Feed'!AI77","v":0}]
[{"$f":"B76&\"_\"&(COUNTIF($B$1:B76,B76))","v":"0_73"},{"$f":"'Data Feed'!K78","v":0},{"$f":"'Data Feed'!B78","v":0},{"$f":"'Data Feed'!C78","v":0},{"$f":"'Data Feed'!D78","v":0},{"$f":"'Data Feed'!E78","v":0},{"$f":"'Data Feed'!F78","v":0},{"$f":"'Data Feed'!G78","v":0},{"$f":"'Data Feed'!H78","v":0},{"$f":"'Data Feed'!I78","v":0},{"$f":"'Data Feed'!J78","v":0},{"$f":"'Data Feed'!K78","v":0},{"$f":"'Data Feed'!L78","v":0},{"$f":"'Data Feed'!M78","v":0},{"$f":"'Data Feed'!N78","v":0},{"$f":"'Data Feed'!O78","v":0},{"$f":"'Data Feed'!P78","v":0},{"$f":"'Data Feed'!Q78","v":0},{"$f":"'Data Feed'!R78","v":0},{"$f":"'Data Feed'!S78","v":0},{"$f":"'Data Feed'!T78","v":0},{"$f":"'Data Feed'!U78","v":0},{"$f":"'Data Feed'!V78","v":0},{"$f":"'Data Feed'!W78","v":0},{"$f":"'Data Feed'!X78","v":0},{"$f":"'Data Feed'!Y78","v":0},{"$f":"'Data Feed'!Z78","v":0},{"$f":"'Data Feed'!AA78","v":0},{"$f":"'Data Feed'!AB78","v":0},{"$f":"'Data Feed'!AC78","v":0},{"$f":"'Data Feed'!AD78","v":0},{"$f":"'Data Feed'!AE78","v":0},{"$f":"'Data Feed'!AF78","v":0},{"$f":"'Data Feed'!AG78","v":0},{"$f":"'Data Feed'!AH78","v":0},{"$f":"'Data Feed'!AI78","v":0}]
[{"$f":"B77&\"_\"&(COUNTIF($B$1:B77,B77))","v":"0_74"},{"$f":"'Data Feed'!K79","v":0},{"$f":"'Data Feed'!B79","v":0},{"$f":"'Data Feed'!C79","v":0},{"$f":"'Data Feed'!D79","v":0},{"$f":"'Data Feed'!E79","v":0},{"$f":"'Data Feed'!F79","v":0},{"$f":"'Data Feed'!G79","v":0},{"$f":"'Data Feed'!H79","v":0},{"$f":"'Data Feed'!I79","v":0},{"$f":"'Data Feed'!J79","v":0},{"$f":"'Data Feed'!K79","v":0},{"$f":"'Data Feed'!L79","v":0},{"$f":"'Data Feed'!M79","v":0},{"$f":"'Data Feed'!N79","v":0},{"$f":"'Data Feed'!O79","v":0},{"$f":"'Data Feed'!P79","v":0},{"$f":"'Data Feed'!Q79","v":0},{"$f":"'Data Feed'!R79","v":0},{"$f":"'Data Feed'!S79","v":0},{"$f":"'Data Feed'!T79","v":0},{"$f":"'Data Feed'!U79","v":0},{"$f":"'Data Feed'!V79","v":0},{"$f":"'Data Feed'!W79","v":0},{"$f":"'Data Feed'!X79","v":0},{"$f":"'Data Feed'!Y79","v":0},{"$f":"'Data Feed'!Z79","v":0},{"$f":"'Data Feed'!AA79","v":0},{"$f":"'Data Feed'!AB79","v":0},{"$f":"'Data Feed'!AC79","v":0},{"$f":"'Data Feed'!AD79","v":0},{"$f":"'Data Feed'!AE79","v":0},{"$f":"'Data Feed'!AF79","v":0},{"$f":"'Data Feed'!AG79","v":0},{"$f":"'Data Feed'!AH79","v":0},{"$f":"'Data Feed'!AI79","v":0}]
[{"$f":"B78&\"_\"&(COUNTIF($B$1:B78,B78))","v":"0_75"},{"$f":"'Data Feed'!K80","v":0},{"$f":"'Data Feed'!B80","v":0},{"$f":"'Data Feed'!C80","v":0},{"$f":"'Data Feed'!D80","v":0},{"$f":"'Data Feed'!E80","v":0},{"$f":"'Data Feed'!F80","v":0},{"$f":"'Data Feed'!G80","v":0},{"$f":"'Data Feed'!H80","v":0},{"$f":"'Data Feed'!I80","v":0},{"$f":"'Data Feed'!J80","v":0},{"$f":"'Data Feed'!K80","v":0},{"$f":"'Data Feed'!L80","v":0},{"$f":"'Data Feed'!M80","v":0},{"$f":"'Data Feed'!N80","v":0},{"$f":"'Data Feed'!O80","v":0},{"$f":"'Data Feed'!P80","v":0},{"$f":"'Data Feed'!Q80","v":0},{"$f":"'Data Feed'!R80","v":0},{"$f":"'Data Feed'!S80","v":0},{"$f":"'Data Feed'!T80","v":0},{"$f":"'Data Feed'!U80","v":0},{"$f":"'Data Feed'!V80","v":0},{"$f":"'Data Feed'!W80","v":0},{"$f":"'Data Feed'!X80","v":0},{"$f":"'Data Feed'!Y80","v":0},{"$f":"'Data Feed'!Z80","v":0},{"$f":"'Data Feed'!AA80","v":0},{"$f":"'Data Feed'!AB80","v":0},{"$f":"'Data Feed'!AC80","v":0},{"$f":"'Data Feed'!AD80","v":0},{"$f":"'Data Feed'!AE80","v":0},{"$f":"'Data Feed'!AF80","v":0},{"$f":"'Data Feed'!AG80","v":0},{"$f":"'Data Feed'!AH80","v":0},{"$f":"'Data Feed'!AI80","v":0}]
[{"$f":"B79&\"_\"&(COUNTIF($B$1:B79,B79))","v":"0_76"},{"$f":"'Data Feed'!K81","v":0},{"$f":"'Data Feed'!B81","v":0},{"$f":"'Data Feed'!C81","v":0},{"$f":"'Data Feed'!D81","v":0},{"$f":"'Data Feed'!E81","v":0},{"$f":"'Data Feed'!F81","v":0},{"$f":"'Data Feed'!G81","v":0},{"$f":"'Data Feed'!H81","v":0},{"$f":"'Data Feed'!I81","v":0},{"$f":"'Data Feed'!J81","v":0},{"$f":"'Data Feed'!K81","v":0},{"$f":"'Data Feed'!L81","v":0},{"$f":"'Data Feed'!M81","v":0},{"$f":"'Data Feed'!N81","v":0},{"$f":"'Data Feed'!O81","v":0},{"$f":"'Data Feed'!P81","v":0},{"$f":"'Data Feed'!Q81","v":0},{"$f":"'Data Feed'!R81","v":0},{"$f":"'Data Feed'!S81","v":0},{"$f":"'Data Feed'!T81","v":0},{"$f":"'Data Feed'!U81","v":0},{"$f":"'Data Feed'!V81","v":0},{"$f":"'Data Feed'!W81","v":0},{"$f":"'Data Feed'!X81","v":0},{"$f":"'Data Feed'!Y81","v":0},{"$f":"'Data Feed'!Z81","v":0},{"$f":"'Data Feed'!AA81","v":0},{"$f":"'Data Feed'!AB81","v":0},{"$f":"'Data Feed'!AC81","v":0},{"$f":"'Data Feed'!AD81","v":0},{"$f":"'Data Feed'!AE81","v":0},{"$f":"'Data Feed'!AF81","v":0},{"$f":"'Data Feed'!AG81","v":0},{"$f":"'Data Feed'!AH81","v":0},{"$f":"'Data Feed'!AI81","v":0}]
[{"$f":"B80&\"_\"&(COUNTIF($B$1:B80,B80))","v":"0_77"},{"$f":"'Data Feed'!K82","v":0},{"$f":"'Data Feed'!B82","v":0},{"$f":"'Data Feed'!C82","v":0},{"$f":"'Data Feed'!D82","v":0},{"$f":"'Data Feed'!E82","v":0},{"$f":"'Data Feed'!F82","v":0},{"$f":"'Data Feed'!G82","v":0},{"$f":"'Data Feed'!H82","v":0},{"$f":"'Data Feed'!I82","v":0},{"$f":"'Data Feed'!J82","v":0},{"$f":"'Data Feed'!K82","v":0},{"$f":"'Data Feed'!L82","v":0},{"$f":"'Data Feed'!M82","v":0},{"$f":"'Data Feed'!N82","v":0},{"$f":"'Data Feed'!O82","v":0},{"$f":"'Data Feed'!P82","v":0},{"$f":"'Data Feed'!Q82","v":0},{"$f":"'Data Feed'!R82","v":0},{"$f":"'Data Feed'!S82","v":0},{"$f":"'Data Feed'!T82","v":0},{"$f":"'Data Feed'!U82","v":0},{"$f":"'Data Feed'!V82","v":0},{"$f":"'Data Feed'!W82","v":0},{"$f":"'Data Feed'!X82","v":0},{"$f":"'Data Feed'!Y82","v":0},{"$f":"'Data Feed'!Z82","v":0},{"$f":"'Data Feed'!AA82","v":0},{"$f":"'Data Feed'!AB82","v":0},{"$f":"'Data Feed'!AC82","v":0},{"$f":"'Data Feed'!AD82","v":0},{"$f":"'Data Feed'!AE82","v":0},{"$f":"'Data Feed'!AF82","v":0},{"$f":"'Data Feed'!AG82","v":0},{"$f":"'Data Feed'!AH82","v":0},{"$f":"'Data Feed'!AI82","v":0}]
[{"$f":"B81&\"_\"&(COUNTIF($B$1:B81,B81))","v":"0_78"},{"$f":"'Data Feed'!K83","v":0},{"$f":"'Data Feed'!B83","v":0},{"$f":"'Data Feed'!C83","v":0},{"$f":"'Data Feed'!D83","v":0},{"$f":"'Data Feed'!E83","v":0},{"$f":"'Data Feed'!F83","v":0},{"$f":"'Data Feed'!G83","v":0},{"$f":"'Data Feed'!H83","v":0},{"$f":"'Data Feed'!I83","v":0},{"$f":"'Data Feed'!J83","v":0},{"$f":"'Data Feed'!K83","v":0},{"$f":"'Data Feed'!L83","v":0},{"$f":"'Data Feed'!M83","v":0},{"$f":"'Data Feed'!N83","v":0},{"$f":"'Data Feed'!O83","v":0},{"$f":"'Data Feed'!P83","v":0},{"$f":"'Data Feed'!Q83","v":0},{"$f":"'Data Feed'!R83","v":0},{"$f":"'Data Feed'!S83","v":0},{"$f":"'Data Feed'!T83","v":0},{"$f":"'Data Feed'!U83","v":0},{"$f":"'Data Feed'!V83","v":0},{"$f":"'Data Feed'!W83","v":0},{"$f":"'Data Feed'!X83","v":0},{"$f":"'Data Feed'!Y83","v":0},{"$f":"'Data Feed'!Z83","v":0},{"$f":"'Data Feed'!AA83","v":0},{"$f":"'Data Feed'!AB83","v":0},{"$f":"'Data Feed'!AC83","v":0},{"$f":"'Data Feed'!AD83","v":0},{"$f":"'Data Feed'!AE83","v":0},{"$f":"'Data Feed'!AF83","v":0},{"$f":"'Data Feed'!AG83","v":0},{"$f":"'Data Feed'!AH83","v":0},{"$f":"'Data Feed'!AI83","v":0}]
[{"$f":"B82&\"_\"&(COUNTIF($B$1:B82,B82))","v":"0_79"},{"$f":"'Data Feed'!K84","v":0},{"$f":"'Data Feed'!B84","v":0},{"$f":"'Data Feed'!C84","v":0},{"$f":"'Data Feed'!D84","v":0},{"$f":"'Data Feed'!E84","v":0},{"$f":"'Data Feed'!F84","v":0},{"$f":"'Data Feed'!G84","v":0},{"$f":"'Data Feed'!H84","v":0},{"$f":"'Data Feed'!I84","v":0},{"$f":"'Data Feed'!J84","v":0},{"$f":"'Data Feed'!K84","v":0},{"$f":"'Data Feed'!L84","v":0},{"$f":"'Data Feed'!M84","v":0},{"$f":"'Data Feed'!N84","v":0},{"$f":"'Data Feed'!O84","v":0},{"$f":"'Data Feed'!P84","v":0},{"$f":"'Data Feed'!Q84","v":0},{"$f":"'Data Feed'!R84","v":0},{"$f":"'Data Feed'!S84","v":0},{"$f":"'Data Feed'!T84","v":0},{"$f":"'Data Feed'!U84","v":0},{"$f":"'Data Feed'!V84","v":0},{"$f":"'Data Feed'!W84","v":0},{"$f":"'Data Feed'!X84","v":0},{"$f":"'Data Feed'!Y84","v":0},{"$f":"'Data Feed'!Z84","v":0},{"$f":"'Data Feed'!AA84","v":0},{"$f":"'Data Feed'!AB84","v":0},{"$f":"'Data Feed'!AC84","v":0},{"$f":"'Data Feed'!AD84","v":0},{"$f":"'Data Feed'!AE84","v":0},{"$f":"'Data Feed'!AF84","v":0},{"$f":"'Data Feed'!AG84","v":0},{"$f":"'Data Feed'!AH84","v":0},{"$f":"'Data Feed'!AI84","v":0}]
[{"$f":"B83&\"_\"&(COUNTIF($B$1:B83,B83))","v":"0_80"},{"$f":"'Data Feed'!K85","v":0},{"$f":"'Data Feed'!B85","v":0},{"$f":"'Data Feed'!C85","v":0},{"$f":"'Data Feed'!D85","v":0},{"$f":"'Data Feed'!E85","v":0},{"$f":"'Data Feed'!F85","v":0},{"$f":"'Data Feed'!G85","v":0},{"$f":"'Data Feed'!H85","v":0},{"$f":"'Data Feed'!I85","v":0},{"$f":"'Data Feed'!J85","v":0},{"$f":"'Data Feed'!K85","v":0},{"$f":"'Data Feed'!L85","v":0},{"$f":"'Data Feed'!M85","v":0},{"$f":"'Data Feed'!N85","v":0},{"$f":"'Data Feed'!O85","v":0},{"$f":"'Data Feed'!P85","v":0},{"$f":"'Data Feed'!Q85","v":0},{"$f":"'Data Feed'!R85","v":0},{"$f":"'Data Feed'!S85","v":0},{"$f":"'Data Feed'!T85","v":0},{"$f":"'Data Feed'!U85","v":0},{"$f":"'Data Feed'!V85","v":0},{"$f":"'Data Feed'!W85","v":0},{"$f":"'Data Feed'!X85","v":0},{"$f":"'Data Feed'!Y85","v":0},{"$f":"'Data Feed'!Z85","v":0},{"$f":"'Data Feed'!AA85","v":0},{"$f":"'Data Feed'!AB85","v":0},{"$f":"'Data Feed'!AC85","v":0},{"$f":"'Data Feed'!AD85","v":0},{"$f":"'Data Feed'!AE85","v":0},{"$f":"'Data Feed'!AF85","v":0},{"$f":"'Data Feed'!AG85","v":0},{"$f":"'Data Feed'!AH85","v":0},{"$f":"'Data Feed'!AI85","v":0}]
[{"$f":"B84&\"_\"&(COUNTIF($B$1:B84,B84))","v":"0_81"},{"$f":"'Data Feed'!K86","v":0},{"$f":"'Data Feed'!B86","v":0},{"$f":"'Data Feed'!C86","v":0},{"$f":"'Data Feed'!D86","v":0},{"$f":"'Data Feed'!E86","v":0},{"$f":"'Data Feed'!F86","v":0},{"$f":"'Data Feed'!G86","v":0},{"$f":"'Data Feed'!H86","v":0},{"$f":"'Data Feed'!I86","v":0},{"$f":"'Data Feed'!J86","v":0},{"$f":"'Data Feed'!K86","v":0},{"$f":"'Data Feed'!L86","v":0},{"$f":"'Data Feed'!M86","v":0},{"$f":"'Data Feed'!N86","v":0},{"$f":"'Data Feed'!O86","v":0},{"$f":"'Data Feed'!P86","v":0},{"$f":"'Data Feed'!Q86","v":0},{"$f":"'Data Feed'!R86","v":0},{"$f":"'Data Feed'!S86","v":0},{"$f":"'Data Feed'!T86","v":0},{"$f":"'Data Feed'!U86","v":0},{"$f":"'Data Feed'!V86","v":0},{"$f":"'Data Feed'!W86","v":0},{"$f":"'Data Feed'!X86","v":0},{"$f":"'Data Feed'!Y86","v":0},{"$f":"'Data Feed'!Z86","v":0},{"$f":"'Data Feed'!AA86","v":0},{"$f":"'Data Feed'!AB86","v":0},{"$f":"'Data Feed'!AC86","v":0},{"$f":"'Data Feed'!AD86","v":0},{"$f":"'Data Feed'!AE86","v":0},{"$f":"'Data Feed'!AF86","v":0},{"$f":"'Data Feed'!AG86","v":0},{"$f":"'Data Feed'!AH86","v":0},{"$f":"'Data Feed'!AI86","v":0}]
[{"$f":"B85&\"_\"&(COUNTIF($B$1:B85,B85))","v":"0_82"},{"$f":"'Data Feed'!K87","v":0},{"$f":"'Data Feed'!B87","v":0},{"$f":"'Data Feed'!C87","v":0},{"$f":"'Data Feed'!D87","v":0},{"$f":"'Data Feed'!E87","v":0},{"$f":"'Data Feed'!F87","v":0},{"$f":"'Data Feed'!G87","v":0},{"$f":"'Data Feed'!H87","v":0},{"$f":"'Data Feed'!I87","v":0},{"$f":"'Data Feed'!J87","v":0},{"$f":"'Data Feed'!K87","v":0},{"$f":"'Data Feed'!L87","v":0},{"$f":"'Data Feed'!M87","v":0},{"$f":"'Data Feed'!N87","v":0},{"$f":"'Data Feed'!O87","v":0},{"$f":"'Data Feed'!P87","v":0},{"$f":"'Data Feed'!Q87","v":0},{"$f":"'Data Feed'!R87","v":0},{"$f":"'Data Feed'!S87","v":0},{"$f":"'Data Feed'!T87","v":0},{"$f":"'Data Feed'!U87","v":0},{"$f":"'Data Feed'!V87","v":0},{"$f":"'Data Feed'!W87","v":0},{"$f":"'Data Feed'!X87","v":0},{"$f":"'Data Feed'!Y87","v":0},{"$f":"'Data Feed'!Z87","v":0},{"$f":"'Data Feed'!AA87","v":0},{"$f":"'Data Feed'!AB87","v":0},{"$f":"'Data Feed'!AC87","v":0},{"$f":"'Data Feed'!AD87","v":0},{"$f":"'Data Feed'!AE87","v":0},{"$f":"'Data Feed'!AF87","v":0},{"$f":"'Data Feed'!AG87","v":0},{"$f":"'Data Feed'!AH87","v":0},{"$f":"'Data Feed'!AI87","v":0}]
[{"$f":"B86&\"_\"&(COUNTIF($B$1:B86,B86))","v":"0_83"},{"$f":"'Data Feed'!K88","v":0},{"$f":"'Data Feed'!B88","v":0},{"$f":"'Data Feed'!C88","v":0},{"$f":"'Data Feed'!D88","v":0},{"$f":"'Data Feed'!E88","v":0},{"$f":"'Data Feed'!F88","v":0},{"$f":"'Data Feed'!G88","v":0},{"$f":"'Data Feed'!H88","v":0},{"$f":"'Data Feed'!I88","v":0},{"$f":"'Data Feed'!J88","v":0},{"$f":"'Data Feed'!K88","v":0},{"$f":"'Data Feed'!L88","v":0},{"$f":"'Data Feed'!M88","v":0},{"$f":"'Data Feed'!N88","v":0},{"$f":"'Data Feed'!O88","v":0},{"$f":"'Data Feed'!P88","v":0},{"$f":"'Data Feed'!Q88","v":0},{"$f":"'Data Feed'!R88","v":0},{"$f":"'Data Feed'!S88","v":0},{"$f":"'Data Feed'!T88","v":0},{"$f":"'Data Feed'!U88","v":0},{"$f":"'Data Feed'!V88","v":0},{"$f":"'Data Feed'!W88","v":0},{"$f":"'Data Feed'!X88","v":0},{"$f":"'Data Feed'!Y88","v":0},{"$f":"'Data Feed'!Z88","v":0},{"$f":"'Data Feed'!AA88","v":0},{"$f":"'Data Feed'!AB88","v":0},{"$f":"'Data Feed'!AC88","v":0},{"$f":"'Data Feed'!AD88","v":0},{"$f":"'Data Feed'!AE88","v":0},{"$f":"'Data Feed'!AF88","v":0},{"$f":"'Data Feed'!AG88","v":0},{"$f":"'Data Feed'!AH88","v":0},{"$f":"'Data Feed'!AI88","v":0}]
[{"$f":"B87&\"_\"&(COUNTIF($B$1:B87,B87))","v":"0_84"},{"$f":"'Data Feed'!K89","v":0},{"$f":"'Data Feed'!B89","v":0},{"$f":"'Data Feed'!C89","v":0},{"$f":"'Data Feed'!D89","v":0},{"$f":"'Data Feed'!E89","v":0},{"$f":"'Data Feed'!F89","v":0},{"$f":"'Data Feed'!G89","v":0},{"$f":"'Data Feed'!H89","v":0},{"$f":"'Data Feed'!I89","v":0},{"$f":"'Data Feed'!J89","v":0},{"$f":"'Data Feed'!K89","v":0},{"$f":"'Data Feed'!L89","v":0},{"$f":"'Data Feed'!M89","v":0},{"$f":"'Data Feed'!N89","v":0},{"$f":"'Data Feed'!O89","v":0},{"$f":"'Data Feed'!P89","v":0},{"$f":"'Data Feed'!Q89","v":0},{"$f":"'Data Feed'!R89","v":0},{"$f":"'Data Feed'!S89","v":0},{"$f":"'Data Feed'!T89","v":0},{"$f":"'Data Feed'!U89","v":0},{"$f":"'Data Feed'!V89","v":0},{"$f":"'Data Feed'!W89","v":0},{"$f":"'Data Feed'!X89","v":0},{"$f":"'Data Feed'!Y89","v":0},{"$f":"'Data Feed'!Z89","v":0},{"$f":"'Data Feed'!AA89","v":0},{"$f":"'Data Feed'!AB89","v":0},{"$f":"'Data Feed'!AC89","v":0},{"$f":"'Data Feed'!AD89","v":0},{"$f":"'Data Feed'!AE89","v":0},{"$f":"'Data Feed'!AF89","v":0},{"$f":"'Data Feed'!AG89","v":0},{"$f":"'Data Feed'!AH89","v":0},{"$f":"'Data Feed'!AI89","v":0}]
[{"$f":"B88&\"_\"&(COUNTIF($B$1:B88,B88))","v":"0_85"},{"$f":"'Data Feed'!K90","v":0},{"$f":"'Data Feed'!B90","v":0},{"$f":"'Data Feed'!C90","v":0},{"$f":"'Data Feed'!D90","v":0},{"$f":"'Data Feed'!E90","v":0},{"$f":"'Data Feed'!F90","v":0},{"$f":"'Data Feed'!G90","v":0},{"$f":"'Data Feed'!H90","v":0},{"$f":"'Data Feed'!I90","v":0},{"$f":"'Data Feed'!J90","v":0},{"$f":"'Data Feed'!K90","v":0},{"$f":"'Data Feed'!L90","v":0},{"$f":"'Data Feed'!M90","v":0},{"$f":"'Data Feed'!N90","v":0},{"$f":"'Data Feed'!O90","v":0},{"$f":"'Data Feed'!P90","v":0},{"$f":"'Data Feed'!Q90","v":0},{"$f":"'Data Feed'!R90","v":0},{"$f":"'Data Feed'!S90","v":0},{"$f":"'Data Feed'!T90","v":0},{"$f":"'Data Feed'!U90","v":0},{"$f":"'Data Feed'!V90","v":0},{"$f":"'Data Feed'!W90","v":0},{"$f":"'Data Feed'!X90","v":0},{"$f":"'Data Feed'!Y90","v":0},{"$f":"'Data Feed'!Z90","v":0},{"$f":"'Data Feed'!AA90","v":0},{"$f":"'Data Feed'!AB90","v":0},{"$f":"'Data Feed'!AC90","v":0},{"$f":"'Data Feed'!AD90","v":0},{"$f":"'Data Feed'!AE90","v":0},{"$f":"'Data Feed'!AF90","v":0},{"$f":"'Data Feed'!AG90","v":0},{"$f":"'Data Feed'!AH90","v":0},{"$f":"'Data Feed'!AI90","v":0}]
[{"$f":"B89&\"_\"&(COUNTIF($B$1:B89,B89))","v":"0_86"},{"$f":"'Data Feed'!K91","v":0},{"$f":"'Data Feed'!B91","v":0},{"$f":"'Data Feed'!C91","v":0},{"$f":"'Data Feed'!D91","v":0},{"$f":"'Data Feed'!E91","v":0},{"$f":"'Data Feed'!F91","v":0},{"$f":"'Data Feed'!G91","v":0},{"$f":"'Data Feed'!H91","v":0},{"$f":"'Data Feed'!I91","v":0},{"$f":"'Data Feed'!J91","v":0},{"$f":"'Data Feed'!K91","v":0},{"$f":"'Data Feed'!L91","v":0},{"$f":"'Data Feed'!M91","v":0},{"$f":"'Data Feed'!N91","v":0},{"$f":"'Data Feed'!O91","v":0},{"$f":"'Data Feed'!P91","v":0},{"$f":"'Data Feed'!Q91","v":0},{"$f":"'Data Feed'!R91","v":0},{"$f":"'Data Feed'!S91","v":0},{"$f":"'Data Feed'!T91","v":0},{"$f":"'Data Feed'!U91","v":0},{"$f":"'Data Feed'!V91","v":0},{"$f":"'Data Feed'!W91","v":0},{"$f":"'Data Feed'!X91","v":0},{"$f":"'Data Feed'!Y91","v":0},{"$f":"'Data Feed'!Z91","v":0},{"$f":"'Data Feed'!AA91","v":0},{"$f":"'Data Feed'!AB91","v":0},{"$f":"'Data Feed'!AC91","v":0},{"$f":"'Data Feed'!AD91","v":0},{"$f":"'Data Feed'!AE91","v":0},{"$f":"'Data Feed'!AF91","v":0},{"$f":"'Data Feed'!AG91","v":0},{"$f":"'Data Feed'!AH91","v":0},{"$f":"'Data Feed'!AI91","v":0}]
[{"$f":"B90&\"_\"&(COUNTIF($B$1:B90,B90))","v":"0_87"},{"$f":"'Data Feed'!K92","v":0},{"$f":"'Data Feed'!B92","v":0},{"$f":"'Data Feed'!C92","v":0},{"$f":"'Data Feed'!D92","v":0},{"$f":"'Data Feed'!E92","v":0},{"$f":"'Data Feed'!F92","v":0},{"$f":"'Data Feed'!G92","v":0},{"$f":"'Data Feed'!H92","v":0},{"$f":"'Data Feed'!I92","v":0},{"$f":"'Data Feed'!J92","v":0},{"$f":"'Data Feed'!K92","v":0},{"$f":"'Data Feed'!L92","v":0},{"$f":"'Data Feed'!M92","v":0},{"$f":"'Data Feed'!N92","v":0},{"$f":"'Data Feed'!O92","v":0},{"$f":"'Data Feed'!P92","v":0},{"$f":"'Data Feed'!Q92","v":0},{"$f":"'Data Feed'!R92","v":0},{"$f":"'Data Feed'!S92","v":0},{"$f":"'Data Feed'!T92","v":0},{"$f":"'Data Feed'!U92","v":0},{"$f":"'Data Feed'!V92","v":0},{"$f":"'Data Feed'!W92","v":0},{"$f":"'Data Feed'!X92","v":0},{"$f":"'Data Feed'!Y92","v":0},{"$f":"'Data Feed'!Z92","v":0},{"$f":"'Data Feed'!AA92","v":0},{"$f":"'Data Feed'!AB92","v":0},{"$f":"'Data Feed'!AC92","v":0},{"$f":"'Data Feed'!AD92","v":0},{"$f":"'Data Feed'!AE92","v":0},{"$f":"'Data Feed'!AF92","v":0},{"$f":"'Data Feed'!AG92","v":0},{"$f":"'Data Feed'!AH92","v":0},{"$f":"'Data Feed'!AI92","v":0}]
[{"$f":"B91&\"_\"&(COUNTIF($B$1:B91,B91))","v":"0_88"},{"$f":"'Data Feed'!K93","v":0},{"$f":"'Data Feed'!B93","v":0},{"$f":"'Data Feed'!C93","v":0},{"$f":"'Data Feed'!D93","v":0},{"$f":"'Data Feed'!E93","v":0},{"$f":"'Data Feed'!F93","v":0},{"$f":"'Data Feed'!G93","v":0},{"$f":"'Data Feed'!H93","v":0},{"$f":"'Data Feed'!I93","v":0},{"$f":"'Data Feed'!J93","v":0},{"$f":"'Data Feed'!K93","v":0},{"$f":"'Data Feed'!L93","v":0},{"$f":"'Data Feed'!M93","v":0},{"$f":"'Data Feed'!N93","v":0},{"$f":"'Data Feed'!O93","v":0},{"$f":"'Data Feed'!P93","v":0},{"$f":"'Data Feed'!Q93","v":0},{"$f":"'Data Feed'!R93","v":0},{"$f":"'Data Feed'!S93","v":0},{"$f":"'Data Feed'!T93","v":0},{"$f":"'Data Feed'!U93","v":0},{"$f":"'Data Feed'!V93","v":0},{"$f":"'Data Feed'!W93","v":0},{"$f":"'Data Feed'!X93","v":0},{"$f":"'Data Feed'!Y93","v":0},{"$f":"'Data Feed'!Z93","v":0},{"$f":"'Data Feed'!AA93","v":0},{"$f":"'Data Feed'!AB93","v":0},{"$f":"'Data Feed'!AC93","v":0},{"$f":"'Data Feed'!AD93","v":0},{"$f":"'Data Feed'!AE93","v":0},{"$f":"'Data Feed'!AF93","v":0},{"$f":"'Data Feed'!AG93","v":0},{"$f":"'Data Feed'!AH93","v":0},{"$f":"'Data Feed'!AI93","v":0}]
[{"$f":"B92&\"_\"&(COUNTIF($B$1:B92,B92))","v":"0_89"},{"$f":"'Data Feed'!K94","v":0},{"$f":"'Data Feed'!B94","v":0},{"$f":"'Data Feed'!C94","v":0},{"$f":"'Data Feed'!D94","v":0},{"$f":"'Data Feed'!E94","v":0},{"$f":"'Data Feed'!F94","v":0},{"$f":"'Data Feed'!G94","v":0},{"$f":"'Data Feed'!H94","v":0},{"$f":"'Data Feed'!I94","v":0},{"$f":"'Data Feed'!J94","v":0},{"$f":"'Data Feed'!K94","v":0},{"$f":"'Data Feed'!L94","v":0},{"$f":"'Data Feed'!M94","v":0},{"$f":"'Data Feed'!N94","v":0},{"$f":"'Data Feed'!O94","v":0},{"$f":"'Data Feed'!P94","v":0},{"$f":"'Data Feed'!Q94","v":0},{"$f":"'Data Feed'!R94","v":0},{"$f":"'Data Feed'!S94","v":0},{"$f":"'Data Feed'!T94","v":0},{"$f":"'Data Feed'!U94","v":0},{"$f":"'Data Feed'!V94","v":0},{"$f":"'Data Feed'!W94","v":0},{"$f":"'Data Feed'!X94","v":0},{"$f":"'Data Feed'!Y94","v":0},{"$f":"'Data Feed'!Z94","v":0},{"$f":"'Data Feed'!AA94","v":0},{"$f":"'Data Feed'!AB94","v":0},{"$f":"'Data Feed'!AC94","v":0},{"$f":"'Data Feed'!AD94","v":0},{"$f":"'Data Feed'!AE94","v":0},{"$f":"'Data Feed'!AF94","v":0},{"$f":"'Data Feed'!AG94","v":0},{"$f":"'Data Feed'!AH94","v":0},{"$f":"'Data Feed'!AI94","v":0}]
[{"$f":"B93&\"_\"&(COUNTIF($B$1:B93,B93))","v":"0_90"},{"$f":"'Data Feed'!K95","v":0},{"$f":"'Data Feed'!B95","v":0},{"$f":"'Data Feed'!C95","v":0},{"$f":"'Data Feed'!D95","v":0},{"$f":"'Data Feed'!E95","v":0},{"$f":"'Data Feed'!F95","v":0},{"$f":"'Data Feed'!G95","v":0},{"$f":"'Data Feed'!H95","v":0},{"$f":"'Data Feed'!I95","v":0},{"$f":"'Data Feed'!J95","v":0},{"$f":"'Data Feed'!K95","v":0},{"$f":"'Data Feed'!L95","v":0},{"$f":"'Data Feed'!M95","v":0},{"$f":"'Data Feed'!N95","v":0},{"$f":"'Data Feed'!O95","v":0},{"$f":"'Data Feed'!P95","v":0},{"$f":"'Data Feed'!Q95","v":0},{"$f":"'Data Feed'!R95","v":0},{"$f":"'Data Feed'!S95","v":0},{"$f":"'Data Feed'!T95","v":0},{"$f":"'Data Feed'!U95","v":0},{"$f":"'Data Feed'!V95","v":0},{"$f":"'Data Feed'!W95","v":0},{"$f":"'Data Feed'!X95","v":0},{"$f":"'Data Feed'!Y95","v":0},{"$f":"'Data Feed'!Z95","v":0},{"$f":"'Data Feed'!AA95","v":0},{"$f":"'Data Feed'!AB95","v":0},{"$f":"'Data Feed'!AC95","v":0},{"$f":"'Data Feed'!AD95","v":0},{"$f":"'Data Feed'!AE95","v":0},{"$f":"'Data Feed'!AF95","v":0},{"$f":"'Data Feed'!AG95","v":0},{"$f":"'Data Feed'!AH95","v":0},{"$f":"'Data Feed'!AI95","v":0}]
[{"$f":"B94&\"_\"&(COUNTIF($B$1:B94,B94))","v":"0_91"},{"$f":"'Data Feed'!K96","v":0},{"$f":"'Data Feed'!B96","v":0},{"$f":"'Data Feed'!C96","v":0},{"$f":"'Data Feed'!D96","v":0},{"$f":"'Data Feed'!E96","v":0},{"$f":"'Data Feed'!F96","v":0},{"$f":"'Data Feed'!G96","v":0},{"$f":"'Data Feed'!H96","v":0},{"$f":"'Data Feed'!I96","v":0},{"$f":"'Data Feed'!J96","v":0},{"$f":"'Data Feed'!K96","v":0},{"$f":"'Data Feed'!L96","v":0},{"$f":"'Data Feed'!M96","v":0},{"$f":"'Data Feed'!N96","v":0},{"$f":"'Data Feed'!O96","v":0},{"$f":"'Data Feed'!P96","v":0},{"$f":"'Data Feed'!Q96","v":0},{"$f":"'Data Feed'!R96","v":0},{"$f":"'Data Feed'!S96","v":0},{"$f":"'Data Feed'!T96","v":0},{"$f":"'Data Feed'!U96","v":0},{"$f":"'Data Feed'!V96","v":0},{"$f":"'Data Feed'!W96","v":0},{"$f":"'Data Feed'!X96","v":0},{"$f":"'Data Feed'!Y96","v":0},{"$f":"'Data Feed'!Z96","v":0},{"$f":"'Data Feed'!AA96","v":0},{"$f":"'Data Feed'!AB96","v":0},{"$f":"'Data Feed'!AC96","v":0},{"$f":"'Data Feed'!AD96","v":0},{"$f":"'Data Feed'!AE96","v":0},{"$f":"'Data Feed'!AF96","v":0},{"$f":"'Data Feed'!AG96","v":0},{"$f":"'Data Feed'!AH96","v":0},{"$f":"'Data Feed'!AI96","v":0}]
[{"$f":"B95&\"_\"&(COUNTIF($B$1:B95,B95))","v":"0_92"},{"$f":"'Data Feed'!K97","v":0},{"$f":"'Data Feed'!B97","v":0},{"$f":"'Data Feed'!C97","v":0},{"$f":"'Data Feed'!D97","v":0},{"$f":"'Data Feed'!E97","v":0},{"$f":"'Data Feed'!F97","v":0},{"$f":"'Data Feed'!G97","v":0},{"$f":"'Data Feed'!H97","v":0},{"$f":"'Data Feed'!I97","v":0},{"$f":"'Data Feed'!J97","v":0},{"$f":"'Data Feed'!K97","v":0},{"$f":"'Data Feed'!L97","v":0},{"$f":"'Data Feed'!M97","v":0},{"$f":"'Data Feed'!N97","v":0},{"$f":"'Data Feed'!O97","v":0},{"$f":"'Data Feed'!P97","v":0},{"$f":"'Data Feed'!Q97","v":0},{"$f":"'Data Feed'!R97","v":0},{"$f":"'Data Feed'!S97","v":0},{"$f":"'Data Feed'!T97","v":0},{"$f":"'Data Feed'!U97","v":0},{"$f":"'Data Feed'!V97","v":0},{"$f":"'Data Feed'!W97","v":0},{"$f":"'Data Feed'!X97","v":0},{"$f":"'Data Feed'!Y97","v":0},{"$f":"'Data Feed'!Z97","v":0},{"$f":"'Data Feed'!AA97","v":0},{"$f":"'Data Feed'!AB97","v":0},{"$f":"'Data Feed'!AC97","v":0},{"$f":"'Data Feed'!AD97","v":0},{"$f":"'Data Feed'!AE97","v":0},{"$f":"'Data Feed'!AF97","v":0},{"$f":"'Data Feed'!AG97","v":0},{"$f":"'Data Feed'!AH97","v":0},{"$f":"'Data Feed'!AI97","v":0}]
[{"$f":"B96&\"_\"&(COUNTIF($B$1:B96,B96))","v":"0_93"},{"$f":"'Data Feed'!K98","v":0},{"$f":"'Data Feed'!B98","v":0},{"$f":"'Data Feed'!C98","v":0},{"$f":"'Data Feed'!D98","v":0},{"$f":"'Data Feed'!E98","v":0},{"$f":"'Data Feed'!F98","v":0},{"$f":"'Data Feed'!G98","v":0},{"$f":"'Data Feed'!H98","v":0},{"$f":"'Data Feed'!I98","v":0},{"$f":"'Data Feed'!J98","v":0},{"$f":"'Data Feed'!K98","v":0},{"$f":"'Data Feed'!L98","v":0},{"$f":"'Data Feed'!M98","v":0},{"$f":"'Data Feed'!N98","v":0},{"$f":"'Data Feed'!O98","v":0},{"$f":"'Data Feed'!P98","v":0},{"$f":"'Data Feed'!Q98","v":0},{"$f":"'Data Feed'!R98","v":0},{"$f":"'Data Feed'!S98","v":0},{"$f":"'Data Feed'!T98","v":0},{"$f":"'Data Feed'!U98","v":0},{"$f":"'Data Feed'!V98","v":0},{"$f":"'Data Feed'!W98","v":0},{"$f":"'Data Feed'!X98","v":0},{"$f":"'Data Feed'!Y98","v":0},{"$f":"'Data Feed'!Z98","v":0},{"$f":"'Data Feed'!AA98","v":0},{"$f":"'Data Feed'!AB98","v":0},{"$f":"'Data Feed'!AC98","v":0},{"$f":"'Data Feed'!AD98","v":0},{"$f":"'Data Feed'!AE98","v":0},{"$f":"'Data Feed'!AF98","v":0},{"$f":"'Data Feed'!AG98","v":0},{"$f":"'Data Feed'!AH98","v":0},{"$f":"'Data Feed'!AI98","v":0}]
[{"$f":"B97&\"_\"&(COUNTIF($B$1:B97,B97))","v":"0_94"},{"$f":"'Data Feed'!K99","v":0},{"$f":"'Data Feed'!B99","v":0},{"$f":"'Data Feed'!C99","v":0},{"$f":"'Data Feed'!D99","v":0},{"$f":"'Data Feed'!E99","v":0},{"$f":"'Data Feed'!F99","v":0},{"$f":"'Data Feed'!G99","v":0},{"$f":"'Data Feed'!H99","v":0},{"$f":"'Data Feed'!I99","v":0},{"$f":"'Data Feed'!J99","v":0},{"$f":"'Data Feed'!K99","v":0},{"$f":"'Data Feed'!L99","v":0},{"$f":"'Data Feed'!M99","v":0},{"$f":"'Data Feed'!N99","v":0},{"$f":"'Data Feed'!O99","v":0},{"$f":"'Data Feed'!P99","v":0},{"$f":"'Data Feed'!Q99","v":0},{"$f":"'Data Feed'!R99","v":0},{"$f":"'Data Feed'!S99","v":0},{"$f":"'Data Feed'!T99","v":0},{"$f":"'Data Feed'!U99","v":0},{"$f":"'Data Feed'!V99","v":0},{"$f":"'Data Feed'!W99","v":0},{"$f":"'Data Feed'!X99","v":0},{"$f":"'Data Feed'!Y99","v":0},{"$f":"'Data Feed'!Z99","v":0},{"$f":"'Data Feed'!AA99","v":0},{"$f":"'Data Feed'!AB99","v":0},{"$f":"'Data Feed'!AC99","v":0},{"$f":"'Data Feed'!AD99","v":0},{"$f":"'Data Feed'!AE99","v":0},{"$f":"'Data Feed'!AF99","v":0},{"$f":"'Data Feed'!AG99","v":0},{"$f":"'Data Feed'!AH99","v":0},{"$f":"'Data Feed'!AI99","v":0}]
[{"$f":"B98&\"_\"&(COUNTIF($B$1:B98,B98))","v":"0_95"},{"$f":"'Data Feed'!K100","v":0},{"$f":"'Data Feed'!B100","v":0},{"$f":"'Data Feed'!C100","v":0},{"$f":"'Data Feed'!D100","v":0},{"$f":"'Data Feed'!E100","v":0},{"$f":"'Data Feed'!F100","v":0},{"$f":"'Data Feed'!G100","v":0},{"$f":"'Data Feed'!H100","v":0},{"$f":"'Data Feed'!I100","v":0},{"$f":"'Data Feed'!J100","v":0},{"$f":"'Data Feed'!K100","v":0},{"$f":"'Data Feed'!L100","v":0},{"$f":"'Data Feed'!M100","v":0},{"$f":"'Data Feed'!N100","v":0},{"$f":"'Data Feed'!O100","v":0},{"$f":"'Data Feed'!P100","v":0},{"$f":"'Data Feed'!Q100","v":0},{"$f":"'Data Feed'!R100","v":0},{"$f":"'Data Feed'!S100","v":0},{"$f":"'Data Feed'!T100","v":0},{"$f":"'Data Feed'!U100","v":0},{"$f":"'Data Feed'!V100","v":0},{"$f":"'Data Feed'!W100","v":0},{"$f":"'Data Feed'!X100","v":0},{"$f":"'Data Feed'!Y100","v":0},{"$f":"'Data Feed'!Z100","v":0},{"$f":"'Data Feed'!AA100","v":0},{"$f":"'Data Feed'!AB100","v":0},{"$f":"'Data Feed'!AC100","v":0},{"$f":"'Data Feed'!AD100","v":0},{"$f":"'Data Feed'!AE100","v":0},{"$f":"'Data Feed'!AF100","v":0},{"$f":"'Data Feed'!AG100","v":0},{"$f":"'Data Feed'!AH100","v":0},{"$f":"'Data Feed'!AI100","v":0}]
[{"$f":"B99&\"_\"&(COUNTIF($B$1:B99,B99))","v":"0_96"},{"$f":"'Data Feed'!K101","v":0},{"$f":"'Data Feed'!B101","v":0},{"$f":"'Data Feed'!C101","v":0},{"$f":"'Data Feed'!D101","v":0},{"$f":"'Data Feed'!E101","v":0},{"$f":"'Data Feed'!F101","v":0},{"$f":"'Data Feed'!G101","v":0},{"$f":"'Data Feed'!H101","v":0},{"$f":"'Data Feed'!I101","v":0},{"$f":"'Data Feed'!J101","v":0},{"$f":"'Data Feed'!K101","v":0},{"$f":"'Data Feed'!L101","v":0},{"$f":"'Data Feed'!M101","v":0},{"$f":"'Data Feed'!N101","v":0},{"$f":"'Data Feed'!O101","v":0},{"$f":"'Data Feed'!P101","v":0},{"$f":"'Data Feed'!Q101","v":0},{"$f":"'Data Feed'!R101","v":0},{"$f":"'Data Feed'!S101","v":0},{"$f":"'Data Feed'!T101","v":0},{"$f":"'Data Feed'!U101","v":0},{"$f":"'Data Feed'!V101","v":0},{"$f":"'Data Feed'!W101","v":0},{"$f":"'Data Feed'!X101","v":0},{"$f":"'Data Feed'!Y101","v":0},{"$f":"'Data Feed'!Z101","v":0},{"$f":"'Data Feed'!AA101","v":0},{"$f":"'Data Feed'!AB101","v":0},{"$f":"'Data Feed'!AC101","v":0},{"$f":"'Data Feed'!AD101","v":0},{"$f":"'Data Feed'!AE101","v":0},{"$f":"'Data Feed'!AF101","v":0},{"$f":"'Data Feed'!AG101","v":0},{"$f":"'Data Feed'!AH101","v":0},{"$f":"'Data Feed'!AI101","v":0}]
[{"$f":"B100&\"_\"&(COUNTIF($B$1:B100,B100))","v":"0_97"},{"$f":"'Data Feed'!K102","v":0},{"$f":"'Data Feed'!B102","v":0},{"$f":"'Data Feed'!C102","v":0},{"$f":"'Data Feed'!D102","v":0},{"$f":"'Data Feed'!E102","v":0},{"$f":"'Data Feed'!F102","v":0},{"$f":"'Data Feed'!G102","v":0},{"$f":"'Data Feed'!H102","v":0},{"$f":"'Data Feed'!I102","v":0},{"$f":"'Data Feed'!J102","v":0},{"$f":"'Data Feed'!K102","v":0},{"$f":"'Data Feed'!L102","v":0},{"$f":"'Data Feed'!M102","v":0},{"$f":"'Data Feed'!N102","v":0},{"$f":"'Data Feed'!O102","v":0},{"$f":"'Data Feed'!P102","v":0},{"$f":"'Data Feed'!Q102","v":0},{"$f":"'Data Feed'!R102","v":0},{"$f":"'Data Feed'!S102","v":0},{"$f":"'Data Feed'!T102","v":0},{"$f":"'Data Feed'!U102","v":0},{"$f":"'Data Feed'!V102","v":0},{"$f":"'Data Feed'!W102","v":0},{"$f":"'Data Feed'!X102","v":0},{"$f":"'Data Feed'!Y102","v":0},{"$f":"'Data Feed'!Z102","v":0},{"$f":"'Data Feed'!AA102","v":0},{"$f":"'Data Feed'!AB102","v":0},{"$f":"'Data Feed'!AC102","v":0},{"$f":"'Data Feed'!AD102","v":0},{"$f":"'Data Feed'!AE102","v":0},{"$f":"'Data Feed'!AF102","v":0},{"$f":"'Data Feed'!AG102","v":0},{"$f":"'Data Feed'!AH102","v":0},{"$f":"'Data Feed'!AI102","v":0}]
[{"$f":"B101&\"_\"&(COUNTIF($B$1:B101,B101))","v":"0_98"},{"$f":"'Data Feed'!K103","v":0},{"$f":"'Data Feed'!B103","v":0},{"$f":"'Data Feed'!C103","v":0},{"$f":"'Data Feed'!D103","v":0},{"$f":"'Data Feed'!E103","v":0},{"$f":"'Data Feed'!F103","v":0},{"$f":"'Data Feed'!G103","v":0},{"$f":"'Data Feed'!H103","v":0},{"$f":"'Data Feed'!I103","v":0},{"$f":"'Data Feed'!J103","v":0},{"$f":"'Data Feed'!K103","v":0},{"$f":"'Data Feed'!L103","v":0},{"$f":"'Data Feed'!M103","v":0},{"$f":"'Data Feed'!N103","v":0},{"$f":"'Data Feed'!O103","v":0},{"$f":"'Data Feed'!P103","v":0},{"$f":"'Data Feed'!Q103","v":0},{"$f":"'Data Feed'!R103","v":0},{"$f":"'Data Feed'!S103","v":0},{"$f":"'Data Feed'!T103","v":0},{"$f":"'Data Feed'!U103","v":0},{"$f":"'Data Feed'!V103","v":0},{"$f":"'Data Feed'!W103","v":0},{"$f":"'Data Feed'!X103","v":0},{"$f":"'Data Feed'!Y103","v":0},{"$f":"'Data Feed'!Z103","v":0},{"$f":"'Data Feed'!AA103","v":0},{"$f":"'Data Feed'!AB103","v":0},{"$f":"'Data Feed'!AC103","v":0},{"$f":"'Data Feed'!AD103","v":0},{"$f":"'Data Feed'!AE103","v":0},{"$f":"'Data Feed'!AF103","v":0},{"$f":"'Data Feed'!AG103","v":0},{"$f":"'Data Feed'!AH103","v":0},{"$f":"'Data Feed'!AI103","v":0}]
[{"$f":"B102&\"_\"&(COUNTIF($B$1:B102,B102))","v":"0_99"},{"$f":"'Data Feed'!K104","v":0},{"$f":"'Data Feed'!B104","v":0},{"$f":"'Data Feed'!C104","v":0},{"$f":"'Data Feed'!D104","v":0},{"$f":"'Data Feed'!E104","v":0},{"$f":"'Data Feed'!F104","v":0},{"$f":"'Data Feed'!G104","v":0},{"$f":"'Data Feed'!H104","v":0},{"$f":"'Data Feed'!I104","v":0},{"$f":"'Data Feed'!J104","v":0},{"$f":"'Data Feed'!K104","v":0},{"$f":"'Data Feed'!L104","v":0},{"$f":"'Data Feed'!M104","v":0},{"$f":"'Data Feed'!N104","v":0},{"$f":"'Data Feed'!O104","v":0},{"$f":"'Data Feed'!P104","v":0},{"$f":"'Data Feed'!Q104","v":0},{"$f":"'Data Feed'!R104","v":0},{"$f":"'Data Feed'!S104","v":0},{"$f":"'Data Feed'!T104","v":0},{"$f":"'Data Feed'!U104","v":0},{"$f":"'Data Feed'!V104","v":0},{"$f":"'Data Feed'!W104","v":0},{"$f":"'Data Feed'!X104","v":0},{"$f":"'Data Feed'!Y104","v":0},{"$f":"'Data Feed'!Z104","v":0},{"$f":"'Data Feed'!AA104","v":0},{"$f":"'Data Feed'!AB104","v":0},{"$f":"'Data Feed'!AC104","v":0},{"$f":"'Data Feed'!AD104","v":0},{"$f":"'Data Feed'!AE104","v":0},{"$f":"'Data Feed'!AF104","v":0},{"$f":"'Data Feed'!AG104","v":0},{"$f":"'Data Feed'!AH104","v":0},{"$f":"'Data Feed'!AI104","v":0}]
[{"$f":"B103&\"_\"&(COUNTIF($B$1:B103,B103))","v":"0_100"},{"$f":"'Data Feed'!K105","v":0},{"$f":"'Data Feed'!B105","v":0},{"$f":"'Data Feed'!C105","v":0},{"$f":"'Data Feed'!D105","v":0},{"$f":"'Data Feed'!E105","v":0},{"$f":"'Data Feed'!F105","v":0},{"$f":"'Data Feed'!G105","v":0},{"$f":"'Data Feed'!H105","v":0},{"$f":"'Data Feed'!I105","v":0},{"$f":"'Data Feed'!J105","v":0},{"$f":"'Data Feed'!K105","v":0},{"$f":"'Data Feed'!L105","v":0},{"$f":"'Data Feed'!M105","v":0},{"$f":"'Data Feed'!N105","v":0},{"$f":"'Data Feed'!O105","v":0},{"$f":"'Data Feed'!P105","v":0},{"$f":"'Data Feed'!Q105","v":0},{"$f":"'Data Feed'!R105","v":0},{"$f":"'Data Feed'!S105","v":0},{"$f":"'Data Feed'!T105","v":0},{"$f":"'Data Feed'!U105","v":0},{"$f":"'Data Feed'!V105","v":0},{"$f":"'Data Feed'!W105","v":0},{"$f":"'Data Feed'!X105","v":0},{"$f":"'Data Feed'!Y105","v":0},{"$f":"'Data Feed'!Z105","v":0},{"$f":"'Data Feed'!AA105","v":0},{"$f":"'Data Feed'!AB105","v":0},{"$f":"'Data Feed'!AC105","v":0},{"$f":"'Data Feed'!AD105","v":0},{"$f":"'Data Feed'!AE105","v":0},{"$f":"'Data Feed'!AF105","v":0},{"$f":"'Data Feed'!AG105","v":0},{"$f":"'Data Feed'!AH105","v":0},{"$f":"'Data Feed'!AI105","v":0}]
[{"$f":"B104&\"_\"&(COUNTIF($B$1:B104,B104))","v":"0_101"},{"$f":"'Data Feed'!K106","v":0},{"$f":"'Data Feed'!B106","v":0},{"$f":"'Data Feed'!C106","v":0},{"$f":"'Data Feed'!D106","v":0},{"$f":"'Data Feed'!E106","v":0},{"$f":"'Data Feed'!F106","v":0},{"$f":"'Data Feed'!G106","v":0},{"$f":"'Data Feed'!H106","v":0},{"$f":"'Data Feed'!I106","v":0},{"$f":"'Data Feed'!J106","v":0},{"$f":"'Data Feed'!K106","v":0},{"$f":"'Data Feed'!L106","v":0},{"$f":"'Data Feed'!M106","v":0},{"$f":"'Data Feed'!N106","v":0},{"$f":"'Data Feed'!O106","v":0},{"$f":"'Data Feed'!P106","v":0},{"$f":"'Data Feed'!Q106","v":0},{"$f":"'Data Feed'!R106","v":0},{"$f":"'Data Feed'!S106","v":0},{"$f":"'Data Feed'!T106","v":0},{"$f":"'Data Feed'!U106","v":0},{"$f":"'Data Feed'!V106","v":0},{"$f":"'Data Feed'!W106","v":0},{"$f":"'Data Feed'!X106","v":0},{"$f":"'Data Feed'!Y106","v":0},{"$f":"'Data Feed'!Z106","v":0},{"$f":"'Data Feed'!AA106","v":0},{"$f":"'Data Feed'!AB106","v":0},{"$f":"'Data Feed'!AC106","v":0},{"$f":"'Data Feed'!AD106","v":0},{"$f":"'Data Feed'!AE106","v":0},{"$f":"'Data Feed'!AF106","v":0},{"$f":"'Data Feed'!AG106","v":0},{"$f":"'Data Feed'!AH106","v":0},{"$f":"'Data Feed'!AI106","v":0}]
[{"$f":"B105&\"_\"&(COUNTIF($B$1:B105,B105))","v":"0_102"},{"$f":"'Data Feed'!K107","v":0},{"$f":"'Data Feed'!B107","v":0},{"$f":"'Data Feed'!C107","v":0},{"$f":"'Data Feed'!D107","v":0},{"$f":"'Data Feed'!E107","v":0},{"$f":"'Data Feed'!F107","v":0},{"$f":"'Data Feed'!G107","v":0},{"$f":"'Data Feed'!H107","v":0},{"$f":"'Data Feed'!I107","v":0},{"$f":"'Data Feed'!J107","v":0},{"$f":"'Data Feed'!K107","v":0},{"$f":"'Data Feed'!L107","v":0},{"$f":"'Data Feed'!M107","v":0},{"$f":"'Data Feed'!N107","v":0},{"$f":"'Data Feed'!O107","v":0},{"$f":"'Data Feed'!P107","v":0},{"$f":"'Data Feed'!Q107","v":0},{"$f":"'Data Feed'!R107","v":0},{"$f":"'Data Feed'!S107","v":0},{"$f":"'Data Feed'!T107","v":0},{"$f":"'Data Feed'!U107","v":0},{"$f":"'Data Feed'!V107","v":0},{"$f":"'Data Feed'!W107","v":0},{"$f":"'Data Feed'!X107","v":0},{"$f":"'Data Feed'!Y107","v":0},{"$f":"'Data Feed'!Z107","v":0},{"$f":"'Data Feed'!AA107","v":0},{"$f":"'Data Feed'!AB107","v":0},{"$f":"'Data Feed'!AC107","v":0},{"$f":"'Data Feed'!AD107","v":0},{"$f":"'Data Feed'!AE107","v":0},{"$f":"'Data Feed'!AF107","v":0},{"$f":"'Data Feed'!AG107","v":0},{"$f":"'Data Feed'!AH107","v":0},{"$f":"'Data Feed'!AI107","v":0}]
[{"$f":"B106&\"_\"&(COUNTIF($B$1:B106,B106))","v":"0_103"},{"$f":"'Data Feed'!K108","v":0},{"$f":"'Data Feed'!B108","v":0},{"$f":"'Data Feed'!C108","v":0},{"$f":"'Data Feed'!D108","v":0},{"$f":"'Data Feed'!E108","v":0},{"$f":"'Data Feed'!F108","v":0},{"$f":"'Data Feed'!G108","v":0},{"$f":"'Data Feed'!H108","v":0},{"$f":"'Data Feed'!I108","v":0},{"$f":"'Data Feed'!J108","v":0},{"$f":"'Data Feed'!K108","v":0},{"$f":"'Data Feed'!L108","v":0},{"$f":"'Data Feed'!M108","v":0},{"$f":"'Data Feed'!N108","v":0},{"$f":"'Data Feed'!O108","v":0},{"$f":"'Data Feed'!P108","v":0},{"$f":"'Data Feed'!Q108","v":0},{"$f":"'Data Feed'!R108","v":0},{"$f":"'Data Feed'!S108","v":0},{"$f":"'Data Feed'!T108","v":0},{"$f":"'Data Feed'!U108","v":0},{"$f":"'Data Feed'!V108","v":0},{"$f":"'Data Feed'!W108","v":0},{"$f":"'Data Feed'!X108","v":0},{"$f":"'Data Feed'!Y108","v":0},{"$f":"'Data Feed'!Z108","v":0},{"$f":"'Data Feed'!AA108","v":0},{"$f":"'Data Feed'!AB108","v":0},{"$f":"'Data Feed'!AC108","v":0},{"$f":"'Data Feed'!AD108","v":0},{"$f":"'Data Feed'!AE108","v":0},{"$f":"'Data Feed'!AF108","v":0},{"$f":"'Data Feed'!AG108","v":0},{"$f":"'Data Feed'!AH108","v":0},{"$f":"'Data Feed'!AI108","v":0}]
[{"$f":"B107&\"_\"&(COUNTIF($B$1:B107,B107))","v":"0_104"},{"$f":"'Data Feed'!K109","v":0},{"$f":"'Data Feed'!B109","v":0},{"$f":"'Data Feed'!C109","v":0},{"$f":"'Data Feed'!D109","v":0},{"$f":"'Data Feed'!E109","v":0},{"$f":"'Data Feed'!F109","v":0},{"$f":"'Data Feed'!G109","v":0},{"$f":"'Data Feed'!H109","v":0},{"$f":"'Data Feed'!I109","v":0},{"$f":"'Data Feed'!J109","v":0},{"$f":"'Data Feed'!K109","v":0},{"$f":"'Data Feed'!L109","v":0},{"$f":"'Data Feed'!M109","v":0},{"$f":"'Data Feed'!N109","v":0},{"$f":"'Data Feed'!O109","v":0},{"$f":"'Data Feed'!P109","v":0},{"$f":"'Data Feed'!Q109","v":0},{"$f":"'Data Feed'!R109","v":0},{"$f":"'Data Feed'!S109","v":0},{"$f":"'Data Feed'!T109","v":0},{"$f":"'Data Feed'!U109","v":0},{"$f":"'Data Feed'!V109","v":0},{"$f":"'Data Feed'!W109","v":0},{"$f":"'Data Feed'!X109","v":0},{"$f":"'Data Feed'!Y109","v":0},{"$f":"'Data Feed'!Z109","v":0},{"$f":"'Data Feed'!AA109","v":0},{"$f":"'Data Feed'!AB109","v":0},{"$f":"'Data Feed'!AC109","v":0},{"$f":"'Data Feed'!AD109","v":0},{"$f":"'Data Feed'!AE109","v":0},{"$f":"'Data Feed'!AF109","v":0},{"$f":"'Data Feed'!AG109","v":0},{"$f":"'Data Feed'!AH109","v":0},{"$f":"'Data Feed'!AI109","v":0}]
[{"$f":"B108&\"_\"&(COUNTIF($B$1:B108,B108))","v":"0_105"},{"$f":"'Data Feed'!K110","v":0},{"$f":"'Data Feed'!B110","v":0},{"$f":"'Data Feed'!C110","v":0},{"$f":"'Data Feed'!D110","v":0},{"$f":"'Data Feed'!E110","v":0},{"$f":"'Data Feed'!F110","v":0},{"$f":"'Data Feed'!G110","v":0},{"$f":"'Data Feed'!H110","v":0},{"$f":"'Data Feed'!I110","v":0},{"$f":"'Data Feed'!J110","v":0},{"$f":"'Data Feed'!K110","v":0},{"$f":"'Data Feed'!L110","v":0},{"$f":"'Data Feed'!M110","v":0},{"$f":"'Data Feed'!N110","v":0},{"$f":"'Data Feed'!O110","v":0},{"$f":"'Data Feed'!P110","v":0},{"$f":"'Data Feed'!Q110","v":0},{"$f":"'Data Feed'!R110","v":0},{"$f":"'Data Feed'!S110","v":0},{"$f":"'Data Feed'!T110","v":0},{"$f":"'Data Feed'!U110","v":0},{"$f":"'Data Feed'!V110","v":0},{"$f":"'Data Feed'!W110","v":0},{"$f":"'Data Feed'!X110","v":0},{"$f":"'Data Feed'!Y110","v":0},{"$f":"'Data Feed'!Z110","v":0},{"$f":"'Data Feed'!AA110","v":0},{"$f":"'Data Feed'!AB110","v":0},{"$f":"'Data Feed'!AC110","v":0},{"$f":"'Data Feed'!AD110","v":0},{"$f":"'Data Feed'!AE110","v":0},{"$f":"'Data Feed'!AF110","v":0},{"$f":"'Data Feed'!AG110","v":0},{"$f":"'Data Feed'!AH110","v":0},{"$f":"'Data Feed'!AI110","v":0}]
[{"$f":"B109&\"_\"&(COUNTIF($B$1:B109,B109))","v":"0_106"},{"$f":"'Data Feed'!K111","v":0},{"$f":"'Data Feed'!B111","v":0},{"$f":"'Data Feed'!C111","v":0},{"$f":"'Data Feed'!D111","v":0},{"$f":"'Data Feed'!E111","v":0},{"$f":"'Data Feed'!F111","v":0},{"$f":"'Data Feed'!G111","v":0},{"$f":"'Data Feed'!H111","v":0},{"$f":"'Data Feed'!I111","v":0},{"$f":"'Data Feed'!J111","v":0},{"$f":"'Data Feed'!K111","v":0},{"$f":"'Data Feed'!L111","v":0},{"$f":"'Data Feed'!M111","v":0},{"$f":"'Data Feed'!N111","v":0},{"$f":"'Data Feed'!O111","v":0},{"$f":"'Data Feed'!P111","v":0},{"$f":"'Data Feed'!Q111","v":0},{"$f":"'Data Feed'!R111","v":0},{"$f":"'Data Feed'!S111","v":0},{"$f":"'Data Feed'!T111","v":0},{"$f":"'Data Feed'!U111","v":0},{"$f":"'Data Feed'!V111","v":0},{"$f":"'Data Feed'!W111","v":0},{"$f":"'Data Feed'!X111","v":0},{"$f":"'Data Feed'!Y111","v":0},{"$f":"'Data Feed'!Z111","v":0},{"$f":"'Data Feed'!AA111","v":0},{"$f":"'Data Feed'!AB111","v":0},{"$f":"'Data Feed'!AC111","v":0},{"$f":"'Data Feed'!AD111","v":0},{"$f":"'Data Feed'!AE111","v":0},{"$f":"'Data Feed'!AF111","v":0},{"$f":"'Data Feed'!AG111","v":0},{"$f":"'Data Feed'!AH111","v":0},{"$f":"'Data Feed'!AI111","v":0}]
[{"$f":"B110&\"_\"&(COUNTIF($B$1:B110,B110))","v":"0_107"},{"$f":"'Data Feed'!K112","v":0},{"$f":"'Data Feed'!B112","v":0},{"$f":"'Data Feed'!C112","v":0},{"$f":"'Data Feed'!D112","v":0},{"$f":"'Data Feed'!E112","v":0},{"$f":"'Data Feed'!F112","v":0},{"$f":"'Data Feed'!G112","v":0},{"$f":"'Data Feed'!H112","v":0},{"$f":"'Data Feed'!I112","v":0},{"$f":"'Data Feed'!J112","v":0},{"$f":"'Data Feed'!K112","v":0},{"$f":"'Data Feed'!L112","v":0},{"$f":"'Data Feed'!M112","v":0},{"$f":"'Data Feed'!N112","v":0},{"$f":"'Data Feed'!O112","v":0},{"$f":"'Data Feed'!P112","v":0},{"$f":"'Data Feed'!Q112","v":0},{"$f":"'Data Feed'!R112","v":0},{"$f":"'Data Feed'!S112","v":0},{"$f":"'Data Feed'!T112","v":0},{"$f":"'Data Feed'!U112","v":0},{"$f":"'Data Feed'!V112","v":0},{"$f":"'Data Feed'!W112","v":0},{"$f":"'Data Feed'!X112","v":0},{"$f":"'Data Feed'!Y112","v":0},{"$f":"'Data Feed'!Z112","v":0},{"$f":"'Data Feed'!AA112","v":0},{"$f":"'Data Feed'!AB112","v":0},{"$f":"'Data Feed'!AC112","v":0},{"$f":"'Data Feed'!AD112","v":0},{"$f":"'Data Feed'!AE112","v":0},{"$f":"'Data Feed'!AF112","v":0},{"$f":"'Data Feed'!AG112","v":0},{"$f":"'Data Feed'!AH112","v":0},{"$f":"'Data Feed'!AI112","v":0}]
[{"$f":"B111&\"_\"&(COUNTIF($B$1:B111,B111))","v":"0_108"},{"$f":"'Data Feed'!K113","v":0},{"$f":"'Data Feed'!B113","v":0},{"$f":"'Data Feed'!C113","v":0},{"$f":"'Data Feed'!D113","v":0},{"$f":"'Data Feed'!E113","v":0},{"$f":"'Data Feed'!F113","v":0},{"$f":"'Data Feed'!G113","v":0},{"$f":"'Data Feed'!H113","v":0},{"$f":"'Data Feed'!I113","v":0},{"$f":"'Data Feed'!J113","v":0},{"$f":"'Data Feed'!K113","v":0},{"$f":"'Data Feed'!L113","v":0},{"$f":"'Data Feed'!M113","v":0},{"$f":"'Data Feed'!N113","v":0},{"$f":"'Data Feed'!O113","v":0},{"$f":"'Data Feed'!P113","v":0},{"$f":"'Data Feed'!Q113","v":0},{"$f":"'Data Feed'!R113","v":0},{"$f":"'Data Feed'!S113","v":0},{"$f":"'Data Feed'!T113","v":0},{"$f":"'Data Feed'!U113","v":0},{"$f":"'Data Feed'!V113","v":0},{"$f":"'Data Feed'!W113","v":0},{"$f":"'Data Feed'!X113","v":0},{"$f":"'Data Feed'!Y113","v":0},{"$f":"'Data Feed'!Z113","v":0},{"$f":"'Data Feed'!AA113","v":0},{"$f":"'Data Feed'!AB113","v":0},{"$f":"'Data Feed'!AC113","v":0},{"$f":"'Data Feed'!AD113","v":0},{"$f":"'Data Feed'!AE113","v":0},{"$f":"'Data Feed'!AF113","v":0},{"$f":"'Data Feed'!AG113","v":0},{"$f":"'Data Feed'!AH113","v":0},{"$f":"'Data Feed'!AI113","v":0}]
[{"$f":"B112&\"_\"&(COUNTIF($B$1:B112,B112))","v":"0_109"},{"$f":"'Data Feed'!K114","v":0},{"$f":"'Data Feed'!B114","v":0},{"$f":"'Data Feed'!C114","v":0},{"$f":"'Data Feed'!D114","v":0},{"$f":"'Data Feed'!E114","v":0},{"$f":"'Data Feed'!F114","v":0},{"$f":"'Data Feed'!G114","v":0},{"$f":"'Data Feed'!H114","v":0},{"$f":"'Data Feed'!I114","v":0},{"$f":"'Data Feed'!J114","v":0},{"$f":"'Data Feed'!K114","v":0},{"$f":"'Data Feed'!L114","v":0},{"$f":"'Data Feed'!M114","v":0},{"$f":"'Data Feed'!N114","v":0},{"$f":"'Data Feed'!O114","v":0},{"$f":"'Data Feed'!P114","v":0},{"$f":"'Data Feed'!Q114","v":0},{"$f":"'Data Feed'!R114","v":0},{"$f":"'Data Feed'!S114","v":0},{"$f":"'Data Feed'!T114","v":0},{"$f":"'Data Feed'!U114","v":0},{"$f":"'Data Feed'!V114","v":0},{"$f":"'Data Feed'!W114","v":0},{"$f":"'Data Feed'!X114","v":0},{"$f":"'Data Feed'!Y114","v":0},{"$f":"'Data Feed'!Z114","v":0},{"$f":"'Data Feed'!AA114","v":0},{"$f":"'Data Feed'!AB114","v":0},{"$f":"'Data Feed'!AC114","v":0},{"$f":"'Data Feed'!AD114","v":0},{"$f":"'Data Feed'!AE114","v":0},{"$f":"'Data Feed'!AF114","v":0},{"$f":"'Data Feed'!AG114","v":0},{"$f":"'Data Feed'!AH114","v":0},{"$f":"'Data Feed'!AI114","v":0}]
[{"$f":"B113&\"_\"&(COUNTIF($B$1:B113,B113))","v":"0_110"},{"$f":"'Data Feed'!K115","v":0},{"$f":"'Data Feed'!B115","v":0},{"$f":"'Data Feed'!C115","v":0},{"$f":"'Data Feed'!D115","v":0},{"$f":"'Data Feed'!E115","v":0},{"$f":"'Data Feed'!F115","v":0},{"$f":"'Data Feed'!G115","v":0},{"$f":"'Data Feed'!H115","v":0},{"$f":"'Data Feed'!I115","v":0},{"$f":"'Data Feed'!J115","v":0},{"$f":"'Data Feed'!K115","v":0},{"$f":"'Data Feed'!L115","v":0},{"$f":"'Data Feed'!M115","v":0},{"$f":"'Data Feed'!N115","v":0},{"$f":"'Data Feed'!O115","v":0},{"$f":"'Data Feed'!P115","v":0},{"$f":"'Data Feed'!Q115","v":0},{"$f":"'Data Feed'!R115","v":0},{"$f":"'Data Feed'!S115","v":0},{"$f":"'Data Feed'!T115","v":0},{"$f":"'Data Feed'!U115","v":0},{"$f":"'Data Feed'!V115","v":0},{"$f":"'Data Feed'!W115","v":0},{"$f":"'Data Feed'!X115","v":0},{"$f":"'Data Feed'!Y115","v":0},{"$f":"'Data Feed'!Z115","v":0},{"$f":"'Data Feed'!AA115","v":0},{"$f":"'Data Feed'!AB115","v":0},{"$f":"'Data Feed'!AC115","v":0},{"$f":"'Data Feed'!AD115","v":0},{"$f":"'Data Feed'!AE115","v":0},{"$f":"'Data Feed'!AF115","v":0},{"$f":"'Data Feed'!AG115","v":0},{"$f":"'Data Feed'!AH115","v":0},{"$f":"'Data Feed'!AI115","v":0}]
[{"$f":"B114&\"_\"&(COUNTIF($B$1:B114,B114))","v":"0_111"},{"$f":"'Data Feed'!K116","v":0},{"$f":"'Data Feed'!B116","v":0},{"$f":"'Data Feed'!C116","v":0},{"$f":"'Data Feed'!D116","v":0},{"$f":"'Data Feed'!E116","v":0},{"$f":"'Data Feed'!F116","v":0},{"$f":"'Data Feed'!G116","v":0},{"$f":"'Data Feed'!H116","v":0},{"$f":"'Data Feed'!I116","v":0},{"$f":"'Data Feed'!J116","v":0},{"$f":"'Data Feed'!K116","v":0},{"$f":"'Data Feed'!L116","v":0},{"$f":"'Data Feed'!M116","v":0},{"$f":"'Data Feed'!N116","v":0},{"$f":"'Data Feed'!O116","v":0},{"$f":"'Data Feed'!P116","v":0},{"$f":"'Data Feed'!Q116","v":0},{"$f":"'Data Feed'!R116","v":0},{"$f":"'Data Feed'!S116","v":0},{"$f":"'Data Feed'!T116","v":0},{"$f":"'Data Feed'!U116","v":0},{"$f":"'Data Feed'!V116","v":0},{"$f":"'Data Feed'!W116","v":0},{"$f":"'Data Feed'!X116","v":0},{"$f":"'Data Feed'!Y116","v":0},{"$f":"'Data Feed'!Z116","v":0},{"$f":"'Data Feed'!AA116","v":0},{"$f":"'Data Feed'!AB116","v":0},{"$f":"'Data Feed'!AC116","v":0},{"$f":"'Data Feed'!AD116","v":0},{"$f":"'Data Feed'!AE116","v":0},{"$f":"'Data Feed'!AF116","v":0},{"$f":"'Data Feed'!AG116","v":0},{"$f":"'Data Feed'!AH116","v":0},{"$f":"'Data Feed'!AI116","v":0}]
[{"$f":"B115&\"_\"&(COUNTIF($B$1:B115,B115))","v":"0_112"},{"$f":"'Data Feed'!K117","v":0},{"$f":"'Data Feed'!B117","v":0},{"$f":"'Data Feed'!C117","v":0},{"$f":"'Data Feed'!D117","v":0},{"$f":"'Data Feed'!E117","v":0},{"$f":"'Data Feed'!F117","v":0},{"$f":"'Data Feed'!G117","v":0},{"$f":"'Data Feed'!H117","v":0},{"$f":"'Data Feed'!I117","v":0},{"$f":"'Data Feed'!J117","v":0},{"$f":"'Data Feed'!K117","v":0},{"$f":"'Data Feed'!L117","v":0},{"$f":"'Data Feed'!M117","v":0},{"$f":"'Data Feed'!N117","v":0},{"$f":"'Data Feed'!O117","v":0},{"$f":"'Data Feed'!P117","v":0},{"$f":"'Data Feed'!Q117","v":0},{"$f":"'Data Feed'!R117","v":0},{"$f":"'Data Feed'!S117","v":0},{"$f":"'Data Feed'!T117","v":0},{"$f":"'Data Feed'!U117","v":0},{"$f":"'Data Feed'!V117","v":0},{"$f":"'Data Feed'!W117","v":0},{"$f":"'Data Feed'!X117","v":0},{"$f":"'Data Feed'!Y117","v":0},{"$f":"'Data Feed'!Z117","v":0},{"$f":"'Data Feed'!AA117","v":0},{"$f":"'Data Feed'!AB117","v":0},{"$f":"'Data Feed'!AC117","v":0},{"$f":"'Data Feed'!AD117","v":0},{"$f":"'Data Feed'!AE117","v":0},{"$f":"'Data Feed'!AF117","v":0},{"$f":"'Data Feed'!AG117","v":0},{"$f":"'Data Feed'!AH117","v":0},{"$f":"'Data Feed'!AI117","v":0}]
[{"$f":"B116&\"_\"&(COUNTIF($B$1:B116,B116))","v":"0_113"},{"$f":"'Data Feed'!K118","v":0},{"$f":"'Data Feed'!B118","v":0},{"$f":"'Data Feed'!C118","v":0},{"$f":"'Data Feed'!D118","v":0},{"$f":"'Data Feed'!E118","v":0},{"$f":"'Data Feed'!F118","v":0},{"$f":"'Data Feed'!G118","v":0},{"$f":"'Data Feed'!H118","v":0},{"$f":"'Data Feed'!I118","v":0},{"$f":"'Data Feed'!J118","v":0},{"$f":"'Data Feed'!K118","v":0},{"$f":"'Data Feed'!L118","v":0},{"$f":"'Data Feed'!M118","v":0},{"$f":"'Data Feed'!N118","v":0},{"$f":"'Data Feed'!O118","v":0},{"$f":"'Data Feed'!P118","v":0},{"$f":"'Data Feed'!Q118","v":0},{"$f":"'Data Feed'!R118","v":0},{"$f":"'Data Feed'!S118","v":0},{"$f":"'Data Feed'!T118","v":0},{"$f":"'Data Feed'!U118","v":0},{"$f":"'Data Feed'!V118","v":0},{"$f":"'Data Feed'!W118","v":0},{"$f":"'Data Feed'!X118","v":0},{"$f":"'Data Feed'!Y118","v":0},{"$f":"'Data Feed'!Z118","v":0},{"$f":"'Data Feed'!AA118","v":0},{"$f":"'Data Feed'!AB118","v":0},{"$f":"'Data Feed'!AC118","v":0},{"$f":"'Data Feed'!AD118","v":0},{"$f":"'Data Feed'!AE118","v":0},{"$f":"'Data Feed'!AF118","v":0},{"$f":"'Data Feed'!AG118","v":0},{"$f":"'Data Feed'!AH118","v":0},{"$f":"'Data Feed'!AI118","v":0}]
[{"$f":"B117&\"_\"&(COUNTIF($B$1:B117,B117))","v":"0_114"},{"$f":"'Data Feed'!K119","v":0},{"$f":"'Data Feed'!B119","v":0},{"$f":"'Data Feed'!C119","v":0},{"$f":"'Data Feed'!D119","v":0},{"$f":"'Data Feed'!E119","v":0},{"$f":"'Data Feed'!F119","v":0},{"$f":"'Data Feed'!G119","v":0},{"$f":"'Data Feed'!H119","v":0},{"$f":"'Data Feed'!I119","v":0},{"$f":"'Data Feed'!J119","v":0},{"$f":"'Data Feed'!K119","v":0},{"$f":"'Data Feed'!L119","v":0},{"$f":"'Data Feed'!M119","v":0},{"$f":"'Data Feed'!N119","v":0},{"$f":"'Data Feed'!O119","v":0},{"$f":"'Data Feed'!P119","v":0},{"$f":"'Data Feed'!Q119","v":0},{"$f":"'Data Feed'!R119","v":0},{"$f":"'Data Feed'!S119","v":0},{"$f":"'Data Feed'!T119","v":0},{"$f":"'Data Feed'!U119","v":0},{"$f":"'Data Feed'!V119","v":0},{"$f":"'Data Feed'!W119","v":0},{"$f":"'Data Feed'!X119","v":0},{"$f":"'Data Feed'!Y119","v":0},{"$f":"'Data Feed'!Z119","v":0},{"$f":"'Data Feed'!AA119","v":0},{"$f":"'Data Feed'!AB119","v":0},{"$f":"'Data Feed'!AC119","v":0},{"$f":"'Data Feed'!AD119","v":0},{"$f":"'Data Feed'!AE119","v":0},{"$f":"'Data Feed'!AF119","v":0},{"$f":"'Data Feed'!AG119","v":0},{"$f":"'Data Feed'!AH119","v":0},{"$f":"'Data Feed'!AI119","v":0}]
[{"$f":"B118&\"_\"&(COUNTIF($B$1:B118,B118))","v":"0_115"},{"$f":"'Data Feed'!K120","v":0},{"$f":"'Data Feed'!B120","v":0},{"$f":"'Data Feed'!C120","v":0},{"$f":"'Data Feed'!D120","v":0},{"$f":"'Data Feed'!E120","v":0},{"$f":"'Data Feed'!F120","v":0},{"$f":"'Data Feed'!G120","v":0},{"$f":"'Data Feed'!H120","v":0},{"$f":"'Data Feed'!I120","v":0},{"$f":"'Data Feed'!J120","v":0},{"$f":"'Data Feed'!K120","v":0},{"$f":"'Data Feed'!L120","v":0},{"$f":"'Data Feed'!M120","v":0},{"$f":"'Data Feed'!N120","v":0},{"$f":"'Data Feed'!O120","v":0},{"$f":"'Data Feed'!P120","v":0},{"$f":"'Data Feed'!Q120","v":0},{"$f":"'Data Feed'!R120","v":0},{"$f":"'Data Feed'!S120","v":0},{"$f":"'Data Feed'!T120","v":0},{"$f":"'Data Feed'!U120","v":0},{"$f":"'Data Feed'!V120","v":0},{"$f":"'Data Feed'!W120","v":0},{"$f":"'Data Feed'!X120","v":0},{"$f":"'Data Feed'!Y120","v":0},{"$f":"'Data Feed'!Z120","v":0},{"$f":"'Data Feed'!AA120","v":0},{"$f":"'Data Feed'!AB120","v":0},{"$f":"'Data Feed'!AC120","v":0},{"$f":"'Data Feed'!AD120","v":0},{"$f":"'Data Feed'!AE120","v":0},{"$f":"'Data Feed'!AF120","v":0},{"$f":"'Data Feed'!AG120","v":0},{"$f":"'Data Feed'!AH120","v":0},{"$f":"'Data Feed'!AI120","v":0}]
[{"$f":"B119&\"_\"&(COUNTIF($B$1:B119,B119))","v":"English_2"},{"$f":"'Data Feed'!K121","v":"English"},{"$f":"'Data Feed'!B121","v":"Aditya"},{"$f":"'Data Feed'!C121","v":0},{"$f":"'Data Feed'!D121","v":0},{"$f":"'Data Feed'!E121","v":0},{"$f":"'Data Feed'!F121","v":0},{"$f":"'Data Feed'!G121","v":0},{"$f":"'Data Feed'!H121","v":0},{"$f":"'Data Feed'!I121","v":0},{"$f":"'Data Feed'!J121","v":0},{"$f":"'Data Feed'!K121","v":"English"},{"$f":"'Data Feed'!L121","v":0},{"$f":"'Data Feed'!M121","v":0},{"$f":"'Data Feed'!N121","v":0},{"$f":"'Data Feed'!O121","v":0},{"$f":"'Data Feed'!P121","v":0},{"$f":"'Data Feed'!Q121","v":0},{"$f":"'Data Feed'!R121","v":0},{"$f":"'Data Feed'!S121","v":0},{"$f":"'Data Feed'!T121","v":0},{"$f":"'Data Feed'!U121","v":0},{"$f":"'Data Feed'!V121","v":0},{"$f":"'Data Feed'!W121","v":0},{"$f":"'Data Feed'!X121","v":0},{"$f":"'Data Feed'!Y121","v":0},{"$f":"'Data Feed'!Z121","v":0},{"$f":"'Data Feed'!AA121","v":0},{"$f":"'Data Feed'!AB121","v":0},{"$f":"'Data Feed'!AC121","v":0},{"$f":"'Data Feed'!AD121","v":0},{"$f":"'Data Feed'!AE121","v":0},{"$f":"'Data Feed'!AF121","v":0},{"$f":"'Data Feed'!AG121","v":0},{"$f":"'Data Feed'!AH121","v":0},{"$f":"'Data Feed'!AI121","v":0}]

{"sheet":"gender","index":6,"n_rows":119,"n_cols":36,"rows_kept":119,"hidden":true}
[{"$f":"B1&\"_\"&COUNTIF($B$1:B1,B1)","v":"Male_1"},{"$f":"'Data Feed'!F3","v":"Male"},{"$f":"'Data Feed'!B3","v":"श्री अश्विनी कुमार"},{"$f":"'Data Feed'!C3","v":"श्री मेघराज शर्मा"},{"$f":"'Data Feed'!D3","v":"RJNA201228008021"},{"$f":"'Data Feed'!E3","v":32179},{"$f":"'Data Feed'!F3","v":"Male"},{"$f":"'Data Feed'!G3","v":"Gen"},{"$f":"'Data Feed'!H3","v":"Hindu"},{"$f":"'Data Feed'!I3","v":"No"},{"$f":"'Data Feed'!J3","v":"वरिष्ठ अध्यापक"},{"$f":"'Data Feed'!K3","v":"English"},{"$f":"'Data Feed'!L3","v":"स्थाई"},{"$f":"'Data Feed'!M3","v":"O+"},{"$f":"'Data Feed'!N3","v":"कुचामन सिटी"},{"$f":"'Data Feed'!O3","v":"नागौर"},{"$f":"'Data Feed'!P3","v":9166023711},{"$f":"'Data Feed'!Q3","v":"sspkctakumar@gmail.com"},{"$f":"'Data Feed'!R3","v":610370000000},{"$f":"'Data Feed'!S3","v":"SBI"},{"$f":"'Data Feed'!T3","v":"SBIN0031733"},{"$f":"'Data Feed'!U3","v":40835},{"$f":"'Data Feed'!V3","v":40835},{"$f":"'Data Feed'!W3","v":40866},{"$f":"'Data Feed'!X3","v":40866},{"$f":"'Data Feed'!Y3","v":0},{"$f":"'Data Feed'!Z3","v":40866},{"$f":"'Data Feed'!AA3","v":110000000000},{"$f":"'Data Feed'!AB3","v":6123456},{"$f":"'Data Feed'!AC3","v":123456781234},{"$f":"'Data Feed'!AD3","v":"ZXZXZXD"},{"$f":"'Data Feed'!AE3","v":0},{"$f":"'Data Feed'!AF3","v":"ABCDE1111F"},{"$f":"'Data Feed'!AG3","v":48500},{"$f":"'Data Feed'!AH3","v":"M.A."},{"$f":"'Data Feed'!AI3","v":"M.Ed"}]
[{"$f":"B2&\"_\"&COUNTIF($B$1:B2,B2)","v":"Female_1"},{"$f":"'Data Feed'!F4","v":"Female"},{"$f":"'Data Feed'!B4","v":"श्री प्रकाश कुमार गौड़"},{"$f":"'Data Feed'!C4","v":"श्री राजेंद्र शर्मा"},{"$f":"'Data Feed'!D4","v":"RJNA201228008022"},{"$f":"'Data Feed'!E4","v":32180},{"$f":"'Data Feed'!F4","v":"Female"},{"$f":"'Data Feed'!G4","v":"Gen"},{"$f":"'Data Feed'!H4","v":"Hindu"},{"$f":"'Data Feed'!I4","v":"No"},{"$f":"'Data Feed'!J4","v":"व्याख्याता"},{"$f":"'Data Feed'!K4","v":"History"},{"$f":"'Data Feed'!L4","v":"स्थाई"},{"$f":"'Data Feed'!M4","v":"O+"},{"$f":"'Data Feed'!N4","v":"कुचामन सिटी"},{"$f":"'Data Feed'!O4","v":"नागौर"},{"$f":"'Data Feed'!P4","v":9166023711},{"$f":"'Data Feed'!Q4","v":"sspkctakumar@gmail.com"},{"$f":"'Data Feed'!R4","v":610370000000},{"$f":"'Data Feed'!S4","v":"SBI"},{"$f":"'Data Feed'!T4","v":"SBIN0031733"},{"$f":"'Data Feed'!U4","v":40835},{"$f":"'Data Feed'!V4","v":40835},{"$f":"'Data Feed'!W4","v":40866},{"$f":"'Data Feed'!X4","v":40866},{"$f":"'Data Feed'!Y4","v":0},{"$f":"'Data Feed'!Z4","v":40866},{"$f":"'Data Feed'!AA4","v":110000000000},{"$f":"'Data Feed'!AB4","v":6123456},{"$f":"'Data Feed'!AC4","v":123456781234},{"$f":"'Data Feed'!AD4","v":"ZXZXZXD"},{"$f":"'Data Feed'!AE4","v":0},{"$f":"'Data Feed'!AF4","v":"ABCDE1111F"},{"$f":"'Data Feed'!AG4","v":48500},{"$f":"'Data Feed'!AH4","v":"M.A."},{"$f":"'Data Feed'!AI4","v":"M.Ed"}]
[{"$f":"B3&\"_\"&COUNTIF($B$1:B3,B3)","v":"Male_2"},{"$f":"'Data Feed'!F5","v":"Male"},{"$f":"'Data Feed'!B5","v":"श्री जावेद खान"},{"$f":"'Data Feed'!C5","v":"श्री"},{"$f":"'Data Feed'!D5","v":"RJNA201228008023"},{"$f":"'Data Feed'!E5","v":32181},{"$f":"'Data Feed'!F5","v":"Male"},{"$f":"'Data Feed'!G5","v":"OBC"},{"$f":"'Data Feed'!H5","v":"Muslim"},{"$f":"'Data Feed'!I5","v":"Yes"},{"$f":"'Data Feed'!J5","v":"प्रधानाचार्य"},{"$f":"'Data Feed'!K5","v":"Agriculture"},{"$f":"'Data Feed'!L5","v":"अस्थाई"},{"$f":"'Data Feed'!M5","v":"AB+"},{"$f":"'Data Feed'!N5","v":"कुचामन सिटी"},{"$f":"'Data Feed'!O5","v":"नागौर"},{"$f":"'Data Feed'!P5","v":9166023711},{"$f":"'Data Feed'!Q5","v":"sspkctakumar@gmail.com"},{"$f":"'Data Feed'!R5","v":610370000000},{"$f":"'Data Feed'!S5","v":"SBI"},{"$f":"'Data Feed'!T5","v":"SBIN0031733"},{"$f":"'Data Feed'!U5","v":40835},{"$f":"'Data Feed'!V5","v":40835},{"$f":"'Data Feed'!W5","v":40866},{"$f":"'Data Feed'!X5","v":40866},{"$f":"'Data Feed'!Y5","v":0},{"$f":"'Data Feed'!Z5","v":40866},{"$f":"'Data Feed'!AA5","v":110000000000},{"$f":"'Data Feed'!AB5","v":6123456},{"$f":"'Data Feed'!AC5","v":123456781234},{"$f":"'Data Feed'!AD5","v":"ZXZXZXD"},{"$f":"'Data Feed'!AE5","v":0},{"$f":"'Data Feed'!AF5","v":"ABCDE1111F"},{"$f":"'Data Feed'!AG5","v":48500},{"$f":"'Data Feed'!AH5","v":"M.A."},{"$f":"'Data Feed'!AI5","v":"M.Ed"}]
[{"$f":"B4&\"_\"&COUNTIF($B$1:B4,B4)","v":"0_1"},{"$f":"'Data Feed'!F6","v":0},{"$f":"'Data Feed'!B6","v":0},{"$f":"'Data Feed'!C6","v":0},{"$f":"'Data Feed'!D6","v":0},{"$f":"'Data Feed'!E6","v":0},{"$f":"'Data Feed'!F6","v":0},{"$f":"'Data Feed'!G6","v":0},{"$f":"'Data Feed'!H6","v":0},{"$f":"'Data Feed'!I6","v":0},{"$f":"'Data Feed'!J6","v":0},{"$f":"'Data Feed'!K6","v":0},{"$f":"'Data Feed'!L6","v":0},{"$f":"'Data Feed'!M6","v":0},{"$f":"'Data Feed'!N6","v":0},{"$f":"'Data Feed'!O6","v":0},{"$f":"'Data Feed'!P6","v":0},{"$f":"'Data Feed'!Q6","v":0},{"$f":"'Data Feed'!R6","v":0},{"$f":"'Data Feed'!S6","v":0},{"$f":"'Data Feed'!T6","v":0},{"$f":"'Data Feed'!U6","v":0},{"$f":"'Data Feed'!V6","v":0},{"$f":"'Data Feed'!W6","v":0},{"$f":"'Data Feed'!X6","v":0},{"$f":"'Data Feed'!Y6","v":0},{"$f":"'Data Feed'!Z6","v":0},{"$f":"'Data Feed'!AA6","v":0},{"$f":"'Data Feed'!AB6","v":0},{"$f":"'Data Feed'!AC6","v":0},{"$f":"'Data Feed'!AD6","v":0},{"$f":"'Data Feed'!AE6","v":0},{"$f":"'Data Feed'!AF6","v":0},{"$f":"'Data Feed'!AG6","v":0},{"$f":"'Data Feed'!AH6","v":0},{"$f":"'Data Feed'!AI6","v":0}]
[{"$f":"B5&\"_\"&COUNTIF($B$1:B5,B5)","v":"0_2"},{"$f":"'Data Feed'!F7","v":0},{"$f":"'Data Feed'!B7","v":0},{"$f":"'Data Feed'!C7","v":0},{"$f":"'Data Feed'!D7","v":0},{"$f":"'Data Feed'!E7","v":0},{"$f":"'Data Feed'!F7","v":0},{"$f":"'Data Feed'!G7","v":0},{"$f":"'Data Feed'!H7","v":0},{"$f":"'Data Feed'!I7","v":0},{"$f":"'Data Feed'!J7","v":0},{"$f":"'Data Feed'!K7","v":0},{"$f":"'Data Feed'!L7","v":0},{"$f":"'Data Feed'!M7","v":0},{"$f":"'Data Feed'!N7","v":0},{"$f":"'Data Feed'!O7","v":0},{"$f":"'Data Feed'!P7","v":0},{"$f":"'Data Feed'!Q7","v":0},{"$f":"'Data Feed'!R7","v":0},{"$f":"'Data Feed'!S7","v":0},{"$f":"'Data Feed'!T7","v":0},{"$f":"'Data Feed'!U7","v":0},{"$f":"'Data Feed'!V7","v":0},{"$f":"'Data Feed'!W7","v":0},{"$f":"'Data Feed'!X7","v":0},{"$f":"'Data Feed'!Y7","v":0},{"$f":"'Data Feed'!Z7","v":0},{"$f":"'Data Feed'!AA7","v":0},{"$f":"'Data Feed'!AB7","v":0},{"$f":"'Data Feed'!AC7","v":0},{"$f":"'Data Feed'!AD7","v":0},{"$f":"'Data Feed'!AE7","v":0},{"$f":"'Data Feed'!AF7","v":0},{"$f":"'Data Feed'!AG7","v":0},{"$f":"'Data Feed'!AH7","v":0},{"$f":"'Data Feed'!AI7","v":0}]
[{"$f":"B6&\"_\"&COUNTIF($B$1:B6,B6)","v":"0_3"},{"$f":"'Data Feed'!F8","v":0},{"$f":"'Data Feed'!B8","v":0},{"$f":"'Data Feed'!C8","v":0},{"$f":"'Data Feed'!D8","v":0},{"$f":"'Data Feed'!E8","v":0},{"$f":"'Data Feed'!F8","v":0},{"$f":"'Data Feed'!G8","v":0},{"$f":"'Data Feed'!H8","v":0},{"$f":"'Data Feed'!I8","v":0},{"$f":"'Data Feed'!J8","v":0},{"$f":"'Data Feed'!K8","v":0},{"$f":"'Data Feed'!L8","v":0},{"$f":"'Data Feed'!M8","v":0},{"$f":"'Data Feed'!N8","v":0},{"$f":"'Data Feed'!O8","v":0},{"$f":"'Data Feed'!P8","v":0},{"$f":"'Data Feed'!Q8","v":0},{"$f":"'Data Feed'!R8","v":0},{"$f":"'Data Feed'!S8","v":0},{"$f":"'Data Feed'!T8","v":0},{"$f":"'Data Feed'!U8","v":0},{"$f":"'Data Feed'!V8","v":0},{"$f":"'Data Feed'!W8","v":0},{"$f":"'Data Feed'!X8","v":0},{"$f":"'Data Feed'!Y8","v":0},{"$f":"'Data Feed'!Z8","v":0},{"$f":"'Data Feed'!AA8","v":0},{"$f":"'Data Feed'!AB8","v":0},{"$f":"'Data Feed'!AC8","v":0},{"$f":"'Data Feed'!AD8","v":0},{"$f":"'Data Feed'!AE8","v":0},{"$f":"'Data Feed'!AF8","v":0},{"$f":"'Data Feed'!AG8","v":0},{"$f":"'Data Feed'!AH8","v":0},{"$f":"'Data Feed'!AI8","v":0}]
[{"$f":"B7&\"_\"&COUNTIF($B$1:B7,B7)","v":"0_4"},{"$f":"'Data Feed'!F9","v":0},{"$f":"'Data Feed'!B9","v":0},{"$f":"'Data Feed'!C9","v":0},{"$f":"'Data Feed'!D9","v":0},{"$f":"'Data Feed'!E9","v":0},{"$f":"'Data Feed'!F9","v":0},{"$f":"'Data Feed'!G9","v":0},{"$f":"'Data Feed'!H9","v":0},{"$f":"'Data Feed'!I9","v":0},{"$f":"'Data Feed'!J9","v":0},{"$f":"'Data Feed'!K9","v":0},{"$f":"'Data Feed'!L9","v":0},{"$f":"'Data Feed'!M9","v":0},{"$f":"'Data Feed'!N9","v":0},{"$f":"'Data Feed'!O9","v":0},{"$f":"'Data Feed'!P9","v":0},{"$f":"'Data Feed'!Q9","v":0},{"$f":"'Data Feed'!R9","v":0},{"$f":"'Data Feed'!S9","v":0},{"$f":"'Data Feed'!T9","v":0},{"$f":"'Data Feed'!U9","v":0},{"$f":"'Data Feed'!V9","v":0},{"$f":"'Data Feed'!W9","v":0},{"$f":"'Data Feed'!X9","v":0},{"$f":"'Data Feed'!Y9","v":0},{"$f":"'Data Feed'!Z9","v":0},{"$f":"'Data Feed'!AA9","v":0},{"$f":"'Data Feed'!AB9","v":0},{"$f":"'Data Feed'!AC9","v":0},{"$f":"'Data Feed'!AD9","v":0},{"$f":"'Data Feed'!AE9","v":0},{"$f":"'Data Feed'!AF9","v":0},{"$f":"'Data Feed'!AG9","v":0},{"$f":"'Data Feed'!AH9","v":0},{"$f":"'Data Feed'!AI9","v":0}]
[{"$f":"B8&\"_\"&COUNTIF($B$1:B8,B8)","v":"0_5"},{"$f":"'Data Feed'!F10","v":0},{"$f":"'Data Feed'!B10","v":0},{"$f":"'Data Feed'!C10","v":0},{"$f":"'Data Feed'!D10","v":0},{"$f":"'Data Feed'!E10","v":0},{"$f":"'Data Feed'!F10","v":0},{"$f":"'Data Feed'!G10","v":0},{"$f":"'Data Feed'!H10","v":0},{"$f":"'Data Feed'!I10","v":0},{"$f":"'Data Feed'!J10","v":0},{"$f":"'Data Feed'!K10","v":0},{"$f":"'Data Feed'!L10","v":0},{"$f":"'Data Feed'!M10","v":0},{"$f":"'Data Feed'!N10","v":0},{"$f":"'Data Feed'!O10","v":0},{"$f":"'Data Feed'!P10","v":0},{"$f":"'Data Feed'!Q10","v":0},{"$f":"'Data Feed'!R10","v":0},{"$f":"'Data Feed'!S10","v":0},{"$f":"'Data Feed'!T10","v":0},{"$f":"'Data Feed'!U10","v":0},{"$f":"'Data Feed'!V10","v":0},{"$f":"'Data Feed'!W10","v":0},{"$f":"'Data Feed'!X10","v":0},{"$f":"'Data Feed'!Y10","v":0},{"$f":"'Data Feed'!Z10","v":0},{"$f":"'Data Feed'!AA10","v":0},{"$f":"'Data Feed'!AB10","v":0},{"$f":"'Data Feed'!AC10","v":0},{"$f":"'Data Feed'!AD10","v":0},{"$f":"'Data Feed'!AE10","v":0},{"$f":"'Data Feed'!AF10","v":0},{"$f":"'Data Feed'!AG10","v":0},{"$f":"'Data Feed'!AH10","v":0},{"$f":"'Data Feed'!AI10","v":0}]
[{"$f":"B9&\"_\"&COUNTIF($B$1:B9,B9)","v":"0_6"},{"$f":"'Data Feed'!F11","v":0},{"$f":"'Data Feed'!B11","v":0},{"$f":"'Data Feed'!C11","v":0},{"$f":"'Data Feed'!D11","v":0},{"$f":"'Data Feed'!E11","v":0},{"$f":"'Data Feed'!F11","v":0},{"$f":"'Data Feed'!G11","v":0},{"$f":"'Data Feed'!H11","v":0},{"$f":"'Data Feed'!I11","v":0},{"$f":"'Data Feed'!J11","v":0},{"$f":"'Data Feed'!K11","v":0},{"$f":"'Data Feed'!L11","v":0},{"$f":"'Data Feed'!M11","v":0},{"$f":"'Data Feed'!N11","v":0},{"$f":"'Data Feed'!O11","v":0},{"$f":"'Data Feed'!P11","v":0},{"$f":"'Data Feed'!Q11","v":0},{"$f":"'Data Feed'!R11","v":0},{"$f":"'Data Feed'!S11","v":0},{"$f":"'Data Feed'!T11","v":0},{"$f":"'Data Feed'!U11","v":0},{"$f":"'Data Feed'!V11","v":0},{"$f":"'Data Feed'!W11","v":0},{"$f":"'Data Feed'!X11","v":0},{"$f":"'Data Feed'!Y11","v":0},{"$f":"'Data Feed'!Z11","v":0},{"$f":"'Data Feed'!AA11","v":0},{"$f":"'Data Feed'!AB11","v":0},{"$f":"'Data Feed'!AC11","v":0},{"$f":"'Data Feed'!AD11","v":0},{"$f":"'Data Feed'!AE11","v":0},{"$f":"'Data Feed'!AF11","v":0},{"$f":"'Data Feed'!AG11","v":0},{"$f":"'Data Feed'!AH11","v":0},{"$f":"'Data Feed'!AI11","v":0}]
[{"$f":"B10&\"_\"&COUNTIF($B$1:B10,B10)","v":"0_7"},{"$f":"'Data Feed'!F12","v":0},{"$f":"'Data Feed'!B12","v":0},{"$f":"'Data Feed'!C12","v":0},{"$f":"'Data Feed'!D12","v":0},{"$f":"'Data Feed'!E12","v":0},{"$f":"'Data Feed'!F12","v":0},{"$f":"'Data Feed'!G12","v":0},{"$f":"'Data Feed'!H12","v":0},{"$f":"'Data Feed'!I12","v":0},{"$f":"'Data Feed'!J12","v":0},{"$f":"'Data Feed'!K12","v":0},{"$f":"'Data Feed'!L12","v":0},{"$f":"'Data Feed'!M12","v":0},{"$f":"'Data Feed'!N12","v":0},{"$f":"'Data Feed'!O12","v":0},{"$f":"'Data Feed'!P12","v":0},{"$f":"'Data Feed'!Q12","v":0},{"$f":"'Data Feed'!R12","v":0},{"$f":"'Data Feed'!S12","v":0},{"$f":"'Data Feed'!T12","v":0},{"$f":"'Data Feed'!U12","v":0},{"$f":"'Data Feed'!V12","v":0},{"$f":"'Data Feed'!W12","v":0},{"$f":"'Data Feed'!X12","v":0},{"$f":"'Data Feed'!Y12","v":0},{"$f":"'Data Feed'!Z12","v":0},{"$f":"'Data Feed'!AA12","v":0},{"$f":"'Data Feed'!AB12","v":0},{"$f":"'Data Feed'!AC12","v":0},{"$f":"'Data Feed'!AD12","v":0},{"$f":"'Data Feed'!AE12","v":0},{"$f":"'Data Feed'!AF12","v":0},{"$f":"'Data Feed'!AG12","v":0},{"$f":"'Data Feed'!AH12","v":0},{"$f":"'Data Feed'!AI12","v":0}]
[{"$f":"B11&\"_\"&COUNTIF($B$1:B11,B11)","v":"0_8"},{"$f":"'Data Feed'!F13","v":0},{"$f":"'Data Feed'!B13","v":0},{"$f":"'Data Feed'!C13","v":0},{"$f":"'Data Feed'!D13","v":0},{"$f":"'Data Feed'!E13","v":0},{"$f":"'Data Feed'!F13","v":0},{"$f":"'Data Feed'!G13","v":0},{"$f":"'Data Feed'!H13","v":0},{"$f":"'Data Feed'!I13","v":0},{"$f":"'Data Feed'!J13","v":0},{"$f":"'Data Feed'!K13","v":0},{"$f":"'Data Feed'!L13","v":0},{"$f":"'Data Feed'!M13","v":0},{"$f":"'Data Feed'!N13","v":0},{"$f":"'Data Feed'!O13","v":0},{"$f":"'Data Feed'!P13","v":0},{"$f":"'Data Feed'!Q13","v":0},{"$f":"'Data Feed'!R13","v":0},{"$f":"'Data Feed'!S13","v":0},{"$f":"'Data Feed'!T13","v":0},{"$f":"'Data Feed'!U13","v":0},{"$f":"'Data Feed'!V13","v":0},{"$f":"'Data Feed'!W13","v":0},{"$f":"'Data Feed'!X13","v":0},{"$f":"'Data Feed'!Y13","v":0},{"$f":"'Data Feed'!Z13","v":0},{"$f":"'Data Feed'!AA13","v":0},{"$f":"'Data Feed'!AB13","v":0},{"$f":"'Data Feed'!AC13","v":0},{"$f":"'Data Feed'!AD13","v":0},{"$f":"'Data Feed'!AE13","v":0},{"$f":"'Data Feed'!AF13","v":0},{"$f":"'Data Feed'!AG13","v":0},{"$f":"'Data Feed'!AH13","v":0},{"$f":"'Data Feed'!AI13","v":0}]
[{"$f":"B12&\"_\"&COUNTIF($B$1:B12,B12)","v":"0_9"},{"$f":"'Data Feed'!F14","v":0},{"$f":"'Data Feed'!B14","v":0},{"$f":"'Data Feed'!C14","v":0},{"$f":"'Data Feed'!D14","v":0},{"$f":"'Data Feed'!E14","v":0},{"$f":"'Data Feed'!F14","v":0},{"$f":"'Data Feed'!G14","v":0},{"$f":"'Data Feed'!H14","v":0},{"$f":"'Data Feed'!I14","v":0},{"$f":"'Data Feed'!J14","v":0},{"$f":"'Data Feed'!K14","v":0},{"$f":"'Data Feed'!L14","v":0},{"$f":"'Data Feed'!M14","v":0},{"$f":"'Data Feed'!N14","v":0},{"$f":"'Data Feed'!O14","v":0},{"$f":"'Data Feed'!P14","v":0},{"$f":"'Data Feed'!Q14","v":0},{"$f":"'Data Feed'!R14","v":0},{"$f":"'Data Feed'!S14","v":0},{"$f":"'Data Feed'!T14","v":0},{"$f":"'Data Feed'!U14","v":0},{"$f":"'Data Feed'!V14","v":0},{"$f":"'Data Feed'!W14","v":0},{"$f":"'Data Feed'!X14","v":0},{"$f":"'Data Feed'!Y14","v":0},{"$f":"'Data Feed'!Z14","v":0},{"$f":"'Data Feed'!AA14","v":0},{"$f":"'Data Feed'!AB14","v":0},{"$f":"'Data Feed'!AC14","v":0},{"$f":"'Data Feed'!AD14","v":0},{"$f":"'Data Feed'!AE14","v":0},{"$f":"'Data Feed'!AF14","v":0},{"$f":"'Data Feed'!AG14","v":0},{"$f":"'Data Feed'!AH14","v":0},{"$f":"'Data Feed'!AI14","v":0}]
[{"$f":"B13&\"_\"&COUNTIF($B$1:B13,B13)","v":"0_10"},{"$f":"'Data Feed'!F15","v":0},{"$f":"'Data Feed'!B15","v":0},{"$f":"'Data Feed'!C15","v":0},{"$f":"'Data Feed'!D15","v":0},{"$f":"'Data Feed'!E15","v":0},{"$f":"'Data Feed'!F15","v":0},{"$f":"'Data Feed'!G15","v":0},{"$f":"'Data Feed'!H15","v":0},{"$f":"'Data Feed'!I15","v":0},{"$f":"'Data Feed'!J15","v":0},{"$f":"'Data Feed'!K15","v":0},{"$f":"'Data Feed'!L15","v":0},{"$f":"'Data Feed'!M15","v":0},{"$f":"'Data Feed'!N15","v":0},{"$f":"'Data Feed'!O15","v":0},{"$f":"'Data Feed'!P15","v":0},{"$f":"'Data Feed'!Q15","v":0},{"$f":"'Data Feed'!R15","v":0},{"$f":"'Data Feed'!S15","v":0},{"$f":"'Data Feed'!T15","v":0},{"$f":"'Data Feed'!U15","v":0},{"$f":"'Data Feed'!V15","v":0},{"$f":"'Data Feed'!W15","v":0},{"$f":"'Data Feed'!X15","v":0},{"$f":"'Data Feed'!Y15","v":0},{"$f":"'Data Feed'!Z15","v":0},{"$f":"'Data Feed'!AA15","v":0},{"$f":"'Data Feed'!AB15","v":0},{"$f":"'Data Feed'!AC15","v":0},{"$f":"'Data Feed'!AD15","v":0},{"$f":"'Data Feed'!AE15","v":0},{"$f":"'Data Feed'!AF15","v":0},{"$f":"'Data Feed'!AG15","v":0},{"$f":"'Data Feed'!AH15","v":0},{"$f":"'Data Feed'!AI15","v":0}]
[{"$f":"B14&\"_\"&COUNTIF($B$1:B14,B14)","v":"0_11"},{"$f":"'Data Feed'!F16","v":0},{"$f":"'Data Feed'!B16","v":0},{"$f":"'Data Feed'!C16","v":0},{"$f":"'Data Feed'!D16","v":0},{"$f":"'Data Feed'!E16","v":0},{"$f":"'Data Feed'!F16","v":0},{"$f":"'Data Feed'!G16","v":0},{"$f":"'Data Feed'!H16","v":0},{"$f":"'Data Feed'!I16","v":0},{"$f":"'Data Feed'!J16","v":0},{"$f":"'Data Feed'!K16","v":0},{"$f":"'Data Feed'!L16","v":0},{"$f":"'Data Feed'!M16","v":0},{"$f":"'Data Feed'!N16","v":0},{"$f":"'Data Feed'!O16","v":0},{"$f":"'Data Feed'!P16","v":0},{"$f":"'Data Feed'!Q16","v":0},{"$f":"'Data Feed'!R16","v":0},{"$f":"'Data Feed'!S16","v":0},{"$f":"'Data Feed'!T16","v":0},{"$f":"'Data Feed'!U16","v":0},{"$f":"'Data Feed'!V16","v":0},{"$f":"'Data Feed'!W16","v":0},{"$f":"'Data Feed'!X16","v":0},{"$f":"'Data Feed'!Y16","v":0},{"$f":"'Data Feed'!Z16","v":0},{"$f":"'Data Feed'!AA16","v":0},{"$f":"'Data Feed'!AB16","v":0},{"$f":"'Data Feed'!AC16","v":0},{"$f":"'Data Feed'!AD16","v":0},{"$f":"'Data Feed'!AE16","v":0},{"$f":"'Data Feed'!AF16","v":0},{"$f":"'Data Feed'!AG16","v":0},{"$f":"'Data Feed'!AH16","v":0},{"$f":"'Data Feed'!AI16","v":0}]
[{"$f":"B15&\"_\"&COUNTIF($B$1:B15,B15)","v":"0_12"},{"$f":"'Data Feed'!F17","v":0},{"$f":"'Data Feed'!B17","v":0},{"$f":"'Data Feed'!C17","v":0},{"$f":"'Data Feed'!D17","v":0},{"$f":"'Data Feed'!E17","v":0},{"$f":"'Data Feed'!F17","v":0},{"$f":"'Data Feed'!G17","v":0},{"$f":"'Data Feed'!H17","v":0},{"$f":"'Data Feed'!I17","v":0},{"$f":"'Data Feed'!J17","v":0},{"$f":"'Data Feed'!K17","v":0},{"$f":"'Data Feed'!L17","v":0},{"$f":"'Data Feed'!M17","v":0},{"$f":"'Data Feed'!N17","v":0},{"$f":"'Data Feed'!O17","v":0},{"$f":"'Data Feed'!P17","v":0},{"$f":"'Data Feed'!Q17","v":0},{"$f":"'Data Feed'!R17","v":0},{"$f":"'Data Feed'!S17","v":0},{"$f":"'Data Feed'!T17","v":0},{"$f":"'Data Feed'!U17","v":0},{"$f":"'Data Feed'!V17","v":0},{"$f":"'Data Feed'!W17","v":0},{"$f":"'Data Feed'!X17","v":0},{"$f":"'Data Feed'!Y17","v":0},{"$f":"'Data Feed'!Z17","v":0},{"$f":"'Data Feed'!AA17","v":0},{"$f":"'Data Feed'!AB17","v":0},{"$f":"'Data Feed'!AC17","v":0},{"$f":"'Data Feed'!AD17","v":0},{"$f":"'Data Feed'!AE17","v":0},{"$f":"'Data Feed'!AF17","v":0},{"$f":"'Data Feed'!AG17","v":0},{"$f":"'Data Feed'!AH17","v":0},{"$f":"'Data Feed'!AI17","v":0}]
[{"$f":"B16&\"_\"&COUNTIF($B$1:B16,B16)","v":"0_13"},{"$f":"'Data Feed'!F18","v":0},{"$f":"'Data Feed'!B18","v":0},{"$f":"'Data Feed'!C18","v":0},{"$f":"'Data Feed'!D18","v":0},{"$f":"'Data Feed'!E18","v":0},{"$f":"'Data Feed'!F18","v":0},{"$f":"'Data Feed'!G18","v":0},{"$f":"'Data Feed'!H18","v":0},{"$f":"'Data Feed'!I18","v":0},{"$f":"'Data Feed'!J18","v":0},{"$f":"'Data Feed'!K18","v":0},{"$f":"'Data Feed'!L18","v":0},{"$f":"'Data Feed'!M18","v":0},{"$f":"'Data Feed'!N18","v":0},{"$f":"'Data Feed'!O18","v":0},{"$f":"'Data Feed'!P18","v":0},{"$f":"'Data Feed'!Q18","v":0},{"$f":"'Data Feed'!R18","v":0},{"$f":"'Data Feed'!S18","v":0},{"$f":"'Data Feed'!T18","v":0},{"$f":"'Data Feed'!U18","v":0},{"$f":"'Data Feed'!V18","v":0},{"$f":"'Data Feed'!W18","v":0},{"$f":"'Data Feed'!X18","v":0},{"$f":"'Data Feed'!Y18","v":0},{"$f":"'Data Feed'!Z18","v":0},{"$f":"'Data Feed'!AA18","v":0},{"$f":"'Data Feed'!AB18","v":0},{"$f":"'Data Feed'!AC18","v":0},{"$f":"'Data Feed'!AD18","v":0},{"$f":"'Data Feed'!AE18","v":0},{"$f":"'Data Feed'!AF18","v":0},{"$f":"'Data Feed'!AG18","v":0},{"$f":"'Data Feed'!AH18","v":0},{"$f":"'Data Feed'!AI18","v":0}]
[{"$f":"B17&\"_\"&COUNTIF($B$1:B17,B17)","v":"0_14"},{"$f":"'Data Feed'!F19","v":0},{"$f":"'Data Feed'!B19","v":0},{"$f":"'Data Feed'!C19","v":0},{"$f":"'Data Feed'!D19","v":0},{"$f":"'Data Feed'!E19","v":0},{"$f":"'Data Feed'!F19","v":0},{"$f":"'Data Feed'!G19","v":0},{"$f":"'Data Feed'!H19","v":0},{"$f":"'Data Feed'!I19","v":0},{"$f":"'Data Feed'!J19","v":0},{"$f":"'Data Feed'!K19","v":0},{"$f":"'Data Feed'!L19","v":0},{"$f":"'Data Feed'!M19","v":0},{"$f":"'Data Feed'!N19","v":0},{"$f":"'Data Feed'!O19","v":0},{"$f":"'Data Feed'!P19","v":0},{"$f":"'Data Feed'!Q19","v":0},{"$f":"'Data Feed'!R19","v":0},{"$f":"'Data Feed'!S19","v":0},{"$f":"'Data Feed'!T19","v":0},{"$f":"'Data Feed'!U19","v":0},{"$f":"'Data Feed'!V19","v":0},{"$f":"'Data Feed'!W19","v":0},{"$f":"'Data Feed'!X19","v":0},{"$f":"'Data Feed'!Y19","v":0},{"$f":"'Data Feed'!Z19","v":0},{"$f":"'Data Feed'!AA19","v":0},{"$f":"'Data Feed'!AB19","v":0},{"$f":"'Data Feed'!AC19","v":0},{"$f":"'Data Feed'!AD19","v":0},{"$f":"'Data Feed'!AE19","v":0},{"$f":"'Data Feed'!AF19","v":0},{"$f":"'Data Feed'!AG19","v":0},{"$f":"'Data Feed'!AH19","v":0},{"$f":"'Data Feed'!AI19","v":0}]
[{"$f":"B18&\"_\"&COUNTIF($B$1:B18,B18)","v":"0_15"},{"$f":"'Data Feed'!F20","v":0},{"$f":"'Data Feed'!B20","v":0},{"$f":"'Data Feed'!C20","v":0},{"$f":"'Data Feed'!D20","v":0},{"$f":"'Data Feed'!E20","v":0},{"$f":"'Data Feed'!F20","v":0},{"$f":"'Data Feed'!G20","v":0},{"$f":"'Data Feed'!H20","v":0},{"$f":"'Data Feed'!I20","v":0},{"$f":"'Data Feed'!J20","v":0},{"$f":"'Data Feed'!K20","v":0},{"$f":"'Data Feed'!L20","v":0},{"$f":"'Data Feed'!M20","v":0},{"$f":"'Data Feed'!N20","v":0},{"$f":"'Data Feed'!O20","v":0},{"$f":"'Data Feed'!P20","v":0},{"$f":"'Data Feed'!Q20","v":0},{"$f":"'Data Feed'!R20","v":0},{"$f":"'Data Feed'!S20","v":0},{"$f":"'Data Feed'!T20","v":0},{"$f":"'Data Feed'!U20","v":0},{"$f":"'Data Feed'!V20","v":0},{"$f":"'Data Feed'!W20","v":0},{"$f":"'Data Feed'!X20","v":0},{"$f":"'Data Feed'!Y20","v":0},{"$f":"'Data Feed'!Z20","v":0},{"$f":"'Data Feed'!AA20","v":0},{"$f":"'Data Feed'!AB20","v":0},{"$f":"'Data Feed'!AC20","v":0},{"$f":"'Data Feed'!AD20","v":0},{"$f":"'Data Feed'!AE20","v":0},{"$f":"'Data Feed'!AF20","v":0},{"$f":"'Data Feed'!AG20","v":0},{"$f":"'Data Feed'!AH20","v":0},{"$f":"'Data Feed'!AI20","v":0}]
[{"$f":"B19&\"_\"&COUNTIF($B$1:B19,B19)","v":"0_16"},{"$f":"'Data Feed'!F21","v":0},{"$f":"'Data Feed'!B21","v":0},{"$f":"'Data Feed'!C21","v":0},{"$f":"'Data Feed'!D21","v":0},{"$f":"'Data Feed'!E21","v":0},{"$f":"'Data Feed'!F21","v":0},{"$f":"'Data Feed'!G21","v":0},{"$f":"'Data Feed'!H21","v":0},{"$f":"'Data Feed'!I21","v":0},{"$f":"'Data Feed'!J21","v":0},{"$f":"'Data Feed'!K21","v":0},{"$f":"'Data Feed'!L21","v":0},{"$f":"'Data Feed'!M21","v":0},{"$f":"'Data Feed'!N21","v":0},{"$f":"'Data Feed'!O21","v":0},{"$f":"'Data Feed'!P21","v":0},{"$f":"'Data Feed'!Q21","v":0},{"$f":"'Data Feed'!R21","v":0},{"$f":"'Data Feed'!S21","v":0},{"$f":"'Data Feed'!T21","v":0},{"$f":"'Data Feed'!U21","v":0},{"$f":"'Data Feed'!V21","v":0},{"$f":"'Data Feed'!W21","v":0},{"$f":"'Data Feed'!X21","v":0},{"$f":"'Data Feed'!Y21","v":0},{"$f":"'Data Feed'!Z21","v":0},{"$f":"'Data Feed'!AA21","v":0},{"$f":"'Data Feed'!AB21","v":0},{"$f":"'Data Feed'!AC21","v":0},{"$f":"'Data Feed'!AD21","v":0},{"$f":"'Data Feed'!AE21","v":0},{"$f":"'Data Feed'!AF21","v":0},{"$f":"'Data Feed'!AG21","v":0},{"$f":"'Data Feed'!AH21","v":0},{"$f":"'Data Feed'!AI21","v":0}]
[{"$f":"B20&\"_\"&COUNTIF($B$1:B20,B20)","v":"0_17"},{"$f":"'Data Feed'!F22","v":0},{"$f":"'Data Feed'!B22","v":0},{"$f":"'Data Feed'!C22","v":0},{"$f":"'Data Feed'!D22","v":0},{"$f":"'Data Feed'!E22","v":0},{"$f":"'Data Feed'!F22","v":0},{"$f":"'Data Feed'!G22","v":0},{"$f":"'Data Feed'!H22","v":0},{"$f":"'Data Feed'!I22","v":0},{"$f":"'Data Feed'!J22","v":0},{"$f":"'Data Feed'!K22","v":0},{"$f":"'Data Feed'!L22","v":0},{"$f":"'Data Feed'!M22","v":0},{"$f":"'Data Feed'!N22","v":0},{"$f":"'Data Feed'!O22","v":0},{"$f":"'Data Feed'!P22","v":0},{"$f":"'Data Feed'!Q22","v":0},{"$f":"'Data Feed'!R22","v":0},{"$f":"'Data Feed'!S22","v":0},{"$f":"'Data Feed'!T22","v":0},{"$f":"'Data Feed'!U22","v":0},{"$f":"'Data Feed'!V22","v":0},{"$f":"'Data Feed'!W22","v":0},{"$f":"'Data Feed'!X22","v":0},{"$f":"'Data Feed'!Y22","v":0},{"$f":"'Data Feed'!Z22","v":0},{"$f":"'Data Feed'!AA22","v":0},{"$f":"'Data Feed'!AB22","v":0},{"$f":"'Data Feed'!AC22","v":0},{"$f":"'Data Feed'!AD22","v":0},{"$f":"'Data Feed'!AE22","v":0},{"$f":"'Data Feed'!AF22","v":0},{"$f":"'Data Feed'!AG22","v":0},{"$f":"'Data Feed'!AH22","v":0},{"$f":"'Data Feed'!AI22","v":0}]
[{"$f":"B21&\"_\"&COUNTIF($B$1:B21,B21)","v":"0_18"},{"$f":"'Data Feed'!F23","v":0},{"$f":"'Data Feed'!B23","v":0},{"$f":"'Data Feed'!C23","v":0},{"$f":"'Data Feed'!D23","v":0},{"$f":"'Data Feed'!E23","v":0},{"$f":"'Data Feed'!F23","v":0},{"$f":"'Data Feed'!G23","v":0},{"$f":"'Data Feed'!H23","v":0},{"$f":"'Data Feed'!I23","v":0},{"$f":"'Data Feed'!J23","v":0},{"$f":"'Data Feed'!K23","v":0},{"$f":"'Data Feed'!L23","v":0},{"$f":"'Data Feed'!M23","v":0},{"$f":"'Data Feed'!N23","v":0},{"$f":"'Data Feed'!O23","v":0},{"$f":"'Data Feed'!P23","v":0},{"$f":"'Data Feed'!Q23","v":0},{"$f":"'Data Feed'!R23","v":0},{"$f":"'Data Feed'!S23","v":0},{"$f":"'Data Feed'!T23","v":0},{"$f":"'Data Feed'!U23","v":0},{"$f":"'Data Feed'!V23","v":0},{"$f":"'Data Feed'!W23","v":0},{"$f":"'Data Feed'!X23","v":0},{"$f":"'Data Feed'!Y23","v":0},{"$f":"'Data Feed'!Z23","v":0},{"$f":"'Data Feed'!AA23","v":0},{"$f":"'Data Feed'!AB23","v":0},{"$f":"'Data Feed'!AC23","v":0},{"$f":"'Data Feed'!AD23","v":0},{"$f":"'Data Feed'!AE23","v":0},{"$f":"'Data Feed'!AF23","v":0},{"$f":"'Data Feed'!AG23","v":0},{"$f":"'Data Feed'!AH23","v":0},{"$f":"'Data Feed'!AI23","v":0}]
[{"$f":"B22&\"_\"&COUNTIF($B$1:B22,B22)","v":"0_19"},{"$f":"'Data Feed'!F24","v":0},{"$f":"'Data Feed'!B24","v":0},{"$f":"'Data Feed'!C24","v":0},{"$f":"'Data Feed'!D24","v":0},{"$f":"'Data Feed'!E24","v":0},{"$f":"'Data Feed'!F24","v":0},{"$f":"'Data Feed'!G24","v":0},{"$f":"'Data Feed'!H24","v":0},{"$f":"'Data Feed'!I24","v":0},{"$f":"'Data Feed'!J24","v":0},{"$f":"'Data Feed'!K24","v":0},{"$f":"'Data Feed'!L24","v":0},{"$f":"'Data Feed'!M24","v":0},{"$f":"'Data Feed'!N24","v":0},{"$f":"'Data Feed'!O24","v":0},{"$f":"'Data Feed'!P24","v":0},{"$f":"'Data Feed'!Q24","v":0},{"$f":"'Data Feed'!R24","v":0},{"$f":"'Data Feed'!S24","v":0},{"$f":"'Data Feed'!T24","v":0},{"$f":"'Data Feed'!U24","v":0},{"$f":"'Data Feed'!V24","v":0},{"$f":"'Data Feed'!W24","v":0},{"$f":"'Data Feed'!X24","v":0},{"$f":"'Data Feed'!Y24","v":0},{"$f":"'Data Feed'!Z24","v":0},{"$f":"'Data Feed'!AA24","v":0},{"$f":"'Data Feed'!AB24","v":0},{"$f":"'Data Feed'!AC24","v":0},{"$f":"'Data Feed'!AD24","v":0},{"$f":"'Data Feed'!AE24","v":0},{"$f":"'Data Feed'!AF24","v":0},{"$f":"'Data Feed'!AG24","v":0},{"$f":"'Data Feed'!AH24","v":0},{"$f":"'Data Feed'!AI24","v":0}]
[{"$f":"B23&\"_\"&COUNTIF($B$1:B23,B23)","v":"0_20"},{"$f":"'Data Feed'!F25","v":0},{"$f":"'Data Feed'!B25","v":0},{"$f":"'Data Feed'!C25","v":0},{"$f":"'Data Feed'!D25","v":0},{"$f":"'Data Feed'!E25","v":0},{"$f":"'Data Feed'!F25","v":0},{"$f":"'Data Feed'!G25","v":0},{"$f":"'Data Feed'!H25","v":0},{"$f":"'Data Feed'!I25","v":0},{"$f":"'Data Feed'!J25","v":0},{"$f":"'Data Feed'!K25","v":0},{"$f":"'Data Feed'!L25","v":0},{"$f":"'Data Feed'!M25","v":0},{"$f":"'Data Feed'!N25","v":0},{"$f":"'Data Feed'!O25","v":0},{"$f":"'Data Feed'!P25","v":0},{"$f":"'Data Feed'!Q25","v":0},{"$f":"'Data Feed'!R25","v":0},{"$f":"'Data Feed'!S25","v":0},{"$f":"'Data Feed'!T25","v":0},{"$f":"'Data Feed'!U25","v":0},{"$f":"'Data Feed'!V25","v":0},{"$f":"'Data Feed'!W25","v":0},{"$f":"'Data Feed'!X25","v":0},{"$f":"'Data Feed'!Y25","v":0},{"$f":"'Data Feed'!Z25","v":0},{"$f":"'Data Feed'!AA25","v":0},{"$f":"'Data Feed'!AB25","v":0},{"$f":"'Data Feed'!AC25","v":0},{"$f":"'Data Feed'!AD25","v":0},{"$f":"'Data Feed'!AE25","v":0},{"$f":"'Data Feed'!AF25","v":0},{"$f":"'Data Feed'!AG25","v":0},{"$f":"'Data Feed'!AH25","v":0},{"$f":"'Data Feed'!AI25","v":0}]
[{"$f":"B24&\"_\"&COUNTIF($B$1:B24,B24)","v":"0_21"},{"$f":"'Data Feed'!F26","v":0},{"$f":"'Data Feed'!B26","v":0},{"$f":"'Data Feed'!C26","v":0},{"$f":"'Data Feed'!D26","v":0},{"$f":"'Data Feed'!E26","v":0},{"$f":"'Data Feed'!F26","v":0},{"$f":"'Data Feed'!G26","v":0},{"$f":"'Data Feed'!H26","v":0},{"$f":"'Data Feed'!I26","v":0},{"$f":"'Data Feed'!J26","v":0},{"$f":"'Data Feed'!K26","v":0},{"$f":"'Data Feed'!L26","v":0},{"$f":"'Data Feed'!M26","v":0},{"$f":"'Data Feed'!N26","v":0},{"$f":"'Data Feed'!O26","v":0},{"$f":"'Data Feed'!P26","v":0},{"$f":"'Data Feed'!Q26","v":0},{"$f":"'Data Feed'!R26","v":0},{"$f":"'Data Feed'!S26","v":0},{"$f":"'Data Feed'!T26","v":0},{"$f":"'Data Feed'!U26","v":0},{"$f":"'Data Feed'!V26","v":0},{"$f":"'Data Feed'!W26","v":0},{"$f":"'Data Feed'!X26","v":0},{"$f":"'Data Feed'!Y26","v":0},{"$f":"'Data Feed'!Z26","v":0},{"$f":"'Data Feed'!AA26","v":0},{"$f":"'Data Feed'!AB26","v":0},{"$f":"'Data Feed'!AC26","v":0},{"$f":"'Data Feed'!AD26","v":0},{"$f":"'Data Feed'!AE26","v":0},{"$f":"'Data Feed'!AF26","v":0},{"$f":"'Data Feed'!AG26","v":0},{"$f":"'Data Feed'!AH26","v":0},{"$f":"'Data Feed'!AI26","v":0}]
[{"$f":"B25&\"_\"&COUNTIF($B$1:B25,B25)","v":"0_22"},{"$f":"'Data Feed'!F27","v":0},{"$f":"'Data Feed'!B27","v":0},{"$f":"'Data Feed'!C27","v":0},{"$f":"'Data Feed'!D27","v":0},{"$f":"'Data Feed'!E27","v":0},{"$f":"'Data Feed'!F27","v":0},{"$f":"'Data Feed'!G27","v":0},{"$f":"'Data Feed'!H27","v":0},{"$f":"'Data Feed'!I27","v":0},{"$f":"'Data Feed'!J27","v":0},{"$f":"'Data Feed'!K27","v":0},{"$f":"'Data Feed'!L27","v":0},{"$f":"'Data Feed'!M27","v":0},{"$f":"'Data Feed'!N27","v":0},{"$f":"'Data Feed'!O27","v":0},{"$f":"'Data Feed'!P27","v":0},{"$f":"'Data Feed'!Q27","v":0},{"$f":"'Data Feed'!R27","v":0},{"$f":"'Data Feed'!S27","v":0},{"$f":"'Data Feed'!T27","v":0},{"$f":"'Data Feed'!U27","v":0},{"$f":"'Data Feed'!V27","v":0},{"$f":"'Data Feed'!W27","v":0},{"$f":"'Data Feed'!X27","v":0},{"$f":"'Data Feed'!Y27","v":0},{"$f":"'Data Feed'!Z27","v":0},{"$f":"'Data Feed'!AA27","v":0},{"$f":"'Data Feed'!AB27","v":0},{"$f":"'Data Feed'!AC27","v":0},{"$f":"'Data Feed'!AD27","v":0},{"$f":"'Data Feed'!AE27","v":0},{"$f":"'Data Feed'!AF27","v":0},{"$f":"'Data Feed'!AG27","v":0},{"$f":"'Data Feed'!AH27","v":0},{"$f":"'Data Feed'!AI27","v":0}]
[{"$f":"B26&\"_\"&COUNTIF($B$1:B26,B26)","v":"0_23"},{"$f":"'Data Feed'!F28","v":0},{"$f":"'Data Feed'!B28","v":0},{"$f":"'Data Feed'!C28","v":0},{"$f":"'Data Feed'!D28","v":0},{"$f":"'Data Feed'!E28","v":0},{"$f":"'Data Feed'!F28","v":0},{"$f":"'Data Feed'!G28","v":0},{"$f":"'Data Feed'!H28","v":0},{"$f":"'Data Feed'!I28","v":0},{"$f":"'Data Feed'!J28","v":0},{"$f":"'Data Feed'!K28","v":0},{"$f":"'Data Feed'!L28","v":0},{"$f":"'Data Feed'!M28","v":0},{"$f":"'Data Feed'!N28","v":0},{"$f":"'Data Feed'!O28","v":0},{"$f":"'Data Feed'!P28","v":0},{"$f":"'Data Feed'!Q28","v":0},{"$f":"'Data Feed'!R28","v":0},{"$f":"'Data Feed'!S28","v":0},{"$f":"'Data Feed'!T28","v":0},{"$f":"'Data Feed'!U28","v":0},{"$f":"'Data Feed'!V28","v":0},{"$f":"'Data Feed'!W28","v":0},{"$f":"'Data Feed'!X28","v":0},{"$f":"'Data Feed'!Y28","v":0},{"$f":"'Data Feed'!Z28","v":0},{"$f":"'Data Feed'!AA28","v":0},{"$f":"'Data Feed'!AB28","v":0},{"$f":"'Data Feed'!AC28","v":0},{"$f":"'Data Feed'!AD28","v":0},{"$f":"'Data Feed'!AE28","v":0},{"$f":"'Data Feed'!AF28","v":0},{"$f":"'Data Feed'!AG28","v":0},{"$f":"'Data Feed'!AH28","v":0},{"$f":"'Data Feed'!AI28","v":0}]
[{"$f":"B27&\"_\"&COUNTIF($B$1:B27,B27)","v":"0_24"},{"$f":"'Data Feed'!F29","v":0},{"$f":"'Data Feed'!B29","v":0},{"$f":"'Data Feed'!C29","v":0},{"$f":"'Data Feed'!D29","v":0},{"$f":"'Data Feed'!E29","v":0},{"$f":"'Data Feed'!F29","v":0},{"$f":"'Data Feed'!G29","v":0},{"$f":"'Data Feed'!H29","v":0},{"$f":"'Data Feed'!I29","v":0},{"$f":"'Data Feed'!J29","v":0},{"$f":"'Data Feed'!K29","v":0},{"$f":"'Data Feed'!L29","v":0},{"$f":"'Data Feed'!M29","v":0},{"$f":"'Data Feed'!N29","v":0},{"$f":"'Data Feed'!O29","v":0},{"$f":"'Data Feed'!P29","v":0},{"$f":"'Data Feed'!Q29","v":0},{"$f":"'Data Feed'!R29","v":0},{"$f":"'Data Feed'!S29","v":0},{"$f":"'Data Feed'!T29","v":0},{"$f":"'Data Feed'!U29","v":0},{"$f":"'Data Feed'!V29","v":0},{"$f":"'Data Feed'!W29","v":0},{"$f":"'Data Feed'!X29","v":0},{"$f":"'Data Feed'!Y29","v":0},{"$f":"'Data Feed'!Z29","v":0},{"$f":"'Data Feed'!AA29","v":0},{"$f":"'Data Feed'!AB29","v":0},{"$f":"'Data Feed'!AC29","v":0},{"$f":"'Data Feed'!AD29","v":0},{"$f":"'Data Feed'!AE29","v":0},{"$f":"'Data Feed'!AF29","v":0},{"$f":"'Data Feed'!AG29","v":0},{"$f":"'Data Feed'!AH29","v":0},{"$f":"'Data Feed'!AI29","v":0}]
[{"$f":"B28&\"_\"&COUNTIF($B$1:B28,B28)","v":"0_25"},{"$f":"'Data Feed'!F30","v":0},{"$f":"'Data Feed'!B30","v":0},{"$f":"'Data Feed'!C30","v":0},{"$f":"'Data Feed'!D30","v":0},{"$f":"'Data Feed'!E30","v":0},{"$f":"'Data Feed'!F30","v":0},{"$f":"'Data Feed'!G30","v":0},{"$f":"'Data Feed'!H30","v":0},{"$f":"'Data Feed'!I30","v":0},{"$f":"'Data Feed'!J30","v":0},{"$f":"'Data Feed'!K30","v":0},{"$f":"'Data Feed'!L30","v":0},{"$f":"'Data Feed'!M30","v":0},{"$f":"'Data Feed'!N30","v":0},{"$f":"'Data Feed'!O30","v":0},{"$f":"'Data Feed'!P30","v":0},{"$f":"'Data Feed'!Q30","v":0},{"$f":"'Data Feed'!R30","v":0},{"$f":"'Data Feed'!S30","v":0},{"$f":"'Data Feed'!T30","v":0},{"$f":"'Data Feed'!U30","v":0},{"$f":"'Data Feed'!V30","v":0},{"$f":"'Data Feed'!W30","v":0},{"$f":"'Data Feed'!X30","v":0},{"$f":"'Data Feed'!Y30","v":0},{"$f":"'Data Feed'!Z30","v":0},{"$f":"'Data Feed'!AA30","v":0},{"$f":"'Data Feed'!AB30","v":0},{"$f":"'Data Feed'!AC30","v":0},{"$f":"'Data Feed'!AD30","v":0},{"$f":"'Data Feed'!AE30","v":0},{"$f":"'Data Feed'!AF30","v":0},{"$f":"'Data Feed'!AG30","v":0},{"$f":"'Data Feed'!AH30","v":0},{"$f":"'Data Feed'!AI30","v":0}]
[{"$f":"B29&\"_\"&COUNTIF($B$1:B29,B29)","v":"0_26"},{"$f":"'Data Feed'!F31","v":0},{"$f":"'Data Feed'!B31","v":0},{"$f":"'Data Feed'!C31","v":0},{"$f":"'Data Feed'!D31","v":0},{"$f":"'Data Feed'!E31","v":0},{"$f":"'Data Feed'!F31","v":0},{"$f":"'Data Feed'!G31","v":0},{"$f":"'Data Feed'!H31","v":0},{"$f":"'Data Feed'!I31","v":0},{"$f":"'Data Feed'!J31","v":0},{"$f":"'Data Feed'!K31","v":0},{"$f":"'Data Feed'!L31","v":0},{"$f":"'Data Feed'!M31","v":0},{"$f":"'Data Feed'!N31","v":0},{"$f":"'Data Feed'!O31","v":0},{"$f":"'Data Feed'!P31","v":0},{"$f":"'Data Feed'!Q31","v":0},{"$f":"'Data Feed'!R31","v":0},{"$f":"'Data Feed'!S31","v":0},{"$f":"'Data Feed'!T31","v":0},{"$f":"'Data Feed'!U31","v":0},{"$f":"'Data Feed'!V31","v":0},{"$f":"'Data Feed'!W31","v":0},{"$f":"'Data Feed'!X31","v":0},{"$f":"'Data Feed'!Y31","v":0},{"$f":"'Data Feed'!Z31","v":0},{"$f":"'Data Feed'!AA31","v":0},{"$f":"'Data Feed'!AB31","v":0},{"$f":"'Data Feed'!AC31","v":0},{"$f":"'Data Feed'!AD31","v":0},{"$f":"'Data Feed'!AE31","v":0},{"$f":"'Data Feed'!AF31","v":0},{"$f":"'Data Feed'!AG31","v":0},{"$f":"'Data Feed'!AH31","v":0},{"$f":"'Data Feed'!AI31","v":0}]
[{"$f":"B30&\"_\"&COUNTIF($B$1:B30,B30)","v":"0_27"},{"$f":"'Data Feed'!F32","v":0},{"$f":"'Data Feed'!B32","v":0},{"$f":"'Data Feed'!C32","v":0},{"$f":"'Data Feed'!D32","v":0},{"$f":"'Data Feed'!E32","v":0},{"$f":"'Data Feed'!F32","v":0},{"$f":"'Data Feed'!G32","v":0},{"$f":"'Data Feed'!H32","v":0},{"$f":"'Data Feed'!I32","v":0},{"$f":"'Data Feed'!J32","v":0},{"$f":"'Data Feed'!K32","v":0},{"$f":"'Data Feed'!L32","v":0},{"$f":"'Data Feed'!M32","v":0},{"$f":"'Data Feed'!N32","v":0},{"$f":"'Data Feed'!O32","v":0},{"$f":"'Data Feed'!P32","v":0},{"$f":"'Data Feed'!Q32","v":0},{"$f":"'Data Feed'!R32","v":0},{"$f":"'Data Feed'!S32","v":0},{"$f":"'Data Feed'!T32","v":0},{"$f":"'Data Feed'!U32","v":0},{"$f":"'Data Feed'!V32","v":0},{"$f":"'Data Feed'!W32","v":0},{"$f":"'Data Feed'!X32","v":0},{"$f":"'Data Feed'!Y32","v":0},{"$f":"'Data Feed'!Z32","v":0},{"$f":"'Data Feed'!AA32","v":0},{"$f":"'Data Feed'!AB32","v":0},{"$f":"'Data Feed'!AC32","v":0},{"$f":"'Data Feed'!AD32","v":0},{"$f":"'Data Feed'!AE32","v":0},{"$f":"'Data Feed'!AF32","v":0},{"$f":"'Data Feed'!AG32","v":0},{"$f":"'Data Feed'!AH32","v":0},{"$f":"'Data Feed'!AI32","v":0}]
[{"$f":"B31&\"_\"&COUNTIF($B$1:B31,B31)","v":"0_28"},{"$f":"'Data Feed'!F33","v":0},{"$f":"'Data Feed'!B33","v":0},{"$f":"'Data Feed'!C33","v":0},{"$f":"'Data Feed'!D33","v":0},{"$f":"'Data Feed'!E33","v":0},{"$f":"'Data Feed'!F33","v":0},{"$f":"'Data Feed'!G33","v":0},{"$f":"'Data Feed'!H33","v":0},{"$f":"'Data Feed'!I33","v":0},{"$f":"'Data Feed'!J33","v":0},{"$f":"'Data Feed'!K33","v":0},{"$f":"'Data Feed'!L33","v":0},{"$f":"'Data Feed'!M33","v":0},{"$f":"'Data Feed'!N33","v":0},{"$f":"'Data Feed'!O33","v":0},{"$f":"'Data Feed'!P33","v":0},{"$f":"'Data Feed'!Q33","v":0},{"$f":"'Data Feed'!R33","v":0},{"$f":"'Data Feed'!S33","v":0},{"$f":"'Data Feed'!T33","v":0},{"$f":"'Data Feed'!U33","v":0},{"$f":"'Data Feed'!V33","v":0},{"$f":"'Data Feed'!W33","v":0},{"$f":"'Data Feed'!X33","v":0},{"$f":"'Data Feed'!Y33","v":0},{"$f":"'Data Feed'!Z33","v":0},{"$f":"'Data Feed'!AA33","v":0},{"$f":"'Data Feed'!AB33","v":0},{"$f":"'Data Feed'!AC33","v":0},{"$f":"'Data Feed'!AD33","v":0},{"$f":"'Data Feed'!AE33","v":0},{"$f":"'Data Feed'!AF33","v":0},{"$f":"'Data Feed'!AG33","v":0},{"$f":"'Data Feed'!AH33","v":0},{"$f":"'Data Feed'!AI33","v":0}]
[{"$f":"B32&\"_\"&COUNTIF($B$1:B32,B32)","v":"0_29"},{"$f":"'Data Feed'!F34","v":0},{"$f":"'Data Feed'!B34","v":0},{"$f":"'Data Feed'!C34","v":0},{"$f":"'Data Feed'!D34","v":0},{"$f":"'Data Feed'!E34","v":0},{"$f":"'Data Feed'!F34","v":0},{"$f":"'Data Feed'!G34","v":0},{"$f":"'Data Feed'!H34","v":0},{"$f":"'Data Feed'!I34","v":0},{"$f":"'Data Feed'!J34","v":0},{"$f":"'Data Feed'!K34","v":0},{"$f":"'Data Feed'!L34","v":0},{"$f":"'Data Feed'!M34","v":0},{"$f":"'Data Feed'!N34","v":0},{"$f":"'Data Feed'!O34","v":0},{"$f":"'Data Feed'!P34","v":0},{"$f":"'Data Feed'!Q34","v":0},{"$f":"'Data Feed'!R34","v":0},{"$f":"'Data Feed'!S34","v":0},{"$f":"'Data Feed'!T34","v":0},{"$f":"'Data Feed'!U34","v":0},{"$f":"'Data Feed'!V34","v":0},{"$f":"'Data Feed'!W34","v":0},{"$f":"'Data Feed'!X34","v":0},{"$f":"'Data Feed'!Y34","v":0},{"$f":"'Data Feed'!Z34","v":0},{"$f":"'Data Feed'!AA34","v":0},{"$f":"'Data Feed'!AB34","v":0},{"$f":"'Data Feed'!AC34","v":0},{"$f":"'Data Feed'!AD34","v":0},{"$f":"'Data Feed'!AE34","v":0},{"$f":"'Data Feed'!AF34","v":0},{"$f":"'Data Feed'!AG34","v":0},{"$f":"'Data Feed'!AH34","v":0},{"$f":"'Data Feed'!AI34","v":0}]
[{"$f":"B33&\"_\"&COUNTIF($B$1:B33,B33)","v":"0_30"},{"$f":"'Data Feed'!F35","v":0},{"$f":"'Data Feed'!B35","v":0},{"$f":"'Data Feed'!C35","v":0},{"$f":"'Data Feed'!D35","v":0},{"$f":"'Data Feed'!E35","v":0},{"$f":"'Data Feed'!F35","v":0},{"$f":"'Data Feed'!G35","v":0},{"$f":"'Data Feed'!H35","v":0},{"$f":"'Data Feed'!I35","v":0},{"$f":"'Data Feed'!J35","v":0},{"$f":"'Data Feed'!K35","v":0},{"$f":"'Data Feed'!L35","v":0},{"$f":"'Data Feed'!M35","v":0},{"$f":"'Data Feed'!N35","v":0},{"$f":"'Data Feed'!O35","v":0},{"$f":"'Data Feed'!P35","v":0},{"$f":"'Data Feed'!Q35","v":0},{"$f":"'Data Feed'!R35","v":0},{"$f":"'Data Feed'!S35","v":0},{"$f":"'Data Feed'!T35","v":0},{"$f":"'Data Feed'!U35","v":0},{"$f":"'Data Feed'!V35","v":0},{"$f":"'Data Feed'!W35","v":0},{"$f":"'Data Feed'!X35","v":0},{"$f":"'Data Feed'!Y35","v":0},{"$f":"'Data Feed'!Z35","v":0},{"$f":"'Data Feed'!AA35","v":0},{"$f":"'Data Feed'!AB35","v":0},{"$f":"'Data Feed'!AC35","v":0},{"$f":"'Data Feed'!AD35","v":0},{"$f":"'Data Feed'!AE35","v":0},{"$f":"'Data Feed'!AF35","v":0},{"$f":"'Data Feed'!AG35","v":0},{"$f":"'Data Feed'!AH35","v":0},{"$f":"'Data Feed'!AI35","v":0}]
[{"$f":"B34&\"_\"&COUNTIF($B$1:B34,B34)","v":"0_31"},{"$f":"'Data Feed'!F36","v":0},{"$f":"'Data Feed'!B36","v":0},{"$f":"'Data Feed'!C36","v":0},{"$f":"'Data Feed'!D36","v":0},{"$f":"'Data Feed'!E36","v":0},{"$f":"'Data Feed'!F36","v":0},{"$f":"'Data Feed'!G36","v":0},{"$f":"'Data Feed'!H36","v":0},{"$f":"'Data Feed'!I36","v":0},{"$f":"'Data Feed'!J36","v":0},{"$f":"'Data Feed'!K36","v":0},{"$f":"'Data Feed'!L36","v":0},{"$f":"'Data Feed'!M36","v":0},{"$f":"'Data Feed'!N36","v":0},{"$f":"'Data Feed'!O36","v":0},{"$f":"'Data Feed'!P36","v":0},{"$f":"'Data Feed'!Q36","v":0},{"$f":"'Data Feed'!R36","v":0},{"$f":"'Data Feed'!S36","v":0},{"$f":"'Data Feed'!T36","v":0},{"$f":"'Data Feed'!U36","v":0},{"$f":"'Data Feed'!V36","v":0},{"$f":"'Data Feed'!W36","v":0},{"$f":"'Data Feed'!X36","v":0},{"$f":"'Data Feed'!Y36","v":0},{"$f":"'Data Feed'!Z36","v":0},{"$f":"'Data Feed'!AA36","v":0},{"$f":"'Data Feed'!AB36","v":0},{"$f":"'Data Feed'!AC36","v":0},{"$f":"'Data Feed'!AD36","v":0},{"$f":"'Data Feed'!AE36","v":0},{"$f":"'Data Feed'!AF36","v":0},{"$f":"'Data Feed'!AG36","v":0},{"$f":"'Data Feed'!AH36","v":0},{"$f":"'Data Feed'!AI36","v":0}]
[{"$f":"B35&\"_\"&COUNTIF($B$1:B35,B35)","v":"0_32"},{"$f":"'Data Feed'!F37","v":0},{"$f":"'Data Feed'!B37","v":0},{"$f":"'Data Feed'!C37","v":0},{"$f":"'Data Feed'!D37","v":0},{"$f":"'Data Feed'!E37","v":0},{"$f":"'Data Feed'!F37","v":0},{"$f":"'Data Feed'!G37","v":0},{"$f":"'Data Feed'!H37","v":0},{"$f":"'Data Feed'!I37","v":0},{"$f":"'Data Feed'!J37","v":0},{"$f":"'Data Feed'!K37","v":0},{"$f":"'Data Feed'!L37","v":0},{"$f":"'Data Feed'!M37","v":0},{"$f":"'Data Feed'!N37","v":0},{"$f":"'Data Feed'!O37","v":0},{"$f":"'Data Feed'!P37","v":0},{"$f":"'Data Feed'!Q37","v":0},{"$f":"'Data Feed'!R37","v":0},{"$f":"'Data Feed'!S37","v":0},{"$f":"'Data Feed'!T37","v":0},{"$f":"'Data Feed'!U37","v":0},{"$f":"'Data Feed'!V37","v":0},{"$f":"'Data Feed'!W37","v":0},{"$f":"'Data Feed'!X37","v":0},{"$f":"'Data Feed'!Y37","v":0},{"$f":"'Data Feed'!Z37","v":0},{"$f":"'Data Feed'!AA37","v":0},{"$f":"'Data Feed'!AB37","v":0},{"$f":"'Data Feed'!AC37","v":0},{"$f":"'Data Feed'!AD37","v":0},{"$f":"'Data Feed'!AE37","v":0},{"$f":"'Data Feed'!AF37","v":0},{"$f":"'Data Feed'!AG37","v":0},{"$f":"'Data Feed'!AH37","v":0},{"$f":"'Data Feed'!AI37","v":0}]
[{"$f":"B36&\"_\"&COUNTIF($B$1:B36,B36)","v":"0_33"},{"$f":"'Data Feed'!F38","v":0},{"$f":"'Data Feed'!B38","v":0},{"$f":"'Data Feed'!C38","v":0},{"$f":"'Data Feed'!D38","v":0},{"$f":"'Data Feed'!E38","v":0},{"$f":"'Data Feed'!F38","v":0},{"$f":"'Data Feed'!G38","v":0},{"$f":"'Data Feed'!H38","v":0},{"$f":"'Data Feed'!I38","v":0},{"$f":"'Data Feed'!J38","v":0},{"$f":"'Data Feed'!K38","v":0},{"$f":"'Data Feed'!L38","v":0},{"$f":"'Data Feed'!M38","v":0},{"$f":"'Data Feed'!N38","v":0},{"$f":"'Data Feed'!O38","v":0},{"$f":"'Data Feed'!P38","v":0},{"$f":"'Data Feed'!Q38","v":0},{"$f":"'Data Feed'!R38","v":0},{"$f":"'Data Feed'!S38","v":0},{"$f":"'Data Feed'!T38","v":0},{"$f":"'Data Feed'!U38","v":0},{"$f":"'Data Feed'!V38","v":0},{"$f":"'Data Feed'!W38","v":0},{"$f":"'Data Feed'!X38","v":0},{"$f":"'Data Feed'!Y38","v":0},{"$f":"'Data Feed'!Z38","v":0},{"$f":"'Data Feed'!AA38","v":0},{"$f":"'Data Feed'!AB38","v":0},{"$f":"'Data Feed'!AC38","v":0},{"$f":"'Data Feed'!AD38","v":0},{"$f":"'Data Feed'!AE38","v":0},{"$f":"'Data Feed'!AF38","v":0},{"$f":"'Data Feed'!AG38","v":0},{"$f":"'Data Feed'!AH38","v":0},{"$f":"'Data Feed'!AI38","v":0}]
[{"$f":"B37&\"_\"&COUNTIF($B$1:B37,B37)","v":"0_34"},{"$f":"'Data Feed'!F39","v":0},{"$f":"'Data Feed'!B39","v":0},{"$f":"'Data Feed'!C39","v":0},{"$f":"'Data Feed'!D39","v":0},{"$f":"'Data Feed'!E39","v":0},{"$f":"'Data Feed'!F39","v":0},{"$f":"'Data Feed'!G39","v":0},{"$f":"'Data Feed'!H39","v":0},{"$f":"'Data Feed'!I39","v":0},{"$f":"'Data Feed'!J39","v":0},{"$f":"'Data Feed'!K39","v":0},{"$f":"'Data Feed'!L39","v":0},{"$f":"'Data Feed'!M39","v":0},{"$f":"'Data Feed'!N39","v":0},{"$f":"'Data Feed'!O39","v":0},{"$f":"'Data Feed'!P39","v":0},{"$f":"'Data Feed'!Q39","v":0},{"$f":"'Data Feed'!R39","v":0},{"$f":"'Data Feed'!S39","v":0},{"$f":"'Data Feed'!T39","v":0},{"$f":"'Data Feed'!U39","v":0},{"$f":"'Data Feed'!V39","v":0},{"$f":"'Data Feed'!W39","v":0},{"$f":"'Data Feed'!X39","v":0},{"$f":"'Data Feed'!Y39","v":0},{"$f":"'Data Feed'!Z39","v":0},{"$f":"'Data Feed'!AA39","v":0},{"$f":"'Data Feed'!AB39","v":0},{"$f":"'Data Feed'!AC39","v":0},{"$f":"'Data Feed'!AD39","v":0},{"$f":"'Data Feed'!AE39","v":0},{"$f":"'Data Feed'!AF39","v":0},{"$f":"'Data Feed'!AG39","v":0},{"$f":"'Data Feed'!AH39","v":0},{"$f":"'Data Feed'!AI39","v":0}]
[{"$f":"B38&\"_\"&COUNTIF($B$1:B38,B38)","v":"0_35"},{"$f":"'Data Feed'!F40","v":0},{"$f":"'Data Feed'!B40","v":0},{"$f":"'Data Feed'!C40","v":0},{"$f":"'Data Feed'!D40","v":0},{"$f":"'Data Feed'!E40","v":0},{"$f":"'Data Feed'!F40","v":0},{"$f":"'Data Feed'!G40","v":0},{"$f":"'Data Feed'!H40","v":0},{"$f":"'Data Feed'!I40","v":0},{"$f":"'Data Feed'!J40","v":0},{"$f":"'Data Feed'!K40","v":0},{"$f":"'Data Feed'!L40","v":0},{"$f":"'Data Feed'!M40","v":0},{"$f":"'Data Feed'!N40","v":0},{"$f":"'Data Feed'!O40","v":0},{"$f":"'Data Feed'!P40","v":0},{"$f":"'Data Feed'!Q40","v":0},{"$f":"'Data Feed'!R40","v":0},{"$f":"'Data Feed'!S40","v":0},{"$f":"'Data Feed'!T40","v":0},{"$f":"'Data Feed'!U40","v":0},{"$f":"'Data Feed'!V40","v":0},{"$f":"'Data Feed'!W40","v":0},{"$f":"'Data Feed'!X40","v":0},{"$f":"'Data Feed'!Y40","v":0},{"$f":"'Data Feed'!Z40","v":0},{"$f":"'Data Feed'!AA40","v":0},{"$f":"'Data Feed'!AB40","v":0},{"$f":"'Data Feed'!AC40","v":0},{"$f":"'Data Feed'!AD40","v":0},{"$f":"'Data Feed'!AE40","v":0},{"$f":"'Data Feed'!AF40","v":0},{"$f":"'Data Feed'!AG40","v":0},{"$f":"'Data Feed'!AH40","v":0},{"$f":"'Data Feed'!AI40","v":0}]
[{"$f":"B39&\"_\"&COUNTIF($B$1:B39,B39)","v":"0_36"},{"$f":"'Data Feed'!F41","v":0},{"$f":"'Data Feed'!B41","v":0},{"$f":"'Data Feed'!C41","v":0},{"$f":"'Data Feed'!D41","v":0},{"$f":"'Data Feed'!E41","v":0},{"$f":"'Data Feed'!F41","v":0},{"$f":"'Data Feed'!G41","v":0},{"$f":"'Data Feed'!H41","v":0},{"$f":"'Data Feed'!I41","v":0},{"$f":"'Data Feed'!J41","v":0},{"$f":"'Data Feed'!K41","v":0},{"$f":"'Data Feed'!L41","v":0},{"$f":"'Data Feed'!M41","v":0},{"$f":"'Data Feed'!N41","v":0},{"$f":"'Data Feed'!O41","v":0},{"$f":"'Data Feed'!P41","v":0},{"$f":"'Data Feed'!Q41","v":0},{"$f":"'Data Feed'!R41","v":0},{"$f":"'Data Feed'!S41","v":0},{"$f":"'Data Feed'!T41","v":0},{"$f":"'Data Feed'!U41","v":0},{"$f":"'Data Feed'!V41","v":0},{"$f":"'Data Feed'!W41","v":0},{"$f":"'Data Feed'!X41","v":0},{"$f":"'Data Feed'!Y41","v":0},{"$f":"'Data Feed'!Z41","v":0},{"$f":"'Data Feed'!AA41","v":0},{"$f":"'Data Feed'!AB41","v":0},{"$f":"'Data Feed'!AC41","v":0},{"$f":"'Data Feed'!AD41","v":0},{"$f":"'Data Feed'!AE41","v":0},{"$f":"'Data Feed'!AF41","v":0},{"$f":"'Data Feed'!AG41","v":0},{"$f":"'Data Feed'!AH41","v":0},{"$f":"'Data Feed'!AI41","v":0}]
[{"$f":"B40&\"_\"&COUNTIF($B$1:B40,B40)","v":"0_37"},{"$f":"'Data Feed'!F42","v":0},{"$f":"'Data Feed'!B42","v":0},{"$f":"'Data Feed'!C42","v":0},{"$f":"'Data Feed'!D42","v":0},{"$f":"'Data Feed'!E42","v":0},{"$f":"'Data Feed'!F42","v":0},{"$f":"'Data Feed'!G42","v":0},{"$f":"'Data Feed'!H42","v":0},{"$f":"'Data Feed'!I42","v":0},{"$f":"'Data Feed'!J42","v":0},{"$f":"'Data Feed'!K42","v":0},{"$f":"'Data Feed'!L42","v":0},{"$f":"'Data Feed'!M42","v":0},{"$f":"'Data Feed'!N42","v":0},{"$f":"'Data Feed'!O42","v":0},{"$f":"'Data Feed'!P42","v":0},{"$f":"'Data Feed'!Q42","v":0},{"$f":"'Data Feed'!R42","v":0},{"$f":"'Data Feed'!S42","v":0},{"$f":"'Data Feed'!T42","v":0},{"$f":"'Data Feed'!U42","v":0},{"$f":"'Data Feed'!V42","v":0},{"$f":"'Data Feed'!W42","v":0},{"$f":"'Data Feed'!X42","v":0},{"$f":"'Data Feed'!Y42","v":0},{"$f":"'Data Feed'!Z42","v":0},{"$f":"'Data Feed'!AA42","v":0},{"$f":"'Data Feed'!AB42","v":0},{"$f":"'Data Feed'!AC42","v":0},{"$f":"'Data Feed'!AD42","v":0},{"$f":"'Data Feed'!AE42","v":0},{"$f":"'Data Feed'!AF42","v":0},{"$f":"'Data Feed'!AG42","v":0},{"$f":"'Data Feed'!AH42","v":0},{"$f":"'Data Feed'!AI42","v":0}]
[{"$f":"B41&\"_\"&COUNTIF($B$1:B41,B41)","v":"0_38"},{"$f":"'Data Feed'!F43","v":0},{"$f":"'Data Feed'!B43","v":0},{"$f":"'Data Feed'!C43","v":0},{"$f":"'Data Feed'!D43","v":0},{"$f":"'Data Feed'!E43","v":0},{"$f":"'Data Feed'!F43","v":0},{"$f":"'Data Feed'!G43","v":0},{"$f":"'Data Feed'!H43","v":0},{"$f":"'Data Feed'!I43","v":0},{"$f":"'Data Feed'!J43","v":0},{"$f":"'Data Feed'!K43","v":0},{"$f":"'Data Feed'!L43","v":0},{"$f":"'Data Feed'!M43","v":0},{"$f":"'Data Feed'!N43","v":0},{"$f":"'Data Feed'!O43","v":0},{"$f":"'Data Feed'!P43","v":0},{"$f":"'Data Feed'!Q43","v":0},{"$f":"'Data Feed'!R43","v":0},{"$f":"'Data Feed'!S43","v":0},{"$f":"'Data Feed'!T43","v":0},{"$f":"'Data Feed'!U43","v":0},{"$f":"'Data Feed'!V43","v":0},{"$f":"'Data Feed'!W43","v":0},{"$f":"'Data Feed'!X43","v":0},{"$f":"'Data Feed'!Y43","v":0},{"$f":"'Data Feed'!Z43","v":0},{"$f":"'Data Feed'!AA43","v":0},{"$f":"'Data Feed'!AB43","v":0},{"$f":"'Data Feed'!AC43","v":0},{"$f":"'Data Feed'!AD43","v":0},{"$f":"'Data Feed'!AE43","v":0},{"$f":"'Data Feed'!AF43","v":0},{"$f":"'Data Feed'!AG43","v":0},{"$f":"'Data Feed'!AH43","v":0},{"$f":"'Data Feed'!AI43","v":0}]
[{"$f":"B42&\"_\"&COUNTIF($B$1:B42,B42)","v":"0_39"},{"$f":"'Data Feed'!F44","v":0},{"$f":"'Data Feed'!B44","v":0},{"$f":"'Data Feed'!C44","v":0},{"$f":"'Data Feed'!D44","v":0},{"$f":"'Data Feed'!E44","v":0},{"$f":"'Data Feed'!F44","v":0},{"$f":"'Data Feed'!G44","v":0},{"$f":"'Data Feed'!H44","v":0},{"$f":"'Data Feed'!I44","v":0},{"$f":"'Data Feed'!J44","v":0},{"$f":"'Data Feed'!K44","v":0},{"$f":"'Data Feed'!L44","v":0},{"$f":"'Data Feed'!M44","v":0},{"$f":"'Data Feed'!N44","v":0},{"$f":"'Data Feed'!O44","v":0},{"$f":"'Data Feed'!P44","v":0},{"$f":"'Data Feed'!Q44","v":0},{"$f":"'Data Feed'!R44","v":0},{"$f":"'Data Feed'!S44","v":0},{"$f":"'Data Feed'!T44","v":0},{"$f":"'Data Feed'!U44","v":0},{"$f":"'Data Feed'!V44","v":0},{"$f":"'Data Feed'!W44","v":0},{"$f":"'Data Feed'!X44","v":0},{"$f":"'Data Feed'!Y44","v":0},{"$f":"'Data Feed'!Z44","v":0},{"$f":"'Data Feed'!AA44","v":0},{"$f":"'Data Feed'!AB44","v":0},{"$f":"'Data Feed'!AC44","v":0},{"$f":"'Data Feed'!AD44","v":0},{"$f":"'Data Feed'!AE44","v":0},{"$f":"'Data Feed'!AF44","v":0},{"$f":"'Data Feed'!AG44","v":0},{"$f":"'Data Feed'!AH44","v":0},{"$f":"'Data Feed'!AI44","v":0}]
[{"$f":"B43&\"_\"&COUNTIF($B$1:B43,B43)","v":"0_40"},{"$f":"'Data Feed'!F45","v":0},{"$f":"'Data Feed'!B45","v":0},{"$f":"'Data Feed'!C45","v":0},{"$f":"'Data Feed'!D45","v":0},{"$f":"'Data Feed'!E45","v":0},{"$f":"'Data Feed'!F45","v":0},{"$f":"'Data Feed'!G45","v":0},{"$f":"'Data Feed'!H45","v":0},{"$f":"'Data Feed'!I45","v":0},{"$f":"'Data Feed'!J45","v":0},{"$f":"'Data Feed'!K45","v":0},{"$f":"'Data Feed'!L45","v":0},{"$f":"'Data Feed'!M45","v":0},{"$f":"'Data Feed'!N45","v":0},{"$f":"'Data Feed'!O45","v":0},{"$f":"'Data Feed'!P45","v":0},{"$f":"'Data Feed'!Q45","v":0},{"$f":"'Data Feed'!R45","v":0},{"$f":"'Data Feed'!S45","v":0},{"$f":"'Data Feed'!T45","v":0},{"$f":"'Data Feed'!U45","v":0},{"$f":"'Data Feed'!V45","v":0},{"$f":"'Data Feed'!W45","v":0},{"$f":"'Data Feed'!X45","v":0},{"$f":"'Data Feed'!Y45","v":0},{"$f":"'Data Feed'!Z45","v":0},{"$f":"'Data Feed'!AA45","v":0},{"$f":"'Data Feed'!AB45","v":0},{"$f":"'Data Feed'!AC45","v":0},{"$f":"'Data Feed'!AD45","v":0},{"$f":"'Data Feed'!AE45","v":0},{"$f":"'Data Feed'!AF45","v":0},{"$f":"'Data Feed'!AG45","v":0},{"$f":"'Data Feed'!AH45","v":0},{"$f":"'Data Feed'!AI45","v":0}]
[{"$f":"B44&\"_\"&COUNTIF($B$1:B44,B44)","v":"0_41"},{"$f":"'Data Feed'!F46","v":0},{"$f":"'Data Feed'!B46","v":0},{"$f":"'Data Feed'!C46","v":0},{"$f":"'Data Feed'!D46","v":0},{"$f":"'Data Feed'!E46","v":0},{"$f":"'Data Feed'!F46","v":0},{"$f":"'Data Feed'!G46","v":0},{"$f":"'Data Feed'!H46","v":0},{"$f":"'Data Feed'!I46","v":0},{"$f":"'Data Feed'!J46","v":0},{"$f":"'Data Feed'!K46","v":0},{"$f":"'Data Feed'!L46","v":0},{"$f":"'Data Feed'!M46","v":0},{"$f":"'Data Feed'!N46","v":0},{"$f":"'Data Feed'!O46","v":0},{"$f":"'Data Feed'!P46","v":0},{"$f":"'Data Feed'!Q46","v":0},{"$f":"'Data Feed'!R46","v":0},{"$f":"'Data Feed'!S46","v":0},{"$f":"'Data Feed'!T46","v":0},{"$f":"'Data Feed'!U46","v":0},{"$f":"'Data Feed'!V46","v":0},{"$f":"'Data Feed'!W46","v":0},{"$f":"'Data Feed'!X46","v":0},{"$f":"'Data Feed'!Y46","v":0},{"$f":"'Data Feed'!Z46","v":0},{"$f":"'Data Feed'!AA46","v":0},{"$f":"'Data Feed'!AB46","v":0},{"$f":"'Data Feed'!AC46","v":0},{"$f":"'Data Feed'!AD46","v":0},{"$f":"'Data Feed'!AE46","v":0},{"$f":"'Data Feed'!AF46","v":0},{"$f":"'Data Feed'!AG46","v":0},{"$f":"'Data Feed'!AH46","v":0},{"$f":"'Data Feed'!AI46","v":0}]
[{"$f":"B45&\"_\"&COUNTIF($B$1:B45,B45)","v":"0_42"},{"$f":"'Data Feed'!F47","v":0},{"$f":"'Data Feed'!B47","v":0},{"$f":"'Data Feed'!C47","v":0},{"$f":"'Data Feed'!D47","v":0},{"$f":"'Data Feed'!E47","v":0},{"$f":"'Data Feed'!F47","v":0},{"$f":"'Data Feed'!G47","v":0},{"$f":"'Data Feed'!H47","v":0},{"$f":"'Data Feed'!I47","v":0},{"$f":"'Data Feed'!J47","v":0},{"$f":"'Data Feed'!K47","v":0},{"$f":"'Data Feed'!L47","v":0},{"$f":"'Data Feed'!M47","v":0},{"$f":"'Data Feed'!N47","v":0},{"$f":"'Data Feed'!O47","v":0},{"$f":"'Data Feed'!P47","v":0},{"$f":"'Data Feed'!Q47","v":0},{"$f":"'Data Feed'!R47","v":0},{"$f":"'Data Feed'!S47","v":0},{"$f":"'Data Feed'!T47","v":0},{"$f":"'Data Feed'!U47","v":0},{"$f":"'Data Feed'!V47","v":0},{"$f":"'Data Feed'!W47","v":0},{"$f":"'Data Feed'!X47","v":0},{"$f":"'Data Feed'!Y47","v":0},{"$f":"'Data Feed'!Z47","v":0},{"$f":"'Data Feed'!AA47","v":0},{"$f":"'Data Feed'!AB47","v":0},{"$f":"'Data Feed'!AC47","v":0},{"$f":"'Data Feed'!AD47","v":0},{"$f":"'Data Feed'!AE47","v":0},{"$f":"'Data Feed'!AF47","v":0},{"$f":"'Data Feed'!AG47","v":0},{"$f":"'Data Feed'!AH47","v":0},{"$f":"'Data Feed'!AI47","v":0}]
[{"$f":"B46&\"_\"&COUNTIF($B$1:B46,B46)","v":"0_43"},{"$f":"'Data Feed'!F48","v":0},{"$f":"'Data Feed'!B48","v":0},{"$f":"'Data Feed'!C48","v":0},{"$f":"'Data Feed'!D48","v":0},{"$f":"'Data Feed'!E48","v":0},{"$f":"'Data Feed'!F48","v":0},{"$f":"'Data Feed'!G48","v":0},{"$f":"'Data Feed'!H48","v":0},{"$f":"'Data Feed'!I48","v":0},{"$f":"'Data Feed'!J48","v":0},{"$f":"'Data Feed'!K48","v":0},{"$f":"'Data Feed'!L48","v":0},{"$f":"'Data Feed'!M48","v":0},{"$f":"'Data Feed'!N48","v":0},{"$f":"'Data Feed'!O48","v":0},{"$f":"'Data Feed'!P48","v":0},{"$f":"'Data Feed'!Q48","v":0},{"$f":"'Data Feed'!R48","v":0},{"$f":"'Data Feed'!S48","v":0},{"$f":"'Data Feed'!T48","v":0},{"$f":"'Data Feed'!U48","v":0},{"$f":"'Data Feed'!V48","v":0},{"$f":"'Data Feed'!W48","v":0},{"$f":"'Data Feed'!X48","v":0},{"$f":"'Data Feed'!Y48","v":0},{"$f":"'Data Feed'!Z48","v":0},{"$f":"'Data Feed'!AA48","v":0},{"$f":"'Data Feed'!AB48","v":0},{"$f":"'Data Feed'!AC48","v":0},{"$f":"'Data Feed'!AD48","v":0},{"$f":"'Data Feed'!AE48","v":0},{"$f":"'Data Feed'!AF48","v":0},{"$f":"'Data Feed'!AG48","v":0},{"$f":"'Data Feed'!AH48","v":0},{"$f":"'Data Feed'!AI48","v":0}]
[{"$f":"B47&\"_\"&COUNTIF($B$1:B47,B47)","v":"0_44"},{"$f":"'Data Feed'!F49","v":0},{"$f":"'Data Feed'!B49","v":0},{"$f":"'Data Feed'!C49","v":0},{"$f":"'Data Feed'!D49","v":0},{"$f":"'Data Feed'!E49","v":0},{"$f":"'Data Feed'!F49","v":0},{"$f":"'Data Feed'!G49","v":0},{"$f":"'Data Feed'!H49","v":0},{"$f":"'Data Feed'!I49","v":0},{"$f":"'Data Feed'!J49","v":0},{"$f":"'Data Feed'!K49","v":0},{"$f":"'Data Feed'!L49","v":0},{"$f":"'Data Feed'!M49","v":0},{"$f":"'Data Feed'!N49","v":0},{"$f":"'Data Feed'!O49","v":0},{"$f":"'Data Feed'!P49","v":0},{"$f":"'Data Feed'!Q49","v":0},{"$f":"'Data Feed'!R49","v":0},{"$f":"'Data Feed'!S49","v":0},{"$f":"'Data Feed'!T49","v":0},{"$f":"'Data Feed'!U49","v":0},{"$f":"'Data Feed'!V49","v":0},{"$f":"'Data Feed'!W49","v":0},{"$f":"'Data Feed'!X49","v":0},{"$f":"'Data Feed'!Y49","v":0},{"$f":"'Data Feed'!Z49","v":0},{"$f":"'Data Feed'!AA49","v":0},{"$f":"'Data Feed'!AB49","v":0},{"$f":"'Data Feed'!AC49","v":0},{"$f":"'Data Feed'!AD49","v":0},{"$f":"'Data Feed'!AE49","v":0},{"$f":"'Data Feed'!AF49","v":0},{"$f":"'Data Feed'!AG49","v":0},{"$f":"'Data Feed'!AH49","v":0},{"$f":"'Data Feed'!AI49","v":0}]
[{"$f":"B48&\"_\"&COUNTIF($B$1:B48,B48)","v":"0_45"},{"$f":"'Data Feed'!F50","v":0},{"$f":"'Data Feed'!B50","v":0},{"$f":"'Data Feed'!C50","v":0},{"$f":"'Data Feed'!D50","v":0},{"$f":"'Data Feed'!E50","v":0},{"$f":"'Data Feed'!F50","v":0},{"$f":"'Data Feed'!G50","v":0},{"$f":"'Data Feed'!H50","v":0},{"$f":"'Data Feed'!I50","v":0},{"$f":"'Data Feed'!J50","v":0},{"$f":"'Data Feed'!K50","v":0},{"$f":"'Data Feed'!L50","v":0},{"$f":"'Data Feed'!M50","v":0},{"$f":"'Data Feed'!N50","v":0},{"$f":"'Data Feed'!O50","v":0},{"$f":"'Data Feed'!P50","v":0},{"$f":"'Data Feed'!Q50","v":0},{"$f":"'Data Feed'!R50","v":0},{"$f":"'Data Feed'!S50","v":0},{"$f":"'Data Feed'!T50","v":0},{"$f":"'Data Feed'!U50","v":0},{"$f":"'Data Feed'!V50","v":0},{"$f":"'Data Feed'!W50","v":0},{"$f":"'Data Feed'!X50","v":0},{"$f":"'Data Feed'!Y50","v":0},{"$f":"'Data Feed'!Z50","v":0},{"$f":"'Data Feed'!AA50","v":0},{"$f":"'Data Feed'!AB50","v":0},{"$f":"'Data Feed'!AC50","v":0},{"$f":"'Data Feed'!AD50","v":0},{"$f":"'Data Feed'!AE50","v":0},{"$f":"'Data Feed'!AF50","v":0},{"$f":"'Data Feed'!AG50","v":0},{"$f":"'Data Feed'!AH50","v":0},{"$f":"'Data Feed'!AI50","v":0}]
[{"$f":"B49&\"_\"&COUNTIF($B$1:B49,B49)","v":"0_46"},{"$f":"'Data Feed'!F51","v":0},{"$f":"'Data Feed'!B51","v":0},{"$f":"'Data Feed'!C51","v":0},{"$f":"'Data Feed'!D51","v":0},{"$f":"'Data Feed'!E51","v":0},{"$f":"'Data Feed'!F51","v":0},{"$f":"'Data Feed'!G51","v":0},{"$f":"'Data Feed'!H51","v":0},{"$f":"'Data Feed'!I51","v":0},{"$f":"'Data Feed'!J51","v":0},{"$f":"'Data Feed'!K51","v":0},{"$f":"'Data Feed'!L51","v":0},{"$f":"'Data Feed'!M51","v":0},{"$f":"'Data Feed'!N51","v":0},{"$f":"'Data Feed'!O51","v":0},{"$f":"'Data Feed'!P51","v":0},{"$f":"'Data Feed'!Q51","v":0},{"$f":"'Data Feed'!R51","v":0},{"$f":"'Data Feed'!S51","v":0},{"$f":"'Data Feed'!T51","v":0},{"$f":"'Data Feed'!U51","v":0},{"$f":"'Data Feed'!V51","v":0},{"$f":"'Data Feed'!W51","v":0},{"$f":"'Data Feed'!X51","v":0},{"$f":"'Data Feed'!Y51","v":0},{"$f":"'Data Feed'!Z51","v":0},{"$f":"'Data Feed'!AA51","v":0},{"$f":"'Data Feed'!AB51","v":0},{"$f":"'Data Feed'!AC51","v":0},{"$f":"'Data Feed'!AD51","v":0},{"$f":"'Data Feed'!AE51","v":0},{"$f":"'Data Feed'!AF51","v":0},{"$f":"'Data Feed'!AG51","v":0},{"$f":"'Data Feed'!AH51","v":0},{"$f":"'Data Feed'!AI51","v":0}]
[{"$f":"B50&\"_\"&COUNTIF($B$1:B50,B50)","v":"0_47"},{"$f":"'Data Feed'!F52","v":0},{"$f":"'Data Feed'!B52","v":0},{"$f":"'Data Feed'!C52","v":0},{"$f":"'Data Feed'!D52","v":0},{"$f":"'Data Feed'!E52","v":0},{"$f":"'Data Feed'!F52","v":0},{"$f":"'Data Feed'!G52","v":0},{"$f":"'Data Feed'!H52","v":0},{"$f":"'Data Feed'!I52","v":0},{"$f":"'Data Feed'!J52","v":0},{"$f":"'Data Feed'!K52","v":0},{"$f":"'Data Feed'!L52","v":0},{"$f":"'Data Feed'!M52","v":0},{"$f":"'Data Feed'!N52","v":0},{"$f":"'Data Feed'!O52","v":0},{"$f":"'Data Feed'!P52","v":0},{"$f":"'Data Feed'!Q52","v":0},{"$f":"'Data Feed'!R52","v":0},{"$f":"'Data Feed'!S52","v":0},{"$f":"'Data Feed'!T52","v":0},{"$f":"'Data Feed'!U52","v":0},{"$f":"'Data Feed'!V52","v":0},{"$f":"'Data Feed'!W52","v":0},{"$f":"'Data Feed'!X52","v":0},{"$f":"'Data Feed'!Y52","v":0},{"$f":"'Data Feed'!Z52","v":0},{"$f":"'Data Feed'!AA52","v":0},{"$f":"'Data Feed'!AB52","v":0},{"$f":"'Data Feed'!AC52","v":0},{"$f":"'Data Feed'!AD52","v":0},{"$f":"'Data Feed'!AE52","v":0},{"$f":"'Data Feed'!AF52","v":0},{"$f":"'Data Feed'!AG52","v":0},{"$f":"'Data Feed'!AH52","v":0},{"$f":"'Data Feed'!AI52","v":0}]
[{"$f":"B51&\"_\"&COUNTIF($B$1:B51,B51)","v":"0_48"},{"$f":"'Data Feed'!F53","v":0},{"$f":"'Data Feed'!B53","v":0},{"$f":"'Data Feed'!C53","v":0},{"$f":"'Data Feed'!D53","v":0},{"$f":"'Data Feed'!E53","v":0},{"$f":"'Data Feed'!F53","v":0},{"$f":"'Data Feed'!G53","v":0},{"$f":"'Data Feed'!H53","v":0},{"$f":"'Data Feed'!I53","v":0},{"$f":"'Data Feed'!J53","v":0},{"$f":"'Data Feed'!K53","v":0},{"$f":"'Data Feed'!L53","v":0},{"$f":"'Data Feed'!M53","v":0},{"$f":"'Data Feed'!N53","v":0},{"$f":"'Data Feed'!O53","v":0},{"$f":"'Data Feed'!P53","v":0},{"$f":"'Data Feed'!Q53","v":0},{"$f":"'Data Feed'!R53","v":0},{"$f":"'Data Feed'!S53","v":0},{"$f":"'Data Feed'!T53","v":0},{"$f":"'Data Feed'!U53","v":0},{"$f":"'Data Feed'!V53","v":0},{"$f":"'Data Feed'!W53","v":0},{"$f":"'Data Feed'!X53","v":0},{"$f":"'Data Feed'!Y53","v":0},{"$f":"'Data Feed'!Z53","v":0},{"$f":"'Data Feed'!AA53","v":0},{"$f":"'Data Feed'!AB53","v":0},{"$f":"'Data Feed'!AC53","v":0},{"$f":"'Data Feed'!AD53","v":0},{"$f":"'Data Feed'!AE53","v":0},{"$f":"'Data Feed'!AF53","v":0},{"$f":"'Data Feed'!AG53","v":0},{"$f":"'Data Feed'!AH53","v":0},{"$f":"'Data Feed'!AI53","v":0}]
[{"$f":"B52&\"_\"&COUNTIF($B$1:B52,B52)","v":"0_49"},{"$f":"'Data Feed'!F54","v":0},{"$f":"'Data Feed'!B54","v":0},{"$f":"'Data Feed'!C54","v":0},{"$f":"'Data Feed'!D54","v":0},{"$f":"'Data Feed'!E54","v":0},{"$f":"'Data Feed'!F54","v":0},{"$f":"'Data Feed'!G54","v":0},{"$f":"'Data Feed'!H54","v":0},{"$f":"'Data Feed'!I54","v":0},{"$f":"'Data Feed'!J54","v":0},{"$f":"'Data Feed'!K54","v":0},{"$f":"'Data Feed'!L54","v":0},{"$f":"'Data Feed'!M54","v":0},{"$f":"'Data Feed'!N54","v":0},{"$f":"'Data Feed'!O54","v":0},{"$f":"'Data Feed'!P54","v":0},{"$f":"'Data Feed'!Q54","v":0},{"$f":"'Data Feed'!R54","v":0},{"$f":"'Data Feed'!S54","v":0},{"$f":"'Data Feed'!T54","v":0},{"$f":"'Data Feed'!U54","v":0},{"$f":"'Data Feed'!V54","v":0},{"$f":"'Data Feed'!W54","v":0},{"$f":"'Data Feed'!X54","v":0},{"$f":"'Data Feed'!Y54","v":0},{"$f":"'Data Feed'!Z54","v":0},{"$f":"'Data Feed'!AA54","v":0},{"$f":"'Data Feed'!AB54","v":0},{"$f":"'Data Feed'!AC54","v":0},{"$f":"'Data Feed'!AD54","v":0},{"$f":"'Data Feed'!AE54","v":0},{"$f":"'Data Feed'!AF54","v":0},{"$f":"'Data Feed'!AG54","v":0},{"$f":"'Data Feed'!AH54","v":0},{"$f":"'Data Feed'!AI54","v":0}]
[{"$f":"B53&\"_\"&COUNTIF($B$1:B53,B53)","v":"0_50"},{"$f":"'Data Feed'!F55","v":0},{"$f":"'Data Feed'!B55","v":0},{"$f":"'Data Feed'!C55","v":0},{"$f":"'Data Feed'!D55","v":0},{"$f":"'Data Feed'!E55","v":0},{"$f":"'Data Feed'!F55","v":0},{"$f":"'Data Feed'!G55","v":0},{"$f":"'Data Feed'!H55","v":0},{"$f":"'Data Feed'!I55","v":0},{"$f":"'Data Feed'!J55","v":0},{"$f":"'Data Feed'!K55","v":0},{"$f":"'Data Feed'!L55","v":0},{"$f":"'Data Feed'!M55","v":0},{"$f":"'Data Feed'!N55","v":0},{"$f":"'Data Feed'!O55","v":0},{"$f":"'Data Feed'!P55","v":0},{"$f":"'Data Feed'!Q55","v":0},{"$f":"'Data Feed'!R55","v":0},{"$f":"'Data Feed'!S55","v":0},{"$f":"'Data Feed'!T55","v":0},{"$f":"'Data Feed'!U55","v":0},{"$f":"'Data Feed'!V55","v":0},{"$f":"'Data Feed'!W55","v":0},{"$f":"'Data Feed'!X55","v":0},{"$f":"'Data Feed'!Y55","v":0},{"$f":"'Data Feed'!Z55","v":0},{"$f":"'Data Feed'!AA55","v":0},{"$f":"'Data Feed'!AB55","v":0},{"$f":"'Data Feed'!AC55","v":0},{"$f":"'Data Feed'!AD55","v":0},{"$f":"'Data Feed'!AE55","v":0},{"$f":"'Data Feed'!AF55","v":0},{"$f":"'Data Feed'!AG55","v":0},{"$f":"'Data Feed'!AH55","v":0},{"$f":"'Data Feed'!AI55","v":0}]
[{"$f":"B54&\"_\"&COUNTIF($B$1:B54,B54)","v":"0_51"},{"$f":"'Data Feed'!F56","v":0},{"$f":"'Data Feed'!B56","v":0},{"$f":"'Data Feed'!C56","v":0},{"$f":"'Data Feed'!D56","v":0},{"$f":"'Data Feed'!E56","v":0},{"$f":"'Data Feed'!F56","v":0},{"$f":"'Data Feed'!G56","v":0},{"$f":"'Data Feed'!H56","v":0},{"$f":"'Data Feed'!I56","v":0},{"$f":"'Data Feed'!J56","v":0},{"$f":"'Data Feed'!K56","v":0},{"$f":"'Data Feed'!L56","v":0},{"$f":"'Data Feed'!M56","v":0},{"$f":"'Data Feed'!N56","v":0},{"$f":"'Data Feed'!O56","v":0},{"$f":"'Data Feed'!P56","v":0},{"$f":"'Data Feed'!Q56","v":0},{"$f":"'Data Feed'!R56","v":0},{"$f":"'Data Feed'!S56","v":0},{"$f":"'Data Feed'!T56","v":0},{"$f":"'Data Feed'!U56","v":0},{"$f":"'Data Feed'!V56","v":0},{"$f":"'Data Feed'!W56","v":0},{"$f":"'Data Feed'!X56","v":0},{"$f":"'Data Feed'!Y56","v":0},{"$f":"'Data Feed'!Z56","v":0},{"$f":"'Data Feed'!AA56","v":0},{"$f":"'Data Feed'!AB56","v":0},{"$f":"'Data Feed'!AC56","v":0},{"$f":"'Data Feed'!AD56","v":0},{"$f":"'Data Feed'!AE56","v":0},{"$f":"'Data Feed'!AF56","v":0},{"$f":"'Data Feed'!AG56","v":0},{"$f":"'Data Feed'!AH56","v":0},{"$f":"'Data Feed'!AI56","v":0}]
[{"$f":"B55&\"_\"&COUNTIF($B$1:B55,B55)","v":"0_52"},{"$f":"'Data Feed'!F57","v":0},{"$f":"'Data Feed'!B57","v":0},{"$f":"'Data Feed'!C57","v":0},{"$f":"'Data Feed'!D57","v":0},{"$f":"'Data Feed'!E57","v":0},{"$f":"'Data Feed'!F57","v":0},{"$f":"'Data Feed'!G57","v":0},{"$f":"'Data Feed'!H57","v":0},{"$f":"'Data Feed'!I57","v":0},{"$f":"'Data Feed'!J57","v":0},{"$f":"'Data Feed'!K57","v":0},{"$f":"'Data Feed'!L57","v":0},{"$f":"'Data Feed'!M57","v":0},{"$f":"'Data Feed'!N57","v":0},{"$f":"'Data Feed'!O57","v":0},{"$f":"'Data Feed'!P57","v":0},{"$f":"'Data Feed'!Q57","v":0},{"$f":"'Data Feed'!R57","v":0},{"$f":"'Data Feed'!S57","v":0},{"$f":"'Data Feed'!T57","v":0},{"$f":"'Data Feed'!U57","v":0},{"$f":"'Data Feed'!V57","v":0},{"$f":"'Data Feed'!W57","v":0},{"$f":"'Data Feed'!X57","v":0},{"$f":"'Data Feed'!Y57","v":0},{"$f":"'Data Feed'!Z57","v":0},{"$f":"'Data Feed'!AA57","v":0},{"$f":"'Data Feed'!AB57","v":0},{"$f":"'Data Feed'!AC57","v":0},{"$f":"'Data Feed'!AD57","v":0},{"$f":"'Data Feed'!AE57","v":0},{"$f":"'Data Feed'!AF57","v":0},{"$f":"'Data Feed'!AG57","v":0},{"$f":"'Data Feed'!AH57","v":0},{"$f":"'Data Feed'!AI57","v":0}]
[{"$f":"B56&\"_\"&COUNTIF($B$1:B56,B56)","v":"0_53"},{"$f":"'Data Feed'!F58","v":0},{"$f":"'Data Feed'!B58","v":0},{"$f":"'Data Feed'!C58","v":0},{"$f":"'Data Feed'!D58","v":0},{"$f":"'Data Feed'!E58","v":0},{"$f":"'Data Feed'!F58","v":0},{"$f":"'Data Feed'!G58","v":0},{"$f":"'Data Feed'!H58","v":0},{"$f":"'Data Feed'!I58","v":0},{"$f":"'Data Feed'!J58","v":0},{"$f":"'Data Feed'!K58","v":0},{"$f":"'Data Feed'!L58","v":0},{"$f":"'Data Feed'!M58","v":0},{"$f":"'Data Feed'!N58","v":0},{"$f":"'Data Feed'!O58","v":0},{"$f":"'Data Feed'!P58","v":0},{"$f":"'Data Feed'!Q58","v":0},{"$f":"'Data Feed'!R58","v":0},{"$f":"'Data Feed'!S58","v":0},{"$f":"'Data Feed'!T58","v":0},{"$f":"'Data Feed'!U58","v":0},{"$f":"'Data Feed'!V58","v":0},{"$f":"'Data Feed'!W58","v":0},{"$f":"'Data Feed'!X58","v":0},{"$f":"'Data Feed'!Y58","v":0},{"$f":"'Data Feed'!Z58","v":0},{"$f":"'Data Feed'!AA58","v":0},{"$f":"'Data Feed'!AB58","v":0},{"$f":"'Data Feed'!AC58","v":0},{"$f":"'Data Feed'!AD58","v":0},{"$f":"'Data Feed'!AE58","v":0},{"$f":"'Data Feed'!AF58","v":0},{"$f":"'Data Feed'!AG58","v":0},{"$f":"'Data Feed'!AH58","v":0},{"$f":"'Data Feed'!AI58","v":0}]
[{"$f":"B57&\"_\"&COUNTIF($B$1:B57,B57)","v":"0_54"},{"$f":"'Data Feed'!F59","v":0},{"$f":"'Data Feed'!B59","v":0},{"$f":"'Data Feed'!C59","v":0},{"$f":"'Data Feed'!D59","v":0},{"$f":"'Data Feed'!E59","v":0},{"$f":"'Data Feed'!F59","v":0},{"$f":"'Data Feed'!G59","v":0},{"$f":"'Data Feed'!H59","v":0},{"$f":"'Data Feed'!I59","v":0},{"$f":"'Data Feed'!J59","v":0},{"$f":"'Data Feed'!K59","v":0},{"$f":"'Data Feed'!L59","v":0},{"$f":"'Data Feed'!M59","v":0},{"$f":"'Data Feed'!N59","v":0},{"$f":"'Data Feed'!O59","v":0},{"$f":"'Data Feed'!P59","v":0},{"$f":"'Data Feed'!Q59","v":0},{"$f":"'Data Feed'!R59","v":0},{"$f":"'Data Feed'!S59","v":0},{"$f":"'Data Feed'!T59","v":0},{"$f":"'Data Feed'!U59","v":0},{"$f":"'Data Feed'!V59","v":0},{"$f":"'Data Feed'!W59","v":0},{"$f":"'Data Feed'!X59","v":0},{"$f":"'Data Feed'!Y59","v":0},{"$f":"'Data Feed'!Z59","v":0},{"$f":"'Data Feed'!AA59","v":0},{"$f":"'Data Feed'!AB59","v":0},{"$f":"'Data Feed'!AC59","v":0},{"$f":"'Data Feed'!AD59","v":0},{"$f":"'Data Feed'!AE59","v":0},{"$f":"'Data Feed'!AF59","v":0},{"$f":"'Data Feed'!AG59","v":0},{"$f":"'Data Feed'!AH59","v":0},{"$f":"'Data Feed'!AI59","v":0}]
[{"$f":"B58&\"_\"&COUNTIF($B$1:B58,B58)","v":"0_55"},{"$f":"'Data Feed'!F60","v":0},{"$f":"'Data Feed'!B60","v":0},{"$f":"'Data Feed'!C60","v":0},{"$f":"'Data Feed'!D60","v":0},{"$f":"'Data Feed'!E60","v":0},{"$f":"'Data Feed'!F60","v":0},{"$f":"'Data Feed'!G60","v":0},{"$f":"'Data Feed'!H60","v":0},{"$f":"'Data Feed'!I60","v":0},{"$f":"'Data Feed'!J60","v":0},{"$f":"'Data Feed'!K60","v":0},{"$f":"'Data Feed'!L60","v":0},{"$f":"'Data Feed'!M60","v":0},{"$f":"'Data Feed'!N60","v":0},{"$f":"'Data Feed'!O60","v":0},{"$f":"'Data Feed'!P60","v":0},{"$f":"'Data Feed'!Q60","v":0},{"$f":"'Data Feed'!R60","v":0},{"$f":"'Data Feed'!S60","v":0},{"$f":"'Data Feed'!T60","v":0},{"$f":"'Data Feed'!U60","v":0},{"$f":"'Data Feed'!V60","v":0},{"$f":"'Data Feed'!W60","v":0},{"$f":"'Data Feed'!X60","v":0},{"$f":"'Data Feed'!Y60","v":0},{"$f":"'Data Feed'!Z60","v":0},{"$f":"'Data Feed'!AA60","v":0},{"$f":"'Data Feed'!AB60","v":0},{"$f":"'Data Feed'!AC60","v":0},{"$f":"'Data Feed'!AD60","v":0},{"$f":"'Data Feed'!AE60","v":0},{"$f":"'Data Feed'!AF60","v":0},{"$f":"'Data Feed'!AG60","v":0},{"$f":"'Data Feed'!AH60","v":0},{"$f":"'Data Feed'!AI60","v":0}]
[{"$f":"B59&\"_\"&COUNTIF($B$1:B59,B59)","v":"0_56"},{"$f":"'Data Feed'!F61","v":0},{"$f":"'Data Feed'!B61","v":0},{"$f":"'Data Feed'!C61","v":0},{"$f":"'Data Feed'!D61","v":0},{"$f":"'Data Feed'!E61","v":0},{"$f":"'Data Feed'!F61","v":0},{"$f":"'Data Feed'!G61","v":0},{"$f":"'Data Feed'!H61","v":0},{"$f":"'Data Feed'!I61","v":0},{"$f":"'Data Feed'!J61","v":0},{"$f":"'Data Feed'!K61","v":0},{"$f":"'Data Feed'!L61","v":0},{"$f":"'Data Feed'!M61","v":0},{"$f":"'Data Feed'!N61","v":0},{"$f":"'Data Feed'!O61","v":0},{"$f":"'Data Feed'!P61","v":0},{"$f":"'Data Feed'!Q61","v":0},{"$f":"'Data Feed'!R61","v":0},{"$f":"'Data Feed'!S61","v":0},{"$f":"'Data Feed'!T61","v":0},{"$f":"'Data Feed'!U61","v":0},{"$f":"'Data Feed'!V61","v":0},{"$f":"'Data Feed'!W61","v":0},{"$f":"'Data Feed'!X61","v":0},{"$f":"'Data Feed'!Y61","v":0},{"$f":"'Data Feed'!Z61","v":0},{"$f":"'Data Feed'!AA61","v":0},{"$f":"'Data Feed'!AB61","v":0},{"$f":"'Data Feed'!AC61","v":0},{"$f":"'Data Feed'!AD61","v":0},{"$f":"'Data Feed'!AE61","v":0},{"$f":"'Data Feed'!AF61","v":0},{"$f":"'Data Feed'!AG61","v":0},{"$f":"'Data Feed'!AH61","v":0},{"$f":"'Data Feed'!AI61","v":0}]
[{"$f":"B60&\"_\"&COUNTIF($B$1:B60,B60)","v":"0_57"},{"$f":"'Data Feed'!F62","v":0},{"$f":"'Data Feed'!B62","v":0},{"$f":"'Data Feed'!C62","v":0},{"$f":"'Data Feed'!D62","v":0},{"$f":"'Data Feed'!E62","v":0},{"$f":"'Data Feed'!F62","v":0},{"$f":"'Data Feed'!G62","v":0},{"$f":"'Data Feed'!H62","v":0},{"$f":"'Data Feed'!I62","v":0},{"$f":"'Data Feed'!J62","v":0},{"$f":"'Data Feed'!K62","v":0},{"$f":"'Data Feed'!L62","v":0},{"$f":"'Data Feed'!M62","v":0},{"$f":"'Data Feed'!N62","v":0},{"$f":"'Data Feed'!O62","v":0},{"$f":"'Data Feed'!P62","v":0},{"$f":"'Data Feed'!Q62","v":0},{"$f":"'Data Feed'!R62","v":0},{"$f":"'Data Feed'!S62","v":0},{"$f":"'Data Feed'!T62","v":0},{"$f":"'Data Feed'!U62","v":0},{"$f":"'Data Feed'!V62","v":0},{"$f":"'Data Feed'!W62","v":0},{"$f":"'Data Feed'!X62","v":0},{"$f":"'Data Feed'!Y62","v":0},{"$f":"'Data Feed'!Z62","v":0},{"$f":"'Data Feed'!AA62","v":0},{"$f":"'Data Feed'!AB62","v":0},{"$f":"'Data Feed'!AC62","v":0},{"$f":"'Data Feed'!AD62","v":0},{"$f":"'Data Feed'!AE62","v":0},{"$f":"'Data Feed'!AF62","v":0},{"$f":"'Data Feed'!AG62","v":0},{"$f":"'Data Feed'!AH62","v":0},{"$f":"'Data Feed'!AI62","v":0}]
[{"$f":"B61&\"_\"&COUNTIF($B$1:B61,B61)","v":"0_58"},{"$f":"'Data Feed'!F63","v":0},{"$f":"'Data Feed'!B63","v":0},{"$f":"'Data Feed'!C63","v":0},{"$f":"'Data Feed'!D63","v":0},{"$f":"'Data Feed'!E63","v":0},{"$f":"'Data Feed'!F63","v":0},{"$f":"'Data Feed'!G63","v":0},{"$f":"'Data Feed'!H63","v":0},{"$f":"'Data Feed'!I63","v":0},{"$f":"'Data Feed'!J63","v":0},{"$f":"'Data Feed'!K63","v":0},{"$f":"'Data Feed'!L63","v":0},{"$f":"'Data Feed'!M63","v":0},{"$f":"'Data Feed'!N63","v":0},{"$f":"'Data Feed'!O63","v":0},{"$f":"'Data Feed'!P63","v":0},{"$f":"'Data Feed'!Q63","v":0},{"$f":"'Data Feed'!R63","v":0},{"$f":"'Data Feed'!S63","v":0},{"$f":"'Data Feed'!T63","v":0},{"$f":"'Data Feed'!U63","v":0},{"$f":"'Data Feed'!V63","v":0},{"$f":"'Data Feed'!W63","v":0},{"$f":"'Data Feed'!X63","v":0},{"$f":"'Data Feed'!Y63","v":0},{"$f":"'Data Feed'!Z63","v":0},{"$f":"'Data Feed'!AA63","v":0},{"$f":"'Data Feed'!AB63","v":0},{"$f":"'Data Feed'!AC63","v":0},{"$f":"'Data Feed'!AD63","v":0},{"$f":"'Data Feed'!AE63","v":0},{"$f":"'Data Feed'!AF63","v":0},{"$f":"'Data Feed'!AG63","v":0},{"$f":"'Data Feed'!AH63","v":0},{"$f":"'Data Feed'!AI63","v":0}]
[{"$f":"B62&\"_\"&COUNTIF($B$1:B62,B62)","v":"0_59"},{"$f":"'Data Feed'!F64","v":0},{"$f":"'Data Feed'!B64","v":0},{"$f":"'Data Feed'!C64","v":0},{"$f":"'Data Feed'!D64","v":0},{"$f":"'Data Feed'!E64","v":0},{"$f":"'Data Feed'!F64","v":0},{"$f":"'Data Feed'!G64","v":0},{"$f":"'Data Feed'!H64","v":0},{"$f":"'Data Feed'!I64","v":0},{"$f":"'Data Feed'!J64","v":0},{"$f":"'Data Feed'!K64","v":0},{"$f":"'Data Feed'!L64","v":0},{"$f":"'Data Feed'!M64","v":0},{"$f":"'Data Feed'!N64","v":0},{"$f":"'Data Feed'!O64","v":0},{"$f":"'Data Feed'!P64","v":0},{"$f":"'Data Feed'!Q64","v":0},{"$f":"'Data Feed'!R64","v":0},{"$f":"'Data Feed'!S64","v":0},{"$f":"'Data Feed'!T64","v":0},{"$f":"'Data Feed'!U64","v":0},{"$f":"'Data Feed'!V64","v":0},{"$f":"'Data Feed'!W64","v":0},{"$f":"'Data Feed'!X64","v":0},{"$f":"'Data Feed'!Y64","v":0},{"$f":"'Data Feed'!Z64","v":0},{"$f":"'Data Feed'!AA64","v":0},{"$f":"'Data Feed'!AB64","v":0},{"$f":"'Data Feed'!AC64","v":0},{"$f":"'Data Feed'!AD64","v":0},{"$f":"'Data Feed'!AE64","v":0},{"$f":"'Data Feed'!AF64","v":0},{"$f":"'Data Feed'!AG64","v":0},{"$f":"'Data Feed'!AH64","v":0},{"$f":"'Data Feed'!AI64","v":0}]
[{"$f":"B63&\"_\"&COUNTIF($B$1:B63,B63)","v":"0_60"},{"$f":"'Data Feed'!F65","v":0},{"$f":"'Data Feed'!B65","v":0},{"$f":"'Data Feed'!C65","v":0},{"$f":"'Data Feed'!D65","v":0},{"$f":"'Data Feed'!E65","v":0},{"$f":"'Data Feed'!F65","v":0},{"$f":"'Data Feed'!G65","v":0},{"$f":"'Data Feed'!H65","v":0},{"$f":"'Data Feed'!I65","v":0},{"$f":"'Data Feed'!J65","v":0},{"$f":"'Data Feed'!K65","v":0},{"$f":"'Data Feed'!L65","v":0},{"$f":"'Data Feed'!M65","v":0},{"$f":"'Data Feed'!N65","v":0},{"$f":"'Data Feed'!O65","v":0},{"$f":"'Data Feed'!P65","v":0},{"$f":"'Data Feed'!Q65","v":0},{"$f":"'Data Feed'!R65","v":0},{"$f":"'Data Feed'!S65","v":0},{"$f":"'Data Feed'!T65","v":0},{"$f":"'Data Feed'!U65","v":0},{"$f":"'Data Feed'!V65","v":0},{"$f":"'Data Feed'!W65","v":0},{"$f":"'Data Feed'!X65","v":0},{"$f":"'Data Feed'!Y65","v":0},{"$f":"'Data Feed'!Z65","v":0},{"$f":"'Data Feed'!AA65","v":0},{"$f":"'Data Feed'!AB65","v":0},{"$f":"'Data Feed'!AC65","v":0},{"$f":"'Data Feed'!AD65","v":0},{"$f":"'Data Feed'!AE65","v":0},{"$f":"'Data Feed'!AF65","v":0},{"$f":"'Data Feed'!AG65","v":0},{"$f":"'Data Feed'!AH65","v":0},{"$f":"'Data Feed'!AI65","v":0}]
[{"$f":"B64&\"_\"&COUNTIF($B$1:B64,B64)","v":"0_61"},{"$f":"'Data Feed'!F66","v":0},{"$f":"'Data Feed'!B66","v":0},{"$f":"'Data Feed'!C66","v":0},{"$f":"'Data Feed'!D66","v":0},{"$f":"'Data Feed'!E66","v":0},{"$f":"'Data Feed'!F66","v":0},{"$f":"'Data Feed'!G66","v":0},{"$f":"'Data Feed'!H66","v":0},{"$f":"'Data Feed'!I66","v":0},{"$f":"'Data Feed'!J66","v":0},{"$f":"'Data Feed'!K66","v":0},{"$f":"'Data Feed'!L66","v":0},{"$f":"'Data Feed'!M66","v":0},{"$f":"'Data Feed'!N66","v":0},{"$f":"'Data Feed'!O66","v":0},{"$f":"'Data Feed'!P66","v":0},{"$f":"'Data Feed'!Q66","v":0},{"$f":"'Data Feed'!R66","v":0},{"$f":"'Data Feed'!S66","v":0},{"$f":"'Data Feed'!T66","v":0},{"$f":"'Data Feed'!U66","v":0},{"$f":"'Data Feed'!V66","v":0},{"$f":"'Data Feed'!W66","v":0},{"$f":"'Data Feed'!X66","v":0},{"$f":"'Data Feed'!Y66","v":0},{"$f":"'Data Feed'!Z66","v":0},{"$f":"'Data Feed'!AA66","v":0},{"$f":"'Data Feed'!AB66","v":0},{"$f":"'Data Feed'!AC66","v":0},{"$f":"'Data Feed'!AD66","v":0},{"$f":"'Data Feed'!AE66","v":0},{"$f":"'Data Feed'!AF66","v":0},{"$f":"'Data Feed'!AG66","v":0},{"$f":"'Data Feed'!AH66","v":0},{"$f":"'Data Feed'!AI66","v":0}]
[{"$f":"B65&\"_\"&COUNTIF($B$1:B65,B65)","v":"0_62"},{"$f":"'Data Feed'!F67","v":0},{"$f":"'Data Feed'!B67","v":0},{"$f":"'Data Feed'!C67","v":0},{"$f":"'Data Feed'!D67","v":0},{"$f":"'Data Feed'!E67","v":0},{"$f":"'Data Feed'!F67","v":0},{"$f":"'Data Feed'!G67","v":0},{"$f":"'Data Feed'!H67","v":0},{"$f":"'Data Feed'!I67","v":0},{"$f":"'Data Feed'!J67","v":0},{"$f":"'Data Feed'!K67","v":0},{"$f":"'Data Feed'!L67","v":0},{"$f":"'Data Feed'!M67","v":0},{"$f":"'Data Feed'!N67","v":0},{"$f":"'Data Feed'!O67","v":0},{"$f":"'Data Feed'!P67","v":0},{"$f":"'Data Feed'!Q67","v":0},{"$f":"'Data Feed'!R67","v":0},{"$f":"'Data Feed'!S67","v":0},{"$f":"'Data Feed'!T67","v":0},{"$f":"'Data Feed'!U67","v":0},{"$f":"'Data Feed'!V67","v":0},{"$f":"'Data Feed'!W67","v":0},{"$f":"'Data Feed'!X67","v":0},{"$f":"'Data Feed'!Y67","v":0},{"$f":"'Data Feed'!Z67","v":0},{"$f":"'Data Feed'!AA67","v":0},{"$f":"'Data Feed'!AB67","v":0},{"$f":"'Data Feed'!AC67","v":0},{"$f":"'Data Feed'!AD67","v":0},{"$f":"'Data Feed'!AE67","v":0},{"$f":"'Data Feed'!AF67","v":0},{"$f":"'Data Feed'!AG67","v":0},{"$f":"'Data Feed'!AH67","v":0},{"$f":"'Data Feed'!AI67","v":0}]
[{"$f":"B66&\"_\"&COUNTIF($B$1:B66,B66)","v":"0_63"},{"$f":"'Data Feed'!F68","v":0},{"$f":"'Data Feed'!B68","v":0},{"$f":"'Data Feed'!C68","v":0},{"$f":"'Data Feed'!D68","v":0},{"$f":"'Data Feed'!E68","v":0},{"$f":"'Data Feed'!F68","v":0},{"$f":"'Data Feed'!G68","v":0},{"$f":"'Data Feed'!H68","v":0},{"$f":"'Data Feed'!I68","v":0},{"$f":"'Data Feed'!J68","v":0},{"$f":"'Data Feed'!K68","v":0},{"$f":"'Data Feed'!L68","v":0},{"$f":"'Data Feed'!M68","v":0},{"$f":"'Data Feed'!N68","v":0},{"$f":"'Data Feed'!O68","v":0},{"$f":"'Data Feed'!P68","v":0},{"$f":"'Data Feed'!Q68","v":0},{"$f":"'Data Feed'!R68","v":0},{"$f":"'Data Feed'!S68","v":0},{"$f":"'Data Feed'!T68","v":0},{"$f":"'Data Feed'!U68","v":0},{"$f":"'Data Feed'!V68","v":0},{"$f":"'Data Feed'!W68","v":0},{"$f":"'Data Feed'!X68","v":0},{"$f":"'Data Feed'!Y68","v":0},{"$f":"'Data Feed'!Z68","v":0},{"$f":"'Data Feed'!AA68","v":0},{"$f":"'Data Feed'!AB68","v":0},{"$f":"'Data Feed'!AC68","v":0},{"$f":"'Data Feed'!AD68","v":0},{"$f":"'Data Feed'!AE68","v":0},{"$f":"'Data Feed'!AF68","v":0},{"$f":"'Data Feed'!AG68","v":0},{"$f":"'Data Feed'!AH68","v":0},{"$f":"'Data Feed'!AI68","v":0}]
[{"$f":"B67&\"_\"&COUNTIF($B$1:B67,B67)","v":"0_64"},{"$f":"'Data Feed'!F69","v":0},{"$f":"'Data Feed'!B69","v":0},{"$f":"'Data Feed'!C69","v":0},{"$f":"'Data Feed'!D69","v":0},{"$f":"'Data Feed'!E69","v":0},{"$f":"'Data Feed'!F69","v":0},{"$f":"'Data Feed'!G69","v":0},{"$f":"'Data Feed'!H69","v":0},{"$f":"'Data Feed'!I69","v":0},{"$f":"'Data Feed'!J69","v":0},{"$f":"'Data Feed'!K69","v":0},{"$f":"'Data Feed'!L69","v":0},{"$f":"'Data Feed'!M69","v":0},{"$f":"'Data Feed'!N69","v":0},{"$f":"'Data Feed'!O69","v":0},{"$f":"'Data Feed'!P69","v":0},{"$f":"'Data Feed'!Q69","v":0},{"$f":"'Data Feed'!R69","v":0},{"$f":"'Data Feed'!S69","v":0},{"$f":"'Data Feed'!T69","v":0},{"$f":"'Data Feed'!U69","v":0},{"$f":"'Data Feed'!V69","v":0},{"$f":"'Data Feed'!W69","v":0},{"$f":"'Data Feed'!X69","v":0},{"$f":"'Data Feed'!Y69","v":0},{"$f":"'Data Feed'!Z69","v":0},{"$f":"'Data Feed'!AA69","v":0},{"$f":"'Data Feed'!AB69","v":0},{"$f":"'Data Feed'!AC69","v":0},{"$f":"'Data Feed'!AD69","v":0},{"$f":"'Data Feed'!AE69","v":0},{"$f":"'Data Feed'!AF69","v":0},{"$f":"'Data Feed'!AG69","v":0},{"$f":"'Data Feed'!AH69","v":0},{"$f":"'Data Feed'!AI69","v":0}]
[{"$f":"B68&\"_\"&COUNTIF($B$1:B68,B68)","v":"0_65"},{"$f":"'Data Feed'!F70","v":0},{"$f":"'Data Feed'!B70","v":0},{"$f":"'Data Feed'!C70","v":0},{"$f":"'Data Feed'!D70","v":0},{"$f":"'Data Feed'!E70","v":0},{"$f":"'Data Feed'!F70","v":0},{"$f":"'Data Feed'!G70","v":0},{"$f":"'Data Feed'!H70","v":0},{"$f":"'Data Feed'!I70","v":0},{"$f":"'Data Feed'!J70","v":0},{"$f":"'Data Feed'!K70","v":0},{"$f":"'Data Feed'!L70","v":0},{"$f":"'Data Feed'!M70","v":0},{"$f":"'Data Feed'!N70","v":0},{"$f":"'Data Feed'!O70","v":0},{"$f":"'Data Feed'!P70","v":0},{"$f":"'Data Feed'!Q70","v":0},{"$f":"'Data Feed'!R70","v":0},{"$f":"'Data Feed'!S70","v":0},{"$f":"'Data Feed'!T70","v":0},{"$f":"'Data Feed'!U70","v":0},{"$f":"'Data Feed'!V70","v":0},{"$f":"'Data Feed'!W70","v":0},{"$f":"'Data Feed'!X70","v":0},{"$f":"'Data Feed'!Y70","v":0},{"$f":"'Data Feed'!Z70","v":0},{"$f":"'Data Feed'!AA70","v":0},{"$f":"'Data Feed'!AB70","v":0},{"$f":"'Data Feed'!AC70","v":0},{"$f":"'Data Feed'!AD70","v":0},{"$f":"'Data Feed'!AE70","v":0},{"$f":"'Data Feed'!AF70","v":0},{"$f":"'Data Feed'!AG70","v":0},{"$f":"'Data Feed'!AH70","v":0},{"$f":"'Data Feed'!AI70","v":0}]
[{"$f":"B69&\"_\"&COUNTIF($B$1:B69,B69)","v":"0_66"},{"$f":"'Data Feed'!F71","v":0},{"$f":"'Data Feed'!B71","v":0},{"$f":"'Data Feed'!C71","v":0},{"$f":"'Data Feed'!D71","v":0},{"$f":"'Data Feed'!E71","v":0},{"$f":"'Data Feed'!F71","v":0},{"$f":"'Data Feed'!G71","v":0},{"$f":"'Data Feed'!H71","v":0},{"$f":"'Data Feed'!I71","v":0},{"$f":"'Data Feed'!J71","v":0},{"$f":"'Data Feed'!K71","v":0},{"$f":"'Data Feed'!L71","v":0},{"$f":"'Data Feed'!M71","v":0},{"$f":"'Data Feed'!N71","v":0},{"$f":"'Data Feed'!O71","v":0},{"$f":"'Data Feed'!P71","v":0},{"$f":"'Data Feed'!Q71","v":0},{"$f":"'Data Feed'!R71","v":0},{"$f":"'Data Feed'!S71","v":0},{"$f":"'Data Feed'!T71","v":0},{"$f":"'Data Feed'!U71","v":0},{"$f":"'Data Feed'!V71","v":0},{"$f":"'Data Feed'!W71","v":0},{"$f":"'Data Feed'!X71","v":0},{"$f":"'Data Feed'!Y71","v":0},{"$f":"'Data Feed'!Z71","v":0},{"$f":"'Data Feed'!AA71","v":0},{"$f":"'Data Feed'!AB71","v":0},{"$f":"'Data Feed'!AC71","v":0},{"$f":"'Data Feed'!AD71","v":0},{"$f":"'Data Feed'!AE71","v":0},{"$f":"'Data Feed'!AF71","v":0},{"$f":"'Data Feed'!AG71","v":0},{"$f":"'Data Feed'!AH71","v":0},{"$f":"'Data Feed'!AI71","v":0}]
[{"$f":"B70&\"_\"&COUNTIF($B$1:B70,B70)","v":"0_67"},{"$f":"'Data Feed'!F72","v":0},{"$f":"'Data Feed'!B72","v":0},{"$f":"'Data Feed'!C72","v":0},{"$f":"'Data Feed'!D72","v":0},{"$f":"'Data Feed'!E72","v":0},{"$f":"'Data Feed'!F72","v":0},{"$f":"'Data Feed'!G72","v":0},{"$f":"'Data Feed'!H72","v":0},{"$f":"'Data Feed'!I72","v":0},{"$f":"'Data Feed'!J72","v":0},{"$f":"'Data Feed'!K72","v":0},{"$f":"'Data Feed'!L72","v":0},{"$f":"'Data Feed'!M72","v":0},{"$f":"'Data Feed'!N72","v":0},{"$f":"'Data Feed'!O72","v":0},{"$f":"'Data Feed'!P72","v":0},{"$f":"'Data Feed'!Q72","v":0},{"$f":"'Data Feed'!R72","v":0},{"$f":"'Data Feed'!S72","v":0},{"$f":"'Data Feed'!T72","v":0},{"$f":"'Data Feed'!U72","v":0},{"$f":"'Data Feed'!V72","v":0},{"$f":"'Data Feed'!W72","v":0},{"$f":"'Data Feed'!X72","v":0},{"$f":"'Data Feed'!Y72","v":0},{"$f":"'Data Feed'!Z72","v":0},{"$f":"'Data Feed'!AA72","v":0},{"$f":"'Data Feed'!AB72","v":0},{"$f":"'Data Feed'!AC72","v":0},{"$f":"'Data Feed'!AD72","v":0},{"$f":"'Data Feed'!AE72","v":0},{"$f":"'Data Feed'!AF72","v":0},{"$f":"'Data Feed'!AG72","v":0},{"$f":"'Data Feed'!AH72","v":0},{"$f":"'Data Feed'!AI72","v":0}]
[{"$f":"B71&\"_\"&COUNTIF($B$1:B71,B71)","v":"0_68"},{"$f":"'Data Feed'!F73","v":0},{"$f":"'Data Feed'!B73","v":0},{"$f":"'Data Feed'!C73","v":0},{"$f":"'Data Feed'!D73","v":0},{"$f":"'Data Feed'!E73","v":0},{"$f":"'Data Feed'!F73","v":0},{"$f":"'Data Feed'!G73","v":0},{"$f":"'Data Feed'!H73","v":0},{"$f":"'Data Feed'!I73","v":0},{"$f":"'Data Feed'!J73","v":0},{"$f":"'Data Feed'!K73","v":0},{"$f":"'Data Feed'!L73","v":0},{"$f":"'Data Feed'!M73","v":0},{"$f":"'Data Feed'!N73","v":0},{"$f":"'Data Feed'!O73","v":0},{"$f":"'Data Feed'!P73","v":0},{"$f":"'Data Feed'!Q73","v":0},{"$f":"'Data Feed'!R73","v":0},{"$f":"'Data Feed'!S73","v":0},{"$f":"'Data Feed'!T73","v":0},{"$f":"'Data Feed'!U73","v":0},{"$f":"'Data Feed'!V73","v":0},{"$f":"'Data Feed'!W73","v":0},{"$f":"'Data Feed'!X73","v":0},{"$f":"'Data Feed'!Y73","v":0},{"$f":"'Data Feed'!Z73","v":0},{"$f":"'Data Feed'!AA73","v":0},{"$f":"'Data Feed'!AB73","v":0},{"$f":"'Data Feed'!AC73","v":0},{"$f":"'Data Feed'!AD73","v":0},{"$f":"'Data Feed'!AE73","v":0},{"$f":"'Data Feed'!AF73","v":0},{"$f":"'Data Feed'!AG73","v":0},{"$f":"'Data Feed'!AH73","v":0},{"$f":"'Data Feed'!AI73","v":0}]
[{"$f":"B72&\"_\"&COUNTIF($B$1:B72,B72)","v":"0_69"},{"$f":"'Data Feed'!F74","v":0},{"$f":"'Data Feed'!B74","v":0},{"$f":"'Data Feed'!C74","v":0},{"$f":"'Data Feed'!D74","v":0},{"$f":"'Data Feed'!E74","v":0},{"$f":"'Data Feed'!F74","v":0},{"$f":"'Data Feed'!G74","v":0},{"$f":"'Data Feed'!H74","v":0},{"$f":"'Data Feed'!I74","v":0},{"$f":"'Data Feed'!J74","v":0},{"$f":"'Data Feed'!K74","v":0},{"$f":"'Data Feed'!L74","v":0},{"$f":"'Data Feed'!M74","v":0},{"$f":"'Data Feed'!N74","v":0},{"$f":"'Data Feed'!O74","v":0},{"$f":"'Data Feed'!P74","v":0},{"$f":"'Data Feed'!Q74","v":0},{"$f":"'Data Feed'!R74","v":0},{"$f":"'Data Feed'!S74","v":0},{"$f":"'Data Feed'!T74","v":0},{"$f":"'Data Feed'!U74","v":0},{"$f":"'Data Feed'!V74","v":0},{"$f":"'Data Feed'!W74","v":0},{"$f":"'Data Feed'!X74","v":0},{"$f":"'Data Feed'!Y74","v":0},{"$f":"'Data Feed'!Z74","v":0},{"$f":"'Data Feed'!AA74","v":0},{"$f":"'Data Feed'!AB74","v":0},{"$f":"'Data Feed'!AC74","v":0},{"$f":"'Data Feed'!AD74","v":0},{"$f":"'Data Feed'!AE74","v":0},{"$f":"'Data Feed'!AF74","v":0},{"$f":"'Data Feed'!AG74","v":0},{"$f":"'Data Feed'!AH74","v":0},{"$f":"'Data Feed'!AI74","v":0}]
[{"$f":"B73&\"_\"&COUNTIF($B$1:B73,B73)","v":"0_70"},{"$f":"'Data Feed'!F75","v":0},{"$f":"'Data Feed'!B75","v":0},{"$f":"'Data Feed'!C75","v":0},{"$f":"'Data Feed'!D75","v":0},{"$f":"'Data Feed'!E75","v":0},{"$f":"'Data Feed'!F75","v":0},{"$f":"'Data Feed'!G75","v":0},{"$f":"'Data Feed'!H75","v":0},{"$f":"'Data Feed'!I75","v":0},{"$f":"'Data Feed'!J75","v":0},{"$f":"'Data Feed'!K75","v":0},{"$f":"'Data Feed'!L75","v":0},{"$f":"'Data Feed'!M75","v":0},{"$f":"'Data Feed'!N75","v":0},{"$f":"'Data Feed'!O75","v":0},{"$f":"'Data Feed'!P75","v":0},{"$f":"'Data Feed'!Q75","v":0},{"$f":"'Data Feed'!R75","v":0},{"$f":"'Data Feed'!S75","v":0},{"$f":"'Data Feed'!T75","v":0},{"$f":"'Data Feed'!U75","v":0},{"$f":"'Data Feed'!V75","v":0},{"$f":"'Data Feed'!W75","v":0},{"$f":"'Data Feed'!X75","v":0},{"$f":"'Data Feed'!Y75","v":0},{"$f":"'Data Feed'!Z75","v":0},{"$f":"'Data Feed'!AA75","v":0},{"$f":"'Data Feed'!AB75","v":0},{"$f":"'Data Feed'!AC75","v":0},{"$f":"'Data Feed'!AD75","v":0},{"$f":"'Data Feed'!AE75","v":0},{"$f":"'Data Feed'!AF75","v":0},{"$f":"'Data Feed'!AG75","v":0},{"$f":"'Data Feed'!AH75","v":0},{"$f":"'Data Feed'!AI75","v":0}]
[{"$f":"B74&\"_\"&COUNTIF($B$1:B74,B74)","v":"0_71"},{"$f":"'Data Feed'!F76","v":0},{"$f":"'Data Feed'!B76","v":0},{"$f":"'Data Feed'!C76","v":0},{"$f":"'Data Feed'!D76","v":0},{"$f":"'Data Feed'!E76","v":0},{"$f":"'Data Feed'!F76","v":0},{"$f":"'Data Feed'!G76","v":0},{"$f":"'Data Feed'!H76","v":0},{"$f":"'Data Feed'!I76","v":0},{"$f":"'Data Feed'!J76","v":0},{"$f":"'Data Feed'!K76","v":0},{"$f":"'Data Feed'!L76","v":0},{"$f":"'Data Feed'!M76","v":0},{"$f":"'Data Feed'!N76","v":0},{"$f":"'Data Feed'!O76","v":0},{"$f":"'Data Feed'!P76","v":0},{"$f":"'Data Feed'!Q76","v":0},{"$f":"'Data Feed'!R76","v":0},{"$f":"'Data Feed'!S76","v":0},{"$f":"'Data Feed'!T76","v":0},{"$f":"'Data Feed'!U76","v":0},{"$f":"'Data Feed'!V76","v":0},{"$f":"'Data Feed'!W76","v":0},{"$f":"'Data Feed'!X76","v":0},{"$f":"'Data Feed'!Y76","v":0},{"$f":"'Data Feed'!Z76","v":0},{"$f":"'Data Feed'!AA76","v":0},{"$f":"'Data Feed'!AB76","v":0},{"$f":"'Data Feed'!AC76","v":0},{"$f":"'Data Feed'!AD76","v":0},{"$f":"'Data Feed'!AE76","v":0},{"$f":"'Data Feed'!AF76","v":0},{"$f":"'Data Feed'!AG76","v":0},{"$f":"'Data Feed'!AH76","v":0},{"$f":"'Data Feed'!AI76","v":0}]
[{"$f":"B75&\"_\"&COUNTIF($B$1:B75,B75)","v":"0_72"},{"$f":"'Data Feed'!F77","v":0},{"$f":"'Data Feed'!B77","v":0},{"$f":"'Data Feed'!C77","v":0},{"$f":"'Data Feed'!D77","v":0},{"$f":"'Data Feed'!E77","v":0},{"$f":"'Data Feed'!F77","v":0},{"$f":"'Data Feed'!G77","v":0},{"$f":"'Data Feed'!H77","v":0},{"$f":"'Data Feed'!I77","v":0},{"$f":"'Data Feed'!J77","v":0},{"$f":"'Data Feed'!K77","v":0},{"$f":"'Data Feed'!L77","v":0},{"$f":"'Data Feed'!M77","v":0},{"$f":"'Data Feed'!N77","v":0},{"$f":"'Data Feed'!O77","v":0},{"$f":"'Data Feed'!P77","v":0},{"$f":"'Data Feed'!Q77","v":0},{"$f":"'Data Feed'!R77","v":0},{"$f":"'Data Feed'!S77","v":0},{"$f":"'Data Feed'!T77","v":0},{"$f":"'Data Feed'!U77","v":0},{"$f":"'Data Feed'!V77","v":0},{"$f":"'Data Feed'!W77","v":0},{"$f":"'Data Feed'!X77","v":0},{"$f":"'Data Feed'!Y77","v":0},{"$f":"'Data Feed'!Z77","v":0},{"$f":"'Data Feed'!AA77","v":0},{"$f":"'Data Feed'!AB77","v":0},{"$f":"'Data Feed'!AC77","v":0},{"$f":"'Data Feed'!AD77","v":0},{"$f":"'Data Feed'!AE77","v":0},{"$f":"'Data Feed'!AF77","v":0},{"$f":"'Data Feed'!AG77","v":0},{"$f":"'Data Feed'!AH77","v":0},{"$f":"'Data Feed'!AI77","v":0}]
[{"$f":"B76&\"_\"&COUNTIF($B$1:B76,B76)","v":"0_73"},{"$f":"'Data Feed'!F78","v":0},{"$f":"'Data Feed'!B78","v":0},{"$f":"'Data Feed'!C78","v":0},{"$f":"'Data Feed'!D78","v":0},{"$f":"'Data Feed'!E78","v":0},{"$f":"'Data Feed'!F78","v":0},{"$f":"'Data Feed'!G78","v":0},{"$f":"'Data Feed'!H78","v":0},{"$f":"'Data Feed'!I78","v":0},{"$f":"'Data Feed'!J78","v":0},{"$f":"'Data Feed'!K78","v":0},{"$f":"'Data Feed'!L78","v":0},{"$f":"'Data Feed'!M78","v":0},{"$f":"'Data Feed'!N78","v":0},{"$f":"'Data Feed'!O78","v":0},{"$f":"'Data Feed'!P78","v":0},{"$f":"'Data Feed'!Q78","v":0},{"$f":"'Data Feed'!R78","v":0},{"$f":"'Data Feed'!S78","v":0},{"$f":"'Data Feed'!T78","v":0},{"$f":"'Data Feed'!U78","v":0},{"$f":"'Data Feed'!V78","v":0},{"$f":"'Data Feed'!W78","v":0},{"$f":"'Data Feed'!X78","v":0},{"$f":"'Data Feed'!Y78","v":0},{"$f":"'Data Feed'!Z78","v":0},{"$f":"'Data Feed'!AA78","v":0},{"$f":"'Data Feed'!AB78","v":0},{"$f":"'Data Feed'!AC78","v":0},{"$f":"'Data Feed'!AD78","v":0},{"$f":"'Data Feed'!AE78","v":0},{"$f":"'Data Feed'!AF78","v":0},{"$f":"'Data Feed'!AG78","v":0},{"$f":"'Data Feed'!AH78","v":0},{"$f":"'Data Feed'!AI78","v":0}]
[{"$f":"B77&\"_\"&COUNTIF($B$1:B77,B77)","v":"0_74"},{"$f":"'Data Feed'!F79","v":0},{"$f":"'Data Feed'!B79","v":0},{"$f":"'Data Feed'!C79","v":0},{"$f":"'Data Feed'!D79","v":0},{"$f":"'Data Feed'!E79","v":0},{"$f":"'Data Feed'!F79","v":0},{"$f":"'Data Feed'!G79","v":0},{"$f":"'Data Feed'!H79","v":0},{"$f":"'Data Feed'!I79","v":0},{"$f":"'Data Feed'!J79","v":0},{"$f":"'Data Feed'!K79","v":0},{"$f":"'Data Feed'!L79","v":0},{"$f":"'Data Feed'!M79","v":0},{"$f":"'Data Feed'!N79","v":0},{"$f":"'Data Feed'!O79","v":0},{"$f":"'Data Feed'!P79","v":0},{"$f":"'Data Feed'!Q79","v":0},{"$f":"'Data Feed'!R79","v":0},{"$f":"'Data Feed'!S79","v":0},{"$f":"'Data Feed'!T79","v":0},{"$f":"'Data Feed'!U79","v":0},{"$f":"'Data Feed'!V79","v":0},{"$f":"'Data Feed'!W79","v":0},{"$f":"'Data Feed'!X79","v":0},{"$f":"'Data Feed'!Y79","v":0},{"$f":"'Data Feed'!Z79","v":0},{"$f":"'Data Feed'!AA79","v":0},{"$f":"'Data Feed'!AB79","v":0},{"$f":"'Data Feed'!AC79","v":0},{"$f":"'Data Feed'!AD79","v":0},{"$f":"'Data Feed'!AE79","v":0},{"$f":"'Data Feed'!AF79","v":0},{"$f":"'Data Feed'!AG79","v":0},{"$f":"'Data Feed'!AH79","v":0},{"$f":"'Data Feed'!AI79","v":0}]
[{"$f":"B78&\"_\"&COUNTIF($B$1:B78,B78)","v":"0_75"},{"$f":"'Data Feed'!F80","v":0},{"$f":"'Data Feed'!B80","v":0},{"$f":"'Data Feed'!C80","v":0},{"$f":"'Data Feed'!D80","v":0},{"$f":"'Data Feed'!E80","v":0},{"$f":"'Data Feed'!F80","v":0},{"$f":"'Data Feed'!G80","v":0},{"$f":"'Data Feed'!H80","v":0},{"$f":"'Data Feed'!I80","v":0},{"$f":"'Data Feed'!J80","v":0},{"$f":"'Data Feed'!K80","v":0},{"$f":"'Data Feed'!L80","v":0},{"$f":"'Data Feed'!M80","v":0},{"$f":"'Data Feed'!N80","v":0},{"$f":"'Data Feed'!O80","v":0},{"$f":"'Data Feed'!P80","v":0},{"$f":"'Data Feed'!Q80","v":0},{"$f":"'Data Feed'!R80","v":0},{"$f":"'Data Feed'!S80","v":0},{"$f":"'Data Feed'!T80","v":0},{"$f":"'Data Feed'!U80","v":0},{"$f":"'Data Feed'!V80","v":0},{"$f":"'Data Feed'!W80","v":0},{"$f":"'Data Feed'!X80","v":0},{"$f":"'Data Feed'!Y80","v":0},{"$f":"'Data Feed'!Z80","v":0},{"$f":"'Data Feed'!AA80","v":0},{"$f":"'Data Feed'!AB80","v":0},{"$f":"'Data Feed'!AC80","v":0},{"$f":"'Data Feed'!AD80","v":0},{"$f":"'Data Feed'!AE80","v":0},{"$f":"'Data Feed'!AF80","v":0},{"$f":"'Data Feed'!AG80","v":0},{"$f":"'Data Feed'!AH80","v":0},{"$f":"'Data Feed'!AI80","v":0}]
[{"$f":"B79&\"_\"&COUNTIF($B$1:B79,B79)","v":"0_76"},{"$f":"'Data Feed'!F81","v":0},{"$f":"'Data Feed'!B81","v":0},{"$f":"'Data Feed'!C81","v":0},{"$f":"'Data Feed'!D81","v":0},{"$f":"'Data Feed'!E81","v":0},{"$f":"'Data Feed'!F81","v":0},{"$f":"'Data Feed'!G81","v":0},{"$f":"'Data Feed'!H81","v":0},{"$f":"'Data Feed'!I81","v":0},{"$f":"'Data Feed'!J81","v":0},{"$f":"'Data Feed'!K81","v":0},{"$f":"'Data Feed'!L81","v":0},{"$f":"'Data Feed'!M81","v":0},{"$f":"'Data Feed'!N81","v":0},{"$f":"'Data Feed'!O81","v":0},{"$f":"'Data Feed'!P81","v":0},{"$f":"'Data Feed'!Q81","v":0},{"$f":"'Data Feed'!R81","v":0},{"$f":"'Data Feed'!S81","v":0},{"$f":"'Data Feed'!T81","v":0},{"$f":"'Data Feed'!U81","v":0},{"$f":"'Data Feed'!V81","v":0},{"$f":"'Data Feed'!W81","v":0},{"$f":"'Data Feed'!X81","v":0},{"$f":"'Data Feed'!Y81","v":0},{"$f":"'Data Feed'!Z81","v":0},{"$f":"'Data Feed'!AA81","v":0},{"$f":"'Data Feed'!AB81","v":0},{"$f":"'Data Feed'!AC81","v":0},{"$f":"'Data Feed'!AD81","v":0},{"$f":"'Data Feed'!AE81","v":0},{"$f":"'Data Feed'!AF81","v":0},{"$f":"'Data Feed'!AG81","v":0},{"$f":"'Data Feed'!AH81","v":0},{"$f":"'Data Feed'!AI81","v":0}]
[{"$f":"B80&\"_\"&COUNTIF($B$1:B80,B80)","v":"0_77"},{"$f":"'Data Feed'!F82","v":0},{"$f":"'Data Feed'!B82","v":0},{"$f":"'Data Feed'!C82","v":0},{"$f":"'Data Feed'!D82","v":0},{"$f":"'Data Feed'!E82","v":0},{"$f":"'Data Feed'!F82","v":0},{"$f":"'Data Feed'!G82","v":0},{"$f":"'Data Feed'!H82","v":0},{"$f":"'Data Feed'!I82","v":0},{"$f":"'Data Feed'!J82","v":0},{"$f":"'Data Feed'!K82","v":0},{"$f":"'Data Feed'!L82","v":0},{"$f":"'Data Feed'!M82","v":0},{"$f":"'Data Feed'!N82","v":0},{"$f":"'Data Feed'!O82","v":0},{"$f":"'Data Feed'!P82","v":0},{"$f":"'Data Feed'!Q82","v":0},{"$f":"'Data Feed'!R82","v":0},{"$f":"'Data Feed'!S82","v":0},{"$f":"'Data Feed'!T82","v":0},{"$f":"'Data Feed'!U82","v":0},{"$f":"'Data Feed'!V82","v":0},{"$f":"'Data Feed'!W82","v":0},{"$f":"'Data Feed'!X82","v":0},{"$f":"'Data Feed'!Y82","v":0},{"$f":"'Data Feed'!Z82","v":0},{"$f":"'Data Feed'!AA82","v":0},{"$f":"'Data Feed'!AB82","v":0},{"$f":"'Data Feed'!AC82","v":0},{"$f":"'Data Feed'!AD82","v":0},{"$f":"'Data Feed'!AE82","v":0},{"$f":"'Data Feed'!AF82","v":0},{"$f":"'Data Feed'!AG82","v":0},{"$f":"'Data Feed'!AH82","v":0},{"$f":"'Data Feed'!AI82","v":0}]
[{"$f":"B81&\"_\"&COUNTIF($B$1:B81,B81)","v":"0_78"},{"$f":"'Data Feed'!F83","v":0},{"$f":"'Data Feed'!B83","v":0},{"$f":"'Data Feed'!C83","v":0},{"$f":"'Data Feed'!D83","v":0},{"$f":"'Data Feed'!E83","v":0},{"$f":"'Data Feed'!F83","v":0},{"$f":"'Data Feed'!G83","v":0},{"$f":"'Data Feed'!H83","v":0},{"$f":"'Data Feed'!I83","v":0},{"$f":"'Data Feed'!J83","v":0},{"$f":"'Data Feed'!K83","v":0},{"$f":"'Data Feed'!L83","v":0},{"$f":"'Data Feed'!M83","v":0},{"$f":"'Data Feed'!N83","v":0},{"$f":"'Data Feed'!O83","v":0},{"$f":"'Data Feed'!P83","v":0},{"$f":"'Data Feed'!Q83","v":0},{"$f":"'Data Feed'!R83","v":0},{"$f":"'Data Feed'!S83","v":0},{"$f":"'Data Feed'!T83","v":0},{"$f":"'Data Feed'!U83","v":0},{"$f":"'Data Feed'!V83","v":0},{"$f":"'Data Feed'!W83","v":0},{"$f":"'Data Feed'!X83","v":0},{"$f":"'Data Feed'!Y83","v":0},{"$f":"'Data Feed'!Z83","v":0},{"$f":"'Data Feed'!AA83","v":0},{"$f":"'Data Feed'!AB83","v":0},{"$f":"'Data Feed'!AC83","v":0},{"$f":"'Data Feed'!AD83","v":0},{"$f":"'Data Feed'!AE83","v":0},{"$f":"'Data Feed'!AF83","v":0},{"$f":"'Data Feed'!AG83","v":0},{"$f":"'Data Feed'!AH83","v":0},{"$f":"'Data Feed'!AI83","v":0}]
[{"$f":"B82&\"_\"&COUNTIF($B$1:B82,B82)","v":"0_79"},{"$f":"'Data Feed'!F84","v":0},{"$f":"'Data Feed'!B84","v":0},{"$f":"'Data Feed'!C84","v":0},{"$f":"'Data Feed'!D84","v":0},{"$f":"'Data Feed'!E84","v":0},{"$f":"'Data Feed'!F84","v":0},{"$f":"'Data Feed'!G84","v":0},{"$f":"'Data Feed'!H84","v":0},{"$f":"'Data Feed'!I84","v":0},{"$f":"'Data Feed'!J84","v":0},{"$f":"'Data Feed'!K84","v":0},{"$f":"'Data Feed'!L84","v":0},{"$f":"'Data Feed'!M84","v":0},{"$f":"'Data Feed'!N84","v":0},{"$f":"'Data Feed'!O84","v":0},{"$f":"'Data Feed'!P84","v":0},{"$f":"'Data Feed'!Q84","v":0},{"$f":"'Data Feed'!R84","v":0},{"$f":"'Data Feed'!S84","v":0},{"$f":"'Data Feed'!T84","v":0},{"$f":"'Data Feed'!U84","v":0},{"$f":"'Data Feed'!V84","v":0},{"$f":"'Data Feed'!W84","v":0},{"$f":"'Data Feed'!X84","v":0},{"$f":"'Data Feed'!Y84","v":0},{"$f":"'Data Feed'!Z84","v":0},{"$f":"'Data Feed'!AA84","v":0},{"$f":"'Data Feed'!AB84","v":0},{"$f":"'Data Feed'!AC84","v":0},{"$f":"'Data Feed'!AD84","v":0},{"$f":"'Data Feed'!AE84","v":0},{"$f":"'Data Feed'!AF84","v":0},{"$f":"'Data Feed'!AG84","v":0},{"$f":"'Data Feed'!AH84","v":0},{"$f":"'Data Feed'!AI84","v":0}]
[{"$f":"B83&\"_\"&COUNTIF($B$1:B83,B83)","v":"0_80"},{"$f":"'Data Feed'!F85","v":0},{"$f":"'Data Feed'!B85","v":0},{"$f":"'Data Feed'!C85","v":0},{"$f":"'Data Feed'!D85","v":0},{"$f":"'Data Feed'!E85","v":0},{"$f":"'Data Feed'!F85","v":0},{"$f":"'Data Feed'!G85","v":0},{"$f":"'Data Feed'!H85","v":0},{"$f":"'Data Feed'!I85","v":0},{"$f":"'Data Feed'!J85","v":0},{"$f":"'Data Feed'!K85","v":0},{"$f":"'Data Feed'!L85","v":0},{"$f":"'Data Feed'!M85","v":0},{"$f":"'Data Feed'!N85","v":0},{"$f":"'Data Feed'!O85","v":0},{"$f":"'Data Feed'!P85","v":0},{"$f":"'Data Feed'!Q85","v":0},{"$f":"'Data Feed'!R85","v":0},{"$f":"'Data Feed'!S85","v":0},{"$f":"'Data Feed'!T85","v":0},{"$f":"'Data Feed'!U85","v":0},{"$f":"'Data Feed'!V85","v":0},{"$f":"'Data Feed'!W85","v":0},{"$f":"'Data Feed'!X85","v":0},{"$f":"'Data Feed'!Y85","v":0},{"$f":"'Data Feed'!Z85","v":0},{"$f":"'Data Feed'!AA85","v":0},{"$f":"'Data Feed'!AB85","v":0},{"$f":"'Data Feed'!AC85","v":0},{"$f":"'Data Feed'!AD85","v":0},{"$f":"'Data Feed'!AE85","v":0},{"$f":"'Data Feed'!AF85","v":0},{"$f":"'Data Feed'!AG85","v":0},{"$f":"'Data Feed'!AH85","v":0},{"$f":"'Data Feed'!AI85","v":0}]
[{"$f":"B84&\"_\"&COUNTIF($B$1:B84,B84)","v":"0_81"},{"$f":"'Data Feed'!F86","v":0},{"$f":"'Data Feed'!B86","v":0},{"$f":"'Data Feed'!C86","v":0},{"$f":"'Data Feed'!D86","v":0},{"$f":"'Data Feed'!E86","v":0},{"$f":"'Data Feed'!F86","v":0},{"$f":"'Data Feed'!G86","v":0},{"$f":"'Data Feed'!H86","v":0},{"$f":"'Data Feed'!I86","v":0},{"$f":"'Data Feed'!J86","v":0},{"$f":"'Data Feed'!K86","v":0},{"$f":"'Data Feed'!L86","v":0},{"$f":"'Data Feed'!M86","v":0},{"$f":"'Data Feed'!N86","v":0},{"$f":"'Data Feed'!O86","v":0},{"$f":"'Data Feed'!P86","v":0},{"$f":"'Data Feed'!Q86","v":0},{"$f":"'Data Feed'!R86","v":0},{"$f":"'Data Feed'!S86","v":0},{"$f":"'Data Feed'!T86","v":0},{"$f":"'Data Feed'!U86","v":0},{"$f":"'Data Feed'!V86","v":0},{"$f":"'Data Feed'!W86","v":0},{"$f":"'Data Feed'!X86","v":0},{"$f":"'Data Feed'!Y86","v":0},{"$f":"'Data Feed'!Z86","v":0},{"$f":"'Data Feed'!AA86","v":0},{"$f":"'Data Feed'!AB86","v":0},{"$f":"'Data Feed'!AC86","v":0},{"$f":"'Data Feed'!AD86","v":0},{"$f":"'Data Feed'!AE86","v":0},{"$f":"'Data Feed'!AF86","v":0},{"$f":"'Data Feed'!AG86","v":0},{"$f":"'Data Feed'!AH86","v":0},{"$f":"'Data Feed'!AI86","v":0}]
[{"$f":"B85&\"_\"&COUNTIF($B$1:B85,B85)","v":"0_82"},{"$f":"'Data Feed'!F87","v":0},{"$f":"'Data Feed'!B87","v":0},{"$f":"'Data Feed'!C87","v":0},{"$f":"'Data Feed'!D87","v":0},{"$f":"'Data Feed'!E87","v":0},{"$f":"'Data Feed'!F87","v":0},{"$f":"'Data Feed'!G87","v":0},{"$f":"'Data Feed'!H87","v":0},{"$f":"'Data Feed'!I87","v":0},{"$f":"'Data Feed'!J87","v":0},{"$f":"'Data Feed'!K87","v":0},{"$f":"'Data Feed'!L87","v":0},{"$f":"'Data Feed'!M87","v":0},{"$f":"'Data Feed'!N87","v":0},{"$f":"'Data Feed'!O87","v":0},{"$f":"'Data Feed'!P87","v":0},{"$f":"'Data Feed'!Q87","v":0},{"$f":"'Data Feed'!R87","v":0},{"$f":"'Data Feed'!S87","v":0},{"$f":"'Data Feed'!T87","v":0},{"$f":"'Data Feed'!U87","v":0},{"$f":"'Data Feed'!V87","v":0},{"$f":"'Data Feed'!W87","v":0},{"$f":"'Data Feed'!X87","v":0},{"$f":"'Data Feed'!Y87","v":0},{"$f":"'Data Feed'!Z87","v":0},{"$f":"'Data Feed'!AA87","v":0},{"$f":"'Data Feed'!AB87","v":0},{"$f":"'Data Feed'!AC87","v":0},{"$f":"'Data Feed'!AD87","v":0},{"$f":"'Data Feed'!AE87","v":0},{"$f":"'Data Feed'!AF87","v":0},{"$f":"'Data Feed'!AG87","v":0},{"$f":"'Data Feed'!AH87","v":0},{"$f":"'Data Feed'!AI87","v":0}]
[{"$f":"B86&\"_\"&COUNTIF($B$1:B86,B86)","v":"0_83"},{"$f":"'Data Feed'!F88","v":0},{"$f":"'Data Feed'!B88","v":0},{"$f":"'Data Feed'!C88","v":0},{"$f":"'Data Feed'!D88","v":0},{"$f":"'Data Feed'!E88","v":0},{"$f":"'Data Feed'!F88","v":0},{"$f":"'Data Feed'!G88","v":0},{"$f":"'Data Feed'!H88","v":0},{"$f":"'Data Feed'!I88","v":0},{"$f":"'Data Feed'!J88","v":0},{"$f":"'Data Feed'!K88","v":0},{"$f":"'Data Feed'!L88","v":0},{"$f":"'Data Feed'!M88","v":0},{"$f":"'Data Feed'!N88","v":0},{"$f":"'Data Feed'!O88","v":0},{"$f":"'Data Feed'!P88","v":0},{"$f":"'Data Feed'!Q88","v":0},{"$f":"'Data Feed'!R88","v":0},{"$f":"'Data Feed'!S88","v":0},{"$f":"'Data Feed'!T88","v":0},{"$f":"'Data Feed'!U88","v":0},{"$f":"'Data Feed'!V88","v":0},{"$f":"'Data Feed'!W88","v":0},{"$f":"'Data Feed'!X88","v":0},{"$f":"'Data Feed'!Y88","v":0},{"$f":"'Data Feed'!Z88","v":0},{"$f":"'Data Feed'!AA88","v":0},{"$f":"'Data Feed'!AB88","v":0},{"$f":"'Data Feed'!AC88","v":0},{"$f":"'Data Feed'!AD88","v":0},{"$f":"'Data Feed'!AE88","v":0},{"$f":"'Data Feed'!AF88","v":0},{"$f":"'Data Feed'!AG88","v":0},{"$f":"'Data Feed'!AH88","v":0},{"$f":"'Data Feed'!AI88","v":0}]
[{"$f":"B87&\"_\"&COUNTIF($B$1:B87,B87)","v":"0_84"},{"$f":"'Data Feed'!F89","v":0},{"$f":"'Data Feed'!B89","v":0},{"$f":"'Data Feed'!C89","v":0},{"$f":"'Data Feed'!D89","v":0},{"$f":"'Data Feed'!E89","v":0},{"$f":"'Data Feed'!F89","v":0},{"$f":"'Data Feed'!G89","v":0},{"$f":"'Data Feed'!H89","v":0},{"$f":"'Data Feed'!I89","v":0},{"$f":"'Data Feed'!J89","v":0},{"$f":"'Data Feed'!K89","v":0},{"$f":"'Data Feed'!L89","v":0},{"$f":"'Data Feed'!M89","v":0},{"$f":"'Data Feed'!N89","v":0},{"$f":"'Data Feed'!O89","v":0},{"$f":"'Data Feed'!P89","v":0},{"$f":"'Data Feed'!Q89","v":0},{"$f":"'Data Feed'!R89","v":0},{"$f":"'Data Feed'!S89","v":0},{"$f":"'Data Feed'!T89","v":0},{"$f":"'Data Feed'!U89","v":0},{"$f":"'Data Feed'!V89","v":0},{"$f":"'Data Feed'!W89","v":0},{"$f":"'Data Feed'!X89","v":0},{"$f":"'Data Feed'!Y89","v":0},{"$f":"'Data Feed'!Z89","v":0},{"$f":"'Data Feed'!AA89","v":0},{"$f":"'Data Feed'!AB89","v":0},{"$f":"'Data Feed'!AC89","v":0},{"$f":"'Data Feed'!AD89","v":0},{"$f":"'Data Feed'!AE89","v":0},{"$f":"'Data Feed'!AF89","v":0},{"$f":"'Data Feed'!AG89","v":0},{"$f":"'Data Feed'!AH89","v":0},{"$f":"'Data Feed'!AI89","v":0}]
[{"$f":"B88&\"_\"&COUNTIF($B$1:B88,B88)","v":"0_85"},{"$f":"'Data Feed'!F90","v":0},{"$f":"'Data Feed'!B90","v":0},{"$f":"'Data Feed'!C90","v":0},{"$f":"'Data Feed'!D90","v":0},{"$f":"'Data Feed'!E90","v":0},{"$f":"'Data Feed'!F90","v":0},{"$f":"'Data Feed'!G90","v":0},{"$f":"'Data Feed'!H90","v":0},{"$f":"'Data Feed'!I90","v":0},{"$f":"'Data Feed'!J90","v":0},{"$f":"'Data Feed'!K90","v":0},{"$f":"'Data Feed'!L90","v":0},{"$f":"'Data Feed'!M90","v":0},{"$f":"'Data Feed'!N90","v":0},{"$f":"'Data Feed'!O90","v":0},{"$f":"'Data Feed'!P90","v":0},{"$f":"'Data Feed'!Q90","v":0},{"$f":"'Data Feed'!R90","v":0},{"$f":"'Data Feed'!S90","v":0},{"$f":"'Data Feed'!T90","v":0},{"$f":"'Data Feed'!U90","v":0},{"$f":"'Data Feed'!V90","v":0},{"$f":"'Data Feed'!W90","v":0},{"$f":"'Data Feed'!X90","v":0},{"$f":"'Data Feed'!Y90","v":0},{"$f":"'Data Feed'!Z90","v":0},{"$f":"'Data Feed'!AA90","v":0},{"$f":"'Data Feed'!AB90","v":0},{"$f":"'Data Feed'!AC90","v":0},{"$f":"'Data Feed'!AD90","v":0},{"$f":"'Data Feed'!AE90","v":0},{"$f":"'Data Feed'!AF90","v":0},{"$f":"'Data Feed'!AG90","v":0},{"$f":"'Data Feed'!AH90","v":0},{"$f":"'Data Feed'!AI90","v":0}]
[{"$f":"B89&\"_\"&COUNTIF($B$1:B89,B89)","v":"0_86"},{"$f":"'Data Feed'!F91","v":0},{"$f":"'Data Feed'!B91","v":0},{"$f":"'Data Feed'!C91","v":0},{"$f":"'Data Feed'!D91","v":0},{"$f":"'Data Feed'!E91","v":0},{"$f":"'Data Feed'!F91","v":0},{"$f":"'Data Feed'!G91","v":0},{"$f":"'Data Feed'!H91","v":0},{"$f":"'Data Feed'!I91","v":0},{"$f":"'Data Feed'!J91","v":0},{"$f":"'Data Feed'!K91","v":0},{"$f":"'Data Feed'!L91","v":0},{"$f":"'Data Feed'!M91","v":0},{"$f":"'Data Feed'!N91","v":0},{"$f":"'Data Feed'!O91","v":0},{"$f":"'Data Feed'!P91","v":0},{"$f":"'Data Feed'!Q91","v":0},{"$f":"'Data Feed'!R91","v":0},{"$f":"'Data Feed'!S91","v":0},{"$f":"'Data Feed'!T91","v":0},{"$f":"'Data Feed'!U91","v":0},{"$f":"'Data Feed'!V91","v":0},{"$f":"'Data Feed'!W91","v":0},{"$f":"'Data Feed'!X91","v":0},{"$f":"'Data Feed'!Y91","v":0},{"$f":"'Data Feed'!Z91","v":0},{"$f":"'Data Feed'!AA91","v":0},{"$f":"'Data Feed'!AB91","v":0},{"$f":"'Data Feed'!AC91","v":0},{"$f":"'Data Feed'!AD91","v":0},{"$f":"'Data Feed'!AE91","v":0},{"$f":"'Data Feed'!AF91","v":0},{"$f":"'Data Feed'!AG91","v":0},{"$f":"'Data Feed'!AH91","v":0},{"$f":"'Data Feed'!AI91","v":0}]
[{"$f":"B90&\"_\"&COUNTIF($B$1:B90,B90)","v":"0_87"},{"$f":"'Data Feed'!F92","v":0},{"$f":"'Data Feed'!B92","v":0},{"$f":"'Data Feed'!C92","v":0},{"$f":"'Data Feed'!D92","v":0},{"$f":"'Data Feed'!E92","v":0},{"$f":"'Data Feed'!F92","v":0},{"$f":"'Data Feed'!G92","v":0},{"$f":"'Data Feed'!H92","v":0},{"$f":"'Data Feed'!I92","v":0},{"$f":"'Data Feed'!J92","v":0},{"$f":"'Data Feed'!K92","v":0},{"$f":"'Data Feed'!L92","v":0},{"$f":"'Data Feed'!M92","v":0},{"$f":"'Data Feed'!N92","v":0},{"$f":"'Data Feed'!O92","v":0},{"$f":"'Data Feed'!P92","v":0},{"$f":"'Data Feed'!Q92","v":0},{"$f":"'Data Feed'!R92","v":0},{"$f":"'Data Feed'!S92","v":0},{"$f":"'Data Feed'!T92","v":0},{"$f":"'Data Feed'!U92","v":0},{"$f":"'Data Feed'!V92","v":0},{"$f":"'Data Feed'!W92","v":0},{"$f":"'Data Feed'!X92","v":0},{"$f":"'Data Feed'!Y92","v":0},{"$f":"'Data Feed'!Z92","v":0},{"$f":"'Data Feed'!AA92","v":0},{"$f":"'Data Feed'!AB92","v":0},{"$f":"'Data Feed'!AC92","v":0},{"$f":"'Data Feed'!AD92","v":0},{"$f":"'Data Feed'!AE92","v":0},{"$f":"'Data Feed'!AF92","v":0},{"$f":"'Data Feed'!AG92","v":0},{"$f":"'Data Feed'!AH92","v":0},{"$f":"'Data Feed'!AI92","v":0}]
[{"$f":"B91&\"_\"&COUNTIF($B$1:B91,B91)","v":"0_88"},{"$f":"'Data Feed'!F93","v":0},{"$f":"'Data Feed'!B93","v":0},{"$f":"'Data Feed'!C93","v":0},{"$f":"'Data Feed'!D93","v":0},{"$f":"'Data Feed'!E93","v":0},{"$f":"'Data Feed'!F93","v":0},{"$f":"'Data Feed'!G93","v":0},{"$f":"'Data Feed'!H93","v":0},{"$f":"'Data Feed'!I93","v":0},{"$f":"'Data Feed'!J93","v":0},{"$f":"'Data Feed'!K93","v":0},{"$f":"'Data Feed'!L93","v":0},{"$f":"'Data Feed'!M93","v":0},{"$f":"'Data Feed'!N93","v":0},{"$f":"'Data Feed'!O93","v":0},{"$f":"'Data Feed'!P93","v":0},{"$f":"'Data Feed'!Q93","v":0},{"$f":"'Data Feed'!R93","v":0},{"$f":"'Data Feed'!S93","v":0},{"$f":"'Data Feed'!T93","v":0},{"$f":"'Data Feed'!U93","v":0},{"$f":"'Data Feed'!V93","v":0},{"$f":"'Data Feed'!W93","v":0},{"$f":"'Data Feed'!X93","v":0},{"$f":"'Data Feed'!Y93","v":0},{"$f":"'Data Feed'!Z93","v":0},{"$f":"'Data Feed'!AA93","v":0},{"$f":"'Data Feed'!AB93","v":0},{"$f":"'Data Feed'!AC93","v":0},{"$f":"'Data Feed'!AD93","v":0},{"$f":"'Data Feed'!AE93","v":0},{"$f":"'Data Feed'!AF93","v":0},{"$f":"'Data Feed'!AG93","v":0},{"$f":"'Data Feed'!AH93","v":0},{"$f":"'Data Feed'!AI93","v":0}]
[{"$f":"B92&\"_\"&COUNTIF($B$1:B92,B92)","v":"0_89"},{"$f":"'Data Feed'!F94","v":0},{"$f":"'Data Feed'!B94","v":0},{"$f":"'Data Feed'!C94","v":0},{"$f":"'Data Feed'!D94","v":0},{"$f":"'Data Feed'!E94","v":0},{"$f":"'Data Feed'!F94","v":0},{"$f":"'Data Feed'!G94","v":0},{"$f":"'Data Feed'!H94","v":0},{"$f":"'Data Feed'!I94","v":0},{"$f":"'Data Feed'!J94","v":0},{"$f":"'Data Feed'!K94","v":0},{"$f":"'Data Feed'!L94","v":0},{"$f":"'Data Feed'!M94","v":0},{"$f":"'Data Feed'!N94","v":0},{"$f":"'Data Feed'!O94","v":0},{"$f":"'Data Feed'!P94","v":0},{"$f":"'Data Feed'!Q94","v":0},{"$f":"'Data Feed'!R94","v":0},{"$f":"'Data Feed'!S94","v":0},{"$f":"'Data Feed'!T94","v":0},{"$f":"'Data Feed'!U94","v":0},{"$f":"'Data Feed'!V94","v":0},{"$f":"'Data Feed'!W94","v":0},{"$f":"'Data Feed'!X94","v":0},{"$f":"'Data Feed'!Y94","v":0},{"$f":"'Data Feed'!Z94","v":0},{"$f":"'Data Feed'!AA94","v":0},{"$f":"'Data Feed'!AB94","v":0},{"$f":"'Data Feed'!AC94","v":0},{"$f":"'Data Feed'!AD94","v":0},{"$f":"'Data Feed'!AE94","v":0},{"$f":"'Data Feed'!AF94","v":0},{"$f":"'Data Feed'!AG94","v":0},{"$f":"'Data Feed'!AH94","v":0},{"$f":"'Data Feed'!AI94","v":0}]
[{"$f":"B93&\"_\"&COUNTIF($B$1:B93,B93)","v":"0_90"},{"$f":"'Data Feed'!F95","v":0},{"$f":"'Data Feed'!B95","v":0},{"$f":"'Data Feed'!C95","v":0},{"$f":"'Data Feed'!D95","v":0},{"$f":"'Data Feed'!E95","v":0},{"$f":"'Data Feed'!F95","v":0},{"$f":"'Data Feed'!G95","v":0},{"$f":"'Data Feed'!H95","v":0},{"$f":"'Data Feed'!I95","v":0},{"$f":"'Data Feed'!J95","v":0},{"$f":"'Data Feed'!K95","v":0},{"$f":"'Data Feed'!L95","v":0},{"$f":"'Data Feed'!M95","v":0},{"$f":"'Data Feed'!N95","v":0},{"$f":"'Data Feed'!O95","v":0},{"$f":"'Data Feed'!P95","v":0},{"$f":"'Data Feed'!Q95","v":0},{"$f":"'Data Feed'!R95","v":0},{"$f":"'Data Feed'!S95","v":0},{"$f":"'Data Feed'!T95","v":0},{"$f":"'Data Feed'!U95","v":0},{"$f":"'Data Feed'!V95","v":0},{"$f":"'Data Feed'!W95","v":0},{"$f":"'Data Feed'!X95","v":0},{"$f":"'Data Feed'!Y95","v":0},{"$f":"'Data Feed'!Z95","v":0},{"$f":"'Data Feed'!AA95","v":0},{"$f":"'Data Feed'!AB95","v":0},{"$f":"'Data Feed'!AC95","v":0},{"$f":"'Data Feed'!AD95","v":0},{"$f":"'Data Feed'!AE95","v":0},{"$f":"'Data Feed'!AF95","v":0},{"$f":"'Data Feed'!AG95","v":0},{"$f":"'Data Feed'!AH95","v":0},{"$f":"'Data Feed'!AI95","v":0}]
[{"$f":"B94&\"_\"&COUNTIF($B$1:B94,B94)","v":"0_91"},{"$f":"'Data Feed'!F96","v":0},{"$f":"'Data Feed'!B96","v":0},{"$f":"'Data Feed'!C96","v":0},{"$f":"'Data Feed'!D96","v":0},{"$f":"'Data Feed'!E96","v":0},{"$f":"'Data Feed'!F96","v":0},{"$f":"'Data Feed'!G96","v":0},{"$f":"'Data Feed'!H96","v":0},{"$f":"'Data Feed'!I96","v":0},{"$f":"'Data Feed'!J96","v":0},{"$f":"'Data Feed'!K96","v":0},{"$f":"'Data Feed'!L96","v":0},{"$f":"'Data Feed'!M96","v":0},{"$f":"'Data Feed'!N96","v":0},{"$f":"'Data Feed'!O96","v":0},{"$f":"'Data Feed'!P96","v":0},{"$f":"'Data Feed'!Q96","v":0},{"$f":"'Data Feed'!R96","v":0},{"$f":"'Data Feed'!S96","v":0},{"$f":"'Data Feed'!T96","v":0},{"$f":"'Data Feed'!U96","v":0},{"$f":"'Data Feed'!V96","v":0},{"$f":"'Data Feed'!W96","v":0},{"$f":"'Data Feed'!X96","v":0},{"$f":"'Data Feed'!Y96","v":0},{"$f":"'Data Feed'!Z96","v":0},{"$f":"'Data Feed'!AA96","v":0},{"$f":"'Data Feed'!AB96","v":0},{"$f":"'Data Feed'!AC96","v":0},{"$f":"'Data Feed'!AD96","v":0},{"$f":"'Data Feed'!AE96","v":0},{"$f":"'Data Feed'!AF96","v":0},{"$f":"'Data Feed'!AG96","v":0},{"$f":"'Data Feed'!AH96","v":0},{"$f":"'Data Feed'!AI96","v":0}]
[{"$f":"B95&\"_\"&COUNTIF($B$1:B95,B95)","v":"0_92"},{"$f":"'Data Feed'!F97","v":0},{"$f":"'Data Feed'!B97","v":0},{"$f":"'Data Feed'!C97","v":0},{"$f":"'Data Feed'!D97","v":0},{"$f":"'Data Feed'!E97","v":0},{"$f":"'Data Feed'!F97","v":0},{"$f":"'Data Feed'!G97","v":0},{"$f":"'Data Feed'!H97","v":0},{"$f":"'Data Feed'!I97","v":0},{"$f":"'Data Feed'!J97","v":0},{"$f":"'Data Feed'!K97","v":0},{"$f":"'Data Feed'!L97","v":0},{"$f":"'Data Feed'!M97","v":0},{"$f":"'Data Feed'!N97","v":0},{"$f":"'Data Feed'!O97","v":0},{"$f":"'Data Feed'!P97","v":0},{"$f":"'Data Feed'!Q97","v":0},{"$f":"'Data Feed'!R97","v":0},{"$f":"'Data Feed'!S97","v":0},{"$f":"'Data Feed'!T97","v":0},{"$f":"'Data Feed'!U97","v":0},{"$f":"'Data Feed'!V97","v":0},{"$f":"'Data Feed'!W97","v":0},{"$f":"'Data Feed'!X97","v":0},{"$f":"'Data Feed'!Y97","v":0},{"$f":"'Data Feed'!Z97","v":0},{"$f":"'Data Feed'!AA97","v":0},{"$f":"'Data Feed'!AB97","v":0},{"$f":"'Data Feed'!AC97","v":0},{"$f":"'Data Feed'!AD97","v":0},{"$f":"'Data Feed'!AE97","v":0},{"$f":"'Data Feed'!AF97","v":0},{"$f":"'Data Feed'!AG97","v":0},{"$f":"'Data Feed'!AH97","v":0},{"$f":"'Data Feed'!AI97","v":0}]
[{"$f":"B96&\"_\"&COUNTIF($B$1:B96,B96)","v":"0_93"},{"$f":"'Data Feed'!F98","v":0},{"$f":"'Data Feed'!B98","v":0},{"$f":"'Data Feed'!C98","v":0},{"$f":"'Data Feed'!D98","v":0},{"$f":"'Data Feed'!E98","v":0},{"$f":"'Data Feed'!F98","v":0},{"$f":"'Data Feed'!G98","v":0},{"$f":"'Data Feed'!H98","v":0},{"$f":"'Data Feed'!I98","v":0},{"$f":"'Data Feed'!J98","v":0},{"$f":"'Data Feed'!K98","v":0},{"$f":"'Data Feed'!L98","v":0},{"$f":"'Data Feed'!M98","v":0},{"$f":"'Data Feed'!N98","v":0},{"$f":"'Data Feed'!O98","v":0},{"$f":"'Data Feed'!P98","v":0},{"$f":"'Data Feed'!Q98","v":0},{"$f":"'Data Feed'!R98","v":0},{"$f":"'Data Feed'!S98","v":0},{"$f":"'Data Feed'!T98","v":0},{"$f":"'Data Feed'!U98","v":0},{"$f":"'Data Feed'!V98","v":0},{"$f":"'Data Feed'!W98","v":0},{"$f":"'Data Feed'!X98","v":0},{"$f":"'Data Feed'!Y98","v":0},{"$f":"'Data Feed'!Z98","v":0},{"$f":"'Data Feed'!AA98","v":0},{"$f":"'Data Feed'!AB98","v":0},{"$f":"'Data Feed'!AC98","v":0},{"$f":"'Data Feed'!AD98","v":0},{"$f":"'Data Feed'!AE98","v":0},{"$f":"'Data Feed'!AF98","v":0},{"$f":"'Data Feed'!AG98","v":0},{"$f":"'Data Feed'!AH98","v":0},{"$f":"'Data Feed'!AI98","v":0}]
[{"$f":"B97&\"_\"&COUNTIF($B$1:B97,B97)","v":"0_94"},{"$f":"'Data Feed'!F99","v":0},{"$f":"'Data Feed'!B99","v":0},{"$f":"'Data Feed'!C99","v":0},{"$f":"'Data Feed'!D99","v":0},{"$f":"'Data Feed'!E99","v":0},{"$f":"'Data Feed'!F99","v":0},{"$f":"'Data Feed'!G99","v":0},{"$f":"'Data Feed'!H99","v":0},{"$f":"'Data Feed'!I99","v":0},{"$f":"'Data Feed'!J99","v":0},{"$f":"'Data Feed'!K99","v":0},{"$f":"'Data Feed'!L99","v":0},{"$f":"'Data Feed'!M99","v":0},{"$f":"'Data Feed'!N99","v":0},{"$f":"'Data Feed'!O99","v":0},{"$f":"'Data Feed'!P99","v":0},{"$f":"'Data Feed'!Q99","v":0},{"$f":"'Data Feed'!R99","v":0},{"$f":"'Data Feed'!S99","v":0},{"$f":"'Data Feed'!T99","v":0},{"$f":"'Data Feed'!U99","v":0},{"$f":"'Data Feed'!V99","v":0},{"$f":"'Data Feed'!W99","v":0},{"$f":"'Data Feed'!X99","v":0},{"$f":"'Data Feed'!Y99","v":0},{"$f":"'Data Feed'!Z99","v":0},{"$f":"'Data Feed'!AA99","v":0},{"$f":"'Data Feed'!AB99","v":0},{"$f":"'Data Feed'!AC99","v":0},{"$f":"'Data Feed'!AD99","v":0},{"$f":"'Data Feed'!AE99","v":0},{"$f":"'Data Feed'!AF99","v":0},{"$f":"'Data Feed'!AG99","v":0},{"$f":"'Data Feed'!AH99","v":0},{"$f":"'Data Feed'!AI99","v":0}]
[{"$f":"B98&\"_\"&COUNTIF($B$1:B98,B98)","v":"0_95"},{"$f":"'Data Feed'!F100","v":0},{"$f":"'Data Feed'!B100","v":0},{"$f":"'Data Feed'!C100","v":0},{"$f":"'Data Feed'!D100","v":0},{"$f":"'Data Feed'!E100","v":0},{"$f":"'Data Feed'!F100","v":0},{"$f":"'Data Feed'!G100","v":0},{"$f":"'Data Feed'!H100","v":0},{"$f":"'Data Feed'!I100","v":0},{"$f":"'Data Feed'!J100","v":0},{"$f":"'Data Feed'!K100","v":0},{"$f":"'Data Feed'!L100","v":0},{"$f":"'Data Feed'!M100","v":0},{"$f":"'Data Feed'!N100","v":0},{"$f":"'Data Feed'!O100","v":0},{"$f":"'Data Feed'!P100","v":0},{"$f":"'Data Feed'!Q100","v":0},{"$f":"'Data Feed'!R100","v":0},{"$f":"'Data Feed'!S100","v":0},{"$f":"'Data Feed'!T100","v":0},{"$f":"'Data Feed'!U100","v":0},{"$f":"'Data Feed'!V100","v":0},{"$f":"'Data Feed'!W100","v":0},{"$f":"'Data Feed'!X100","v":0},{"$f":"'Data Feed'!Y100","v":0},{"$f":"'Data Feed'!Z100","v":0},{"$f":"'Data Feed'!AA100","v":0},{"$f":"'Data Feed'!AB100","v":0},{"$f":"'Data Feed'!AC100","v":0},{"$f":"'Data Feed'!AD100","v":0},{"$f":"'Data Feed'!AE100","v":0},{"$f":"'Data Feed'!AF100","v":0},{"$f":"'Data Feed'!AG100","v":0},{"$f":"'Data Feed'!AH100","v":0},{"$f":"'Data Feed'!AI100","v":0}]
[{"$f":"B99&\"_\"&COUNTIF($B$1:B99,B99)","v":"0_96"},{"$f":"'Data Feed'!F101","v":0},{"$f":"'Data Feed'!B101","v":0},{"$f":"'Data Feed'!C101","v":0},{"$f":"'Data Feed'!D101","v":0},{"$f":"'Data Feed'!E101","v":0},{"$f":"'Data Feed'!F101","v":0},{"$f":"'Data Feed'!G101","v":0},{"$f":"'Data Feed'!H101","v":0},{"$f":"'Data Feed'!I101","v":0},{"$f":"'Data Feed'!J101","v":0},{"$f":"'Data Feed'!K101","v":0},{"$f":"'Data Feed'!L101","v":0},{"$f":"'Data Feed'!M101","v":0},{"$f":"'Data Feed'!N101","v":0},{"$f":"'Data Feed'!O101","v":0},{"$f":"'Data Feed'!P101","v":0},{"$f":"'Data Feed'!Q101","v":0},{"$f":"'Data Feed'!R101","v":0},{"$f":"'Data Feed'!S101","v":0},{"$f":"'Data Feed'!T101","v":0},{"$f":"'Data Feed'!U101","v":0},{"$f":"'Data Feed'!V101","v":0},{"$f":"'Data Feed'!W101","v":0},{"$f":"'Data Feed'!X101","v":0},{"$f":"'Data Feed'!Y101","v":0},{"$f":"'Data Feed'!Z101","v":0},{"$f":"'Data Feed'!AA101","v":0},{"$f":"'Data Feed'!AB101","v":0},{"$f":"'Data Feed'!AC101","v":0},{"$f":"'Data Feed'!AD101","v":0},{"$f":"'Data Feed'!AE101","v":0},{"$f":"'Data Feed'!AF101","v":0},{"$f":"'Data Feed'!AG101","v":0},{"$f":"'Data Feed'!AH101","v":0},{"$f":"'Data Feed'!AI101","v":0}]
[{"$f":"B100&\"_\"&COUNTIF($B$1:B100,B100)","v":"0_97"},{"$f":"'Data Feed'!F102","v":0},{"$f":"'Data Feed'!B102","v":0},{"$f":"'Data Feed'!C102","v":0},{"$f":"'Data Feed'!D102","v":0},{"$f":"'Data Feed'!E102","v":0},{"$f":"'Data Feed'!F102","v":0},{"$f":"'Data Feed'!G102","v":0},{"$f":"'Data Feed'!H102","v":0},{"$f":"'Data Feed'!I102","v":0},{"$f":"'Data Feed'!J102","v":0},{"$f":"'Data Feed'!K102","v":0},{"$f":"'Data Feed'!L102","v":0},{"$f":"'Data Feed'!M102","v":0},{"$f":"'Data Feed'!N102","v":0},{"$f":"'Data Feed'!O102","v":0},{"$f":"'Data Feed'!P102","v":0},{"$f":"'Data Feed'!Q102","v":0},{"$f":"'Data Feed'!R102","v":0},{"$f":"'Data Feed'!S102","v":0},{"$f":"'Data Feed'!T102","v":0},{"$f":"'Data Feed'!U102","v":0},{"$f":"'Data Feed'!V102","v":0},{"$f":"'Data Feed'!W102","v":0},{"$f":"'Data Feed'!X102","v":0},{"$f":"'Data Feed'!Y102","v":0},{"$f":"'Data Feed'!Z102","v":0},{"$f":"'Data Feed'!AA102","v":0},{"$f":"'Data Feed'!AB102","v":0},{"$f":"'Data Feed'!AC102","v":0},{"$f":"'Data Feed'!AD102","v":0},{"$f":"'Data Feed'!AE102","v":0},{"$f":"'Data Feed'!AF102","v":0},{"$f":"'Data Feed'!AG102","v":0},{"$f":"'Data Feed'!AH102","v":0},{"$f":"'Data Feed'!AI102","v":0}]
[{"$f":"B101&\"_\"&COUNTIF($B$1:B101,B101)","v":"0_98"},{"$f":"'Data Feed'!F103","v":0},{"$f":"'Data Feed'!B103","v":0},{"$f":"'Data Feed'!C103","v":0},{"$f":"'Data Feed'!D103","v":0},{"$f":"'Data Feed'!E103","v":0},{"$f":"'Data Feed'!F103","v":0},{"$f":"'Data Feed'!G103","v":0},{"$f":"'Data Feed'!H103","v":0},{"$f":"'Data Feed'!I103","v":0},{"$f":"'Data Feed'!J103","v":0},{"$f":"'Data Feed'!K103","v":0},{"$f":"'Data Feed'!L103","v":0},{"$f":"'Data Feed'!M103","v":0},{"$f":"'Data Feed'!N103","v":0},{"$f":"'Data Feed'!O103","v":0},{"$f":"'Data Feed'!P103","v":0},{"$f":"'Data Feed'!Q103","v":0},{"$f":"'Data Feed'!R103","v":0},{"$f":"'Data Feed'!S103","v":0},{"$f":"'Data Feed'!T103","v":0},{"$f":"'Data Feed'!U103","v":0},{"$f":"'Data Feed'!V103","v":0},{"$f":"'Data Feed'!W103","v":0},{"$f":"'Data Feed'!X103","v":0},{"$f":"'Data Feed'!Y103","v":0},{"$f":"'Data Feed'!Z103","v":0},{"$f":"'Data Feed'!AA103","v":0},{"$f":"'Data Feed'!AB103","v":0},{"$f":"'Data Feed'!AC103","v":0},{"$f":"'Data Feed'!AD103","v":0},{"$f":"'Data Feed'!AE103","v":0},{"$f":"'Data Feed'!AF103","v":0},{"$f":"'Data Feed'!AG103","v":0},{"$f":"'Data Feed'!AH103","v":0},{"$f":"'Data Feed'!AI103","v":0}]
[{"$f":"B102&\"_\"&COUNTIF($B$1:B102,B102)","v":"0_99"},{"$f":"'Data Feed'!F104","v":0},{"$f":"'Data Feed'!B104","v":0},{"$f":"'Data Feed'!C104","v":0},{"$f":"'Data Feed'!D104","v":0},{"$f":"'Data Feed'!E104","v":0},{"$f":"'Data Feed'!F104","v":0},{"$f":"'Data Feed'!G104","v":0},{"$f":"'Data Feed'!H104","v":0},{"$f":"'Data Feed'!I104","v":0},{"$f":"'Data Feed'!J104","v":0},{"$f":"'Data Feed'!K104","v":0},{"$f":"'Data Feed'!L104","v":0},{"$f":"'Data Feed'!M104","v":0},{"$f":"'Data Feed'!N104","v":0},{"$f":"'Data Feed'!O104","v":0},{"$f":"'Data Feed'!P104","v":0},{"$f":"'Data Feed'!Q104","v":0},{"$f":"'Data Feed'!R104","v":0},{"$f":"'Data Feed'!S104","v":0},{"$f":"'Data Feed'!T104","v":0},{"$f":"'Data Feed'!U104","v":0},{"$f":"'Data Feed'!V104","v":0},{"$f":"'Data Feed'!W104","v":0},{"$f":"'Data Feed'!X104","v":0},{"$f":"'Data Feed'!Y104","v":0},{"$f":"'Data Feed'!Z104","v":0},{"$f":"'Data Feed'!AA104","v":0},{"$f":"'Data Feed'!AB104","v":0},{"$f":"'Data Feed'!AC104","v":0},{"$f":"'Data Feed'!AD104","v":0},{"$f":"'Data Feed'!AE104","v":0},{"$f":"'Data Feed'!AF104","v":0},{"$f":"'Data Feed'!AG104","v":0},{"$f":"'Data Feed'!AH104","v":0},{"$f":"'Data Feed'!AI104","v":0}]
[{"$f":"B103&\"_\"&COUNTIF($B$1:B103,B103)","v":"0_100"},{"$f":"'Data Feed'!F105","v":0},{"$f":"'Data Feed'!B105","v":0},{"$f":"'Data Feed'!C105","v":0},{"$f":"'Data Feed'!D105","v":0},{"$f":"'Data Feed'!E105","v":0},{"$f":"'Data Feed'!F105","v":0},{"$f":"'Data Feed'!G105","v":0},{"$f":"'Data Feed'!H105","v":0},{"$f":"'Data Feed'!I105","v":0},{"$f":"'Data Feed'!J105","v":0},{"$f":"'Data Feed'!K105","v":0},{"$f":"'Data Feed'!L105","v":0},{"$f":"'Data Feed'!M105","v":0},{"$f":"'Data Feed'!N105","v":0},{"$f":"'Data Feed'!O105","v":0},{"$f":"'Data Feed'!P105","v":0},{"$f":"'Data Feed'!Q105","v":0},{"$f":"'Data Feed'!R105","v":0},{"$f":"'Data Feed'!S105","v":0},{"$f":"'Data Feed'!T105","v":0},{"$f":"'Data Feed'!U105","v":0},{"$f":"'Data Feed'!V105","v":0},{"$f":"'Data Feed'!W105","v":0},{"$f":"'Data Feed'!X105","v":0},{"$f":"'Data Feed'!Y105","v":0},{"$f":"'Data Feed'!Z105","v":0},{"$f":"'Data Feed'!AA105","v":0},{"$f":"'Data Feed'!AB105","v":0},{"$f":"'Data Feed'!AC105","v":0},{"$f":"'Data Feed'!AD105","v":0},{"$f":"'Data Feed'!AE105","v":0},{"$f":"'Data Feed'!AF105","v":0},{"$f":"'Data Feed'!AG105","v":0},{"$f":"'Data Feed'!AH105","v":0},{"$f":"'Data Feed'!AI105","v":0}]
[{"$f":"B104&\"_\"&COUNTIF($B$1:B104,B104)","v":"0_101"},{"$f":"'Data Feed'!F106","v":0},{"$f":"'Data Feed'!B106","v":0},{"$f":"'Data Feed'!C106","v":0},{"$f":"'Data Feed'!D106","v":0},{"$f":"'Data Feed'!E106","v":0},{"$f":"'Data Feed'!F106","v":0},{"$f":"'Data Feed'!G106","v":0},{"$f":"'Data Feed'!H106","v":0},{"$f":"'Data Feed'!I106","v":0},{"$f":"'Data Feed'!J106","v":0},{"$f":"'Data Feed'!K106","v":0},{"$f":"'Data Feed'!L106","v":0},{"$f":"'Data Feed'!M106","v":0},{"$f":"'Data Feed'!N106","v":0},{"$f":"'Data Feed'!O106","v":0},{"$f":"'Data Feed'!P106","v":0},{"$f":"'Data Feed'!Q106","v":0},{"$f":"'Data Feed'!R106","v":0},{"$f":"'Data Feed'!S106","v":0},{"$f":"'Data Feed'!T106","v":0},{"$f":"'Data Feed'!U106","v":0},{"$f":"'Data Feed'!V106","v":0},{"$f":"'Data Feed'!W106","v":0},{"$f":"'Data Feed'!X106","v":0},{"$f":"'Data Feed'!Y106","v":0},{"$f":"'Data Feed'!Z106","v":0},{"$f":"'Data Feed'!AA106","v":0},{"$f":"'Data Feed'!AB106","v":0},{"$f":"'Data Feed'!AC106","v":0},{"$f":"'Data Feed'!AD106","v":0},{"$f":"'Data Feed'!AE106","v":0},{"$f":"'Data Feed'!AF106","v":0},{"$f":"'Data Feed'!AG106","v":0},{"$f":"'Data Feed'!AH106","v":0},{"$f":"'Data Feed'!AI106","v":0}]
[{"$f":"B105&\"_\"&COUNTIF($B$1:B105,B105)","v":"0_102"},{"$f":"'Data Feed'!F107","v":0},{"$f":"'Data Feed'!B107","v":0},{"$f":"'Data Feed'!C107","v":0},{"$f":"'Data Feed'!D107","v":0},{"$f":"'Data Feed'!E107","v":0},{"$f":"'Data Feed'!F107","v":0},{"$f":"'Data Feed'!G107","v":0},{"$f":"'Data Feed'!H107","v":0},{"$f":"'Data Feed'!I107","v":0},{"$f":"'Data Feed'!J107","v":0},{"$f":"'Data Feed'!K107","v":0},{"$f":"'Data Feed'!L107","v":0},{"$f":"'Data Feed'!M107","v":0},{"$f":"'Data Feed'!N107","v":0},{"$f":"'Data Feed'!O107","v":0},{"$f":"'Data Feed'!P107","v":0},{"$f":"'Data Feed'!Q107","v":0},{"$f":"'Data Feed'!R107","v":0},{"$f":"'Data Feed'!S107","v":0},{"$f":"'Data Feed'!T107","v":0},{"$f":"'Data Feed'!U107","v":0},{"$f":"'Data Feed'!V107","v":0},{"$f":"'Data Feed'!W107","v":0},{"$f":"'Data Feed'!X107","v":0},{"$f":"'Data Feed'!Y107","v":0},{"$f":"'Data Feed'!Z107","v":0},{"$f":"'Data Feed'!AA107","v":0},{"$f":"'Data Feed'!AB107","v":0},{"$f":"'Data Feed'!AC107","v":0},{"$f":"'Data Feed'!AD107","v":0},{"$f":"'Data Feed'!AE107","v":0},{"$f":"'Data Feed'!AF107","v":0},{"$f":"'Data Feed'!AG107","v":0},{"$f":"'Data Feed'!AH107","v":0},{"$f":"'Data Feed'!AI107","v":0}]
[{"$f":"B106&\"_\"&COUNTIF($B$1:B106,B106)","v":"0_103"},{"$f":"'Data Feed'!F108","v":0},{"$f":"'Data Feed'!B108","v":0},{"$f":"'Data Feed'!C108","v":0},{"$f":"'Data Feed'!D108","v":0},{"$f":"'Data Feed'!E108","v":0},{"$f":"'Data Feed'!F108","v":0},{"$f":"'Data Feed'!G108","v":0},{"$f":"'Data Feed'!H108","v":0},{"$f":"'Data Feed'!I108","v":0},{"$f":"'Data Feed'!J108","v":0},{"$f":"'Data Feed'!K108","v":0},{"$f":"'Data Feed'!L108","v":0},{"$f":"'Data Feed'!M108","v":0},{"$f":"'Data Feed'!N108","v":0},{"$f":"'Data Feed'!O108","v":0},{"$f":"'Data Feed'!P108","v":0},{"$f":"'Data Feed'!Q108","v":0},{"$f":"'Data Feed'!R108","v":0},{"$f":"'Data Feed'!S108","v":0},{"$f":"'Data Feed'!T108","v":0},{"$f":"'Data Feed'!U108","v":0},{"$f":"'Data Feed'!V108","v":0},{"$f":"'Data Feed'!W108","v":0},{"$f":"'Data Feed'!X108","v":0},{"$f":"'Data Feed'!Y108","v":0},{"$f":"'Data Feed'!Z108","v":0},{"$f":"'Data Feed'!AA108","v":0},{"$f":"'Data Feed'!AB108","v":0},{"$f":"'Data Feed'!AC108","v":0},{"$f":"'Data Feed'!AD108","v":0},{"$f":"'Data Feed'!AE108","v":0},{"$f":"'Data Feed'!AF108","v":0},{"$f":"'Data Feed'!AG108","v":0},{"$f":"'Data Feed'!AH108","v":0},{"$f":"'Data Feed'!AI108","v":0}]
[{"$f":"B107&\"_\"&COUNTIF($B$1:B107,B107)","v":"0_104"},{"$f":"'Data Feed'!F109","v":0},{"$f":"'Data Feed'!B109","v":0},{"$f":"'Data Feed'!C109","v":0},{"$f":"'Data Feed'!D109","v":0},{"$f":"'Data Feed'!E109","v":0},{"$f":"'Data Feed'!F109","v":0},{"$f":"'Data Feed'!G109","v":0},{"$f":"'Data Feed'!H109","v":0},{"$f":"'Data Feed'!I109","v":0},{"$f":"'Data Feed'!J109","v":0},{"$f":"'Data Feed'!K109","v":0},{"$f":"'Data Feed'!L109","v":0},{"$f":"'Data Feed'!M109","v":0},{"$f":"'Data Feed'!N109","v":0},{"$f":"'Data Feed'!O109","v":0},{"$f":"'Data Feed'!P109","v":0},{"$f":"'Data Feed'!Q109","v":0},{"$f":"'Data Feed'!R109","v":0},{"$f":"'Data Feed'!S109","v":0},{"$f":"'Data Feed'!T109","v":0},{"$f":"'Data Feed'!U109","v":0},{"$f":"'Data Feed'!V109","v":0},{"$f":"'Data Feed'!W109","v":0},{"$f":"'Data Feed'!X109","v":0},{"$f":"'Data Feed'!Y109","v":0},{"$f":"'Data Feed'!Z109","v":0},{"$f":"'Data Feed'!AA109","v":0},{"$f":"'Data Feed'!AB109","v":0},{"$f":"'Data Feed'!AC109","v":0},{"$f":"'Data Feed'!AD109","v":0},{"$f":"'Data Feed'!AE109","v":0},{"$f":"'Data Feed'!AF109","v":0},{"$f":"'Data Feed'!AG109","v":0},{"$f":"'Data Feed'!AH109","v":0},{"$f":"'Data Feed'!AI109","v":0}]
[{"$f":"B108&\"_\"&COUNTIF($B$1:B108,B108)","v":"0_105"},{"$f":"'Data Feed'!F110","v":0},{"$f":"'Data Feed'!B110","v":0},{"$f":"'Data Feed'!C110","v":0},{"$f":"'Data Feed'!D110","v":0},{"$f":"'Data Feed'!E110","v":0},{"$f":"'Data Feed'!F110","v":0},{"$f":"'Data Feed'!G110","v":0},{"$f":"'Data Feed'!H110","v":0},{"$f":"'Data Feed'!I110","v":0},{"$f":"'Data Feed'!J110","v":0},{"$f":"'Data Feed'!K110","v":0},{"$f":"'Data Feed'!L110","v":0},{"$f":"'Data Feed'!M110","v":0},{"$f":"'Data Feed'!N110","v":0},{"$f":"'Data Feed'!O110","v":0},{"$f":"'Data Feed'!P110","v":0},{"$f":"'Data Feed'!Q110","v":0},{"$f":"'Data Feed'!R110","v":0},{"$f":"'Data Feed'!S110","v":0},{"$f":"'Data Feed'!T110","v":0},{"$f":"'Data Feed'!U110","v":0},{"$f":"'Data Feed'!V110","v":0},{"$f":"'Data Feed'!W110","v":0},{"$f":"'Data Feed'!X110","v":0},{"$f":"'Data Feed'!Y110","v":0},{"$f":"'Data Feed'!Z110","v":0},{"$f":"'Data Feed'!AA110","v":0},{"$f":"'Data Feed'!AB110","v":0},{"$f":"'Data Feed'!AC110","v":0},{"$f":"'Data Feed'!AD110","v":0},{"$f":"'Data Feed'!AE110","v":0},{"$f":"'Data Feed'!AF110","v":0},{"$f":"'Data Feed'!AG110","v":0},{"$f":"'Data Feed'!AH110","v":0},{"$f":"'Data Feed'!AI110","v":0}]
[{"$f":"B109&\"_\"&COUNTIF($B$1:B109,B109)","v":"0_106"},{"$f":"'Data Feed'!F111","v":0},{"$f":"'Data Feed'!B111","v":0},{"$f":"'Data Feed'!C111","v":0},{"$f":"'Data Feed'!D111","v":0},{"$f":"'Data Feed'!E111","v":0},{"$f":"'Data Feed'!F111","v":0},{"$f":"'Data Feed'!G111","v":0},{"$f":"'Data Feed'!H111","v":0},{"$f":"'Data Feed'!I111","v":0},{"$f":"'Data Feed'!J111","v":0},{"$f":"'Data Feed'!K111","v":0},{"$f":"'Data Feed'!L111","v":0},{"$f":"'Data Feed'!M111","v":0},{"$f":"'Data Feed'!N111","v":0},{"$f":"'Data Feed'!O111","v":0},{"$f":"'Data Feed'!P111","v":0},{"$f":"'Data Feed'!Q111","v":0},{"$f":"'Data Feed'!R111","v":0},{"$f":"'Data Feed'!S111","v":0},{"$f":"'Data Feed'!T111","v":0},{"$f":"'Data Feed'!U111","v":0},{"$f":"'Data Feed'!V111","v":0},{"$f":"'Data Feed'!W111","v":0},{"$f":"'Data Feed'!X111","v":0},{"$f":"'Data Feed'!Y111","v":0},{"$f":"'Data Feed'!Z111","v":0},{"$f":"'Data Feed'!AA111","v":0},{"$f":"'Data Feed'!AB111","v":0},{"$f":"'Data Feed'!AC111","v":0},{"$f":"'Data Feed'!AD111","v":0},{"$f":"'Data Feed'!AE111","v":0},{"$f":"'Data Feed'!AF111","v":0},{"$f":"'Data Feed'!AG111","v":0},{"$f":"'Data Feed'!AH111","v":0},{"$f":"'Data Feed'!AI111","v":0}]
[{"$f":"B110&\"_\"&COUNTIF($B$1:B110,B110)","v":"0_107"},{"$f":"'Data Feed'!F112","v":0},{"$f":"'Data Feed'!B112","v":0},{"$f":"'Data Feed'!C112","v":0},{"$f":"'Data Feed'!D112","v":0},{"$f":"'Data Feed'!E112","v":0},{"$f":"'Data Feed'!F112","v":0},{"$f":"'Data Feed'!G112","v":0},{"$f":"'Data Feed'!H112","v":0},{"$f":"'Data Feed'!I112","v":0},{"$f":"'Data Feed'!J112","v":0},{"$f":"'Data Feed'!K112","v":0},{"$f":"'Data Feed'!L112","v":0},{"$f":"'Data Feed'!M112","v":0},{"$f":"'Data Feed'!N112","v":0},{"$f":"'Data Feed'!O112","v":0},{"$f":"'Data Feed'!P112","v":0},{"$f":"'Data Feed'!Q112","v":0},{"$f":"'Data Feed'!R112","v":0},{"$f":"'Data Feed'!S112","v":0},{"$f":"'Data Feed'!T112","v":0},{"$f":"'Data Feed'!U112","v":0},{"$f":"'Data Feed'!V112","v":0},{"$f":"'Data Feed'!W112","v":0},{"$f":"'Data Feed'!X112","v":0},{"$f":"'Data Feed'!Y112","v":0},{"$f":"'Data Feed'!Z112","v":0},{"$f":"'Data Feed'!AA112","v":0},{"$f":"'Data Feed'!AB112","v":0},{"$f":"'Data Feed'!AC112","v":0},{"$f":"'Data Feed'!AD112","v":0},{"$f":"'Data Feed'!AE112","v":0},{"$f":"'Data Feed'!AF112","v":0},{"$f":"'Data Feed'!AG112","v":0},{"$f":"'Data Feed'!AH112","v":0},{"$f":"'Data Feed'!AI112","v":0}]
[{"$f":"B111&\"_\"&COUNTIF($B$1:B111,B111)","v":"0_108"},{"$f":"'Data Feed'!F113","v":0},{"$f":"'Data Feed'!B113","v":0},{"$f":"'Data Feed'!C113","v":0},{"$f":"'Data Feed'!D113","v":0},{"$f":"'Data Feed'!E113","v":0},{"$f":"'Data Feed'!F113","v":0},{"$f":"'Data Feed'!G113","v":0},{"$f":"'Data Feed'!H113","v":0},{"$f":"'Data Feed'!I113","v":0},{"$f":"'Data Feed'!J113","v":0},{"$f":"'Data Feed'!K113","v":0},{"$f":"'Data Feed'!L113","v":0},{"$f":"'Data Feed'!M113","v":0},{"$f":"'Data Feed'!N113","v":0},{"$f":"'Data Feed'!O113","v":0},{"$f":"'Data Feed'!P113","v":0},{"$f":"'Data Feed'!Q113","v":0},{"$f":"'Data Feed'!R113","v":0},{"$f":"'Data Feed'!S113","v":0},{"$f":"'Data Feed'!T113","v":0},{"$f":"'Data Feed'!U113","v":0},{"$f":"'Data Feed'!V113","v":0},{"$f":"'Data Feed'!W113","v":0},{"$f":"'Data Feed'!X113","v":0},{"$f":"'Data Feed'!Y113","v":0},{"$f":"'Data Feed'!Z113","v":0},{"$f":"'Data Feed'!AA113","v":0},{"$f":"'Data Feed'!AB113","v":0},{"$f":"'Data Feed'!AC113","v":0},{"$f":"'Data Feed'!AD113","v":0},{"$f":"'Data Feed'!AE113","v":0},{"$f":"'Data Feed'!AF113","v":0},{"$f":"'Data Feed'!AG113","v":0},{"$f":"'Data Feed'!AH113","v":0},{"$f":"'Data Feed'!AI113","v":0}]
[{"$f":"B112&\"_\"&COUNTIF($B$1:B112,B112)","v":"0_109"},{"$f":"'Data Feed'!F114","v":0},{"$f":"'Data Feed'!B114","v":0},{"$f":"'Data Feed'!C114","v":0},{"$f":"'Data Feed'!D114","v":0},{"$f":"'Data Feed'!E114","v":0},{"$f":"'Data Feed'!F114","v":0},{"$f":"'Data Feed'!G114","v":0},{"$f":"'Data Feed'!H114","v":0},{"$f":"'Data Feed'!I114","v":0},{"$f":"'Data Feed'!J114","v":0},{"$f":"'Data Feed'!K114","v":0},{"$f":"'Data Feed'!L114","v":0},{"$f":"'Data Feed'!M114","v":0},{"$f":"'Data Feed'!N114","v":0},{"$f":"'Data Feed'!O114","v":0},{"$f":"'Data Feed'!P114","v":0},{"$f":"'Data Feed'!Q114","v":0},{"$f":"'Data Feed'!R114","v":0},{"$f":"'Data Feed'!S114","v":0},{"$f":"'Data Feed'!T114","v":0},{"$f":"'Data Feed'!U114","v":0},{"$f":"'Data Feed'!V114","v":0},{"$f":"'Data Feed'!W114","v":0},{"$f":"'Data Feed'!X114","v":0},{"$f":"'Data Feed'!Y114","v":0},{"$f":"'Data Feed'!Z114","v":0},{"$f":"'Data Feed'!AA114","v":0},{"$f":"'Data Feed'!AB114","v":0},{"$f":"'Data Feed'!AC114","v":0},{"$f":"'Data Feed'!AD114","v":0},{"$f":"'Data Feed'!AE114","v":0},{"$f":"'Data Feed'!AF114","v":0},{"$f":"'Data Feed'!AG114","v":0},{"$f":"'Data Feed'!AH114","v":0},{"$f":"'Data Feed'!AI114","v":0}]
[{"$f":"B113&\"_\"&COUNTIF($B$1:B113,B113)","v":"0_110"},{"$f":"'Data Feed'!F115","v":0},{"$f":"'Data Feed'!B115","v":0},{"$f":"'Data Feed'!C115","v":0},{"$f":"'Data Feed'!D115","v":0},{"$f":"'Data Feed'!E115","v":0},{"$f":"'Data Feed'!F115","v":0},{"$f":"'Data Feed'!G115","v":0},{"$f":"'Data Feed'!H115","v":0},{"$f":"'Data Feed'!I115","v":0},{"$f":"'Data Feed'!J115","v":0},{"$f":"'Data Feed'!K115","v":0},{"$f":"'Data Feed'!L115","v":0},{"$f":"'Data Feed'!M115","v":0},{"$f":"'Data Feed'!N115","v":0},{"$f":"'Data Feed'!O115","v":0},{"$f":"'Data Feed'!P115","v":0},{"$f":"'Data Feed'!Q115","v":0},{"$f":"'Data Feed'!R115","v":0},{"$f":"'Data Feed'!S115","v":0},{"$f":"'Data Feed'!T115","v":0},{"$f":"'Data Feed'!U115","v":0},{"$f":"'Data Feed'!V115","v":0},{"$f":"'Data Feed'!W115","v":0},{"$f":"'Data Feed'!X115","v":0},{"$f":"'Data Feed'!Y115","v":0},{"$f":"'Data Feed'!Z115","v":0},{"$f":"'Data Feed'!AA115","v":0},{"$f":"'Data Feed'!AB115","v":0},{"$f":"'Data Feed'!AC115","v":0},{"$f":"'Data Feed'!AD115","v":0},{"$f":"'Data Feed'!AE115","v":0},{"$f":"'Data Feed'!AF115","v":0},{"$f":"'Data Feed'!AG115","v":0},{"$f":"'Data Feed'!AH115","v":0},{"$f":"'Data Feed'!AI115","v":0}]
[{"$f":"B114&\"_\"&COUNTIF($B$1:B114,B114)","v":"0_111"},{"$f":"'Data Feed'!F116","v":0},{"$f":"'Data Feed'!B116","v":0},{"$f":"'Data Feed'!C116","v":0},{"$f":"'Data Feed'!D116","v":0},{"$f":"'Data Feed'!E116","v":0},{"$f":"'Data Feed'!F116","v":0},{"$f":"'Data Feed'!G116","v":0},{"$f":"'Data Feed'!H116","v":0},{"$f":"'Data Feed'!I116","v":0},{"$f":"'Data Feed'!J116","v":0},{"$f":"'Data Feed'!K116","v":0},{"$f":"'Data Feed'!L116","v":0},{"$f":"'Data Feed'!M116","v":0},{"$f":"'Data Feed'!N116","v":0},{"$f":"'Data Feed'!O116","v":0},{"$f":"'Data Feed'!P116","v":0},{"$f":"'Data Feed'!Q116","v":0},{"$f":"'Data Feed'!R116","v":0},{"$f":"'Data Feed'!S116","v":0},{"$f":"'Data Feed'!T116","v":0},{"$f":"'Data Feed'!U116","v":0},{"$f":"'Data Feed'!V116","v":0},{"$f":"'Data Feed'!W116","v":0},{"$f":"'Data Feed'!X116","v":0},{"$f":"'Data Feed'!Y116","v":0},{"$f":"'Data Feed'!Z116","v":0},{"$f":"'Data Feed'!AA116","v":0},{"$f":"'Data Feed'!AB116","v":0},{"$f":"'Data Feed'!AC116","v":0},{"$f":"'Data Feed'!AD116","v":0},{"$f":"'Data Feed'!AE116","v":0},{"$f":"'Data Feed'!AF116","v":0},{"$f":"'Data Feed'!AG116","v":0},{"$f":"'Data Feed'!AH116","v":0},{"$f":"'Data Feed'!AI116","v":0}]
[{"$f":"B115&\"_\"&COUNTIF($B$1:B115,B115)","v":"0_112"},{"$f":"'Data Feed'!F117","v":0},{"$f":"'Data Feed'!B117","v":0},{"$f":"'Data Feed'!C117","v":0},{"$f":"'Data Feed'!D117","v":0},{"$f":"'Data Feed'!E117","v":0},{"$f":"'Data Feed'!F117","v":0},{"$f":"'Data Feed'!G117","v":0},{"$f":"'Data Feed'!H117","v":0},{"$f":"'Data Feed'!I117","v":0},{"$f":"'Data Feed'!J117","v":0},{"$f":"'Data Feed'!K117","v":0},{"$f":"'Data Feed'!L117","v":0},{"$f":"'Data Feed'!M117","v":0},{"$f":"'Data Feed'!N117","v":0},{"$f":"'Data Feed'!O117","v":0},{"$f":"'Data Feed'!P117","v":0},{"$f":"'Data Feed'!Q117","v":0},{"$f":"'Data Feed'!R117","v":0},{"$f":"'Data Feed'!S117","v":0},{"$f":"'Data Feed'!T117","v":0},{"$f":"'Data Feed'!U117","v":0},{"$f":"'Data Feed'!V117","v":0},{"$f":"'Data Feed'!W117","v":0},{"$f":"'Data Feed'!X117","v":0},{"$f":"'Data Feed'!Y117","v":0},{"$f":"'Data Feed'!Z117","v":0},{"$f":"'Data Feed'!AA117","v":0},{"$f":"'Data Feed'!AB117","v":0},{"$f":"'Data Feed'!AC117","v":0},{"$f":"'Data Feed'!AD117","v":0},{"$f":"'Data Feed'!AE117","v":0},{"$f":"'Data Feed'!AF117","v":0},{"$f":"'Data Feed'!AG117","v":0},{"$f":"'Data Feed'!AH117","v":0},{"$f":"'Data Feed'!AI117","v":0}]
[{"$f":"B116&\"_\"&COUNTIF($B$1:B116,B116)","v":"0_113"},{"$f":"'Data Feed'!F118","v":0},{"$f":"'Data Feed'!B118","v":0},{"$f":"'Data Feed'!C118","v":0},{"$f":"'Data Feed'!D118","v":0},{"$f":"'Data Feed'!E118","v":0},{"$f":"'Data Feed'!F118","v":0},{"$f":"'Data Feed'!G118","v":0},{"$f":"'Data Feed'!H118","v":0},{"$f":"'Data Feed'!I118","v":0},{"$f":"'Data Feed'!J118","v":0},{"$f":"'Data Feed'!K118","v":0},{"$f":"'Data Feed'!L118","v":0},{"$f":"'Data Feed'!M118","v":0},{"$f":"'Data Feed'!N118","v":0},{"$f":"'Data Feed'!O118","v":0},{"$f":"'Data Feed'!P118","v":0},{"$f":"'Data Feed'!Q118","v":0},{"$f":"'Data Feed'!R118","v":0},{"$f":"'Data Feed'!S118","v":0},{"$f":"'Data Feed'!T118","v":0},{"$f":"'Data Feed'!U118","v":0},{"$f":"'Data Feed'!V118","v":0},{"$f":"'Data Feed'!W118","v":0},{"$f":"'Data Feed'!X118","v":0},{"$f":"'Data Feed'!Y118","v":0},{"$f":"'Data Feed'!Z118","v":0},{"$f":"'Data Feed'!AA118","v":0},{"$f":"'Data Feed'!AB118","v":0},{"$f":"'Data Feed'!AC118","v":0},{"$f":"'Data Feed'!AD118","v":0},{"$f":"'Data Feed'!AE118","v":0},{"$f":"'Data Feed'!AF118","v":0},{"$f":"'Data Feed'!AG118","v":0},{"$f":"'Data Feed'!AH118","v":0},{"$f":"'Data Feed'!AI118","v":0}]
[{"$f":"B117&\"_\"&COUNTIF($B$1:B117,B117)","v":"0_114"},{"$f":"'Data Feed'!F119","v":0},{"$f":"'Data Feed'!B119","v":0},{"$f":"'Data Feed'!C119","v":0},{"$f":"'Data Feed'!D119","v":0},{"$f":"'Data Feed'!E119","v":0},{"$f":"'Data Feed'!F119","v":0},{"$f":"'Data Feed'!G119","v":0},{"$f":"'Data Feed'!H119","v":0},{"$f":"'Data Feed'!I119","v":0},{"$f":"'Data Feed'!J119","v":0},{"$f":"'Data Feed'!K119","v":0},{"$f":"'Data Feed'!L119","v":0},{"$f":"'Data Feed'!M119","v":0},{"$f":"'Data Feed'!N119","v":0},{"$f":"'Data Feed'!O119","v":0},{"$f":"'Data Feed'!P119","v":0},{"$f":"'Data Feed'!Q119","v":0},{"$f":"'Data Feed'!R119","v":0},{"$f":"'Data Feed'!S119","v":0},{"$f":"'Data Feed'!T119","v":0},{"$f":"'Data Feed'!U119","v":0},{"$f":"'Data Feed'!V119","v":0},{"$f":"'Data Feed'!W119","v":0},{"$f":"'Data Feed'!X119","v":0},{"$f":"'Data Feed'!Y119","v":0},{"$f":"'Data Feed'!Z119","v":0},{"$f":"'Data Feed'!AA119","v":0},{"$f":"'Data Feed'!AB119","v":0},{"$f":"'Data Feed'!AC119","v":0},{"$f":"'Data Feed'!AD119","v":0},{"$f":"'Data Feed'!AE119","v":0},{"$f":"'Data Feed'!AF119","v":0},{"$f":"'Data Feed'!AG119","v":0},{"$f":"'Data Feed'!AH119","v":0},{"$f":"'Data Feed'!AI119","v":0}]
[{"$f":"B118&\"_\"&COUNTIF($B$1:B118,B118)","v":"0_115"},{"$f":"'Data Feed'!F120","v":0},{"$f":"'Data Feed'!B120","v":0},{"$f":"'Data Feed'!C120","v":0},{"$f":"'Data Feed'!D120","v":0},{"$f":"'Data Feed'!E120","v":0},{"$f":"'Data Feed'!F120","v":0},{"$f":"'Data Feed'!G120","v":0},{"$f":"'Data Feed'!H120","v":0},{"$f":"'Data Feed'!I120","v":0},{"$f":"'Data Feed'!J120","v":0},{"$f":"'Data Feed'!K120","v":0},{"$f":"'Data Feed'!L120","v":0},{"$f":"'Data Feed'!M120","v":0},{"$f":"'Data Feed'!N120","v":0},{"$f":"'Data Feed'!O120","v":0},{"$f":"'Data Feed'!P120","v":0},{"$f":"'Data Feed'!Q120","v":0},{"$f":"'Data Feed'!R120","v":0},{"$f":"'Data Feed'!S120","v":0},{"$f":"'Data Feed'!T120","v":0},{"$f":"'Data Feed'!U120","v":0},{"$f":"'Data Feed'!V120","v":0},{"$f":"'Data Feed'!W120","v":0},{"$f":"'Data Feed'!X120","v":0},{"$f":"'Data Feed'!Y120","v":0},{"$f":"'Data Feed'!Z120","v":0},{"$f":"'Data Feed'!AA120","v":0},{"$f":"'Data Feed'!AB120","v":0},{"$f":"'Data Feed'!AC120","v":0},{"$f":"'Data Feed'!AD120","v":0},{"$f":"'Data Feed'!AE120","v":0},{"$f":"'Data Feed'!AF120","v":0},{"$f":"'Data Feed'!AG120","v":0},{"$f":"'Data Feed'!AH120","v":0},{"$f":"'Data Feed'!AI120","v":0}]
[{"$f":"B119&\"_\"&COUNTIF($B$1:B119,B119)","v":"0_116"},{"$f":"'Data Feed'!F121","v":0},{"$f":"'Data Feed'!B121","v":"Aditya"},{"$f":"'Data Feed'!C121","v":0},{"$f":"'Data Feed'!D121","v":0},{"$f":"'Data Feed'!E121","v":0},{"$f":"'Data Feed'!F121","v":0},{"$f":"'Data Feed'!G121","v":0},{"$f":"'Data Feed'!H121","v":0},{"$f":"'Data Feed'!I121","v":0},{"$f":"'Data Feed'!J121","v":0},{"$f":"'Data Feed'!K121","v":"English"},{"$f":"'Data Feed'!L121","v":0},{"$f":"'Data Feed'!M121","v":0},{"$f":"'Data Feed'!N121","v":0},{"$f":"'Data Feed'!O121","v":0},{"$f":"'Data Feed'!P121","v":0},{"$f":"'Data Feed'!Q121","v":0},{"$f":"'Data Feed'!R121","v":0},{"$f":"'Data Feed'!S121","v":0},{"$f":"'Data Feed'!T121","v":0},{"$f":"'Data Feed'!U121","v":0},{"$f":"'Data Feed'!V121","v":0},{"$f":"'Data Feed'!W121","v":0},{"$f":"'Data Feed'!X121","v":0},{"$f":"'Data Feed'!Y121","v":0},{"$f":"'Data Feed'!Z121","v":0},{"$f":"'Data Feed'!AA121","v":0},{"$f":"'Data Feed'!AB121","v":0},{"$f":"'Data Feed'!AC121","v":0},{"$f":"'Data Feed'!AD121","v":0},{"$f":"'Data Feed'!AE121","v":0},{"$f":"'Data Feed'!AF121","v":0},{"$f":"'Data Feed'!AG121","v":0},{"$f":"'Data Feed'!AH121","v":0},{"$f":"'Data Feed'!AI121","v":0}]

{"sheet":"schoolwise","index":7,"n_rows":119,"n_cols":36,"rows_kept":119,"hidden":true}
[{"$f":"B1&\"_\"&COUNTIF($B$1:B1,B1)","v":"राउमावि, रूपपुरा_1"},{"$f":"'Data Feed'!AJ3","v":"राउमावि, रूपपुरा"},{"$f":"'Data Feed'!B3","v":"श्री अश्विनी कुमार"},{"$f":"'Data Feed'!C3","v":"श्री मेघराज शर्मा"},{"$f":"'Data Feed'!D3","v":"RJNA201228008021"},{"$f":"'Data Feed'!E3","v":32179},{"$f":"'Data Feed'!F3","v":"Male"},{"$f":"'Data Feed'!G3","v":"Gen"},{"$f":"'Data Feed'!H3","v":"Hindu"},{"$f":"'Data Feed'!I3","v":"No"},{"$f":"'Data Feed'!J3","v":"वरिष्ठ अध्यापक"},{"$f":"'Data Feed'!K3","v":"English"},{"$f":"'Data Feed'!L3","v":"स्थाई"},{"$f":"'Data Feed'!M3","v":"O+"},{"$f":"'Data Feed'!N3","v":"कुचामन सिटी"},{"$f":"'Data Feed'!O3","v":"नागौर"},{"$f":"'Data Feed'!P3","v":9166023711},{"$f":"'Data Feed'!Q3","v":"sspkctakumar@gmail.com"},{"$f":"'Data Feed'!R3","v":610370000000},{"$f":"'Data Feed'!S3","v":"SBI"},{"$f":"'Data Feed'!T3","v":"SBIN0031733"},{"$f":"'Data Feed'!U3","v":40835},{"$f":"'Data Feed'!V3","v":40835},{"$f":"'Data Feed'!W3","v":40866},{"$f":"'Data Feed'!X3","v":40866},{"$f":"'Data Feed'!Y3","v":0},{"$f":"'Data Feed'!Z3","v":40866},{"$f":"'Data Feed'!AA3","v":110000000000},{"$f":"'Data Feed'!AB3","v":6123456},{"$f":"'Data Feed'!AC3","v":123456781234},{"$f":"'Data Feed'!AD3","v":"ZXZXZXD"},{"$f":"'Data Feed'!AE3","v":0},{"$f":"'Data Feed'!AF3","v":"ABCDE1111F"},{"$f":"'Data Feed'!AG3","v":48500},{"$f":"'Data Feed'!AH3","v":"M.A."},{"$f":"'Data Feed'!AI3","v":"M.Ed"}]
[{"$f":"B2&\"_\"&COUNTIF($B$1:B2,B2)","v":"राउप्रावि 4_1"},{"$f":"'Data Feed'!AJ4","v":"राउप्रावि 4"},{"$f":"'Data Feed'!B4","v":"श्री प्रकाश कुमार गौड़"},{"$f":"'Data Feed'!C4","v":"श्री राजेंद्र शर्मा"},{"$f":"'Data Feed'!D4","v":"RJNA201228008022"},{"$f":"'Data Feed'!E4","v":32180},{"$f":"'Data Feed'!F4","v":"Female"},{"$f":"'Data Feed'!G4","v":"Gen"},{"$f":"'Data Feed'!H4","v":"Hindu"},{"$f":"'Data Feed'!I4","v":"No"},{"$f":"'Data Feed'!J4","v":"व्याख्याता"},{"$f":"'Data Feed'!K4","v":"History"},{"$f":"'Data Feed'!L4","v":"स्थाई"},{"$f":"'Data Feed'!M4","v":"O+"},{"$f":"'Data Feed'!N4","v":"कुचामन सिटी"},{"$f":"'Data Feed'!O4","v":"नागौर"},{"$f":"'Data Feed'!P4","v":9166023711},{"$f":"'Data Feed'!Q4","v":"sspkctakumar@gmail.com"},{"$f":"'Data Feed'!R4","v":610370000000},{"$f":"'Data Feed'!S4","v":"SBI"},{"$f":"'Data Feed'!T4","v":"SBIN0031733"},{"$f":"'Data Feed'!U4","v":40835},{"$f":"'Data Feed'!V4","v":40835},{"$f":"'Data Feed'!W4","v":40866},{"$f":"'Data Feed'!X4","v":40866},{"$f":"'Data Feed'!Y4","v":0},{"$f":"'Data Feed'!Z4","v":40866},{"$f":"'Data Feed'!AA4","v":110000000000},{"$f":"'Data Feed'!AB4","v":6123456},{"$f":"'Data Feed'!AC4","v":123456781234},{"$f":"'Data Feed'!AD4","v":"ZXZXZXD"},{"$f":"'Data Feed'!AE4","v":0},{"$f":"'Data Feed'!AF4","v":"ABCDE1111F"},{"$f":"'Data Feed'!AG4","v":48500},{"$f":"'Data Feed'!AH4","v":"M.A."},{"$f":"'Data Feed'!AI4","v":"M.Ed"}]
[{"$f":"B3&\"_\"&COUNTIF($B$1:B3,B3)","v":"रामावि 2_1"},{"$f":"'Data Feed'!AJ5","v":"रामावि 2"},{"$f":"'Data Feed'!B5","v":"श्री जावेद खान"},{"$f":"'Data Feed'!C5","v":"श्री"},{"$f":"'Data Feed'!D5","v":"RJNA201228008023"},{"$f":"'Data Feed'!E5","v":32181},{"$f":"'Data Feed'!F5","v":"Male"},{"$f":"'Data Feed'!G5","v":"OBC"},{"$f":"'Data Feed'!H5","v":"Muslim"},{"$f":"'Data Feed'!I5","v":"Yes"},{"$f":"'Data Feed'!J5","v":"प्रधानाचार्य"},{"$f":"'Data Feed'!K5","v":"Agriculture"},{"$f":"'Data Feed'!L5","v":"अस्थाई"},{"$f":"'Data Feed'!M5","v":"AB+"},{"$f":"'Data Feed'!N5","v":"कुचामन सिटी"},{"$f":"'Data Feed'!O5","v":"नागौर"},{"$f":"'Data Feed'!P5","v":9166023711},{"$f":"'Data Feed'!Q5","v":"sspkctakumar@gmail.com"},{"$f":"'Data Feed'!R5","v":610370000000},{"$f":"'Data Feed'!S5","v":"SBI"},{"$f":"'Data Feed'!T5","v":"SBIN0031733"},{"$f":"'Data Feed'!U5","v":40835},{"$f":"'Data Feed'!V5","v":40835},{"$f":"'Data Feed'!W5","v":40866},{"$f":"'Data Feed'!X5","v":40866},{"$f":"'Data Feed'!Y5","v":0},{"$f":"'Data Feed'!Z5","v":40866},{"$f":"'Data Feed'!AA5","v":110000000000},{"$f":"'Data Feed'!AB5","v":6123456},{"$f":"'Data Feed'!AC5","v":123456781234},{"$f":"'Data Feed'!AD5","v":"ZXZXZXD"},{"$f":"'Data Feed'!AE5","v":0},{"$f":"'Data Feed'!AF5","v":"ABCDE1111F"},{"$f":"'Data Feed'!AG5","v":48500},{"$f":"'Data Feed'!AH5","v":"M.A."},{"$f":"'Data Feed'!AI5","v":"M.Ed"}]
[{"$f":"B4&\"_\"&COUNTIF($B$1:B4,B4)","v":"0_1"},{"$f":"'Data Feed'!AJ6","v":0},{"$f":"'Data Feed'!B6","v":0},{"$f":"'Data Feed'!C6","v":0},{"$f":"'Data Feed'!D6","v":0},{"$f":"'Data Feed'!E6","v":0},{"$f":"'Data Feed'!F6","v":0},{"$f":"'Data Feed'!G6","v":0},{"$f":"'Data Feed'!H6","v":0},{"$f":"'Data Feed'!I6","v":0},{"$f":"'Data Feed'!J6","v":0},{"$f":"'Data Feed'!K6","v":0},{"$f":"'Data Feed'!L6","v":0},{"$f":"'Data Feed'!M6","v":0},{"$f":"'Data Feed'!N6","v":0},{"$f":"'Data Feed'!O6","v":0},{"$f":"'Data Feed'!P6","v":0},{"$f":"'Data Feed'!Q6","v":0},{"$f":"'Data Feed'!R6","v":0},{"$f":"'Data Feed'!S6","v":0},{"$f":"'Data Feed'!T6","v":0},{"$f":"'Data Feed'!U6","v":0},{"$f":"'Data Feed'!V6","v":0},{"$f":"'Data Feed'!W6","v":0},{"$f":"'Data Feed'!X6","v":0},{"$f":"'Data Feed'!Y6","v":0},{"$f":"'Data Feed'!Z6","v":0},{"$f":"'Data Feed'!AA6","v":0},{"$f":"'Data Feed'!AB6","v":0},{"$f":"'Data Feed'!AC6","v":0},{"$f":"'Data Feed'!AD6","v":0},{"$f":"'Data Feed'!AE6","v":0},{"$f":"'Data Feed'!AF6","v":0},{"$f":"'Data Feed'!AG6","v":0},{"$f":"'Data Feed'!AH6","v":0},{"$f":"'Data Feed'!AI6","v":0}]
[{"$f":"B5&\"_\"&COUNTIF($B$1:B5,B5)","v":"0_2"},{"$f":"'Data Feed'!AJ7","v":0},{"$f":"'Data Feed'!B7","v":0},{"$f":"'Data Feed'!C7","v":0},{"$f":"'Data Feed'!D7","v":0},{"$f":"'Data Feed'!E7","v":0},{"$f":"'Data Feed'!F7","v":0},{"$f":"'Data Feed'!G7","v":0},{"$f":"'Data Feed'!H7","v":0},{"$f":"'Data Feed'!I7","v":0},{"$f":"'Data Feed'!J7","v":0},{"$f":"'Data Feed'!K7","v":0},{"$f":"'Data Feed'!L7","v":0},{"$f":"'Data Feed'!M7","v":0},{"$f":"'Data Feed'!N7","v":0},{"$f":"'Data Feed'!O7","v":0},{"$f":"'Data Feed'!P7","v":0},{"$f":"'Data Feed'!Q7","v":0},{"$f":"'Data Feed'!R7","v":0},{"$f":"'Data Feed'!S7","v":0},{"$f":"'Data Feed'!T7","v":0},{"$f":"'Data Feed'!U7","v":0},{"$f":"'Data Feed'!V7","v":0},{"$f":"'Data Feed'!W7","v":0},{"$f":"'Data Feed'!X7","v":0},{"$f":"'Data Feed'!Y7","v":0},{"$f":"'Data Feed'!Z7","v":0},{"$f":"'Data Feed'!AA7","v":0},{"$f":"'Data Feed'!AB7","v":0},{"$f":"'Data Feed'!AC7","v":0},{"$f":"'Data Feed'!AD7","v":0},{"$f":"'Data Feed'!AE7","v":0},{"$f":"'Data Feed'!AF7","v":0},{"$f":"'Data Feed'!AG7","v":0},{"$f":"'Data Feed'!AH7","v":0},{"$f":"'Data Feed'!AI7","v":0}]
[{"$f":"B6&\"_\"&COUNTIF($B$1:B6,B6)","v":"0_3"},{"$f":"'Data Feed'!AJ8","v":0},{"$f":"'Data Feed'!B8","v":0},{"$f":"'Data Feed'!C8","v":0},{"$f":"'Data Feed'!D8","v":0},{"$f":"'Data Feed'!E8","v":0},{"$f":"'Data Feed'!F8","v":0},{"$f":"'Data Feed'!G8","v":0},{"$f":"'Data Feed'!H8","v":0},{"$f":"'Data Feed'!I8","v":0},{"$f":"'Data Feed'!J8","v":0},{"$f":"'Data Feed'!K8","v":0},{"$f":"'Data Feed'!L8","v":0},{"$f":"'Data Feed'!M8","v":0},{"$f":"'Data Feed'!N8","v":0},{"$f":"'Data Feed'!O8","v":0},{"$f":"'Data Feed'!P8","v":0},{"$f":"'Data Feed'!Q8","v":0},{"$f":"'Data Feed'!R8","v":0},{"$f":"'Data Feed'!S8","v":0},{"$f":"'Data Feed'!T8","v":0},{"$f":"'Data Feed'!U8","v":0},{"$f":"'Data Feed'!V8","v":0},{"$f":"'Data Feed'!W8","v":0},{"$f":"'Data Feed'!X8","v":0},{"$f":"'Data Feed'!Y8","v":0},{"$f":"'Data Feed'!Z8","v":0},{"$f":"'Data Feed'!AA8","v":0},{"$f":"'Data Feed'!AB8","v":0},{"$f":"'Data Feed'!AC8","v":0},{"$f":"'Data Feed'!AD8","v":0},{"$f":"'Data Feed'!AE8","v":0},{"$f":"'Data Feed'!AF8","v":0},{"$f":"'Data Feed'!AG8","v":0},{"$f":"'Data Feed'!AH8","v":0},{"$f":"'Data Feed'!AI8","v":0}]
[{"$f":"B7&\"_\"&COUNTIF($B$1:B7,B7)","v":"0_4"},{"$f":"'Data Feed'!AJ9","v":0},{"$f":"'Data Feed'!B9","v":0},{"$f":"'Data Feed'!C9","v":0},{"$f":"'Data Feed'!D9","v":0},{"$f":"'Data Feed'!E9","v":0},{"$f":"'Data Feed'!F9","v":0},{"$f":"'Data Feed'!G9","v":0},{"$f":"'Data Feed'!H9","v":0},{"$f":"'Data Feed'!I9","v":0},{"$f":"'Data Feed'!J9","v":0},{"$f":"'Data Feed'!K9","v":0},{"$f":"'Data Feed'!L9","v":0},{"$f":"'Data Feed'!M9","v":0},{"$f":"'Data Feed'!N9","v":0},{"$f":"'Data Feed'!O9","v":0},{"$f":"'Data Feed'!P9","v":0},{"$f":"'Data Feed'!Q9","v":0},{"$f":"'Data Feed'!R9","v":0},{"$f":"'Data Feed'!S9","v":0},{"$f":"'Data Feed'!T9","v":0},{"$f":"'Data Feed'!U9","v":0},{"$f":"'Data Feed'!V9","v":0},{"$f":"'Data Feed'!W9","v":0},{"$f":"'Data Feed'!X9","v":0},{"$f":"'Data Feed'!Y9","v":0},{"$f":"'Data Feed'!Z9","v":0},{"$f":"'Data Feed'!AA9","v":0},{"$f":"'Data Feed'!AB9","v":0},{"$f":"'Data Feed'!AC9","v":0},{"$f":"'Data Feed'!AD9","v":0},{"$f":"'Data Feed'!AE9","v":0},{"$f":"'Data Feed'!AF9","v":0},{"$f":"'Data Feed'!AG9","v":0},{"$f":"'Data Feed'!AH9","v":0},{"$f":"'Data Feed'!AI9","v":0}]
[{"$f":"B8&\"_\"&COUNTIF($B$1:B8,B8)","v":"0_5"},{"$f":"'Data Feed'!AJ10","v":0},{"$f":"'Data Feed'!B10","v":0},{"$f":"'Data Feed'!C10","v":0},{"$f":"'Data Feed'!D10","v":0},{"$f":"'Data Feed'!E10","v":0},{"$f":"'Data Feed'!F10","v":0},{"$f":"'Data Feed'!G10","v":0},{"$f":"'Data Feed'!H10","v":0},{"$f":"'Data Feed'!I10","v":0},{"$f":"'Data Feed'!J10","v":0},{"$f":"'Data Feed'!K10","v":0},{"$f":"'Data Feed'!L10","v":0},{"$f":"'Data Feed'!M10","v":0},{"$f":"'Data Feed'!N10","v":0},{"$f":"'Data Feed'!O10","v":0},{"$f":"'Data Feed'!P10","v":0},{"$f":"'Data Feed'!Q10","v":0},{"$f":"'Data Feed'!R10","v":0},{"$f":"'Data Feed'!S10","v":0},{"$f":"'Data Feed'!T10","v":0},{"$f":"'Data Feed'!U10","v":0},{"$f":"'Data Feed'!V10","v":0},{"$f":"'Data Feed'!W10","v":0},{"$f":"'Data Feed'!X10","v":0},{"$f":"'Data Feed'!Y10","v":0},{"$f":"'Data Feed'!Z10","v":0},{"$f":"'Data Feed'!AA10","v":0},{"$f":"'Data Feed'!AB10","v":0},{"$f":"'Data Feed'!AC10","v":0},{"$f":"'Data Feed'!AD10","v":0},{"$f":"'Data Feed'!AE10","v":0},{"$f":"'Data Feed'!AF10","v":0},{"$f":"'Data Feed'!AG10","v":0},{"$f":"'Data Feed'!AH10","v":0},{"$f":"'Data Feed'!AI10","v":0}]
[{"$f":"B9&\"_\"&COUNTIF($B$1:B9,B9)","v":"0_6"},{"$f":"'Data Feed'!AJ11","v":0},{"$f":"'Data Feed'!B11","v":0},{"$f":"'Data Feed'!C11","v":0},{"$f":"'Data Feed'!D11","v":0},{"$f":"'Data Feed'!E11","v":0},{"$f":"'Data Feed'!F11","v":0},{"$f":"'Data Feed'!G11","v":0},{"$f":"'Data Feed'!H11","v":0},{"$f":"'Data Feed'!I11","v":0},{"$f":"'Data Feed'!J11","v":0},{"$f":"'Data Feed'!K11","v":0},{"$f":"'Data Feed'!L11","v":0},{"$f":"'Data Feed'!M11","v":0},{"$f":"'Data Feed'!N11","v":0},{"$f":"'Data Feed'!O11","v":0},{"$f":"'Data Feed'!P11","v":0},{"$f":"'Data Feed'!Q11","v":0},{"$f":"'Data Feed'!R11","v":0},{"$f":"'Data Feed'!S11","v":0},{"$f":"'Data Feed'!T11","v":0},{"$f":"'Data Feed'!U11","v":0},{"$f":"'Data Feed'!V11","v":0},{"$f":"'Data Feed'!W11","v":0},{"$f":"'Data Feed'!X11","v":0},{"$f":"'Data Feed'!Y11","v":0},{"$f":"'Data Feed'!Z11","v":0},{"$f":"'Data Feed'!AA11","v":0},{"$f":"'Data Feed'!AB11","v":0},{"$f":"'Data Feed'!AC11","v":0},{"$f":"'Data Feed'!AD11","v":0},{"$f":"'Data Feed'!AE11","v":0},{"$f":"'Data Feed'!AF11","v":0},{"$f":"'Data Feed'!AG11","v":0},{"$f":"'Data Feed'!AH11","v":0},{"$f":"'Data Feed'!AI11","v":0}]
[{"$f":"B10&\"_\"&COUNTIF($B$1:B10,B10)","v":"0_7"},{"$f":"'Data Feed'!AJ12","v":0},{"$f":"'Data Feed'!B12","v":0},{"$f":"'Data Feed'!C12","v":0},{"$f":"'Data Feed'!D12","v":0},{"$f":"'Data Feed'!E12","v":0},{"$f":"'Data Feed'!F12","v":0},{"$f":"'Data Feed'!G12","v":0},{"$f":"'Data Feed'!H12","v":0},{"$f":"'Data Feed'!I12","v":0},{"$f":"'Data Feed'!J12","v":0},{"$f":"'Data Feed'!K12","v":0},{"$f":"'Data Feed'!L12","v":0},{"$f":"'Data Feed'!M12","v":0},{"$f":"'Data Feed'!N12","v":0},{"$f":"'Data Feed'!O12","v":0},{"$f":"'Data Feed'!P12","v":0},{"$f":"'Data Feed'!Q12","v":0},{"$f":"'Data Feed'!R12","v":0},{"$f":"'Data Feed'!S12","v":0},{"$f":"'Data Feed'!T12","v":0},{"$f":"'Data Feed'!U12","v":0},{"$f":"'Data Feed'!V12","v":0},{"$f":"'Data Feed'!W12","v":0},{"$f":"'Data Feed'!X12","v":0},{"$f":"'Data Feed'!Y12","v":0},{"$f":"'Data Feed'!Z12","v":0},{"$f":"'Data Feed'!AA12","v":0},{"$f":"'Data Feed'!AB12","v":0},{"$f":"'Data Feed'!AC12","v":0},{"$f":"'Data Feed'!AD12","v":0},{"$f":"'Data Feed'!AE12","v":0},{"$f":"'Data Feed'!AF12","v":0},{"$f":"'Data Feed'!AG12","v":0},{"$f":"'Data Feed'!AH12","v":0},{"$f":"'Data Feed'!AI12","v":0}]
[{"$f":"B11&\"_\"&COUNTIF($B$1:B11,B11)","v":"0_8"},{"$f":"'Data Feed'!AJ13","v":0},{"$f":"'Data Feed'!B13","v":0},{"$f":"'Data Feed'!C13","v":0},{"$f":"'Data Feed'!D13","v":0},{"$f":"'Data Feed'!E13","v":0},{"$f":"'Data Feed'!F13","v":0},{"$f":"'Data Feed'!G13","v":0},{"$f":"'Data Feed'!H13","v":0},{"$f":"'Data Feed'!I13","v":0},{"$f":"'Data Feed'!J13","v":0},{"$f":"'Data Feed'!K13","v":0},{"$f":"'Data Feed'!L13","v":0},{"$f":"'Data Feed'!M13","v":0},{"$f":"'Data Feed'!N13","v":0},{"$f":"'Data Feed'!O13","v":0},{"$f":"'Data Feed'!P13","v":0},{"$f":"'Data Feed'!Q13","v":0},{"$f":"'Data Feed'!R13","v":0},{"$f":"'Data Feed'!S13","v":0},{"$f":"'Data Feed'!T13","v":0},{"$f":"'Data Feed'!U13","v":0},{"$f":"'Data Feed'!V13","v":0},{"$f":"'Data Feed'!W13","v":0},{"$f":"'Data Feed'!X13","v":0},{"$f":"'Data Feed'!Y13","v":0},{"$f":"'Data Feed'!Z13","v":0},{"$f":"'Data Feed'!AA13","v":0},{"$f":"'Data Feed'!AB13","v":0},{"$f":"'Data Feed'!AC13","v":0},{"$f":"'Data Feed'!AD13","v":0},{"$f":"'Data Feed'!AE13","v":0},{"$f":"'Data Feed'!AF13","v":0},{"$f":"'Data Feed'!AG13","v":0},{"$f":"'Data Feed'!AH13","v":0},{"$f":"'Data Feed'!AI13","v":0}]
[{"$f":"B12&\"_\"&COUNTIF($B$1:B12,B12)","v":"0_9"},{"$f":"'Data Feed'!AJ14","v":0},{"$f":"'Data Feed'!B14","v":0},{"$f":"'Data Feed'!C14","v":0},{"$f":"'Data Feed'!D14","v":0},{"$f":"'Data Feed'!E14","v":0},{"$f":"'Data Feed'!F14","v":0},{"$f":"'Data Feed'!G14","v":0},{"$f":"'Data Feed'!H14","v":0},{"$f":"'Data Feed'!I14","v":0},{"$f":"'Data Feed'!J14","v":0},{"$f":"'Data Feed'!K14","v":0},{"$f":"'Data Feed'!L14","v":0},{"$f":"'Data Feed'!M14","v":0},{"$f":"'Data Feed'!N14","v":0},{"$f":"'Data Feed'!O14","v":0},{"$f":"'Data Feed'!P14","v":0},{"$f":"'Data Feed'!Q14","v":0},{"$f":"'Data Feed'!R14","v":0},{"$f":"'Data Feed'!S14","v":0},{"$f":"'Data Feed'!T14","v":0},{"$f":"'Data Feed'!U14","v":0},{"$f":"'Data Feed'!V14","v":0},{"$f":"'Data Feed'!W14","v":0},{"$f":"'Data Feed'!X14","v":0},{"$f":"'Data Feed'!Y14","v":0},{"$f":"'Data Feed'!Z14","v":0},{"$f":"'Data Feed'!AA14","v":0},{"$f":"'Data Feed'!AB14","v":0},{"$f":"'Data Feed'!AC14","v":0},{"$f":"'Data Feed'!AD14","v":0},{"$f":"'Data Feed'!AE14","v":0},{"$f":"'Data Feed'!AF14","v":0},{"$f":"'Data Feed'!AG14","v":0},{"$f":"'Data Feed'!AH14","v":0},{"$f":"'Data Feed'!AI14","v":0}]
[{"$f":"B13&\"_\"&COUNTIF($B$1:B13,B13)","v":"0_10"},{"$f":"'Data Feed'!AJ15","v":0},{"$f":"'Data Feed'!B15","v":0},{"$f":"'Data Feed'!C15","v":0},{"$f":"'Data Feed'!D15","v":0},{"$f":"'Data Feed'!E15","v":0},{"$f":"'Data Feed'!F15","v":0},{"$f":"'Data Feed'!G15","v":0},{"$f":"'Data Feed'!H15","v":0},{"$f":"'Data Feed'!I15","v":0},{"$f":"'Data Feed'!J15","v":0},{"$f":"'Data Feed'!K15","v":0},{"$f":"'Data Feed'!L15","v":0},{"$f":"'Data Feed'!M15","v":0},{"$f":"'Data Feed'!N15","v":0},{"$f":"'Data Feed'!O15","v":0},{"$f":"'Data Feed'!P15","v":0},{"$f":"'Data Feed'!Q15","v":0},{"$f":"'Data Feed'!R15","v":0},{"$f":"'Data Feed'!S15","v":0},{"$f":"'Data Feed'!T15","v":0},{"$f":"'Data Feed'!U15","v":0},{"$f":"'Data Feed'!V15","v":0},{"$f":"'Data Feed'!W15","v":0},{"$f":"'Data Feed'!X15","v":0},{"$f":"'Data Feed'!Y15","v":0},{"$f":"'Data Feed'!Z15","v":0},{"$f":"'Data Feed'!AA15","v":0},{"$f":"'Data Feed'!AB15","v":0},{"$f":"'Data Feed'!AC15","v":0},{"$f":"'Data Feed'!AD15","v":0},{"$f":"'Data Feed'!AE15","v":0},{"$f":"'Data Feed'!AF15","v":0},{"$f":"'Data Feed'!AG15","v":0},{"$f":"'Data Feed'!AH15","v":0},{"$f":"'Data Feed'!AI15","v":0}]
[{"$f":"B14&\"_\"&COUNTIF($B$1:B14,B14)","v":"0_11"},{"$f":"'Data Feed'!AJ16","v":0},{"$f":"'Data Feed'!B16","v":0},{"$f":"'Data Feed'!C16","v":0},{"$f":"'Data Feed'!D16","v":0},{"$f":"'Data Feed'!E16","v":0},{"$f":"'Data Feed'!F16","v":0},{"$f":"'Data Feed'!G16","v":0},{"$f":"'Data Feed'!H16","v":0},{"$f":"'Data Feed'!I16","v":0},{"$f":"'Data Feed'!J16","v":0},{"$f":"'Data Feed'!K16","v":0},{"$f":"'Data Feed'!L16","v":0},{"$f":"'Data Feed'!M16","v":0},{"$f":"'Data Feed'!N16","v":0},{"$f":"'Data Feed'!O16","v":0},{"$f":"'Data Feed'!P16","v":0},{"$f":"'Data Feed'!Q16","v":0},{"$f":"'Data Feed'!R16","v":0},{"$f":"'Data Feed'!S16","v":0},{"$f":"'Data Feed'!T16","v":0},{"$f":"'Data Feed'!U16","v":0},{"$f":"'Data Feed'!V16","v":0},{"$f":"'Data Feed'!W16","v":0},{"$f":"'Data Feed'!X16","v":0},{"$f":"'Data Feed'!Y16","v":0},{"$f":"'Data Feed'!Z16","v":0},{"$f":"'Data Feed'!AA16","v":0},{"$f":"'Data Feed'!AB16","v":0},{"$f":"'Data Feed'!AC16","v":0},{"$f":"'Data Feed'!AD16","v":0},{"$f":"'Data Feed'!AE16","v":0},{"$f":"'Data Feed'!AF16","v":0},{"$f":"'Data Feed'!AG16","v":0},{"$f":"'Data Feed'!AH16","v":0},{"$f":"'Data Feed'!AI16","v":0}]
[{"$f":"B15&\"_\"&COUNTIF($B$1:B15,B15)","v":"0_12"},{"$f":"'Data Feed'!AJ17","v":0},{"$f":"'Data Feed'!B17","v":0},{"$f":"'Data Feed'!C17","v":0},{"$f":"'Data Feed'!D17","v":0},{"$f":"'Data Feed'!E17","v":0},{"$f":"'Data Feed'!F17","v":0},{"$f":"'Data Feed'!G17","v":0},{"$f":"'Data Feed'!H17","v":0},{"$f":"'Data Feed'!I17","v":0},{"$f":"'Data Feed'!J17","v":0},{"$f":"'Data Feed'!K17","v":0},{"$f":"'Data Feed'!L17","v":0},{"$f":"'Data Feed'!M17","v":0},{"$f":"'Data Feed'!N17","v":0},{"$f":"'Data Feed'!O17","v":0},{"$f":"'Data Feed'!P17","v":0},{"$f":"'Data Feed'!Q17","v":0},{"$f":"'Data Feed'!R17","v":0},{"$f":"'Data Feed'!S17","v":0},{"$f":"'Data Feed'!T17","v":0},{"$f":"'Data Feed'!U17","v":0},{"$f":"'Data Feed'!V17","v":0},{"$f":"'Data Feed'!W17","v":0},{"$f":"'Data Feed'!X17","v":0},{"$f":"'Data Feed'!Y17","v":0},{"$f":"'Data Feed'!Z17","v":0},{"$f":"'Data Feed'!AA17","v":0},{"$f":"'Data Feed'!AB17","v":0},{"$f":"'Data Feed'!AC17","v":0},{"$f":"'Data Feed'!AD17","v":0},{"$f":"'Data Feed'!AE17","v":0},{"$f":"'Data Feed'!AF17","v":0},{"$f":"'Data Feed'!AG17","v":0},{"$f":"'Data Feed'!AH17","v":0},{"$f":"'Data Feed'!AI17","v":0}]
[{"$f":"B16&\"_\"&COUNTIF($B$1:B16,B16)","v":"0_13"},{"$f":"'Data Feed'!AJ18","v":0},{"$f":"'Data Feed'!B18","v":0},{"$f":"'Data Feed'!C18","v":0},{"$f":"'Data Feed'!D18","v":0},{"$f":"'Data Feed'!E18","v":0},{"$f":"'Data Feed'!F18","v":0},{"$f":"'Data Feed'!G18","v":0},{"$f":"'Data Feed'!H18","v":0},{"$f":"'Data Feed'!I18","v":0},{"$f":"'Data Feed'!J18","v":0},{"$f":"'Data Feed'!K18","v":0},{"$f":"'Data Feed'!L18","v":0},{"$f":"'Data Feed'!M18","v":0},{"$f":"'Data Feed'!N18","v":0},{"$f":"'Data Feed'!O18","v":0},{"$f":"'Data Feed'!P18","v":0},{"$f":"'Data Feed'!Q18","v":0},{"$f":"'Data Feed'!R18","v":0},{"$f":"'Data Feed'!S18","v":0},{"$f":"'Data Feed'!T18","v":0},{"$f":"'Data Feed'!U18","v":0},{"$f":"'Data Feed'!V18","v":0},{"$f":"'Data Feed'!W18","v":0},{"$f":"'Data Feed'!X18","v":0},{"$f":"'Data Feed'!Y18","v":0},{"$f":"'Data Feed'!Z18","v":0},{"$f":"'Data Feed'!AA18","v":0},{"$f":"'Data Feed'!AB18","v":0},{"$f":"'Data Feed'!AC18","v":0},{"$f":"'Data Feed'!AD18","v":0},{"$f":"'Data Feed'!AE18","v":0},{"$f":"'Data Feed'!AF18","v":0},{"$f":"'Data Feed'!AG18","v":0},{"$f":"'Data Feed'!AH18","v":0},{"$f":"'Data Feed'!AI18","v":0}]
[{"$f":"B17&\"_\"&COUNTIF($B$1:B17,B17)","v":"0_14"},{"$f":"'Data Feed'!AJ19","v":0},{"$f":"'Data Feed'!B19","v":0},{"$f":"'Data Feed'!C19","v":0},{"$f":"'Data Feed'!D19","v":0},{"$f":"'Data Feed'!E19","v":0},{"$f":"'Data Feed'!F19","v":0},{"$f":"'Data Feed'!G19","v":0},{"$f":"'Data Feed'!H19","v":0},{"$f":"'Data Feed'!I19","v":0},{"$f":"'Data Feed'!J19","v":0},{"$f":"'Data Feed'!K19","v":0},{"$f":"'Data Feed'!L19","v":0},{"$f":"'Data Feed'!M19","v":0},{"$f":"'Data Feed'!N19","v":0},{"$f":"'Data Feed'!O19","v":0},{"$f":"'Data Feed'!P19","v":0},{"$f":"'Data Feed'!Q19","v":0},{"$f":"'Data Feed'!R19","v":0},{"$f":"'Data Feed'!S19","v":0},{"$f":"'Data Feed'!T19","v":0},{"$f":"'Data Feed'!U19","v":0},{"$f":"'Data Feed'!V19","v":0},{"$f":"'Data Feed'!W19","v":0},{"$f":"'Data Feed'!X19","v":0},{"$f":"'Data Feed'!Y19","v":0},{"$f":"'Data Feed'!Z19","v":0},{"$f":"'Data Feed'!AA19","v":0},{"$f":"'Data Feed'!AB19","v":0},{"$f":"'Data Feed'!AC19","v":0},{"$f":"'Data Feed'!AD19","v":0},{"$f":"'Data Feed'!AE19","v":0},{"$f":"'Data Feed'!AF19","v":0},{"$f":"'Data Feed'!AG19","v":0},{"$f":"'Data Feed'!AH19","v":0},{"$f":"'Data Feed'!AI19","v":0}]
[{"$f":"B18&\"_\"&COUNTIF($B$1:B18,B18)","v":"0_15"},{"$f":"'Data Feed'!AJ20","v":0},{"$f":"'Data Feed'!B20","v":0},{"$f":"'Data Feed'!C20","v":0},{"$f":"'Data Feed'!D20","v":0},{"$f":"'Data Feed'!E20","v":0},{"$f":"'Data Feed'!F20","v":0},{"$f":"'Data Feed'!G20","v":0},{"$f":"'Data Feed'!H20","v":0},{"$f":"'Data Feed'!I20","v":0},{"$f":"'Data Feed'!J20","v":0},{"$f":"'Data Feed'!K20","v":0},{"$f":"'Data Feed'!L20","v":0},{"$f":"'Data Feed'!M20","v":0},{"$f":"'Data Feed'!N20","v":0},{"$f":"'Data Feed'!O20","v":0},{"$f":"'Data Feed'!P20","v":0},{"$f":"'Data Feed'!Q20","v":0},{"$f":"'Data Feed'!R20","v":0},{"$f":"'Data Feed'!S20","v":0},{"$f":"'Data Feed'!T20","v":0},{"$f":"'Data Feed'!U20","v":0},{"$f":"'Data Feed'!V20","v":0},{"$f":"'Data Feed'!W20","v":0},{"$f":"'Data Feed'!X20","v":0},{"$f":"'Data Feed'!Y20","v":0},{"$f":"'Data Feed'!Z20","v":0},{"$f":"'Data Feed'!AA20","v":0},{"$f":"'Data Feed'!AB20","v":0},{"$f":"'Data Feed'!AC20","v":0},{"$f":"'Data Feed'!AD20","v":0},{"$f":"'Data Feed'!AE20","v":0},{"$f":"'Data Feed'!AF20","v":0},{"$f":"'Data Feed'!AG20","v":0},{"$f":"'Data Feed'!AH20","v":0},{"$f":"'Data Feed'!AI20","v":0}]
[{"$f":"B19&\"_\"&COUNTIF($B$1:B19,B19)","v":"0_16"},{"$f":"'Data Feed'!AJ21","v":0},{"$f":"'Data Feed'!B21","v":0},{"$f":"'Data Feed'!C21","v":0},{"$f":"'Data Feed'!D21","v":0},{"$f":"'Data Feed'!E21","v":0},{"$f":"'Data Feed'!F21","v":0},{"$f":"'Data Feed'!G21","v":0},{"$f":"'Data Feed'!H21","v":0},{"$f":"'Data Feed'!I21","v":0},{"$f":"'Data Feed'!J21","v":0},{"$f":"'Data Feed'!K21","v":0},{"$f":"'Data Feed'!L21","v":0},{"$f":"'Data Feed'!M21","v":0},{"$f":"'Data Feed'!N21","v":0},{"$f":"'Data Feed'!O21","v":0},{"$f":"'Data Feed'!P21","v":0},{"$f":"'Data Feed'!Q21","v":0},{"$f":"'Data Feed'!R21","v":0},{"$f":"'Data Feed'!S21","v":0},{"$f":"'Data Feed'!T21","v":0},{"$f":"'Data Feed'!U21","v":0},{"$f":"'Data Feed'!V21","v":0},{"$f":"'Data Feed'!W21","v":0},{"$f":"'Data Feed'!X21","v":0},{"$f":"'Data Feed'!Y21","v":0},{"$f":"'Data Feed'!Z21","v":0},{"$f":"'Data Feed'!AA21","v":0},{"$f":"'Data Feed'!AB21","v":0},{"$f":"'Data Feed'!AC21","v":0},{"$f":"'Data Feed'!AD21","v":0},{"$f":"'Data Feed'!AE21","v":0},{"$f":"'Data Feed'!AF21","v":0},{"$f":"'Data Feed'!AG21","v":0},{"$f":"'Data Feed'!AH21","v":0},{"$f":"'Data Feed'!AI21","v":0}]
[{"$f":"B20&\"_\"&COUNTIF($B$1:B20,B20)","v":"0_17"},{"$f":"'Data Feed'!AJ22","v":0},{"$f":"'Data Feed'!B22","v":0},{"$f":"'Data Feed'!C22","v":0},{"$f":"'Data Feed'!D22","v":0},{"$f":"'Data Feed'!E22","v":0},{"$f":"'Data Feed'!F22","v":0},{"$f":"'Data Feed'!G22","v":0},{"$f":"'Data Feed'!H22","v":0},{"$f":"'Data Feed'!I22","v":0},{"$f":"'Data Feed'!J22","v":0},{"$f":"'Data Feed'!K22","v":0},{"$f":"'Data Feed'!L22","v":0},{"$f":"'Data Feed'!M22","v":0},{"$f":"'Data Feed'!N22","v":0},{"$f":"'Data Feed'!O22","v":0},{"$f":"'Data Feed'!P22","v":0},{"$f":"'Data Feed'!Q22","v":0},{"$f":"'Data Feed'!R22","v":0},{"$f":"'Data Feed'!S22","v":0},{"$f":"'Data Feed'!T22","v":0},{"$f":"'Data Feed'!U22","v":0},{"$f":"'Data Feed'!V22","v":0},{"$f":"'Data Feed'!W22","v":0},{"$f":"'Data Feed'!X22","v":0},{"$f":"'Data Feed'!Y22","v":0},{"$f":"'Data Feed'!Z22","v":0},{"$f":"'Data Feed'!AA22","v":0},{"$f":"'Data Feed'!AB22","v":0},{"$f":"'Data Feed'!AC22","v":0},{"$f":"'Data Feed'!AD22","v":0},{"$f":"'Data Feed'!AE22","v":0},{"$f":"'Data Feed'!AF22","v":0},{"$f":"'Data Feed'!AG22","v":0},{"$f":"'Data Feed'!AH22","v":0},{"$f":"'Data Feed'!AI22","v":0}]
[{"$f":"B21&\"_\"&COUNTIF($B$1:B21,B21)","v":"0_18"},{"$f":"'Data Feed'!AJ23","v":0},{"$f":"'Data Feed'!B23","v":0},{"$f":"'Data Feed'!C23","v":0},{"$f":"'Data Feed'!D23","v":0},{"$f":"'Data Feed'!E23","v":0},{"$f":"'Data Feed'!F23","v":0},{"$f":"'Data Feed'!G23","v":0},{"$f":"'Data Feed'!H23","v":0},{"$f":"'Data Feed'!I23","v":0},{"$f":"'Data Feed'!J23","v":0},{"$f":"'Data Feed'!K23","v":0},{"$f":"'Data Feed'!L23","v":0},{"$f":"'Data Feed'!M23","v":0},{"$f":"'Data Feed'!N23","v":0},{"$f":"'Data Feed'!O23","v":0},{"$f":"'Data Feed'!P23","v":0},{"$f":"'Data Feed'!Q23","v":0},{"$f":"'Data Feed'!R23","v":0},{"$f":"'Data Feed'!S23","v":0},{"$f":"'Data Feed'!T23","v":0},{"$f":"'Data Feed'!U23","v":0},{"$f":"'Data Feed'!V23","v":0},{"$f":"'Data Feed'!W23","v":0},{"$f":"'Data Feed'!X23","v":0},{"$f":"'Data Feed'!Y23","v":0},{"$f":"'Data Feed'!Z23","v":0},{"$f":"'Data Feed'!AA23","v":0},{"$f":"'Data Feed'!AB23","v":0},{"$f":"'Data Feed'!AC23","v":0},{"$f":"'Data Feed'!AD23","v":0},{"$f":"'Data Feed'!AE23","v":0},{"$f":"'Data Feed'!AF23","v":0},{"$f":"'Data Feed'!AG23","v":0},{"$f":"'Data Feed'!AH23","v":0},{"$f":"'Data Feed'!AI23","v":0}]
[{"$f":"B22&\"_\"&COUNTIF($B$1:B22,B22)","v":"0_19"},{"$f":"'Data Feed'!AJ24","v":0},{"$f":"'Data Feed'!B24","v":0},{"$f":"'Data Feed'!C24","v":0},{"$f":"'Data Feed'!D24","v":0},{"$f":"'Data Feed'!E24","v":0},{"$f":"'Data Feed'!F24","v":0},{"$f":"'Data Feed'!G24","v":0},{"$f":"'Data Feed'!H24","v":0},{"$f":"'Data Feed'!I24","v":0},{"$f":"'Data Feed'!J24","v":0},{"$f":"'Data Feed'!K24","v":0},{"$f":"'Data Feed'!L24","v":0},{"$f":"'Data Feed'!M24","v":0},{"$f":"'Data Feed'!N24","v":0},{"$f":"'Data Feed'!O24","v":0},{"$f":"'Data Feed'!P24","v":0},{"$f":"'Data Feed'!Q24","v":0},{"$f":"'Data Feed'!R24","v":0},{"$f":"'Data Feed'!S24","v":0},{"$f":"'Data Feed'!T24","v":0},{"$f":"'Data Feed'!U24","v":0},{"$f":"'Data Feed'!V24","v":0},{"$f":"'Data Feed'!W24","v":0},{"$f":"'Data Feed'!X24","v":0},{"$f":"'Data Feed'!Y24","v":0},{"$f":"'Data Feed'!Z24","v":0},{"$f":"'Data Feed'!AA24","v":0},{"$f":"'Data Feed'!AB24","v":0},{"$f":"'Data Feed'!AC24","v":0},{"$f":"'Data Feed'!AD24","v":0},{"$f":"'Data Feed'!AE24","v":0},{"$f":"'Data Feed'!AF24","v":0},{"$f":"'Data Feed'!AG24","v":0},{"$f":"'Data Feed'!AH24","v":0},{"$f":"'Data Feed'!AI24","v":0}]
[{"$f":"B23&\"_\"&COUNTIF($B$1:B23,B23)","v":"0_20"},{"$f":"'Data Feed'!AJ25","v":0},{"$f":"'Data Feed'!B25","v":0},{"$f":"'Data Feed'!C25","v":0},{"$f":"'Data Feed'!D25","v":0},{"$f":"'Data Feed'!E25","v":0},{"$f":"'Data Feed'!F25","v":0},{"$f":"'Data Feed'!G25","v":0},{"$f":"'Data Feed'!H25","v":0},{"$f":"'Data Feed'!I25","v":0},{"$f":"'Data Feed'!J25","v":0},{"$f":"'Data Feed'!K25","v":0},{"$f":"'Data Feed'!L25","v":0},{"$f":"'Data Feed'!M25","v":0},{"$f":"'Data Feed'!N25","v":0},{"$f":"'Data Feed'!O25","v":0},{"$f":"'Data Feed'!P25","v":0},{"$f":"'Data Feed'!Q25","v":0},{"$f":"'Data Feed'!R25","v":0},{"$f":"'Data Feed'!S25","v":0},{"$f":"'Data Feed'!T25","v":0},{"$f":"'Data Feed'!U25","v":0},{"$f":"'Data Feed'!V25","v":0},{"$f":"'Data Feed'!W25","v":0},{"$f":"'Data Feed'!X25","v":0},{"$f":"'Data Feed'!Y25","v":0},{"$f":"'Data Feed'!Z25","v":0},{"$f":"'Data Feed'!AA25","v":0},{"$f":"'Data Feed'!AB25","v":0},{"$f":"'Data Feed'!AC25","v":0},{"$f":"'Data Feed'!AD25","v":0},{"$f":"'Data Feed'!AE25","v":0},{"$f":"'Data Feed'!AF25","v":0},{"$f":"'Data Feed'!AG25","v":0},{"$f":"'Data Feed'!AH25","v":0},{"$f":"'Data Feed'!AI25","v":0}]
[{"$f":"B24&\"_\"&COUNTIF($B$1:B24,B24)","v":"0_21"},{"$f":"'Data Feed'!AJ26","v":0},{"$f":"'Data Feed'!B26","v":0},{"$f":"'Data Feed'!C26","v":0},{"$f":"'Data Feed'!D26","v":0},{"$f":"'Data Feed'!E26","v":0},{"$f":"'Data Feed'!F26","v":0},{"$f":"'Data Feed'!G26","v":0},{"$f":"'Data Feed'!H26","v":0},{"$f":"'Data Feed'!I26","v":0},{"$f":"'Data Feed'!J26","v":0},{"$f":"'Data Feed'!K26","v":0},{"$f":"'Data Feed'!L26","v":0},{"$f":"'Data Feed'!M26","v":0},{"$f":"'Data Feed'!N26","v":0},{"$f":"'Data Feed'!O26","v":0},{"$f":"'Data Feed'!P26","v":0},{"$f":"'Data Feed'!Q26","v":0},{"$f":"'Data Feed'!R26","v":0},{"$f":"'Data Feed'!S26","v":0},{"$f":"'Data Feed'!T26","v":0},{"$f":"'Data Feed'!U26","v":0},{"$f":"'Data Feed'!V26","v":0},{"$f":"'Data Feed'!W26","v":0},{"$f":"'Data Feed'!X26","v":0},{"$f":"'Data Feed'!Y26","v":0},{"$f":"'Data Feed'!Z26","v":0},{"$f":"'Data Feed'!AA26","v":0},{"$f":"'Data Feed'!AB26","v":0},{"$f":"'Data Feed'!AC26","v":0},{"$f":"'Data Feed'!AD26","v":0},{"$f":"'Data Feed'!AE26","v":0},{"$f":"'Data Feed'!AF26","v":0},{"$f":"'Data Feed'!AG26","v":0},{"$f":"'Data Feed'!AH26","v":0},{"$f":"'Data Feed'!AI26","v":0}]
[{"$f":"B25&\"_\"&COUNTIF($B$1:B25,B25)","v":"0_22"},{"$f":"'Data Feed'!AJ27","v":0},{"$f":"'Data Feed'!B27","v":0},{"$f":"'Data Feed'!C27","v":0},{"$f":"'Data Feed'!D27","v":0},{"$f":"'Data Feed'!E27","v":0},{"$f":"'Data Feed'!F27","v":0},{"$f":"'Data Feed'!G27","v":0},{"$f":"'Data Feed'!H27","v":0},{"$f":"'Data Feed'!I27","v":0},{"$f":"'Data Feed'!J27","v":0},{"$f":"'Data Feed'!K27","v":0},{"$f":"'Data Feed'!L27","v":0},{"$f":"'Data Feed'!M27","v":0},{"$f":"'Data Feed'!N27","v":0},{"$f":"'Data Feed'!O27","v":0},{"$f":"'Data Feed'!P27","v":0},{"$f":"'Data Feed'!Q27","v":0},{"$f":"'Data Feed'!R27","v":0},{"$f":"'Data Feed'!S27","v":0},{"$f":"'Data Feed'!T27","v":0},{"$f":"'Data Feed'!U27","v":0},{"$f":"'Data Feed'!V27","v":0},{"$f":"'Data Feed'!W27","v":0},{"$f":"'Data Feed'!X27","v":0},{"$f":"'Data Feed'!Y27","v":0},{"$f":"'Data Feed'!Z27","v":0},{"$f":"'Data Feed'!AA27","v":0},{"$f":"'Data Feed'!AB27","v":0},{"$f":"'Data Feed'!AC27","v":0},{"$f":"'Data Feed'!AD27","v":0},{"$f":"'Data Feed'!AE27","v":0},{"$f":"'Data Feed'!AF27","v":0},{"$f":"'Data Feed'!AG27","v":0},{"$f":"'Data Feed'!AH27","v":0},{"$f":"'Data Feed'!AI27","v":0}]
[{"$f":"B26&\"_\"&COUNTIF($B$1:B26,B26)","v":"0_23"},{"$f":"'Data Feed'!AJ28","v":0},{"$f":"'Data Feed'!B28","v":0},{"$f":"'Data Feed'!C28","v":0},{"$f":"'Data Feed'!D28","v":0},{"$f":"'Data Feed'!E28","v":0},{"$f":"'Data Feed'!F28","v":0},{"$f":"'Data Feed'!G28","v":0},{"$f":"'Data Feed'!H28","v":0},{"$f":"'Data Feed'!I28","v":0},{"$f":"'Data Feed'!J28","v":0},{"$f":"'Data Feed'!K28","v":0},{"$f":"'Data Feed'!L28","v":0},{"$f":"'Data Feed'!M28","v":0},{"$f":"'Data Feed'!N28","v":0},{"$f":"'Data Feed'!O28","v":0},{"$f":"'Data Feed'!P28","v":0},{"$f":"'Data Feed'!Q28","v":0},{"$f":"'Data Feed'!R28","v":0},{"$f":"'Data Feed'!S28","v":0},{"$f":"'Data Feed'!T28","v":0},{"$f":"'Data Feed'!U28","v":0},{"$f":"'Data Feed'!V28","v":0},{"$f":"'Data Feed'!W28","v":0},{"$f":"'Data Feed'!X28","v":0},{"$f":"'Data Feed'!Y28","v":0},{"$f":"'Data Feed'!Z28","v":0},{"$f":"'Data Feed'!AA28","v":0},{"$f":"'Data Feed'!AB28","v":0},{"$f":"'Data Feed'!AC28","v":0},{"$f":"'Data Feed'!AD28","v":0},{"$f":"'Data Feed'!AE28","v":0},{"$f":"'Data Feed'!AF28","v":0},{"$f":"'Data Feed'!AG28","v":0},{"$f":"'Data Feed'!AH28","v":0},{"$f":"'Data Feed'!AI28","v":0}]
[{"$f":"B27&\"_\"&COUNTIF($B$1:B27,B27)","v":"0_24"},{"$f":"'Data Feed'!AJ29","v":0},{"$f":"'Data Feed'!B29","v":0},{"$f":"'Data Feed'!C29","v":0},{"$f":"'Data Feed'!D29","v":0},{"$f":"'Data Feed'!E29","v":0},{"$f":"'Data Feed'!F29","v":0},{"$f":"'Data Feed'!G29","v":0},{"$f":"'Data Feed'!H29","v":0},{"$f":"'Data Feed'!I29","v":0},{"$f":"'Data Feed'!J29","v":0},{"$f":"'Data Feed'!K29","v":0},{"$f":"'Data Feed'!L29","v":0},{"$f":"'Data Feed'!M29","v":0},{"$f":"'Data Feed'!N29","v":0},{"$f":"'Data Feed'!O29","v":0},{"$f":"'Data Feed'!P29","v":0},{"$f":"'Data Feed'!Q29","v":0},{"$f":"'Data Feed'!R29","v":0},{"$f":"'Data Feed'!S29","v":0},{"$f":"'Data Feed'!T29","v":0},{"$f":"'Data Feed'!U29","v":0},{"$f":"'Data Feed'!V29","v":0},{"$f":"'Data Feed'!W29","v":0},{"$f":"'Data Feed'!X29","v":0},{"$f":"'Data Feed'!Y29","v":0},{"$f":"'Data Feed'!Z29","v":0},{"$f":"'Data Feed'!AA29","v":0},{"$f":"'Data Feed'!AB29","v":0},{"$f":"'Data Feed'!AC29","v":0},{"$f":"'Data Feed'!AD29","v":0},{"$f":"'Data Feed'!AE29","v":0},{"$f":"'Data Feed'!AF29","v":0},{"$f":"'Data Feed'!AG29","v":0},{"$f":"'Data Feed'!AH29","v":0},{"$f":"'Data Feed'!AI29","v":0}]
[{"$f":"B28&\"_\"&COUNTIF($B$1:B28,B28)","v":"0_25"},{"$f":"'Data Feed'!AJ30","v":0},{"$f":"'Data Feed'!B30","v":0},{"$f":"'Data Feed'!C30","v":0},{"$f":"'Data Feed'!D30","v":0},{"$f":"'Data Feed'!E30","v":0},{"$f":"'Data Feed'!F30","v":0},{"$f":"'Data Feed'!G30","v":0},{"$f":"'Data Feed'!H30","v":0},{"$f":"'Data Feed'!I30","v":0},{"$f":"'Data Feed'!J30","v":0},{"$f":"'Data Feed'!K30","v":0},{"$f":"'Data Feed'!L30","v":0},{"$f":"'Data Feed'!M30","v":0},{"$f":"'Data Feed'!N30","v":0},{"$f":"'Data Feed'!O30","v":0},{"$f":"'Data Feed'!P30","v":0},{"$f":"'Data Feed'!Q30","v":0},{"$f":"'Data Feed'!R30","v":0},{"$f":"'Data Feed'!S30","v":0},{"$f":"'Data Feed'!T30","v":0},{"$f":"'Data Feed'!U30","v":0},{"$f":"'Data Feed'!V30","v":0},{"$f":"'Data Feed'!W30","v":0},{"$f":"'Data Feed'!X30","v":0},{"$f":"'Data Feed'!Y30","v":0},{"$f":"'Data Feed'!Z30","v":0},{"$f":"'Data Feed'!AA30","v":0},{"$f":"'Data Feed'!AB30","v":0},{"$f":"'Data Feed'!AC30","v":0},{"$f":"'Data Feed'!AD30","v":0},{"$f":"'Data Feed'!AE30","v":0},{"$f":"'Data Feed'!AF30","v":0},{"$f":"'Data Feed'!AG30","v":0},{"$f":"'Data Feed'!AH30","v":0},{"$f":"'Data Feed'!AI30","v":0}]
[{"$f":"B29&\"_\"&COUNTIF($B$1:B29,B29)","v":"0_26"},{"$f":"'Data Feed'!AJ31","v":0},{"$f":"'Data Feed'!B31","v":0},{"$f":"'Data Feed'!C31","v":0},{"$f":"'Data Feed'!D31","v":0},{"$f":"'Data Feed'!E31","v":0},{"$f":"'Data Feed'!F31","v":0},{"$f":"'Data Feed'!G31","v":0},{"$f":"'Data Feed'!H31","v":0},{"$f":"'Data Feed'!I31","v":0},{"$f":"'Data Feed'!J31","v":0},{"$f":"'Data Feed'!K31","v":0},{"$f":"'Data Feed'!L31","v":0},{"$f":"'Data Feed'!M31","v":0},{"$f":"'Data Feed'!N31","v":0},{"$f":"'Data Feed'!O31","v":0},{"$f":"'Data Feed'!P31","v":0},{"$f":"'Data Feed'!Q31","v":0},{"$f":"'Data Feed'!R31","v":0},{"$f":"'Data Feed'!S31","v":0},{"$f":"'Data Feed'!T31","v":0},{"$f":"'Data Feed'!U31","v":0},{"$f":"'Data Feed'!V31","v":0},{"$f":"'Data Feed'!W31","v":0},{"$f":"'Data Feed'!X31","v":0},{"$f":"'Data Feed'!Y31","v":0},{"$f":"'Data Feed'!Z31","v":0},{"$f":"'Data Feed'!AA31","v":0},{"$f":"'Data Feed'!AB31","v":0},{"$f":"'Data Feed'!AC31","v":0},{"$f":"'Data Feed'!AD31","v":0},{"$f":"'Data Feed'!AE31","v":0},{"$f":"'Data Feed'!AF31","v":0},{"$f":"'Data Feed'!AG31","v":0},{"$f":"'Data Feed'!AH31","v":0},{"$f":"'Data Feed'!AI31","v":0}]
[{"$f":"B30&\"_\"&COUNTIF($B$1:B30,B30)","v":"0_27"},{"$f":"'Data Feed'!AJ32","v":0},{"$f":"'Data Feed'!B32","v":0},{"$f":"'Data Feed'!C32","v":0},{"$f":"'Data Feed'!D32","v":0},{"$f":"'Data Feed'!E32","v":0},{"$f":"'Data Feed'!F32","v":0},{"$f":"'Data Feed'!G32","v":0},{"$f":"'Data Feed'!H32","v":0},{"$f":"'Data Feed'!I32","v":0},{"$f":"'Data Feed'!J32","v":0},{"$f":"'Data Feed'!K32","v":0},{"$f":"'Data Feed'!L32","v":0},{"$f":"'Data Feed'!M32","v":0},{"$f":"'Data Feed'!N32","v":0},{"$f":"'Data Feed'!O32","v":0},{"$f":"'Data Feed'!P32","v":0},{"$f":"'Data Feed'!Q32","v":0},{"$f":"'Data Feed'!R32","v":0},{"$f":"'Data Feed'!S32","v":0},{"$f":"'Data Feed'!T32","v":0},{"$f":"'Data Feed'!U32","v":0},{"$f":"'Data Feed'!V32","v":0},{"$f":"'Data Feed'!W32","v":0},{"$f":"'Data Feed'!X32","v":0},{"$f":"'Data Feed'!Y32","v":0},{"$f":"'Data Feed'!Z32","v":0},{"$f":"'Data Feed'!AA32","v":0},{"$f":"'Data Feed'!AB32","v":0},{"$f":"'Data Feed'!AC32","v":0},{"$f":"'Data Feed'!AD32","v":0},{"$f":"'Data Feed'!AE32","v":0},{"$f":"'Data Feed'!AF32","v":0},{"$f":"'Data Feed'!AG32","v":0},{"$f":"'Data Feed'!AH32","v":0},{"$f":"'Data Feed'!AI32","v":0}]
[{"$f":"B31&\"_\"&COUNTIF($B$1:B31,B31)","v":"0_28"},{"$f":"'Data Feed'!AJ33","v":0},{"$f":"'Data Feed'!B33","v":0},{"$f":"'Data Feed'!C33","v":0},{"$f":"'Data Feed'!D33","v":0},{"$f":"'Data Feed'!E33","v":0},{"$f":"'Data Feed'!F33","v":0},{"$f":"'Data Feed'!G33","v":0},{"$f":"'Data Feed'!H33","v":0},{"$f":"'Data Feed'!I33","v":0},{"$f":"'Data Feed'!J33","v":0},{"$f":"'Data Feed'!K33","v":0},{"$f":"'Data Feed'!L33","v":0},{"$f":"'Data Feed'!M33","v":0},{"$f":"'Data Feed'!N33","v":0},{"$f":"'Data Feed'!O33","v":0},{"$f":"'Data Feed'!P33","v":0},{"$f":"'Data Feed'!Q33","v":0},{"$f":"'Data Feed'!R33","v":0},{"$f":"'Data Feed'!S33","v":0},{"$f":"'Data Feed'!T33","v":0},{"$f":"'Data Feed'!U33","v":0},{"$f":"'Data Feed'!V33","v":0},{"$f":"'Data Feed'!W33","v":0},{"$f":"'Data Feed'!X33","v":0},{"$f":"'Data Feed'!Y33","v":0},{"$f":"'Data Feed'!Z33","v":0},{"$f":"'Data Feed'!AA33","v":0},{"$f":"'Data Feed'!AB33","v":0},{"$f":"'Data Feed'!AC33","v":0},{"$f":"'Data Feed'!AD33","v":0},{"$f":"'Data Feed'!AE33","v":0},{"$f":"'Data Feed'!AF33","v":0},{"$f":"'Data Feed'!AG33","v":0},{"$f":"'Data Feed'!AH33","v":0},{"$f":"'Data Feed'!AI33","v":0}]
[{"$f":"B32&\"_\"&COUNTIF($B$1:B32,B32)","v":"0_29"},{"$f":"'Data Feed'!AJ34","v":0},{"$f":"'Data Feed'!B34","v":0},{"$f":"'Data Feed'!C34","v":0},{"$f":"'Data Feed'!D34","v":0},{"$f":"'Data Feed'!E34","v":0},{"$f":"'Data Feed'!F34","v":0},{"$f":"'Data Feed'!G34","v":0},{"$f":"'Data Feed'!H34","v":0},{"$f":"'Data Feed'!I34","v":0},{"$f":"'Data Feed'!J34","v":0},{"$f":"'Data Feed'!K34","v":0},{"$f":"'Data Feed'!L34","v":0},{"$f":"'Data Feed'!M34","v":0},{"$f":"'Data Feed'!N34","v":0},{"$f":"'Data Feed'!O34","v":0},{"$f":"'Data Feed'!P34","v":0},{"$f":"'Data Feed'!Q34","v":0},{"$f":"'Data Feed'!R34","v":0},{"$f":"'Data Feed'!S34","v":0},{"$f":"'Data Feed'!T34","v":0},{"$f":"'Data Feed'!U34","v":0},{"$f":"'Data Feed'!V34","v":0},{"$f":"'Data Feed'!W34","v":0},{"$f":"'Data Feed'!X34","v":0},{"$f":"'Data Feed'!Y34","v":0},{"$f":"'Data Feed'!Z34","v":0},{"$f":"'Data Feed'!AA34","v":0},{"$f":"'Data Feed'!AB34","v":0},{"$f":"'Data Feed'!AC34","v":0},{"$f":"'Data Feed'!AD34","v":0},{"$f":"'Data Feed'!AE34","v":0},{"$f":"'Data Feed'!AF34","v":0},{"$f":"'Data Feed'!AG34","v":0},{"$f":"'Data Feed'!AH34","v":0},{"$f":"'Data Feed'!AI34","v":0}]
[{"$f":"B33&\"_\"&COUNTIF($B$1:B33,B33)","v":"0_30"},{"$f":"'Data Feed'!AJ35","v":0},{"$f":"'Data Feed'!B35","v":0},{"$f":"'Data Feed'!C35","v":0},{"$f":"'Data Feed'!D35","v":0},{"$f":"'Data Feed'!E35","v":0},{"$f":"'Data Feed'!F35","v":0},{"$f":"'Data Feed'!G35","v":0},{"$f":"'Data Feed'!H35","v":0},{"$f":"'Data Feed'!I35","v":0},{"$f":"'Data Feed'!J35","v":0},{"$f":"'Data Feed'!K35","v":0},{"$f":"'Data Feed'!L35","v":0},{"$f":"'Data Feed'!M35","v":0},{"$f":"'Data Feed'!N35","v":0},{"$f":"'Data Feed'!O35","v":0},{"$f":"'Data Feed'!P35","v":0},{"$f":"'Data Feed'!Q35","v":0},{"$f":"'Data Feed'!R35","v":0},{"$f":"'Data Feed'!S35","v":0},{"$f":"'Data Feed'!T35","v":0},{"$f":"'Data Feed'!U35","v":0},{"$f":"'Data Feed'!V35","v":0},{"$f":"'Data Feed'!W35","v":0},{"$f":"'Data Feed'!X35","v":0},{"$f":"'Data Feed'!Y35","v":0},{"$f":"'Data Feed'!Z35","v":0},{"$f":"'Data Feed'!AA35","v":0},{"$f":"'Data Feed'!AB35","v":0},{"$f":"'Data Feed'!AC35","v":0},{"$f":"'Data Feed'!AD35","v":0},{"$f":"'Data Feed'!AE35","v":0},{"$f":"'Data Feed'!AF35","v":0},{"$f":"'Data Feed'!AG35","v":0},{"$f":"'Data Feed'!AH35","v":0},{"$f":"'Data Feed'!AI35","v":0}]
[{"$f":"B34&\"_\"&COUNTIF($B$1:B34,B34)","v":"0_31"},{"$f":"'Data Feed'!AJ36","v":0},{"$f":"'Data Feed'!B36","v":0},{"$f":"'Data Feed'!C36","v":0},{"$f":"'Data Feed'!D36","v":0},{"$f":"'Data Feed'!E36","v":0},{"$f":"'Data Feed'!F36","v":0},{"$f":"'Data Feed'!G36","v":0},{"$f":"'Data Feed'!H36","v":0},{"$f":"'Data Feed'!I36","v":0},{"$f":"'Data Feed'!J36","v":0},{"$f":"'Data Feed'!K36","v":0},{"$f":"'Data Feed'!L36","v":0},{"$f":"'Data Feed'!M36","v":0},{"$f":"'Data Feed'!N36","v":0},{"$f":"'Data Feed'!O36","v":0},{"$f":"'Data Feed'!P36","v":0},{"$f":"'Data Feed'!Q36","v":0},{"$f":"'Data Feed'!R36","v":0},{"$f":"'Data Feed'!S36","v":0},{"$f":"'Data Feed'!T36","v":0},{"$f":"'Data Feed'!U36","v":0},{"$f":"'Data Feed'!V36","v":0},{"$f":"'Data Feed'!W36","v":0},{"$f":"'Data Feed'!X36","v":0},{"$f":"'Data Feed'!Y36","v":0},{"$f":"'Data Feed'!Z36","v":0},{"$f":"'Data Feed'!AA36","v":0},{"$f":"'Data Feed'!AB36","v":0},{"$f":"'Data Feed'!AC36","v":0},{"$f":"'Data Feed'!AD36","v":0},{"$f":"'Data Feed'!AE36","v":0},{"$f":"'Data Feed'!AF36","v":0},{"$f":"'Data Feed'!AG36","v":0},{"$f":"'Data Feed'!AH36","v":0},{"$f":"'Data Feed'!AI36","v":0}]
[{"$f":"B35&\"_\"&COUNTIF($B$1:B35,B35)","v":"0_32"},{"$f":"'Data Feed'!AJ37","v":0},{"$f":"'Data Feed'!B37","v":0},{"$f":"'Data Feed'!C37","v":0},{"$f":"'Data Feed'!D37","v":0},{"$f":"'Data Feed'!E37","v":0},{"$f":"'Data Feed'!F37","v":0},{"$f":"'Data Feed'!G37","v":0},{"$f":"'Data Feed'!H37","v":0},{"$f":"'Data Feed'!I37","v":0},{"$f":"'Data Feed'!J37","v":0},{"$f":"'Data Feed'!K37","v":0},{"$f":"'Data Feed'!L37","v":0},{"$f":"'Data Feed'!M37","v":0},{"$f":"'Data Feed'!N37","v":0},{"$f":"'Data Feed'!O37","v":0},{"$f":"'Data Feed'!P37","v":0},{"$f":"'Data Feed'!Q37","v":0},{"$f":"'Data Feed'!R37","v":0},{"$f":"'Data Feed'!S37","v":0},{"$f":"'Data Feed'!T37","v":0},{"$f":"'Data Feed'!U37","v":0},{"$f":"'Data Feed'!V37","v":0},{"$f":"'Data Feed'!W37","v":0},{"$f":"'Data Feed'!X37","v":0},{"$f":"'Data Feed'!Y37","v":0},{"$f":"'Data Feed'!Z37","v":0},{"$f":"'Data Feed'!AA37","v":0},{"$f":"'Data Feed'!AB37","v":0},{"$f":"'Data Feed'!AC37","v":0},{"$f":"'Data Feed'!AD37","v":0},{"$f":"'Data Feed'!AE37","v":0},{"$f":"'Data Feed'!AF37","v":0},{"$f":"'Data Feed'!AG37","v":0},{"$f":"'Data Feed'!AH37","v":0},{"$f":"'Data Feed'!AI37","v":0}]
[{"$f":"B36&\"_\"&COUNTIF($B$1:B36,B36)","v":"0_33"},{"$f":"'Data Feed'!AJ38","v":0},{"$f":"'Data Feed'!B38","v":0},{"$f":"'Data Feed'!C38","v":0},{"$f":"'Data Feed'!D38","v":0},{"$f":"'Data Feed'!E38","v":0},{"$f":"'Data Feed'!F38","v":0},{"$f":"'Data Feed'!G38","v":0},{"$f":"'Data Feed'!H38","v":0},{"$f":"'Data Feed'!I38","v":0},{"$f":"'Data Feed'!J38","v":0},{"$f":"'Data Feed'!K38","v":0},{"$f":"'Data Feed'!L38","v":0},{"$f":"'Data Feed'!M38","v":0},{"$f":"'Data Feed'!N38","v":0},{"$f":"'Data Feed'!O38","v":0},{"$f":"'Data Feed'!P38","v":0},{"$f":"'Data Feed'!Q38","v":0},{"$f":"'Data Feed'!R38","v":0},{"$f":"'Data Feed'!S38","v":0},{"$f":"'Data Feed'!T38","v":0},{"$f":"'Data Feed'!U38","v":0},{"$f":"'Data Feed'!V38","v":0},{"$f":"'Data Feed'!W38","v":0},{"$f":"'Data Feed'!X38","v":0},{"$f":"'Data Feed'!Y38","v":0},{"$f":"'Data Feed'!Z38","v":0},{"$f":"'Data Feed'!AA38","v":0},{"$f":"'Data Feed'!AB38","v":0},{"$f":"'Data Feed'!AC38","v":0},{"$f":"'Data Feed'!AD38","v":0},{"$f":"'Data Feed'!AE38","v":0},{"$f":"'Data Feed'!AF38","v":0},{"$f":"'Data Feed'!AG38","v":0},{"$f":"'Data Feed'!AH38","v":0},{"$f":"'Data Feed'!AI38","v":0}]
[{"$f":"B37&\"_\"&COUNTIF($B$1:B37,B37)","v":"0_34"},{"$f":"'Data Feed'!AJ39","v":0},{"$f":"'Data Feed'!B39","v":0},{"$f":"'Data Feed'!C39","v":0},{"$f":"'Data Feed'!D39","v":0},{"$f":"'Data Feed'!E39","v":0},{"$f":"'Data Feed'!F39","v":0},{"$f":"'Data Feed'!G39","v":0},{"$f":"'Data Feed'!H39","v":0},{"$f":"'Data Feed'!I39","v":0},{"$f":"'Data Feed'!J39","v":0},{"$f":"'Data Feed'!K39","v":0},{"$f":"'Data Feed'!L39","v":0},{"$f":"'Data Feed'!M39","v":0},{"$f":"'Data Feed'!N39","v":0},{"$f":"'Data Feed'!O39","v":0},{"$f":"'Data Feed'!P39","v":0},{"$f":"'Data Feed'!Q39","v":0},{"$f":"'Data Feed'!R39","v":0},{"$f":"'Data Feed'!S39","v":0},{"$f":"'Data Feed'!T39","v":0},{"$f":"'Data Feed'!U39","v":0},{"$f":"'Data Feed'!V39","v":0},{"$f":"'Data Feed'!W39","v":0},{"$f":"'Data Feed'!X39","v":0},{"$f":"'Data Feed'!Y39","v":0},{"$f":"'Data Feed'!Z39","v":0},{"$f":"'Data Feed'!AA39","v":0},{"$f":"'Data Feed'!AB39","v":0},{"$f":"'Data Feed'!AC39","v":0},{"$f":"'Data Feed'!AD39","v":0},{"$f":"'Data Feed'!AE39","v":0},{"$f":"'Data Feed'!AF39","v":0},{"$f":"'Data Feed'!AG39","v":0},{"$f":"'Data Feed'!AH39","v":0},{"$f":"'Data Feed'!AI39","v":0}]
[{"$f":"B38&\"_\"&COUNTIF($B$1:B38,B38)","v":"0_35"},{"$f":"'Data Feed'!AJ40","v":0},{"$f":"'Data Feed'!B40","v":0},{"$f":"'Data Feed'!C40","v":0},{"$f":"'Data Feed'!D40","v":0},{"$f":"'Data Feed'!E40","v":0},{"$f":"'Data Feed'!F40","v":0},{"$f":"'Data Feed'!G40","v":0},{"$f":"'Data Feed'!H40","v":0},{"$f":"'Data Feed'!I40","v":0},{"$f":"'Data Feed'!J40","v":0},{"$f":"'Data Feed'!K40","v":0},{"$f":"'Data Feed'!L40","v":0},{"$f":"'Data Feed'!M40","v":0},{"$f":"'Data Feed'!N40","v":0},{"$f":"'Data Feed'!O40","v":0},{"$f":"'Data Feed'!P40","v":0},{"$f":"'Data Feed'!Q40","v":0},{"$f":"'Data Feed'!R40","v":0},{"$f":"'Data Feed'!S40","v":0},{"$f":"'Data Feed'!T40","v":0},{"$f":"'Data Feed'!U40","v":0},{"$f":"'Data Feed'!V40","v":0},{"$f":"'Data Feed'!W40","v":0},{"$f":"'Data Feed'!X40","v":0},{"$f":"'Data Feed'!Y40","v":0},{"$f":"'Data Feed'!Z40","v":0},{"$f":"'Data Feed'!AA40","v":0},{"$f":"'Data Feed'!AB40","v":0},{"$f":"'Data Feed'!AC40","v":0},{"$f":"'Data Feed'!AD40","v":0},{"$f":"'Data Feed'!AE40","v":0},{"$f":"'Data Feed'!AF40","v":0},{"$f":"'Data Feed'!AG40","v":0},{"$f":"'Data Feed'!AH40","v":0},{"$f":"'Data Feed'!AI40","v":0}]
[{"$f":"B39&\"_\"&COUNTIF($B$1:B39,B39)","v":"0_36"},{"$f":"'Data Feed'!AJ41","v":0},{"$f":"'Data Feed'!B41","v":0},{"$f":"'Data Feed'!C41","v":0},{"$f":"'Data Feed'!D41","v":0},{"$f":"'Data Feed'!E41","v":0},{"$f":"'Data Feed'!F41","v":0},{"$f":"'Data Feed'!G41","v":0},{"$f":"'Data Feed'!H41","v":0},{"$f":"'Data Feed'!I41","v":0},{"$f":"'Data Feed'!J41","v":0},{"$f":"'Data Feed'!K41","v":0},{"$f":"'Data Feed'!L41","v":0},{"$f":"'Data Feed'!M41","v":0},{"$f":"'Data Feed'!N41","v":0},{"$f":"'Data Feed'!O41","v":0},{"$f":"'Data Feed'!P41","v":0},{"$f":"'Data Feed'!Q41","v":0},{"$f":"'Data Feed'!R41","v":0},{"$f":"'Data Feed'!S41","v":0},{"$f":"'Data Feed'!T41","v":0},{"$f":"'Data Feed'!U41","v":0},{"$f":"'Data Feed'!V41","v":0},{"$f":"'Data Feed'!W41","v":0},{"$f":"'Data Feed'!X41","v":0},{"$f":"'Data Feed'!Y41","v":0},{"$f":"'Data Feed'!Z41","v":0},{"$f":"'Data Feed'!AA41","v":0},{"$f":"'Data Feed'!AB41","v":0},{"$f":"'Data Feed'!AC41","v":0},{"$f":"'Data Feed'!AD41","v":0},{"$f":"'Data Feed'!AE41","v":0},{"$f":"'Data Feed'!AF41","v":0},{"$f":"'Data Feed'!AG41","v":0},{"$f":"'Data Feed'!AH41","v":0},{"$f":"'Data Feed'!AI41","v":0}]
[{"$f":"B40&\"_\"&COUNTIF($B$1:B40,B40)","v":"0_37"},{"$f":"'Data Feed'!AJ42","v":0},{"$f":"'Data Feed'!B42","v":0},{"$f":"'Data Feed'!C42","v":0},{"$f":"'Data Feed'!D42","v":0},{"$f":"'Data Feed'!E42","v":0},{"$f":"'Data Feed'!F42","v":0},{"$f":"'Data Feed'!G42","v":0},{"$f":"'Data Feed'!H42","v":0},{"$f":"'Data Feed'!I42","v":0},{"$f":"'Data Feed'!J42","v":0},{"$f":"'Data Feed'!K42","v":0},{"$f":"'Data Feed'!L42","v":0},{"$f":"'Data Feed'!M42","v":0},{"$f":"'Data Feed'!N42","v":0},{"$f":"'Data Feed'!O42","v":0},{"$f":"'Data Feed'!P42","v":0},{"$f":"'Data Feed'!Q42","v":0},{"$f":"'Data Feed'!R42","v":0},{"$f":"'Data Feed'!S42","v":0},{"$f":"'Data Feed'!T42","v":0},{"$f":"'Data Feed'!U42","v":0},{"$f":"'Data Feed'!V42","v":0},{"$f":"'Data Feed'!W42","v":0},{"$f":"'Data Feed'!X42","v":0},{"$f":"'Data Feed'!Y42","v":0},{"$f":"'Data Feed'!Z42","v":0},{"$f":"'Data Feed'!AA42","v":0},{"$f":"'Data Feed'!AB42","v":0},{"$f":"'Data Feed'!AC42","v":0},{"$f":"'Data Feed'!AD42","v":0},{"$f":"'Data Feed'!AE42","v":0},{"$f":"'Data Feed'!AF42","v":0},{"$f":"'Data Feed'!AG42","v":0},{"$f":"'Data Feed'!AH42","v":0},{"$f":"'Data Feed'!AI42","v":0}]
[{"$f":"B41&\"_\"&COUNTIF($B$1:B41,B41)","v":"0_38"},{"$f":"'Data Feed'!AJ43","v":0},{"$f":"'Data Feed'!B43","v":0},{"$f":"'Data Feed'!C43","v":0},{"$f":"'Data Feed'!D43","v":0},{"$f":"'Data Feed'!E43","v":0},{"$f":"'Data Feed'!F43","v":0},{"$f":"'Data Feed'!G43","v":0},{"$f":"'Data Feed'!H43","v":0},{"$f":"'Data Feed'!I43","v":0},{"$f":"'Data Feed'!J43","v":0},{"$f":"'Data Feed'!K43","v":0},{"$f":"'Data Feed'!L43","v":0},{"$f":"'Data Feed'!M43","v":0},{"$f":"'Data Feed'!N43","v":0},{"$f":"'Data Feed'!O43","v":0},{"$f":"'Data Feed'!P43","v":0},{"$f":"'Data Feed'!Q43","v":0},{"$f":"'Data Feed'!R43","v":0},{"$f":"'Data Feed'!S43","v":0},{"$f":"'Data Feed'!T43","v":0},{"$f":"'Data Feed'!U43","v":0},{"$f":"'Data Feed'!V43","v":0},{"$f":"'Data Feed'!W43","v":0},{"$f":"'Data Feed'!X43","v":0},{"$f":"'Data Feed'!Y43","v":0},{"$f":"'Data Feed'!Z43","v":0},{"$f":"'Data Feed'!AA43","v":0},{"$f":"'Data Feed'!AB43","v":0},{"$f":"'Data Feed'!AC43","v":0},{"$f":"'Data Feed'!AD43","v":0},{"$f":"'Data Feed'!AE43","v":0},{"$f":"'Data Feed'!AF43","v":0},{"$f":"'Data Feed'!AG43","v":0},{"$f":"'Data Feed'!AH43","v":0},{"$f":"'Data Feed'!AI43","v":0}]
[{"$f":"B42&\"_\"&COUNTIF($B$1:B42,B42)","v":"0_39"},{"$f":"'Data Feed'!AJ44","v":0},{"$f":"'Data Feed'!B44","v":0},{"$f":"'Data Feed'!C44","v":0},{"$f":"'Data Feed'!D44","v":0},{"$f":"'Data Feed'!E44","v":0},{"$f":"'Data Feed'!F44","v":0},{"$f":"'Data Feed'!G44","v":0},{"$f":"'Data Feed'!H44","v":0},{"$f":"'Data Feed'!I44","v":0},{"$f":"'Data Feed'!J44","v":0},{"$f":"'Data Feed'!K44","v":0},{"$f":"'Data Feed'!L44","v":0},{"$f":"'Data Feed'!M44","v":0},{"$f":"'Data Feed'!N44","v":0},{"$f":"'Data Feed'!O44","v":0},{"$f":"'Data Feed'!P44","v":0},{"$f":"'Data Feed'!Q44","v":0},{"$f":"'Data Feed'!R44","v":0},{"$f":"'Data Feed'!S44","v":0},{"$f":"'Data Feed'!T44","v":0},{"$f":"'Data Feed'!U44","v":0},{"$f":"'Data Feed'!V44","v":0},{"$f":"'Data Feed'!W44","v":0},{"$f":"'Data Feed'!X44","v":0},{"$f":"'Data Feed'!Y44","v":0},{"$f":"'Data Feed'!Z44","v":0},{"$f":"'Data Feed'!AA44","v":0},{"$f":"'Data Feed'!AB44","v":0},{"$f":"'Data Feed'!AC44","v":0},{"$f":"'Data Feed'!AD44","v":0},{"$f":"'Data Feed'!AE44","v":0},{"$f":"'Data Feed'!AF44","v":0},{"$f":"'Data Feed'!AG44","v":0},{"$f":"'Data Feed'!AH44","v":0},{"$f":"'Data Feed'!AI44","v":0}]
[{"$f":"B43&\"_\"&COUNTIF($B$1:B43,B43)","v":"0_40"},{"$f":"'Data Feed'!AJ45","v":0},{"$f":"'Data Feed'!B45","v":0},{"$f":"'Data Feed'!C45","v":0},{"$f":"'Data Feed'!D45","v":0},{"$f":"'Data Feed'!E45","v":0},{"$f":"'Data Feed'!F45","v":0},{"$f":"'Data Feed'!G45","v":0},{"$f":"'Data Feed'!H45","v":0},{"$f":"'Data Feed'!I45","v":0},{"$f":"'Data Feed'!J45","v":0},{"$f":"'Data Feed'!K45","v":0},{"$f":"'Data Feed'!L45","v":0},{"$f":"'Data Feed'!M45","v":0},{"$f":"'Data Feed'!N45","v":0},{"$f":"'Data Feed'!O45","v":0},{"$f":"'Data Feed'!P45","v":0},{"$f":"'Data Feed'!Q45","v":0},{"$f":"'Data Feed'!R45","v":0},{"$f":"'Data Feed'!S45","v":0},{"$f":"'Data Feed'!T45","v":0},{"$f":"'Data Feed'!U45","v":0},{"$f":"'Data Feed'!V45","v":0},{"$f":"'Data Feed'!W45","v":0},{"$f":"'Data Feed'!X45","v":0},{"$f":"'Data Feed'!Y45","v":0},{"$f":"'Data Feed'!Z45","v":0},{"$f":"'Data Feed'!AA45","v":0},{"$f":"'Data Feed'!AB45","v":0},{"$f":"'Data Feed'!AC45","v":0},{"$f":"'Data Feed'!AD45","v":0},{"$f":"'Data Feed'!AE45","v":0},{"$f":"'Data Feed'!AF45","v":0},{"$f":"'Data Feed'!AG45","v":0},{"$f":"'Data Feed'!AH45","v":0},{"$f":"'Data Feed'!AI45","v":0}]
[{"$f":"B44&\"_\"&COUNTIF($B$1:B44,B44)","v":"0_41"},{"$f":"'Data Feed'!AJ46","v":0},{"$f":"'Data Feed'!B46","v":0},{"$f":"'Data Feed'!C46","v":0},{"$f":"'Data Feed'!D46","v":0},{"$f":"'Data Feed'!E46","v":0},{"$f":"'Data Feed'!F46","v":0},{"$f":"'Data Feed'!G46","v":0},{"$f":"'Data Feed'!H46","v":0},{"$f":"'Data Feed'!I46","v":0},{"$f":"'Data Feed'!J46","v":0},{"$f":"'Data Feed'!K46","v":0},{"$f":"'Data Feed'!L46","v":0},{"$f":"'Data Feed'!M46","v":0},{"$f":"'Data Feed'!N46","v":0},{"$f":"'Data Feed'!O46","v":0},{"$f":"'Data Feed'!P46","v":0},{"$f":"'Data Feed'!Q46","v":0},{"$f":"'Data Feed'!R46","v":0},{"$f":"'Data Feed'!S46","v":0},{"$f":"'Data Feed'!T46","v":0},{"$f":"'Data Feed'!U46","v":0},{"$f":"'Data Feed'!V46","v":0},{"$f":"'Data Feed'!W46","v":0},{"$f":"'Data Feed'!X46","v":0},{"$f":"'Data Feed'!Y46","v":0},{"$f":"'Data Feed'!Z46","v":0},{"$f":"'Data Feed'!AA46","v":0},{"$f":"'Data Feed'!AB46","v":0},{"$f":"'Data Feed'!AC46","v":0},{"$f":"'Data Feed'!AD46","v":0},{"$f":"'Data Feed'!AE46","v":0},{"$f":"'Data Feed'!AF46","v":0},{"$f":"'Data Feed'!AG46","v":0},{"$f":"'Data Feed'!AH46","v":0},{"$f":"'Data Feed'!AI46","v":0}]
[{"$f":"B45&\"_\"&COUNTIF($B$1:B45,B45)","v":"0_42"},{"$f":"'Data Feed'!AJ47","v":0},{"$f":"'Data Feed'!B47","v":0},{"$f":"'Data Feed'!C47","v":0},{"$f":"'Data Feed'!D47","v":0},{"$f":"'Data Feed'!E47","v":0},{"$f":"'Data Feed'!F47","v":0},{"$f":"'Data Feed'!G47","v":0},{"$f":"'Data Feed'!H47","v":0},{"$f":"'Data Feed'!I47","v":0},{"$f":"'Data Feed'!J47","v":0},{"$f":"'Data Feed'!K47","v":0},{"$f":"'Data Feed'!L47","v":0},{"$f":"'Data Feed'!M47","v":0},{"$f":"'Data Feed'!N47","v":0},{"$f":"'Data Feed'!O47","v":0},{"$f":"'Data Feed'!P47","v":0},{"$f":"'Data Feed'!Q47","v":0},{"$f":"'Data Feed'!R47","v":0},{"$f":"'Data Feed'!S47","v":0},{"$f":"'Data Feed'!T47","v":0},{"$f":"'Data Feed'!U47","v":0},{"$f":"'Data Feed'!V47","v":0},{"$f":"'Data Feed'!W47","v":0},{"$f":"'Data Feed'!X47","v":0},{"$f":"'Data Feed'!Y47","v":0},{"$f":"'Data Feed'!Z47","v":0},{"$f":"'Data Feed'!AA47","v":0},{"$f":"'Data Feed'!AB47","v":0},{"$f":"'Data Feed'!AC47","v":0},{"$f":"'Data Feed'!AD47","v":0},{"$f":"'Data Feed'!AE47","v":0},{"$f":"'Data Feed'!AF47","v":0},{"$f":"'Data Feed'!AG47","v":0},{"$f":"'Data Feed'!AH47","v":0},{"$f":"'Data Feed'!AI47","v":0}]
[{"$f":"B46&\"_\"&COUNTIF($B$1:B46,B46)","v":"0_43"},{"$f":"'Data Feed'!AJ48","v":0},{"$f":"'Data Feed'!B48","v":0},{"$f":"'Data Feed'!C48","v":0},{"$f":"'Data Feed'!D48","v":0},{"$f":"'Data Feed'!E48","v":0},{"$f":"'Data Feed'!F48","v":0},{"$f":"'Data Feed'!G48","v":0},{"$f":"'Data Feed'!H48","v":0},{"$f":"'Data Feed'!I48","v":0},{"$f":"'Data Feed'!J48","v":0},{"$f":"'Data Feed'!K48","v":0},{"$f":"'Data Feed'!L48","v":0},{"$f":"'Data Feed'!M48","v":0},{"$f":"'Data Feed'!N48","v":0},{"$f":"'Data Feed'!O48","v":0},{"$f":"'Data Feed'!P48","v":0},{"$f":"'Data Feed'!Q48","v":0},{"$f":"'Data Feed'!R48","v":0},{"$f":"'Data Feed'!S48","v":0},{"$f":"'Data Feed'!T48","v":0},{"$f":"'Data Feed'!U48","v":0},{"$f":"'Data Feed'!V48","v":0},{"$f":"'Data Feed'!W48","v":0},{"$f":"'Data Feed'!X48","v":0},{"$f":"'Data Feed'!Y48","v":0},{"$f":"'Data Feed'!Z48","v":0},{"$f":"'Data Feed'!AA48","v":0},{"$f":"'Data Feed'!AB48","v":0},{"$f":"'Data Feed'!AC48","v":0},{"$f":"'Data Feed'!AD48","v":0},{"$f":"'Data Feed'!AE48","v":0},{"$f":"'Data Feed'!AF48","v":0},{"$f":"'Data Feed'!AG48","v":0},{"$f":"'Data Feed'!AH48","v":0},{"$f":"'Data Feed'!AI48","v":0}]
[{"$f":"B47&\"_\"&COUNTIF($B$1:B47,B47)","v":"0_44"},{"$f":"'Data Feed'!AJ49","v":0},{"$f":"'Data Feed'!B49","v":0},{"$f":"'Data Feed'!C49","v":0},{"$f":"'Data Feed'!D49","v":0},{"$f":"'Data Feed'!E49","v":0},{"$f":"'Data Feed'!F49","v":0},{"$f":"'Data Feed'!G49","v":0},{"$f":"'Data Feed'!H49","v":0},{"$f":"'Data Feed'!I49","v":0},{"$f":"'Data Feed'!J49","v":0},{"$f":"'Data Feed'!K49","v":0},{"$f":"'Data Feed'!L49","v":0},{"$f":"'Data Feed'!M49","v":0},{"$f":"'Data Feed'!N49","v":0},{"$f":"'Data Feed'!O49","v":0},{"$f":"'Data Feed'!P49","v":0},{"$f":"'Data Feed'!Q49","v":0},{"$f":"'Data Feed'!R49","v":0},{"$f":"'Data Feed'!S49","v":0},{"$f":"'Data Feed'!T49","v":0},{"$f":"'Data Feed'!U49","v":0},{"$f":"'Data Feed'!V49","v":0},{"$f":"'Data Feed'!W49","v":0},{"$f":"'Data Feed'!X49","v":0},{"$f":"'Data Feed'!Y49","v":0},{"$f":"'Data Feed'!Z49","v":0},{"$f":"'Data Feed'!AA49","v":0},{"$f":"'Data Feed'!AB49","v":0},{"$f":"'Data Feed'!AC49","v":0},{"$f":"'Data Feed'!AD49","v":0},{"$f":"'Data Feed'!AE49","v":0},{"$f":"'Data Feed'!AF49","v":0},{"$f":"'Data Feed'!AG49","v":0},{"$f":"'Data Feed'!AH49","v":0},{"$f":"'Data Feed'!AI49","v":0}]
[{"$f":"B48&\"_\"&COUNTIF($B$1:B48,B48)","v":"0_45"},{"$f":"'Data Feed'!AJ50","v":0},{"$f":"'Data Feed'!B50","v":0},{"$f":"'Data Feed'!C50","v":0},{"$f":"'Data Feed'!D50","v":0},{"$f":"'Data Feed'!E50","v":0},{"$f":"'Data Feed'!F50","v":0},{"$f":"'Data Feed'!G50","v":0},{"$f":"'Data Feed'!H50","v":0},{"$f":"'Data Feed'!I50","v":0},{"$f":"'Data Feed'!J50","v":0},{"$f":"'Data Feed'!K50","v":0},{"$f":"'Data Feed'!L50","v":0},{"$f":"'Data Feed'!M50","v":0},{"$f":"'Data Feed'!N50","v":0},{"$f":"'Data Feed'!O50","v":0},{"$f":"'Data Feed'!P50","v":0},{"$f":"'Data Feed'!Q50","v":0},{"$f":"'Data Feed'!R50","v":0},{"$f":"'Data Feed'!S50","v":0},{"$f":"'Data Feed'!T50","v":0},{"$f":"'Data Feed'!U50","v":0},{"$f":"'Data Feed'!V50","v":0},{"$f":"'Data Feed'!W50","v":0},{"$f":"'Data Feed'!X50","v":0},{"$f":"'Data Feed'!Y50","v":0},{"$f":"'Data Feed'!Z50","v":0},{"$f":"'Data Feed'!AA50","v":0},{"$f":"'Data Feed'!AB50","v":0},{"$f":"'Data Feed'!AC50","v":0},{"$f":"'Data Feed'!AD50","v":0},{"$f":"'Data Feed'!AE50","v":0},{"$f":"'Data Feed'!AF50","v":0},{"$f":"'Data Feed'!AG50","v":0},{"$f":"'Data Feed'!AH50","v":0},{"$f":"'Data Feed'!AI50","v":0}]
[{"$f":"B49&\"_\"&COUNTIF($B$1:B49,B49)","v":"0_46"},{"$f":"'Data Feed'!AJ51","v":0},{"$f":"'Data Feed'!B51","v":0},{"$f":"'Data Feed'!C51","v":0},{"$f":"'Data Feed'!D51","v":0},{"$f":"'Data Feed'!E51","v":0},{"$f":"'Data Feed'!F51","v":0},{"$f":"'Data Feed'!G51","v":0},{"$f":"'Data Feed'!H51","v":0},{"$f":"'Data Feed'!I51","v":0},{"$f":"'Data Feed'!J51","v":0},{"$f":"'Data Feed'!K51","v":0},{"$f":"'Data Feed'!L51","v":0},{"$f":"'Data Feed'!M51","v":0},{"$f":"'Data Feed'!N51","v":0},{"$f":"'Data Feed'!O51","v":0},{"$f":"'Data Feed'!P51","v":0},{"$f":"'Data Feed'!Q51","v":0},{"$f":"'Data Feed'!R51","v":0},{"$f":"'Data Feed'!S51","v":0},{"$f":"'Data Feed'!T51","v":0},{"$f":"'Data Feed'!U51","v":0},{"$f":"'Data Feed'!V51","v":0},{"$f":"'Data Feed'!W51","v":0},{"$f":"'Data Feed'!X51","v":0},{"$f":"'Data Feed'!Y51","v":0},{"$f":"'Data Feed'!Z51","v":0},{"$f":"'Data Feed'!AA51","v":0},{"$f":"'Data Feed'!AB51","v":0},{"$f":"'Data Feed'!AC51","v":0},{"$f":"'Data Feed'!AD51","v":0},{"$f":"'Data Feed'!AE51","v":0},{"$f":"'Data Feed'!AF51","v":0},{"$f":"'Data Feed'!AG51","v":0},{"$f":"'Data Feed'!AH51","v":0},{"$f":"'Data Feed'!AI51","v":0}]
[{"$f":"B50&\"_\"&COUNTIF($B$1:B50,B50)","v":"0_47"},{"$f":"'Data Feed'!AJ52","v":0},{"$f":"'Data Feed'!B52","v":0},{"$f":"'Data Feed'!C52","v":0},{"$f":"'Data Feed'!D52","v":0},{"$f":"'Data Feed'!E52","v":0},{"$f":"'Data Feed'!F52","v":0},{"$f":"'Data Feed'!G52","v":0},{"$f":"'Data Feed'!H52","v":0},{"$f":"'Data Feed'!I52","v":0},{"$f":"'Data Feed'!J52","v":0},{"$f":"'Data Feed'!K52","v":0},{"$f":"'Data Feed'!L52","v":0},{"$f":"'Data Feed'!M52","v":0},{"$f":"'Data Feed'!N52","v":0},{"$f":"'Data Feed'!O52","v":0},{"$f":"'Data Feed'!P52","v":0},{"$f":"'Data Feed'!Q52","v":0},{"$f":"'Data Feed'!R52","v":0},{"$f":"'Data Feed'!S52","v":0},{"$f":"'Data Feed'!T52","v":0},{"$f":"'Data Feed'!U52","v":0},{"$f":"'Data Feed'!V52","v":0},{"$f":"'Data Feed'!W52","v":0},{"$f":"'Data Feed'!X52","v":0},{"$f":"'Data Feed'!Y52","v":0},{"$f":"'Data Feed'!Z52","v":0},{"$f":"'Data Feed'!AA52","v":0},{"$f":"'Data Feed'!AB52","v":0},{"$f":"'Data Feed'!AC52","v":0},{"$f":"'Data Feed'!AD52","v":0},{"$f":"'Data Feed'!AE52","v":0},{"$f":"'Data Feed'!AF52","v":0},{"$f":"'Data Feed'!AG52","v":0},{"$f":"'Data Feed'!AH52","v":0},{"$f":"'Data Feed'!AI52","v":0}]
[{"$f":"B51&\"_\"&COUNTIF($B$1:B51,B51)","v":"0_48"},{"$f":"'Data Feed'!AJ53","v":0},{"$f":"'Data Feed'!B53","v":0},{"$f":"'Data Feed'!C53","v":0},{"$f":"'Data Feed'!D53","v":0},{"$f":"'Data Feed'!E53","v":0},{"$f":"'Data Feed'!F53","v":0},{"$f":"'Data Feed'!G53","v":0},{"$f":"'Data Feed'!H53","v":0},{"$f":"'Data Feed'!I53","v":0},{"$f":"'Data Feed'!J53","v":0},{"$f":"'Data Feed'!K53","v":0},{"$f":"'Data Feed'!L53","v":0},{"$f":"'Data Feed'!M53","v":0},{"$f":"'Data Feed'!N53","v":0},{"$f":"'Data Feed'!O53","v":0},{"$f":"'Data Feed'!P53","v":0},{"$f":"'Data Feed'!Q53","v":0},{"$f":"'Data Feed'!R53","v":0},{"$f":"'Data Feed'!S53","v":0},{"$f":"'Data Feed'!T53","v":0},{"$f":"'Data Feed'!U53","v":0},{"$f":"'Data Feed'!V53","v":0},{"$f":"'Data Feed'!W53","v":0},{"$f":"'Data Feed'!X53","v":0},{"$f":"'Data Feed'!Y53","v":0},{"$f":"'Data Feed'!Z53","v":0},{"$f":"'Data Feed'!AA53","v":0},{"$f":"'Data Feed'!AB53","v":0},{"$f":"'Data Feed'!AC53","v":0},{"$f":"'Data Feed'!AD53","v":0},{"$f":"'Data Feed'!AE53","v":0},{"$f":"'Data Feed'!AF53","v":0},{"$f":"'Data Feed'!AG53","v":0},{"$f":"'Data Feed'!AH53","v":0},{"$f":"'Data Feed'!AI53","v":0}]
[{"$f":"B52&\"_\"&COUNTIF($B$1:B52,B52)","v":"0_49"},{"$f":"'Data Feed'!AJ54","v":0},{"$f":"'Data Feed'!B54","v":0},{"$f":"'Data Feed'!C54","v":0},{"$f":"'Data Feed'!D54","v":0},{"$f":"'Data Feed'!E54","v":0},{"$f":"'Data Feed'!F54","v":0},{"$f":"'Data Feed'!G54","v":0},{"$f":"'Data Feed'!H54","v":0},{"$f":"'Data Feed'!I54","v":0},{"$f":"'Data Feed'!J54","v":0},{"$f":"'Data Feed'!K54","v":0},{"$f":"'Data Feed'!L54","v":0},{"$f":"'Data Feed'!M54","v":0},{"$f":"'Data Feed'!N54","v":0},{"$f":"'Data Feed'!O54","v":0},{"$f":"'Data Feed'!P54","v":0},{"$f":"'Data Feed'!Q54","v":0},{"$f":"'Data Feed'!R54","v":0},{"$f":"'Data Feed'!S54","v":0},{"$f":"'Data Feed'!T54","v":0},{"$f":"'Data Feed'!U54","v":0},{"$f":"'Data Feed'!V54","v":0},{"$f":"'Data Feed'!W54","v":0},{"$f":"'Data Feed'!X54","v":0},{"$f":"'Data Feed'!Y54","v":0},{"$f":"'Data Feed'!Z54","v":0},{"$f":"'Data Feed'!AA54","v":0},{"$f":"'Data Feed'!AB54","v":0},{"$f":"'Data Feed'!AC54","v":0},{"$f":"'Data Feed'!AD54","v":0},{"$f":"'Data Feed'!AE54","v":0},{"$f":"'Data Feed'!AF54","v":0},{"$f":"'Data Feed'!AG54","v":0},{"$f":"'Data Feed'!AH54","v":0},{"$f":"'Data Feed'!AI54","v":0}]
[{"$f":"B53&\"_\"&COUNTIF($B$1:B53,B53)","v":"0_50"},{"$f":"'Data Feed'!AJ55","v":0},{"$f":"'Data Feed'!B55","v":0},{"$f":"'Data Feed'!C55","v":0},{"$f":"'Data Feed'!D55","v":0},{"$f":"'Data Feed'!E55","v":0},{"$f":"'Data Feed'!F55","v":0},{"$f":"'Data Feed'!G55","v":0},{"$f":"'Data Feed'!H55","v":0},{"$f":"'Data Feed'!I55","v":0},{"$f":"'Data Feed'!J55","v":0},{"$f":"'Data Feed'!K55","v":0},{"$f":"'Data Feed'!L55","v":0},{"$f":"'Data Feed'!M55","v":0},{"$f":"'Data Feed'!N55","v":0},{"$f":"'Data Feed'!O55","v":0},{"$f":"'Data Feed'!P55","v":0},{"$f":"'Data Feed'!Q55","v":0},{"$f":"'Data Feed'!R55","v":0},{"$f":"'Data Feed'!S55","v":0},{"$f":"'Data Feed'!T55","v":0},{"$f":"'Data Feed'!U55","v":0},{"$f":"'Data Feed'!V55","v":0},{"$f":"'Data Feed'!W55","v":0},{"$f":"'Data Feed'!X55","v":0},{"$f":"'Data Feed'!Y55","v":0},{"$f":"'Data Feed'!Z55","v":0},{"$f":"'Data Feed'!AA55","v":0},{"$f":"'Data Feed'!AB55","v":0},{"$f":"'Data Feed'!AC55","v":0},{"$f":"'Data Feed'!AD55","v":0},{"$f":"'Data Feed'!AE55","v":0},{"$f":"'Data Feed'!AF55","v":0},{"$f":"'Data Feed'!AG55","v":0},{"$f":"'Data Feed'!AH55","v":0},{"$f":"'Data Feed'!AI55","v":0}]
[{"$f":"B54&\"_\"&COUNTIF($B$1:B54,B54)","v":"0_51"},{"$f":"'Data Feed'!AJ56","v":0},{"$f":"'Data Feed'!B56","v":0},{"$f":"'Data Feed'!C56","v":0},{"$f":"'Data Feed'!D56","v":0},{"$f":"'Data Feed'!E56","v":0},{"$f":"'Data Feed'!F56","v":0},{"$f":"'Data Feed'!G56","v":0},{"$f":"'Data Feed'!H56","v":0},{"$f":"'Data Feed'!I56","v":0},{"$f":"'Data Feed'!J56","v":0},{"$f":"'Data Feed'!K56","v":0},{"$f":"'Data Feed'!L56","v":0},{"$f":"'Data Feed'!M56","v":0},{"$f":"'Data Feed'!N56","v":0},{"$f":"'Data Feed'!O56","v":0},{"$f":"'Data Feed'!P56","v":0},{"$f":"'Data Feed'!Q56","v":0},{"$f":"'Data Feed'!R56","v":0},{"$f":"'Data Feed'!S56","v":0},{"$f":"'Data Feed'!T56","v":0},{"$f":"'Data Feed'!U56","v":0},{"$f":"'Data Feed'!V56","v":0},{"$f":"'Data Feed'!W56","v":0},{"$f":"'Data Feed'!X56","v":0},{"$f":"'Data Feed'!Y56","v":0},{"$f":"'Data Feed'!Z56","v":0},{"$f":"'Data Feed'!AA56","v":0},{"$f":"'Data Feed'!AB56","v":0},{"$f":"'Data Feed'!AC56","v":0},{"$f":"'Data Feed'!AD56","v":0},{"$f":"'Data Feed'!AE56","v":0},{"$f":"'Data Feed'!AF56","v":0},{"$f":"'Data Feed'!AG56","v":0},{"$f":"'Data Feed'!AH56","v":0},{"$f":"'Data Feed'!AI56","v":0}]
[{"$f":"B55&\"_\"&COUNTIF($B$1:B55,B55)","v":"0_52"},{"$f":"'Data Feed'!AJ57","v":0},{"$f":"'Data Feed'!B57","v":0},{"$f":"'Data Feed'!C57","v":0},{"$f":"'Data Feed'!D57","v":0},{"$f":"'Data Feed'!E57","v":0},{"$f":"'Data Feed'!F57","v":0},{"$f":"'Data Feed'!G57","v":0},{"$f":"'Data Feed'!H57","v":0},{"$f":"'Data Feed'!I57","v":0},{"$f":"'Data Feed'!J57","v":0},{"$f":"'Data Feed'!K57","v":0},{"$f":"'Data Feed'!L57","v":0},{"$f":"'Data Feed'!M57","v":0},{"$f":"'Data Feed'!N57","v":0},{"$f":"'Data Feed'!O57","v":0},{"$f":"'Data Feed'!P57","v":0},{"$f":"'Data Feed'!Q57","v":0},{"$f":"'Data Feed'!R57","v":0},{"$f":"'Data Feed'!S57","v":0},{"$f":"'Data Feed'!T57","v":0},{"$f":"'Data Feed'!U57","v":0},{"$f":"'Data Feed'!V57","v":0},{"$f":"'Data Feed'!W57","v":0},{"$f":"'Data Feed'!X57","v":0},{"$f":"'Data Feed'!Y57","v":0},{"$f":"'Data Feed'!Z57","v":0},{"$f":"'Data Feed'!AA57","v":0},{"$f":"'Data Feed'!AB57","v":0},{"$f":"'Data Feed'!AC57","v":0},{"$f":"'Data Feed'!AD57","v":0},{"$f":"'Data Feed'!AE57","v":0},{"$f":"'Data Feed'!AF57","v":0},{"$f":"'Data Feed'!AG57","v":0},{"$f":"'Data Feed'!AH57","v":0},{"$f":"'Data Feed'!AI57","v":0}]
[{"$f":"B56&\"_\"&COUNTIF($B$1:B56,B56)","v":"0_53"},{"$f":"'Data Feed'!AJ58","v":0},{"$f":"'Data Feed'!B58","v":0},{"$f":"'Data Feed'!C58","v":0},{"$f":"'Data Feed'!D58","v":0},{"$f":"'Data Feed'!E58","v":0},{"$f":"'Data Feed'!F58","v":0},{"$f":"'Data Feed'!G58","v":0},{"$f":"'Data Feed'!H58","v":0},{"$f":"'Data Feed'!I58","v":0},{"$f":"'Data Feed'!J58","v":0},{"$f":"'Data Feed'!K58","v":0},{"$f":"'Data Feed'!L58","v":0},{"$f":"'Data Feed'!M58","v":0},{"$f":"'Data Feed'!N58","v":0},{"$f":"'Data Feed'!O58","v":0},{"$f":"'Data Feed'!P58","v":0},{"$f":"'Data Feed'!Q58","v":0},{"$f":"'Data Feed'!R58","v":0},{"$f":"'Data Feed'!S58","v":0},{"$f":"'Data Feed'!T58","v":0},{"$f":"'Data Feed'!U58","v":0},{"$f":"'Data Feed'!V58","v":0},{"$f":"'Data Feed'!W58","v":0},{"$f":"'Data Feed'!X58","v":0},{"$f":"'Data Feed'!Y58","v":0},{"$f":"'Data Feed'!Z58","v":0},{"$f":"'Data Feed'!AA58","v":0},{"$f":"'Data Feed'!AB58","v":0},{"$f":"'Data Feed'!AC58","v":0},{"$f":"'Data Feed'!AD58","v":0},{"$f":"'Data Feed'!AE58","v":0},{"$f":"'Data Feed'!AF58","v":0},{"$f":"'Data Feed'!AG58","v":0},{"$f":"'Data Feed'!AH58","v":0},{"$f":"'Data Feed'!AI58","v":0}]
[{"$f":"B57&\"_\"&COUNTIF($B$1:B57,B57)","v":"0_54"},{"$f":"'Data Feed'!AJ59","v":0},{"$f":"'Data Feed'!B59","v":0},{"$f":"'Data Feed'!C59","v":0},{"$f":"'Data Feed'!D59","v":0},{"$f":"'Data Feed'!E59","v":0},{"$f":"'Data Feed'!F59","v":0},{"$f":"'Data Feed'!G59","v":0},{"$f":"'Data Feed'!H59","v":0},{"$f":"'Data Feed'!I59","v":0},{"$f":"'Data Feed'!J59","v":0},{"$f":"'Data Feed'!K59","v":0},{"$f":"'Data Feed'!L59","v":0},{"$f":"'Data Feed'!M59","v":0},{"$f":"'Data Feed'!N59","v":0},{"$f":"'Data Feed'!O59","v":0},{"$f":"'Data Feed'!P59","v":0},{"$f":"'Data Feed'!Q59","v":0},{"$f":"'Data Feed'!R59","v":0},{"$f":"'Data Feed'!S59","v":0},{"$f":"'Data Feed'!T59","v":0},{"$f":"'Data Feed'!U59","v":0},{"$f":"'Data Feed'!V59","v":0},{"$f":"'Data Feed'!W59","v":0},{"$f":"'Data Feed'!X59","v":0},{"$f":"'Data Feed'!Y59","v":0},{"$f":"'Data Feed'!Z59","v":0},{"$f":"'Data Feed'!AA59","v":0},{"$f":"'Data Feed'!AB59","v":0},{"$f":"'Data Feed'!AC59","v":0},{"$f":"'Data Feed'!AD59","v":0},{"$f":"'Data Feed'!AE59","v":0},{"$f":"'Data Feed'!AF59","v":0},{"$f":"'Data Feed'!AG59","v":0},{"$f":"'Data Feed'!AH59","v":0},{"$f":"'Data Feed'!AI59","v":0}]
[{"$f":"B58&\"_\"&COUNTIF($B$1:B58,B58)","v":"0_55"},{"$f":"'Data Feed'!AJ60","v":0},{"$f":"'Data Feed'!B60","v":0},{"$f":"'Data Feed'!C60","v":0},{"$f":"'Data Feed'!D60","v":0},{"$f":"'Data Feed'!E60","v":0},{"$f":"'Data Feed'!F60","v":0},{"$f":"'Data Feed'!G60","v":0},{"$f":"'Data Feed'!H60","v":0},{"$f":"'Data Feed'!I60","v":0},{"$f":"'Data Feed'!J60","v":0},{"$f":"'Data Feed'!K60","v":0},{"$f":"'Data Feed'!L60","v":0},{"$f":"'Data Feed'!M60","v":0},{"$f":"'Data Feed'!N60","v":0},{"$f":"'Data Feed'!O60","v":0},{"$f":"'Data Feed'!P60","v":0},{"$f":"'Data Feed'!Q60","v":0},{"$f":"'Data Feed'!R60","v":0},{"$f":"'Data Feed'!S60","v":0},{"$f":"'Data Feed'!T60","v":0},{"$f":"'Data Feed'!U60","v":0},{"$f":"'Data Feed'!V60","v":0},{"$f":"'Data Feed'!W60","v":0},{"$f":"'Data Feed'!X60","v":0},{"$f":"'Data Feed'!Y60","v":0},{"$f":"'Data Feed'!Z60","v":0},{"$f":"'Data Feed'!AA60","v":0},{"$f":"'Data Feed'!AB60","v":0},{"$f":"'Data Feed'!AC60","v":0},{"$f":"'Data Feed'!AD60","v":0},{"$f":"'Data Feed'!AE60","v":0},{"$f":"'Data Feed'!AF60","v":0},{"$f":"'Data Feed'!AG60","v":0},{"$f":"'Data Feed'!AH60","v":0},{"$f":"'Data Feed'!AI60","v":0}]
[{"$f":"B59&\"_\"&COUNTIF($B$1:B59,B59)","v":"0_56"},{"$f":"'Data Feed'!AJ61","v":0},{"$f":"'Data Feed'!B61","v":0},{"$f":"'Data Feed'!C61","v":0},{"$f":"'Data Feed'!D61","v":0},{"$f":"'Data Feed'!E61","v":0},{"$f":"'Data Feed'!F61","v":0},{"$f":"'Data Feed'!G61","v":0},{"$f":"'Data Feed'!H61","v":0},{"$f":"'Data Feed'!I61","v":0},{"$f":"'Data Feed'!J61","v":0},{"$f":"'Data Feed'!K61","v":0},{"$f":"'Data Feed'!L61","v":0},{"$f":"'Data Feed'!M61","v":0},{"$f":"'Data Feed'!N61","v":0},{"$f":"'Data Feed'!O61","v":0},{"$f":"'Data Feed'!P61","v":0},{"$f":"'Data Feed'!Q61","v":0},{"$f":"'Data Feed'!R61","v":0},{"$f":"'Data Feed'!S61","v":0},{"$f":"'Data Feed'!T61","v":0},{"$f":"'Data Feed'!U61","v":0},{"$f":"'Data Feed'!V61","v":0},{"$f":"'Data Feed'!W61","v":0},{"$f":"'Data Feed'!X61","v":0},{"$f":"'Data Feed'!Y61","v":0},{"$f":"'Data Feed'!Z61","v":0},{"$f":"'Data Feed'!AA61","v":0},{"$f":"'Data Feed'!AB61","v":0},{"$f":"'Data Feed'!AC61","v":0},{"$f":"'Data Feed'!AD61","v":0},{"$f":"'Data Feed'!AE61","v":0},{"$f":"'Data Feed'!AF61","v":0},{"$f":"'Data Feed'!AG61","v":0},{"$f":"'Data Feed'!AH61","v":0},{"$f":"'Data Feed'!AI61","v":0}]
[{"$f":"B60&\"_\"&COUNTIF($B$1:B60,B60)","v":"0_57"},{"$f":"'Data Feed'!AJ62","v":0},{"$f":"'Data Feed'!B62","v":0},{"$f":"'Data Feed'!C62","v":0},{"$f":"'Data Feed'!D62","v":0},{"$f":"'Data Feed'!E62","v":0},{"$f":"'Data Feed'!F62","v":0},{"$f":"'Data Feed'!G62","v":0},{"$f":"'Data Feed'!H62","v":0},{"$f":"'Data Feed'!I62","v":0},{"$f":"'Data Feed'!J62","v":0},{"$f":"'Data Feed'!K62","v":0},{"$f":"'Data Feed'!L62","v":0},{"$f":"'Data Feed'!M62","v":0},{"$f":"'Data Feed'!N62","v":0},{"$f":"'Data Feed'!O62","v":0},{"$f":"'Data Feed'!P62","v":0},{"$f":"'Data Feed'!Q62","v":0},{"$f":"'Data Feed'!R62","v":0},{"$f":"'Data Feed'!S62","v":0},{"$f":"'Data Feed'!T62","v":0},{"$f":"'Data Feed'!U62","v":0},{"$f":"'Data Feed'!V62","v":0},{"$f":"'Data Feed'!W62","v":0},{"$f":"'Data Feed'!X62","v":0},{"$f":"'Data Feed'!Y62","v":0},{"$f":"'Data Feed'!Z62","v":0},{"$f":"'Data Feed'!AA62","v":0},{"$f":"'Data Feed'!AB62","v":0},{"$f":"'Data Feed'!AC62","v":0},{"$f":"'Data Feed'!AD62","v":0},{"$f":"'Data Feed'!AE62","v":0},{"$f":"'Data Feed'!AF62","v":0},{"$f":"'Data Feed'!AG62","v":0},{"$f":"'Data Feed'!AH62","v":0},{"$f":"'Data Feed'!AI62","v":0}]
[{"$f":"B61&\"_\"&COUNTIF($B$1:B61,B61)","v":"0_58"},{"$f":"'Data Feed'!AJ63","v":0},{"$f":"'Data Feed'!B63","v":0},{"$f":"'Data Feed'!C63","v":0},{"$f":"'Data Feed'!D63","v":0},{"$f":"'Data Feed'!E63","v":0},{"$f":"'Data Feed'!F63","v":0},{"$f":"'Data Feed'!G63","v":0},{"$f":"'Data Feed'!H63","v":0},{"$f":"'Data Feed'!I63","v":0},{"$f":"'Data Feed'!J63","v":0},{"$f":"'Data Feed'!K63","v":0},{"$f":"'Data Feed'!L63","v":0},{"$f":"'Data Feed'!M63","v":0},{"$f":"'Data Feed'!N63","v":0},{"$f":"'Data Feed'!O63","v":0},{"$f":"'Data Feed'!P63","v":0},{"$f":"'Data Feed'!Q63","v":0},{"$f":"'Data Feed'!R63","v":0},{"$f":"'Data Feed'!S63","v":0},{"$f":"'Data Feed'!T63","v":0},{"$f":"'Data Feed'!U63","v":0},{"$f":"'Data Feed'!V63","v":0},{"$f":"'Data Feed'!W63","v":0},{"$f":"'Data Feed'!X63","v":0},{"$f":"'Data Feed'!Y63","v":0},{"$f":"'Data Feed'!Z63","v":0},{"$f":"'Data Feed'!AA63","v":0},{"$f":"'Data Feed'!AB63","v":0},{"$f":"'Data Feed'!AC63","v":0},{"$f":"'Data Feed'!AD63","v":0},{"$f":"'Data Feed'!AE63","v":0},{"$f":"'Data Feed'!AF63","v":0},{"$f":"'Data Feed'!AG63","v":0},{"$f":"'Data Feed'!AH63","v":0},{"$f":"'Data Feed'!AI63","v":0}]
[{"$f":"B62&\"_\"&COUNTIF($B$1:B62,B62)","v":"0_59"},{"$f":"'Data Feed'!AJ64","v":0},{"$f":"'Data Feed'!B64","v":0},{"$f":"'Data Feed'!C64","v":0},{"$f":"'Data Feed'!D64","v":0},{"$f":"'Data Feed'!E64","v":0},{"$f":"'Data Feed'!F64","v":0},{"$f":"'Data Feed'!G64","v":0},{"$f":"'Data Feed'!H64","v":0},{"$f":"'Data Feed'!I64","v":0},{"$f":"'Data Feed'!J64","v":0},{"$f":"'Data Feed'!K64","v":0},{"$f":"'Data Feed'!L64","v":0},{"$f":"'Data Feed'!M64","v":0},{"$f":"'Data Feed'!N64","v":0},{"$f":"'Data Feed'!O64","v":0},{"$f":"'Data Feed'!P64","v":0},{"$f":"'Data Feed'!Q64","v":0},{"$f":"'Data Feed'!R64","v":0},{"$f":"'Data Feed'!S64","v":0},{"$f":"'Data Feed'!T64","v":0},{"$f":"'Data Feed'!U64","v":0},{"$f":"'Data Feed'!V64","v":0},{"$f":"'Data Feed'!W64","v":0},{"$f":"'Data Feed'!X64","v":0},{"$f":"'Data Feed'!Y64","v":0},{"$f":"'Data Feed'!Z64","v":0},{"$f":"'Data Feed'!AA64","v":0},{"$f":"'Data Feed'!AB64","v":0},{"$f":"'Data Feed'!AC64","v":0},{"$f":"'Data Feed'!AD64","v":0},{"$f":"'Data Feed'!AE64","v":0},{"$f":"'Data Feed'!AF64","v":0},{"$f":"'Data Feed'!AG64","v":0},{"$f":"'Data Feed'!AH64","v":0},{"$f":"'Data Feed'!AI64","v":0}]
[{"$f":"B63&\"_\"&COUNTIF($B$1:B63,B63)","v":"0_60"},{"$f":"'Data Feed'!AJ65","v":0},{"$f":"'Data Feed'!B65","v":0},{"$f":"'Data Feed'!C65","v":0},{"$f":"'Data Feed'!D65","v":0},{"$f":"'Data Feed'!E65","v":0},{"$f":"'Data Feed'!F65","v":0},{"$f":"'Data Feed'!G65","v":0},{"$f":"'Data Feed'!H65","v":0},{"$f":"'Data Feed'!I65","v":0},{"$f":"'Data Feed'!J65","v":0},{"$f":"'Data Feed'!K65","v":0},{"$f":"'Data Feed'!L65","v":0},{"$f":"'Data Feed'!M65","v":0},{"$f":"'Data Feed'!N65","v":0},{"$f":"'Data Feed'!O65","v":0},{"$f":"'Data Feed'!P65","v":0},{"$f":"'Data Feed'!Q65","v":0},{"$f":"'Data Feed'!R65","v":0},{"$f":"'Data Feed'!S65","v":0},{"$f":"'Data Feed'!T65","v":0},{"$f":"'Data Feed'!U65","v":0},{"$f":"'Data Feed'!V65","v":0},{"$f":"'Data Feed'!W65","v":0},{"$f":"'Data Feed'!X65","v":0},{"$f":"'Data Feed'!Y65","v":0},{"$f":"'Data Feed'!Z65","v":0},{"$f":"'Data Feed'!AA65","v":0},{"$f":"'Data Feed'!AB65","v":0},{"$f":"'Data Feed'!AC65","v":0},{"$f":"'Data Feed'!AD65","v":0},{"$f":"'Data Feed'!AE65","v":0},{"$f":"'Data Feed'!AF65","v":0},{"$f":"'Data Feed'!AG65","v":0},{"$f":"'Data Feed'!AH65","v":0},{"$f":"'Data Feed'!AI65","v":0}]
[{"$f":"B64&\"_\"&COUNTIF($B$1:B64,B64)","v":"0_61"},{"$f":"'Data Feed'!AJ66","v":0},{"$f":"'Data Feed'!B66","v":0},{"$f":"'Data Feed'!C66","v":0},{"$f":"'Data Feed'!D66","v":0},{"$f":"'Data Feed'!E66","v":0},{"$f":"'Data Feed'!F66","v":0},{"$f":"'Data Feed'!G66","v":0},{"$f":"'Data Feed'!H66","v":0},{"$f":"'Data Feed'!I66","v":0},{"$f":"'Data Feed'!J66","v":0},{"$f":"'Data Feed'!K66","v":0},{"$f":"'Data Feed'!L66","v":0},{"$f":"'Data Feed'!M66","v":0},{"$f":"'Data Feed'!N66","v":0},{"$f":"'Data Feed'!O66","v":0},{"$f":"'Data Feed'!P66","v":0},{"$f":"'Data Feed'!Q66","v":0},{"$f":"'Data Feed'!R66","v":0},{"$f":"'Data Feed'!S66","v":0},{"$f":"'Data Feed'!T66","v":0},{"$f":"'Data Feed'!U66","v":0},{"$f":"'Data Feed'!V66","v":0},{"$f":"'Data Feed'!W66","v":0},{"$f":"'Data Feed'!X66","v":0},{"$f":"'Data Feed'!Y66","v":0},{"$f":"'Data Feed'!Z66","v":0},{"$f":"'Data Feed'!AA66","v":0},{"$f":"'Data Feed'!AB66","v":0},{"$f":"'Data Feed'!AC66","v":0},{"$f":"'Data Feed'!AD66","v":0},{"$f":"'Data Feed'!AE66","v":0},{"$f":"'Data Feed'!AF66","v":0},{"$f":"'Data Feed'!AG66","v":0},{"$f":"'Data Feed'!AH66","v":0},{"$f":"'Data Feed'!AI66","v":0}]
[{"$f":"B65&\"_\"&COUNTIF($B$1:B65,B65)","v":"0_62"},{"$f":"'Data Feed'!AJ67","v":0},{"$f":"'Data Feed'!B67","v":0},{"$f":"'Data Feed'!C67","v":0},{"$f":"'Data Feed'!D67","v":0},{"$f":"'Data Feed'!E67","v":0},{"$f":"'Data Feed'!F67","v":0},{"$f":"'Data Feed'!G67","v":0},{"$f":"'Data Feed'!H67","v":0},{"$f":"'Data Feed'!I67","v":0},{"$f":"'Data Feed'!J67","v":0},{"$f":"'Data Feed'!K67","v":0},{"$f":"'Data Feed'!L67","v":0},{"$f":"'Data Feed'!M67","v":0},{"$f":"'Data Feed'!N67","v":0},{"$f":"'Data Feed'!O67","v":0},{"$f":"'Data Feed'!P67","v":0},{"$f":"'Data Feed'!Q67","v":0},{"$f":"'Data Feed'!R67","v":0},{"$f":"'Data Feed'!S67","v":0},{"$f":"'Data Feed'!T67","v":0},{"$f":"'Data Feed'!U67","v":0},{"$f":"'Data Feed'!V67","v":0},{"$f":"'Data Feed'!W67","v":0},{"$f":"'Data Feed'!X67","v":0},{"$f":"'Data Feed'!Y67","v":0},{"$f":"'Data Feed'!Z67","v":0},{"$f":"'Data Feed'!AA67","v":0},{"$f":"'Data Feed'!AB67","v":0},{"$f":"'Data Feed'!AC67","v":0},{"$f":"'Data Feed'!AD67","v":0},{"$f":"'Data Feed'!AE67","v":0},{"$f":"'Data Feed'!AF67","v":0},{"$f":"'Data Feed'!AG67","v":0},{"$f":"'Data Feed'!AH67","v":0},{"$f":"'Data Feed'!AI67","v":0}]
[{"$f":"B66&\"_\"&COUNTIF($B$1:B66,B66)","v":"0_63"},{"$f":"'Data Feed'!AJ68","v":0},{"$f":"'Data Feed'!B68","v":0},{"$f":"'Data Feed'!C68","v":0},{"$f":"'Data Feed'!D68","v":0},{"$f":"'Data Feed'!E68","v":0},{"$f":"'Data Feed'!F68","v":0},{"$f":"'Data Feed'!G68","v":0},{"$f":"'Data Feed'!H68","v":0},{"$f":"'Data Feed'!I68","v":0},{"$f":"'Data Feed'!J68","v":0},{"$f":"'Data Feed'!K68","v":0},{"$f":"'Data Feed'!L68","v":0},{"$f":"'Data Feed'!M68","v":0},{"$f":"'Data Feed'!N68","v":0},{"$f":"'Data Feed'!O68","v":0},{"$f":"'Data Feed'!P68","v":0},{"$f":"'Data Feed'!Q68","v":0},{"$f":"'Data Feed'!R68","v":0},{"$f":"'Data Feed'!S68","v":0},{"$f":"'Data Feed'!T68","v":0},{"$f":"'Data Feed'!U68","v":0},{"$f":"'Data Feed'!V68","v":0},{"$f":"'Data Feed'!W68","v":0},{"$f":"'Data Feed'!X68","v":0},{"$f":"'Data Feed'!Y68","v":0},{"$f":"'Data Feed'!Z68","v":0},{"$f":"'Data Feed'!AA68","v":0},{"$f":"'Data Feed'!AB68","v":0},{"$f":"'Data Feed'!AC68","v":0},{"$f":"'Data Feed'!AD68","v":0},{"$f":"'Data Feed'!AE68","v":0},{"$f":"'Data Feed'!AF68","v":0},{"$f":"'Data Feed'!AG68","v":0},{"$f":"'Data Feed'!AH68","v":0},{"$f":"'Data Feed'!AI68","v":0}]
[{"$f":"B67&\"_\"&COUNTIF($B$1:B67,B67)","v":"0_64"},{"$f":"'Data Feed'!AJ69","v":0},{"$f":"'Data Feed'!B69","v":0},{"$f":"'Data Feed'!C69","v":0},{"$f":"'Data Feed'!D69","v":0},{"$f":"'Data Feed'!E69","v":0},{"$f":"'Data Feed'!F69","v":0},{"$f":"'Data Feed'!G69","v":0},{"$f":"'Data Feed'!H69","v":0},{"$f":"'Data Feed'!I69","v":0},{"$f":"'Data Feed'!J69","v":0},{"$f":"'Data Feed'!K69","v":0},{"$f":"'Data Feed'!L69","v":0},{"$f":"'Data Feed'!M69","v":0},{"$f":"'Data Feed'!N69","v":0},{"$f":"'Data Feed'!O69","v":0},{"$f":"'Data Feed'!P69","v":0},{"$f":"'Data Feed'!Q69","v":0},{"$f":"'Data Feed'!R69","v":0},{"$f":"'Data Feed'!S69","v":0},{"$f":"'Data Feed'!T69","v":0},{"$f":"'Data Feed'!U69","v":0},{"$f":"'Data Feed'!V69","v":0},{"$f":"'Data Feed'!W69","v":0},{"$f":"'Data Feed'!X69","v":0},{"$f":"'Data Feed'!Y69","v":0},{"$f":"'Data Feed'!Z69","v":0},{"$f":"'Data Feed'!AA69","v":0},{"$f":"'Data Feed'!AB69","v":0},{"$f":"'Data Feed'!AC69","v":0},{"$f":"'Data Feed'!AD69","v":0},{"$f":"'Data Feed'!AE69","v":0},{"$f":"'Data Feed'!AF69","v":0},{"$f":"'Data Feed'!AG69","v":0},{"$f":"'Data Feed'!AH69","v":0},{"$f":"'Data Feed'!AI69","v":0}]
[{"$f":"B68&\"_\"&COUNTIF($B$1:B68,B68)","v":"0_65"},{"$f":"'Data Feed'!AJ70","v":0},{"$f":"'Data Feed'!B70","v":0},{"$f":"'Data Feed'!C70","v":0},{"$f":"'Data Feed'!D70","v":0},{"$f":"'Data Feed'!E70","v":0},{"$f":"'Data Feed'!F70","v":0},{"$f":"'Data Feed'!G70","v":0},{"$f":"'Data Feed'!H70","v":0},{"$f":"'Data Feed'!I70","v":0},{"$f":"'Data Feed'!J70","v":0},{"$f":"'Data Feed'!K70","v":0},{"$f":"'Data Feed'!L70","v":0},{"$f":"'Data Feed'!M70","v":0},{"$f":"'Data Feed'!N70","v":0},{"$f":"'Data Feed'!O70","v":0},{"$f":"'Data Feed'!P70","v":0},{"$f":"'Data Feed'!Q70","v":0},{"$f":"'Data Feed'!R70","v":0},{"$f":"'Data Feed'!S70","v":0},{"$f":"'Data Feed'!T70","v":0},{"$f":"'Data Feed'!U70","v":0},{"$f":"'Data Feed'!V70","v":0},{"$f":"'Data Feed'!W70","v":0},{"$f":"'Data Feed'!X70","v":0},{"$f":"'Data Feed'!Y70","v":0},{"$f":"'Data Feed'!Z70","v":0},{"$f":"'Data Feed'!AA70","v":0},{"$f":"'Data Feed'!AB70","v":0},{"$f":"'Data Feed'!AC70","v":0},{"$f":"'Data Feed'!AD70","v":0},{"$f":"'Data Feed'!AE70","v":0},{"$f":"'Data Feed'!AF70","v":0},{"$f":"'Data Feed'!AG70","v":0},{"$f":"'Data Feed'!AH70","v":0},{"$f":"'Data Feed'!AI70","v":0}]
[{"$f":"B69&\"_\"&COUNTIF($B$1:B69,B69)","v":"0_66"},{"$f":"'Data Feed'!AJ71","v":0},{"$f":"'Data Feed'!B71","v":0},{"$f":"'Data Feed'!C71","v":0},{"$f":"'Data Feed'!D71","v":0},{"$f":"'Data Feed'!E71","v":0},{"$f":"'Data Feed'!F71","v":0},{"$f":"'Data Feed'!G71","v":0},{"$f":"'Data Feed'!H71","v":0},{"$f":"'Data Feed'!I71","v":0},{"$f":"'Data Feed'!J71","v":0},{"$f":"'Data Feed'!K71","v":0},{"$f":"'Data Feed'!L71","v":0},{"$f":"'Data Feed'!M71","v":0},{"$f":"'Data Feed'!N71","v":0},{"$f":"'Data Feed'!O71","v":0},{"$f":"'Data Feed'!P71","v":0},{"$f":"'Data Feed'!Q71","v":0},{"$f":"'Data Feed'!R71","v":0},{"$f":"'Data Feed'!S71","v":0},{"$f":"'Data Feed'!T71","v":0},{"$f":"'Data Feed'!U71","v":0},{"$f":"'Data Feed'!V71","v":0},{"$f":"'Data Feed'!W71","v":0},{"$f":"'Data Feed'!X71","v":0},{"$f":"'Data Feed'!Y71","v":0},{"$f":"'Data Feed'!Z71","v":0},{"$f":"'Data Feed'!AA71","v":0},{"$f":"'Data Feed'!AB71","v":0},{"$f":"'Data Feed'!AC71","v":0},{"$f":"'Data Feed'!AD71","v":0},{"$f":"'Data Feed'!AE71","v":0},{"$f":"'Data Feed'!AF71","v":0},{"$f":"'Data Feed'!AG71","v":0},{"$f":"'Data Feed'!AH71","v":0},{"$f":"'Data Feed'!AI71","v":0}]
[{"$f":"B70&\"_\"&COUNTIF($B$1:B70,B70)","v":"0_67"},{"$f":"'Data Feed'!AJ72","v":0},{"$f":"'Data Feed'!B72","v":0},{"$f":"'Data Feed'!C72","v":0},{"$f":"'Data Feed'!D72","v":0},{"$f":"'Data Feed'!E72","v":0},{"$f":"'Data Feed'!F72","v":0},{"$f":"'Data Feed'!G72","v":0},{"$f":"'Data Feed'!H72","v":0},{"$f":"'Data Feed'!I72","v":0},{"$f":"'Data Feed'!J72","v":0},{"$f":"'Data Feed'!K72","v":0},{"$f":"'Data Feed'!L72","v":0},{"$f":"'Data Feed'!M72","v":0},{"$f":"'Data Feed'!N72","v":0},{"$f":"'Data Feed'!O72","v":0},{"$f":"'Data Feed'!P72","v":0},{"$f":"'Data Feed'!Q72","v":0},{"$f":"'Data Feed'!R72","v":0},{"$f":"'Data Feed'!S72","v":0},{"$f":"'Data Feed'!T72","v":0},{"$f":"'Data Feed'!U72","v":0},{"$f":"'Data Feed'!V72","v":0},{"$f":"'Data Feed'!W72","v":0},{"$f":"'Data Feed'!X72","v":0},{"$f":"'Data Feed'!Y72","v":0},{"$f":"'Data Feed'!Z72","v":0},{"$f":"'Data Feed'!AA72","v":0},{"$f":"'Data Feed'!AB72","v":0},{"$f":"'Data Feed'!AC72","v":0},{"$f":"'Data Feed'!AD72","v":0},{"$f":"'Data Feed'!AE72","v":0},{"$f":"'Data Feed'!AF72","v":0},{"$f":"'Data Feed'!AG72","v":0},{"$f":"'Data Feed'!AH72","v":0},{"$f":"'Data Feed'!AI72","v":0}]
[{"$f":"B71&\"_\"&COUNTIF($B$1:B71,B71)","v":"0_68"},{"$f":"'Data Feed'!AJ73","v":0},{"$f":"'Data Feed'!B73","v":0},{"$f":"'Data Feed'!C73","v":0},{"$f":"'Data Feed'!D73","v":0},{"$f":"'Data Feed'!E73","v":0},{"$f":"'Data Feed'!F73","v":0},{"$f":"'Data Feed'!G73","v":0},{"$f":"'Data Feed'!H73","v":0},{"$f":"'Data Feed'!I73","v":0},{"$f":"'Data Feed'!J73","v":0},{"$f":"'Data Feed'!K73","v":0},{"$f":"'Data Feed'!L73","v":0},{"$f":"'Data Feed'!M73","v":0},{"$f":"'Data Feed'!N73","v":0},{"$f":"'Data Feed'!O73","v":0},{"$f":"'Data Feed'!P73","v":0},{"$f":"'Data Feed'!Q73","v":0},{"$f":"'Data Feed'!R73","v":0},{"$f":"'Data Feed'!S73","v":0},{"$f":"'Data Feed'!T73","v":0},{"$f":"'Data Feed'!U73","v":0},{"$f":"'Data Feed'!V73","v":0},{"$f":"'Data Feed'!W73","v":0},{"$f":"'Data Feed'!X73","v":0},{"$f":"'Data Feed'!Y73","v":0},{"$f":"'Data Feed'!Z73","v":0},{"$f":"'Data Feed'!AA73","v":0},{"$f":"'Data Feed'!AB73","v":0},{"$f":"'Data Feed'!AC73","v":0},{"$f":"'Data Feed'!AD73","v":0},{"$f":"'Data Feed'!AE73","v":0},{"$f":"'Data Feed'!AF73","v":0},{"$f":"'Data Feed'!AG73","v":0},{"$f":"'Data Feed'!AH73","v":0},{"$f":"'Data Feed'!AI73","v":0}]
[{"$f":"B72&\"_\"&COUNTIF($B$1:B72,B72)","v":"0_69"},{"$f":"'Data Feed'!AJ74","v":0},{"$f":"'Data Feed'!B74","v":0},{"$f":"'Data Feed'!C74","v":0},{"$f":"'Data Feed'!D74","v":0},{"$f":"'Data Feed'!E74","v":0},{"$f":"'Data Feed'!F74","v":0},{"$f":"'Data Feed'!G74","v":0},{"$f":"'Data Feed'!H74","v":0},{"$f":"'Data Feed'!I74","v":0},{"$f":"'Data Feed'!J74","v":0},{"$f":"'Data Feed'!K74","v":0},{"$f":"'Data Feed'!L74","v":0},{"$f":"'Data Feed'!M74","v":0},{"$f":"'Data Feed'!N74","v":0},{"$f":"'Data Feed'!O74","v":0},{"$f":"'Data Feed'!P74","v":0},{"$f":"'Data Feed'!Q74","v":0},{"$f":"'Data Feed'!R74","v":0},{"$f":"'Data Feed'!S74","v":0},{"$f":"'Data Feed'!T74","v":0},{"$f":"'Data Feed'!U74","v":0},{"$f":"'Data Feed'!V74","v":0},{"$f":"'Data Feed'!W74","v":0},{"$f":"'Data Feed'!X74","v":0},{"$f":"'Data Feed'!Y74","v":0},{"$f":"'Data Feed'!Z74","v":0},{"$f":"'Data Feed'!AA74","v":0},{"$f":"'Data Feed'!AB74","v":0},{"$f":"'Data Feed'!AC74","v":0},{"$f":"'Data Feed'!AD74","v":0},{"$f":"'Data Feed'!AE74","v":0},{"$f":"'Data Feed'!AF74","v":0},{"$f":"'Data Feed'!AG74","v":0},{"$f":"'Data Feed'!AH74","v":0},{"$f":"'Data Feed'!AI74","v":0}]
[{"$f":"B73&\"_\"&COUNTIF($B$1:B73,B73)","v":"0_70"},{"$f":"'Data Feed'!AJ75","v":0},{"$f":"'Data Feed'!B75","v":0},{"$f":"'Data Feed'!C75","v":0},{"$f":"'Data Feed'!D75","v":0},{"$f":"'Data Feed'!E75","v":0},{"$f":"'Data Feed'!F75","v":0},{"$f":"'Data Feed'!G75","v":0},{"$f":"'Data Feed'!H75","v":0},{"$f":"'Data Feed'!I75","v":0},{"$f":"'Data Feed'!J75","v":0},{"$f":"'Data Feed'!K75","v":0},{"$f":"'Data Feed'!L75","v":0},{"$f":"'Data Feed'!M75","v":0},{"$f":"'Data Feed'!N75","v":0},{"$f":"'Data Feed'!O75","v":0},{"$f":"'Data Feed'!P75","v":0},{"$f":"'Data Feed'!Q75","v":0},{"$f":"'Data Feed'!R75","v":0},{"$f":"'Data Feed'!S75","v":0},{"$f":"'Data Feed'!T75","v":0},{"$f":"'Data Feed'!U75","v":0},{"$f":"'Data Feed'!V75","v":0},{"$f":"'Data Feed'!W75","v":0},{"$f":"'Data Feed'!X75","v":0},{"$f":"'Data Feed'!Y75","v":0},{"$f":"'Data Feed'!Z75","v":0},{"$f":"'Data Feed'!AA75","v":0},{"$f":"'Data Feed'!AB75","v":0},{"$f":"'Data Feed'!AC75","v":0},{"$f":"'Data Feed'!AD75","v":0},{"$f":"'Data Feed'!AE75","v":0},{"$f":"'Data Feed'!AF75","v":0},{"$f":"'Data Feed'!AG75","v":0},{"$f":"'Data Feed'!AH75","v":0},{"$f":"'Data Feed'!AI75","v":0}]
[{"$f":"B74&\"_\"&COUNTIF($B$1:B74,B74)","v":"0_71"},{"$f":"'Data Feed'!AJ76","v":0},{"$f":"'Data Feed'!B76","v":0},{"$f":"'Data Feed'!C76","v":0},{"$f":"'Data Feed'!D76","v":0},{"$f":"'Data Feed'!E76","v":0},{"$f":"'Data Feed'!F76","v":0},{"$f":"'Data Feed'!G76","v":0},{"$f":"'Data Feed'!H76","v":0},{"$f":"'Data Feed'!I76","v":0},{"$f":"'Data Feed'!J76","v":0},{"$f":"'Data Feed'!K76","v":0},{"$f":"'Data Feed'!L76","v":0},{"$f":"'Data Feed'!M76","v":0},{"$f":"'Data Feed'!N76","v":0},{"$f":"'Data Feed'!O76","v":0},{"$f":"'Data Feed'!P76","v":0},{"$f":"'Data Feed'!Q76","v":0},{"$f":"'Data Feed'!R76","v":0},{"$f":"'Data Feed'!S76","v":0},{"$f":"'Data Feed'!T76","v":0},{"$f":"'Data Feed'!U76","v":0},{"$f":"'Data Feed'!V76","v":0},{"$f":"'Data Feed'!W76","v":0},{"$f":"'Data Feed'!X76","v":0},{"$f":"'Data Feed'!Y76","v":0},{"$f":"'Data Feed'!Z76","v":0},{"$f":"'Data Feed'!AA76","v":0},{"$f":"'Data Feed'!AB76","v":0},{"$f":"'Data Feed'!AC76","v":0},{"$f":"'Data Feed'!AD76","v":0},{"$f":"'Data Feed'!AE76","v":0},{"$f":"'Data Feed'!AF76","v":0},{"$f":"'Data Feed'!AG76","v":0},{"$f":"'Data Feed'!AH76","v":0},{"$f":"'Data Feed'!AI76","v":0}]
[{"$f":"B75&\"_\"&COUNTIF($B$1:B75,B75)","v":"0_72"},{"$f":"'Data Feed'!AJ77","v":0},{"$f":"'Data Feed'!B77","v":0},{"$f":"'Data Feed'!C77","v":0},{"$f":"'Data Feed'!D77","v":0},{"$f":"'Data Feed'!E77","v":0},{"$f":"'Data Feed'!F77","v":0},{"$f":"'Data Feed'!G77","v":0},{"$f":"'Data Feed'!H77","v":0},{"$f":"'Data Feed'!I77","v":0},{"$f":"'Data Feed'!J77","v":0},{"$f":"'Data Feed'!K77","v":0},{"$f":"'Data Feed'!L77","v":0},{"$f":"'Data Feed'!M77","v":0},{"$f":"'Data Feed'!N77","v":0},{"$f":"'Data Feed'!O77","v":0},{"$f":"'Data Feed'!P77","v":0},{"$f":"'Data Feed'!Q77","v":0},{"$f":"'Data Feed'!R77","v":0},{"$f":"'Data Feed'!S77","v":0},{"$f":"'Data Feed'!T77","v":0},{"$f":"'Data Feed'!U77","v":0},{"$f":"'Data Feed'!V77","v":0},{"$f":"'Data Feed'!W77","v":0},{"$f":"'Data Feed'!X77","v":0},{"$f":"'Data Feed'!Y77","v":0},{"$f":"'Data Feed'!Z77","v":0},{"$f":"'Data Feed'!AA77","v":0},{"$f":"'Data Feed'!AB77","v":0},{"$f":"'Data Feed'!AC77","v":0},{"$f":"'Data Feed'!AD77","v":0},{"$f":"'Data Feed'!AE77","v":0},{"$f":"'Data Feed'!AF77","v":0},{"$f":"'Data Feed'!AG77","v":0},{"$f":"'Data Feed'!AH77","v":0},{"$f":"'Data Feed'!AI77","v":0}]
[{"$f":"B76&\"_\"&COUNTIF($B$1:B76,B76)","v":"0_73"},{"$f":"'Data Feed'!AJ78","v":0},{"$f":"'Data Feed'!B78","v":0},{"$f":"'Data Feed'!C78","v":0},{"$f":"'Data Feed'!D78","v":0},{"$f":"'Data Feed'!E78","v":0},{"$f":"'Data Feed'!F78","v":0},{"$f":"'Data Feed'!G78","v":0},{"$f":"'Data Feed'!H78","v":0},{"$f":"'Data Feed'!I78","v":0},{"$f":"'Data Feed'!J78","v":0},{"$f":"'Data Feed'!K78","v":0},{"$f":"'Data Feed'!L78","v":0},{"$f":"'Data Feed'!M78","v":0},{"$f":"'Data Feed'!N78","v":0},{"$f":"'Data Feed'!O78","v":0},{"$f":"'Data Feed'!P78","v":0},{"$f":"'Data Feed'!Q78","v":0},{"$f":"'Data Feed'!R78","v":0},{"$f":"'Data Feed'!S78","v":0},{"$f":"'Data Feed'!T78","v":0},{"$f":"'Data Feed'!U78","v":0},{"$f":"'Data Feed'!V78","v":0},{"$f":"'Data Feed'!W78","v":0},{"$f":"'Data Feed'!X78","v":0},{"$f":"'Data Feed'!Y78","v":0},{"$f":"'Data Feed'!Z78","v":0},{"$f":"'Data Feed'!AA78","v":0},{"$f":"'Data Feed'!AB78","v":0},{"$f":"'Data Feed'!AC78","v":0},{"$f":"'Data Feed'!AD78","v":0},{"$f":"'Data Feed'!AE78","v":0},{"$f":"'Data Feed'!AF78","v":0},{"$f":"'Data Feed'!AG78","v":0},{"$f":"'Data Feed'!AH78","v":0},{"$f":"'Data Feed'!AI78","v":0}]
[{"$f":"B77&\"_\"&COUNTIF($B$1:B77,B77)","v":"0_74"},{"$f":"'Data Feed'!AJ79","v":0},{"$f":"'Data Feed'!B79","v":0},{"$f":"'Data Feed'!C79","v":0},{"$f":"'Data Feed'!D79","v":0},{"$f":"'Data Feed'!E79","v":0},{"$f":"'Data Feed'!F79","v":0},{"$f":"'Data Feed'!G79","v":0},{"$f":"'Data Feed'!H79","v":0},{"$f":"'Data Feed'!I79","v":0},{"$f":"'Data Feed'!J79","v":0},{"$f":"'Data Feed'!K79","v":0},{"$f":"'Data Feed'!L79","v":0},{"$f":"'Data Feed'!M79","v":0},{"$f":"'Data Feed'!N79","v":0},{"$f":"'Data Feed'!O79","v":0},{"$f":"'Data Feed'!P79","v":0},{"$f":"'Data Feed'!Q79","v":0},{"$f":"'Data Feed'!R79","v":0},{"$f":"'Data Feed'!S79","v":0},{"$f":"'Data Feed'!T79","v":0},{"$f":"'Data Feed'!U79","v":0},{"$f":"'Data Feed'!V79","v":0},{"$f":"'Data Feed'!W79","v":0},{"$f":"'Data Feed'!X79","v":0},{"$f":"'Data Feed'!Y79","v":0},{"$f":"'Data Feed'!Z79","v":0},{"$f":"'Data Feed'!AA79","v":0},{"$f":"'Data Feed'!AB79","v":0},{"$f":"'Data Feed'!AC79","v":0},{"$f":"'Data Feed'!AD79","v":0},{"$f":"'Data Feed'!AE79","v":0},{"$f":"'Data Feed'!AF79","v":0},{"$f":"'Data Feed'!AG79","v":0},{"$f":"'Data Feed'!AH79","v":0},{"$f":"'Data Feed'!AI79","v":0}]
[{"$f":"B78&\"_\"&COUNTIF($B$1:B78,B78)","v":"0_75"},{"$f":"'Data Feed'!AJ80","v":0},{"$f":"'Data Feed'!B80","v":0},{"$f":"'Data Feed'!C80","v":0},{"$f":"'Data Feed'!D80","v":0},{"$f":"'Data Feed'!E80","v":0},{"$f":"'Data Feed'!F80","v":0},{"$f":"'Data Feed'!G80","v":0},{"$f":"'Data Feed'!H80","v":0},{"$f":"'Data Feed'!I80","v":0},{"$f":"'Data Feed'!J80","v":0},{"$f":"'Data Feed'!K80","v":0},{"$f":"'Data Feed'!L80","v":0},{"$f":"'Data Feed'!M80","v":0},{"$f":"'Data Feed'!N80","v":0},{"$f":"'Data Feed'!O80","v":0},{"$f":"'Data Feed'!P80","v":0},{"$f":"'Data Feed'!Q80","v":0},{"$f":"'Data Feed'!R80","v":0},{"$f":"'Data Feed'!S80","v":0},{"$f":"'Data Feed'!T80","v":0},{"$f":"'Data Feed'!U80","v":0},{"$f":"'Data Feed'!V80","v":0},{"$f":"'Data Feed'!W80","v":0},{"$f":"'Data Feed'!X80","v":0},{"$f":"'Data Feed'!Y80","v":0},{"$f":"'Data Feed'!Z80","v":0},{"$f":"'Data Feed'!AA80","v":0},{"$f":"'Data Feed'!AB80","v":0},{"$f":"'Data Feed'!AC80","v":0},{"$f":"'Data Feed'!AD80","v":0},{"$f":"'Data Feed'!AE80","v":0},{"$f":"'Data Feed'!AF80","v":0},{"$f":"'Data Feed'!AG80","v":0},{"$f":"'Data Feed'!AH80","v":0},{"$f":"'Data Feed'!AI80","v":0}]
[{"$f":"B79&\"_\"&COUNTIF($B$1:B79,B79)","v":"0_76"},{"$f":"'Data Feed'!AJ81","v":0},{"$f":"'Data Feed'!B81","v":0},{"$f":"'Data Feed'!C81","v":0},{"$f":"'Data Feed'!D81","v":0},{"$f":"'Data Feed'!E81","v":0},{"$f":"'Data Feed'!F81","v":0},{"$f":"'Data Feed'!G81","v":0},{"$f":"'Data Feed'!H81","v":0},{"$f":"'Data Feed'!I81","v":0},{"$f":"'Data Feed'!J81","v":0},{"$f":"'Data Feed'!K81","v":0},{"$f":"'Data Feed'!L81","v":0},{"$f":"'Data Feed'!M81","v":0},{"$f":"'Data Feed'!N81","v":0},{"$f":"'Data Feed'!O81","v":0},{"$f":"'Data Feed'!P81","v":0},{"$f":"'Data Feed'!Q81","v":0},{"$f":"'Data Feed'!R81","v":0},{"$f":"'Data Feed'!S81","v":0},{"$f":"'Data Feed'!T81","v":0},{"$f":"'Data Feed'!U81","v":0},{"$f":"'Data Feed'!V81","v":0},{"$f":"'Data Feed'!W81","v":0},{"$f":"'Data Feed'!X81","v":0},{"$f":"'Data Feed'!Y81","v":0},{"$f":"'Data Feed'!Z81","v":0},{"$f":"'Data Feed'!AA81","v":0},{"$f":"'Data Feed'!AB81","v":0},{"$f":"'Data Feed'!AC81","v":0},{"$f":"'Data Feed'!AD81","v":0},{"$f":"'Data Feed'!AE81","v":0},{"$f":"'Data Feed'!AF81","v":0},{"$f":"'Data Feed'!AG81","v":0},{"$f":"'Data Feed'!AH81","v":0},{"$f":"'Data Feed'!AI81","v":0}]
[{"$f":"B80&\"_\"&COUNTIF($B$1:B80,B80)","v":"0_77"},{"$f":"'Data Feed'!AJ82","v":0},{"$f":"'Data Feed'!B82","v":0},{"$f":"'Data Feed'!C82","v":0},{"$f":"'Data Feed'!D82","v":0},{"$f":"'Data Feed'!E82","v":0},{"$f":"'Data Feed'!F82","v":0},{"$f":"'Data Feed'!G82","v":0},{"$f":"'Data Feed'!H82","v":0},{"$f":"'Data Feed'!I82","v":0},{"$f":"'Data Feed'!J82","v":0},{"$f":"'Data Feed'!K82","v":0},{"$f":"'Data Feed'!L82","v":0},{"$f":"'Data Feed'!M82","v":0},{"$f":"'Data Feed'!N82","v":0},{"$f":"'Data Feed'!O82","v":0},{"$f":"'Data Feed'!P82","v":0},{"$f":"'Data Feed'!Q82","v":0},{"$f":"'Data Feed'!R82","v":0},{"$f":"'Data Feed'!S82","v":0},{"$f":"'Data Feed'!T82","v":0},{"$f":"'Data Feed'!U82","v":0},{"$f":"'Data Feed'!V82","v":0},{"$f":"'Data Feed'!W82","v":0},{"$f":"'Data Feed'!X82","v":0},{"$f":"'Data Feed'!Y82","v":0},{"$f":"'Data Feed'!Z82","v":0},{"$f":"'Data Feed'!AA82","v":0},{"$f":"'Data Feed'!AB82","v":0},{"$f":"'Data Feed'!AC82","v":0},{"$f":"'Data Feed'!AD82","v":0},{"$f":"'Data Feed'!AE82","v":0},{"$f":"'Data Feed'!AF82","v":0},{"$f":"'Data Feed'!AG82","v":0},{"$f":"'Data Feed'!AH82","v":0},{"$f":"'Data Feed'!AI82","v":0}]
[{"$f":"B81&\"_\"&COUNTIF($B$1:B81,B81)","v":"0_78"},{"$f":"'Data Feed'!AJ83","v":0},{"$f":"'Data Feed'!B83","v":0},{"$f":"'Data Feed'!C83","v":0},{"$f":"'Data Feed'!D83","v":0},{"$f":"'Data Feed'!E83","v":0},{"$f":"'Data Feed'!F83","v":0},{"$f":"'Data Feed'!G83","v":0},{"$f":"'Data Feed'!H83","v":0},{"$f":"'Data Feed'!I83","v":0},{"$f":"'Data Feed'!J83","v":0},{"$f":"'Data Feed'!K83","v":0},{"$f":"'Data Feed'!L83","v":0},{"$f":"'Data Feed'!M83","v":0},{"$f":"'Data Feed'!N83","v":0},{"$f":"'Data Feed'!O83","v":0},{"$f":"'Data Feed'!P83","v":0},{"$f":"'Data Feed'!Q83","v":0},{"$f":"'Data Feed'!R83","v":0},{"$f":"'Data Feed'!S83","v":0},{"$f":"'Data Feed'!T83","v":0},{"$f":"'Data Feed'!U83","v":0},{"$f":"'Data Feed'!V83","v":0},{"$f":"'Data Feed'!W83","v":0},{"$f":"'Data Feed'!X83","v":0},{"$f":"'Data Feed'!Y83","v":0},{"$f":"'Data Feed'!Z83","v":0},{"$f":"'Data Feed'!AA83","v":0},{"$f":"'Data Feed'!AB83","v":0},{"$f":"'Data Feed'!AC83","v":0},{"$f":"'Data Feed'!AD83","v":0},{"$f":"'Data Feed'!AE83","v":0},{"$f":"'Data Feed'!AF83","v":0},{"$f":"'Data Feed'!AG83","v":0},{"$f":"'Data Feed'!AH83","v":0},{"$f":"'Data Feed'!AI83","v":0}]
[{"$f":"B82&\"_\"&COUNTIF($B$1:B82,B82)","v":"0_79"},{"$f":"'Data Feed'!AJ84","v":0},{"$f":"'Data Feed'!B84","v":0},{"$f":"'Data Feed'!C84","v":0},{"$f":"'Data Feed'!D84","v":0},{"$f":"'Data Feed'!E84","v":0},{"$f":"'Data Feed'!F84","v":0},{"$f":"'Data Feed'!G84","v":0},{"$f":"'Data Feed'!H84","v":0},{"$f":"'Data Feed'!I84","v":0},{"$f":"'Data Feed'!J84","v":0},{"$f":"'Data Feed'!K84","v":0},{"$f":"'Data Feed'!L84","v":0},{"$f":"'Data Feed'!M84","v":0},{"$f":"'Data Feed'!N84","v":0},{"$f":"'Data Feed'!O84","v":0},{"$f":"'Data Feed'!P84","v":0},{"$f":"'Data Feed'!Q84","v":0},{"$f":"'Data Feed'!R84","v":0},{"$f":"'Data Feed'!S84","v":0},{"$f":"'Data Feed'!T84","v":0},{"$f":"'Data Feed'!U84","v":0},{"$f":"'Data Feed'!V84","v":0},{"$f":"'Data Feed'!W84","v":0},{"$f":"'Data Feed'!X84","v":0},{"$f":"'Data Feed'!Y84","v":0},{"$f":"'Data Feed'!Z84","v":0},{"$f":"'Data Feed'!AA84","v":0},{"$f":"'Data Feed'!AB84","v":0},{"$f":"'Data Feed'!AC84","v":0},{"$f":"'Data Feed'!AD84","v":0},{"$f":"'Data Feed'!AE84","v":0},{"$f":"'Data Feed'!AF84","v":0},{"$f":"'Data Feed'!AG84","v":0},{"$f":"'Data Feed'!AH84","v":0},{"$f":"'Data Feed'!AI84","v":0}]
[{"$f":"B83&\"_\"&COUNTIF($B$1:B83,B83)","v":"0_80"},{"$f":"'Data Feed'!AJ85","v":0},{"$f":"'Data Feed'!B85","v":0},{"$f":"'Data Feed'!C85","v":0},{"$f":"'Data Feed'!D85","v":0},{"$f":"'Data Feed'!E85","v":0},{"$f":"'Data Feed'!F85","v":0},{"$f":"'Data Feed'!G85","v":0},{"$f":"'Data Feed'!H85","v":0},{"$f":"'Data Feed'!I85","v":0},{"$f":"'Data Feed'!J85","v":0},{"$f":"'Data Feed'!K85","v":0},{"$f":"'Data Feed'!L85","v":0},{"$f":"'Data Feed'!M85","v":0},{"$f":"'Data Feed'!N85","v":0},{"$f":"'Data Feed'!O85","v":0},{"$f":"'Data Feed'!P85","v":0},{"$f":"'Data Feed'!Q85","v":0},{"$f":"'Data Feed'!R85","v":0},{"$f":"'Data Feed'!S85","v":0},{"$f":"'Data Feed'!T85","v":0},{"$f":"'Data Feed'!U85","v":0},{"$f":"'Data Feed'!V85","v":0},{"$f":"'Data Feed'!W85","v":0},{"$f":"'Data Feed'!X85","v":0},{"$f":"'Data Feed'!Y85","v":0},{"$f":"'Data Feed'!Z85","v":0},{"$f":"'Data Feed'!AA85","v":0},{"$f":"'Data Feed'!AB85","v":0},{"$f":"'Data Feed'!AC85","v":0},{"$f":"'Data Feed'!AD85","v":0},{"$f":"'Data Feed'!AE85","v":0},{"$f":"'Data Feed'!AF85","v":0},{"$f":"'Data Feed'!AG85","v":0},{"$f":"'Data Feed'!AH85","v":0},{"$f":"'Data Feed'!AI85","v":0}]
[{"$f":"B84&\"_\"&COUNTIF($B$1:B84,B84)","v":"0_81"},{"$f":"'Data Feed'!AJ86","v":0},{"$f":"'Data Feed'!B86","v":0},{"$f":"'Data Feed'!C86","v":0},{"$f":"'Data Feed'!D86","v":0},{"$f":"'Data Feed'!E86","v":0},{"$f":"'Data Feed'!F86","v":0},{"$f":"'Data Feed'!G86","v":0},{"$f":"'Data Feed'!H86","v":0},{"$f":"'Data Feed'!I86","v":0},{"$f":"'Data Feed'!J86","v":0},{"$f":"'Data Feed'!K86","v":0},{"$f":"'Data Feed'!L86","v":0},{"$f":"'Data Feed'!M86","v":0},{"$f":"'Data Feed'!N86","v":0},{"$f":"'Data Feed'!O86","v":0},{"$f":"'Data Feed'!P86","v":0},{"$f":"'Data Feed'!Q86","v":0},{"$f":"'Data Feed'!R86","v":0},{"$f":"'Data Feed'!S86","v":0},{"$f":"'Data Feed'!T86","v":0},{"$f":"'Data Feed'!U86","v":0},{"$f":"'Data Feed'!V86","v":0},{"$f":"'Data Feed'!W86","v":0},{"$f":"'Data Feed'!X86","v":0},{"$f":"'Data Feed'!Y86","v":0},{"$f":"'Data Feed'!Z86","v":0},{"$f":"'Data Feed'!AA86","v":0},{"$f":"'Data Feed'!AB86","v":0},{"$f":"'Data Feed'!AC86","v":0},{"$f":"'Data Feed'!AD86","v":0},{"$f":"'Data Feed'!AE86","v":0},{"$f":"'Data Feed'!AF86","v":0},{"$f":"'Data Feed'!AG86","v":0},{"$f":"'Data Feed'!AH86","v":0},{"$f":"'Data Feed'!AI86","v":0}]
[{"$f":"B85&\"_\"&COUNTIF($B$1:B85,B85)","v":"0_82"},{"$f":"'Data Feed'!AJ87","v":0},{"$f":"'Data Feed'!B87","v":0},{"$f":"'Data Feed'!C87","v":0},{"$f":"'Data Feed'!D87","v":0},{"$f":"'Data Feed'!E87","v":0},{"$f":"'Data Feed'!F87","v":0},{"$f":"'Data Feed'!G87","v":0},{"$f":"'Data Feed'!H87","v":0},{"$f":"'Data Feed'!I87","v":0},{"$f":"'Data Feed'!J87","v":0},{"$f":"'Data Feed'!K87","v":0},{"$f":"'Data Feed'!L87","v":0},{"$f":"'Data Feed'!M87","v":0},{"$f":"'Data Feed'!N87","v":0},{"$f":"'Data Feed'!O87","v":0},{"$f":"'Data Feed'!P87","v":0},{"$f":"'Data Feed'!Q87","v":0},{"$f":"'Data Feed'!R87","v":0},{"$f":"'Data Feed'!S87","v":0},{"$f":"'Data Feed'!T87","v":0},{"$f":"'Data Feed'!U87","v":0},{"$f":"'Data Feed'!V87","v":0},{"$f":"'Data Feed'!W87","v":0},{"$f":"'Data Feed'!X87","v":0},{"$f":"'Data Feed'!Y87","v":0},{"$f":"'Data Feed'!Z87","v":0},{"$f":"'Data Feed'!AA87","v":0},{"$f":"'Data Feed'!AB87","v":0},{"$f":"'Data Feed'!AC87","v":0},{"$f":"'Data Feed'!AD87","v":0},{"$f":"'Data Feed'!AE87","v":0},{"$f":"'Data Feed'!AF87","v":0},{"$f":"'Data Feed'!AG87","v":0},{"$f":"'Data Feed'!AH87","v":0},{"$f":"'Data Feed'!AI87","v":0}]
[{"$f":"B86&\"_\"&COUNTIF($B$1:B86,B86)","v":"0_83"},{"$f":"'Data Feed'!AJ88","v":0},{"$f":"'Data Feed'!B88","v":0},{"$f":"'Data Feed'!C88","v":0},{"$f":"'Data Feed'!D88","v":0},{"$f":"'Data Feed'!E88","v":0},{"$f":"'Data Feed'!F88","v":0},{"$f":"'Data Feed'!G88","v":0},{"$f":"'Data Feed'!H88","v":0},{"$f":"'Data Feed'!I88","v":0},{"$f":"'Data Feed'!J88","v":0},{"$f":"'Data Feed'!K88","v":0},{"$f":"'Data Feed'!L88","v":0},{"$f":"'Data Feed'!M88","v":0},{"$f":"'Data Feed'!N88","v":0},{"$f":"'Data Feed'!O88","v":0},{"$f":"'Data Feed'!P88","v":0},{"$f":"'Data Feed'!Q88","v":0},{"$f":"'Data Feed'!R88","v":0},{"$f":"'Data Feed'!S88","v":0},{"$f":"'Data Feed'!T88","v":0},{"$f":"'Data Feed'!U88","v":0},{"$f":"'Data Feed'!V88","v":0},{"$f":"'Data Feed'!W88","v":0},{"$f":"'Data Feed'!X88","v":0},{"$f":"'Data Feed'!Y88","v":0},{"$f":"'Data Feed'!Z88","v":0},{"$f":"'Data Feed'!AA88","v":0},{"$f":"'Data Feed'!AB88","v":0},{"$f":"'Data Feed'!AC88","v":0},{"$f":"'Data Feed'!AD88","v":0},{"$f":"'Data Feed'!AE88","v":0},{"$f":"'Data Feed'!AF88","v":0},{"$f":"'Data Feed'!AG88","v":0},{"$f":"'Data Feed'!AH88","v":0},{"$f":"'Data Feed'!AI88","v":0}]
[{"$f":"B87&\"_\"&COUNTIF($B$1:B87,B87)","v":"0_84"},{"$f":"'Data Feed'!AJ89","v":0},{"$f":"'Data Feed'!B89","v":0},{"$f":"'Data Feed'!C89","v":0},{"$f":"'Data Feed'!D89","v":0},{"$f":"'Data Feed'!E89","v":0},{"$f":"'Data Feed'!F89","v":0},{"$f":"'Data Feed'!G89","v":0},{"$f":"'Data Feed'!H89","v":0},{"$f":"'Data Feed'!I89","v":0},{"$f":"'Data Feed'!J89","v":0},{"$f":"'Data Feed'!K89","v":0},{"$f":"'Data Feed'!L89","v":0},{"$f":"'Data Feed'!M89","v":0},{"$f":"'Data Feed'!N89","v":0},{"$f":"'Data Feed'!O89","v":0},{"$f":"'Data Feed'!P89","v":0},{"$f":"'Data Feed'!Q89","v":0},{"$f":"'Data Feed'!R89","v":0},{"$f":"'Data Feed'!S89","v":0},{"$f":"'Data Feed'!T89","v":0},{"$f":"'Data Feed'!U89","v":0},{"$f":"'Data Feed'!V89","v":0},{"$f":"'Data Feed'!W89","v":0},{"$f":"'Data Feed'!X89","v":0},{"$f":"'Data Feed'!Y89","v":0},{"$f":"'Data Feed'!Z89","v":0},{"$f":"'Data Feed'!AA89","v":0},{"$f":"'Data Feed'!AB89","v":0},{"$f":"'Data Feed'!AC89","v":0},{"$f":"'Data Feed'!AD89","v":0},{"$f":"'Data Feed'!AE89","v":0},{"$f":"'Data Feed'!AF89","v":0},{"$f":"'Data Feed'!AG89","v":0},{"$f":"'Data Feed'!AH89","v":0},{"$f":"'Data Feed'!AI89","v":0}]
[{"$f":"B88&\"_\"&COUNTIF($B$1:B88,B88)","v":"0_85"},{"$f":"'Data Feed'!AJ90","v":0},{"$f":"'Data Feed'!B90","v":0},{"$f":"'Data Feed'!C90","v":0},{"$f":"'Data Feed'!D90","v":0},{"$f":"'Data Feed'!E90","v":0},{"$f":"'Data Feed'!F90","v":0},{"$f":"'Data Feed'!G90","v":0},{"$f":"'Data Feed'!H90","v":0},{"$f":"'Data Feed'!I90","v":0},{"$f":"'Data Feed'!J90","v":0},{"$f":"'Data Feed'!K90","v":0},{"$f":"'Data Feed'!L90","v":0},{"$f":"'Data Feed'!M90","v":0},{"$f":"'Data Feed'!N90","v":0},{"$f":"'Data Feed'!O90","v":0},{"$f":"'Data Feed'!P90","v":0},{"$f":"'Data Feed'!Q90","v":0},{"$f":"'Data Feed'!R90","v":0},{"$f":"'Data Feed'!S90","v":0},{"$f":"'Data Feed'!T90","v":0},{"$f":"'Data Feed'!U90","v":0},{"$f":"'Data Feed'!V90","v":0},{"$f":"'Data Feed'!W90","v":0},{"$f":"'Data Feed'!X90","v":0},{"$f":"'Data Feed'!Y90","v":0},{"$f":"'Data Feed'!Z90","v":0},{"$f":"'Data Feed'!AA90","v":0},{"$f":"'Data Feed'!AB90","v":0},{"$f":"'Data Feed'!AC90","v":0},{"$f":"'Data Feed'!AD90","v":0},{"$f":"'Data Feed'!AE90","v":0},{"$f":"'Data Feed'!AF90","v":0},{"$f":"'Data Feed'!AG90","v":0},{"$f":"'Data Feed'!AH90","v":0},{"$f":"'Data Feed'!AI90","v":0}]
[{"$f":"B89&\"_\"&COUNTIF($B$1:B89,B89)","v":"0_86"},{"$f":"'Data Feed'!AJ91","v":0},{"$f":"'Data Feed'!B91","v":0},{"$f":"'Data Feed'!C91","v":0},{"$f":"'Data Feed'!D91","v":0},{"$f":"'Data Feed'!E91","v":0},{"$f":"'Data Feed'!F91","v":0},{"$f":"'Data Feed'!G91","v":0},{"$f":"'Data Feed'!H91","v":0},{"$f":"'Data Feed'!I91","v":0},{"$f":"'Data Feed'!J91","v":0},{"$f":"'Data Feed'!K91","v":0},{"$f":"'Data Feed'!L91","v":0},{"$f":"'Data Feed'!M91","v":0},{"$f":"'Data Feed'!N91","v":0},{"$f":"'Data Feed'!O91","v":0},{"$f":"'Data Feed'!P91","v":0},{"$f":"'Data Feed'!Q91","v":0},{"$f":"'Data Feed'!R91","v":0},{"$f":"'Data Feed'!S91","v":0},{"$f":"'Data Feed'!T91","v":0},{"$f":"'Data Feed'!U91","v":0},{"$f":"'Data Feed'!V91","v":0},{"$f":"'Data Feed'!W91","v":0},{"$f":"'Data Feed'!X91","v":0},{"$f":"'Data Feed'!Y91","v":0},{"$f":"'Data Feed'!Z91","v":0},{"$f":"'Data Feed'!AA91","v":0},{"$f":"'Data Feed'!AB91","v":0},{"$f":"'Data Feed'!AC91","v":0},{"$f":"'Data Feed'!AD91","v":0},{"$f":"'Data Feed'!AE91","v":0},{"$f":"'Data Feed'!AF91","v":0},{"$f":"'Data Feed'!AG91","v":0},{"$f":"'Data Feed'!AH91","v":0},{"$f":"'Data Feed'!AI91","v":0}]
[{"$f":"B90&\"_\"&COUNTIF($B$1:B90,B90)","v":"0_87"},{"$f":"'Data Feed'!AJ92","v":0},{"$f":"'Data Feed'!B92","v":0},{"$f":"'Data Feed'!C92","v":0},{"$f":"'Data Feed'!D92","v":0},{"$f":"'Data Feed'!E92","v":0},{"$f":"'Data Feed'!F92","v":0},{"$f":"'Data Feed'!G92","v":0},{"$f":"'Data Feed'!H92","v":0},{"$f":"'Data Feed'!I92","v":0},{"$f":"'Data Feed'!J92","v":0},{"$f":"'Data Feed'!K92","v":0},{"$f":"'Data Feed'!L92","v":0},{"$f":"'Data Feed'!M92","v":0},{"$f":"'Data Feed'!N92","v":0},{"$f":"'Data Feed'!O92","v":0},{"$f":"'Data Feed'!P92","v":0},{"$f":"'Data Feed'!Q92","v":0},{"$f":"'Data Feed'!R92","v":0},{"$f":"'Data Feed'!S92","v":0},{"$f":"'Data Feed'!T92","v":0},{"$f":"'Data Feed'!U92","v":0},{"$f":"'Data Feed'!V92","v":0},{"$f":"'Data Feed'!W92","v":0},{"$f":"'Data Feed'!X92","v":0},{"$f":"'Data Feed'!Y92","v":0},{"$f":"'Data Feed'!Z92","v":0},{"$f":"'Data Feed'!AA92","v":0},{"$f":"'Data Feed'!AB92","v":0},{"$f":"'Data Feed'!AC92","v":0},{"$f":"'Data Feed'!AD92","v":0},{"$f":"'Data Feed'!AE92","v":0},{"$f":"'Data Feed'!AF92","v":0},{"$f":"'Data Feed'!AG92","v":0},{"$f":"'Data Feed'!AH92","v":0},{"$f":"'Data Feed'!AI92","v":0}]
[{"$f":"B91&\"_\"&COUNTIF($B$1:B91,B91)","v":"0_88"},{"$f":"'Data Feed'!AJ93","v":0},{"$f":"'Data Feed'!B93","v":0},{"$f":"'Data Feed'!C93","v":0},{"$f":"'Data Feed'!D93","v":0},{"$f":"'Data Feed'!E93","v":0},{"$f":"'Data Feed'!F93","v":0},{"$f":"'Data Feed'!G93","v":0},{"$f":"'Data Feed'!H93","v":0},{"$f":"'Data Feed'!I93","v":0},{"$f":"'Data Feed'!J93","v":0},{"$f":"'Data Feed'!K93","v":0},{"$f":"'Data Feed'!L93","v":0},{"$f":"'Data Feed'!M93","v":0},{"$f":"'Data Feed'!N93","v":0},{"$f":"'Data Feed'!O93","v":0},{"$f":"'Data Feed'!P93","v":0},{"$f":"'Data Feed'!Q93","v":0},{"$f":"'Data Feed'!R93","v":0},{"$f":"'Data Feed'!S93","v":0},{"$f":"'Data Feed'!T93","v":0},{"$f":"'Data Feed'!U93","v":0},{"$f":"'Data Feed'!V93","v":0},{"$f":"'Data Feed'!W93","v":0},{"$f":"'Data Feed'!X93","v":0},{"$f":"'Data Feed'!Y93","v":0},{"$f":"'Data Feed'!Z93","v":0},{"$f":"'Data Feed'!AA93","v":0},{"$f":"'Data Feed'!AB93","v":0},{"$f":"'Data Feed'!AC93","v":0},{"$f":"'Data Feed'!AD93","v":0},{"$f":"'Data Feed'!AE93","v":0},{"$f":"'Data Feed'!AF93","v":0},{"$f":"'Data Feed'!AG93","v":0},{"$f":"'Data Feed'!AH93","v":0},{"$f":"'Data Feed'!AI93","v":0}]
[{"$f":"B92&\"_\"&COUNTIF($B$1:B92,B92)","v":"0_89"},{"$f":"'Data Feed'!AJ94","v":0},{"$f":"'Data Feed'!B94","v":0},{"$f":"'Data Feed'!C94","v":0},{"$f":"'Data Feed'!D94","v":0},{"$f":"'Data Feed'!E94","v":0},{"$f":"'Data Feed'!F94","v":0},{"$f":"'Data Feed'!G94","v":0},{"$f":"'Data Feed'!H94","v":0},{"$f":"'Data Feed'!I94","v":0},{"$f":"'Data Feed'!J94","v":0},{"$f":"'Data Feed'!K94","v":0},{"$f":"'Data Feed'!L94","v":0},{"$f":"'Data Feed'!M94","v":0},{"$f":"'Data Feed'!N94","v":0},{"$f":"'Data Feed'!O94","v":0},{"$f":"'Data Feed'!P94","v":0},{"$f":"'Data Feed'!Q94","v":0},{"$f":"'Data Feed'!R94","v":0},{"$f":"'Data Feed'!S94","v":0},{"$f":"'Data Feed'!T94","v":0},{"$f":"'Data Feed'!U94","v":0},{"$f":"'Data Feed'!V94","v":0},{"$f":"'Data Feed'!W94","v":0},{"$f":"'Data Feed'!X94","v":0},{"$f":"'Data Feed'!Y94","v":0},{"$f":"'Data Feed'!Z94","v":0},{"$f":"'Data Feed'!AA94","v":0},{"$f":"'Data Feed'!AB94","v":0},{"$f":"'Data Feed'!AC94","v":0},{"$f":"'Data Feed'!AD94","v":0},{"$f":"'Data Feed'!AE94","v":0},{"$f":"'Data Feed'!AF94","v":0},{"$f":"'Data Feed'!AG94","v":0},{"$f":"'Data Feed'!AH94","v":0},{"$f":"'Data Feed'!AI94","v":0}]
[{"$f":"B93&\"_\"&COUNTIF($B$1:B93,B93)","v":"0_90"},{"$f":"'Data Feed'!AJ95","v":0},{"$f":"'Data Feed'!B95","v":0},{"$f":"'Data Feed'!C95","v":0},{"$f":"'Data Feed'!D95","v":0},{"$f":"'Data Feed'!E95","v":0},{"$f":"'Data Feed'!F95","v":0},{"$f":"'Data Feed'!G95","v":0},{"$f":"'Data Feed'!H95","v":0},{"$f":"'Data Feed'!I95","v":0},{"$f":"'Data Feed'!J95","v":0},{"$f":"'Data Feed'!K95","v":0},{"$f":"'Data Feed'!L95","v":0},{"$f":"'Data Feed'!M95","v":0},{"$f":"'Data Feed'!N95","v":0},{"$f":"'Data Feed'!O95","v":0},{"$f":"'Data Feed'!P95","v":0},{"$f":"'Data Feed'!Q95","v":0},{"$f":"'Data Feed'!R95","v":0},{"$f":"'Data Feed'!S95","v":0},{"$f":"'Data Feed'!T95","v":0},{"$f":"'Data Feed'!U95","v":0},{"$f":"'Data Feed'!V95","v":0},{"$f":"'Data Feed'!W95","v":0},{"$f":"'Data Feed'!X95","v":0},{"$f":"'Data Feed'!Y95","v":0},{"$f":"'Data Feed'!Z95","v":0},{"$f":"'Data Feed'!AA95","v":0},{"$f":"'Data Feed'!AB95","v":0},{"$f":"'Data Feed'!AC95","v":0},{"$f":"'Data Feed'!AD95","v":0},{"$f":"'Data Feed'!AE95","v":0},{"$f":"'Data Feed'!AF95","v":0},{"$f":"'Data Feed'!AG95","v":0},{"$f":"'Data Feed'!AH95","v":0},{"$f":"'Data Feed'!AI95","v":0}]
[{"$f":"B94&\"_\"&COUNTIF($B$1:B94,B94)","v":"0_91"},{"$f":"'Data Feed'!AJ96","v":0},{"$f":"'Data Feed'!B96","v":0},{"$f":"'Data Feed'!C96","v":0},{"$f":"'Data Feed'!D96","v":0},{"$f":"'Data Feed'!E96","v":0},{"$f":"'Data Feed'!F96","v":0},{"$f":"'Data Feed'!G96","v":0},{"$f":"'Data Feed'!H96","v":0},{"$f":"'Data Feed'!I96","v":0},{"$f":"'Data Feed'!J96","v":0},{"$f":"'Data Feed'!K96","v":0},{"$f":"'Data Feed'!L96","v":0},{"$f":"'Data Feed'!M96","v":0},{"$f":"'Data Feed'!N96","v":0},{"$f":"'Data Feed'!O96","v":0},{"$f":"'Data Feed'!P96","v":0},{"$f":"'Data Feed'!Q96","v":0},{"$f":"'Data Feed'!R96","v":0},{"$f":"'Data Feed'!S96","v":0},{"$f":"'Data Feed'!T96","v":0},{"$f":"'Data Feed'!U96","v":0},{"$f":"'Data Feed'!V96","v":0},{"$f":"'Data Feed'!W96","v":0},{"$f":"'Data Feed'!X96","v":0},{"$f":"'Data Feed'!Y96","v":0},{"$f":"'Data Feed'!Z96","v":0},{"$f":"'Data Feed'!AA96","v":0},{"$f":"'Data Feed'!AB96","v":0},{"$f":"'Data Feed'!AC96","v":0},{"$f":"'Data Feed'!AD96","v":0},{"$f":"'Data Feed'!AE96","v":0},{"$f":"'Data Feed'!AF96","v":0},{"$f":"'Data Feed'!AG96","v":0},{"$f":"'Data Feed'!AH96","v":0},{"$f":"'Data Feed'!AI96","v":0}]
[{"$f":"B95&\"_\"&COUNTIF($B$1:B95,B95)","v":"0_92"},{"$f":"'Data Feed'!AJ97","v":0},{"$f":"'Data Feed'!B97","v":0},{"$f":"'Data Feed'!C97","v":0},{"$f":"'Data Feed'!D97","v":0},{"$f":"'Data Feed'!E97","v":0},{"$f":"'Data Feed'!F97","v":0},{"$f":"'Data Feed'!G97","v":0},{"$f":"'Data Feed'!H97","v":0},{"$f":"'Data Feed'!I97","v":0},{"$f":"'Data Feed'!J97","v":0},{"$f":"'Data Feed'!K97","v":0},{"$f":"'Data Feed'!L97","v":0},{"$f":"'Data Feed'!M97","v":0},{"$f":"'Data Feed'!N97","v":0},{"$f":"'Data Feed'!O97","v":0},{"$f":"'Data Feed'!P97","v":0},{"$f":"'Data Feed'!Q97","v":0},{"$f":"'Data Feed'!R97","v":0},{"$f":"'Data Feed'!S97","v":0},{"$f":"'Data Feed'!T97","v":0},{"$f":"'Data Feed'!U97","v":0},{"$f":"'Data Feed'!V97","v":0},{"$f":"'Data Feed'!W97","v":0},{"$f":"'Data Feed'!X97","v":0},{"$f":"'Data Feed'!Y97","v":0},{"$f":"'Data Feed'!Z97","v":0},{"$f":"'Data Feed'!AA97","v":0},{"$f":"'Data Feed'!AB97","v":0},{"$f":"'Data Feed'!AC97","v":0},{"$f":"'Data Feed'!AD97","v":0},{"$f":"'Data Feed'!AE97","v":0},{"$f":"'Data Feed'!AF97","v":0},{"$f":"'Data Feed'!AG97","v":0},{"$f":"'Data Feed'!AH97","v":0},{"$f":"'Data Feed'!AI97","v":0}]
[{"$f":"B96&\"_\"&COUNTIF($B$1:B96,B96)","v":"0_93"},{"$f":"'Data Feed'!AJ98","v":0},{"$f":"'Data Feed'!B98","v":0},{"$f":"'Data Feed'!C98","v":0},{"$f":"'Data Feed'!D98","v":0},{"$f":"'Data Feed'!E98","v":0},{"$f":"'Data Feed'!F98","v":0},{"$f":"'Data Feed'!G98","v":0},{"$f":"'Data Feed'!H98","v":0},{"$f":"'Data Feed'!I98","v":0},{"$f":"'Data Feed'!J98","v":0},{"$f":"'Data Feed'!K98","v":0},{"$f":"'Data Feed'!L98","v":0},{"$f":"'Data Feed'!M98","v":0},{"$f":"'Data Feed'!N98","v":0},{"$f":"'Data Feed'!O98","v":0},{"$f":"'Data Feed'!P98","v":0},{"$f":"'Data Feed'!Q98","v":0},{"$f":"'Data Feed'!R98","v":0},{"$f":"'Data Feed'!S98","v":0},{"$f":"'Data Feed'!T98","v":0},{"$f":"'Data Feed'!U98","v":0},{"$f":"'Data Feed'!V98","v":0},{"$f":"'Data Feed'!W98","v":0},{"$f":"'Data Feed'!X98","v":0},{"$f":"'Data Feed'!Y98","v":0},{"$f":"'Data Feed'!Z98","v":0},{"$f":"'Data Feed'!AA98","v":0},{"$f":"'Data Feed'!AB98","v":0},{"$f":"'Data Feed'!AC98","v":0},{"$f":"'Data Feed'!AD98","v":0},{"$f":"'Data Feed'!AE98","v":0},{"$f":"'Data Feed'!AF98","v":0},{"$f":"'Data Feed'!AG98","v":0},{"$f":"'Data Feed'!AH98","v":0},{"$f":"'Data Feed'!AI98","v":0}]
[{"$f":"B97&\"_\"&COUNTIF($B$1:B97,B97)","v":"0_94"},{"$f":"'Data Feed'!AJ99","v":0},{"$f":"'Data Feed'!B99","v":0},{"$f":"'Data Feed'!C99","v":0},{"$f":"'Data Feed'!D99","v":0},{"$f":"'Data Feed'!E99","v":0},{"$f":"'Data Feed'!F99","v":0},{"$f":"'Data Feed'!G99","v":0},{"$f":"'Data Feed'!H99","v":0},{"$f":"'Data Feed'!I99","v":0},{"$f":"'Data Feed'!J99","v":0},{"$f":"'Data Feed'!K99","v":0},{"$f":"'Data Feed'!L99","v":0},{"$f":"'Data Feed'!M99","v":0},{"$f":"'Data Feed'!N99","v":0},{"$f":"'Data Feed'!O99","v":0},{"$f":"'Data Feed'!P99","v":0},{"$f":"'Data Feed'!Q99","v":0},{"$f":"'Data Feed'!R99","v":0},{"$f":"'Data Feed'!S99","v":0},{"$f":"'Data Feed'!T99","v":0},{"$f":"'Data Feed'!U99","v":0},{"$f":"'Data Feed'!V99","v":0},{"$f":"'Data Feed'!W99","v":0},{"$f":"'Data Feed'!X99","v":0},{"$f":"'Data Feed'!Y99","v":0},{"$f":"'Data Feed'!Z99","v":0},{"$f":"'Data Feed'!AA99","v":0},{"$f":"'Data Feed'!AB99","v":0},{"$f":"'Data Feed'!AC99","v":0},{"$f":"'Data Feed'!AD99","v":0},{"$f":"'Data Feed'!AE99","v":0},{"$f":"'Data Feed'!AF99","v":0},{"$f":"'Data Feed'!AG99","v":0},{"$f":"'Data Feed'!AH99","v":0},{"$f":"'Data Feed'!AI99","v":0}]
[{"$f":"B98&\"_\"&COUNTIF($B$1:B98,B98)","v":"0_95"},{"$f":"'Data Feed'!AJ100","v":0},{"$f":"'Data Feed'!B100","v":0},{"$f":"'Data Feed'!C100","v":0},{"$f":"'Data Feed'!D100","v":0},{"$f":"'Data Feed'!E100","v":0},{"$f":"'Data Feed'!F100","v":0},{"$f":"'Data Feed'!G100","v":0},{"$f":"'Data Feed'!H100","v":0},{"$f":"'Data Feed'!I100","v":0},{"$f":"'Data Feed'!J100","v":0},{"$f":"'Data Feed'!K100","v":0},{"$f":"'Data Feed'!L100","v":0},{"$f":"'Data Feed'!M100","v":0},{"$f":"'Data Feed'!N100","v":0},{"$f":"'Data Feed'!O100","v":0},{"$f":"'Data Feed'!P100","v":0},{"$f":"'Data Feed'!Q100","v":0},{"$f":"'Data Feed'!R100","v":0},{"$f":"'Data Feed'!S100","v":0},{"$f":"'Data Feed'!T100","v":0},{"$f":"'Data Feed'!U100","v":0},{"$f":"'Data Feed'!V100","v":0},{"$f":"'Data Feed'!W100","v":0},{"$f":"'Data Feed'!X100","v":0},{"$f":"'Data Feed'!Y100","v":0},{"$f":"'Data Feed'!Z100","v":0},{"$f":"'Data Feed'!AA100","v":0},{"$f":"'Data Feed'!AB100","v":0},{"$f":"'Data Feed'!AC100","v":0},{"$f":"'Data Feed'!AD100","v":0},{"$f":"'Data Feed'!AE100","v":0},{"$f":"'Data Feed'!AF100","v":0},{"$f":"'Data Feed'!AG100","v":0},{"$f":"'Data Feed'!AH100","v":0},{"$f":"'Data Feed'!AI100","v":0}]
[{"$f":"B99&\"_\"&COUNTIF($B$1:B99,B99)","v":"राउमावि, रूपपुरा_2"},{"$f":"'Data Feed'!AJ101","v":"राउमावि, रूपपुरा"},{"$f":"'Data Feed'!B101","v":0},{"$f":"'Data Feed'!C101","v":0},{"$f":"'Data Feed'!D101","v":0},{"$f":"'Data Feed'!E101","v":0},{"$f":"'Data Feed'!F101","v":0},{"$f":"'Data Feed'!G101","v":0},{"$f":"'Data Feed'!H101","v":0},{"$f":"'Data Feed'!I101","v":0},{"$f":"'Data Feed'!J101","v":0},{"$f":"'Data Feed'!K101","v":0},{"$f":"'Data Feed'!L101","v":0},{"$f":"'Data Feed'!M101","v":0},{"$f":"'Data Feed'!N101","v":0},{"$f":"'Data Feed'!O101","v":0},{"$f":"'Data Feed'!P101","v":0},{"$f":"'Data Feed'!Q101","v":0},{"$f":"'Data Feed'!R101","v":0},{"$f":"'Data Feed'!S101","v":0},{"$f":"'Data Feed'!T101","v":0},{"$f":"'Data Feed'!U101","v":0},{"$f":"'Data Feed'!V101","v":0},{"$f":"'Data Feed'!W101","v":0},{"$f":"'Data Feed'!X101","v":0},{"$f":"'Data Feed'!Y101","v":0},{"$f":"'Data Feed'!Z101","v":0},{"$f":"'Data Feed'!AA101","v":0},{"$f":"'Data Feed'!AB101","v":0},{"$f":"'Data Feed'!AC101","v":0},{"$f":"'Data Feed'!AD101","v":0},{"$f":"'Data Feed'!AE101","v":0},{"$f":"'Data Feed'!AF101","v":0},{"$f":"'Data Feed'!AG101","v":0},{"$f":"'Data Feed'!AH101","v":0},{"$f":"'Data Feed'!AI101","v":0}]
[{"$f":"B100&\"_\"&COUNTIF($B$1:B100,B100)","v":"रामावि 1_1"},{"$f":"'Data Feed'!AJ102","v":"रामावि 1"},{"$f":"'Data Feed'!B102","v":0},{"$f":"'Data Feed'!C102","v":0},{"$f":"'Data Feed'!D102","v":0},{"$f":"'Data Feed'!E102","v":0},{"$f":"'Data Feed'!F102","v":0},{"$f":"'Data Feed'!G102","v":0},{"$f":"'Data Feed'!H102","v":0},{"$f":"'Data Feed'!I102","v":0},{"$f":"'Data Feed'!J102","v":0},{"$f":"'Data Feed'!K102","v":0},{"$f":"'Data Feed'!L102","v":0},{"$f":"'Data Feed'!M102","v":0},{"$f":"'Data Feed'!N102","v":0},{"$f":"'Data Feed'!O102","v":0},{"$f":"'Data Feed'!P102","v":0},{"$f":"'Data Feed'!Q102","v":0},{"$f":"'Data Feed'!R102","v":0},{"$f":"'Data Feed'!S102","v":0},{"$f":"'Data Feed'!T102","v":0},{"$f":"'Data Feed'!U102","v":0},{"$f":"'Data Feed'!V102","v":0},{"$f":"'Data Feed'!W102","v":0},{"$f":"'Data Feed'!X102","v":0},{"$f":"'Data Feed'!Y102","v":0},{"$f":"'Data Feed'!Z102","v":0},{"$f":"'Data Feed'!AA102","v":0},{"$f":"'Data Feed'!AB102","v":0},{"$f":"'Data Feed'!AC102","v":0},{"$f":"'Data Feed'!AD102","v":0},{"$f":"'Data Feed'!AE102","v":0},{"$f":"'Data Feed'!AF102","v":0},{"$f":"'Data Feed'!AG102","v":0},{"$f":"'Data Feed'!AH102","v":0},{"$f":"'Data Feed'!AI102","v":0}]
[{"$f":"B101&\"_\"&COUNTIF($B$1:B101,B101)","v":"रामावि 2_2"},{"$f":"'Data Feed'!AJ103","v":"रामावि 2"},{"$f":"'Data Feed'!B103","v":0},{"$f":"'Data Feed'!C103","v":0},{"$f":"'Data Feed'!D103","v":0},{"$f":"'Data Feed'!E103","v":0},{"$f":"'Data Feed'!F103","v":0},{"$f":"'Data Feed'!G103","v":0},{"$f":"'Data Feed'!H103","v":0},{"$f":"'Data Feed'!I103","v":0},{"$f":"'Data Feed'!J103","v":0},{"$f":"'Data Feed'!K103","v":0},{"$f":"'Data Feed'!L103","v":0},{"$f":"'Data Feed'!M103","v":0},{"$f":"'Data Feed'!N103","v":0},{"$f":"'Data Feed'!O103","v":0},{"$f":"'Data Feed'!P103","v":0},{"$f":"'Data Feed'!Q103","v":0},{"$f":"'Data Feed'!R103","v":0},{"$f":"'Data Feed'!S103","v":0},{"$f":"'Data Feed'!T103","v":0},{"$f":"'Data Feed'!U103","v":0},{"$f":"'Data Feed'!V103","v":0},{"$f":"'Data Feed'!W103","v":0},{"$f":"'Data Feed'!X103","v":0},{"$f":"'Data Feed'!Y103","v":0},{"$f":"'Data Feed'!Z103","v":0},{"$f":"'Data Feed'!AA103","v":0},{"$f":"'Data Feed'!AB103","v":0},{"$f":"'Data Feed'!AC103","v":0},{"$f":"'Data Feed'!AD103","v":0},{"$f":"'Data Feed'!AE103","v":0},{"$f":"'Data Feed'!AF103","v":0},{"$f":"'Data Feed'!AG103","v":0},{"$f":"'Data Feed'!AH103","v":0},{"$f":"'Data Feed'!AI103","v":0}]
[{"$f":"B102&\"_\"&COUNTIF($B$1:B102,B102)","v":"0_96"},{"$f":"'Data Feed'!AJ104","v":0},{"$f":"'Data Feed'!B104","v":0},{"$f":"'Data Feed'!C104","v":0},{"$f":"'Data Feed'!D104","v":0},{"$f":"'Data Feed'!E104","v":0},{"$f":"'Data Feed'!F104","v":0},{"$f":"'Data Feed'!G104","v":0},{"$f":"'Data Feed'!H104","v":0},{"$f":"'Data Feed'!I104","v":0},{"$f":"'Data Feed'!J104","v":0},{"$f":"'Data Feed'!K104","v":0},{"$f":"'Data Feed'!L104","v":0},{"$f":"'Data Feed'!M104","v":0},{"$f":"'Data Feed'!N104","v":0},{"$f":"'Data Feed'!O104","v":0},{"$f":"'Data Feed'!P104","v":0},{"$f":"'Data Feed'!Q104","v":0},{"$f":"'Data Feed'!R104","v":0},{"$f":"'Data Feed'!S104","v":0},{"$f":"'Data Feed'!T104","v":0},{"$f":"'Data Feed'!U104","v":0},{"$f":"'Data Feed'!V104","v":0},{"$f":"'Data Feed'!W104","v":0},{"$f":"'Data Feed'!X104","v":0},{"$f":"'Data Feed'!Y104","v":0},{"$f":"'Data Feed'!Z104","v":0},{"$f":"'Data Feed'!AA104","v":0},{"$f":"'Data Feed'!AB104","v":0},{"$f":"'Data Feed'!AC104","v":0},{"$f":"'Data Feed'!AD104","v":0},{"$f":"'Data Feed'!AE104","v":0},{"$f":"'Data Feed'!AF104","v":0},{"$f":"'Data Feed'!AG104","v":0},{"$f":"'Data Feed'!AH104","v":0},{"$f":"'Data Feed'!AI104","v":0}]
[{"$f":"B103&\"_\"&COUNTIF($B$1:B103,B103)","v":"0_97"},{"$f":"'Data Feed'!AJ105","v":0},{"$f":"'Data Feed'!B105","v":0},{"$f":"'Data Feed'!C105","v":0},{"$f":"'Data Feed'!D105","v":0},{"$f":"'Data Feed'!E105","v":0},{"$f":"'Data Feed'!F105","v":0},{"$f":"'Data Feed'!G105","v":0},{"$f":"'Data Feed'!H105","v":0},{"$f":"'Data Feed'!I105","v":0},{"$f":"'Data Feed'!J105","v":0},{"$f":"'Data Feed'!K105","v":0},{"$f":"'Data Feed'!L105","v":0},{"$f":"'Data Feed'!M105","v":0},{"$f":"'Data Feed'!N105","v":0},{"$f":"'Data Feed'!O105","v":0},{"$f":"'Data Feed'!P105","v":0},{"$f":"'Data Feed'!Q105","v":0},{"$f":"'Data Feed'!R105","v":0},{"$f":"'Data Feed'!S105","v":0},{"$f":"'Data Feed'!T105","v":0},{"$f":"'Data Feed'!U105","v":0},{"$f":"'Data Feed'!V105","v":0},{"$f":"'Data Feed'!W105","v":0},{"$f":"'Data Feed'!X105","v":0},{"$f":"'Data Feed'!Y105","v":0},{"$f":"'Data Feed'!Z105","v":0},{"$f":"'Data Feed'!AA105","v":0},{"$f":"'Data Feed'!AB105","v":0},{"$f":"'Data Feed'!AC105","v":0},{"$f":"'Data Feed'!AD105","v":0},{"$f":"'Data Feed'!AE105","v":0},{"$f":"'Data Feed'!AF105","v":0},{"$f":"'Data Feed'!AG105","v":0},{"$f":"'Data Feed'!AH105","v":0},{"$f":"'Data Feed'!AI105","v":0}]
[{"$f":"B104&\"_\"&COUNTIF($B$1:B104,B104)","v":"0_98"},{"$f":"'Data Feed'!AJ106","v":0},{"$f":"'Data Feed'!B106","v":0},{"$f":"'Data Feed'!C106","v":0},{"$f":"'Data Feed'!D106","v":0},{"$f":"'Data Feed'!E106","v":0},{"$f":"'Data Feed'!F106","v":0},{"$f":"'Data Feed'!G106","v":0},{"$f":"'Data Feed'!H106","v":0},{"$f":"'Data Feed'!I106","v":0},{"$f":"'Data Feed'!J106","v":0},{"$f":"'Data Feed'!K106","v":0},{"$f":"'Data Feed'!L106","v":0},{"$f":"'Data Feed'!M106","v":0},{"$f":"'Data Feed'!N106","v":0},{"$f":"'Data Feed'!O106","v":0},{"$f":"'Data Feed'!P106","v":0},{"$f":"'Data Feed'!Q106","v":0},{"$f":"'Data Feed'!R106","v":0},{"$f":"'Data Feed'!S106","v":0},{"$f":"'Data Feed'!T106","v":0},{"$f":"'Data Feed'!U106","v":0},{"$f":"'Data Feed'!V106","v":0},{"$f":"'Data Feed'!W106","v":0},{"$f":"'Data Feed'!X106","v":0},{"$f":"'Data Feed'!Y106","v":0},{"$f":"'Data Feed'!Z106","v":0},{"$f":"'Data Feed'!AA106","v":0},{"$f":"'Data Feed'!AB106","v":0},{"$f":"'Data Feed'!AC106","v":0},{"$f":"'Data Feed'!AD106","v":0},{"$f":"'Data Feed'!AE106","v":0},{"$f":"'Data Feed'!AF106","v":0},{"$f":"'Data Feed'!AG106","v":0},{"$f":"'Data Feed'!AH106","v":0},{"$f":"'Data Feed'!AI106","v":0}]
[{"$f":"B105&\"_\"&COUNTIF($B$1:B105,B105)","v":"0_99"},{"$f":"'Data Feed'!AJ107","v":0},{"$f":"'Data Feed'!B107","v":0},{"$f":"'Data Feed'!C107","v":0},{"$f":"'Data Feed'!D107","v":0},{"$f":"'Data Feed'!E107","v":0},{"$f":"'Data Feed'!F107","v":0},{"$f":"'Data Feed'!G107","v":0},{"$f":"'Data Feed'!H107","v":0},{"$f":"'Data Feed'!I107","v":0},{"$f":"'Data Feed'!J107","v":0},{"$f":"'Data Feed'!K107","v":0},{"$f":"'Data Feed'!L107","v":0},{"$f":"'Data Feed'!M107","v":0},{"$f":"'Data Feed'!N107","v":0},{"$f":"'Data Feed'!O107","v":0},{"$f":"'Data Feed'!P107","v":0},{"$f":"'Data Feed'!Q107","v":0},{"$f":"'Data Feed'!R107","v":0},{"$f":"'Data Feed'!S107","v":0},{"$f":"'Data Feed'!T107","v":0},{"$f":"'Data Feed'!U107","v":0},{"$f":"'Data Feed'!V107","v":0},{"$f":"'Data Feed'!W107","v":0},{"$f":"'Data Feed'!X107","v":0},{"$f":"'Data Feed'!Y107","v":0},{"$f":"'Data Feed'!Z107","v":0},{"$f":"'Data Feed'!AA107","v":0},{"$f":"'Data Feed'!AB107","v":0},{"$f":"'Data Feed'!AC107","v":0},{"$f":"'Data Feed'!AD107","v":0},{"$f":"'Data Feed'!AE107","v":0},{"$f":"'Data Feed'!AF107","v":0},{"$f":"'Data Feed'!AG107","v":0},{"$f":"'Data Feed'!AH107","v":0},{"$f":"'Data Feed'!AI107","v":0}]
[{"$f":"B106&\"_\"&COUNTIF($B$1:B106,B106)","v":"0_100"},{"$f":"'Data Feed'!AJ108","v":0},{"$f":"'Data Feed'!B108","v":0},{"$f":"'Data Feed'!C108","v":0},{"$f":"'Data Feed'!D108","v":0},{"$f":"'Data Feed'!E108","v":0},{"$f":"'Data Feed'!F108","v":0},{"$f":"'Data Feed'!G108","v":0},{"$f":"'Data Feed'!H108","v":0},{"$f":"'Data Feed'!I108","v":0},{"$f":"'Data Feed'!J108","v":0},{"$f":"'Data Feed'!K108","v":0},{"$f":"'Data Feed'!L108","v":0},{"$f":"'Data Feed'!M108","v":0},{"$f":"'Data Feed'!N108","v":0},{"$f":"'Data Feed'!O108","v":0},{"$f":"'Data Feed'!P108","v":0},{"$f":"'Data Feed'!Q108","v":0},{"$f":"'Data Feed'!R108","v":0},{"$f":"'Data Feed'!S108","v":0},{"$f":"'Data Feed'!T108","v":0},{"$f":"'Data Feed'!U108","v":0},{"$f":"'Data Feed'!V108","v":0},{"$f":"'Data Feed'!W108","v":0},{"$f":"'Data Feed'!X108","v":0},{"$f":"'Data Feed'!Y108","v":0},{"$f":"'Data Feed'!Z108","v":0},{"$f":"'Data Feed'!AA108","v":0},{"$f":"'Data Feed'!AB108","v":0},{"$f":"'Data Feed'!AC108","v":0},{"$f":"'Data Feed'!AD108","v":0},{"$f":"'Data Feed'!AE108","v":0},{"$f":"'Data Feed'!AF108","v":0},{"$f":"'Data Feed'!AG108","v":0},{"$f":"'Data Feed'!AH108","v":0},{"$f":"'Data Feed'!AI108","v":0}]
[{"$f":"B107&\"_\"&COUNTIF($B$1:B107,B107)","v":"0_101"},{"$f":"'Data Feed'!AJ109","v":0},{"$f":"'Data Feed'!B109","v":0},{"$f":"'Data Feed'!C109","v":0},{"$f":"'Data Feed'!D109","v":0},{"$f":"'Data Feed'!E109","v":0},{"$f":"'Data Feed'!F109","v":0},{"$f":"'Data Feed'!G109","v":0},{"$f":"'Data Feed'!H109","v":0},{"$f":"'Data Feed'!I109","v":0},{"$f":"'Data Feed'!J109","v":0},{"$f":"'Data Feed'!K109","v":0},{"$f":"'Data Feed'!L109","v":0},{"$f":"'Data Feed'!M109","v":0},{"$f":"'Data Feed'!N109","v":0},{"$f":"'Data Feed'!O109","v":0},{"$f":"'Data Feed'!P109","v":0},{"$f":"'Data Feed'!Q109","v":0},{"$f":"'Data Feed'!R109","v":0},{"$f":"'Data Feed'!S109","v":0},{"$f":"'Data Feed'!T109","v":0},{"$f":"'Data Feed'!U109","v":0},{"$f":"'Data Feed'!V109","v":0},{"$f":"'Data Feed'!W109","v":0},{"$f":"'Data Feed'!X109","v":0},{"$f":"'Data Feed'!Y109","v":0},{"$f":"'Data Feed'!Z109","v":0},{"$f":"'Data Feed'!AA109","v":0},{"$f":"'Data Feed'!AB109","v":0},{"$f":"'Data Feed'!AC109","v":0},{"$f":"'Data Feed'!AD109","v":0},{"$f":"'Data Feed'!AE109","v":0},{"$f":"'Data Feed'!AF109","v":0},{"$f":"'Data Feed'!AG109","v":0},{"$f":"'Data Feed'!AH109","v":0},{"$f":"'Data Feed'!AI109","v":0}]
[{"$f":"B108&\"_\"&COUNTIF($B$1:B108,B108)","v":"0_102"},{"$f":"'Data Feed'!AJ110","v":0},{"$f":"'Data Feed'!B110","v":0},{"$f":"'Data Feed'!C110","v":0},{"$f":"'Data Feed'!D110","v":0},{"$f":"'Data Feed'!E110","v":0},{"$f":"'Data Feed'!F110","v":0},{"$f":"'Data Feed'!G110","v":0},{"$f":"'Data Feed'!H110","v":0},{"$f":"'Data Feed'!I110","v":0},{"$f":"'Data Feed'!J110","v":0},{"$f":"'Data Feed'!K110","v":0},{"$f":"'Data Feed'!L110","v":0},{"$f":"'Data Feed'!M110","v":0},{"$f":"'Data Feed'!N110","v":0},{"$f":"'Data Feed'!O110","v":0},{"$f":"'Data Feed'!P110","v":0},{"$f":"'Data Feed'!Q110","v":0},{"$f":"'Data Feed'!R110","v":0},{"$f":"'Data Feed'!S110","v":0},{"$f":"'Data Feed'!T110","v":0},{"$f":"'Data Feed'!U110","v":0},{"$f":"'Data Feed'!V110","v":0},{"$f":"'Data Feed'!W110","v":0},{"$f":"'Data Feed'!X110","v":0},{"$f":"'Data Feed'!Y110","v":0},{"$f":"'Data Feed'!Z110","v":0},{"$f":"'Data Feed'!AA110","v":0},{"$f":"'Data Feed'!AB110","v":0},{"$f":"'Data Feed'!AC110","v":0},{"$f":"'Data Feed'!AD110","v":0},{"$f":"'Data Feed'!AE110","v":0},{"$f":"'Data Feed'!AF110","v":0},{"$f":"'Data Feed'!AG110","v":0},{"$f":"'Data Feed'!AH110","v":0},{"$f":"'Data Feed'!AI110","v":0}]
[{"$f":"B109&\"_\"&COUNTIF($B$1:B109,B109)","v":"0_103"},{"$f":"'Data Feed'!AJ111","v":0},{"$f":"'Data Feed'!B111","v":0},{"$f":"'Data Feed'!C111","v":0},{"$f":"'Data Feed'!D111","v":0},{"$f":"'Data Feed'!E111","v":0},{"$f":"'Data Feed'!F111","v":0},{"$f":"'Data Feed'!G111","v":0},{"$f":"'Data Feed'!H111","v":0},{"$f":"'Data Feed'!I111","v":0},{"$f":"'Data Feed'!J111","v":0},{"$f":"'Data Feed'!K111","v":0},{"$f":"'Data Feed'!L111","v":0},{"$f":"'Data Feed'!M111","v":0},{"$f":"'Data Feed'!N111","v":0},{"$f":"'Data Feed'!O111","v":0},{"$f":"'Data Feed'!P111","v":0},{"$f":"'Data Feed'!Q111","v":0},{"$f":"'Data Feed'!R111","v":0},{"$f":"'Data Feed'!S111","v":0},{"$f":"'Data Feed'!T111","v":0},{"$f":"'Data Feed'!U111","v":0},{"$f":"'Data Feed'!V111","v":0},{"$f":"'Data Feed'!W111","v":0},{"$f":"'Data Feed'!X111","v":0},{"$f":"'Data Feed'!Y111","v":0},{"$f":"'Data Feed'!Z111","v":0},{"$f":"'Data Feed'!AA111","v":0},{"$f":"'Data Feed'!AB111","v":0},{"$f":"'Data Feed'!AC111","v":0},{"$f":"'Data Feed'!AD111","v":0},{"$f":"'Data Feed'!AE111","v":0},{"$f":"'Data Feed'!AF111","v":0},{"$f":"'Data Feed'!AG111","v":0},{"$f":"'Data Feed'!AH111","v":0},{"$f":"'Data Feed'!AI111","v":0}]
[{"$f":"B110&\"_\"&COUNTIF($B$1:B110,B110)","v":"0_104"},{"$f":"'Data Feed'!AJ112","v":0},{"$f":"'Data Feed'!B112","v":0},{"$f":"'Data Feed'!C112","v":0},{"$f":"'Data Feed'!D112","v":0},{"$f":"'Data Feed'!E112","v":0},{"$f":"'Data Feed'!F112","v":0},{"$f":"'Data Feed'!G112","v":0},{"$f":"'Data Feed'!H112","v":0},{"$f":"'Data Feed'!I112","v":0},{"$f":"'Data Feed'!J112","v":0},{"$f":"'Data Feed'!K112","v":0},{"$f":"'Data Feed'!L112","v":0},{"$f":"'Data Feed'!M112","v":0},{"$f":"'Data Feed'!N112","v":0},{"$f":"'Data Feed'!O112","v":0},{"$f":"'Data Feed'!P112","v":0},{"$f":"'Data Feed'!Q112","v":0},{"$f":"'Data Feed'!R112","v":0},{"$f":"'Data Feed'!S112","v":0},{"$f":"'Data Feed'!T112","v":0},{"$f":"'Data Feed'!U112","v":0},{"$f":"'Data Feed'!V112","v":0},{"$f":"'Data Feed'!W112","v":0},{"$f":"'Data Feed'!X112","v":0},{"$f":"'Data Feed'!Y112","v":0},{"$f":"'Data Feed'!Z112","v":0},{"$f":"'Data Feed'!AA112","v":0},{"$f":"'Data Feed'!AB112","v":0},{"$f":"'Data Feed'!AC112","v":0},{"$f":"'Data Feed'!AD112","v":0},{"$f":"'Data Feed'!AE112","v":0},{"$f":"'Data Feed'!AF112","v":0},{"$f":"'Data Feed'!AG112","v":0},{"$f":"'Data Feed'!AH112","v":0},{"$f":"'Data Feed'!AI112","v":0}]
[{"$f":"B111&\"_\"&COUNTIF($B$1:B111,B111)","v":"0_105"},{"$f":"'Data Feed'!AJ113","v":0},{"$f":"'Data Feed'!B113","v":0},{"$f":"'Data Feed'!C113","v":0},{"$f":"'Data Feed'!D113","v":0},{"$f":"'Data Feed'!E113","v":0},{"$f":"'Data Feed'!F113","v":0},{"$f":"'Data Feed'!G113","v":0},{"$f":"'Data Feed'!H113","v":0},{"$f":"'Data Feed'!I113","v":0},{"$f":"'Data Feed'!J113","v":0},{"$f":"'Data Feed'!K113","v":0},{"$f":"'Data Feed'!L113","v":0},{"$f":"'Data Feed'!M113","v":0},{"$f":"'Data Feed'!N113","v":0},{"$f":"'Data Feed'!O113","v":0},{"$f":"'Data Feed'!P113","v":0},{"$f":"'Data Feed'!Q113","v":0},{"$f":"'Data Feed'!R113","v":0},{"$f":"'Data Feed'!S113","v":0},{"$f":"'Data Feed'!T113","v":0},{"$f":"'Data Feed'!U113","v":0},{"$f":"'Data Feed'!V113","v":0},{"$f":"'Data Feed'!W113","v":0},{"$f":"'Data Feed'!X113","v":0},{"$f":"'Data Feed'!Y113","v":0},{"$f":"'Data Feed'!Z113","v":0},{"$f":"'Data Feed'!AA113","v":0},{"$f":"'Data Feed'!AB113","v":0},{"$f":"'Data Feed'!AC113","v":0},{"$f":"'Data Feed'!AD113","v":0},{"$f":"'Data Feed'!AE113","v":0},{"$f":"'Data Feed'!AF113","v":0},{"$f":"'Data Feed'!AG113","v":0},{"$f":"'Data Feed'!AH113","v":0},{"$f":"'Data Feed'!AI113","v":0}]
[{"$f":"B112&\"_\"&COUNTIF($B$1:B112,B112)","v":"0_106"},{"$f":"'Data Feed'!AJ114","v":0},{"$f":"'Data Feed'!B114","v":0},{"$f":"'Data Feed'!C114","v":0},{"$f":"'Data Feed'!D114","v":0},{"$f":"'Data Feed'!E114","v":0},{"$f":"'Data Feed'!F114","v":0},{"$f":"'Data Feed'!G114","v":0},{"$f":"'Data Feed'!H114","v":0},{"$f":"'Data Feed'!I114","v":0},{"$f":"'Data Feed'!J114","v":0},{"$f":"'Data Feed'!K114","v":0},{"$f":"'Data Feed'!L114","v":0},{"$f":"'Data Feed'!M114","v":0},{"$f":"'Data Feed'!N114","v":0},{"$f":"'Data Feed'!O114","v":0},{"$f":"'Data Feed'!P114","v":0},{"$f":"'Data Feed'!Q114","v":0},{"$f":"'Data Feed'!R114","v":0},{"$f":"'Data Feed'!S114","v":0},{"$f":"'Data Feed'!T114","v":0},{"$f":"'Data Feed'!U114","v":0},{"$f":"'Data Feed'!V114","v":0},{"$f":"'Data Feed'!W114","v":0},{"$f":"'Data Feed'!X114","v":0},{"$f":"'Data Feed'!Y114","v":0},{"$f":"'Data Feed'!Z114","v":0},{"$f":"'Data Feed'!AA114","v":0},{"$f":"'Data Feed'!AB114","v":0},{"$f":"'Data Feed'!AC114","v":0},{"$f":"'Data Feed'!AD114","v":0},{"$f":"'Data Feed'!AE114","v":0},{"$f":"'Data Feed'!AF114","v":0},{"$f":"'Data Feed'!AG114","v":0},{"$f":"'Data Feed'!AH114","v":0},{"$f":"'Data Feed'!AI114","v":0}]
[{"$f":"B113&\"_\"&COUNTIF($B$1:B113,B113)","v":"0_107"},{"$f":"'Data Feed'!AJ115","v":0},{"$f":"'Data Feed'!B115","v":0},{"$f":"'Data Feed'!C115","v":0},{"$f":"'Data Feed'!D115","v":0},{"$f":"'Data Feed'!E115","v":0},{"$f":"'Data Feed'!F115","v":0},{"$f":"'Data Feed'!G115","v":0},{"$f":"'Data Feed'!H115","v":0},{"$f":"'Data Feed'!I115","v":0},{"$f":"'Data Feed'!J115","v":0},{"$f":"'Data Feed'!K115","v":0},{"$f":"'Data Feed'!L115","v":0},{"$f":"'Data Feed'!M115","v":0},{"$f":"'Data Feed'!N115","v":0},{"$f":"'Data Feed'!O115","v":0},{"$f":"'Data Feed'!P115","v":0},{"$f":"'Data Feed'!Q115","v":0},{"$f":"'Data Feed'!R115","v":0},{"$f":"'Data Feed'!S115","v":0},{"$f":"'Data Feed'!T115","v":0},{"$f":"'Data Feed'!U115","v":0},{"$f":"'Data Feed'!V115","v":0},{"$f":"'Data Feed'!W115","v":0},{"$f":"'Data Feed'!X115","v":0},{"$f":"'Data Feed'!Y115","v":0},{"$f":"'Data Feed'!Z115","v":0},{"$f":"'Data Feed'!AA115","v":0},{"$f":"'Data Feed'!AB115","v":0},{"$f":"'Data Feed'!AC115","v":0},{"$f":"'Data Feed'!AD115","v":0},{"$f":"'Data Feed'!AE115","v":0},{"$f":"'Data Feed'!AF115","v":0},{"$f":"'Data Feed'!AG115","v":0},{"$f":"'Data Feed'!AH115","v":0},{"$f":"'Data Feed'!AI115","v":0}]
[{"$f":"B114&\"_\"&COUNTIF($B$1:B114,B114)","v":"0_108"},{"$f":"'Data Feed'!AJ116","v":0},{"$f":"'Data Feed'!B116","v":0},{"$f":"'Data Feed'!C116","v":0},{"$f":"'Data Feed'!D116","v":0},{"$f":"'Data Feed'!E116","v":0},{"$f":"'Data Feed'!F116","v":0},{"$f":"'Data Feed'!G116","v":0},{"$f":"'Data Feed'!H116","v":0},{"$f":"'Data Feed'!I116","v":0},{"$f":"'Data Feed'!J116","v":0},{"$f":"'Data Feed'!K116","v":0},{"$f":"'Data Feed'!L116","v":0},{"$f":"'Data Feed'!M116","v":0},{"$f":"'Data Feed'!N116","v":0},{"$f":"'Data Feed'!O116","v":0},{"$f":"'Data Feed'!P116","v":0},{"$f":"'Data Feed'!Q116","v":0},{"$f":"'Data Feed'!R116","v":0},{"$f":"'Data Feed'!S116","v":0},{"$f":"'Data Feed'!T116","v":0},{"$f":"'Data Feed'!U116","v":0},{"$f":"'Data Feed'!V116","v":0},{"$f":"'Data Feed'!W116","v":0},{"$f":"'Data Feed'!X116","v":0},{"$f":"'Data Feed'!Y116","v":0},{"$f":"'Data Feed'!Z116","v":0},{"$f":"'Data Feed'!AA116","v":0},{"$f":"'Data Feed'!AB116","v":0},{"$f":"'Data Feed'!AC116","v":0},{"$f":"'Data Feed'!AD116","v":0},{"$f":"'Data Feed'!AE116","v":0},{"$f":"'Data Feed'!AF116","v":0},{"$f":"'Data Feed'!AG116","v":0},{"$f":"'Data Feed'!AH116","v":0},{"$f":"'Data Feed'!AI116","v":0}]
[{"$f":"B115&\"_\"&COUNTIF($B$1:B115,B115)","v":"0_109"},{"$f":"'Data Feed'!AJ117","v":0},{"$f":"'Data Feed'!B117","v":0},{"$f":"'Data Feed'!C117","v":0},{"$f":"'Data Feed'!D117","v":0},{"$f":"'Data Feed'!E117","v":0},{"$f":"'Data Feed'!F117","v":0},{"$f":"'Data Feed'!G117","v":0},{"$f":"'Data Feed'!H117","v":0},{"$f":"'Data Feed'!I117","v":0},{"$f":"'Data Feed'!J117","v":0},{"$f":"'Data Feed'!K117","v":0},{"$f":"'Data Feed'!L117","v":0},{"$f":"'Data Feed'!M117","v":0},{"$f":"'Data Feed'!N117","v":0},{"$f":"'Data Feed'!O117","v":0},{"$f":"'Data Feed'!P117","v":0},{"$f":"'Data Feed'!Q117","v":0},{"$f":"'Data Feed'!R117","v":0},{"$f":"'Data Feed'!S117","v":0},{"$f":"'Data Feed'!T117","v":0},{"$f":"'Data Feed'!U117","v":0},{"$f":"'Data Feed'!V117","v":0},{"$f":"'Data Feed'!W117","v":0},{"$f":"'Data Feed'!X117","v":0},{"$f":"'Data Feed'!Y117","v":0},{"$f":"'Data Feed'!Z117","v":0},{"$f":"'Data Feed'!AA117","v":0},{"$f":"'Data Feed'!AB117","v":0},{"$f":"'Data Feed'!AC117","v":0},{"$f":"'Data Feed'!AD117","v":0},{"$f":"'Data Feed'!AE117","v":0},{"$f":"'Data Feed'!AF117","v":0},{"$f":"'Data Feed'!AG117","v":0},{"$f":"'Data Feed'!AH117","v":0},{"$f":"'Data Feed'!AI117","v":0}]
[{"$f":"B116&\"_\"&COUNTIF($B$1:B116,B116)","v":"0_110"},{"$f":"'Data Feed'!AJ118","v":0},{"$f":"'Data Feed'!B118","v":0},{"$f":"'Data Feed'!C118","v":0},{"$f":"'Data Feed'!D118","v":0},{"$f":"'Data Feed'!E118","v":0},{"$f":"'Data Feed'!F118","v":0},{"$f":"'Data Feed'!G118","v":0},{"$f":"'Data Feed'!H118","v":0},{"$f":"'Data Feed'!I118","v":0},{"$f":"'Data Feed'!J118","v":0},{"$f":"'Data Feed'!K118","v":0},{"$f":"'Data Feed'!L118","v":0},{"$f":"'Data Feed'!M118","v":0},{"$f":"'Data Feed'!N118","v":0},{"$f":"'Data Feed'!O118","v":0},{"$f":"'Data Feed'!P118","v":0},{"$f":"'Data Feed'!Q118","v":0},{"$f":"'Data Feed'!R118","v":0},{"$f":"'Data Feed'!S118","v":0},{"$f":"'Data Feed'!T118","v":0},{"$f":"'Data Feed'!U118","v":0},{"$f":"'Data Feed'!V118","v":0},{"$f":"'Data Feed'!W118","v":0},{"$f":"'Data Feed'!X118","v":0},{"$f":"'Data Feed'!Y118","v":0},{"$f":"'Data Feed'!Z118","v":0},{"$f":"'Data Feed'!AA118","v":0},{"$f":"'Data Feed'!AB118","v":0},{"$f":"'Data Feed'!AC118","v":0},{"$f":"'Data Feed'!AD118","v":0},{"$f":"'Data Feed'!AE118","v":0},{"$f":"'Data Feed'!AF118","v":0},{"$f":"'Data Feed'!AG118","v":0},{"$f":"'Data Feed'!AH118","v":0},{"$f":"'Data Feed'!AI118","v":0}]
[{"$f":"B117&\"_\"&COUNTIF($B$1:B117,B117)","v":"0_111"},{"$f":"'Data Feed'!AJ119","v":0},{"$f":"'Data Feed'!B119","v":0},{"$f":"'Data Feed'!C119","v":0},{"$f":"'Data Feed'!D119","v":0},{"$f":"'Data Feed'!E119","v":0},{"$f":"'Data Feed'!F119","v":0},{"$f":"'Data Feed'!G119","v":0},{"$f":"'Data Feed'!H119","v":0},{"$f":"'Data Feed'!I119","v":0},{"$f":"'Data Feed'!J119","v":0},{"$f":"'Data Feed'!K119","v":0},{"$f":"'Data Feed'!L119","v":0},{"$f":"'Data Feed'!M119","v":0},{"$f":"'Data Feed'!N119","v":0},{"$f":"'Data Feed'!O119","v":0},{"$f":"'Data Feed'!P119","v":0},{"$f":"'Data Feed'!Q119","v":0},{"$f":"'Data Feed'!R119","v":0},{"$f":"'Data Feed'!S119","v":0},{"$f":"'Data Feed'!T119","v":0},{"$f":"'Data Feed'!U119","v":0},{"$f":"'Data Feed'!V119","v":0},{"$f":"'Data Feed'!W119","v":0},{"$f":"'Data Feed'!X119","v":0},{"$f":"'Data Feed'!Y119","v":0},{"$f":"'Data Feed'!Z119","v":0},{"$f":"'Data Feed'!AA119","v":0},{"$f":"'Data Feed'!AB119","v":0},{"$f":"'Data Feed'!AC119","v":0},{"$f":"'Data Feed'!AD119","v":0},{"$f":"'Data Feed'!AE119","v":0},{"$f":"'Data Feed'!AF119","v":0},{"$f":"'Data Feed'!AG119","v":0},{"$f":"'Data Feed'!AH119","v":0},{"$f":"'Data Feed'!AI119","v":0}]
[{"$f":"B118&\"_\"&COUNTIF($B$1:B118,B118)","v":"0_112"},{"$f":"'Data Feed'!AJ120","v":0},{"$f":"'Data Feed'!B120","v":0},{"$f":"'Data Feed'!C120","v":0},{"$f":"'Data Feed'!D120","v":0},{"$f":"'Data Feed'!E120","v":0},{"$f":"'Data Feed'!F120","v":0},{"$f":"'Data Feed'!G120","v":0},{"$f":"'Data Feed'!H120","v":0},{"$f":"'Data Feed'!I120","v":0},{"$f":"'Data Feed'!J120","v":0},{"$f":"'Data Feed'!K120","v":0},{"$f":"'Data Feed'!L120","v":0},{"$f":"'Data Feed'!M120","v":0},{"$f":"'Data Feed'!N120","v":0},{"$f":"'Data Feed'!O120","v":0},{"$f":"'Data Feed'!P120","v":0},{"$f":"'Data Feed'!Q120","v":0},{"$f":"'Data Feed'!R120","v":0},{"$f":"'Data Feed'!S120","v":0},{"$f":"'Data Feed'!T120","v":0},{"$f":"'Data Feed'!U120","v":0},{"$f":"'Data Feed'!V120","v":0},{"$f":"'Data Feed'!W120","v":0},{"$f":"'Data Feed'!X120","v":0},{"$f":"'Data Feed'!Y120","v":0},{"$f":"'Data Feed'!Z120","v":0},{"$f":"'Data Feed'!AA120","v":0},{"$f":"'Data Feed'!AB120","v":0},{"$f":"'Data Feed'!AC120","v":0},{"$f":"'Data Feed'!AD120","v":0},{"$f":"'Data Feed'!AE120","v":0},{"$f":"'Data Feed'!AF120","v":0},{"$f":"'Data Feed'!AG120","v":0},{"$f":"'Data Feed'!AH120","v":0},{"$f":"'Data Feed'!AI120","v":0}]
[{"$f":"B119&\"_\"&COUNTIF($B$1:B119,B119)","v":"राउप्रावि 2_1"},{"$f":"'Data Feed'!AJ121","v":"राउप्रावि 2"},{"$f":"'Data Feed'!B121","v":"Aditya"},{"$f":"'Data Feed'!C121","v":0},{"$f":"'Data Feed'!D121","v":0},{"$f":"'Data Feed'!E121","v":0},{"$f":"'Data Feed'!F121","v":0},{"$f":"'Data Feed'!G121","v":0},{"$f":"'Data Feed'!H121","v":0},{"$f":"'Data Feed'!I121","v":0},{"$f":"'Data Feed'!J121","v":0},{"$f":"'Data Feed'!K121","v":"English"},{"$f":"'Data Feed'!L121","v":0},{"$f":"'Data Feed'!M121","v":0},{"$f":"'Data Feed'!N121","v":0},{"$f":"'Data Feed'!O121","v":0},{"$f":"'Data Feed'!P121","v":0},{"$f":"'Data Feed'!Q121","v":0},{"$f":"'Data Feed'!R121","v":0},{"$f":"'Data Feed'!S121","v":0},{"$f":"'Data Feed'!T121","v":0},{"$f":"'Data Feed'!U121","v":0},{"$f":"'Data Feed'!V121","v":0},{"$f":"'Data Feed'!W121","v":0},{"$f":"'Data Feed'!X121","v":0},{"$f":"'Data Feed'!Y121","v":0},{"$f":"'Data Feed'!Z121","v":0},{"$f":"'Data Feed'!AA121","v":0},{"$f":"'Data Feed'!AB121","v":0},{"$f":"'Data Feed'!AC121","v":0},{"$f":"'Data Feed'!AD121","v":0},{"$f":"'Data Feed'!AE121","v":0},{"$f":"'Data Feed'!AF121","v":0},{"$f":"'Data Feed'!AG121","v":0},{"$f":"'Data Feed'!AH121","v":0},{"$f":"'Data Feed'!AI121","v":0}]

{"sheet":"Ctgrywise","index":8,"n_rows":48,"n_cols":35,"rows_kept":48,"merged":[[0,0,0,8],[0,9,0,16],[0,17,0,25],[0,26,0,34],[1,0,1,8],[1,9,1,16],[1,17,1,25],[1,26,1,34],[3,4,3,12]]}
[{"$f":"'Basic Intro'!A1","v":"राजकीय उच्च माध्यमिक विद्यालय, रूपपुरा (कुचामन सिटी)"},{"$nulls":8},{"$f":"'Basic Intro'!A1","v":"राजकीय उच्च माध्यमिक विद्यालय, रूपपुरा (कुचामन सिटी)"},{"$nulls":7},{"$f":"'Basic Intro'!A1","v":"राजकीय उच्च माध्यमिक विद्यालय, रूपपुरा (कुचामन सिटी)"},{"$nulls":8},{"$f":"'Basic Intro'!A1","v":"राजकीय उच्च माध्यमिक विद्यालय, रूपपुरा (कुचामन सिटी)"}]
["वर्गवार कर्मचारी विवरण",{"$nulls":8},"वर्गवार कर्मचारी विवरण",{"$nulls":7},"वर्गवार कर्मचारी विवरण",{"$nulls":8},"वर्गवार कर्मचारी विवरण"]
[]
[null,"वर्ग का चयन करे -","OBC",null,"जिस वर्ग का डाटा की आवशयकता हो वह वर्ग ड्राप डाउन लिस्ट में से चुने |"]
[]
["क्र.स.","नाम कर्मचारी","पिता/पति का नाम ","Employee ID","जन्म दिनाक ","जेंडर ","वर्ग","धर्म","दिव्यांग","वर्तमान पद","विषय","स्थाई/अस्थाई","ब्लड ग्रुप","पता","जिला","मोबाइल नंबर","ईमेल","बैंक अकाउंट नंबर","ब्रांच ","ब्रांच कोड","कार्यग्रहण तिथि","किसी भी सरकारी सेवा में कार्यग्रहण तिथि","शिक्षा विभाग में कार्यग्रहण तिथि","वर्तमान पद पर कार्यग्रहण तिथि","वर्तमान पद पर कार्यग्रहण तरीका","वर्तमान विद्यालय में कार्यग्रहण तिथि","जी.पी.एफ./प्राण नंबर","एस.आई. नंबर ","आधार नंबर","भामाशाह नंबर","पासपोर्ट नंबर","पैन नंबर","वर्तमान मूल वेतन ","उच्चतम शैक्षणिक योग्यता","उच्चतम प्रशैक्षणिक योग्यता"]
[1,{"$f":"IFERROR(VLOOKUP($C$4&\"_\"&$A7,catagory_wise,COLUMNS($A$5:C5),0),\"\")","v":"श्री जावेद खान"},{"$f":"IFERROR(VLOOKUP($C$4&\"_\"&$A7,catagory_wise,COLUMNS($A$5:D5),0),\"\")","v":"श्री"},{"$f":"IFERROR(VLOOKUP($C$4&\"_\"&$A7,catagory_wise,COLUMNS($A$5:E5),0),\"\")","v":"RJNA201228008023"},{"$f":"IFERROR(VLOOKUP($C$4&\"_\"&$A7,catagory_wise,COLUMNS($A$5:F5),0),\"\")","v":"1988-02-08"},{"$f":"IFERROR(VLOOKUP($C$4&\"_\"&$A7,catagory_wise,COLUMNS($A$5:G5),0),\"\")","v":"Male"},{"$f":"IFERROR(VLOOKUP($C$4&\"_\"&$A7,catagory_wise,COLUMNS($A$5:H5),0),\"\")","v":"OBC"},{"$f":"IFERROR(VLOOKUP($C$4&\"_\"&$A7,catagory_wise,COLUMNS($A$5:I5),0),\"\")","v":"Muslim"},{"$f":"IFERROR(VLOOKUP($C$4&\"_\"&$A7,catagory_wise,COLUMNS($A$5:J5),0),\"\")","v":"Yes"},{"$f":"IFERROR(VLOOKUP($C$4&\"_\"&$A7,catagory_wise,COLUMNS($A$5:K5),0),\"\")","v":"प्रधानाचार्य"},{"$f":"IFERROR(VLOOKUP($C$4&\"_\"&$A7,catagory_wise,COLUMNS($A$5:L5),0),\"\")","v":"Agriculture"},{"$f":"IFERROR(VLOOKUP($C$4&\"_\"&$A7,catagory_wise,COLUMNS($A$5:M5),0),\"\")","v":"अस्थाई"},{"$f":"IFERROR(VLOOKUP($C$4&\"_\"&$A7,catagory_wise,COLUMNS($A$5:N5),0),\"\")","v":"AB+"},{"$f":"IFERROR(VLOOKUP($C$4&\"_\"&$A7,catagory_wise,COLUMNS($A$5:O5),0),\"\")","v":"कुचामन सिटी"},{"$f":"IFERROR(VLOOKUP($C$4&\"_\"&$A7,catagory_wise,COLUMNS($A$5:P5),0),\"\")","v":"नागौर"},{"$f":"IFERROR(VLOOKUP($C$4&\"_\"&$A7,catagory_wise,COLUMNS($A$5:Q5),0),\"\")","v":9166023711},{"$f":"IFERROR(VLOOKUP($C$4&\"_\"&$A7,catagory_wise,COLUMNS($A$5:R5),0),\"\")","v":"sspkctakumar@gmail.com"},{"$f":"IFERROR(VLOOKUP($C$4&\"_\"&$A7,catagory_wise,COLUMNS($A$5:S5),0),\"\")","v":610370000000},{"$f":"IFERROR(VLOOKUP($C$4&\"_\"&$A7,catagory_wise,COLUMNS($A$5:T5),0),\"\")","v":"SBI"},{"$f":"IFERROR(VLOOKUP($C$4&\"_\"&$A7,catagory_wise,COLUMNS($A$5:U5),0),\"\")","v":"SBIN0031733"},{"$f":"IFERROR(VLOOKUP($C$4&\"_\"&$A7,catagory_wise,COLUMNS($A$5:V5),0),\"\")","v":"2011-10-19"},{"$f":"IFERROR(VLOOKUP($C$4&\"_\"&$A7,catagory_wise,COLUMNS($A$5:W5),0),\"\")","v":"2011-10-19"},{"$f":"IFERROR(VLOOKUP($C$4&\"_\"&$A7,catagory_wise,COLUMNS($A$5:X5),0),\"\")","v":"2011-11-19"},{"$f":"IFERROR(VLOOKUP($C$4&\"_\"&$A7,catagory_wise,COLUMNS($A$5:Y5),0),\"\")","v":"2011-11-19"},{"$f":"IFERROR(VLOOKUP($C$4&\"_\"&$A7,catagory_wise,COLUMNS($A$5:Z5),0),\"\")","v":0},{"$f":"IFERROR(VLOOKUP($C$4&\"_\"&$A7,catagory_wise,COLUMNS($A$5:AA5),0),\"\")","v":"2011-11-19"},{"$f":"IFERROR(VLOOKUP($C$4&\"_\"&$A7,catagory_wise,COLUMNS($A$5:AB5),0),\"\")","v":110000000000},{"$f":"IFERROR(VLOOKUP($C$4&\"_\"&$A7,catagory_wise,COLUMNS($A$5:AC5),0),\"\")","v":6123456},{"$f":"IFERROR(VLOOKUP($C$4&\"_\"&$A7,catagory_wise,COLUMNS($A$5:AD5),0),\"\")","v":123456781234},{"$f":"IFERROR(VLOOKUP($C$4&\"_\"&$A7,catagory_wise,COLUMNS($A$5:AE5),0),\"\")","v":"ZXZXZXD"},{"$f":"IFERROR(VLOOKUP($C$4&\"_\"&$A7,catagory_wise,COLUMNS($A$5:AF5),0),\"\")","v":0},{"$f":"IFERROR(VLOOKUP($C$4&\"_\"&$A7,catagory_wise,COLUMNS($A$5:AG5),0),\"\")","v":"ABCDE1111F"},{"$f":"IFERROR(VLOOKUP($C$4&\"_\"&$A7,catagory_wise,COLUMNS($A$5:AH5),0),\"\")","v":48500},{"$f":"IFERROR(VLOOKUP($C$4&\"_\"&$A7,catagory_wise,COLUMNS($A$5:AI5),0),\"\")","v":"M.A."},{"$f":"IFERROR(VLOOKUP($C$4&\"_\"&$A7,catagory_wise,COLUMNS($A$5:AJ5),0),\"\")","v":"M.Ed"}]
[2,{"$f":"IFERROR(VLOOKUP($C$4&\"_\"&$A8,catagory_wise,COLUMNS($A$5:C6),0),\"\")","v":""},{"$f":"IFERROR(VLOOKUP($C$4&\"_\"&$A8,catagory_wise,COLUMNS($A$5:D6),0),\"\")","v":""},{"$f":"IFERROR(VLOOKUP($C$4&\"_\"&$A8,catagory_wise,COLUMNS($A$5:E6),0),\"\")","v":""},{"$f":"IFERROR(VLOOKUP($C$4&\"_\"&$A8,catagory_wise,COLUMNS($A$5:F6),0),\"\")","v":""},{"$f":"IFERROR(VLOOKUP($C$4&\"_\"&$A8,catagory_wise,COLUMNS($A$5:G6),0),\"\")","v":""},{"$f":"IFERROR(VLOOKUP($C$4&\"_\"&$A8,catagory_wise,COLUMNS($A$5:H6),0),\"\")","v":""},{"$f":"IFERROR(VLOOKUP($C$4&\"_\"&$A8,catagory_wise,COLUMNS($A$5:I6),0),\"\")","v":""},{"$f":"IFERROR(VLOOKUP($C$4&\"_\"&$A8,catagory_wise,COLUMNS($A$5:J6),0),\"\")","v":""},{"$f":"IFERROR(VLOOKUP($C$4&\"_\"&$A8,catagory_wise,COLUMNS($A$5:K6),0),\"\")","v":""},{"$f":"IFERROR(VLOOKUP($C$4&\"_\"&$A8,catagory_wise,COLUMNS($A$5:L6),0),\"\")","v":""},{"$f":"IFERROR(VLOOKUP($C$4&\"_\"&$A8,catagory_wise,COLUMNS($A$5:M6),0),\"\")","v":""},{"$f":"IFERROR(VLOOKUP($C$4&\"_\"&$A8,catagory_wise,COLUMNS($A$5:N6),0),\"\")","v":""},{"$f":"IFERROR(VLOOKUP($C$4&\"_\"&$A8,catagory_wise,COLUMNS($A$5:O6),0),\"\")","v":""},{"$f":"IFERROR(VLOOKUP($C$4&\"_\"&$A8,catagory_wise,COLUMNS($A$5:P6),0),\"\")","v":""},{"$f":"IFERROR(VLOOKUP($C$4&\"_\"&$A8,catagory_wise,COLUMNS($A$5:Q6),0),\"\")","v":""},{"$f":"IFERROR(VLOOKUP($C$4&\"_\"&$A8,catagory_wise,COLUMNS($A$5:R6),0),\"\")","v":""},{"$f":"IFERROR(VLOOKUP($C$4&\"_\"&$A8,catagory_wise,COLUMNS($A$5:S6),0),\"\")","v":""},{"$f":"IFERROR(VLOOKUP($C$4&\"_\"&$A8,catagory_wise,COLUMNS($A$5:T6),0),\"\")","v":""},{"$f":"IFERROR(VLOOKUP($C$4&\"_\"&$A8,catagory_wise,COLUMNS($A$5:U6),0),\"\")","v":""},{"$f":"IFERROR(VLOOKUP($C$4&\"_\"&$A8,catagory_wise,COLUMNS($A$5:V6),0),\"\")","v":""},{"$f":"IFERROR(VLOOKUP($C$4&\"_\"&$A8,catagory_wise,COLUMNS($A$5:W6),0),\"\")","v":""},{"$f":"IFERROR(VLOOKUP($C$4&\"_\"&$A8,catagory_wise,COLUMNS($A$5:X6),0),\"\")","v":""},{"$f":"IFERROR(VLOOKUP($C$4&\"_\"&$A8,catagory_wise,COLUMNS($A$5:Y6),0),\"\")","v":""},{"$f":"IFERROR(VLOOKUP($C$4&\"_\"&$A8,catagory_wise,COLUMNS($A$5:Z6),0),\"\")","v":""},{"$f":"IFERROR(VLOOKUP($C$4&\"_\"&$A8,catagory_wise,COLUMNS($A$5:AA6),0),\"\")","v":""},{"$f":"IFERROR(VLOOKUP($C$4&\"_\"&$A8,catagory_wise,COLUMNS($A$5:AB6),0),\"\")","v":""},{"$f":"IFERROR(VLOOKUP($C$4&\"_\"&$A8,catagory_wise,COLUMNS($A$5:AC6),0),\"\")","v":""},{"$f":"IFERROR(VLOOKUP($C$4&\"_\"&$A8,catagory_wise,COLUMNS($A$5:AD6),0),\"\")","v":""},{"$f":"IFERROR(VLOOKUP($C$4&\"_\"&$A8,catagory_wise,COLUMNS($A$5:AE6),0),\"\")","v":""},{"$f":"IFERROR(VLOOKUP($C$4&\"_\"&$A8,catagory_wise,COLUMNS($A$5:AF6),0),\"\")","v":""},{"$f":"IFERROR(VLOOKUP($C$4&\"_\"&$A8,catagory_wise,COLUMNS($A$5:AG6),0),\"\")","v":""},{"$f":"IFERROR(VLOOKUP($C$4&\"_\"&$A8,catagory_wise,COLUMNS($A$5:AH6),0),\"\")","v":""},{"$f":"IFERROR(VLOOKUP($C$4&\"_\"&$A8,catagory_wise,COLUMNS($A$5:AI6),0),\"\")","v":""},{"$f":"IFERROR(VLOOKUP($C$4&\"_\"&$A8,catagory_wise,COLUMNS($A$5:AJ6),0),\"\")","v":""}]
[3,{"$f":"IFERROR(VLOOKUP($C$4&\"_\"&$A9,catagory_wise,COLUMNS($A$5:C7),0),\"\")","v":""},{"$f":"IFERROR(VLOOKUP($C$4&\"_\"&$A9,catagory_wise,COLUMNS($A$5:D7),0),\"\")","v":""},{"$f":"IFERROR(VLOOKUP($C$4&\"_\"&$A9,catagory_wise,COLUMNS($A$5:E7),0),\"\")","v":""},{"$f":"IFERROR(VLOOKUP($C$4&\"_\"&$A9,catagory_wise,COLUMNS($A$5:F7),0),\"\")","v":""},{"$f":"IFERROR(VLOOKUP($C$4&\"_\"&$A9,catagory_wise,COLUMNS($A$5:G7),0),\"\")","v":""},{"$f":"IFERROR(VLOOKUP($C$4&\"_\"&$A9,catagory_wise,COLUMNS($A$5:H7),0),\"\")","v":""},{"$f":"IFERROR(VLOOKUP($C$4&\"_\"&$A9,catagory_wise,COLUMNS($A$5:I7),0),\"\")","v":""},{"$f":"IFERROR(VLOOKUP($C$4&\"_\"&$A9,catagory_wise,COLUMNS($A$5:J7),0),\"\")","v":""},{"$f":"IFERROR(VLOOKUP($C$4&\"_\"&$A9,catagory_wise,COLUMNS($A$5:K7),0),\"\")","v":""},{"$f":"IFERROR(VLOOKUP($C$4&\"_\"&$A9,catagory_wise,COLUMNS($A$5:L7),0),\"\")","v":""},{"$f":"IFERROR(VLOOKUP($C$4&\"_\"&$A9,catagory_wise,COLUMNS($A$5:M7),0),\"\")","v":""},{"$f":"IFERROR(VLOOKUP($C$4&\"_\"&$A9,catagory_wise,COLUMNS($A$5:N7),0),\"\")","v":""},{"$f":"IFERROR(VLOOKUP($C$4&\"_\"&$A9,catagory_wise,COLUMNS($A$5:O7),0),\"\")","v":""},{"$f":"IFERROR(VLOOKUP($C$4&\"_\"&$A9,catagory_wise,COLUMNS($A$5:P7),0),\"\")","v":""},{"$f":"IFERROR(VLOOKUP($C$4&\"_\"&$A9,catagory_wise,COLUMNS($A$5:Q7),0),\"\")","v":""},{"$f":"IFERROR(VLOOKUP($C$4&\"_\"&$A9,catagory_wise,COLUMNS($A$5:R7),0),\"\")","v":""},{"$f":"IFERROR(VLOOKUP($C$4&\"_\"&$A9,catagory_wise,COLUMNS($A$5:S7),0),\"\")","v":""},{"$f":"IFERROR(VLOOKUP($C$4&\"_\"&$A9,catagory_wise,COLUMNS($A$5:T7),0),\"\")","v":""},{"$f":"IFERROR(VLOOKUP($C$4&\"_\"&$A9,catagory_wise,COLUMNS($A$5:U7),0),\"\")","v":""},{"$f":"IFERROR(VLOOKUP($C$4&\"_\"&$A9,catagory_wise,COLUMNS($A$5:V7),0),\"\")","v":""},{"$f":"IFERROR(VLOOKUP($C$4&\"_\"&$A9,catagory_wise,COLUMNS($A$5:W7),0),\"\")","v":""},{"$f":"IFERROR(VLOOKUP($C$4&\"_\"&$A9,catagory_wise,COLUMNS($A$5:X7),0),\"\")","v":""},{"$f":"IFERROR(VLOOKUP($C$4&\"_\"&$A9,catagory_wise,COLUMNS($A$5:Y7),0),\"\")","v":""},{"$f":"IFERROR(VLOOKUP($C$4&\"_\"&$A9,catagory_wise,COLUMNS($A$5:Z7),0),\"\")","v":""},{"$f":"IFERROR(VLOOKUP($C$4&\"_\"&$A9,catagory_wise,COLUMNS($A$5:AA7),0),\"\")","v":""},{"$f":"IFERROR(VLOOKUP($C$4&\"_\"&$A9,catagory_wise,COLUMNS($A$5:AB7),0),\"\")","v":""},{"$f":"IFERROR(VLOOKUP($C$4&\"_\"&$A9,catagory_wise,COLUMNS($A$5:AC7),0),\"\")","v":""},{"$f":"IFERROR(VLOOKUP($C$4&\"_\"&$A9,catagory_wise,COLUMNS($A$5:AD7),0),\"\")","v":""},{"$f":"IFERROR(VLOOKUP($C$4&\"_\"&$A9,catagory_wise,COLUMNS($A$5:AE7),0),\"\")","v":""},{"$f":"IFERROR(VLOOKUP($C$4&\"_\"&$A9,catagory_wise,COLUMNS($A$5:AF7),0),\"\")","v":""},{"$f":"IFERROR(VLOOKUP($C$4&\"_\"&$A9,catagory_wise,COLUMNS($A$5:AG7),0),\"\")","v":""},{"$f":"IFERROR(VLOOKUP($C$4&\"_\"&$A9,catagory_wise,COLUMNS($A$5:AH7),0),\"\")","v":""},{"$f":"IFERROR(VLOOKUP($C$4&\"_\"&$A9,catagory_wise,COLUMNS($A$5:AI7),0),\"\")","v":""},{"$f":"IFERROR(VLOOKUP($C$4&\"_\"&$A9,catagory_wise,COLUMNS($A$5:AJ7),0),\"\")","v":""}]
[4,{"$f":"IFERROR(VLOOKUP($C$4&\"_\"&$A10,catagory_wise,COLUMNS($A$5:C8),0),\"\")","v":""},{"$f":"IFERROR(VLOOKUP($C$4&\"_\"&$A10,catagory_wise,COLUMNS($A$5:D8),0),\"\")","v":""},{"$f":"IFERROR(VLOOKUP($C$4&\"_\"&$A10,catagory_wise,COLUMNS($A$5:E8),0),\"\")","v":""},{"$f":"IFERROR(VLOOKUP($C$4&\"_\"&$A10,catagory_wise,COLUMNS($A$5:F8),0),\"\")","v":""},{"$f":"IFERROR(VLOOKUP($C$4&\"_\"&$A10,catagory_wise,COLUMNS($A$5:G8),0),\"\")","v":""},{"$f":"IFERROR(VLOOKUP($C$4&\"_\"&$A10,catagory_wise,COLUMNS($A$5:H8),0),\"\")","v":""},{"$f":"IFERROR(VLOOKUP($C$4&\"_\"&$A10,catagory_wise,COLUMNS($A$5:I8),0),\"\")","v":""},{"$f":"IFERROR(VLOOKUP($C$4&\"_\"&$A10,catagory_wise,COLUMNS($A$5:J8),0),\"\")","v":""},{"$f":"IFERROR(VLOOKUP($C$4&\"_\"&$A10,catagory_wise,COLUMNS($A$5:K8),0),\"\")","v":""},{"$f":"IFERROR(VLOOKUP($C$4&\"_\"&$A10,catagory_wise,COLUMNS($A$5:L8),0),\"\")","v":""},{"$f":"IFERROR(VLOOKUP($C$4&\"_\"&$A10,catagory_wise,COLUMNS($A$5:M8),0),\"\")","v":""},{"$f":"IFERROR(VLOOKUP($C$4&\"_\"&$A10,catagory_wise,COLUMNS($A$5:N8),0),\"\")","v":""},{"$f":"IFERROR(VLOOKUP($C$4&\"_\"&$A10,catagory_wise,COLUMNS($A$5:O8),0),\"\")","v":""},{"$f":"IFERROR(VLOOKUP($C$4&\"_\"&$A10,catagory_wise,COLUMNS($A$5:P8),0),\"\")","v":""},{"$f":"IFERROR(VLOOKUP($C$4&\"_\"&$A10,catagory_wise,COLUMNS($A$5:Q8),0),\"\")","v":""},{"$f":"IFERROR(VLOOKUP($C$4&\"_\"&$A10,catagory_wise,COLUMNS($A$5:R8),0),\"\")","v":""},{"$f":"IFERROR(VLOOKUP($C$4&\"_\"&$A10,catagory_wise,COLUMNS($A$5:S8),0),\"\")","v":""},{"$f":"IFERROR(VLOOKUP($C$4&\"_\"&$A10,catagory_wise,COLUMNS($A$5:T8),0),\"\")","v":""},{"$f":"IFERROR(VLOOKUP($C$4&\"_\"&$A10,catagory_wise,COLUMNS($A$5:U8),0),\"\")","v":""},{"$f":"IFERROR(VLOOKUP($C$4&\"_\"&$A10,catagory_wise,COLUMNS($A$5:V8),0),\"\")","v":""},{"$f":"IFERROR(VLOOKUP($C$4&\"_\"&$A10,catagory_wise,COLUMNS($A$5:W8),0),\"\")","v":""},{"$f":"IFERROR(VLOOKUP($C$4&\"_\"&$A10,catagory_wise,COLUMNS($A$5:X8),0),\"\")","v":""},{"$f":"IFERROR(VLOOKUP($C$4&\"_\"&$A10,catagory_wise,COLUMNS($A$5:Y8),0),\"\")","v":""},{"$f":"IFERROR(VLOOKUP($C$4&\"_\"&$A10,catagory_wise,COLUMNS($A$5:Z8),0),\"\")","v":""},{"$f":"IFERROR(VLOOKUP($C$4&\"_\"&$A10,catagory_wise,COLUMNS($A$5:AA8),0),\"\")","v":""},{"$f":"IFERROR(VLOOKUP($C$4&\"_\"&$A10,catagory_wise,COLUMNS($A$5:AB8),0),\"\")","v":""},{"$f":"IFERROR(VLOOKUP($C$4&\"_\"&$A10,catagory_wise,COLUMNS($A$5:AC8),0),\"\")","v":""},{"$f":"IFERROR(VLOOKUP($C$4&\"_\"&$A10,catagory_wise,COLUMNS($A$5:AD8),0),\"\")","v":""},{"$f":"IFERROR(VLOOKUP($C$4&\"_\"&$A10,catagory_wise,COLUMNS($A$5:AE8),0),\"\")","v":""},{"$f":"IFERROR(VLOOKUP($C$4&\"_\"&$A10,catagory_wise,COLUMNS($A$5:AF8),0),\"\")","v":""},{"$f":"IFERROR(VLOOKUP($C$4&\"_\"&$A10,catagory_wise,COLUMNS($A$5:AG8),0),\"\")","v":""},{"$f":"IFERROR(VLOOKUP($C$4&\"_\"&$A10,catagory_wise,COLUMNS($A$5:AH8),0),\"\")","v":""},{"$f":"IFERROR(VLOOKUP($C$4&\"_\"&$A10,catagory_wise,COLUMNS($A$5:AI8),0),\"\")","v":""},{"$f":"IFERROR(VLOOKUP($C$4&\"_\"&$A10,catagory_wise,COLUMNS($A$5:AJ8),0),\"\")","v":""}]
[5,{"$f":"IFERROR(VLOOKUP($C$4&\"_\"&$A11,catagory_wise,COLUMNS($A$5:C9),0),\"\")","v":""},{"$f":"IFERROR(VLOOKUP($C$4&\"_\"&$A11,catagory_wise,COLUMNS($A$5:D9),0),\"\")","v":""},{"$f":"IFERROR(VLOOKUP($C$4&\"_\"&$A11,catagory_wise,COLUMNS($A$5:E9),0),\"\")","v":""},{"$f":"IFERROR(VLOOKUP($C$4&\"_\"&$A11,catagory_wise,COLUMNS($A$5:F9),0),\"\")","v":""},{"$f":"IFERROR(VLOOKUP($C$4&\"_\"&$A11,catagory_wise,COLUMNS($A$5:G9),0),\"\")","v":""},{"$f":"IFERROR(VLOOKUP($C$4&\"_\"&$A11,catagory_wise,COLUMNS($A$5:H9),0),\"\")","v":""},{"$f":"IFERROR(VLOOKUP($C$4&\"_\"&$A11,catagory_wise,COLUMNS($A$5:I9),0),\"\")","v":""},{"$f":"IFERROR(VLOOKUP($C$4&\"_\"&$A11,catagory_wise,COLUMNS($A$5:J9),0),\"\")","v":""},{"$f":"IFERROR(VLOOKUP($C$4&\"_\"&$A11,catagory_wise,COLUMNS($A$5:K9),0),\"\")","v":""},{"$f":"IFERROR(VLOOKUP($C$4&\"_\"&$A11,catagory_wise,COLUMNS($A$5:L9),0),\"\")","v":""},{"$f":"IFERROR(VLOOKUP($C$4&\"_\"&$A11,catagory_wise,COLUMNS($A$5:M9),0),\"\")","v":""},{"$f":"IFERROR(VLOOKUP($C$4&\"_\"&$A11,catagory_wise,COLUMNS($A$5:N9),0),\"\")","v":""},{"$f":"IFERROR(VLOOKUP($C$4&\"_\"&$A11,catagory_wise,COLUMNS($A$5:O9),0),\"\")","v":""},{"$f":"IFERROR(VLOOKUP($C$4&\"_\"&$A11,catagory_wise,COLUMNS($A$5:P9),0),\"\")","v":""},{"$f":"IFERROR(VLOOKUP($C$4&\"_\"&$A11,catagory_wise,COLUMNS($A$5:Q9),0),\"\")","v":""},{"$f":"IFERROR(VLOOKUP($C$4&\"_\"&$A11,catagory_wise,COLUMNS($A$5:R9),0),\"\")","v":""},{"$f":"IFERROR(VLOOKUP($C$4&\"_\"&$A11,catagory_wise,COLUMNS($A$5:S9),0),\"\")","v":""},{"$f":"IFERROR(VLOOKUP($C$4&\"_\"&$A11,catagory_wise,COLUMNS($A$5:T9),0),\"\")","v":""},{"$f":"IFERROR(VLOOKUP($C$4&\"_\"&$A11,catagory_wise,COLUMNS($A$5:U9),0),\"\")","v":""},{"$f":"IFERROR(VLOOKUP($C$4&\"_\"&$A11,catagory_wise,COLUMNS($A$5:V9),0),\"\")","v":""},{"$f":"IFERROR(VLOOKUP($C$4&\"_\"&$A11,catagory_wise,COLUMNS($A$5:W9),0),\"\")","v":""},{"$f":"IFERROR(VLOOKUP($C$4&\"_\"&$A11,catagory_wise,COLUMNS($A$5:X9),0),\"\")","v":""},{"$f":"IFERROR(VLOOKUP($C$4&\"_\"&$A11,catagory_wise,COLUMNS($A$5:Y9),0),\"\")","v":""},{"$f":"IFERROR(VLOOKUP($C$4&\"_\"&$A11,catagory_wise,COLUMNS($A$5:Z9),0),\"\")","v":""},{"$f":"IFERROR(VLOOKUP($C$4&\"_\"&$A11,catagory_wise,COLUMNS($A$5:AA9),0),\"\")","v":""},{"$f":"IFERROR(VLOOKUP($C$4&\"_\"&$A11,catagory_wise,COLUMNS($A$5:AB9),0),\"\")","v":""},{"$f":"IFERROR(VLOOKUP($C$4&\"_\"&$A11,catagory_wise,COLUMNS($A$5:AC9),0),\"\")","v":""},{"$f":"IFERROR(VLOOKUP($C$4&\"_\"&$A11,catagory_wise,COLUMNS($A$5:AD9),0),\"\")","v":""},{"$f":"IFERROR(VLOOKUP($C$4&\"_\"&$A11,catagory_wise,COLUMNS($A$5:AE9),0),\"\")","v":""},{"$f":"IFERROR(VLOOKUP($C$4&\"_\"&$A11,catagory_wise,COLUMNS($A$5:AF9),0),\"\")","v":""},{"$f":"IFERROR(VLOOKUP($C$4&\"_\"&$A11,catagory_wise,COLUMNS($A$5:AG9),0),\"\")","v":""},{"$f":"IFERROR(VLOOKUP($C$4&\"_\"&$A11,catagory_wise,COLUMNS($A$5:AH9),0),\"\")","v":""},{"$f":"IFERROR(VLOOKUP($C$4&\"_\"&$A11,catagory_wise,COLUMNS($A$5:AI9),0),\"\")","v":""},{"$f":"IFERROR(VLOOKUP($C$4&\"_\"&$A11,catagory_wise,COLUMNS($A$5:AJ9),0),\"\")","v":""}]
[6,{"$f":"IFERROR(VLOOKUP($C$4&\"_\"&$A12,catagory_wise,COLUMNS($A$5:C10),0),\"\")","v":""},{"$f":"IFERROR(VLOOKUP($C$4&\"_\"&$A12,catagory_wise,COLUMNS($A$5:D10),0),\"\")","v":""},{"$f":"IFERROR(VLOOKUP($C$4&\"_\"&$A12,catagory_wise,COLUMNS($A$5:E10),0),\"\")","v":""},{"$f":"IFERROR(VLOOKUP($C$4&\"_\"&$A12,catagory_wise,COLUMNS($A$5:F10),0),\"\")","v":""},{"$f":"IFERROR(VLOOKUP($C$4&\"_\"&$A12,catagory_wise,COLUMNS($A$5:G10),0),\"\")","v":""},{"$f":"IFERROR(VLOOKUP($C$4&\"_\"&$A12,catagory_wise,COLUMNS($A$5:H10),0),\"\")","v":""},{"$f":"IFERROR(VLOOKUP($C$4&\"_\"&$A12,catagory_wise,COLUMNS($A$5:I10),0),\"\")","v":""},{"$f":"IFERROR(VLOOKUP($C$4&\"_\"&$A12,catagory_wise,COLUMNS($A$5:J10),0),\"\")","v":""},{"$f":"IFERROR(VLOOKUP($C$4&\"_\"&$A12,catagory_wise,COLUMNS($A$5:K10),0),\"\")","v":""},{"$f":"IFERROR(VLOOKUP($C$4&\"_\"&$A12,catagory_wise,COLUMNS($A$5:L10),0),\"\")","v":""},{"$f":"IFERROR(VLOOKUP($C$4&\"_\"&$A12,catagory_wise,COLUMNS($A$5:M10),0),\"\")","v":""},{"$f":"IFERROR(VLOOKUP($C$4&\"_\"&$A12,catagory_wise,COLUMNS($A$5:N10),0),\"\")","v":""},{"$f":"IFERROR(VLOOKUP($C$4&\"_\"&$A12,catagory_wise,COLUMNS($A$5:O10),0),\"\")","v":""},{"$f":"IFERROR(VLOOKUP($C$4&\"_\"&$A12,catagory_wise,COLUMNS($A$5:P10),0),\"\")","v":""},{"$f":"IFERROR(VLOOKUP($C$4&\"_\"&$A12,catagory_wise,COLUMNS($A$5:Q10),0),\"\")","v":""},{"$f":"IFERROR(VLOOKUP($C$4&\"_\"&$A12,catagory_wise,COLUMNS($A$5:R10),0),\"\")","v":""},{"$f":"IFERROR(VLOOKUP($C$4&\"_\"&$A12,catagory_wise,COLUMNS($A$5:S10),0),\"\")","v":""},{"$f":"IFERROR(VLOOKUP($C$4&\"_\"&$A12,catagory_wise,COLUMNS($A$5:T10),0),\"\")","v":""},{"$f":"IFERROR(VLOOKUP($C$4&\"_\"&$A12,catagory_wise,COLUMNS($A$5:U10),0),\"\")","v":""},{"$f":"IFERROR(VLOOKUP($C$4&\"_\"&$A12,catagory_wise,COLUMNS($A$5:V10),0),\"\")","v":""},{"$f":"IFERROR(VLOOKUP($C$4&\"_\"&$A12,catagory_wise,COLUMNS($A$5:W10),0),\"\")","v":""},{"$f":"IFERROR(VLOOKUP($C$4&\"_\"&$A12,catagory_wise,COLUMNS($A$5:X10),0),\"\")","v":""},{"$f":"IFERROR(VLOOKUP($C$4&\"_\"&$A12,catagory_wise,COLUMNS($A$5:Y10),0),\"\")","v":""},{"$f":"IFERROR(VLOOKUP($C$4&\"_\"&$A12,catagory_wise,COLUMNS($A$5:Z10),0),\"\")","v":""},{"$f":"IFERROR(VLOOKUP($C$4&\"_\"&$A12,catagory_wise,COLUMNS($A$5:AA10),0),\"\")","v":""},{"$f":"IFERROR(VLOOKUP($C$4&\"_\"&$A12,catagory_wise,COLUMNS($A$5:AB10),0),\"\")","v":""},{"$f":"IFERROR(VLOOKUP($C$4&\"_\"&$A12,catagory_wise,COLUMNS($A$5:AC10),0),\"\")","v":""},{"$f":"IFERROR(VLOOKUP($C$4&\"_\"&$A12,catagory_wise,COLUMNS($A$5:AD10),0),\"\")","v":""},{"$f":"IFERROR(VLOOKUP($C$4&\"_\"&$A12,catagory_wise,COLUMNS($A$5:AE10),0),\"\")","v":""},{"$f":"IFERROR(VLOOKUP($C$4&\"_\"&$A12,catagory_wise,COLUMNS($A$5:AF10),0),\"\")","v":""},{"$f":"IFERROR(VLOOKUP($C$4&\"_\"&$A12,catagory_wise,COLUMNS($A$5:AG10),0),\"\")","v":""},{"$f":"IFERROR(VLOOKUP($C$4&\"_\"&$A12,catagory_wise,COLUMNS($A$5:AH10),0),\"\")","v":""},{"$f":"IFERROR(VLOOKUP($C$4&\"_\"&$A12,catagory_wise,COLUMNS($A$5:AI10),0),\"\")","v":""},{"$f":"IFERROR(VLOOKUP($C$4&\"_\"&$A12,catagory_wise,COLUMNS($A$5:AJ10),0),\"\")","v":""}]
[7,{"$f":"IFERROR(VLOOKUP($C$4&\"_\"&$A13,catagory_wise,COLUMNS($A$5:C11),0),\"\")","v":""},{"$f":"IFERROR(VLOOKUP($C$4&\"_\"&$A13,catagory_wise,COLUMNS($A$5:D11),0),\"\")","v":""},{"$f":"IFERROR(VLOOKUP($C$4&\"_\"&$A13,catagory_wise,COLUMNS($A$5:E11),0),\"\")","v":""},{"$f":"IFERROR(VLOOKUP($C$4&\"_\"&$A13,catagory_wise,COLUMNS($A$5:F11),0),\"\")","v":""},{"$f":"IFERROR(VLOOKUP($C$4&\"_\"&$A13,catagory_wise,COLUMNS($A$5:G11),0),\"\")","v":""},{"$f":"IFERROR(VLOOKUP($C$4&\"_\"&$A13,catagory_wise,COLUMNS($A$5:H11),0),\"\")","v":""},{"$f":"IFERROR(VLOOKUP($C$4&\"_\"&$A13,catagory_wise,COLUMNS($A$5:I11),0),\"\")","v":""},{"$f":"IFERROR(VLOOKUP($C$4&\"_\"&$A13,catagory_wise,COLUMNS($A$5:J11),0),\"\")","v":""},{"$f":"IFERROR(VLOOKUP($C$4&\"_\"&$A13,catagory_wise,COLUMNS($A$5:K11),0),\"\")","v":""},{"$f":"IFERROR(VLOOKUP($C$4&\"_\"&$A13,catagory_wise,COLUMNS($A$5:L11),0),\"\")","v":""},{"$f":"IFERROR(VLOOKUP($C$4&\"_\"&$A13,catagory_wise,COLUMNS($A$5:M11),0),\"\")","v":""},{"$f":"IFERROR(VLOOKUP($C$4&\"_\"&$A13,catagory_wise,COLUMNS($A$5:N11),0),\"\")","v":""},{"$f":"IFERROR(VLOOKUP($C$4&\"_\"&$A13,catagory_wise,COLUMNS($A$5:O11),0),\"\")","v":""},{"$f":"IFERROR(VLOOKUP($C$4&\"_\"&$A13,catagory_wise,COLUMNS($A$5:P11),0),\"\")","v":""},{"$f":"IFERROR(VLOOKUP($C$4&\"_\"&$A13,catagory_wise,COLUMNS($A$5:Q11),0),\"\")","v":""},{"$f":"IFERROR(VLOOKUP($C$4&\"_\"&$A13,catagory_wise,COLUMNS($A$5:R11),0),\"\")","v":""},{"$f":"IFERROR(VLOOKUP($C$4&\"_\"&$A13,catagory_wise,COLUMNS($A$5:S11),0),\"\")","v":""},{"$f":"IFERROR(VLOOKUP($C$4&\"_\"&$A13,catagory_wise,COLUMNS($A$5:T11),0),\"\")","v":""},{"$f":"IFERROR(VLOOKUP($C$4&\"_\"&$A13,catagory_wise,COLUMNS($A$5:U11),0),\"\")","v":""},{"$f":"IFERROR(VLOOKUP($C$4&\"_\"&$A13,catagory_wise,COLUMNS($A$5:V11),0),\"\")","v":""},{"$f":"IFERROR(VLOOKUP($C$4&\"_\"&$A13,catagory_wise,COLUMNS($A$5:W11),0),\"\")","v":""},{"$f":"IFERROR(VLOOKUP($C$4&\"_\"&$A13,catagory_wise,COLUMNS($A$5:X11),0),\"\")","v":""},{"$f":"IFERROR(VLOOKUP($C$4&\"_\"&$A13,catagory_wise,COLUMNS($A$5:Y11),0),\"\")","v":""},{"$f":"IFERROR(VLOOKUP($C$4&\"_\"&$A13,catagory_wise,COLUMNS($A$5:Z11),0),\"\")","v":""},{"$f":"IFERROR(VLOOKUP($C$4&\"_\"&$A13,catagory_wise,COLUMNS($A$5:AA11),0),\"\")","v":""},{"$f":"IFERROR(VLOOKUP($C$4&\"_\"&$A13,catagory_wise,COLUMNS($A$5:AB11),0),\"\")","v":""},{"$f":"IFERROR(VLOOKUP($C$4&\"_\"&$A13,catagory_wise,COLUMNS($A$5:AC11),0),\"\")","v":""},{"$f":"IFERROR(VLOOKUP($C$4&\"_\"&$A13,catagory_wise,COLUMNS($A$5:AD11),0),\"\")","v":""},{"$f":"IFERROR(VLOOKUP($C$4&\"_\"&$A13,catagory_wise,COLUMNS($A$5:AE11),0),\"\")","v":""},{"$f":"IFERROR(VLOOKUP($C$4&\"_\"&$A13,catagory_wise,COLUMNS($A$5:AF11),0),\"\")","v":""},{"$f":"IFERROR(VLOOKUP($C$4&\"_\"&$A13,catagory_wise,COLUMNS($A$5:AG11),0),\"\")","v":""},{"$f":"IFERROR(VLOOKUP($C$4&\"_\"&$A13,catagory_wise,COLUMNS($A$5:AH11),0),\"\")","v":""},{"$f":"IFERROR(VLOOKUP($C$4&\"_\"&$A13,catagory_wise,COLUMNS($A$5:AI11),0),\"\")","v":""},{"$f":"IFERROR(VLOOKUP($C$4&\"_\"&$A13,catagory_wise,COLUMNS($A$5:AJ11),0),\"\")","v":""}]
[8,{"$f":"IFERROR(VLOOKUP($C$4&\"_\"&$A14,catagory_wise,COLUMNS($A$5:C12),0),\"\")","v":""},{"$f":"IFERROR(VLOOKUP($C$4&\"_\"&$A14,catagory_wise,COLUMNS($A$5:D12),0),\"\")","v":""},{"$f":"IFERROR(VLOOKUP($C$4&\"_\"&$A14,catagory_wise,COLUMNS($A$5:E12),0),\"\")","v":""},{"$f":"IFERROR(VLOOKUP($C$4&\"_\"&$A14,catagory_wise,COLUMNS($A$5:F12),0),\"\")","v":""},{"$f":"IFERROR(VLOOKUP($C$4&\"_\"&$A14,catagory_wise,COLUMNS($A$5:G12),0),\"\")","v":""},{"$f":"IFERROR(VLOOKUP($C$4&\"_\"&$A14,catagory_wise,COLUMNS($A$5:H12),0),\"\")","v":""},{"$f":"IFERROR(VLOOKUP($C$4&\"_\"&$A14,catagory_wise,COLUMNS($A$5:I12),0),\"\")","v":""},{"$f":"IFERROR(VLOOKUP($C$4&\"_\"&$A14,catagory_wise,COLUMNS($A$5:J12),0),\"\")","v":""},{"$f":"IFERROR(VLOOKUP($C$4&\"_\"&$A14,catagory_wise,COLUMNS($A$5:K12),0),\"\")","v":""},{"$f":"IFERROR(VLOOKUP($C$4&\"_\"&$A14,catagory_wise,COLUMNS($A$5:L12),0),\"\")","v":""},{"$f":"IFERROR(VLOOKUP($C$4&\"_\"&$A14,catagory_wise,COLUMNS($A$5:M12),0),\"\")","v":""},{"$f":"IFERROR(VLOOKUP($C$4&\"_\"&$A14,catagory_wise,COLUMNS($A$5:N12),0),\"\")","v":""},{"$f":"IFERROR(VLOOKUP($C$4&\"_\"&$A14,catagory_wise,COLUMNS($A$5:O12),0),\"\")","v":""},{"$f":"IFERROR(VLOOKUP($C$4&\"_\"&$A14,catagory_wise,COLUMNS($A$5:P12),0),\"\")","v":""},{"$f":"IFERROR(VLOOKUP($C$4&\"_\"&$A14,catagory_wise,COLUMNS($A$5:Q12),0),\"\")","v":""},{"$f":"IFERROR(VLOOKUP($C$4&\"_\"&$A14,catagory_wise,COLUMNS($A$5:R12),0),\"\")","v":""},{"$f":"IFERROR(VLOOKUP($C$4&\"_\"&$A14,catagory_wise,COLUMNS($A$5:S12),0),\"\")","v":""},{"$f":"IFERROR(VLOOKUP($C$4&\"_\"&$A14,catagory_wise,COLUMNS($A$5:T12),0),\"\")","v":""},{"$f":"IFERROR(VLOOKUP($C$4&\"_\"&$A14,catagory_wise,COLUMNS($A$5:U12),0),\"\")","v":""},{"$f":"IFERROR(VLOOKUP($C$4&\"_\"&$A14,catagory_wise,COLUMNS($A$5:V12),0),\"\")","v":""},{"$f":"IFERROR(VLOOKUP($C$4&\"_\"&$A14,catagory_wise,COLUMNS($A$5:W12),0),\"\")","v":""},{"$f":"IFERROR(VLOOKUP($C$4&\"_\"&$A14,catagory_wise,COLUMNS($A$5:X12),0),\"\")","v":""},{"$f":"IFERROR(VLOOKUP($C$4&\"_\"&$A14,catagory_wise,COLUMNS($A$5:Y12),0),\"\")","v":""},{"$f":"IFERROR(VLOOKUP($C$4&\"_\"&$A14,catagory_wise,COLUMNS($A$5:Z12),0),\"\")","v":""},{"$f":"IFERROR(VLOOKUP($C$4&\"_\"&$A14,catagory_wise,COLUMNS($A$5:AA12),0),\"\")","v":""},{"$f":"IFERROR(VLOOKUP($C$4&\"_\"&$A14,catagory_wise,COLUMNS($A$5:AB12),0),\"\")","v":""},{"$f":"IFERROR(VLOOKUP($C$4&\"_\"&$A14,catagory_wise,COLUMNS($A$5:AC12),0),\"\")","v":""},{"$f":"IFERROR(VLOOKUP($C$4&\"_\"&$A14,catagory_wise,COLUMNS($A$5:AD12),0),\"\")","v":""},{"$f":"IFERROR(VLOOKUP($C$4&\"_\"&$A14,catagory_wise,COLUMNS($A$5:AE12),0),\"\")","v":""},{"$f":"IFERROR(VLOOKUP($C$4&\"_\"&$A14,catagory_wise,COLUMNS($A$5:AF12),0),\"\")","v":""},{"$f":"IFERROR(VLOOKUP($C$4&\"_\"&$A14,catagory_wise,COLUMNS($A$5:AG12),0),\"\")","v":""},{"$f":"IFERROR(VLOOKUP($C$4&\"_\"&$A14,catagory_wise,COLUMNS($A$5:AH12),0),\"\")","v":""},{"$f":"IFERROR(VLOOKUP($C$4&\"_\"&$A14,catagory_wise,COLUMNS($A$5:AI12),0),\"\")","v":""},{"$f":"IFERROR(VLOOKUP($C$4&\"_\"&$A14,catagory_wise,COLUMNS($A$5:AJ12),0),\"\")","v":""}]
[9,{"$f":"IFERROR(VLOOKUP($C$4&\"_\"&$A15,catagory_wise,COLUMNS($A$5:C13),0),\"\")","v":""},{"$f":"IFERROR(VLOOKUP($C$4&\"_\"&$A15,catagory_wise,COLUMNS($A$5:D13),0),\"\")","v":""},{"$f":"IFERROR(VLOOKUP($C$4&\"_\"&$A15,catagory_wise,COLUMNS($A$5:E13),0),\"\")","v":""},{"$f":"IFERROR(VLOOKUP($C$4&\"_\"&$A15,catagory_wise,COLUMNS($A$5:F13),0),\"\")","v":""},{"$f":"IFERROR(VLOOKUP($C$4&\"_\"&$A15,catagory_wise,COLUMNS($A$5:G13),0),\"\")","v":""},{"$f":"IFERROR(VLOOKUP($C$4&\"_\"&$A15,catagory_wise,COLUMNS($A$5:H13),0),\"\")","v":""},{"$f":"IFERROR(VLOOKUP($C$4&\"_\"&$A15,catagory_wise,COLUMNS($A$5:I13),0),\"\")","v":""},{"$f":"IFERROR(VLOOKUP($C$4&\"_\"&$A15,catagory_wise,COLUMNS($A$5:J13),0),\"\")","v":""},{"$f":"IFERROR(VLOOKUP($C$4&\"_\"&$A15,catagory_wise,COLUMNS($A$5:K13),0),\"\")","v":""},{"$f":"IFERROR(VLOOKUP($C$4&\"_\"&$A15,catagory_wise,COLUMNS($A$5:L13),0),\"\")","v":""},{"$f":"IFERROR(VLOOKUP($C$4&\"_\"&$A15,catagory_wise,COLUMNS($A$5:M13),0),\"\")","v":""},{"$f":"IFERROR(VLOOKUP($C$4&\"_\"&$A15,catagory_wise,COLUMNS($A$5:N13),0),\"\")","v":""},{"$f":"IFERROR(VLOOKUP($C$4&\"_\"&$A15,catagory_wise,COLUMNS($A$5:O13),0),\"\")","v":""},{"$f":"IFERROR(VLOOKUP($C$4&\"_\"&$A15,catagory_wise,COLUMNS($A$5:P13),0),\"\")","v":""},{"$f":"IFERROR(VLOOKUP($C$4&\"_\"&$A15,catagory_wise,COLUMNS($A$5:Q13),0),\"\")","v":""},{"$f":"IFERROR(VLOOKUP($C$4&\"_\"&$A15,catagory_wise,COLUMNS($A$5:R13),0),\"\")","v":""},{"$f":"IFERROR(VLOOKUP($C$4&\"_\"&$A15,catagory_wise,COLUMNS($A$5:S13),0),\"\")","v":""},{"$f":"IFERROR(VLOOKUP($C$4&\"_\"&$A15,catagory_wise,COLUMNS($A$5:T13),0),\"\")","v":""},{"$f":"IFERROR(VLOOKUP($C$4&\"_\"&$A15,catagory_wise,COLUMNS($A$5:U13),0),\"\")","v":""},{"$f":"IFERROR(VLOOKUP($C$4&\"_\"&$A15,catagory_wise,COLUMNS($A$5:V13),0),\"\")","v":""},{"$f":"IFERROR(VLOOKUP($C$4&\"_\"&$A15,catagory_wise,COLUMNS($A$5:W13),0),\"\")","v":""},{"$f":"IFERROR(VLOOKUP($C$4&\"_\"&$A15,catagory_wise,COLUMNS($A$5:X13),0),\"\")","v":""},{"$f":"IFERROR(VLOOKUP($C$4&\"_\"&$A15,catagory_wise,COLUMNS($A$5:Y13),0),\"\")","v":""},{"$f":"IFERROR(VLOOKUP($C$4&\"_\"&$A15,catagory_wise,COLUMNS($A$5:Z13),0),\"\")","v":""},{"$f":"IFERROR(VLOOKUP($C$4&\"_\"&$A15,catagory_wise,COLUMNS($A$5:AA13),0),\"\")","v":""},{"$f":"IFERROR(VLOOKUP($C$4&\"_\"&$A15,catagory_wise,COLUMNS($A$5:AB13),0),\"\")","v":""},{"$f":"IFERROR(VLOOKUP($C$4&\"_\"&$A15,catagory_wise,COLUMNS($A$5:AC13),0),\"\")","v":""},{"$f":"IFERROR(VLOOKUP($C$4&\"_\"&$A15,catagory_wise,COLUMNS($A$5:AD13),0),\"\")","v":""},{"$f":"IFERROR(VLOOKUP($C$4&\"_\"&$A15,catagory_wise,COLUMNS($A$5:AE13),0),\"\")","v":""},{"$f":"IFERROR(VLOOKUP($C$4&\"_\"&$A15,catagory_wise,COLUMNS($A$5:AF13),0),\"\")","v":""},{"$f":"IFERROR(VLOOKUP($C$4&\"_\"&$A15,catagory_wise,COLUMNS($A$5:AG13),0),\"\")","v":""},{"$f":"IFERROR(VLOOKUP($C$4&\"_\"&$A15,catagory_wise,COLUMNS($A$5:AH13),0),\"\")","v":""},{"$f":"IFERROR(VLOOKUP($C$4&\"_\"&$A15,catagory_wise,COLUMNS($A$5:AI13),0),\"\")","v":""},{"$f":"IFERROR(VLOOKUP($C$4&\"_\"&$A15,catagory_wise,COLUMNS($A$5:AJ13),0),\"\")","v":""}]
[10,{"$f":"IFERROR(VLOOKUP($C$4&\"_\"&$A16,catagory_wise,COLUMNS($A$5:C14),0),\"\")","v":""},{"$f":"IFERROR(VLOOKUP($C$4&\"_\"&$A16,catagory_wise,COLUMNS($A$5:D14),0),\"\")","v":""},{"$f":"IFERROR(VLOOKUP($C$4&\"_\"&$A16,catagory_wise,COLUMNS($A$5:E14),0),\"\")","v":""},{"$f":"IFERROR(VLOOKUP($C$4&\"_\"&$A16,catagory_wise,COLUMNS($A$5:F14),0),\"\")","v":""},{"$f":"IFERROR(VLOOKUP($C$4&\"_\"&$A16,catagory_wise,COLUMNS($A$5:G14),0),\"\")","v":""},{"$f":"IFERROR(VLOOKUP($C$4&\"_\"&$A16,catagory_wise,COLUMNS($A$5:H14),0),\"\")","v":""},{"$f":"IFERROR(VLOOKUP($C$4&\"_\"&$A16,catagory_wise,COLUMNS($A$5:I14),0),\"\")","v":""},{"$f":"IFERROR(VLOOKUP($C$4&\"_\"&$A16,catagory_wise,COLUMNS($A$5:J14),0),\"\")","v":""},{"$f":"IFERROR(VLOOKUP($C$4&\"_\"&$A16,catagory_wise,COLUMNS($A$5:K14),0),\"\")","v":""},{"$f":"IFERROR(VLOOKUP($C$4&\"_\"&$A16,catagory_wise,COLUMNS($A$5:L14),0),\"\")","v":""},{"$f":"IFERROR(VLOOKUP($C$4&\"_\"&$A16,catagory_wise,COLUMNS($A$5:M14),0),\"\")","v":""},{"$f":"IFERROR(VLOOKUP($C$4&\"_\"&$A16,catagory_wise,COLUMNS($A$5:N14),0),\"\")","v":""},{"$f":"IFERROR(VLOOKUP($C$4&\"_\"&$A16,catagory_wise,COLUMNS($A$5:O14),0),\"\")","v":""},{"$f":"IFERROR(VLOOKUP($C$4&\"_\"&$A16,catagory_wise,COLUMNS($A$5:P14),0),\"\")","v":""},{"$f":"IFERROR(VLOOKUP($C$4&\"_\"&$A16,catagory_wise,COLUMNS($A$5:Q14),0),\"\")","v":""},{"$f":"IFERROR(VLOOKUP($C$4&\"_\"&$A16,catagory_wise,COLUMNS($A$5:R14),0),\"\")","v":""},{"$f":"IFERROR(VLOOKUP($C$4&\"_\"&$A16,catagory_wise,COLUMNS($A$5:S14),0),\"\")","v":""},{"$f":"IFERROR(VLOOKUP($C$4&\"_\"&$A16,catagory_wise,COLUMNS($A$5:T14),0),\"\")","v":""},{"$f":"IFERROR(VLOOKUP($C$4&\"_\"&$A16,catagory_wise,COLUMNS($A$5:U14),0),\"\")","v":""},{"$f":"IFERROR(VLOOKUP($C$4&\"_\"&$A16,catagory_wise,COLUMNS($A$5:V14),0),\"\")","v":""},{"$f":"IFERROR(VLOOKUP($C$4&\"_\"&$A16,catagory_wise,COLUMNS($A$5:W14),0),\"\")","v":""},{"$f":"IFERROR(VLOOKUP($C$4&\"_\"&$A16,catagory_wise,COLUMNS($A$5:X14),0),\"\")","v":""},{"$f":"IFERROR(VLOOKUP($C$4&\"_\"&$A16,catagory_wise,COLUMNS($A$5:Y14),0),\"\")","v":""},{"$f":"IFERROR(VLOOKUP($C$4&\"_\"&$A16,catagory_wise,COLUMNS($A$5:Z14),0),\"\")","v":""},{"$f":"IFERROR(VLOOKUP($C$4&\"_\"&$A16,catagory_wise,COLUMNS($A$5:AA14),0),\"\")","v":""},{"$f":"IFERROR(VLOOKUP($C$4&\"_\"&$A16,catagory_wise,COLUMNS($A$5:AB14),0),\"\")","v":""},{"$f":"IFERROR(VLOOKUP($C$4&\"_\"&$A16,catagory_wise,COLUMNS($A$5:AC14),0),\"\")","v":""},{"$f":"IFERROR(VLOOKUP($C$4&\"_\"&$A16,catagory_wise,COLUMNS($A$5:AD14),0),\"\")","v":""},{"$f":"IFERROR(VLOOKUP($C$4&\"_\"&$A16,catagory_wise,COLUMNS($A$5:AE14),0),\"\")","v":""},{"$f":"IFERROR(VLOOKUP($C$4&\"_\"&$A16,catagory_wise,COLUMNS($A$5:AF14),0),\"\")","v":""},{"$f":"IFERROR(VLOOKUP($C$4&\"_\"&$A16,catagory_wise,COLUMNS($A$5:AG14),0),\"\")","v":""},{"$f":"IFERROR(VLOOKUP($C$4&\"_\"&$A16,catagory_wise,COLUMNS($A$5:AH14),0),\"\")","v":""},{"$f":"IFERROR(VLOOKUP($C$4&\"_\"&$A16,catagory_wise,COLUMNS($A$5:AI14),0),\"\")","v":""},{"$f":"IFERROR(VLOOKUP($C$4&\"_\"&$A16,catagory_wise,COLUMNS($A$5:AJ14),0),\"\")","v":""}]
[11,{"$f":"IFERROR(VLOOKUP($C$4&\"_\"&$A17,catagory_wise,COLUMNS($A$5:C15),0),\"\")","v":""},{"$f":"IFERROR(VLOOKUP($C$4&\"_\"&$A17,catagory_wise,COLUMNS($A$5:D15),0),\"\")","v":""},{"$f":"IFERROR(VLOOKUP($C$4&\"_\"&$A17,catagory_wise,COLUMNS($A$5:E15),0),\"\")","v":""},{"$f":"IFERROR(VLOOKUP($C$4&\"_\"&$A17,catagory_wise,COLUMNS($A$5:F15),0),\"\")","v":""},{"$f":"IFERROR(VLOOKUP($C$4&\"_\"&$A17,catagory_wise,COLUMNS($A$5:G15),0),\"\")","v":""},{"$f":"IFERROR(VLOOKUP($C$4&\"_\"&$A17,catagory_wise,COLUMNS($A$5:H15),0),\"\")","v":""},{"$f":"IFERROR(VLOOKUP($C$4&\"_\"&$A17,catagory_wise,COLUMNS($A$5:I15),0),\"\")","v":""},{"$f":"IFERROR(VLOOKUP($C$4&\"_\"&$A17,catagory_wise,COLUMNS($A$5:J15),0),\"\")","v":""},{"$f":"IFERROR(VLOOKUP($C$4&\"_\"&$A17,catagory_wise,COLUMNS($A$5:K15),0),\"\")","v":""},{"$f":"IFERROR(VLOOKUP($C$4&\"_\"&$A17,catagory_wise,COLUMNS($A$5:L15),0),\"\")","v":""},{"$f":"IFERROR(VLOOKUP($C$4&\"_\"&$A17,catagory_wise,COLUMNS($A$5:M15),0),\"\")","v":""},{"$f":"IFERROR(VLOOKUP($C$4&\"_\"&$A17,catagory_wise,COLUMNS($A$5:N15),0),\"\")","v":""},{"$f":"IFERROR(VLOOKUP($C$4&\"_\"&$A17,catagory_wise,COLUMNS($A$5:O15),0),\"\")","v":""},{"$f":"IFERROR(VLOOKUP($C$4&\"_\"&$A17,catagory_wise,COLUMNS($A$5:P15),0),\"\")","v":""},{"$f":"IFERROR(VLOOKUP($C$4&\"_\"&$A17,catagory_wise,COLUMNS($A$5:Q15),0),\"\")","v":""},{"$f":"IFERROR(VLOOKUP($C$4&\"_\"&$A17,catagory_wise,COLUMNS($A$5:R15),0),\"\")","v":""},{"$f":"IFERROR(VLOOKUP($C$4&\"_\"&$A17,catagory_wise,COLUMNS($A$5:S15),0),\"\")","v":""},{"$f":"IFERROR(VLOOKUP($C$4&\"_\"&$A17,catagory_wise,COLUMNS($A$5:T15),0),\"\")","v":""},{"$f":"IFERROR(VLOOKUP($C$4&\"_\"&$A17,catagory_wise,COLUMNS($A$5:U15),0),\"\")","v":""},{"$f":"IFERROR(VLOOKUP($C$4&\"_\"&$A17,catagory_wise,COLUMNS($A$5:V15),0),\"\")","v":""},{"$f":"IFERROR(VLOOKUP($C$4&\"_\"&$A17,catagory_wise,COLUMNS($A$5:W15),0),\"\")","v":""},{"$f":"IFERROR(VLOOKUP($C$4&\"_\"&$A17,catagory_wise,COLUMNS($A$5:X15),0),\"\")","v":""},{"$f":"IFERROR(VLOOKUP($C$4&\"_\"&$A17,catagory_wise,COLUMNS($A$5:Y15),0),\"\")","v":""},{"$f":"IFERROR(VLOOKUP($C$4&\"_\"&$A17,catagory_wise,COLUMNS($A$5:Z15),0),\"\")","v":""},{"$f":"IFERROR(VLOOKUP($C$4&\"_\"&$A17,catagory_wise,COLUMNS($A$5:AA15),0),\"\")","v":""},{"$f":"IFERROR(VLOOKUP($C$4&\"_\"&$A17,catagory_wise,COLUMNS($A$5:AB15),0),\"\")","v":""},{"$f":"IFERROR(VLOOKUP($C$4&\"_\"&$A17,catagory_wise,COLUMNS($A$5:AC15),0),\"\")","v":""},{"$f":"IFERROR(VLOOKUP($C$4&\"_\"&$A17,catagory_wise,COLUMNS($A$5:AD15),0),\"\")","v":""},{"$f":"IFERROR(VLOOKUP($C$4&\"_\"&$A17,catagory_wise,COLUMNS($A$5:AE15),0),\"\")","v":""},{"$f":"IFERROR(VLOOKUP($C$4&\"_\"&$A17,catagory_wise,COLUMNS($A$5:AF15),0),\"\")","v":""},{"$f":"IFERROR(VLOOKUP($C$4&\"_\"&$A17,catagory_wise,COLUMNS($A$5:AG15),0),\"\")","v":""},{"$f":"IFERROR(VLOOKUP($C$4&\"_\"&$A17,catagory_wise,COLUMNS($A$5:AH15),0),\"\")","v":""},{"$f":"IFERROR(VLOOKUP($C$4&\"_\"&$A17,catagory_wise,COLUMNS($A$5:AI15),0),\"\")","v":""},{"$f":"IFERROR(VLOOKUP($C$4&\"_\"&$A17,catagory_wise,COLUMNS($A$5:AJ15),0),\"\")","v":""}]
[12,{"$f":"IFERROR(VLOOKUP($C$4&\"_\"&$A18,catagory_wise,COLUMNS($A$5:C16),0),\"\")","v":""},{"$f":"IFERROR(VLOOKUP($C$4&\"_\"&$A18,catagory_wise,COLUMNS($A$5:D16),0),\"\")","v":""},{"$f":"IFERROR(VLOOKUP($C$4&\"_\"&$A18,catagory_wise,COLUMNS($A$5:E16),0),\"\")","v":""},{"$f":"IFERROR(VLOOKUP($C$4&\"_\"&$A18,catagory_wise,COLUMNS($A$5:F16),0),\"\")","v":""},{"$f":"IFERROR(VLOOKUP($C$4&\"_\"&$A18,catagory_wise,COLUMNS($A$5:G16),0),\"\")","v":""},{"$f":"IFERROR(VLOOKUP($C$4&\"_\"&$A18,catagory_wise,COLUMNS($A$5:H16),0),\"\")","v":""},{"$f":"IFERROR(VLOOKUP($C$4&\"_\"&$A18,catagory_wise,COLUMNS($A$5:I16),0),\"\")","v":""},{"$f":"IFERROR(VLOOKUP($C$4&\"_\"&$A18,catagory_wise,COLUMNS($A$5:J16),0),\"\")","v":""},{"$f":"IFERROR(VLOOKUP($C$4&\"_\"&$A18,catagory_wise,COLUMNS($A$5:K16),0),\"\")","v":""},{"$f":"IFERROR(VLOOKUP($C$4&\"_\"&$A18,catagory_wise,COLUMNS($A$5:L16),0),\"\")","v":""},{"$f":"IFERROR(VLOOKUP($C$4&\"_\"&$A18,catagory_wise,COLUMNS($A$5:M16),0),\"\")","v":""},{"$f":"IFERROR(VLOOKUP($C$4&\"_\"&$A18,catagory_wise,COLUMNS($A$5:N16),0),\"\")","v":""},{"$f":"IFERROR(VLOOKUP($C$4&\"_\"&$A18,catagory_wise,COLUMNS($A$5:O16),0),\"\")","v":""},{"$f":"IFERROR(VLOOKUP($C$4&\"_\"&$A18,catagory_wise,COLUMNS($A$5:P16),0),\"\")","v":""},{"$f":"IFERROR(VLOOKUP($C$4&\"_\"&$A18,catagory_wise,COLUMNS($A$5:Q16),0),\"\")","v":""},{"$f":"IFERROR(VLOOKUP($C$4&\"_\"&$A18,catagory_wise,COLUMNS($A$5:R16),0),\"\")","v":""},{"$f":"IFERROR(VLOOKUP($C$4&\"_\"&$A18,catagory_wise,COLUMNS($A$5:S16),0),\"\")","v":""},{"$f":"IFERROR(VLOOKUP($C$4&\"_\"&$A18,catagory_wise,COLUMNS($A$5:T16),0),\"\")","v":""},{"$f":"IFERROR(VLOOKUP($C$4&\"_\"&$A18,catagory_wise,COLUMNS($A$5:U16),0),\"\")","v":""},{"$f":"IFERROR(VLOOKUP($C$4&\"_\"&$A18,catagory_wise,COLUMNS($A$5:V16),0),\"\")","v":""},{"$f":"IFERROR(VLOOKUP($C$4&\"_\"&$A18,catagory_wise,COLUMNS($A$5:W16),0),\"\")","v":""},{"$f":"IFERROR(VLOOKUP($C$4&\"_\"&$A18,catagory_wise,COLUMNS($A$5:X16),0),\"\")","v":""},{"$f":"IFERROR(VLOOKUP($C$4&\"_\"&$A18,catagory_wise,COLUMNS($A$5:Y16),0),\"\")","v":""},{"$f":"IFERROR(VLOOKUP($C$4&\"_\"&$A18,catagory_wise,COLUMNS($A$5:Z16),0),\"\")","v":""},{"$f":"IFERROR(VLOOKUP($C$4&\"_\"&$A18,catagory_wise,COLUMNS($A$5:AA16),0),\"\")","v":""},{"$f":"IFERROR(VLOOKUP($C$4&\"_\"&$A18,catagory_wise,COLUMNS($A$5:AB16),0),\"\")","v":""},{"$f":"IFERROR(VLOOKUP($C$4&\"_\"&$A18,catagory_wise,COLUMNS($A$5:AC16),0),\"\")","v":""},{"$f":"IFERROR(VLOOKUP($C$4&\"_\"&$A18,catagory_wise,COLUMNS($A$5:AD16),0),\"\")","v":""},{"$f":"IFERROR(VLOOKUP($C$4&\"_\"&$A18,catagory_wise,COLUMNS($A$5:AE16),0),\"\")","v":""},{"$f":"IFERROR(VLOOKUP($C$4&\"_\"&$A18,catagory_wise,COLUMNS($A$5:AF16),0),\"\")","v":""},{"$f":"IFERROR(VLOOKUP($C$4&\"_\"&$A18,catagory_wise,COLUMNS($A$5:AG16),0),\"\")","v":""},{"$f":"IFERROR(VLOOKUP($C$4&\"_\"&$A18,catagory_wise,COLUMNS($A$5:AH16),0),\"\")","v":""},{"$f":"IFERROR(VLOOKUP($C$4&\"_\"&$A18,catagory_wise,COLUMNS($A$5:AI16),0),\"\")","v":""},{"$f":"IFERROR(VLOOKUP($C$4&\"_\"&$A18,catagory_wise,COLUMNS($A$5:AJ16),0),\"\")","v":""}]
[13,{"$f":"IFERROR(VLOOKUP($C$4&\"_\"&$A19,catagory_wise,COLUMNS($A$5:C17),0),\"\")","v":""},{"$f":"IFERROR(VLOOKUP($C$4&\"_\"&$A19,catagory_wise,COLUMNS($A$5:D17),0),\"\")","v":""},{"$f":"IFERROR(VLOOKUP($C$4&\"_\"&$A19,catagory_wise,COLUMNS($A$5:E17),0),\"\")","v":""},{"$f":"IFERROR(VLOOKUP($C$4&\"_\"&$A19,catagory_wise,COLUMNS($A$5:F17),0),\"\")","v":""},{"$f":"IFERROR(VLOOKUP($C$4&\"_\"&$A19,catagory_wise,COLUMNS($A$5:G17),0),\"\")","v":""},{"$f":"IFERROR(VLOOKUP($C$4&\"_\"&$A19,catagory_wise,COLUMNS($A$5:H17),0),\"\")","v":""},{"$f":"IFERROR(VLOOKUP($C$4&\"_\"&$A19,catagory_wise,COLUMNS($A$5:I17),0),\"\")","v":""},{"$f":"IFERROR(VLOOKUP($C$4&\"_\"&$A19,catagory_wise,COLUMNS($A$5:J17),0),\"\")","v":""},{"$f":"IFERROR(VLOOKUP($C$4&\"_\"&$A19,catagory_wise,COLUMNS($A$5:K17),0),\"\")","v":""},{"$f":"IFERROR(VLOOKUP($C$4&\"_\"&$A19,catagory_wise,COLUMNS($A$5:L17),0),\"\")","v":""},{"$f":"IFERROR(VLOOKUP($C$4&\"_\"&$A19,catagory_wise,COLUMNS($A$5:M17),0),\"\")","v":""},{"$f":"IFERROR(VLOOKUP($C$4&\"_\"&$A19,catagory_wise,COLUMNS($A$5:N17),0),\"\")","v":""},{"$f":"IFERROR(VLOOKUP($C$4&\"_\"&$A19,catagory_wise,COLUMNS($A$5:O17),0),\"\")","v":""},{"$f":"IFERROR(VLOOKUP($C$4&\"_\"&$A19,catagory_wise,COLUMNS($A$5:P17),0),\"\")","v":""},{"$f":"IFERROR(VLOOKUP($C$4&\"_\"&$A19,catagory_wise,COLUMNS($A$5:Q17),0),\"\")","v":""},{"$f":"IFERROR(VLOOKUP($C$4&\"_\"&$A19,catagory_wise,COLUMNS($A$5:R17),0),\"\")","v":""},{"$f":"IFERROR(VLOOKUP($C$4&\"_\"&$A19,catagory_wise,COLUMNS($A$5:S17),0),\"\")","v":""},{"$f":"IFERROR(VLOOKUP($C$4&\"_\"&$A19,catagory_wise,COLUMNS($A$5:T17),0),\"\")","v":""},{"$f":"IFERROR(VLOOKUP($C$4&\"_\"&$A19,catagory_wise,COLUMNS($A$5:U17),0),\"\")","v":""},{"$f":"IFERROR(VLOOKUP($C$4&\"_\"&$A19,catagory_wise,COLUMNS($A$5:V17),0),\"\")","v":""},{"$f":"IFERROR(VLOOKUP($C$4&\"_\"&$A19,catagory_wise,COLUMNS($A$5:W17),0),\"\")","v":""},{"$f":"IFERROR(VLOOKUP($C$4&\"_\"&$A19,catagory_wise,COLUMNS($A$5:X17),0),\"\")","v":""},{"$f":"IFERROR(VLOOKUP($C$4&\"_\"&$A19,catagory_wise,COLUMNS($A$5:Y17),0),\"\")","v":""},{"$f":"IFERROR(VLOOKUP($C$4&\"_\"&$A19,catagory_wise,COLUMNS($A$5:Z17),0),\"\")","v":""},{"$f":"IFERROR(VLOOKUP($C$4&\"_\"&$A19,catagory_wise,COLUMNS($A$5:AA17),0),\"\")","v":""},{"$f":"IFERROR(VLOOKUP($C$4&\"_\"&$A19,catagory_wise,COLUMNS($A$5:AB17),0),\"\")","v":""},{"$f":"IFERROR(VLOOKUP($C$4&\"_\"&$A19,catagory_wise,COLUMNS($A$5:AC17),0),\"\")","v":""},{"$f":"IFERROR(VLOOKUP($C$4&\"_\"&$A19,catagory_wise,COLUMNS($A$5:AD17),0),\"\")","v":""},{"$f":"IFERROR(VLOOKUP($C$4&\"_\"&$A19,catagory_wise,COLUMNS($A$5:AE17),0),\"\")","v":""},{"$f":"IFERROR(VLOOKUP($C$4&\"_\"&$A19,catagory_wise,COLUMNS($A$5:AF17),0),\"\")","v":""},{"$f":"IFERROR(VLOOKUP($C$4&\"_\"&$A19,catagory_wise,COLUMNS($A$5:AG17),0),\"\")","v":""},{"$f":"IFERROR(VLOOKUP($C$4&\"_\"&$A19,catagory_wise,COLUMNS($A$5:AH17),0),\"\")","v":""},{"$f":"IFERROR(VLOOKUP($C$4&\"_\"&$A19,catagory_wise,COLUMNS($A$5:AI17),0),\"\")","v":""},{"$f":"IFERROR(VLOOKUP($C$4&\"_\"&$A19,catagory_wise,COLUMNS($A$5:AJ17),0),\"\")","v":""}]
[14,{"$f":"IFERROR(VLOOKUP($C$4&\"_\"&$A20,catagory_wise,COLUMNS($A$5:C18),0),\"\")","v":""},{"$f":"IFERROR(VLOOKUP($C$4&\"_\"&$A20,catagory_wise,COLUMNS($A$5:D18),0),\"\")","v":""},{"$f":"IFERROR(VLOOKUP($C$4&\"_\"&$A20,catagory_wise,COLUMNS($A$5:E18),0),\"\")","v":""},{"$f":"IFERROR(VLOOKUP($C$4&\"_\"&$A20,catagory_wise,COLUMNS($A$5:F18),0),\"\")","v":""},{"$f":"IFERROR(VLOOKUP($C$4&\"_\"&$A20,catagory_wise,COLUMNS($A$5:G18),0),\"\")","v":""},{"$f":"IFERROR(VLOOKUP($C$4&\"_\"&$A20,catagory_wise,COLUMNS($A$5:H18),0),\"\")","v":""},{"$f":"IFERROR(VLOOKUP($C$4&\"_\"&$A20,catagory_wise,COLUMNS($A$5:I18),0),\"\")","v":""},{"$f":"IFERROR(VLOOKUP($C$4&\"_\"&$A20,catagory_wise,COLUMNS($A$5:J18),0),\"\")","v":""},{"$f":"IFERROR(VLOOKUP($C$4&\"_\"&$A20,catagory_wise,COLUMNS($A$5:K18),0),\"\")","v":""},{"$f":"IFERROR(VLOOKUP($C$4&\"_\"&$A20,catagory_wise,COLUMNS($A$5:L18),0),\"\")","v":""},{"$f":"IFERROR(VLOOKUP($C$4&\"_\"&$A20,catagory_wise,COLUMNS($A$5:M18),0),\"\")","v":""},{"$f":"IFERROR(VLOOKUP($C$4&\"_\"&$A20,catagory_wise,COLUMNS($A$5:N18),0),\"\")","v":""},{"$f":"IFERROR(VLOOKUP($C$4&\"_\"&$A20,catagory_wise,COLUMNS($A$5:O18),0),\"\")","v":""},{"$f":"IFERROR(VLOOKUP($C$4&\"_\"&$A20,catagory_wise,COLUMNS($A$5:P18),0),\"\")","v":""},{"$f":"IFERROR(VLOOKUP($C$4&\"_\"&$A20,catagory_wise,COLUMNS($A$5:Q18),0),\"\")","v":""},{"$f":"IFERROR(VLOOKUP($C$4&\"_\"&$A20,catagory_wise,COLUMNS($A$5:R18),0),\"\")","v":""},{"$f":"IFERROR(VLOOKUP($C$4&\"_\"&$A20,catagory_wise,COLUMNS($A$5:S18),0),\"\")","v":""},{"$f":"IFERROR(VLOOKUP($C$4&\"_\"&$A20,catagory_wise,COLUMNS($A$5:T18),0),\"\")","v":""},{"$f":"IFERROR(VLOOKUP($C$4&\"_\"&$A20,catagory_wise,COLUMNS($A$5:U18),0),\"\")","v":""},{"$f":"IFERROR(VLOOKUP($C$4&\"_\"&$A20,catagory_wise,COLUMNS($A$5:V18),0),\"\")","v":""},{"$f":"IFERROR(VLOOKUP($C$4&\"_\"&$A20,catagory_wise,COLUMNS($A$5:W18),0),\"\")","v":""},{"$f":"IFERROR(VLOOKUP($C$4&\"_\"&$A20,catagory_wise,COLUMNS($A$5:X18),0),\"\")","v":""},{"$f":"IFERROR(VLOOKUP($C$4&\"_\"&$A20,catagory_wise,COLUMNS($A$5:Y18),0),\"\")","v":""},{"$f":"IFERROR(VLOOKUP($C$4&\"_\"&$A20,catagory_wise,COLUMNS($A$5:Z18),0),\"\")","v":""},{"$f":"IFERROR(VLOOKUP($C$4&\"_\"&$A20,catagory_wise,COLUMNS($A$5:AA18),0),\"\")","v":""},{"$f":"IFERROR(VLOOKUP($C$4&\"_\"&$A20,catagory_wise,COLUMNS($A$5:AB18),0),\"\")","v":""},{"$f":"IFERROR(VLOOKUP($C$4&\"_\"&$A20,catagory_wise,COLUMNS($A$5:AC18),0),\"\")","v":""},{"$f":"IFERROR(VLOOKUP($C$4&\"_\"&$A20,catagory_wise,COLUMNS($A$5:AD18),0),\"\")","v":""},{"$f":"IFERROR(VLOOKUP($C$4&\"_\"&$A20,catagory_wise,COLUMNS($A$5:AE18),0),\"\")","v":""},{"$f":"IFERROR(VLOOKUP($C$4&\"_\"&$A20,catagory_wise,COLUMNS($A$5:AF18),0),\"\")","v":""},{"$f":"IFERROR(VLOOKUP($C$4&\"_\"&$A20,catagory_wise,COLUMNS($A$5:AG18),0),\"\")","v":""},{"$f":"IFERROR(VLOOKUP($C$4&\"_\"&$A20,catagory_wise,COLUMNS($A$5:AH18),0),\"\")","v":""},{"$f":"IFERROR(VLOOKUP($C$4&\"_\"&$A20,catagory_wise,COLUMNS($A$5:AI18),0),\"\")","v":""},{"$f":"IFERROR(VLOOKUP($C$4&\"_\"&$A20,catagory_wise,COLUMNS($A$5:AJ18),0),\"\")","v":""}]
[15,{"$f":"IFERROR(VLOOKUP($C$4&\"_\"&$A21,catagory_wise,COLUMNS($A$5:C19),0),\"\")","v":""},{"$f":"IFERROR(VLOOKUP($C$4&\"_\"&$A21,catagory_wise,COLUMNS($A$5:D19),0),\"\")","v":""},{"$f":"IFERROR(VLOOKUP($C$4&\"_\"&$A21,catagory_wise,COLUMNS($A$5:E19),0),\"\")","v":""},{"$f":"IFERROR(VLOOKUP($C$4&\"_\"&$A21,catagory_wise,COLUMNS($A$5:F19),0),\"\")","v":""},{"$f":"IFERROR(VLOOKUP($C$4&\"_\"&$A21,catagory_wise,COLUMNS($A$5:G19),0),\"\")","v":""},{"$f":"IFERROR(VLOOKUP($C$4&\"_\"&$A21,catagory_wise,COLUMNS($A$5:H19),0),\"\")","v":""},{"$f":"IFERROR(VLOOKUP($C$4&\"_\"&$A21,catagory_wise,COLUMNS($A$5:I19),0),\"\")","v":""},{"$f":"IFERROR(VLOOKUP($C$4&\"_\"&$A21,catagory_wise,COLUMNS($A$5:J19),0),\"\")","v":""},{"$f":"IFERROR(VLOOKUP($C$4&\"_\"&$A21,catagory_wise,COLUMNS($A$5:K19),0),\"\")","v":""},{"$f":"IFERROR(VLOOKUP($C$4&\"_\"&$A21,catagory_wise,COLUMNS($A$5:L19),0),\"\")","v":""},{"$f":"IFERROR(VLOOKUP($C$4&\"_\"&$A21,catagory_wise,COLUMNS($A$5:M19),0),\"\")","v":""},{"$f":"IFERROR(VLOOKUP($C$4&\"_\"&$A21,catagory_wise,COLUMNS($A$5:N19),0),\"\")","v":""},{"$f":"IFERROR(VLOOKUP($C$4&\"_\"&$A21,catagory_wise,COLUMNS($A$5:O19),0),\"\")","v":""},{"$f":"IFERROR(VLOOKUP($C$4&\"_\"&$A21,catagory_wise,COLUMNS($A$5:P19),0),\"\")","v":""},{"$f":"IFERROR(VLOOKUP($C$4&\"_\"&$A21,catagory_wise,COLUMNS($A$5:Q19),0),\"\")","v":""},{"$f":"IFERROR(VLOOKUP($C$4&\"_\"&$A21,catagory_wise,COLUMNS($A$5:R19),0),\"\")","v":""},{"$f":"IFERROR(VLOOKUP($C$4&\"_\"&$A21,catagory_wise,COLUMNS($A$5:S19),0),\"\")","v":""},{"$f":"IFERROR(VLOOKUP($C$4&\"_\"&$A21,catagory_wise,COLUMNS($A$5:T19),0),\"\")","v":""},{"$f":"IFERROR(VLOOKUP($C$4&\"_\"&$A21,catagory_wise,COLUMNS($A$5:U19),0),\"\")","v":""},{"$f":"IFERROR(VLOOKUP($C$4&\"_\"&$A21,catagory_wise,COLUMNS($A$5:V19),0),\"\")","v":""},{"$f":"IFERROR(VLOOKUP($C$4&\"_\"&$A21,catagory_wise,COLUMNS($A$5:W19),0),\"\")","v":""},{"$f":"IFERROR(VLOOKUP($C$4&\"_\"&$A21,catagory_wise,COLUMNS($A$5:X19),0),\"\")","v":""},{"$f":"IFERROR(VLOOKUP($C$4&\"_\"&$A21,catagory_wise,COLUMNS($A$5:Y19),0),\"\")","v":""},{"$f":"IFERROR(VLOOKUP($C$4&\"_\"&$A21,catagory_wise,COLUMNS($A$5:Z19),0),\"\")","v":""},{"$f":"IFERROR(VLOOKUP($C$4&\"_\"&$A21,catagory_wise,COLUMNS($A$5:AA19),0),\"\")","v":""},{"$f":"IFERROR(VLOOKUP($C$4&\"_\"&$A21,catagory_wise,COLUMNS($A$5:AB19),0),\"\")","v":""},{"$f":"IFERROR(VLOOKUP($C$4&\"_\"&$A21,catagory_wise,COLUMNS($A$5:AC19),0),\"\")","v":""},{"$f":"IFERROR(VLOOKUP($C$4&\"_\"&$A21,catagory_wise,COLUMNS($A$5:AD19),0),\"\")","v":""},{"$f":"IFERROR(VLOOKUP($C$4&\"_\"&$A21,catagory_wise,COLUMNS($A$5:AE19),0),\"\")","v":""},{"$f":"IFERROR(VLOOKUP($C$4&\"_\"&$A21,catagory_wise,COLUMNS($A$5:AF19),0),\"\")","v":""},{"$f":"IFERROR(VLOOKUP($C$4&\"_\"&$A21,catagory_wise,COLUMNS($A$5:AG19),0),\"\")","v":""},{"$f":"IFERROR(VLOOKUP($C$4&\"_\"&$A21,catagory_wise,COLUMNS($A$5:AH19),0),\"\")","v":""},{"$f":"IFERROR(VLOOKUP($C$4&\"_\"&$A21,catagory_wise,COLUMNS($A$5:AI19),0),\"\")","v":""},{"$f":"IFERROR(VLOOKUP($C$4&\"_\"&$A21,catagory_wise,COLUMNS($A$5:AJ19),0),\"\")","v":""}]
[16,{"$f":"IFERROR(VLOOKUP($C$4&\"_\"&$A22,catagory_wise,COLUMNS($A$5:C20),0),\"\")","v":""},{"$f":"IFERROR(VLOOKUP($C$4&\"_\"&$A22,catagory_wise,COLUMNS($A$5:D20),0),\"\")","v":""},{"$f":"IFERROR(VLOOKUP($C$4&\"_\"&$A22,catagory_wise,COLUMNS($A$5:E20),0),\"\")","v":""},{"$f":"IFERROR(VLOOKUP($C$4&\"_\"&$A22,catagory_wise,COLUMNS($A$5:F20),0),\"\")","v":""},{"$f":"IFERROR(VLOOKUP($C$4&\"_\"&$A22,catagory_wise,COLUMNS($A$5:G20),0),\"\")","v":""},{"$f":"IFERROR(VLOOKUP($C$4&\"_\"&$A22,catagory_wise,COLUMNS($A$5:H20),0),\"\")","v":""},{"$f":"IFERROR(VLOOKUP($C$4&\"_\"&$A22,catagory_wise,COLUMNS($A$5:I20),0),\"\")","v":""},{"$f":"IFERROR(VLOOKUP($C$4&\"_\"&$A22,catagory_wise,COLUMNS($A$5:J20),0),\"\")","v":""},{"$f":"IFERROR(VLOOKUP($C$4&\"_\"&$A22,catagory_wise,COLUMNS($A$5:K20),0),\"\")","v":""},{"$f":"IFERROR(VLOOKUP($C$4&\"_\"&$A22,catagory_wise,COLUMNS($A$5:L20),0),\"\")","v":""},{"$f":"IFERROR(VLOOKUP($C$4&\"_\"&$A22,catagory_wise,COLUMNS($A$5:M20),0),\"\")","v":""},{"$f":"IFERROR(VLOOKUP($C$4&\"_\"&$A22,catagory_wise,COLUMNS($A$5:N20),0),\"\")","v":""},{"$f":"IFERROR(VLOOKUP($C$4&\"_\"&$A22,catagory_wise,COLUMNS($A$5:O20),0),\"\")","v":""},{"$f":"IFERROR(VLOOKUP($C$4&\"_\"&$A22,catagory_wise,COLUMNS($A$5:P20),0),\"\")","v":""},{"$f":"IFERROR(VLOOKUP($C$4&\"_\"&$A22,catagory_wise,COLUMNS($A$5:Q20),0),\"\")","v":""},{"$f":"IFERROR(VLOOKUP($C$4&\"_\"&$A22,catagory_wise,COLUMNS($A$5:R20),0),\"\")","v":""},{"$f":"IFERROR(VLOOKUP($C$4&\"_\"&$A22,catagory_wise,COLUMNS($A$5:S20),0),\"\")","v":""},{"$f":"IFERROR(VLOOKUP($C$4&\"_\"&$A22,catagory_wise,COLUMNS($A$5:T20),0),\"\")","v":""},{"$f":"IFERROR(VLOOKUP($C$4&\"_\"&$A22,catagory_wise,COLUMNS($A$5:U20),0),\"\")","v":""},{"$f":"IFERROR(VLOOKUP($C$4&\"_\"&$A22,catagory_wise,COLUMNS($A$5:V20),0),\"\")","v":""},{"$f":"IFERROR(VLOOKUP($C$4&\"_\"&$A22,catagory_wise,COLUMNS($A$5:W20),0),\"\")","v":""},{"$f":"IFERROR(VLOOKUP($C$4&\"_\"&$A22,catagory_wise,COLUMNS($A$5:X20),0),\"\")","v":""},{"$f":"IFERROR(VLOOKUP($C$4&\"_\"&$A22,catagory_wise,COLUMNS($A$5:Y20),0),\"\")","v":""},{"$f":"IFERROR(VLOOKUP($C$4&\"_\"&$A22,catagory_wise,COLUMNS($A$5:Z20),0),\"\")","v":""},{"$f":"IFERROR(VLOOKUP($C$4&\"_\"&$A22,catagory_wise,COLUMNS($A$5:AA20),0),\"\")","v":""},{"$f":"IFERROR(VLOOKUP($C$4&\"_\"&$A22,catagory_wise,COLUMNS($A$5:AB20),0),\"\")","v":""},{"$f":"IFERROR(VLOOKUP($C$4&\"_\"&$A22,catagory_wise,COLUMNS($A$5:AC20),0),\"\")","v":""},{"$f":"IFERROR(VLOOKUP($C$4&\"_\"&$A22,catagory_wise,COLUMNS($A$5:AD20),0),\"\")","v":""},{"$f":"IFERROR(VLOOKUP($C$4&\"_\"&$A22,catagory_wise,COLUMNS($A$5:AE20),0),\"\")","v":""},{"$f":"IFERROR(VLOOKUP($C$4&\"_\"&$A22,catagory_wise,COLUMNS($A$5:AF20),0),\"\")","v":""},{"$f":"IFERROR(VLOOKUP($C$4&\"_\"&$A22,catagory_wise,COLUMNS($A$5:AG20),0),\"\")","v":""},{"$f":"IFERROR(VLOOKUP($C$4&\"_\"&$A22,catagory_wise,COLUMNS($A$5:AH20),0),\"\")","v":""},{"$f":"IFERROR(VLOOKUP($C$4&\"_\"&$A22,catagory_wise,COLUMNS($A$5:AI20),0),\"\")","v":""},{"$f":"IFERROR(VLOOKUP($C$4&\"_\"&$A22,catagory_wise,COLUMNS($A$5:AJ20),0),\"\")","v":""}]
[17,{"$f":"IFERROR(VLOOKUP($C$4&\"_\"&$A23,catagory_wise,COLUMNS($A$5:C21),0),\"\")","v":""},{"$f":"IFERROR(VLOOKUP($C$4&\"_\"&$A23,catagory_wise,COLUMNS($A$5:D21),0),\"\")","v":""},{"$f":"IFERROR(VLOOKUP($C$4&\"_\"&$A23,catagory_wise,COLUMNS($A$5:E21),0),\"\")","v":""},{"$f":"IFERROR(VLOOKUP($C$4&\"_\"&$A23,catagory_wise,COLUMNS($A$5:F21),0),\"\")","v":""},{"$f":"IFERROR(VLOOKUP($C$4&\"_\"&$A23,catagory_wise,COLUMNS($A$5:G21),0),\"\")","v":""},{"$f":"IFERROR(VLOOKUP($C$4&\"_\"&$A23,catagory_wise,COLUMNS($A$5:H21),0),\"\")","v":""},{"$f":"IFERROR(VLOOKUP($C$4&\"_\"&$A23,catagory_wise,COLUMNS($A$5:I21),0),\"\")","v":""},{"$f":"IFERROR(VLOOKUP($C$4&\"_\"&$A23,catagory_wise,COLUMNS($A$5:J21),0),\"\")","v":""},{"$f":"IFERROR(VLOOKUP($C$4&\"_\"&$A23,catagory_wise,COLUMNS($A$5:K21),0),\"\")","v":""},{"$f":"IFERROR(VLOOKUP($C$4&\"_\"&$A23,catagory_wise,COLUMNS($A$5:L21),0),\"\")","v":""},{"$f":"IFERROR(VLOOKUP($C$4&\"_\"&$A23,catagory_wise,COLUMNS($A$5:M21),0),\"\")","v":""},{"$f":"IFERROR(VLOOKUP($C$4&\"_\"&$A23,catagory_wise,COLUMNS($A$5:N21),0),\"\")","v":""},{"$f":"IFERROR(VLOOKUP($C$4&\"_\"&$A23,catagory_wise,COLUMNS($A$5:O21),0),\"\")","v":""},{"$f":"IFERROR(VLOOKUP($C$4&\"_\"&$A23,catagory_wise,COLUMNS($A$5:P21),0),\"\")","v":""},{"$f":"IFERROR(VLOOKUP($C$4&\"_\"&$A23,catagory_wise,COLUMNS($A$5:Q21),0),\"\")","v":""},{"$f":"IFERROR(VLOOKUP($C$4&\"_\"&$A23,catagory_wise,COLUMNS($A$5:R21),0),\"\")","v":""},{"$f":"IFERROR(VLOOKUP($C$4&\"_\"&$A23,catagory_wise,COLUMNS($A$5:S21),0),\"\")","v":""},{"$f":"IFERROR(VLOOKUP($C$4&\"_\"&$A23,catagory_wise,COLUMNS($A$5:T21),0),\"\")","v":""},{"$f":"IFERROR(VLOOKUP($C$4&\"_\"&$A23,catagory_wise,COLUMNS($A$5:U21),0),\"\")","v":""},{"$f":"IFERROR(VLOOKUP($C$4&\"_\"&$A23,catagory_wise,COLUMNS($A$5:V21),0),\"\")","v":""},{"$f":"IFERROR(VLOOKUP($C$4&\"_\"&$A23,catagory_wise,COLUMNS($A$5:W21),0),\"\")","v":""},{"$f":"IFERROR(VLOOKUP($C$4&\"_\"&$A23,catagory_wise,COLUMNS($A$5:X21),0),\"\")","v":""},{"$f":"IFERROR(VLOOKUP($C$4&\"_\"&$A23,catagory_wise,COLUMNS($A$5:Y21),0),\"\")","v":""},{"$f":"IFERROR(VLOOKUP($C$4&\"_\"&$A23,catagory_wise,COLUMNS($A$5:Z21),0),\"\")","v":""},{"$f":"IFERROR(VLOOKUP($C$4&\"_\"&$A23,catagory_wise,COLUMNS($A$5:AA21),0),\"\")","v":""},{"$f":"IFERROR(VLOOKUP($C$4&\"_\"&$A23,catagory_wise,COLUMNS($A$5:AB21),0),\"\")","v":""},{"$f":"IFERROR(VLOOKUP($C$4&\"_\"&$A23,catagory_wise,COLUMNS($A$5:AC21),0),\"\")","v":""},{"$f":"IFERROR(VLOOKUP($C$4&\"_\"&$A23,catagory_wise,COLUMNS($A$5:AD21),0),\"\")","v":""},{"$f":"IFERROR(VLOOKUP($C$4&\"_\"&$A23,catagory_wise,COLUMNS($A$5:AE21),0),\"\")","v":""},{"$f":"IFERROR(VLOOKUP($C$4&\"_\"&$A23,catagory_wise,COLUMNS($A$5:AF21),0),\"\")","v":""},{"$f":"IFERROR(VLOOKUP($C$4&\"_\"&$A23,catagory_wise,COLUMNS($A$5:AG21),0),\"\")","v":""},{"$f":"IFERROR(VLOOKUP($C$4&\"_\"&$A23,catagory_wise,COLUMNS($A$5:AH21),0),\"\")","v":""},{"$f":"IFERROR(VLOOKUP($C$4&\"_\"&$A23,catagory_wise,COLUMNS($A$5:AI21),0),\"\")","v":""},{"$f":"IFERROR(VLOOKUP($C$4&\"_\"&$A23,catagory_wise,COLUMNS($A$5:AJ21),0),\"\")","v":""}]
[18,{"$f":"IFERROR(VLOOKUP($C$4&\"_\"&$A24,catagory_wise,COLUMNS($A$5:C22),0),\"\")","v":""},{"$f":"IFERROR(VLOOKUP($C$4&\"_\"&$A24,catagory_wise,COLUMNS($A$5:D22),0),\"\")","v":""},{"$f":"IFERROR(VLOOKUP($C$4&\"_\"&$A24,catagory_wise,COLUMNS($A$5:E22),0),\"\")","v":""},{"$f":"IFERROR(VLOOKUP($C$4&\"_\"&$A24,catagory_wise,COLUMNS($A$5:F22),0),\"\")","v":""},{"$f":"IFERROR(VLOOKUP($C$4&\"_\"&$A24,catagory_wise,COLUMNS($A$5:G22),0),\"\")","v":""},{"$f":"IFERROR(VLOOKUP($C$4&\"_\"&$A24,catagory_wise,COLUMNS($A$5:H22),0),\"\")","v":""},{"$f":"IFERROR(VLOOKUP($C$4&\"_\"&$A24,catagory_wise,COLUMNS($A$5:I22),0),\"\")","v":""},{"$f":"IFERROR(VLOOKUP($C$4&\"_\"&$A24,catagory_wise,COLUMNS($A$5:J22),0),\"\")","v":""},{"$f":"IFERROR(VLOOKUP($C$4&\"_\"&$A24,catagory_wise,COLUMNS($A$5:K22),0),\"\")","v":""},{"$f":"IFERROR(VLOOKUP($C$4&\"_\"&$A24,catagory_wise,COLUMNS($A$5:L22),0),\"\")","v":""},{"$f":"IFERROR(VLOOKUP($C$4&\"_\"&$A24,catagory_wise,COLUMNS($A$5:M22),0),\"\")","v":""},{"$f":"IFERROR(VLOOKUP($C$4&\"_\"&$A24,catagory_wise,COLUMNS($A$5:N22),0),\"\")","v":""},{"$f":"IFERROR(VLOOKUP($C$4&\"_\"&$A24,catagory_wise,COLUMNS($A$5:O22),0),\"\")","v":""},{"$f":"IFERROR(VLOOKUP($C$4&\"_\"&$A24,catagory_wise,COLUMNS($A$5:P22),0),\"\")","v":""},{"$f":"IFERROR(VLOOKUP($C$4&\"_\"&$A24,catagory_wise,COLUMNS($A$5:Q22),0),\"\")","v":""},{"$f":"IFERROR(VLOOKUP($C$4&\"_\"&$A24,catagory_wise,COLUMNS($A$5:R22),0),\"\")","v":""},{"$f":"IFERROR(VLOOKUP($C$4&\"_\"&$A24,catagory_wise,COLUMNS($A$5:S22),0),\"\")","v":""},{"$f":"IFERROR(VLOOKUP($C$4&\"_\"&$A24,catagory_wise,COLUMNS($A$5:T22),0),\"\")","v":""},{"$f":"IFERROR(VLOOKUP($C$4&\"_\"&$A24,catagory_wise,COLUMNS($A$5:U22),0),\"\")","v":""},{"$f":"IFERROR(VLOOKUP($C$4&\"_\"&$A24,catagory_wise,COLUMNS($A$5:V22),0),\"\")","v":""},{"$f":"IFERROR(VLOOKUP($C$4&\"_\"&$A24,catagory_wise,COLUMNS($A$5:W22),0),\"\")","v":""},{"$f":"IFERROR(VLOOKUP($C$4&\"_\"&$A24,catagory_wise,COLUMNS($A$5:X22),0),\"\")","v":""},{"$f":"IFERROR(VLOOKUP($C$4&\"_\"&$A24,catagory_wise,COLUMNS($A$5:Y22),0),\"\")","v":""},{"$f":"IFERROR(VLOOKUP($C$4&\"_\"&$A24,catagory_wise,COLUMNS($A$5:Z22),0),\"\")","v":""},{"$f":"IFERROR(VLOOKUP($C$4&\"_\"&$A24,catagory_wise,COLUMNS($A$5:AA22),0),\"\")","v":""},{"$f":"IFERROR(VLOOKUP($C$4&\"_\"&$A24,catagory_wise,COLUMNS($A$5:AB22),0),\"\")","v":""},{"$f":"IFERROR(VLOOKUP($C$4&\"_\"&$A24,catagory_wise,COLUMNS($A$5:AC22),0),\"\")","v":""},{"$f":"IFERROR(VLOOKUP($C$4&\"_\"&$A24,catagory_wise,COLUMNS($A$5:AD22),0),\"\")","v":""},{"$f":"IFERROR(VLOOKUP($C$4&\"_\"&$A24,catagory_wise,COLUMNS($A$5:AE22),0),\"\")","v":""},{"$f":"IFERROR(VLOOKUP($C$4&\"_\"&$A24,catagory_wise,COLUMNS($A$5:AF22),0),\"\")","v":""},{"$f":"IFERROR(VLOOKUP($C$4&\"_\"&$A24,catagory_wise,COLUMNS($A$5:AG22),0),\"\")","v":""},{"$f":"IFERROR(VLOOKUP($C$4&\"_\"&$A24,catagory_wise,COLUMNS($A$5:AH22),0),\"\")","v":""},{"$f":"IFERROR(VLOOKUP($C$4&\"_\"&$A24,catagory_wise,COLUMNS($A$5:AI22),0),\"\")","v":""},{"$f":"IFERROR(VLOOKUP($C$4&\"_\"&$A24,catagory_wise,COLUMNS($A$5:AJ22),0),\"\")","v":""}]
[19,{"$f":"IFERROR(VLOOKUP($C$4&\"_\"&$A25,catagory_wise,COLUMNS($A$5:C23),0),\"\")","v":""},{"$f":"IFERROR(VLOOKUP($C$4&\"_\"&$A25,catagory_wise,COLUMNS($A$5:D23),0),\"\")","v":""},{"$f":"IFERROR(VLOOKUP($C$4&\"_\"&$A25,catagory_wise,COLUMNS($A$5:E23),0),\"\")","v":""},{"$f":"IFERROR(VLOOKUP($C$4&\"_\"&$A25,catagory_wise,COLUMNS($A$5:F23),0),\"\")","v":""},{"$f":"IFERROR(VLOOKUP($C$4&\"_\"&$A25,catagory_wise,COLUMNS($A$5:G23),0),\"\")","v":""},{"$f":"IFERROR(VLOOKUP($C$4&\"_\"&$A25,catagory_wise,COLUMNS($A$5:H23),0),\"\")","v":""},{"$f":"IFERROR(VLOOKUP($C$4&\"_\"&$A25,catagory_wise,COLUMNS($A$5:I23),0),\"\")","v":""},{"$f":"IFERROR(VLOOKUP($C$4&\"_\"&$A25,catagory_wise,COLUMNS($A$5:J23),0),\"\")","v":""},{"$f":"IFERROR(VLOOKUP($C$4&\"_\"&$A25,catagory_wise,COLUMNS($A$5:K23),0),\"\")","v":""},{"$f":"IFERROR(VLOOKUP($C$4&\"_\"&$A25,catagory_wise,COLUMNS($A$5:L23),0),\"\")","v":""},{"$f":"IFERROR(VLOOKUP($C$4&\"_\"&$A25,catagory_wise,COLUMNS($A$5:M23),0),\"\")","v":""},{"$f":"IFERROR(VLOOKUP($C$4&\"_\"&$A25,catagory_wise,COLUMNS($A$5:N23),0),\"\")","v":""},{"$f":"IFERROR(VLOOKUP($C$4&\"_\"&$A25,catagory_wise,COLUMNS($A$5:O23),0),\"\")","v":""},{"$f":"IFERROR(VLOOKUP($C$4&\"_\"&$A25,catagory_wise,COLUMNS($A$5:P23),0),\"\")","v":""},{"$f":"IFERROR(VLOOKUP($C$4&\"_\"&$A25,catagory_wise,COLUMNS($A$5:Q23),0),\"\")","v":""},{"$f":"IFERROR(VLOOKUP($C$4&\"_\"&$A25,catagory_wise,COLUMNS($A$5:R23),0),\"\")","v":""},{"$f":"IFERROR(VLOOKUP($C$4&\"_\"&$A25,catagory_wise,COLUMNS($A$5:S23),0),\"\")","v":""},{"$f":"IFERROR(VLOOKUP($C$4&\"_\"&$A25,catagory_wise,COLUMNS($A$5:T23),0),\"\")","v":""},{"$f":"IFERROR(VLOOKUP($C$4&\"_\"&$A25,catagory_wise,COLUMNS($A$5:U23),0),\"\")","v":""},{"$f":"IFERROR(VLOOKUP($C$4&\"_\"&$A25,catagory_wise,COLUMNS($A$5:V23),0),\"\")","v":""},{"$f":"IFERROR(VLOOKUP($C$4&\"_\"&$A25,catagory_wise,COLUMNS($A$5:W23),0),\"\")","v":""},{"$f":"IFERROR(VLOOKUP($C$4&\"_\"&$A25,catagory_wise,COLUMNS($A$5:X23),0),\"\")","v":""},{"$f":"IFERROR(VLOOKUP($C$4&\"_\"&$A25,catagory_wise,COLUMNS($A$5:Y23),0),\"\")","v":""},{"$f":"IFERROR(VLOOKUP($C$4&\"_\"&$A25,catagory_wise,COLUMNS($A$5:Z23),0),\"\")","v":""},{"$f":"IFERROR(VLOOKUP($C$4&\"_\"&$A25,catagory_wise,COLUMNS($A$5:AA23),0),\"\")","v":""},{"$f":"IFERROR(VLOOKUP($C$4&\"_\"&$A25,catagory_wise,COLUMNS($A$5:AB23),0),\"\")","v":""},{"$f":"IFERROR(VLOOKUP($C$4&\"_\"&$A25,catagory_wise,COLUMNS($A$5:AC23),0),\"\")","v":""},{"$f":"IFERROR(VLOOKUP($C$4&\"_\"&$A25,catagory_wise,COLUMNS($A$5:AD23),0),\"\")","v":""},{"$f":"IFERROR(VLOOKUP($C$4&\"_\"&$A25,catagory_wise,COLUMNS($A$5:AE23),0),\"\")","v":""},{"$f":"IFERROR(VLOOKUP($C$4&\"_\"&$A25,catagory_wise,COLUMNS($A$5:AF23),0),\"\")","v":""},{"$f":"IFERROR(VLOOKUP($C$4&\"_\"&$A25,catagory_wise,COLUMNS($A$5:AG23),0),\"\")","v":""},{"$f":"IFERROR(VLOOKUP($C$4&\"_\"&$A25,catagory_wise,COLUMNS($A$5:AH23),0),\"\")","v":""},{"$f":"IFERROR(VLOOKUP($C$4&\"_\"&$A25,catagory_wise,COLUMNS($A$5:AI23),0),\"\")","v":""},{"$f":"IFERROR(VLOOKUP($C$4&\"_\"&$A25,catagory_wise,COLUMNS($A$5:AJ23),0),\"\")","v":""}]
[20,{"$f":"IFERROR(VLOOKUP($C$4&\"_\"&$A26,catagory_wise,COLUMNS($A$5:C24),0),\"\")","v":""},{"$f":"IFERROR(VLOOKUP($C$4&\"_\"&$A26,catagory_wise,COLUMNS($A$5:D24),0),\"\")","v":""},{"$f":"IFERROR(VLOOKUP($C$4&\"_\"&$A26,catagory_wise,COLUMNS($A$5:E24),0),\"\")","v":""},{"$f":"IFERROR(VLOOKUP($C$4&\"_\"&$A26,catagory_wise,COLUMNS($A$5:F24),0),\"\")","v":""},{"$f":"IFERROR(VLOOKUP($C$4&\"_\"&$A26,catagory_wise,COLUMNS($A$5:G24),0),\"\")","v":""},{"$f":"IFERROR(VLOOKUP($C$4&\"_\"&$A26,catagory_wise,COLUMNS($A$5:H24),0),\"\")","v":""},{"$f":"IFERROR(VLOOKUP($C$4&\"_\"&$A26,catagory_wise,COLUMNS($A$5:I24),0),\"\")","v":""},{"$f":"IFERROR(VLOOKUP($C$4&\"_\"&$A26,catagory_wise,COLUMNS($A$5:J24),0),\"\")","v":""},{"$f":"IFERROR(VLOOKUP($C$4&\"_\"&$A26,catagory_wise,COLUMNS($A$5:K24),0),\"\")","v":""},{"$f":"IFERROR(VLOOKUP($C$4&\"_\"&$A26,catagory_wise,COLUMNS($A$5:L24),0),\"\")","v":""},{"$f":"IFERROR(VLOOKUP($C$4&\"_\"&$A26,catagory_wise,COLUMNS($A$5:M24),0),\"\")","v":""},{"$f":"IFERROR(VLOOKUP($C$4&\"_\"&$A26,catagory_wise,COLUMNS($A$5:N24),0),\"\")","v":""},{"$f":"IFERROR(VLOOKUP($C$4&\"_\"&$A26,catagory_wise,COLUMNS($A$5:O24),0),\"\")","v":""},{"$f":"IFERROR(VLOOKUP($C$4&\"_\"&$A26,catagory_wise,COLUMNS($A$5:P24),0),\"\")","v":""},{"$f":"IFERROR(VLOOKUP($C$4&\"_\"&$A26,catagory_wise,COLUMNS($A$5:Q24),0),\"\")","v":""},{"$f":"IFERROR(VLOOKUP($C$4&\"_\"&$A26,catagory_wise,COLUMNS($A$5:R24),0),\"\")","v":""},{"$f":"IFERROR(VLOOKUP($C$4&\"_\"&$A26,catagory_wise,COLUMNS($A$5:S24),0),\"\")","v":""},{"$f":"IFERROR(VLOOKUP($C$4&\"_\"&$A26,catagory_wise,COLUMNS($A$5:T24),0),\"\")","v":""},{"$f":"IFERROR(VLOOKUP($C$4&\"_\"&$A26,catagory_wise,COLUMNS($A$5:U24),0),\"\")","v":""},{"$f":"IFERROR(VLOOKUP($C$4&\"_\"&$A26,catagory_wise,COLUMNS($A$5:V24),0),\"\")","v":""},{"$f":"IFERROR(VLOOKUP($C$4&\"_\"&$A26,catagory_wise,COLUMNS($A$5:W24),0),\"\")","v":""},{"$f":"IFERROR(VLOOKUP($C$4&\"_\"&$A26,catagory_wise,COLUMNS($A$5:X24),0),\"\")","v":""},{"$f":"IFERROR(VLOOKUP($C$4&\"_\"&$A26,catagory_wise,COLUMNS($A$5:Y24),0),\"\")","v":""},{"$f":"IFERROR(VLOOKUP($C$4&\"_\"&$A26,catagory_wise,COLUMNS($A$5:Z24),0),\"\")","v":""},{"$f":"IFERROR(VLOOKUP($C$4&\"_\"&$A26,catagory_wise,COLUMNS($A$5:AA24),0),\"\")","v":""},{"$f":"IFERROR(VLOOKUP($C$4&\"_\"&$A26,catagory_wise,COLUMNS($A$5:AB24),0),\"\")","v":""},{"$f":"IFERROR(VLOOKUP($C$4&\"_\"&$A26,catagory_wise,COLUMNS($A$5:AC24),0),\"\")","v":""},{"$f":"IFERROR(VLOOKUP($C$4&\"_\"&$A26,catagory_wise,COLUMNS($A$5:AD24),0),\"\")","v":""},{"$f":"IFERROR(VLOOKUP($C$4&\"_\"&$A26,catagory_wise,COLUMNS($A$5:AE24),0),\"\")","v":""},{"$f":"IFERROR(VLOOKUP($C$4&\"_\"&$A26,catagory_wise,COLUMNS($A$5:AF24),0),\"\")","v":""},{"$f":"IFERROR(VLOOKUP($C$4&\"_\"&$A26,catagory_wise,COLUMNS($A$5:AG24),0),\"\")","v":""},{"$f":"IFERROR(VLOOKUP($C$4&\"_\"&$A26,catagory_wise,COLUMNS($A$5:AH24),0),\"\")","v":""},{"$f":"IFERROR(VLOOKUP($C$4&\"_\"&$A26,catagory_wise,COLUMNS($A$5:AI24),0),\"\")","v":""},{"$f":"IFERROR(VLOOKUP($C$4&\"_\"&$A26,catagory_wise,COLUMNS($A$5:AJ24),0),\"\")","v":""}]
[21,{"$f":"IFERROR(VLOOKUP($C$4&\"_\"&$A27,catagory_wise,COLUMNS($A$5:C25),0),\"\")","v":""},{"$f":"IFERROR(VLOOKUP($C$4&\"_\"&$A27,catagory_wise,COLUMNS($A$5:D25),0),\"\")","v":""},{"$f":"IFERROR(VLOOKUP($C$4&\"_\"&$A27,catagory_wise,COLUMNS($A$5:E25),0),\"\")","v":""},{"$f":"IFERROR(VLOOKUP($C$4&\"_\"&$A27,catagory_wise,COLUMNS($A$5:F25),0),\"\")","v":""},{"$f":"IFERROR(VLOOKUP($C$4&\"_\"&$A27,catagory_wise,COLUMNS($A$5:G25),0),\"\")","v":""},{"$f":"IFERROR(VLOOKUP($C$4&\"_\"&$A27,catagory_wise,COLUMNS($A$5:H25),0),\"\")","v":""},{"$f":"IFERROR(VLOOKUP($C$4&\"_\"&$A27,catagory_wise,COLUMNS($A$5:I25),0),\"\")","v":""},{"$f":"IFERROR(VLOOKUP($C$4&\"_\"&$A27,catagory_wise,COLUMNS($A$5:J25),0),\"\")","v":""},{"$f":"IFERROR(VLOOKUP($C$4&\"_\"&$A27,catagory_wise,COLUMNS($A$5:K25),0),\"\")","v":""},{"$f":"IFERROR(VLOOKUP($C$4&\"_\"&$A27,catagory_wise,COLUMNS($A$5:L25),0),\"\")","v":""},{"$f":"IFERROR(VLOOKUP($C$4&\"_\"&$A27,catagory_wise,COLUMNS($A$5:M25),0),\"\")","v":""},{"$f":"IFERROR(VLOOKUP($C$4&\"_\"&$A27,catagory_wise,COLUMNS($A$5:N25),0),\"\")","v":""},{"$f":"IFERROR(VLOOKUP($C$4&\"_\"&$A27,catagory_wise,COLUMNS($A$5:O25),0),\"\")","v":""},{"$f":"IFERROR(VLOOKUP($C$4&\"_\"&$A27,catagory_wise,COLUMNS($A$5:P25),0),\"\")","v":""},{"$f":"IFERROR(VLOOKUP($C$4&\"_\"&$A27,catagory_wise,COLUMNS($A$5:Q25),0),\"\")","v":""},{"$f":"IFERROR(VLOOKUP($C$4&\"_\"&$A27,catagory_wise,COLUMNS($A$5:R25),0),\"\")","v":""},{"$f":"IFERROR(VLOOKUP($C$4&\"_\"&$A27,catagory_wise,COLUMNS($A$5:S25),0),\"\")","v":""},{"$f":"IFERROR(VLOOKUP($C$4&\"_\"&$A27,catagory_wise,COLUMNS($A$5:T25),0),\"\")","v":""},{"$f":"IFERROR(VLOOKUP($C$4&\"_\"&$A27,catagory_wise,COLUMNS($A$5:U25),0),\"\")","v":""},{"$f":"IFERROR(VLOOKUP($C$4&\"_\"&$A27,catagory_wise,COLUMNS($A$5:V25),0),\"\")","v":""},{"$f":"IFERROR(VLOOKUP($C$4&\"_\"&$A27,catagory_wise,COLUMNS($A$5:W25),0),\"\")","v":""},{"$f":"IFERROR(VLOOKUP($C$4&\"_\"&$A27,catagory_wise,COLUMNS($A$5:X25),0),\"\")","v":""},{"$f":"IFERROR(VLOOKUP($C$4&\"_\"&$A27,catagory_wise,COLUMNS($A$5:Y25),0),\"\")","v":""},{"$f":"IFERROR(VLOOKUP($C$4&\"_\"&$A27,catagory_wise,COLUMNS($A$5:Z25),0),\"\")","v":""},{"$f":"IFERROR(VLOOKUP($C$4&\"_\"&$A27,catagory_wise,COLUMNS($A$5:AA25),0),\"\")","v":""},{"$f":"IFERROR(VLOOKUP($C$4&\"_\"&$A27,catagory_wise,COLUMNS($A$5:AB25),0),\"\")","v":""},{"$f":"IFERROR(VLOOKUP($C$4&\"_\"&$A27,catagory_wise,COLUMNS($A$5:AC25),0),\"\")","v":""},{"$f":"IFERROR(VLOOKUP($C$4&\"_\"&$A27,catagory_wise,COLUMNS($A$5:AD25),0),\"\")","v":""},{"$f":"IFERROR(VLOOKUP($C$4&\"_\"&$A27,catagory_wise,COLUMNS($A$5:AE25),0),\"\")","v":""},{"$f":"IFERROR(VLOOKUP($C$4&\"_\"&$A27,catagory_wise,COLUMNS($A$5:AF25),0),\"\")","v":""},{"$f":"IFERROR(VLOOKUP($C$4&\"_\"&$A27,catagory_wise,COLUMNS($A$5:AG25),0),\"\")","v":""},{"$f":"IFERROR(VLOOKUP($C$4&\"_\"&$A27,catagory_wise,COLUMNS($A$5:AH25),0),\"\")","v":""},{"$f":"IFERROR(VLOOKUP($C$4&\"_\"&$A27,catagory_wise,COLUMNS($A$5:AI25),0),\"\")","v":""},{"$f":"IFERROR(VLOOKUP($C$4&\"_\"&$A27,catagory_wise,COLUMNS($A$5:AJ25),0),\"\")","v":""}]
[22,{"$f":"IFERROR(VLOOKUP($C$4&\"_\"&$A28,catagory_wise,COLUMNS($A$5:C26),0),\"\")","v":""},{"$f":"IFERROR(VLOOKUP($C$4&\"_\"&$A28,catagory_wise,COLUMNS($A$5:D26),0),\"\")","v":""},{"$f":"IFERROR(VLOOKUP($C$4&\"_\"&$A28,catagory_wise,COLUMNS($A$5:E26),0),\"\")","v":""},{"$f":"IFERROR(VLOOKUP($C$4&\"_\"&$A28,catagory_wise,COLUMNS($A$5:F26),0),\"\")","v":""},{"$f":"IFERROR(VLOOKUP($C$4&\"_\"&$A28,catagory_wise,COLUMNS($A$5:G26),0),\"\")","v":""},{"$f":"IFERROR(VLOOKUP($C$4&\"_\"&$A28,catagory_wise,COLUMNS($A$5:H26),0),\"\")","v":""},{"$f":"IFERROR(VLOOKUP($C$4&\"_\"&$A28,catagory_wise,COLUMNS($A$5:I26),0),\"\")","v":""},{"$f":"IFERROR(VLOOKUP($C$4&\"_\"&$A28,catagory_wise,COLUMNS($A$5:J26),0),\"\")","v":""},{"$f":"IFERROR(VLOOKUP($C$4&\"_\"&$A28,catagory_wise,COLUMNS($A$5:K26),0),\"\")","v":""},{"$f":"IFERROR(VLOOKUP($C$4&\"_\"&$A28,catagory_wise,COLUMNS($A$5:L26),0),\"\")","v":""},{"$f":"IFERROR(VLOOKUP($C$4&\"_\"&$A28,catagory_wise,COLUMNS($A$5:M26),0),\"\")","v":""},{"$f":"IFERROR(VLOOKUP($C$4&\"_\"&$A28,catagory_wise,COLUMNS($A$5:N26),0),\"\")","v":""},{"$f":"IFERROR(VLOOKUP($C$4&\"_\"&$A28,catagory_wise,COLUMNS($A$5:O26),0),\"\")","v":""},{"$f":"IFERROR(VLOOKUP($C$4&\"_\"&$A28,catagory_wise,COLUMNS($A$5:P26),0),\"\")","v":""},{"$f":"IFERROR(VLOOKUP($C$4&\"_\"&$A28,catagory_wise,COLUMNS($A$5:Q26),0),\"\")","v":""},{"$f":"IFERROR(VLOOKUP($C$4&\"_\"&$A28,catagory_wise,COLUMNS($A$5:R26),0),\"\")","v":""},{"$f":"IFERROR(VLOOKUP($C$4&\"_\"&$A28,catagory_wise,COLUMNS($A$5:S26),0),\"\")","v":""},{"$f":"IFERROR(VLOOKUP($C$4&\"_\"&$A28,catagory_wise,COLUMNS($A$5:T26),0),\"\")","v":""},{"$f":"IFERROR(VLOOKUP($C$4&\"_\"&$A28,catagory_wise,COLUMNS($A$5:U26),0),\"\")","v":""},{"$f":"IFERROR(VLOOKUP($C$4&\"_\"&$A28,catagory_wise,COLUMNS($A$5:V26),0),\"\")","v":""},{"$f":"IFERROR(VLOOKUP($C$4&\"_\"&$A28,catagory_wise,COLUMNS($A$5:W26),0),\"\")","v":""},{"$f":"IFERROR(VLOOKUP($C$4&\"_\"&$A28,catagory_wise,COLUMNS($A$5:X26),0),\"\")","v":""},{"$f":"IFERROR(VLOOKUP($C$4&\"_\"&$A28,catagory_wise,COLUMNS($A$5:Y26),0),\"\")","v":""},{"$f":"IFERROR(VLOOKUP($C$4&\"_\"&$A28,catagory_wise,COLUMNS($A$5:Z26),0),\"\")","v":""},{"$f":"IFERROR(VLOOKUP($C$4&\"_\"&$A28,catagory_wise,COLUMNS($A$5:AA26),0),\"\")","v":""},{"$f":"IFERROR(VLOOKUP($C$4&\"_\"&$A28,catagory_wise,COLUMNS($A$5:AB26),0),\"\")","v":""},{"$f":"IFERROR(VLOOKUP($C$4&\"_\"&$A28,catagory_wise,COLUMNS($A$5:AC26),0),\"\")","v":""},{"$f":"IFERROR(VLOOKUP($C$4&\"_\"&$A28,catagory_wise,COLUMNS($A$5:AD26),0),\"\")","v":""},{"$f":"IFERROR(VLOOKUP($C$4&\"_\"&$A28,catagory_wise,COLUMNS($A$5:AE26),0),\"\")","v":""},{"$f":"IFERROR(VLOOKUP($C$4&\"_\"&$A28,catagory_wise,COLUMNS($A$5:AF26),0),\"\")","v":""},{"$f":"IFERROR(VLOOKUP($C$4&\"_\"&$A28,catagory_wise,COLUMNS($A$5:AG26),0),\"\")","v":""},{"$f":"IFERROR(VLOOKUP($C$4&\"_\"&$A28,catagory_wise,COLUMNS($A$5:AH26),0),\"\")","v":""},{"$f":"IFERROR(VLOOKUP($C$4&\"_\"&$A28,catagory_wise,COLUMNS($A$5:AI26),0),\"\")","v":""},{"$f":"IFERROR(VLOOKUP($C$4&\"_\"&$A28,catagory_wise,COLUMNS($A$5:AJ26),0),\"\")","v":""}]
[23,{"$f":"IFERROR(VLOOKUP($C$4&\"_\"&$A29,catagory_wise,COLUMNS($A$5:C27),0),\"\")","v":""},{"$f":"IFERROR(VLOOKUP($C$4&\"_\"&$A29,catagory_wise,COLUMNS($A$5:D27),0),\"\")","v":""},{"$f":"IFERROR(VLOOKUP($C$4&\"_\"&$A29,catagory_wise,COLUMNS($A$5:E27),0),\"\")","v":""},{"$f":"IFERROR(VLOOKUP($C$4&\"_\"&$A29,catagory_wise,COLUMNS($A$5:F27),0),\"\")","v":""},{"$f":"IFERROR(VLOOKUP($C$4&\"_\"&$A29,catagory_wise,COLUMNS($A$5:G27),0),\"\")","v":""},{"$f":"IFERROR(VLOOKUP($C$4&\"_\"&$A29,catagory_wise,COLUMNS($A$5:H27),0),\"\")","v":""},{"$f":"IFERROR(VLOOKUP($C$4&\"_\"&$A29,catagory_wise,COLUMNS($A$5:I27),0),\"\")","v":""},{"$f":"IFERROR(VLOOKUP($C$4&\"_\"&$A29,catagory_wise,COLUMNS($A$5:J27),0),\"\")","v":""},{"$f":"IFERROR(VLOOKUP($C$4&\"_\"&$A29,catagory_wise,COLUMNS($A$5:K27),0),\"\")","v":""},{"$f":"IFERROR(VLOOKUP($C$4&\"_\"&$A29,catagory_wise,COLUMNS($A$5:L27),0),\"\")","v":""},{"$f":"IFERROR(VLOOKUP($C$4&\"_\"&$A29,catagory_wise,COLUMNS($A$5:M27),0),\"\")","v":""},{"$f":"IFERROR(VLOOKUP($C$4&\"_\"&$A29,catagory_wise,COLUMNS($A$5:N27),0),\"\")","v":""},{"$f":"IFERROR(VLOOKUP($C$4&\"_\"&$A29,catagory_wise,COLUMNS($A$5:O27),0),\"\")","v":""},{"$f":"IFERROR(VLOOKUP($C$4&\"_\"&$A29,catagory_wise,COLUMNS($A$5:P27),0),\"\")","v":""},{"$f":"IFERROR(VLOOKUP($C$4&\"_\"&$A29,catagory_wise,COLUMNS($A$5:Q27),0),\"\")","v":""},{"$f":"IFERROR(VLOOKUP($C$4&\"_\"&$A29,catagory_wise,COLUMNS($A$5:R27),0),\"\")","v":""},{"$f":"IFERROR(VLOOKUP($C$4&\"_\"&$A29,catagory_wise,COLUMNS($A$5:S27),0),\"\")","v":""},{"$f":"IFERROR(VLOOKUP($C$4&\"_\"&$A29,catagory_wise,COLUMNS($A$5:T27),0),\"\")","v":""},{"$f":"IFERROR(VLOOKUP($C$4&\"_\"&$A29,catagory_wise,COLUMNS($A$5:U27),0),\"\")","v":""},{"$f":"IFERROR(VLOOKUP($C$4&\"_\"&$A29,catagory_wise,COLUMNS($A$5:V27),0),\"\")","v":""},{"$f":"IFERROR(VLOOKUP($C$4&\"_\"&$A29,catagory_wise,COLUMNS($A$5:W27),0),\"\")","v":""},{"$f":"IFERROR(VLOOKUP($C$4&\"_\"&$A29,catagory_wise,COLUMNS($A$5:X27),0),\"\")","v":""},{"$f":"IFERROR(VLOOKUP($C$4&\"_\"&$A29,catagory_wise,COLUMNS($A$5:Y27),0),\"\")","v":""},{"$f":"IFERROR(VLOOKUP($C$4&\"_\"&$A29,catagory_wise,COLUMNS($A$5:Z27),0),\"\")","v":""},{"$f":"IFERROR(VLOOKUP($C$4&\"_\"&$A29,catagory_wise,COLUMNS($A$5:AA27),0),\"\")","v":""},{"$f":"IFERROR(VLOOKUP($C$4&\"_\"&$A29,catagory_wise,COLUMNS($A$5:AB27),0),\"\")","v":""},{"$f":"IFERROR(VLOOKUP($C$4&\"_\"&$A29,catagory_wise,COLUMNS($A$5:AC27),0),\"\")","v":""},{"$f":"IFERROR(VLOOKUP($C$4&\"_\"&$A29,catagory_wise,COLUMNS($A$5:AD27),0),\"\")","v":""},{"$f":"IFERROR(VLOOKUP($C$4&\"_\"&$A29,catagory_wise,COLUMNS($A$5:AE27),0),\"\")","v":""},{"$f":"IFERROR(VLOOKUP($C$4&\"_\"&$A29,catagory_wise,COLUMNS($A$5:AF27),0),\"\")","v":""},{"$f":"IFERROR(VLOOKUP($C$4&\"_\"&$A29,catagory_wise,COLUMNS($A$5:AG27),0),\"\")","v":""},{"$f":"IFERROR(VLOOKUP($C$4&\"_\"&$A29,catagory_wise,COLUMNS($A$5:AH27),0),\"\")","v":""},{"$f":"IFERROR(VLOOKUP($C$4&\"_\"&$A29,catagory_wise,COLUMNS($A$5:AI27),0),\"\")","v":""},{"$f":"IFERROR(VLOOKUP($C$4&\"_\"&$A29,catagory_wise,COLUMNS($A$5:AJ27),0),\"\")","v":""}]
[24,{"$f":"IFERROR(VLOOKUP($C$4&\"_\"&$A30,catagory_wise,COLUMNS($A$5:C28),0),\"\")","v":""},{"$f":"IFERROR(VLOOKUP($C$4&\"_\"&$A30,catagory_wise,COLUMNS($A$5:D28),0),\"\")","v":""},{"$f":"IFERROR(VLOOKUP($C$4&\"_\"&$A30,catagory_wise,COLUMNS($A$5:E28),0),\"\")","v":""},{"$f":"IFERROR(VLOOKUP($C$4&\"_\"&$A30,catagory_wise,COLUMNS($A$5:F28),0),\"\")","v":""},{"$f":"IFERROR(VLOOKUP($C$4&\"_\"&$A30,catagory_wise,COLUMNS($A$5:G28),0),\"\")","v":""},{"$f":"IFERROR(VLOOKUP($C$4&\"_\"&$A30,catagory_wise,COLUMNS($A$5:H28),0),\"\")","v":""},{"$f":"IFERROR(VLOOKUP($C$4&\"_\"&$A30,catagory_wise,COLUMNS($A$5:I28),0),\"\")","v":""},{"$f":"IFERROR(VLOOKUP($C$4&\"_\"&$A30,catagory_wise,COLUMNS($A$5:J28),0),\"\")","v":""},{"$f":"IFERROR(VLOOKUP($C$4&\"_\"&$A30,catagory_wise,COLUMNS($A$5:K28),0),\"\")","v":""},{"$f":"IFERROR(VLOOKUP($C$4&\"_\"&$A30,catagory_wise,COLUMNS($A$5:L28),0),\"\")","v":""},{"$f":"IFERROR(VLOOKUP($C$4&\"_\"&$A30,catagory_wise,COLUMNS($A$5:M28),0),\"\")","v":""},{"$f":"IFERROR(VLOOKUP($C$4&\"_\"&$A30,catagory_wise,COLUMNS($A$5:N28),0),\"\")","v":""},{"$f":"IFERROR(VLOOKUP($C$4&\"_\"&$A30,catagory_wise,COLUMNS($A$5:O28),0),\"\")","v":""},{"$f":"IFERROR(VLOOKUP($C$4&\"_\"&$A30,catagory_wise,COLUMNS($A$5:P28),0),\"\")","v":""},{"$f":"IFERROR(VLOOKUP($C$4&\"_\"&$A30,catagory_wise,COLUMNS($A$5:Q28),0),\"\")","v":""},{"$f":"IFERROR(VLOOKUP($C$4&\"_\"&$A30,catagory_wise,COLUMNS($A$5:R28),0),\"\")","v":""},{"$f":"IFERROR(VLOOKUP($C$4&\"_\"&$A30,catagory_wise,COLUMNS($A$5:S28),0),\"\")","v":""},{"$f":"IFERROR(VLOOKUP($C$4&\"_\"&$A30,catagory_wise,COLUMNS($A$5:T28),0),\"\")","v":""},{"$f":"IFERROR(VLOOKUP($C$4&\"_\"&$A30,catagory_wise,COLUMNS($A$5:U28),0),\"\")","v":""},{"$f":"IFERROR(VLOOKUP($C$4&\"_\"&$A30,catagory_wise,COLUMNS($A$5:V28),0),\"\")","v":""},{"$f":"IFERROR(VLOOKUP($C$4&\"_\"&$A30,catagory_wise,COLUMNS($A$5:W28),0),\"\")","v":""},{"$f":"IFERROR(VLOOKUP($C$4&\"_\"&$A30,catagory_wise,COLUMNS($A$5:X28),0),\"\")","v":""},{"$f":"IFERROR(VLOOKUP($C$4&\"_\"&$A30,catagory_wise,COLUMNS($A$5:Y28),0),\"\")","v":""},{"$f":"IFERROR(VLOOKUP($C$4&\"_\"&$A30,catagory_wise,COLUMNS($A$5:Z28),0),\"\")","v":""},{"$f":"IFERROR(VLOOKUP($C$4&\"_\"&$A30,catagory_wise,COLUMNS($A$5:AA28),0),\"\")","v":""},{"$f":"IFERROR(VLOOKUP($C$4&\"_\"&$A30,catagory_wise,COLUMNS($A$5:AB28),0),\"\")","v":""},{"$f":"IFERROR(VLOOKUP($C$4&\"_\"&$A30,catagory_wise,COLUMNS($A$5:AC28),0),\"\")","v":""},{"$f":"IFERROR(VLOOKUP($C$4&\"_\"&$A30,catagory_wise,COLUMNS($A$5:AD28),0),\"\")","v":""},{"$f":"IFERROR(VLOOKUP($C$4&\"_\"&$A30,catagory_wise,COLUMNS($A$5:AE28),0),\"\")","v":""},{"$f":"IFERROR(VLOOKUP($C$4&\"_\"&$A30,catagory_wise,COLUMNS($A$5:AF28),0),\"\")","v":""},{"$f":"IFERROR(VLOOKUP($C$4&\"_\"&$A30,catagory_wise,COLUMNS($A$5:AG28),0),\"\")","v":""},{"$f":"IFERROR(VLOOKUP($C$4&\"_\"&$A30,catagory_wise,COLUMNS($A$5:AH28),0),\"\")","v":""},{"$f":"IFERROR(VLOOKUP($C$4&\"_\"&$A30,catagory_wise,COLUMNS($A$5:AI28),0),\"\")","v":""},{"$f":"IFERROR(VLOOKUP($C$4&\"_\"&$A30,catagory_wise,COLUMNS($A$5:AJ28),0),\"\")","v":""}]
[25,{"$f":"IFERROR(VLOOKUP($C$4&\"_\"&$A31,catagory_wise,COLUMNS($A$5:C29),0),\"\")","v":""},{"$f":"IFERROR(VLOOKUP($C$4&\"_\"&$A31,catagory_wise,COLUMNS($A$5:D29),0),\"\")","v":""},{"$f":"IFERROR(VLOOKUP($C$4&\"_\"&$A31,catagory_wise,COLUMNS($A$5:E29),0),\"\")","v":""},{"$f":"IFERROR(VLOOKUP($C$4&\"_\"&$A31,catagory_wise,COLUMNS($A$5:F29),0),\"\")","v":""},{"$f":"IFERROR(VLOOKUP($C$4&\"_\"&$A31,catagory_wise,COLUMNS($A$5:G29),0),\"\")","v":""},{"$f":"IFERROR(VLOOKUP($C$4&\"_\"&$A31,catagory_wise,COLUMNS($A$5:H29),0),\"\")","v":""},{"$f":"IFERROR(VLOOKUP($C$4&\"_\"&$A31,catagory_wise,COLUMNS($A$5:I29),0),\"\")","v":""},{"$f":"IFERROR(VLOOKUP($C$4&\"_\"&$A31,catagory_wise,COLUMNS($A$5:J29),0),\"\")","v":""},{"$f":"IFERROR(VLOOKUP($C$4&\"_\"&$A31,catagory_wise,COLUMNS($A$5:K29),0),\"\")","v":""},{"$f":"IFERROR(VLOOKUP($C$4&\"_\"&$A31,catagory_wise,COLUMNS($A$5:L29),0),\"\")","v":""},{"$f":"IFERROR(VLOOKUP($C$4&\"_\"&$A31,catagory_wise,COLUMNS($A$5:M29),0),\"\")","v":""},{"$f":"IFERROR(VLOOKUP($C$4&\"_\"&$A31,catagory_wise,COLUMNS($A$5:N29),0),\"\")","v":""},{"$f":"IFERROR(VLOOKUP($C$4&\"_\"&$A31,catagory_wise,COLUMNS($A$5:O29),0),\"\")","v":""},{"$f":"IFERROR(VLOOKUP($C$4&\"_\"&$A31,catagory_wise,COLUMNS($A$5:P29),0),\"\")","v":""},{"$f":"IFERROR(VLOOKUP($C$4&\"_\"&$A31,catagory_wise,COLUMNS($A$5:Q29),0),\"\")","v":""},{"$f":"IFERROR(VLOOKUP($C$4&\"_\"&$A31,catagory_wise,COLUMNS($A$5:R29),0),\"\")","v":""},{"$f":"IFERROR(VLOOKUP($C$4&\"_\"&$A31,catagory_wise,COLUMNS($A$5:S29),0),\"\")","v":""},{"$f":"IFERROR(VLOOKUP($C$4&\"_\"&$A31,catagory_wise,COLUMNS($A$5:T29),0),\"\")","v":""},{"$f":"IFERROR(VLOOKUP($C$4&\"_\"&$A31,catagory_wise,COLUMNS($A$5:U29),0),\"\")","v":""},{"$f":"IFERROR(VLOOKUP($C$4&\"_\"&$A31,catagory_wise,COLUMNS($A$5:V29),0),\"\")","v":""},{"$f":"IFERROR(VLOOKUP($C$4&\"_\"&$A31,catagory_wise,COLUMNS($A$5:W29),0),\"\")","v":""},{"$f":"IFERROR(VLOOKUP($C$4&\"_\"&$A31,catagory_wise,COLUMNS($A$5:X29),0),\"\")","v":""},{"$f":"IFERROR(VLOOKUP($C$4&\"_\"&$A31,catagory_wise,COLUMNS($A$5:Y29),0),\"\")","v":""},{"$f":"IFERROR(VLOOKUP($C$4&\"_\"&$A31,catagory_wise,COLUMNS($A$5:Z29),0),\"\")","v":""},{"$f":"IFERROR(VLOOKUP($C$4&\"_\"&$A31,catagory_wise,COLUMNS($A$5:AA29),0),\"\")","v":""},{"$f":"IFERROR(VLOOKUP($C$4&\"_\"&$A31,catagory_wise,COLUMNS($A$5:AB29),0),\"\")","v":""},{"$f":"IFERROR(VLOOKUP($C$4&\"_\"&$A31,catagory_wise,COLUMNS($A$5:AC29),0),\"\")","v":""},{"$f":"IFERROR(VLOOKUP($C$4&\"_\"&$A31,catagory_wise,COLUMNS($A$5:AD29),0),\"\")","v":""},{"$f":"IFERROR(VLOOKUP($C$4&\"_\"&$A31,catagory_wise,COLUMNS($A$5:AE29),0),\"\")","v":""},{"$f":"IFERROR(VLOOKUP($C$4&\"_\"&$A31,catagory_wise,COLUMNS($A$5:AF29),0),\"\")","v":""},{"$f":"IFERROR(VLOOKUP($C$4&\"_\"&$A31,catagory_wise,COLUMNS($A$5:AG29),0),\"\")","v":""},{"$f":"IFERROR(VLOOKUP($C$4&\"_\"&$A31,catagory_wise,COLUMNS($A$5:AH29),0),\"\")","v":""},{"$f":"IFERROR(VLOOKUP($C$4&\"_\"&$A31,catagory_wise,COLUMNS($A$5:AI29),0),\"\")","v":""},{"$f":"IFERROR(VLOOKUP($C$4&\"_\"&$A31,catagory_wise,COLUMNS($A$5:AJ29),0),\"\")","v":""}]
[26,{"$f":"IFERROR(VLOOKUP($C$4&\"_\"&$A32,catagory_wise,COLUMNS($A$5:C30),0),\"\")","v":""},{"$f":"IFERROR(VLOOKUP($C$4&\"_\"&$A32,catagory_wise,COLUMNS($A$5:D30),0),\"\")","v":""},{"$f":"IFERROR(VLOOKUP($C$4&\"_\"&$A32,catagory_wise,COLUMNS($A$5:E30),0),\"\")","v":""},{"$f":"IFERROR(VLOOKUP($C$4&\"_\"&$A32,catagory_wise,COLUMNS($A$5:F30),0),\"\")","v":""},{"$f":"IFERROR(VLOOKUP($C$4&\"_\"&$A32,catagory_wise,COLUMNS($A$5:G30),0),\"\")","v":""},{"$f":"IFERROR(VLOOKUP($C$4&\"_\"&$A32,catagory_wise,COLUMNS($A$5:H30),0),\"\")","v":""},{"$f":"IFERROR(VLOOKUP($C$4&\"_\"&$A32,catagory_wise,COLUMNS($A$5:I30),0),\"\")","v":""},{"$f":"IFERROR(VLOOKUP($C$4&\"_\"&$A32,catagory_wise,COLUMNS($A$5:J30),0),\"\")","v":""},{"$f":"IFERROR(VLOOKUP($C$4&\"_\"&$A32,catagory_wise,COLUMNS($A$5:K30),0),\"\")","v":""},{"$f":"IFERROR(VLOOKUP($C$4&\"_\"&$A32,catagory_wise,COLUMNS($A$5:L30),0),\"\")","v":""},{"$f":"IFERROR(VLOOKUP($C$4&\"_\"&$A32,catagory_wise,COLUMNS($A$5:M30),0),\"\")","v":""},{"$f":"IFERROR(VLOOKUP($C$4&\"_\"&$A32,catagory_wise,COLUMNS($A$5:N30),0),\"\")","v":""},{"$f":"IFERROR(VLOOKUP($C$4&\"_\"&$A32,catagory_wise,COLUMNS($A$5:O30),0),\"\")","v":""},{"$f":"IFERROR(VLOOKUP($C$4&\"_\"&$A32,catagory_wise,COLUMNS($A$5:P30),0),\"\")","v":""},{"$f":"IFERROR(VLOOKUP($C$4&\"_\"&$A32,catagory_wise,COLUMNS($A$5:Q30),0),\"\")","v":""},{"$f":"IFERROR(VLOOKUP($C$4&\"_\"&$A32,catagory_wise,COLUMNS($A$5:R30),0),\"\")","v":""},{"$f":"IFERROR(VLOOKUP($C$4&\"_\"&$A32,catagory_wise,COLUMNS($A$5:S30),0),\"\")","v":""},{"$f":"IFERROR(VLOOKUP($C$4&\"_\"&$A32,catagory_wise,COLUMNS($A$5:T30),0),\"\")","v":""},{"$f":"IFERROR(VLOOKUP($C$4&\"_\"&$A32,catagory_wise,COLUMNS($A$5:U30),0),\"\")","v":""},{"$f":"IFERROR(VLOOKUP($C$4&\"_\"&$A32,catagory_wise,COLUMNS($A$5:V30),0),\"\")","v":""},{"$f":"IFERROR(VLOOKUP($C$4&\"_\"&$A32,catagory_wise,COLUMNS($A$5:W30),0),\"\")","v":""},{"$f":"IFERROR(VLOOKUP($C$4&\"_\"&$A32,catagory_wise,COLUMNS($A$5:X30),0),\"\")","v":""},{"$f":"IFERROR(VLOOKUP($C$4&\"_\"&$A32,catagory_wise,COLUMNS($A$5:Y30),0),\"\")","v":""},{"$f":"IFERROR(VLOOKUP($C$4&\"_\"&$A32,catagory_wise,COLUMNS($A$5:Z30),0),\"\")","v":""},{"$f":"IFERROR(VLOOKUP($C$4&\"_\"&$A32,catagory_wise,COLUMNS($A$5:AA30),0),\"\")","v":""},{"$f":"IFERROR(VLOOKUP($C$4&\"_\"&$A32,catagory_wise,COLUMNS($A$5:AB30),0),\"\")","v":""},{"$f":"IFERROR(VLOOKUP($C$4&\"_\"&$A32,catagory_wise,COLUMNS($A$5:AC30),0),\"\")","v":""},{"$f":"IFERROR(VLOOKUP($C$4&\"_\"&$A32,catagory_wise,COLUMNS($A$5:AD30),0),\"\")","v":""},{"$f":"IFERROR(VLOOKUP($C$4&\"_\"&$A32,catagory_wise,COLUMNS($A$5:AE30),0),\"\")","v":""},{"$f":"IFERROR(VLOOKUP($C$4&\"_\"&$A32,catagory_wise,COLUMNS($A$5:AF30),0),\"\")","v":""},{"$f":"IFERROR(VLOOKUP($C$4&\"_\"&$A32,catagory_wise,COLUMNS($A$5:AG30),0),\"\")","v":""},{"$f":"IFERROR(VLOOKUP($C$4&\"_\"&$A32,catagory_wise,COLUMNS($A$5:AH30),0),\"\")","v":""},{"$f":"IFERROR(VLOOKUP($C$4&\"_\"&$A32,catagory_wise,COLUMNS($A$5:AI30),0),\"\")","v":""},{"$f":"IFERROR(VLOOKUP($C$4&\"_\"&$A32,catagory_wise,COLUMNS($A$5:AJ30),0),\"\")","v":""}]
[27,{"$f":"IFERROR(VLOOKUP($C$4&\"_\"&$A33,catagory_wise,COLUMNS($A$5:C31),0),\"\")","v":""},{"$f":"IFERROR(VLOOKUP($C$4&\"_\"&$A33,catagory_wise,COLUMNS($A$5:D31),0),\"\")","v":""},{"$f":"IFERROR(VLOOKUP($C$4&\"_\"&$A33,catagory_wise,COLUMNS($A$5:E31),0),\"\")","v":""},{"$f":"IFERROR(VLOOKUP($C$4&\"_\"&$A33,catagory_wise,COLUMNS($A$5:F31),0),\"\")","v":""},{"$f":"IFERROR(VLOOKUP($C$4&\"_\"&$A33,catagory_wise,COLUMNS($A$5:G31),0),\"\")","v":""},{"$f":"IFERROR(VLOOKUP($C$4&\"_\"&$A33,catagory_wise,COLUMNS($A$5:H31),0),\"\")","v":""},{"$f":"IFERROR(VLOOKUP($C$4&\"_\"&$A33,catagory_wise,COLUMNS($A$5:I31),0),\"\")","v":""},{"$f":"IFERROR(VLOOKUP($C$4&\"_\"&$A33,catagory_wise,COLUMNS($A$5:J31),0),\"\")","v":""},{"$f":"IFERROR(VLOOKUP($C$4&\"_\"&$A33,catagory_wise,COLUMNS($A$5:K31),0),\"\")","v":""},{"$f":"IFERROR(VLOOKUP($C$4&\"_\"&$A33,catagory_wise,COLUMNS($A$5:L31),0),\"\")","v":""},{"$f":"IFERROR(VLOOKUP($C$4&\"_\"&$A33,catagory_wise,COLUMNS($A$5:M31),0),\"\")","v":""},{"$f":"IFERROR(VLOOKUP($C$4&\"_\"&$A33,catagory_wise,COLUMNS($A$5:N31),0),\"\")","v":""},{"$f":"IFERROR(VLOOKUP($C$4&\"_\"&$A33,catagory_wise,COLUMNS($A$5:O31),0),\"\")","v":""},{"$f":"IFERROR(VLOOKUP($C$4&\"_\"&$A33,catagory_wise,COLUMNS($A$5:P31),0),\"\")","v":""},{"$f":"IFERROR(VLOOKUP($C$4&\"_\"&$A33,catagory_wise,COLUMNS($A$5:Q31),0),\"\")","v":""},{"$f":"IFERROR(VLOOKUP($C$4&\"_\"&$A33,catagory_wise,COLUMNS($A$5:R31),0),\"\")","v":""},{"$f":"IFERROR(VLOOKUP($C$4&\"_\"&$A33,catagory_wise,COLUMNS($A$5:S31),0),\"\")","v":""},{"$f":"IFERROR(VLOOKUP($C$4&\"_\"&$A33,catagory_wise,COLUMNS($A$5:T31),0),\"\")","v":""},{"$f":"IFERROR(VLOOKUP($C$4&\"_\"&$A33,catagory_wise,COLUMNS($A$5:U31),0),\"\")","v":""},{"$f":"IFERROR(VLOOKUP($C$4&\"_\"&$A33,catagory_wise,COLUMNS($A$5:V31),0),\"\")","v":""},{"$f":"IFERROR(VLOOKUP($C$4&\"_\"&$A33,catagory_wise,COLUMNS($A$5:W31),0),\"\")","v":""},{"$f":"IFERROR(VLOOKUP($C$4&\"_\"&$A33,catagory_wise,COLUMNS($A$5:X31),0),\"\")","v":""},{"$f":"IFERROR(VLOOKUP($C$4&\"_\"&$A33,catagory_wise,COLUMNS($A$5:Y31),0),\"\")","v":""},{"$f":"IFERROR(VLOOKUP($C$4&\"_\"&$A33,catagory_wise,COLUMNS($A$5:Z31),0),\"\")","v":""},{"$f":"IFERROR(VLOOKUP($C$4&\"_\"&$A33,catagory_wise,COLUMNS($A$5:AA31),0),\"\")","v":""},{"$f":"IFERROR(VLOOKUP($C$4&\"_\"&$A33,catagory_wise,COLUMNS($A$5:AB31),0),\"\")","v":""},{"$f":"IFERROR(VLOOKUP($C$4&\"_\"&$A33,catagory_wise,COLUMNS($A$5:AC31),0),\"\")","v":""},{"$f":"IFERROR(VLOOKUP($C$4&\"_\"&$A33,catagory_wise,COLUMNS($A$5:AD31),0),\"\")","v":""},{"$f":"IFERROR(VLOOKUP($C$4&\"_\"&$A33,catagory_wise,COLUMNS($A$5:AE31),0),\"\")","v":""},{"$f":"IFERROR(VLOOKUP($C$4&\"_\"&$A33,catagory_wise,COLUMNS($A$5:AF31),0),\"\")","v":""},{"$f":"IFERROR(VLOOKUP($C$4&\"_\"&$A33,catagory_wise,COLUMNS($A$5:AG31),0),\"\")","v":""},{"$f":"IFERROR(VLOOKUP($C$4&\"_\"&$A33,catagory_wise,COLUMNS($A$5:AH31),0),\"\")","v":""},{"$f":"IFERROR(VLOOKUP($C$4&\"_\"&$A33,catagory_wise,COLUMNS($A$5:AI31),0),\"\")","v":""},{"$f":"IFERROR(VLOOKUP($C$4&\"_\"&$A33,catagory_wise,COLUMNS($A$5:AJ31),0),\"\")","v":""}]
[28,{"$f":"IFERROR(VLOOKUP($C$4&\"_\"&$A34,catagory_wise,COLUMNS($A$5:C32),0),\"\")","v":""},{"$f":"IFERROR(VLOOKUP($C$4&\"_\"&$A34,catagory_wise,COLUMNS($A$5:D32),0),\"\")","v":""},{"$f":"IFERROR(VLOOKUP($C$4&\"_\"&$A34,catagory_wise,COLUMNS($A$5:E32),0),\"\")","v":""},{"$f":"IFERROR(VLOOKUP($C$4&\"_\"&$A34,catagory_wise,COLUMNS($A$5:F32),0),\"\")","v":""},{"$f":"IFERROR(VLOOKUP($C$4&\"_\"&$A34,catagory_wise,COLUMNS($A$5:G32),0),\"\")","v":""},{"$f":"IFERROR(VLOOKUP($C$4&\"_\"&$A34,catagory_wise,COLUMNS($A$5:H32),0),\"\")","v":""},{"$f":"IFERROR(VLOOKUP($C$4&\"_\"&$A34,catagory_wise,COLUMNS($A$5:I32),0),\"\")","v":""},{"$f":"IFERROR(VLOOKUP($C$4&\"_\"&$A34,catagory_wise,COLUMNS($A$5:J32),0),\"\")","v":""},{"$f":"IFERROR(VLOOKUP($C$4&\"_\"&$A34,catagory_wise,COLUMNS($A$5:K32),0),\"\")","v":""},{"$f":"IFERROR(VLOOKUP($C$4&\"_\"&$A34,catagory_wise,COLUMNS($A$5:L32),0),\"\")","v":""},{"$f":"IFERROR(VLOOKUP($C$4&\"_\"&$A34,catagory_wise,COLUMNS($A$5:M32),0),\"\")","v":""},{"$f":"IFERROR(VLOOKUP($C$4&\"_\"&$A34,catagory_wise,COLUMNS($A$5:N32),0),\"\")","v":""},{"$f":"IFERROR(VLOOKUP($C$4&\"_\"&$A34,catagory_wise,COLUMNS($A$5:O32),0),\"\")","v":""},{"$f":"IFERROR(VLOOKUP($C$4&\"_\"&$A34,catagory_wise,COLUMNS($A$5:P32),0),\"\")","v":""},{"$f":"IFERROR(VLOOKUP($C$4&\"_\"&$A34,catagory_wise,COLUMNS($A$5:Q32),0),\"\")","v":""},{"$f":"IFERROR(VLOOKUP($C$4&\"_\"&$A34,catagory_wise,COLUMNS($A$5:R32),0),\"\")","v":""},{"$f":"IFERROR(VLOOKUP($C$4&\"_\"&$A34,catagory_wise,COLUMNS($A$5:S32),0),\"\")","v":""},{"$f":"IFERROR(VLOOKUP($C$4&\"_\"&$A34,catagory_wise,COLUMNS($A$5:T32),0),\"\")","v":""},{"$f":"IFERROR(VLOOKUP($C$4&\"_\"&$A34,catagory_wise,COLUMNS($A$5:U32),0),\"\")","v":""},{"$f":"IFERROR(VLOOKUP($C$4&\"_\"&$A34,catagory_wise,COLUMNS($A$5:V32),0),\"\")","v":""},{"$f":"IFERROR(VLOOKUP($C$4&\"_\"&$A34,catagory_wise,COLUMNS($A$5:W32),0),\"\")","v":""},{"$f":"IFERROR(VLOOKUP($C$4&\"_\"&$A34,catagory_wise,COLUMNS($A$5:X32),0),\"\")","v":""},{"$f":"IFERROR(VLOOKUP($C$4&\"_\"&$A34,catagory_wise,COLUMNS($A$5:Y32),0),\"\")","v":""},{"$f":"IFERROR(VLOOKUP($C$4&\"_\"&$A34,catagory_wise,COLUMNS($A$5:Z32),0),\"\")","v":""},{"$f":"IFERROR(VLOOKUP($C$4&\"_\"&$A34,catagory_wise,COLUMNS($A$5:AA32),0),\"\")","v":""},{"$f":"IFERROR(VLOOKUP($C$4&\"_\"&$A34,catagory_wise,COLUMNS($A$5:AB32),0),\"\")","v":""},{"$f":"IFERROR(VLOOKUP($C$4&\"_\"&$A34,catagory_wise,COLUMNS($A$5:AC32),0),\"\")","v":""},{"$f":"IFERROR(VLOOKUP($C$4&\"_\"&$A34,catagory_wise,COLUMNS($A$5:AD32),0),\"\")","v":""},{"$f":"IFERROR(VLOOKUP($C$4&\"_\"&$A34,catagory_wise,COLUMNS($A$5:AE32),0),\"\")","v":""},{"$f":"IFERROR(VLOOKUP($C$4&\"_\"&$A34,catagory_wise,COLUMNS($A$5:AF32),0),\"\")","v":""},{"$f":"IFERROR(VLOOKUP($C$4&\"_\"&$A34,catagory_wise,COLUMNS($A$5:AG32),0),\"\")","v":""},{"$f":"IFERROR(VLOOKUP($C$4&\"_\"&$A34,catagory_wise,COLUMNS($A$5:AH32),0),\"\")","v":""},{"$f":"IFERROR(VLOOKUP($C$4&\"_\"&$A34,catagory_wise,COLUMNS($A$5:AI32),0),\"\")","v":""},{"$f":"IFERROR(VLOOKUP($C$4&\"_\"&$A34,catagory_wise,COLUMNS($A$5:AJ32),0),\"\")","v":""}]
[29,{"$f":"IFERROR(VLOOKUP($C$4&\"_\"&$A35,catagory_wise,COLUMNS($A$5:C33),0),\"\")","v":""},{"$f":"IFERROR(VLOOKUP($C$4&\"_\"&$A35,catagory_wise,COLUMNS($A$5:D33),0),\"\")","v":""},{"$f":"IFERROR(VLOOKUP($C$4&\"_\"&$A35,catagory_wise,COLUMNS($A$5:E33),0),\"\")","v":""},{"$f":"IFERROR(VLOOKUP($C$4&\"_\"&$A35,catagory_wise,COLUMNS($A$5:F33),0),\"\")","v":""},{"$f":"IFERROR(VLOOKUP($C$4&\"_\"&$A35,catagory_wise,COLUMNS($A$5:G33),0),\"\")","v":""},{"$f":"IFERROR(VLOOKUP($C$4&\"_\"&$A35,catagory_wise,COLUMNS($A$5:H33),0),\"\")","v":""},{"$f":"IFERROR(VLOOKUP($C$4&\"_\"&$A35,catagory_wise,COLUMNS($A$5:I33),0),\"\")","v":""},{"$f":"IFERROR(VLOOKUP($C$4&\"_\"&$A35,catagory_wise,COLUMNS($A$5:J33),0),\"\")","v":""},{"$f":"IFERROR(VLOOKUP($C$4&\"_\"&$A35,catagory_wise,COLUMNS($A$5:K33),0),\"\")","v":""},{"$f":"IFERROR(VLOOKUP($C$4&\"_\"&$A35,catagory_wise,COLUMNS($A$5:L33),0),\"\")","v":""},{"$f":"IFERROR(VLOOKUP($C$4&\"_\"&$A35,catagory_wise,COLUMNS($A$5:M33),0),\"\")","v":""},{"$f":"IFERROR(VLOOKUP($C$4&\"_\"&$A35,catagory_wise,COLUMNS($A$5:N33),0),\"\")","v":""},{"$f":"IFERROR(VLOOKUP($C$4&\"_\"&$A35,catagory_wise,COLUMNS($A$5:O33),0),\"\")","v":""},{"$f":"IFERROR(VLOOKUP($C$4&\"_\"&$A35,catagory_wise,COLUMNS($A$5:P33),0),\"\")","v":""},{"$f":"IFERROR(VLOOKUP($C$4&\"_\"&$A35,catagory_wise,COLUMNS($A$5:Q33),0),\"\")","v":""},{"$f":"IFERROR(VLOOKUP($C$4&\"_\"&$A35,catagory_wise,COLUMNS($A$5:R33),0),\"\")","v":""},{"$f":"IFERROR(VLOOKUP($C$4&\"_\"&$A35,catagory_wise,COLUMNS($A$5:S33),0),\"\")","v":""},{"$f":"IFERROR(VLOOKUP($C$4&\"_\"&$A35,catagory_wise,COLUMNS($A$5:T33),0),\"\")","v":""},{"$f":"IFERROR(VLOOKUP($C$4&\"_\"&$A35,catagory_wise,COLUMNS($A$5:U33),0),\"\")","v":""},{"$f":"IFERROR(VLOOKUP($C$4&\"_\"&$A35,catagory_wise,COLUMNS($A$5:V33),0),\"\")","v":""},{"$f":"IFERROR(VLOOKUP($C$4&\"_\"&$A35,catagory_wise,COLUMNS($A$5:W33),0),\"\")","v":""},{"$f":"IFERROR(VLOOKUP($C$4&\"_\"&$A35,catagory_wise,COLUMNS($A$5:X33),0),\"\")","v":""},{"$f":"IFERROR(VLOOKUP($C$4&\"_\"&$A35,catagory_wise,COLUMNS($A$5:Y33),0),\"\")","v":""},{"$f":"IFERROR(VLOOKUP($C$4&\"_\"&$A35,catagory_wise,COLUMNS($A$5:Z33),0),\"\")","v":""},{"$f":"IFERROR(VLOOKUP($C$4&\"_\"&$A35,catagory_wise,COLUMNS($A$5:AA33),0),\"\")","v":""},{"$f":"IFERROR(VLOOKUP($C$4&\"_\"&$A35,catagory_wise,COLUMNS($A$5:AB33),0),\"\")","v":""},{"$f":"IFERROR(VLOOKUP($C$4&\"_\"&$A35,catagory_wise,COLUMNS($A$5:AC33),0),\"\")","v":""},{"$f":"IFERROR(VLOOKUP($C$4&\"_\"&$A35,catagory_wise,COLUMNS($A$5:AD33),0),\"\")","v":""},{"$f":"IFERROR(VLOOKUP($C$4&\"_\"&$A35,catagory_wise,COLUMNS($A$5:AE33),0),\"\")","v":""},{"$f":"IFERROR(VLOOKUP($C$4&\"_\"&$A35,catagory_wise,COLUMNS($A$5:AF33),0),\"\")","v":""},{"$f":"IFERROR(VLOOKUP($C$4&\"_\"&$A35,catagory_wise,COLUMNS($A$5:AG33),0),\"\")","v":""},{"$f":"IFERROR(VLOOKUP($C$4&\"_\"&$A35,catagory_wise,COLUMNS($A$5:AH33),0),\"\")","v":""},{"$f":"IFERROR(VLOOKUP($C$4&\"_\"&$A35,catagory_wise,COLUMNS($A$5:AI33),0),\"\")","v":""},{"$f":"IFERROR(VLOOKUP($C$4&\"_\"&$A35,catagory_wise,COLUMNS($A$5:AJ33),0),\"\")","v":""}]
[30,{"$f":"IFERROR(VLOOKUP($C$4&\"_\"&$A36,catagory_wise,COLUMNS($A$5:C34),0),\"\")","v":""},{"$f":"IFERROR(VLOOKUP($C$4&\"_\"&$A36,catagory_wise,COLUMNS($A$5:D34),0),\"\")","v":""},{"$f":"IFERROR(VLOOKUP($C$4&\"_\"&$A36,catagory_wise,COLUMNS($A$5:E34),0),\"\")","v":""},{"$f":"IFERROR(VLOOKUP($C$4&\"_\"&$A36,catagory_wise,COLUMNS($A$5:F34),0),\"\")","v":""},{"$f":"IFERROR(VLOOKUP($C$4&\"_\"&$A36,catagory_wise,COLUMNS($A$5:G34),0),\"\")","v":""},{"$f":"IFERROR(VLOOKUP($C$4&\"_\"&$A36,catagory_wise,COLUMNS($A$5:H34),0),\"\")","v":""},{"$f":"IFERROR(VLOOKUP($C$4&\"_\"&$A36,catagory_wise,COLUMNS($A$5:I34),0),\"\")","v":""},{"$f":"IFERROR(VLOOKUP($C$4&\"_\"&$A36,catagory_wise,COLUMNS($A$5:J34),0),\"\")","v":""},{"$f":"IFERROR(VLOOKUP($C$4&\"_\"&$A36,catagory_wise,COLUMNS($A$5:K34),0),\"\")","v":""},{"$f":"IFERROR(VLOOKUP($C$4&\"_\"&$A36,catagory_wise,COLUMNS($A$5:L34),0),\"\")","v":""},{"$f":"IFERROR(VLOOKUP($C$4&\"_\"&$A36,catagory_wise,COLUMNS($A$5:M34),0),\"\")","v":""},{"$f":"IFERROR(VLOOKUP($C$4&\"_\"&$A36,catagory_wise,COLUMNS($A$5:N34),0),\"\")","v":""},{"$f":"IFERROR(VLOOKUP($C$4&\"_\"&$A36,catagory_wise,COLUMNS($A$5:O34),0),\"\")","v":""},{"$f":"IFERROR(VLOOKUP($C$4&\"_\"&$A36,catagory_wise,COLUMNS($A$5:P34),0),\"\")","v":""},{"$f":"IFERROR(VLOOKUP($C$4&\"_\"&$A36,catagory_wise,COLUMNS($A$5:Q34),0),\"\")","v":""},{"$f":"IFERROR(VLOOKUP($C$4&\"_\"&$A36,catagory_wise,COLUMNS($A$5:R34),0),\"\")","v":""},{"$f":"IFERROR(VLOOKUP($C$4&\"_\"&$A36,catagory_wise,COLUMNS($A$5:S34),0),\"\")","v":""},{"$f":"IFERROR(VLOOKUP($C$4&\"_\"&$A36,catagory_wise,COLUMNS($A$5:T34),0),\"\")","v":""},{"$f":"IFERROR(VLOOKUP($C$4&\"_\"&$A36,catagory_wise,COLUMNS($A$5:U34),0),\"\")","v":""},{"$f":"IFERROR(VLOOKUP($C$4&\"_\"&$A36,catagory_wise,COLUMNS($A$5:V34),0),\"\")","v":""},{"$f":"IFERROR(VLOOKUP($C$4&\"_\"&$A36,catagory_wise,COLUMNS($A$5:W34),0),\"\")","v":""},{"$f":"IFERROR(VLOOKUP($C$4&\"_\"&$A36,catagory_wise,COLUMNS($A$5:X34),0),\"\")","v":""},{"$f":"IFERROR(VLOOKUP($C$4&\"_\"&$A36,catagory_wise,COLUMNS($A$5:Y34),0),\"\")","v":""},{"$f":"IFERROR(VLOOKUP($C$4&\"_\"&$A36,catagory_wise,COLUMNS($A$5:Z34),0),\"\")","v":""},{"$f":"IFERROR(VLOOKUP($C$4&\"_\"&$A36,catagory_wise,COLUMNS($A$5:AA34),0),\"\")","v":""},{"$f":"IFERROR(VLOOKUP($C$4&\"_\"&$A36,catagory_wise,COLUMNS($A$5:AB34),0),\"\")","v":""},{"$f":"IFERROR(VLOOKUP($C$4&\"_\"&$A36,catagory_wise,COLUMNS($A$5:AC34),0),\"\")","v":""},{"$f":"IFERROR(VLOOKUP($C$4&\"_\"&$A36,catagory_wise,COLUMNS($A$5:AD34),0),\"\")","v":""},{"$f":"IFERROR(VLOOKUP($C$4&\"_\"&$A36,catagory_wise,COLUMNS($A$5:AE34),0),\"\")","v":""},{"$f":"IFERROR(VLOOKUP($C$4&\"_\"&$A36,catagory_wise,COLUMNS($A$5:AF34),0),\"\")","v":""},{"$f":"IFERROR(VLOOKUP($C$4&\"_\"&$A36,catagory_wise,COLUMNS($A$5:AG34),0),\"\")","v":""},{"$f":"IFERROR(VLOOKUP($C$4&\"_\"&$A36,catagory_wise,COLUMNS($A$5:AH34),0),\"\")","v":""},{"$f":"IFERROR(VLOOKUP($C$4&\"_\"&$A36,catagory_wise,COLUMNS($A$5:AI34),0),\"\")","v":""},{"$f":"IFERROR(VLOOKUP($C$4&\"_\"&$A36,catagory_wise,COLUMNS($A$5:AJ34),0),\"\")","v":""}]
[31,{"$f":"IFERROR(VLOOKUP($C$4&\"_\"&$A37,catagory_wise,COLUMNS($A$5:C35),0),\"\")","v":""},{"$f":"IFERROR(VLOOKUP($C$4&\"_\"&$A37,catagory_wise,COLUMNS($A$5:D35),0),\"\")","v":""},{"$f":"IFERROR(VLOOKUP($C$4&\"_\"&$A37,catagory_wise,COLUMNS($A$5:E35),0),\"\")","v":""},{"$f":"IFERROR(VLOOKUP($C$4&\"_\"&$A37,catagory_wise,COLUMNS($A$5:F35),0),\"\")","v":""},{"$f":"IFERROR(VLOOKUP($C$4&\"_\"&$A37,catagory_wise,COLUMNS($A$5:G35),0),\"\")","v":""},{"$f":"IFERROR(VLOOKUP($C$4&\"_\"&$A37,catagory_wise,COLUMNS($A$5:H35),0),\"\")","v":""},{"$f":"IFERROR(VLOOKUP($C$4&\"_\"&$A37,catagory_wise,COLUMNS($A$5:I35),0),\"\")","v":""},{"$f":"IFERROR(VLOOKUP($C$4&\"_\"&$A37,catagory_wise,COLUMNS($A$5:J35),0),\"\")","v":""},{"$f":"IFERROR(VLOOKUP($C$4&\"_\"&$A37,catagory_wise,COLUMNS($A$5:K35),0),\"\")","v":""},{"$f":"IFERROR(VLOOKUP($C$4&\"_\"&$A37,catagory_wise,COLUMNS($A$5:L35),0),\"\")","v":""},{"$f":"IFERROR(VLOOKUP($C$4&\"_\"&$A37,catagory_wise,COLUMNS($A$5:M35),0),\"\")","v":""},{"$f":"IFERROR(VLOOKUP($C$4&\"_\"&$A37,catagory_wise,COLUMNS($A$5:N35),0),\"\")","v":""},{"$f":"IFERROR(VLOOKUP($C$4&\"_\"&$A37,catagory_wise,COLUMNS($A$5:O35),0),\"\")","v":""},{"$f":"IFERROR(VLOOKUP($C$4&\"_\"&$A37,catagory_wise,COLUMNS($A$5:P35),0),\"\")","v":""},{"$f":"IFERROR(VLOOKUP($C$4&\"_\"&$A37,catagory_wise,COLUMNS($A$5:Q35),0),\"\")","v":""},{"$f":"IFERROR(VLOOKUP($C$4&\"_\"&$A37,catagory_wise,COLUMNS($A$5:R35),0),\"\")","v":""},{"$f":"IFERROR(VLOOKUP($C$4&\"_\"&$A37,catagory_wise,COLUMNS($A$5:S35),0),\"\")","v":""},{"$f":"IFERROR(VLOOKUP($C$4&\"_\"&$A37,catagory_wise,COLUMNS($A$5:T35),0),\"\")","v":""},{"$f":"IFERROR(VLOOKUP($C$4&\"_\"&$A37,catagory_wise,COLUMNS($A$5:U35),0),\"\")","v":""},{"$f":"IFERROR(VLOOKUP($C$4&\"_\"&$A37,catagory_wise,COLUMNS($A$5:V35),0),\"\")","v":""},{"$f":"IFERROR(VLOOKUP($C$4&\"_\"&$A37,catagory_wise,COLUMNS($A$5:W35),0),\"\")","v":""},{"$f":"IFERROR(VLOOKUP($C$4&\"_\"&$A37,catagory_wise,COLUMNS($A$5:X35),0),\"\")","v":""},{"$f":"IFERROR(VLOOKUP($C$4&\"_\"&$A37,catagory_wise,COLUMNS($A$5:Y35),0),\"\")","v":""},{"$f":"IFERROR(VLOOKUP($C$4&\"_\"&$A37,catagory_wise,COLUMNS($A$5:Z35),0),\"\")","v":""},{"$f":"IFERROR(VLOOKUP($C$4&\"_\"&$A37,catagory_wise,COLUMNS($A$5:AA35),0),\"\")","v":""},{"$f":"IFERROR(VLOOKUP($C$4&\"_\"&$A37,catagory_wise,COLUMNS($A$5:AB35),0),\"\")","v":""},{"$f":"IFERROR(VLOOKUP($C$4&\"_\"&$A37,catagory_wise,COLUMNS($A$5:AC35),0),\"\")","v":""},{"$f":"IFERROR(VLOOKUP($C$4&\"_\"&$A37,catagory_wise,COLUMNS($A$5:AD35),0),\"\")","v":""},{"$f":"IFERROR(VLOOKUP($C$4&\"_\"&$A37,catagory_wise,COLUMNS($A$5:AE35),0),\"\")","v":""},{"$f":"IFERROR(VLOOKUP($C$4&\"_\"&$A37,catagory_wise,COLUMNS($A$5:AF35),0),\"\")","v":""},{"$f":"IFERROR(VLOOKUP($C$4&\"_\"&$A37,catagory_wise,COLUMNS($A$5:AG35),0),\"\")","v":""},{"$f":"IFERROR(VLOOKUP($C$4&\"_\"&$A37,catagory_wise,COLUMNS($A$5:AH35),0),\"\")","v":""},{"$f":"IFERROR(VLOOKUP($C$4&\"_\"&$A37,catagory_wise,COLUMNS($A$5:AI35),0),\"\")","v":""},{"$f":"IFERROR(VLOOKUP($C$4&\"_\"&$A37,catagory_wise,COLUMNS($A$5:AJ35),0),\"\")","v":""}]
[32,{"$f":"IFERROR(VLOOKUP($C$4&\"_\"&$A38,catagory_wise,COLUMNS($A$5:C36),0),\"\")","v":""},{"$f":"IFERROR(VLOOKUP($C$4&\"_\"&$A38,catagory_wise,COLUMNS($A$5:D36),0),\"\")","v":""},{"$f":"IFERROR(VLOOKUP($C$4&\"_\"&$A38,catagory_wise,COLUMNS($A$5:E36),0),\"\")","v":""},{"$f":"IFERROR(VLOOKUP($C$4&\"_\"&$A38,catagory_wise,COLUMNS($A$5:F36),0),\"\")","v":""},{"$f":"IFERROR(VLOOKUP($C$4&\"_\"&$A38,catagory_wise,COLUMNS($A$5:G36),0),\"\")","v":""},{"$f":"IFERROR(VLOOKUP($C$4&\"_\"&$A38,catagory_wise,COLUMNS($A$5:H36),0),\"\")","v":""},{"$f":"IFERROR(VLOOKUP($C$4&\"_\"&$A38,catagory_wise,COLUMNS($A$5:I36),0),\"\")","v":""},{"$f":"IFERROR(VLOOKUP($C$4&\"_\"&$A38,catagory_wise,COLUMNS($A$5:J36),0),\"\")","v":""},{"$f":"IFERROR(VLOOKUP($C$4&\"_\"&$A38,catagory_wise,COLUMNS($A$5:K36),0),\"\")","v":""},{"$f":"IFERROR(VLOOKUP($C$4&\"_\"&$A38,catagory_wise,COLUMNS($A$5:L36),0),\"\")","v":""},{"$f":"IFERROR(VLOOKUP($C$4&\"_\"&$A38,catagory_wise,COLUMNS($A$5:M36),0),\"\")","v":""},{"$f":"IFERROR(VLOOKUP($C$4&\"_\"&$A38,catagory_wise,COLUMNS($A$5:N36),0),\"\")","v":""},{"$f":"IFERROR(VLOOKUP($C$4&\"_\"&$A38,catagory_wise,COLUMNS($A$5:O36),0),\"\")","v":""},{"$f":"IFERROR(VLOOKUP($C$4&\"_\"&$A38,catagory_wise,COLUMNS($A$5:P36),0),\"\")","v":""},{"$f":"IFERROR(VLOOKUP($C$4&\"_\"&$A38,catagory_wise,COLUMNS($A$5:Q36),0),\"\")","v":""},{"$f":"IFERROR(VLOOKUP($C$4&\"_\"&$A38,catagory_wise,COLUMNS($A$5:R36),0),\"\")","v":""},{"$f":"IFERROR(VLOOKUP($C$4&\"_\"&$A38,catagory_wise,COLUMNS($A$5:S36),0),\"\")","v":""},{"$f":"IFERROR(VLOOKUP($C$4&\"_\"&$A38,catagory_wise,COLUMNS($A$5:T36),0),\"\")","v":""},{"$f":"IFERROR(VLOOKUP($C$4&\"_\"&$A38,catagory_wise,COLUMNS($A$5:U36),0),\"\")","v":""},{"$f":"IFERROR(VLOOKUP($C$4&\"_\"&$A38,catagory_wise,COLUMNS($A$5:V36),0),\"\")","v":""},{"$f":"IFERROR(VLOOKUP($C$4&\"_\"&$A38,catagory_wise,COLUMNS($A$5:W36),0),\"\")","v":""},{"$f":"IFERROR(VLOOKUP($C$4&\"_\"&$A38,catagory_wise,COLUMNS($A$5:X36),0),\"\")","v":""},{"$f":"IFERROR(VLOOKUP($C$4&\"_\"&$A38,catagory_wise,COLUMNS($A$5:Y36),0),\"\")","v":""},{"$f":"IFERROR(VLOOKUP($C$4&\"_\"&$A38,catagory_wise,COLUMNS($A$5:Z36),0),\"\")","v":""},{"$f":"IFERROR(VLOOKUP($C$4&\"_\"&$A38,catagory_wise,COLUMNS($A$5:AA36),0),\"\")","v":""},{"$f":"IFERROR(VLOOKUP($C$4&\"_\"&$A38,catagory_wise,COLUMNS($A$5:AB36),0),\"\")","v":""},{"$f":"IFERROR(VLOOKUP($C$4&\"_\"&$A38,catagory_wise,COLUMNS($A$5:AC36),0),\"\")","v":""},{"$f":"IFERROR(VLOOKUP($C$4&\"_\"&$A38,catagory_wise,COLUMNS($A$5:AD36),0),\"\")","v":""},{"$f":"IFERROR(VLOOKUP($C$4&\"_\"&$A38,catagory_wise,COLUMNS($A$5:AE36),0),\"\")","v":""},{"$f":"IFERROR(VLOOKUP($C$4&\"_\"&$A38,catagory_wise,COLUMNS($A$5:AF36),0),\"\")","v":""},{"$f":"IFERROR(VLOOKUP($C$4&\"_\"&$A38,catagory_wise,COLUMNS($A$5:AG36),0),\"\")","v":""},{"$f":"IFERROR(VLOOKUP($C$4&\"_\"&$A38,catagory_wise,COLUMNS($A$5:AH36),0),\"\")","v":""},{"$f":"IFERROR(VLOOKUP($C$4&\"_\"&$A38,catagory_wise,COLUMNS($A$5:AI36),0),\"\")","v":""},{"$f":"IFERROR(VLOOKUP($C$4&\"_\"&$A38,catagory_wise,COLUMNS($A$5:AJ36),0),\"\")","v":""}]
[33,{"$f":"IFERROR(VLOOKUP($C$4&\"_\"&$A39,catagory_wise,COLUMNS($A$5:C37),0),\"\")","v":""},{"$f":"IFERROR(VLOOKUP($C$4&\"_\"&$A39,catagory_wise,COLUMNS($A$5:D37),0),\"\")","v":""},{"$f":"IFERROR(VLOOKUP($C$4&\"_\"&$A39,catagory_wise,COLUMNS($A$5:E37),0),\"\")","v":""},{"$f":"IFERROR(VLOOKUP($C$4&\"_\"&$A39,catagory_wise,COLUMNS($A$5:F37),0),\"\")","v":""},{"$f":"IFERROR(VLOOKUP($C$4&\"_\"&$A39,catagory_wise,COLUMNS($A$5:G37),0),\"\")","v":""},{"$f":"IFERROR(VLOOKUP($C$4&\"_\"&$A39,catagory_wise,COLUMNS($A$5:H37),0),\"\")","v":""},{"$f":"IFERROR(VLOOKUP($C$4&\"_\"&$A39,catagory_wise,COLUMNS($A$5:I37),0),\"\")","v":""},{"$f":"IFERROR(VLOOKUP($C$4&\"_\"&$A39,catagory_wise,COLUMNS($A$5:J37),0),\"\")","v":""},{"$f":"IFERROR(VLOOKUP($C$4&\"_\"&$A39,catagory_wise,COLUMNS($A$5:K37),0),\"\")","v":""},{"$f":"IFERROR(VLOOKUP($C$4&\"_\"&$A39,catagory_wise,COLUMNS($A$5:L37),0),\"\")","v":""},{"$f":"IFERROR(VLOOKUP($C$4&\"_\"&$A39,catagory_wise,COLUMNS($A$5:M37),0),\"\")","v":""},{"$f":"IFERROR(VLOOKUP($C$4&\"_\"&$A39,catagory_wise,COLUMNS($A$5:N37),0),\"\")","v":""},{"$f":"IFERROR(VLOOKUP($C$4&\"_\"&$A39,catagory_wise,COLUMNS($A$5:O37),0),\"\")","v":""},{"$f":"IFERROR(VLOOKUP($C$4&\"_\"&$A39,catagory_wise,COLUMNS($A$5:P37),0),\"\")","v":""},{"$f":"IFERROR(VLOOKUP($C$4&\"_\"&$A39,catagory_wise,COLUMNS($A$5:Q37),0),\"\")","v":""},{"$f":"IFERROR(VLOOKUP($C$4&\"_\"&$A39,catagory_wise,COLUMNS($A$5:R37),0),\"\")","v":""},{"$f":"IFERROR(VLOOKUP($C$4&\"_\"&$A39,catagory_wise,COLUMNS($A$5:S37),0),\"\")","v":""},{"$f":"IFERROR(VLOOKUP($C$4&\"_\"&$A39,catagory_wise,COLUMNS($A$5:T37),0),\"\")","v":""},{"$f":"IFERROR(VLOOKUP($C$4&\"_\"&$A39,catagory_wise,COLUMNS($A$5:U37),0),\"\")","v":""},{"$f":"IFERROR(VLOOKUP($C$4&\"_\"&$A39,catagory_wise,COLUMNS($A$5:V37),0),\"\")","v":""},{"$f":"IFERROR(VLOOKUP($C$4&\"_\"&$A39,catagory_wise,COLUMNS($A$5:W37),0),\"\")","v":""},{"$f":"IFERROR(VLOOKUP($C$4&\"_\"&$A39,catagory_wise,COLUMNS($A$5:X37),0),\"\")","v":""},{"$f":"IFERROR(VLOOKUP($C$4&\"_\"&$A39,catagory_wise,COLUMNS($A$5:Y37),0),\"\")","v":""},{"$f":"IFERROR(VLOOKUP($C$4&\"_\"&$A39,catagory_wise,COLUMNS($A$5:Z37),0),\"\")","v":""},{"$f":"IFERROR(VLOOKUP($C$4&\"_\"&$A39,catagory_wise,COLUMNS($A$5:AA37),0),\"\")","v":""},{"$f":"IFERROR(VLOOKUP($C$4&\"_\"&$A39,catagory_wise,COLUMNS($A$5:AB37),0),\"\")","v":""},{"$f":"IFERROR(VLOOKUP($C$4&\"_\"&$A39,catagory_wise,COLUMNS($A$5:AC37),0),\"\")","v":""},{"$f":"IFERROR(VLOOKUP($C$4&\"_\"&$A39,catagory_wise,COLUMNS($A$5:AD37),0),\"\")","v":""},{"$f":"IFERROR(VLOOKUP($C$4&\"_\"&$A39,catagory_wise,COLUMNS($A$5:AE37),0),\"\")","v":""},{"$f":"IFERROR(VLOOKUP($C$4&\"_\"&$A39,catagory_wise,COLUMNS($A$5:AF37),0),\"\")","v":""},{"$f":"IFERROR(VLOOKUP($C$4&\"_\"&$A39,catagory_wise,COLUMNS($A$5:AG37),0),\"\")","v":""},{"$f":"IFERROR(VLOOKUP($C$4&\"_\"&$A39,catagory_wise,COLUMNS($A$5:AH37),0),\"\")","v":""},{"$f":"IFERROR(VLOOKUP($C$4&\"_\"&$A39,catagory_wise,COLUMNS($A$5:AI37),0),\"\")","v":""},{"$f":"IFERROR(VLOOKUP($C$4&\"_\"&$A39,catagory_wise,COLUMNS($A$5:AJ37),0),\"\")","v":""}]
[34,{"$f":"IFERROR(VLOOKUP($C$4&\"_\"&$A40,catagory_wise,COLUMNS($A$5:C38),0),\"\")","v":""},{"$f":"IFERROR(VLOOKUP($C$4&\"_\"&$A40,catagory_wise,COLUMNS($A$5:D38),0),\"\")","v":""},{"$f":"IFERROR(VLOOKUP($C$4&\"_\"&$A40,catagory_wise,COLUMNS($A$5:E38),0),\"\")","v":""},{"$f":"IFERROR(VLOOKUP($C$4&\"_\"&$A40,catagory_wise,COLUMNS($A$5:F38),0),\"\")","v":""},{"$f":"IFERROR(VLOOKUP($C$4&\"_\"&$A40,catagory_wise,COLUMNS($A$5:G38),0),\"\")","v":""},{"$f":"IFERROR(VLOOKUP($C$4&\"_\"&$A40,catagory_wise,COLUMNS($A$5:H38),0),\"\")","v":""},{"$f":"IFERROR(VLOOKUP($C$4&\"_\"&$A40,catagory_wise,COLUMNS($A$5:I38),0),\"\")","v":""},{"$f":"IFERROR(VLOOKUP($C$4&\"_\"&$A40,catagory_wise,COLUMNS($A$5:J38),0),\"\")","v":""},{"$f":"IFERROR(VLOOKUP($C$4&\"_\"&$A40,catagory_wise,COLUMNS($A$5:K38),0),\"\")","v":""},{"$f":"IFERROR(VLOOKUP($C$4&\"_\"&$A40,catagory_wise,COLUMNS($A$5:L38),0),\"\")","v":""},{"$f":"IFERROR(VLOOKUP($C$4&\"_\"&$A40,catagory_wise,COLUMNS($A$5:M38),0),\"\")","v":""},{"$f":"IFERROR(VLOOKUP($C$4&\"_\"&$A40,catagory_wise,COLUMNS($A$5:N38),0),\"\")","v":""},{"$f":"IFERROR(VLOOKUP($C$4&\"_\"&$A40,catagory_wise,COLUMNS($A$5:O38),0),\"\")","v":""},{"$f":"IFERROR(VLOOKUP($C$4&\"_\"&$A40,catagory_wise,COLUMNS($A$5:P38),0),\"\")","v":""},{"$f":"IFERROR(VLOOKUP($C$4&\"_\"&$A40,catagory_wise,COLUMNS($A$5:Q38),0),\"\")","v":""},{"$f":"IFERROR(VLOOKUP($C$4&\"_\"&$A40,catagory_wise,COLUMNS($A$5:R38),0),\"\")","v":""},{"$f":"IFERROR(VLOOKUP($C$4&\"_\"&$A40,catagory_wise,COLUMNS($A$5:S38),0),\"\")","v":""},{"$f":"IFERROR(VLOOKUP($C$4&\"_\"&$A40,catagory_wise,COLUMNS($A$5:T38),0),\"\")","v":""},{"$f":"IFERROR(VLOOKUP($C$4&\"_\"&$A40,catagory_wise,COLUMNS($A$5:U38),0),\"\")","v":""},{"$f":"IFERROR(VLOOKUP($C$4&\"_\"&$A40,catagory_wise,COLUMNS($A$5:V38),0),\"\")","v":""},{"$f":"IFERROR(VLOOKUP($C$4&\"_\"&$A40,catagory_wise,COLUMNS($A$5:W38),0),\"\")","v":""},{"$f":"IFERROR(VLOOKUP($C$4&\"_\"&$A40,catagory_wise,COLUMNS($A$5:X38),0),\"\")","v":""},{"$f":"IFERROR(VLOOKUP($C$4&\"_\"&$A40,catagory_wise,COLUMNS($A$5:Y38),0),\"\")","v":""},{"$f":"IFERROR(VLOOKUP($C$4&\"_\"&$A40,catagory_wise,COLUMNS($A$5:Z38),0),\"\")","v":""},{"$f":"IFERROR(VLOOKUP($C$4&\"_\"&$A40,catagory_wise,COLUMNS($A$5:AA38),0),\"\")","v":""},{"$f":"IFERROR(VLOOKUP($C$4&\"_\"&$A40,catagory_wise,COLUMNS($A$5:AB38),0),\"\")","v":""},{"$f":"IFERROR(VLOOKUP($C$4&\"_\"&$A40,catagory_wise,COLUMNS($A$5:AC38),0),\"\")","v":""},{"$f":"IFERROR(VLOOKUP($C$4&\"_\"&$A40,catagory_wise,COLUMNS($A$5:AD38),0),\"\")","v":""},{"$f":"IFERROR(VLOOKUP($C$4&\"_\"&$A40,catagory_wise,COLUMNS($A$5:AE38),0),\"\")","v":""},{"$f":"IFERROR(VLOOKUP($C$4&\"_\"&$A40,catagory_wise,COLUMNS($A$5:AF38),0),\"\")","v":""},{"$f":"IFERROR(VLOOKUP($C$4&\"_\"&$A40,catagory_wise,COLUMNS($A$5:AG38),0),\"\")","v":""},{"$f":"IFERROR(VLOOKUP($C$4&\"_\"&$A40,catagory_wise,COLUMNS($A$5:AH38),0),\"\")","v":""},{"$f":"IFERROR(VLOOKUP($C$4&\"_\"&$A40,catagory_wise,COLUMNS($A$5:AI38),0),\"\")","v":""},{"$f":"IFERROR(VLOOKUP($C$4&\"_\"&$A40,catagory_wise,COLUMNS($A$5:AJ38),0),\"\")","v":""}]
[35,{"$f":"IFERROR(VLOOKUP($C$4&\"_\"&$A41,catagory_wise,COLUMNS($A$5:C39),0),\"\")","v":""},{"$f":"IFERROR(VLOOKUP($C$4&\"_\"&$A41,catagory_wise,COLUMNS($A$5:D39),0),\"\")","v":""},{"$f":"IFERROR(VLOOKUP($C$4&\"_\"&$A41,catagory_wise,COLUMNS($A$5:E39),0),\"\")","v":""},{"$f":"IFERROR(VLOOKUP($C$4&\"_\"&$A41,catagory_wise,COLUMNS($A$5:F39),0),\"\")","v":""},{"$f":"IFERROR(VLOOKUP($C$4&\"_\"&$A41,catagory_wise,COLUMNS($A$5:G39),0),\"\")","v":""},{"$f":"IFERROR(VLOOKUP($C$4&\"_\"&$A41,catagory_wise,COLUMNS($A$5:H39),0),\"\")","v":""},{"$f":"IFERROR(VLOOKUP($C$4&\"_\"&$A41,catagory_wise,COLUMNS($A$5:I39),0),\"\")","v":""},{"$f":"IFERROR(VLOOKUP($C$4&\"_\"&$A41,catagory_wise,COLUMNS($A$5:J39),0),\"\")","v":""},{"$f":"IFERROR(VLOOKUP($C$4&\"_\"&$A41,catagory_wise,COLUMNS($A$5:K39),0),\"\")","v":""},{"$f":"IFERROR(VLOOKUP($C$4&\"_\"&$A41,catagory_wise,COLUMNS($A$5:L39),0),\"\")","v":""},{"$f":"IFERROR(VLOOKUP($C$4&\"_\"&$A41,catagory_wise,COLUMNS($A$5:M39),0),\"\")","v":""},{"$f":"IFERROR(VLOOKUP($C$4&\"_\"&$A41,catagory_wise,COLUMNS($A$5:N39),0),\"\")","v":""},{"$f":"IFERROR(VLOOKUP($C$4&\"_\"&$A41,catagory_wise,COLUMNS($A$5:O39),0),\"\")","v":""},{"$f":"IFERROR(VLOOKUP($C$4&\"_\"&$A41,catagory_wise,COLUMNS($A$5:P39),0),\"\")","v":""},{"$f":"IFERROR(VLOOKUP($C$4&\"_\"&$A41,catagory_wise,COLUMNS($A$5:Q39),0),\"\")","v":""},{"$f":"IFERROR(VLOOKUP($C$4&\"_\"&$A41,catagory_wise,COLUMNS($A$5:R39),0),\"\")","v":""},{"$f":"IFERROR(VLOOKUP($C$4&\"_\"&$A41,catagory_wise,COLUMNS($A$5:S39),0),\"\")","v":""},{"$f":"IFERROR(VLOOKUP($C$4&\"_\"&$A41,catagory_wise,COLUMNS($A$5:T39),0),\"\")","v":""},{"$f":"IFERROR(VLOOKUP($C$4&\"_\"&$A41,catagory_wise,COLUMNS($A$5:U39),0),\"\")","v":""},{"$f":"IFERROR(VLOOKUP($C$4&\"_\"&$A41,catagory_wise,COLUMNS($A$5:V39),0),\"\")","v":""},{"$f":"IFERROR(VLOOKUP($C$4&\"_\"&$A41,catagory_wise,COLUMNS($A$5:W39),0),\"\")","v":""},{"$f":"IFERROR(VLOOKUP($C$4&\"_\"&$A41,catagory_wise,COLUMNS($A$5:X39),0),\"\")","v":""},{"$f":"IFERROR(VLOOKUP($C$4&\"_\"&$A41,catagory_wise,COLUMNS($A$5:Y39),0),\"\")","v":""},{"$f":"IFERROR(VLOOKUP($C$4&\"_\"&$A41,catagory_wise,COLUMNS($A$5:Z39),0),\"\")","v":""},{"$f":"IFERROR(VLOOKUP($C$4&\"_\"&$A41,catagory_wise,COLUMNS($A$5:AA39),0),\"\")","v":""},{"$f":"IFERROR(VLOOKUP($C$4&\"_\"&$A41,catagory_wise,COLUMNS($A$5:AB39),0),\"\")","v":""},{"$f":"IFERROR(VLOOKUP($C$4&\"_\"&$A41,catagory_wise,COLUMNS($A$5:AC39),0),\"\")","v":""},{"$f":"IFERROR(VLOOKUP($C$4&\"_\"&$A41,catagory_wise,COLUMNS($A$5:AD39),0),\"\")","v":""},{"$f":"IFERROR(VLOOKUP($C$4&\"_\"&$A41,catagory_wise,COLUMNS($A$5:AE39),0),\"\")","v":""},{"$f":"IFERROR(VLOOKUP($C$4&\"_\"&$A41,catagory_wise,COLUMNS($A$5:AF39),0),\"\")","v":""},{"$f":"IFERROR(VLOOKUP($C$4&\"_\"&$A41,catagory_wise,COLUMNS($A$5:AG39),0),\"\")","v":""},{"$f":"IFERROR(VLOOKUP($C$4&\"_\"&$A41,catagory_wise,COLUMNS($A$5:AH39),0),\"\")","v":""},{"$f":"IFERROR(VLOOKUP($C$4&\"_\"&$A41,catagory_wise,COLUMNS($A$5:AI39),0),\"\")","v":""},{"$f":"IFERROR(VLOOKUP($C$4&\"_\"&$A41,catagory_wise,COLUMNS($A$5:AJ39),0),\"\")","v":""}]
[36,{"$f":"IFERROR(VLOOKUP($C$4&\"_\"&$A42,catagory_wise,COLUMNS($A$5:C40),0),\"\")","v":""},{"$f":"IFERROR(VLOOKUP($C$4&\"_\"&$A42,catagory_wise,COLUMNS($A$5:D40),0),\"\")","v":""},{"$f":"IFERROR(VLOOKUP($C$4&\"_\"&$A42,catagory_wise,COLUMNS($A$5:E40),0),\"\")","v":""},{"$f":"IFERROR(VLOOKUP($C$4&\"_\"&$A42,catagory_wise,COLUMNS($A$5:F40),0),\"\")","v":""},{"$f":"IFERROR(VLOOKUP($C$4&\"_\"&$A42,catagory_wise,COLUMNS($A$5:G40),0),\"\")","v":""},{"$f":"IFERROR(VLOOKUP($C$4&\"_\"&$A42,catagory_wise,COLUMNS($A$5:H40),0),\"\")","v":""},{"$f":"IFERROR(VLOOKUP($C$4&\"_\"&$A42,catagory_wise,COLUMNS($A$5:I40),0),\"\")","v":""},{"$f":"IFERROR(VLOOKUP($C$4&\"_\"&$A42,catagory_wise,COLUMNS($A$5:J40),0),\"\")","v":""},{"$f":"IFERROR(VLOOKUP($C$4&\"_\"&$A42,catagory_wise,COLUMNS($A$5:K40),0),\"\")","v":""},{"$f":"IFERROR(VLOOKUP($C$4&\"_\"&$A42,catagory_wise,COLUMNS($A$5:L40),0),\"\")","v":""},{"$f":"IFERROR(VLOOKUP($C$4&\"_\"&$A42,catagory_wise,COLUMNS($A$5:M40),0),\"\")","v":""},{"$f":"IFERROR(VLOOKUP($C$4&\"_\"&$A42,catagory_wise,COLUMNS($A$5:N40),0),\"\")","v":""},{"$f":"IFERROR(VLOOKUP($C$4&\"_\"&$A42,catagory_wise,COLUMNS($A$5:O40),0),\"\")","v":""},{"$f":"IFERROR(VLOOKUP($C$4&\"_\"&$A42,catagory_wise,COLUMNS($A$5:P40),0),\"\")","v":""},{"$f":"IFERROR(VLOOKUP($C$4&\"_\"&$A42,catagory_wise,COLUMNS($A$5:Q40),0),\"\")","v":""},{"$f":"IFERROR(VLOOKUP($C$4&\"_\"&$A42,catagory_wise,COLUMNS($A$5:R40),0),\"\")","v":""},{"$f":"IFERROR(VLOOKUP($C$4&\"_\"&$A42,catagory_wise,COLUMNS($A$5:S40),0),\"\")","v":""},{"$f":"IFERROR(VLOOKUP($C$4&\"_\"&$A42,catagory_wise,COLUMNS($A$5:T40),0),\"\")","v":""},{"$f":"IFERROR(VLOOKUP($C$4&\"_\"&$A42,catagory_wise,COLUMNS($A$5:U40),0),\"\")","v":""},{"$f":"IFERROR(VLOOKUP($C$4&\"_\"&$A42,catagory_wise,COLUMNS($A$5:V40),0),\"\")","v":""},{"$f":"IFERROR(VLOOKUP($C$4&\"_\"&$A42,catagory_wise,COLUMNS($A$5:W40),0),\"\")","v":""},{"$f":"IFERROR(VLOOKUP($C$4&\"_\"&$A42,catagory_wise,COLUMNS($A$5:X40),0),\"\")","v":""},{"$f":"IFERROR(VLOOKUP($C$4&\"_\"&$A42,catagory_wise,COLUMNS($A$5:Y40),0),\"\")","v":""},{"$f":"IFERROR(VLOOKUP($C$4&\"_\"&$A42,catagory_wise,COLUMNS($A$5:Z40),0),\"\")","v":""},{"$f":"IFERROR(VLOOKUP($C$4&\"_\"&$A42,catagory_wise,COLUMNS($A$5:AA40),0),\"\")","v":""},{"$f":"IFERROR(VLOOKUP($C$4&\"_\"&$A42,catagory_wise,COLUMNS($A$5:AB40),0),\"\")","v":""},{"$f":"IFERROR(VLOOKUP($C$4&\"_\"&$A42,catagory_wise,COLUMNS($A$5:AC40),0),\"\")","v":""},{"$f":"IFERROR(VLOOKUP($C$4&\"_\"&$A42,catagory_wise,COLUMNS($A$5:AD40),0),\"\")","v":""},{"$f":"IFERROR(VLOOKUP($C$4&\"_\"&$A42,catagory_wise,COLUMNS($A$5:AE40),0),\"\")","v":""},{"$f":"IFERROR(VLOOKUP($C$4&\"_\"&$A42,catagory_wise,COLUMNS($A$5:AF40),0),\"\")","v":""},{"$f":"IFERROR(VLOOKUP($C$4&\"_\"&$A42,catagory_wise,COLUMNS($A$5:AG40),0),\"\")","v":""},{"$f":"IFERROR(VLOOKUP($C$4&\"_\"&$A42,catagory_wise,COLUMNS($A$5:AH40),0),\"\")","v":""},{"$f":"IFERROR(VLOOKUP($C$4&\"_\"&$A42,catagory_wise,COLUMNS($A$5:AI40),0),\"\")","v":""},{"$f":"IFERROR(VLOOKUP($C$4&\"_\"&$A42,catagory_wise,COLUMNS($A$5:AJ40),0),\"\")","v":""}]
[37,{"$f":"IFERROR(VLOOKUP($C$4&\"_\"&$A43,catagory_wise,COLUMNS($A$5:C41),0),\"\")","v":""},{"$f":"IFERROR(VLOOKUP($C$4&\"_\"&$A43,catagory_wise,COLUMNS($A$5:D41),0),\"\")","v":""},{"$f":"IFERROR(VLOOKUP($C$4&\"_\"&$A43,catagory_wise,COLUMNS($A$5:E41),0),\"\")","v":""},{"$f":"IFERROR(VLOOKUP($C$4&\"_\"&$A43,catagory_wise,COLUMNS($A$5:F41),0),\"\")","v":""},{"$f":"IFERROR(VLOOKUP($C$4&\"_\"&$A43,catagory_wise,COLUMNS($A$5:G41),0),\"\")","v":""},{"$f":"IFERROR(VLOOKUP($C$4&\"_\"&$A43,catagory_wise,COLUMNS($A$5:H41),0),\"\")","v":""},{"$f":"IFERROR(VLOOKUP($C$4&\"_\"&$A43,catagory_wise,COLUMNS($A$5:I41),0),\"\")","v":""},{"$f":"IFERROR(VLOOKUP($C$4&\"_\"&$A43,catagory_wise,COLUMNS($A$5:J41),0),\"\")","v":""},{"$f":"IFERROR(VLOOKUP($C$4&\"_\"&$A43,catagory_wise,COLUMNS($A$5:K41),0),\"\")","v":""},{"$f":"IFERROR(VLOOKUP($C$4&\"_\"&$A43,catagory_wise,COLUMNS($A$5:L41),0),\"\")","v":""},{"$f":"IFERROR(VLOOKUP($C$4&\"_\"&$A43,catagory_wise,COLUMNS($A$5:M41),0),\"\")","v":""},{"$f":"IFERROR(VLOOKUP($C$4&\"_\"&$A43,catagory_wise,COLUMNS($A$5:N41),0),\"\")","v":""},{"$f":"IFERROR(VLOOKUP($C$4&\"_\"&$A43,catagory_wise,COLUMNS($A$5:O41),0),\"\")","v":""},{"$f":"IFERROR(VLOOKUP($C$4&\"_\"&$A43,catagory_wise,COLUMNS($A$5:P41),0),\"\")","v":""},{"$f":"IFERROR(VLOOKUP($C$4&\"_\"&$A43,catagory_wise,COLUMNS($A$5:Q41),0),\"\")","v":""},{"$f":"IFERROR(VLOOKUP($C$4&\"_\"&$A43,catagory_wise,COLUMNS($A$5:R41),0),\"\")","v":""},{"$f":"IFERROR(VLOOKUP($C$4&\"_\"&$A43,catagory_wise,COLUMNS($A$5:S41),0),\"\")","v":""},{"$f":"IFERROR(VLOOKUP($C$4&\"_\"&$A43,catagory_wise,COLUMNS($A$5:T41),0),\"\")","v":""},{"$f":"IFERROR(VLOOKUP($C$4&\"_\"&$A43,catagory_wise,COLUMNS($A$5:U41),0),\"\")","v":""},{"$f":"IFERROR(VLOOKUP($C$4&\"_\"&$A43,catagory_wise,COLUMNS($A$5:V41),0),\"\")","v":""},{"$f":"IFERROR(VLOOKUP($C$4&\"_\"&$A43,catagory_wise,COLUMNS($A$5:W41),0),\"\")","v":""},{"$f":"IFERROR(VLOOKUP($C$4&\"_\"&$A43,catagory_wise,COLUMNS($A$5:X41),0),\"\")","v":""},{"$f":"IFERROR(VLOOKUP($C$4&\"_\"&$A43,catagory_wise,COLUMNS($A$5:Y41),0),\"\")","v":""},{"$f":"IFERROR(VLOOKUP($C$4&\"_\"&$A43,catagory_wise,COLUMNS($A$5:Z41),0),\"\")","v":""},{"$f":"IFERROR(VLOOKUP($C$4&\"_\"&$A43,catagory_wise,COLUMNS($A$5:AA41),0),\"\")","v":""},{"$f":"IFERROR(VLOOKUP($C$4&\"_\"&$A43,catagory_wise,COLUMNS($A$5:AB41),0),\"\")","v":""},{"$f":"IFERROR(VLOOKUP($C$4&\"_\"&$A43,catagory_wise,COLUMNS($A$5:AC41),0),\"\")","v":""},{"$f":"IFERROR(VLOOKUP($C$4&\"_\"&$A43,catagory_wise,COLUMNS($A$5:AD41),0),\"\")","v":""},{"$f":"IFERROR(VLOOKUP($C$4&\"_\"&$A43,catagory_wise,COLUMNS($A$5:AE41),0),\"\")","v":""},{"$f":"IFERROR(VLOOKUP($C$4&\"_\"&$A43,catagory_wise,COLUMNS($A$5:AF41),0),\"\")","v":""},{"$f":"IFERROR(VLOOKUP($C$4&\"_\"&$A43,catagory_wise,COLUMNS($A$5:AG41),0),\"\")","v":""},{"$f":"IFERROR(VLOOKUP($C$4&\"_\"&$A43,catagory_wise,COLUMNS($A$5:AH41),0),\"\")","v":""},{"$f":"IFERROR(VLOOKUP($C$4&\"_\"&$A43,catagory_wise,COLUMNS($A$5:AI41),0),\"\")","v":""},{"$f":"IFERROR(VLOOKUP($C$4&\"_\"&$A43,catagory_wise,COLUMNS($A$5:AJ41),0),\"\")","v":""}]
[38,{"$f":"IFERROR(VLOOKUP($C$4&\"_\"&$A44,catagory_wise,COLUMNS($A$5:C42),0),\"\")","v":""},{"$f":"IFERROR(VLOOKUP($C$4&\"_\"&$A44,catagory_wise,COLUMNS($A$5:D42),0),\"\")","v":""},{"$f":"IFERROR(VLOOKUP($C$4&\"_\"&$A44,catagory_wise,COLUMNS($A$5:E42),0),\"\")","v":""},{"$f":"IFERROR(VLOOKUP($C$4&\"_\"&$A44,catagory_wise,COLUMNS($A$5:F42),0),\"\")","v":""},{"$f":"IFERROR(VLOOKUP($C$4&\"_\"&$A44,catagory_wise,COLUMNS($A$5:G42),0),\"\")","v":""},{"$f":"IFERROR(VLOOKUP($C$4&\"_\"&$A44,catagory_wise,COLUMNS($A$5:H42),0),\"\")","v":""},{"$f":"IFERROR(VLOOKUP($C$4&\"_\"&$A44,catagory_wise,COLUMNS($A$5:I42),0),\"\")","v":""},{"$f":"IFERROR(VLOOKUP($C$4&\"_\"&$A44,catagory_wise,COLUMNS($A$5:J42),0),\"\")","v":""},{"$f":"IFERROR(VLOOKUP($C$4&\"_\"&$A44,catagory_wise,COLUMNS($A$5:K42),0),\"\")","v":""},{"$f":"IFERROR(VLOOKUP($C$4&\"_\"&$A44,catagory_wise,COLUMNS($A$5:L42),0),\"\")","v":""},{"$f":"IFERROR(VLOOKUP($C$4&\"_\"&$A44,catagory_wise,COLUMNS($A$5:M42),0),\"\")","v":""},{"$f":"IFERROR(VLOOKUP($C$4&\"_\"&$A44,catagory_wise,COLUMNS($A$5:N42),0),\"\")","v":""},{"$f":"IFERROR(VLOOKUP($C$4&\"_\"&$A44,catagory_wise,COLUMNS($A$5:O42),0),\"\")","v":""},{"$f":"IFERROR(VLOOKUP($C$4&\"_\"&$A44,catagory_wise,COLUMNS($A$5:P42),0),\"\")","v":""},{"$f":"IFERROR(VLOOKUP($C$4&\"_\"&$A44,catagory_wise,COLUMNS($A$5:Q42),0),\"\")","v":""},{"$f":"IFERROR(VLOOKUP($C$4&\"_\"&$A44,catagory_wise,COLUMNS($A$5:R42),0),\"\")","v":""},{"$f":"IFERROR(VLOOKUP($C$4&\"_\"&$A44,catagory_wise,COLUMNS($A$5:S42),0),\"\")","v":""},{"$f":"IFERROR(VLOOKUP($C$4&\"_\"&$A44,catagory_wise,COLUMNS($A$5:T42),0),\"\")","v":""},{"$f":"IFERROR(VLOOKUP($C$4&\"_\"&$A44,catagory_wise,COLUMNS($A$5:U42),0),\"\")","v":""},{"$f":"IFERROR(VLOOKUP($C$4&\"_\"&$A44,catagory_wise,COLUMNS($A$5:V42),0),\"\")","v":""},{"$f":"IFERROR(VLOOKUP($C$4&\"_\"&$A44,catagory_wise,COLUMNS($A$5:W42),0),\"\")","v":""},{"$f":"IFERROR(VLOOKUP($C$4&\"_\"&$A44,catagory_wise,COLUMNS($A$5:X42),0),\"\")","v":""},{"$f":"IFERROR(VLOOKUP($C$4&\"_\"&$A44,catagory_wise,COLUMNS($A$5:Y42),0),\"\")","v":""},{"$f":"IFERROR(VLOOKUP($C$4&\"_\"&$A44,catagory_wise,COLUMNS($A$5:Z42),0),\"\")","v":""},{"$f":"IFERROR(VLOOKUP($C$4&\"_\"&$A44,catagory_wise,COLUMNS($A$5:AA42),0),\"\")","v":""},{"$f":"IFERROR(VLOOKUP($C$4&\"_\"&$A44,catagory_wise,COLUMNS($A$5:AB42),0),\"\")","v":""},{"$f":"IFERROR(VLOOKUP($C$4&\"_\"&$A44,catagory_wise,COLUMNS($A$5:AC42),0),\"\")","v":""},{"$f":"IFERROR(VLOOKUP($C$4&\"_\"&$A44,catagory_wise,COLUMNS($A$5:AD42),0),\"\")","v":""},{"$f":"IFERROR(VLOOKUP($C$4&\"_\"&$A44,catagory_wise,COLUMNS($A$5:AE42),0),\"\")","v":""},{"$f":"IFERROR(VLOOKUP($C$4&\"_\"&$A44,catagory_wise,COLUMNS($A$5:AF42),0),\"\")","v":""},{"$f":"IFERROR(VLOOKUP($C$4&\"_\"&$A44,catagory_wise,COLUMNS($A$5:AG42),0),\"\")","v":""},{"$f":"IFERROR(VLOOKUP($C$4&\"_\"&$A44,catagory_wise,COLUMNS($A$5:AH42),0),\"\")","v":""},{"$f":"IFERROR(VLOOKUP($C$4&\"_\"&$A44,catagory_wise,COLUMNS($A$5:AI42),0),\"\")","v":""},{"$f":"IFERROR(VLOOKUP($C$4&\"_\"&$A44,catagory_wise,COLUMNS($A$5:AJ42),0),\"\")","v":""}]
[39,{"$f":"IFERROR(VLOOKUP($C$4&\"_\"&$A45,catagory_wise,COLUMNS($A$5:C43),0),\"\")","v":""},{"$f":"IFERROR(VLOOKUP($C$4&\"_\"&$A45,catagory_wise,COLUMNS($A$5:D43),0),\"\")","v":""},{"$f":"IFERROR(VLOOKUP($C$4&\"_\"&$A45,catagory_wise,COLUMNS($A$5:E43),0),\"\")","v":""},{"$f":"IFERROR(VLOOKUP($C$4&\"_\"&$A45,catagory_wise,COLUMNS($A$5:F43),0),\"\")","v":""},{"$f":"IFERROR(VLOOKUP($C$4&\"_\"&$A45,catagory_wise,COLUMNS($A$5:G43),0),\"\")","v":""},{"$f":"IFERROR(VLOOKUP($C$4&\"_\"&$A45,catagory_wise,COLUMNS($A$5:H43),0),\"\")","v":""},{"$f":"IFERROR(VLOOKUP($C$4&\"_\"&$A45,catagory_wise,COLUMNS($A$5:I43),0),\"\")","v":""},{"$f":"IFERROR(VLOOKUP($C$4&\"_\"&$A45,catagory_wise,COLUMNS($A$5:J43),0),\"\")","v":""},{"$f":"IFERROR(VLOOKUP($C$4&\"_\"&$A45,catagory_wise,COLUMNS($A$5:K43),0),\"\")","v":""},{"$f":"IFERROR(VLOOKUP($C$4&\"_\"&$A45,catagory_wise,COLUMNS($A$5:L43),0),\"\")","v":""},{"$f":"IFERROR(VLOOKUP($C$4&\"_\"&$A45,catagory_wise,COLUMNS($A$5:M43),0),\"\")","v":""},{"$f":"IFERROR(VLOOKUP($C$4&\"_\"&$A45,catagory_wise,COLUMNS($A$5:N43),0),\"\")","v":""},{"$f":"IFERROR(VLOOKUP($C$4&\"_\"&$A45,catagory_wise,COLUMNS($A$5:O43),0),\"\")","v":""},{"$f":"IFERROR(VLOOKUP($C$4&\"_\"&$A45,catagory_wise,COLUMNS($A$5:P43),0),\"\")","v":""},{"$f":"IFERROR(VLOOKUP($C$4&\"_\"&$A45,catagory_wise,COLUMNS($A$5:Q43),0),\"\")","v":""},{"$f":"IFERROR(VLOOKUP($C$4&\"_\"&$A45,catagory_wise,COLUMNS($A$5:R43),0),\"\")","v":""},{"$f":"IFERROR(VLOOKUP($C$4&\"_\"&$A45,catagory_wise,COLUMNS($A$5:S43),0),\"\")","v":""},{"$f":"IFERROR(VLOOKUP($C$4&\"_\"&$A45,catagory_wise,COLUMNS($A$5:T43),0),\"\")","v":""},{"$f":"IFERROR(VLOOKUP($C$4&\"_\"&$A45,catagory_wise,COLUMNS($A$5:U43),0),\"\")","v":""},{"$f":"IFERROR(VLOOKUP($C$4&\"_\"&$A45,catagory_wise,COLUMNS($A$5:V43),0),\"\")","v":""},{"$f":"IFERROR(VLOOKUP($C$4&\"_\"&$A45,catagory_wise,COLUMNS($A$5:W43),0),\"\")","v":""},{"$f":"IFERROR(VLOOKUP($C$4&\"_\"&$A45,catagory_wise,COLUMNS($A$5:X43),0),\"\")","v":""},{"$f":"IFERROR(VLOOKUP($C$4&\"_\"&$A45,catagory_wise,COLUMNS($A$5:Y43),0),\"\")","v":""},{"$f":"IFERROR(VLOOKUP($C$4&\"_\"&$A45,catagory_wise,COLUMNS($A$5:Z43),0),\"\")","v":""},{"$f":"IFERROR(VLOOKUP($C$4&\"_\"&$A45,catagory_wise,COLUMNS($A$5:AA43),0),\"\")","v":""},{"$f":"IFERROR(VLOOKUP($C$4&\"_\"&$A45,catagory_wise,COLUMNS($A$5:AB43),0),\"\")","v":""},{"$f":"IFERROR(VLOOKUP($C$4&\"_\"&$A45,catagory_wise,COLUMNS($A$5:AC43),0),\"\")","v":""},{"$f":"IFERROR(VLOOKUP($C$4&\"_\"&$A45,catagory_wise,COLUMNS($A$5:AD43),0),\"\")","v":""},{"$f":"IFERROR(VLOOKUP($C$4&\"_\"&$A45,catagory_wise,COLUMNS($A$5:AE43),0),\"\")","v":""},{"$f":"IFERROR(VLOOKUP($C$4&\"_\"&$A45,catagory_wise,COLUMNS($A$5:AF43),0),\"\")","v":""},{"$f":"IFERROR(VLOOKUP($C$4&\"_\"&$A45,catagory_wise,COLUMNS($A$5:AG43),0),\"\")","v":""},{"$f":"IFERROR(VLOOKUP($C$4&\"_\"&$A45,catagory_wise,COLUMNS($A$5:AH43),0),\"\")","v":""},{"$f":"IFERROR(VLOOKUP($C$4&\"_\"&$A45,catagory_wise,COLUMNS($A$5:AI43),0),\"\")","v":""},{"$f":"IFERROR(VLOOKUP($C$4&\"_\"&$A45,catagory_wise,COLUMNS($A$5:AJ43),0),\"\")","v":""}]
[40,{"$f":"IFERROR(VLOOKUP($C$4&\"_\"&$A46,catagory_wise,COLUMNS($A$5:C44),0),\"\")","v":""},{"$f":"IFERROR(VLOOKUP($C$4&\"_\"&$A46,catagory_wise,COLUMNS($A$5:D44),0),\"\")","v":""},{"$f":"IFERROR(VLOOKUP($C$4&\"_\"&$A46,catagory_wise,COLUMNS($A$5:E44),0),\"\")","v":""},{"$f":"IFERROR(VLOOKUP($C$4&\"_\"&$A46,catagory_wise,COLUMNS($A$5:F44),0),\"\")","v":""},{"$f":"IFERROR(VLOOKUP($C$4&\"_\"&$A46,catagory_wise,COLUMNS($A$5:G44),0),\"\")","v":""},{"$f":"IFERROR(VLOOKUP($C$4&\"_\"&$A46,catagory_wise,COLUMNS($A$5:H44),0),\"\")","v":""},{"$f":"IFERROR(VLOOKUP($C$4&\"_\"&$A46,catagory_wise,COLUMNS($A$5:I44),0),\"\")","v":""},{"$f":"IFERROR(VLOOKUP($C$4&\"_\"&$A46,catagory_wise,COLUMNS($A$5:J44),0),\"\")","v":""},{"$f":"IFERROR(VLOOKUP($C$4&\"_\"&$A46,catagory_wise,COLUMNS($A$5:K44),0),\"\")","v":""},{"$f":"IFERROR(VLOOKUP($C$4&\"_\"&$A46,catagory_wise,COLUMNS($A$5:L44),0),\"\")","v":""},{"$f":"IFERROR(VLOOKUP($C$4&\"_\"&$A46,catagory_wise,COLUMNS($A$5:M44),0),\"\")","v":""},{"$f":"IFERROR(VLOOKUP($C$4&\"_\"&$A46,catagory_wise,COLUMNS($A$5:N44),0),\"\")","v":""},{"$f":"IFERROR(VLOOKUP($C$4&\"_\"&$A46,catagory_wise,COLUMNS($A$5:O44),0),\"\")","v":""},{"$f":"IFERROR(VLOOKUP($C$4&\"_\"&$A46,catagory_wise,COLUMNS($A$5:P44),0),\"\")","v":""},{"$f":"IFERROR(VLOOKUP($C$4&\"_\"&$A46,catagory_wise,COLUMNS($A$5:Q44),0),\"\")","v":""},{"$f":"IFERROR(VLOOKUP($C$4&\"_\"&$A46,catagory_wise,COLUMNS($A$5:R44),0),\"\")","v":""},{"$f":"IFERROR(VLOOKUP($C$4&\"_\"&$A46,catagory_wise,COLUMNS($A$5:S44),0),\"\")","v":""},{"$f":"IFERROR(VLOOKUP($C$4&\"_\"&$A46,catagory_wise,COLUMNS($A$5:T44),0),\"\")","v":""},{"$f":"IFERROR(VLOOKUP($C$4&\"_\"&$A46,catagory_wise,COLUMNS($A$5:U44),0),\"\")","v":""},{"$f":"IFERROR(VLOOKUP($C$4&\"_\"&$A46,catagory_wise,COLUMNS($A$5:V44),0),\"\")","v":""},{"$f":"IFERROR(VLOOKUP($C$4&\"_\"&$A46,catagory_wise,COLUMNS($A$5:W44),0),\"\")","v":""},{"$f":"IFERROR(VLOOKUP($C$4&\"_\"&$A46,catagory_wise,COLUMNS($A$5:X44),0),\"\")","v":""},{"$f":"IFERROR(VLOOKUP($C$4&\"_\"&$A46,catagory_wise,COLUMNS($A$5:Y44),0),\"\")","v":""},{"$f":"IFERROR(VLOOKUP($C$4&\"_\"&$A46,catagory_wise,COLUMNS($A$5:Z44),0),\"\")","v":""},{"$f":"IFERROR(VLOOKUP($C$4&\"_\"&$A46,catagory_wise,COLUMNS($A$5:AA44),0),\"\")","v":""},{"$f":"IFERROR(VLOOKUP($C$4&\"_\"&$A46,catagory_wise,COLUMNS($A$5:AB44),0),\"\")","v":""},{"$f":"IFERROR(VLOOKUP($C$4&\"_\"&$A46,catagory_wise,COLUMNS($A$5:AC44),0),\"\")","v":""},{"$f":"IFERROR(VLOOKUP($C$4&\"_\"&$A46,catagory_wise,COLUMNS($A$5:AD44),0),\"\")","v":""},{"$f":"IFERROR(VLOOKUP($C$4&\"_\"&$A46,catagory_wise,COLUMNS($A$5:AE44),0),\"\")","v":""},{"$f":"IFERROR(VLOOKUP($C$4&\"_\"&$A46,catagory_wise,COLUMNS($A$5:AF44),0),\"\")","v":""},{"$f":"IFERROR(VLOOKUP($C$4&\"_\"&$A46,catagory_wise,COLUMNS($A$5:AG44),0),\"\")","v":""},{"$f":"IFERROR(VLOOKUP($C$4&\"_\"&$A46,catagory_wise,COLUMNS($A$5:AH44),0),\"\")","v":""},{"$f":"IFERROR(VLOOKUP($C$4&\"_\"&$A46,catagory_wise,COLUMNS($A$5:AI44),0),\"\")","v":""},{"$f":"IFERROR(VLOOKUP($C$4&\"_\"&$A46,catagory_wise,COLUMNS($A$5:AJ44),0),\"\")","v":""}]
[41,{"$f":"IFERROR(VLOOKUP($C$4&\"_\"&$A47,catagory_wise,COLUMNS($A$5:C45),0),\"\")","v":""},{"$f":"IFERROR(VLOOKUP($C$4&\"_\"&$A47,catagory_wise,COLUMNS($A$5:D45),0),\"\")","v":""},{"$f":"IFERROR(VLOOKUP($C$4&\"_\"&$A47,catagory_wise,COLUMNS($A$5:E45),0),\"\")","v":""},{"$f":"IFERROR(VLOOKUP($C$4&\"_\"&$A47,catagory_wise,COLUMNS($A$5:F45),0),\"\")","v":""},{"$f":"IFERROR(VLOOKUP($C$4&\"_\"&$A47,catagory_wise,COLUMNS($A$5:G45),0),\"\")","v":""},{"$f":"IFERROR(VLOOKUP($C$4&\"_\"&$A47,catagory_wise,COLUMNS($A$5:H45),0),\"\")","v":""},{"$f":"IFERROR(VLOOKUP($C$4&\"_\"&$A47,catagory_wise,COLUMNS($A$5:I45),0),\"\")","v":""},{"$f":"IFERROR(VLOOKUP($C$4&\"_\"&$A47,catagory_wise,COLUMNS($A$5:J45),0),\"\")","v":""},{"$f":"IFERROR(VLOOKUP($C$4&\"_\"&$A47,catagory_wise,COLUMNS($A$5:K45),0),\"\")","v":""},{"$f":"IFERROR(VLOOKUP($C$4&\"_\"&$A47,catagory_wise,COLUMNS($A$5:L45),0),\"\")","v":""},{"$f":"IFERROR(VLOOKUP($C$4&\"_\"&$A47,catagory_wise,COLUMNS($A$5:M45),0),\"\")","v":""},{"$f":"IFERROR(VLOOKUP($C$4&\"_\"&$A47,catagory_wise,COLUMNS($A$5:N45),0),\"\")","v":""},{"$f":"IFERROR(VLOOKUP($C$4&\"_\"&$A47,catagory_wise,COLUMNS($A$5:O45),0),\"\")","v":""},{"$f":"IFERROR(VLOOKUP($C$4&\"_\"&$A47,catagory_wise,COLUMNS($A$5:P45),0),\"\")","v":""},{"$f":"IFERROR(VLOOKUP($C$4&\"_\"&$A47,catagory_wise,COLUMNS($A$5:Q45),0),\"\")","v":""},{"$f":"IFERROR(VLOOKUP($C$4&\"_\"&$A47,catagory_wise,COLUMNS($A$5:R45),0),\"\")","v":""},{"$f":"IFERROR(VLOOKUP($C$4&\"_\"&$A47,catagory_wise,COLUMNS($A$5:S45),0),\"\")","v":""},{"$f":"IFERROR(VLOOKUP($C$4&\"_\"&$A47,catagory_wise,COLUMNS($A$5:T45),0),\"\")","v":""},{"$f":"IFERROR(VLOOKUP($C$4&\"_\"&$A47,catagory_wise,COLUMNS($A$5:U45),0),\"\")","v":""},{"$f":"IFERROR(VLOOKUP($C$4&\"_\"&$A47,catagory_wise,COLUMNS($A$5:V45),0),\"\")","v":""},{"$f":"IFERROR(VLOOKUP($C$4&\"_\"&$A47,catagory_wise,COLUMNS($A$5:W45),0),\"\")","v":""},{"$f":"IFERROR(VLOOKUP($C$4&\"_\"&$A47,catagory_wise,COLUMNS($A$5:X45),0),\"\")","v":""},{"$f":"IFERROR(VLOOKUP($C$4&\"_\"&$A47,catagory_wise,COLUMNS($A$5:Y45),0),\"\")","v":""},{"$f":"IFERROR(VLOOKUP($C$4&\"_\"&$A47,catagory_wise,COLUMNS($A$5:Z45),0),\"\")","v":""},{"$f":"IFERROR(VLOOKUP($C$4&\"_\"&$A47,catagory_wise,COLUMNS($A$5:AA45),0),\"\")","v":""},{"$f":"IFERROR(VLOOKUP($C$4&\"_\"&$A47,catagory_wise,COLUMNS($A$5:AB45),0),\"\")","v":""},{"$f":"IFERROR(VLOOKUP($C$4&\"_\"&$A47,catagory_wise,COLUMNS($A$5:AC45),0),\"\")","v":""},{"$f":"IFERROR(VLOOKUP($C$4&\"_\"&$A47,catagory_wise,COLUMNS($A$5:AD45),0),\"\")","v":""},{"$f":"IFERROR(VLOOKUP($C$4&\"_\"&$A47,catagory_wise,COLUMNS($A$5:AE45),0),\"\")","v":""},{"$f":"IFERROR(VLOOKUP($C$4&\"_\"&$A47,catagory_wise,COLUMNS($A$5:AF45),0),\"\")","v":""},{"$f":"IFERROR(VLOOKUP($C$4&\"_\"&$A47,catagory_wise,COLUMNS($A$5:AG45),0),\"\")","v":""},{"$f":"IFERROR(VLOOKUP($C$4&\"_\"&$A47,catagory_wise,COLUMNS($A$5:AH45),0),\"\")","v":""},{"$f":"IFERROR(VLOOKUP($C$4&\"_\"&$A47,catagory_wise,COLUMNS($A$5:AI45),0),\"\")","v":""},{"$f":"IFERROR(VLOOKUP($C$4&\"_\"&$A47,catagory_wise,COLUMNS($A$5:AJ45),0),\"\")","v":""}]
[42,{"$f":"IFERROR(VLOOKUP($C$4&\"_\"&$A48,catagory_wise,COLUMNS($A$5:C46),0),\"\")","v":""},{"$f":"IFERROR(VLOOKUP($C$4&\"_\"&$A48,catagory_wise,COLUMNS($A$5:D46),0),\"\")","v":""},{"$f":"IFERROR(VLOOKUP($C$4&\"_\"&$A48,catagory_wise,COLUMNS($A$5:E46),0),\"\")","v":""},{"$f":"IFERROR(VLOOKUP($C$4&\"_\"&$A48,catagory_wise,COLUMNS($A$5:F46),0),\"\")","v":""},{"$f":"IFERROR(VLOOKUP($C$4&\"_\"&$A48,catagory_wise,COLUMNS($A$5:G46),0),\"\")","v":""},{"$f":"IFERROR(VLOOKUP($C$4&\"_\"&$A48,catagory_wise,COLUMNS($A$5:H46),0),\"\")","v":""},{"$f":"IFERROR(VLOOKUP($C$4&\"_\"&$A48,catagory_wise,COLUMNS($A$5:I46),0),\"\")","v":""},{"$f":"IFERROR(VLOOKUP($C$4&\"_\"&$A48,catagory_wise,COLUMNS($A$5:J46),0),\"\")","v":""},{"$f":"IFERROR(VLOOKUP($C$4&\"_\"&$A48,catagory_wise,COLUMNS($A$5:K46),0),\"\")","v":""},{"$f":"IFERROR(VLOOKUP($C$4&\"_\"&$A48,catagory_wise,COLUMNS($A$5:L46),0),\"\")","v":""},{"$f":"IFERROR(VLOOKUP($C$4&\"_\"&$A48,catagory_wise,COLUMNS($A$5:M46),0),\"\")","v":""},{"$f":"IFERROR(VLOOKUP($C$4&\"_\"&$A48,catagory_wise,COLUMNS($A$5:N46),0),\"\")","v":""},{"$f":"IFERROR(VLOOKUP($C$4&\"_\"&$A48,catagory_wise,COLUMNS($A$5:O46),0),\"\")","v":""},{"$f":"IFERROR(VLOOKUP($C$4&\"_\"&$A48,catagory_wise,COLUMNS($A$5:P46),0),\"\")","v":""},{"$f":"IFERROR(VLOOKUP($C$4&\"_\"&$A48,catagory_wise,COLUMNS($A$5:Q46),0),\"\")","v":""},{"$f":"IFERROR(VLOOKUP($C$4&\"_\"&$A48,catagory_wise,COLUMNS($A$5:R46),0),\"\")","v":""},{"$f":"IFERROR(VLOOKUP($C$4&\"_\"&$A48,catagory_wise,COLUMNS($A$5:S46),0),\"\")","v":""},{"$f":"IFERROR(VLOOKUP($C$4&\"_\"&$A48,catagory_wise,COLUMNS($A$5:T46),0),\"\")","v":""},{"$f":"IFERROR(VLOOKUP($C$4&\"_\"&$A48,catagory_wise,COLUMNS($A$5:U46),0),\"\")","v":""},{"$f":"IFERROR(VLOOKUP($C$4&\"_\"&$A48,catagory_wise,COLUMNS($A$5:V46),0),\"\")","v":""},{"$f":"IFERROR(VLOOKUP($C$4&\"_\"&$A48,catagory_wise,COLUMNS($A$5:W46),0),\"\")","v":""},{"$f":"IFERROR(VLOOKUP($C$4&\"_\"&$A48,catagory_wise,COLUMNS($A$5:X46),0),\"\")","v":""},{"$f":"IFERROR(VLOOKUP($C$4&\"_\"&$A48,catagory_wise,COLUMNS($A$5:Y46),0),\"\")","v":""},{"$f":"IFERROR(VLOOKUP($C$4&\"_\"&$A48,catagory_wise,COLUMNS($A$5:Z46),0),\"\")","v":""},{"$f":"IFERROR(VLOOKUP($C$4&\"_\"&$A48,catagory_wise,COLUMNS($A$5:AA46),0),\"\")","v":""},{"$f":"IFERROR(VLOOKUP($C$4&\"_\"&$A48,catagory_wise,COLUMNS($A$5:AB46),0),\"\")","v":""},{"$f":"IFERROR(VLOOKUP($C$4&\"_\"&$A48,catagory_wise,COLUMNS($A$5:AC46),0),\"\")","v":""},{"$f":"IFERROR(VLOOKUP($C$4&\"_\"&$A48,catagory_wise,COLUMNS($A$5:AD46),0),\"\")","v":""},{"$f":"IFERROR(VLOOKUP($C$4&\"_\"&$A48,catagory_wise,COLUMNS($A$5:AE46),0),\"\")","v":""},{"$f":"IFERROR(VLOOKUP($C$4&\"_\"&$A48,catagory_wise,COLUMNS($A$5:AF46),0),\"\")","v":""},{"$f":"IFERROR(VLOOKUP($C$4&\"_\"&$A48,catagory_wise,COLUMNS($A$5:AG46),0),\"\")","v":""},{"$f":"IFERROR(VLOOKUP($C$4&\"_\"&$A48,catagory_wise,COLUMNS($A$5:AH46),0),\"\")","v":""},{"$f":"IFERROR(VLOOKUP($C$4&\"_\"&$A48,catagory_wise,COLUMNS($A$5:AI46),0),\"\")","v":""},{"$f":"IFERROR(VLOOKUP($C$4&\"_\"&$A48,catagory_wise,COLUMNS($A$5:AJ46),0),\"\")","v":""}]

{"sheet":"Postwise","index":9,"n_rows":48,"n_cols":35,"rows_kept":48,"merged":[[0,0,0,8],[0,9,0,16],[0,17,0,25],[0,26,0,34],[1,0,1,8],[1,9,1,16],[1,17,1,25],[1,26,1,34],[3,2,3,3],[3,5,3,13]]}
[{"$f":"'Basic Intro'!A1","v":"राजकीय उच्च माध्यमिक विद्यालय, रूपपुरा (कुचामन सिटी)"},{"$nulls":8},{"$f":"'Basic Intro'!A1","v":"राजकीय उच्च माध्यमिक विद्यालय, रूपपुरा (कुचामन सिटी)"},{"$nulls":7},{"$f":"'Basic Intro'!A1","v":"राजकीय उच्च माध्यमिक विद्यालय, रूपपुरा (कुचामन सिटी)"},{"$nulls":8},{"$f":"'Basic Intro'!A1","v":"राजकीय उच्च माध्यमिक विद्यालय, रूपपुरा (कुचामन सिटी)"}]
["पदवार कर्मचारी विवरण",{"$nulls":8},"पदवार कर्मचारी विवरण",{"$nulls":7},"पदवार कर्मचारी विवरण",{"$nulls":8},"पदवार कर्मचारी विवरण"]
[]
[null,"पद का चयन करे -","व्याख्याता",null,null,"जिस पद के डाटा की आवशयकता हो वह पद ड्राप डाउन लिस्ट में से चुने |"]
[]
["क्र.स.","नाम कर्मचारी","पिता/पति का नाम ","Employee ID","जन्म दिनाक ","जेंडर ","वर्ग","धर्म","दिव्यांग","वर्तमान पद","विषय","स्थाई/अस्थाई","ब्लड ग्रुप","पता","जिला","मोबाइल नंबर","ईमेल","बैंक अकाउंट नंबर","ब्रांच ","ब्रांच कोड","कार्यग्रहण तिथि","किसी भी सरकारी सेवा में कार्यग्रहण तिथि","शिक्षा विभाग में कार्यग्रहण तिथि","वर्तमान पद पर कार्यग्रहण तिथि","वर्तमान पद पर कार्यग्रहण तरीका","वर्तमान विद्यालय में कार्यग्रहण तिथि","जी.पी.एफ./प्राण नंबर","एस.आई. नंबर ","आधार नंबर","भामाशाह नंबर","पासपोर्ट नंबर","पैन नंबर","वर्तमान मूल वेतन ","उच्चतम शैक्षणिक योग्यता","उच्चतम प्रशैक्षणिक योग्यता"]
[1,{"$f":"IFERROR(VLOOKUP($C$4&\"_\"&$A7,post_wise,COLUMNS($A$5:C5),0),\"\")","v":"श्री प्रकाश कुमार गौड़"},{"$f":"IFERROR(VLOOKUP($C$4&\"_\"&$A7,post_wise,COLUMNS($A$5:D5),0),\"\")","v":"श्री राजेंद्र शर्मा"},{"$f":"IFERROR(VLOOKUP($C$4&\"_\"&$A7,post_wise,COLUMNS($A$5:E5),0),\"\")","v":"RJNA201228008022"},{"$f":"IFERROR(VLOOKUP($C$4&\"_\"&$A7,post_wise,COLUMNS($A$5:F5),0),\"\")","v":"1988-02-07"},{"$f":"IFERROR(VLOOKUP($C$4&\"_\"&$A7,post_wise,COLUMNS($A$5:G5),0),\"\")","v":"Female"},{"$f":"IFERROR(VLOOKUP($C$4&\"_\"&$A7,post_wise,COLUMNS($A$5:H5),0),\"\")","v":"Gen"},{"$f":"IFERROR(VLOOKUP($C$4&\"_\"&$A7,post_wise,COLUMNS($A$5:I5),0),\"\")","v":"Hindu"},{"$f":"IFERROR(VLOOKUP($C$4&\"_\"&$A7,post_wise,COLUMNS($A$5:J5),0),\"\")","v":"No"},{"$f":"IFERROR(VLOOKUP($C$4&\"_\"&$A7,post_wise,COLUMNS($A$5:K5),0),\"\")","v":"व्याख्याता"},{"$f":"IFERROR(VLOOKUP($C$4&\"_\"&$A7,post_wise,COLUMNS($A$5:L5),0),\"\")","v":"History"},{"$f":"IFERROR(VLOOKUP($C$4&\"_\"&$A7,post_wise,COLUMNS($A$5:M5),0),\"\")","v":"स्थाई"},{"$f":"IFERROR(VLOOKUP($C$4&\"_\"&$A7,post_wise,COLUMNS($A$5:N5),0),\"\")","v":"O+"},{"$f":"IFERROR(VLOOKUP($C$4&\"_\"&$A7,post_wise,COLUMNS($A$5:O5),0),\"\")","v":"कुचामन सिटी"},{"$f":"IFERROR(VLOOKUP($C$4&\"_\"&$A7,post_wise,COLUMNS($A$5:P5),0),\"\")","v":"नागौर"},{"$f":"IFERROR(VLOOKUP($C$4&\"_\"&$A7,post_wise,COLUMNS($A$5:Q5),0),\"\")","v":9166023711},{"$f":"IFERROR(VLOOKUP($C$4&\"_\"&$A7,post_wise,COLUMNS($A$5:R5),0),\"\")","v":"sspkctakumar@gmail.com"},{"$f":"IFERROR(VLOOKUP($C$4&\"_\"&$A7,post_wise,COLUMNS($A$5:S5),0),\"\")","v":610370000000},{"$f":"IFERROR(VLOOKUP($C$4&\"_\"&$A7,post_wise,COLUMNS($A$5:T5),0),\"\")","v":"SBI"},{"$f":"IFERROR(VLOOKUP($C$4&\"_\"&$A7,post_wise,COLUMNS($A$5:U5),0),\"\")","v":"SBIN0031733"},{"$f":"IFERROR(VLOOKUP($C$4&\"_\"&$A7,post_wise,COLUMNS($A$5:V5),0),\"\")","v":"2011-10-19"},{"$f":"IFERROR(VLOOKUP($C$4&\"_\"&$A7,post_wise,COLUMNS($A$5:W5),0),\"\")","v":"2011-10-19"},{"$f":"IFERROR(VLOOKUP($C$4&\"_\"&$A7,post_wise,COLUMNS($A$5:X5),0),\"\")","v":"2011-11-19"},{"$f":"IFERROR(VLOOKUP($C$4&\"_\"&$A7,post_wise,COLUMNS($A$5:Y5),0),\"\")","v":"2011-11-19"},{"$f":"IFERROR(VLOOKUP($C$4&\"_\"&$A7,post_wise,COLUMNS($A$5:Z5),0),\"\")","v":0},{"$f":"IFERROR(VLOOKUP($C$4&\"_\"&$A7,post_wise,COLUMNS($A$5:AA5),0),\"\")","v":"2011-11-19"},{"$f":"IFERROR(VLOOKUP($C$4&\"_\"&$A7,post_wise,COLUMNS($A$5:AB5),0),\"\")","v":110000000000},{"$f":"IFERROR(VLOOKUP($C$4&\"_\"&$A7,post_wise,COLUMNS($A$5:AC5),0),\"\")","v":6123456},{"$f":"IFERROR(VLOOKUP($C$4&\"_\"&$A7,post_wise,COLUMNS($A$5:AD5),0),\"\")","v":123456781234},{"$f":"IFERROR(VLOOKUP($C$4&\"_\"&$A7,post_wise,COLUMNS($A$5:AE5),0),\"\")","v":"ZXZXZXD"},{"$f":"IFERROR(VLOOKUP($C$4&\"_\"&$A7,post_wise,COLUMNS($A$5:AF5),0),\"\")","v":0},{"$f":"IFERROR(VLOOKUP($C$4&\"_\"&$A7,post_wise,COLUMNS($A$5:AG5),0),\"\")","v":"ABCDE1111F"},{"$f":"IFERROR(VLOOKUP($C$4&\"_\"&$A7,post_wise,COLUMNS($A$5:AH5),0),\"\")","v":48500},{"$f":"IFERROR(VLOOKUP($C$4&\"_\"&$A7,post_wise,COLUMNS($A$5:AI5),0),\"\")","v":"M.A."},{"$f":"IFERROR(VLOOKUP($C$4&\"_\"&$A7,post_wise,COLUMNS($A$5:AJ5),0),\"\")","v":"M.Ed"}]
[2,{"$f":"IFERROR(VLOOKUP($C$4&\"_\"&$A8,post_wise,COLUMNS($A$5:C6),0),\"\")","v":""},{"$f":"IFERROR(VLOOKUP($C$4&\"_\"&$A8,post_wise,COLUMNS($A$5:D6),0),\"\")","v":""},{"$f":"IFERROR(VLOOKUP($C$4&\"_\"&$A8,post_wise,COLUMNS($A$5:E6),0),\"\")","v":""},{"$f":"IFERROR(VLOOKUP($C$4&\"_\"&$A8,post_wise,COLUMNS($A$5:F6),0),\"\")","v":""},{"$f":"IFERROR(VLOOKUP($C$4&\"_\"&$A8,post_wise,COLUMNS($A$5:G6),0),\"\")","v":""},{"$f":"IFERROR(VLOOKUP($C$4&\"_\"&$A8,post_wise,COLUMNS($A$5:H6),0),\"\")","v":""},{"$f":"IFERROR(VLOOKUP($C$4&\"_\"&$A8,post_wise,COLUMNS($A$5:I6),0),\"\")","v":""},{"$f":"IFERROR(VLOOKUP($C$4&\"_\"&$A8,post_wise,COLUMNS($A$5:J6),0),\"\")","v":""},{"$f":"IFERROR(VLOOKUP($C$4&\"_\"&$A8,post_wise,COLUMNS($A$5:K6),0),\"\")","v":""},{"$f":"IFERROR(VLOOKUP($C$4&\"_\"&$A8,post_wise,COLUMNS($A$5:L6),0),\"\")","v":""},{"$f":"IFERROR(VLOOKUP($C$4&\"_\"&$A8,post_wise,COLUMNS($A$5:M6),0),\"\")","v":""},{"$f":"IFERROR(VLOOKUP($C$4&\"_\"&$A8,post_wise,COLUMNS($A$5:N6),0),\"\")","v":""},{"$f":"IFERROR(VLOOKUP($C$4&\"_\"&$A8,post_wise,COLUMNS($A$5:O6),0),\"\")","v":""},{"$f":"IFERROR(VLOOKUP($C$4&\"_\"&$A8,post_wise,COLUMNS($A$5:P6),0),\"\")","v":""},{"$f":"IFERROR(VLOOKUP($C$4&\"_\"&$A8,post_wise,COLUMNS($A$5:Q6),0),\"\")","v":""},{"$f":"IFERROR(VLOOKUP($C$4&\"_\"&$A8,post_wise,COLUMNS($A$5:R6),0),\"\")","v":""},{"$f":"IFERROR(VLOOKUP($C$4&\"_\"&$A8,post_wise,COLUMNS($A$5:S6),0),\"\")","v":""},{"$f":"IFERROR(VLOOKUP($C$4&\"_\"&$A8,post_wise,COLUMNS($A$5:T6),0),\"\")","v":""},{"$f":"IFERROR(VLOOKUP($C$4&\"_\"&$A8,post_wise,COLUMNS($A$5:U6),0),\"\")","v":""},{"$f":"IFERROR(VLOOKUP($C$4&\"_\"&$A8,post_wise,COLUMNS($A$5:V6),0),\"\")","v":""},{"$f":"IFERROR(VLOOKUP($C$4&\"_\"&$A8,post_wise,COLUMNS($A$5:W6),0),\"\")","v":""},{"$f":"IFERROR(VLOOKUP($C$4&\"_\"&$A8,post_wise,COLUMNS($A$5:X6),0),\"\")","v":""},{"$f":"IFERROR(VLOOKUP($C$4&\"_\"&$A8,post_wise,COLUMNS($A$5:Y6),0),\"\")","v":""},{"$f":"IFERROR(VLOOKUP($C$4&\"_\"&$A8,post_wise,COLUMNS($A$5:Z6),0),\"\")","v":""},{"$f":"IFERROR(VLOOKUP($C$4&\"_\"&$A8,post_wise,COLUMNS($A$5:AA6),0),\"\")","v":""},{"$f":"IFERROR(VLOOKUP($C$4&\"_\"&$A8,post_wise,COLUMNS($A$5:AB6),0),\"\")","v":""},{"$f":"IFERROR(VLOOKUP($C$4&\"_\"&$A8,post_wise,COLUMNS($A$5:AC6),0),\"\")","v":""},{"$f":"IFERROR(VLOOKUP($C$4&\"_\"&$A8,post_wise,COLUMNS($A$5:AD6),0),\"\")","v":""},{"$f":"IFERROR(VLOOKUP($C$4&\"_\"&$A8,post_wise,COLUMNS($A$5:AE6),0),\"\")","v":""},{"$f":"IFERROR(VLOOKUP($C$4&\"_\"&$A8,post_wise,COLUMNS($A$5:AF6),0),\"\")","v":""},{"$f":"IFERROR(VLOOKUP($C$4&\"_\"&$A8,post_wise,COLUMNS($A$5:AG6),0),\"\")","v":""},{"$f":"IFERROR(VLOOKUP($C$4&\"_\"&$A8,post_wise,COLUMNS($A$5:AH6),0),\"\")","v":""},{"$f":"IFERROR(VLOOKUP($C$4&\"_\"&$A8,post_wise,COLUMNS($A$5:AI6),0),\"\")","v":""},{"$f":"IFERROR(VLOOKUP($C$4&\"_\"&$A8,post_wise,COLUMNS($A$5:AJ6),0),\"\")","v":""}]
[3,{"$f":"IFERROR(VLOOKUP($C$4&\"_\"&$A9,post_wise,COLUMNS($A$5:C7),0),\"\")","v":""},{"$f":"IFERROR(VLOOKUP($C$4&\"_\"&$A9,post_wise,COLUMNS($A$5:D7),0),\"\")","v":""},{"$f":"IFERROR(VLOOKUP($C$4&\"_\"&$A9,post_wise,COLUMNS($A$5:E7),0),\"\")","v":""},{"$f":"IFERROR(VLOOKUP($C$4&\"_\"&$A9,post_wise,COLUMNS($A$5:F7),0),\"\")","v":""},{"$f":"IFERROR(VLOOKUP($C$4&\"_\"&$A9,post_wise,COLUMNS($A$5:G7),0),\"\")","v":""},{"$f":"IFERROR(VLOOKUP($C$4&\"_\"&$A9,post_wise,COLUMNS($A$5:H7),0),\"\")","v":""},{"$f":"IFERROR(VLOOKUP($C$4&\"_\"&$A9,post_wise,COLUMNS($A$5:I7),0),\"\")","v":""},{"$f":"IFERROR(VLOOKUP($C$4&\"_\"&$A9,post_wise,COLUMNS($A$5:J7),0),\"\")","v":""},{"$f":"IFERROR(VLOOKUP($C$4&\"_\"&$A9,post_wise,COLUMNS($A$5:K7),0),\"\")","v":""},{"$f":"IFERROR(VLOOKUP($C$4&\"_\"&$A9,post_wise,COLUMNS($A$5:L7),0),\"\")","v":""},{"$f":"IFERROR(VLOOKUP($C$4&\"_\"&$A9,post_wise,COLUMNS($A$5:M7),0),\"\")","v":""},{"$f":"IFERROR(VLOOKUP($C$4&\"_\"&$A9,post_wise,COLUMNS($A$5:N7),0),\"\")","v":""},{"$f":"IFERROR(VLOOKUP($C$4&\"_\"&$A9,post_wise,COLUMNS($A$5:O7),0),\"\")","v":""},{"$f":"IFERROR(VLOOKUP($C$4&\"_\"&$A9,post_wise,COLUMNS($A$5:P7),0),\"\")","v":""},{"$f":"IFERROR(VLOOKUP($C$4&\"_\"&$A9,post_wise,COLUMNS($A$5:Q7),0),\"\")","v":""},{"$f":"IFERROR(VLOOKUP($C$4&\"_\"&$A9,post_wise,COLUMNS($A$5:R7),0),\"\")","v":""},{"$f":"IFERROR(VLOOKUP($C$4&\"_\"&$A9,post_wise,COLUMNS($A$5:S7),0),\"\")","v":""},{"$f":"IFERROR(VLOOKUP($C$4&\"_\"&$A9,post_wise,COLUMNS($A$5:T7),0),\"\")","v":""},{"$f":"IFERROR(VLOOKUP($C$4&\"_\"&$A9,post_wise,COLUMNS($A$5:U7),0),\"\")","v":""},{"$f":"IFERROR(VLOOKUP($C$4&\"_\"&$A9,post_wise,COLUMNS($A$5:V7),0),\"\")","v":""},{"$f":"IFERROR(VLOOKUP($C$4&\"_\"&$A9,post_wise,COLUMNS($A$5:W7),0),\"\")","v":""},{"$f":"IFERROR(VLOOKUP($C$4&\"_\"&$A9,post_wise,COLUMNS($A$5:X7),0),\"\")","v":""},{"$f":"IFERROR(VLOOKUP($C$4&\"_\"&$A9,post_wise,COLUMNS($A$5:Y7),0),\"\")","v":""},{"$f":"IFERROR(VLOOKUP($C$4&\"_\"&$A9,post_wise,COLUMNS($A$5:Z7),0),\"\")","v":""},{"$f":"IFERROR(VLOOKUP($C$4&\"_\"&$A9,post_wise,COLUMNS($A$5:AA7),0),\"\")","v":""},{"$f":"IFERROR(VLOOKUP($C$4&\"_\"&$A9,post_wise,COLUMNS($A$5:AB7),0),\"\")","v":""},{"$f":"IFERROR(VLOOKUP($C$4&\"_\"&$A9,post_wise,COLUMNS($A$5:AC7),0),\"\")","v":""},{"$f":"IFERROR(VLOOKUP($C$4&\"_\"&$A9,post_wise,COLUMNS($A$5:AD7),0),\"\")","v":""},{"$f":"IFERROR(VLOOKUP($C$4&\"_\"&$A9,post_wise,COLUMNS($A$5:AE7),0),\"\")","v":""},{"$f":"IFERROR(VLOOKUP($C$4&\"_\"&$A9,post_wise,COLUMNS($A$5:AF7),0),\"\")","v":""},{"$f":"IFERROR(VLOOKUP($C$4&\"_\"&$A9,post_wise,COLUMNS($A$5:AG7),0),\"\")","v":""},{"$f":"IFERROR(VLOOKUP($C$4&\"_\"&$A9,post_wise,COLUMNS($A$5:AH7),0),\"\")","v":""},{"$f":"IFERROR(VLOOKUP($C$4&\"_\"&$A9,post_wise,COLUMNS($A$5:AI7),0),\"\")","v":""},{"$f":"IFERROR(VLOOKUP($C$4&\"_\"&$A9,post_wise,COLUMNS($A$5:AJ7),0),\"\")","v":""}]
[4,{"$f":"IFERROR(VLOOKUP($C$4&\"_\"&$A10,post_wise,COLUMNS($A$5:C8),0),\"\")","v":""},{"$f":"IFERROR(VLOOKUP($C$4&\"_\"&$A10,post_wise,COLUMNS($A$5:D8),0),\"\")","v":""},{"$f":"IFERROR(VLOOKUP($C$4&\"_\"&$A10,post_wise,COLUMNS($A$5:E8),0),\"\")","v":""},{"$f":"IFERROR(VLOOKUP($C$4&\"_\"&$A10,post_wise,COLUMNS($A$5:F8),0),\"\")","v":""},{"$f":"IFERROR(VLOOKUP($C$4&\"_\"&$A10,post_wise,COLUMNS($A$5:G8),0),\"\")","v":""},{"$f":"IFERROR(VLOOKUP($C$4&\"_\"&$A10,post_wise,COLUMNS($A$5:H8),0),\"\")","v":""},{"$f":"IFERROR(VLOOKUP($C$4&\"_\"&$A10,post_wise,COLUMNS($A$5:I8),0),\"\")","v":""},{"$f":"IFERROR(VLOOKUP($C$4&\"_\"&$A10,post_wise,COLUMNS($A$5:J8),0),\"\")","v":""},{"$f":"IFERROR(VLOOKUP($C$4&\"_\"&$A10,post_wise,COLUMNS($A$5:K8),0),\"\")","v":""},{"$f":"IFERROR(VLOOKUP($C$4&\"_\"&$A10,post_wise,COLUMNS($A$5:L8),0),\"\")","v":""},{"$f":"IFERROR(VLOOKUP($C$4&\"_\"&$A10,post_wise,COLUMNS($A$5:M8),0),\"\")","v":""},{"$f":"IFERROR(VLOOKUP($C$4&\"_\"&$A10,post_wise,COLUMNS($A$5:N8),0),\"\")","v":""},{"$f":"IFERROR(VLOOKUP($C$4&\"_\"&$A10,post_wise,COLUMNS($A$5:O8),0),\"\")","v":""},{"$f":"IFERROR(VLOOKUP($C$4&\"_\"&$A10,post_wise,COLUMNS($A$5:P8),0),\"\")","v":""},{"$f":"IFERROR(VLOOKUP($C$4&\"_\"&$A10,post_wise,COLUMNS($A$5:Q8),0),\"\")","v":""},{"$f":"IFERROR(VLOOKUP($C$4&\"_\"&$A10,post_wise,COLUMNS($A$5:R8),0),\"\")","v":""},{"$f":"IFERROR(VLOOKUP($C$4&\"_\"&$A10,post_wise,COLUMNS($A$5:S8),0),\"\")","v":""},{"$f":"IFERROR(VLOOKUP($C$4&\"_\"&$A10,post_wise,COLUMNS($A$5:T8),0),\"\")","v":""},{"$f":"IFERROR(VLOOKUP($C$4&\"_\"&$A10,post_wise,COLUMNS($A$5:U8),0),\"\")","v":""},{"$f":"IFERROR(VLOOKUP($C$4&\"_\"&$A10,post_wise,COLUMNS($A$5:V8),0),\"\")","v":""},{"$f":"IFERROR(VLOOKUP($C$4&\"_\"&$A10,post_wise,COLUMNS($A$5:W8),0),\"\")","v":""},{"$f":"IFERROR(VLOOKUP($C$4&\"_\"&$A10,post_wise,COLUMNS($A$5:X8),0),\"\")","v":""},{"$f":"IFERROR(VLOOKUP($C$4&\"_\"&$A10,post_wise,COLUMNS($A$5:Y8),0),\"\")","v":""},{"$f":"IFERROR(VLOOKUP($C$4&\"_\"&$A10,post_wise,COLUMNS($A$5:Z8),0),\"\")","v":""},{"$f":"IFERROR(VLOOKUP($C$4&\"_\"&$A10,post_wise,COLUMNS($A$5:AA8),0),\"\")","v":""},{"$f":"IFERROR(VLOOKUP($C$4&\"_\"&$A10,post_wise,COLUMNS($A$5:AB8),0),\"\")","v":""},{"$f":"IFERROR(VLOOKUP($C$4&\"_\"&$A10,post_wise,COLUMNS($A$5:AC8),0),\"\")","v":""},{"$f":"IFERROR(VLOOKUP($C$4&\"_\"&$A10,post_wise,COLUMNS($A$5:AD8),0),\"\")","v":""},{"$f":"IFERROR(VLOOKUP($C$4&\"_\"&$A10,post_wise,COLUMNS($A$5:AE8),0),\"\")","v":""},{"$f":"IFERROR(VLOOKUP($C$4&\"_\"&$A10,post_wise,COLUMNS($A$5:AF8),0),\"\")","v":""},{"$f":"IFERROR(VLOOKUP($C$4&\"_\"&$A10,post_wise,COLUMNS($A$5:AG8),0),\"\")","v":""},{"$f":"IFERROR(VLOOKUP($C$4&\"_\"&$A10,post_wise,COLUMNS($A$5:AH8),0),\"\")","v":""},{"$f":"IFERROR(VLOOKUP($C$4&\"_\"&$A10,post_wise,COLUMNS($A$5:AI8),0),\"\")","v":""},{"$f":"IFERROR(VLOOKUP($C$4&\"_\"&$A10,post_wise,COLUMNS($A$5:AJ8),0),\"\")","v":""}]
[5,{"$f":"IFERROR(VLOOKUP($C$4&\"_\"&$A11,post_wise,COLUMNS($A$5:C9),0),\"\")","v":""},{"$f":"IFERROR(VLOOKUP($C$4&\"_\"&$A11,post_wise,COLUMNS($A$5:D9),0),\"\")","v":""},{"$f":"IFERROR(VLOOKUP($C$4&\"_\"&$A11,post_wise,COLUMNS($A$5:E9),0),\"\")","v":""},{"$f":"IFERROR(VLOOKUP($C$4&\"_\"&$A11,post_wise,COLUMNS($A$5:F9),0),\"\")","v":""},{"$f":"IFERROR(VLOOKUP($C$4&\"_\"&$A11,post_wise,COLUMNS($A$5:G9),0),\"\")","v":""},{"$f":"IFERROR(VLOOKUP($C$4&\"_\"&$A11,post_wise,COLUMNS($A$5:H9),0),\"\")","v":""},{"$f":"IFERROR(VLOOKUP($C$4&\"_\"&$A11,post_wise,COLUMNS($A$5:I9),0),\"\")","v":""},{"$f":"IFERROR(VLOOKUP($C$4&\"_\"&$A11,post_wise,COLUMNS($A$5:J9),0),\"\")","v":""},{"$f":"IFERROR(VLOOKUP($C$4&\"_\"&$A11,post_wise,COLUMNS($A$5:K9),0),\"\")","v":""},{"$f":"IFERROR(VLOOKUP($C$4&\"_\"&$A11,post_wise,COLUMNS($A$5:L9),0),\"\")","v":""},{"$f":"IFERROR(VLOOKUP($C$4&\"_\"&$A11,post_wise,COLUMNS($A$5:M9),0),\"\")","v":""},{"$f":"IFERROR(VLOOKUP($C$4&\"_\"&$A11,post_wise,COLUMNS($A$5:N9),0),\"\")","v":""},{"$f":"IFERROR(VLOOKUP($C$4&\"_\"&$A11,post_wise,COLUMNS($A$5:O9),0),\"\")","v":""},{"$f":"IFERROR(VLOOKUP($C$4&\"_\"&$A11,post_wise,COLUMNS($A$5:P9),0),\"\")","v":""},{"$f":"IFERROR(VLOOKUP($C$4&\"_\"&$A11,post_wise,COLUMNS($A$5:Q9),0),\"\")","v":""},{"$f":"IFERROR(VLOOKUP($C$4&\"_\"&$A11,post_wise,COLUMNS($A$5:R9),0),\"\")","v":""},{"$f":"IFERROR(VLOOKUP($C$4&\"_\"&$A11,post_wise,COLUMNS($A$5:S9),0),\"\")","v":""},{"$f":"IFERROR(VLOOKUP($C$4&\"_\"&$A11,post_wise,COLUMNS($A$5:T9),0),\"\")","v":""},{"$f":"IFERROR(VLOOKUP($C$4&\"_\"&$A11,post_wise,COLUMNS($A$5:U9),0),\"\")","v":""},{"$f":"IFERROR(VLOOKUP($C$4&\"_\"&$A11,post_wise,COLUMNS($A$5:V9),0),\"\")","v":""},{"$f":"IFERROR(VLOOKUP($C$4&\"_\"&$A11,post_wise,COLUMNS($A$5:W9),0),\"\")","v":""},{"$f":"IFERROR(VLOOKUP($C$4&\"_\"&$A11,post_wise,COLUMNS($A$5:X9),0),\"\")","v":""},{"$f":"IFERROR(VLOOKUP($C$4&\"_\"&$A11,post_wise,COLUMNS($A$5:Y9),0),\"\")","v":""},{"$f":"IFERROR(VLOOKUP($C$4&\"_\"&$A11,post_wise,COLUMNS($A$5:Z9),0),\"\")","v":""},{"$f":"IFERROR(VLOOKUP($C$4&\"_\"&$A11,post_wise,COLUMNS($A$5:AA9),0),\"\")","v":""},{"$f":"IFERROR(VLOOKUP($C$4&\"_\"&$A11,post_wise,COLUMNS($A$5:AB9),0),\"\")","v":""},{"$f":"IFERROR(VLOOKUP($C$4&\"_\"&$A11,post_wise,COLUMNS($A$5:AC9),0),\"\")","v":""},{"$f":"IFERROR(VLOOKUP($C$4&\"_\"&$A11,post_wise,COLUMNS($A$5:AD9),0),\"\")","v":""},{"$f":"IFERROR(VLOOKUP($C$4&\"_\"&$A11,post_wise,COLUMNS($A$5:AE9),0),\"\")","v":""},{"$f":"IFERROR(VLOOKUP($C$4&\"_\"&$A11,post_wise,COLUMNS($A$5:AF9),0),\"\")","v":""},{"$f":"IFERROR(VLOOKUP($C$4&\"_\"&$A11,post_wise,COLUMNS($A$5:AG9),0),\"\")","v":""},{"$f":"IFERROR(VLOOKUP($C$4&\"_\"&$A11,post_wise,COLUMNS($A$5:AH9),0),\"\")","v":""},{"$f":"IFERROR(VLOOKUP($C$4&\"_\"&$A11,post_wise,COLUMNS($A$5:AI9),0),\"\")","v":""},{"$f":"IFERROR(VLOOKUP($C$4&\"_\"&$A11,post_wise,COLUMNS($A$5:AJ9),0),\"\")","v":""}]
[6,{"$f":"IFERROR(VLOOKUP($C$4&\"_\"&$A12,post_wise,COLUMNS($A$5:C10),0),\"\")","v":""},{"$f":"IFERROR(VLOOKUP($C$4&\"_\"&$A12,post_wise,COLUMNS($A$5:D10),0),\"\")","v":""},{"$f":"IFERROR(VLOOKUP($C$4&\"_\"&$A12,post_wise,COLUMNS($A$5:E10),0),\"\")","v":""},{"$f":"IFERROR(VLOOKUP($C$4&\"_\"&$A12,post_wise,COLUMNS($A$5:F10),0),\"\")","v":""},{"$f":"IFERROR(VLOOKUP($C$4&\"_\"&$A12,post_wise,COLUMNS($A$5:G10),0),\"\")","v":""},{"$f":"IFERROR(VLOOKUP($C$4&\"_\"&$A12,post_wise,COLUMNS($A$5:H10),0),\"\")","v":""},{"$f":"IFERROR(VLOOKUP($C$4&\"_\"&$A12,post_wise,COLUMNS($A$5:I10),0),\"\")","v":""},{"$f":"IFERROR(VLOOKUP($C$4&\"_\"&$A12,post_wise,COLUMNS($A$5:J10),0),\"\")","v":""},{"$f":"IFERROR(VLOOKUP($C$4&\"_\"&$A12,post_wise,COLUMNS($A$5:K10),0),\"\")","v":""},{"$f":"IFERROR(VLOOKUP($C$4&\"_\"&$A12,post_wise,COLUMNS($A$5:L10),0),\"\")","v":""},{"$f":"IFERROR(VLOOKUP($C$4&\"_\"&$A12,post_wise,COLUMNS($A$5:M10),0),\"\")","v":""},{"$f":"IFERROR(VLOOKUP($C$4&\"_\"&$A12,post_wise,COLUMNS($A$5:N10),0),\"\")","v":""},{"$f":"IFERROR(VLOOKUP($C$4&\"_\"&$A12,post_wise,COLUMNS($A$5:O10),0),\"\")","v":""},{"$f":"IFERROR(VLOOKUP($C$4&\"_\"&$A12,post_wise,COLUMNS($A$5:P10),0),\"\")","v":""},{"$f":"IFERROR(VLOOKUP($C$4&\"_\"&$A12,post_wise,COLUMNS($A$5:Q10),0),\"\")","v":""},{"$f":"IFERROR(VLOOKUP($C$4&\"_\"&$A12,post_wise,COLUMNS($A$5:R10),0),\"\")","v":""},{"$f":"IFERROR(VLOOKUP($C$4&\"_\"&$A12,post_wise,COLUMNS($A$5:S10),0),\"\")","v":""},{"$f":"IFERROR(VLOOKUP($C$4&\"_\"&$A12,post_wise,COLUMNS($A$5:T10),0),\"\")","v":""},{"$f":"IFERROR(VLOOKUP($C$4&\"_\"&$A12,post_wise,COLUMNS($A$5:U10),0),\"\")","v":""},{"$f":"IFERROR(VLOOKUP($C$4&\"_\"&$A12,post_wise,COLUMNS($A$5:V10),0),\"\")","v":""},{"$f":"IFERROR(VLOOKUP($C$4&\"_\"&$A12,post_wise,COLUMNS($A$5:W10),0),\"\")","v":""},{"$f":"IFERROR(VLOOKUP($C$4&\"_\"&$A12,post_wise,COLUMNS($A$5:X10),0),\"\")","v":""},{"$f":"IFERROR(VLOOKUP($C$4&\"_\"&$A12,post_wise,COLUMNS($A$5:Y10),0),\"\")","v":""},{"$f":"IFERROR(VLOOKUP($C$4&\"_\"&$A12,post_wise,COLUMNS($A$5:Z10),0),\"\")","v":""},{"$f":"IFERROR(VLOOKUP($C$4&\"_\"&$A12,post_wise,COLUMNS($A$5:AA10),0),\"\")","v":""},{"$f":"IFERROR(VLOOKUP($C$4&\"_\"&$A12,post_wise,COLUMNS($A$5:AB10),0),\"\")","v":""},{"$f":"IFERROR(VLOOKUP($C$4&\"_\"&$A12,post_wise,COLUMNS($A$5:AC10),0),\"\")","v":""},{"$f":"IFERROR(VLOOKUP($C$4&\"_\"&$A12,post_wise,COLUMNS($A$5:AD10),0),\"\")","v":""},{"$f":"IFERROR(VLOOKUP($C$4&\"_\"&$A12,post_wise,COLUMNS($A$5:AE10),0),\"\")","v":""},{"$f":"IFERROR(VLOOKUP($C$4&\"_\"&$A12,post_wise,COLUMNS($A$5:AF10),0),\"\")","v":""},{"$f":"IFERROR(VLOOKUP($C$4&\"_\"&$A12,post_wise,COLUMNS($A$5:AG10),0),\"\")","v":""},{"$f":"IFERROR(VLOOKUP($C$4&\"_\"&$A12,post_wise,COLUMNS($A$5:AH10),0),\"\")","v":""},{"$f":"IFERROR(VLOOKUP($C$4&\"_\"&$A12,post_wise,COLUMNS($A$5:AI10),0),\"\")","v":""},{"$f":"IFERROR(VLOOKUP($C$4&\"_\"&$A12,post_wise,COLUMNS($A$5:AJ10),0),\"\")","v":""}]
[7,{"$f":"IFERROR(VLOOKUP($C$4&\"_\"&$A13,post_wise,COLUMNS($A$5:C11),0),\"\")","v":""},{"$f":"IFERROR(VLOOKUP($C$4&\"_\"&$A13,post_wise,COLUMNS($A$5:D11),0),\"\")","v":""},{"$f":"IFERROR(VLOOKUP($C$4&\"_\"&$A13,post_wise,COLUMNS($A$5:E11),0),\"\")","v":""},{"$f":"IFERROR(VLOOKUP($C$4&\"_\"&$A13,post_wise,COLUMNS($A$5:F11),0),\"\")","v":""},{"$f":"IFERROR(VLOOKUP($C$4&\"_\"&$A13,post_wise,COLUMNS($A$5:G11),0),\"\")","v":""},{"$f":"IFERROR(VLOOKUP($C$4&\"_\"&$A13,post_wise,COLUMNS($A$5:H11),0),\"\")","v":""},{"$f":"IFERROR(VLOOKUP($C$4&\"_\"&$A13,post_wise,COLUMNS($A$5:I11),0),\"\")","v":""},{"$f":"IFERROR(VLOOKUP($C$4&\"_\"&$A13,post_wise,COLUMNS($A$5:J11),0),\"\")","v":""},{"$f":"IFERROR(VLOOKUP($C$4&\"_\"&$A13,post_wise,COLUMNS($A$5:K11),0),\"\")","v":""},{"$f":"IFERROR(VLOOKUP($C$4&\"_\"&$A13,post_wise,COLUMNS($A$5:L11),0),\"\")","v":""},{"$f":"IFERROR(VLOOKUP($C$4&\"_\"&$A13,post_wise,COLUMNS($A$5:M11),0),\"\")","v":""},{"$f":"IFERROR(VLOOKUP($C$4&\"_\"&$A13,post_wise,COLUMNS($A$5:N11),0),\"\")","v":""},{"$f":"IFERROR(VLOOKUP($C$4&\"_\"&$A13,post_wise,COLUMNS($A$5:O11),0),\"\")","v":""},{"$f":"IFERROR(VLOOKUP($C$4&\"_\"&$A13,post_wise,COLUMNS($A$5:P11),0),\"\")","v":""},{"$f":"IFERROR(VLOOKUP($C$4&\"_\"&$A13,post_wise,COLUMNS($A$5:Q11),0),\"\")","v":""},{"$f":"IFERROR(VLOOKUP($C$4&\"_\"&$A13,post_wise,COLUMNS($A$5:R11),0),\"\")","v":""},{"$f":"IFERROR(VLOOKUP($C$4&\"_\"&$A13,post_wise,COLUMNS($A$5:S11),0),\"\")","v":""},{"$f":"IFERROR(VLOOKUP($C$4&\"_\"&$A13,post_wise,COLUMNS($A$5:T11),0),\"\")","v":""},{"$f":"IFERROR(VLOOKUP($C$4&\"_\"&$A13,post_wise,COLUMNS($A$5:U11),0),\"\")","v":""},{"$f":"IFERROR(VLOOKUP($C$4&\"_\"&$A13,post_wise,COLUMNS($A$5:V11),0),\"\")","v":""},{"$f":"IFERROR(VLOOKUP($C$4&\"_\"&$A13,post_wise,COLUMNS($A$5:W11),0),\"\")","v":""},{"$f":"IFERROR(VLOOKUP($C$4&\"_\"&$A13,post_wise,COLUMNS($A$5:X11),0),\"\")","v":""},{"$f":"IFERROR(VLOOKUP($C$4&\"_\"&$A13,post_wise,COLUMNS($A$5:Y11),0),\"\")","v":""},{"$f":"IFERROR(VLOOKUP($C$4&\"_\"&$A13,post_wise,COLUMNS($A$5:Z11),0),\"\")","v":""},{"$f":"IFERROR(VLOOKUP($C$4&\"_\"&$A13,post_wise,COLUMNS($A$5:AA11),0),\"\")","v":""},{"$f":"IFERROR(VLOOKUP($C$4&\"_\"&$A13,post_wise,COLUMNS($A$5:AB11),0),\"\")","v":""},{"$f":"IFERROR(VLOOKUP($C$4&\"_\"&$A13,post_wise,COLUMNS($A$5:AC11),0),\"\")","v":""},{"$f":"IFERROR(VLOOKUP($C$4&\"_\"&$A13,post_wise,COLUMNS($A$5:AD11),0),\"\")","v":""},{"$f":"IFERROR(VLOOKUP($C$4&\"_\"&$A13,post_wise,COLUMNS($A$5:AE11),0),\"\")","v":""},{"$f":"IFERROR(VLOOKUP($C$4&\"_\"&$A13,post_wise,COLUMNS($A$5:AF11),0),\"\")","v":""},{"$f":"IFERROR(VLOOKUP($C$4&\"_\"&$A13,post_wise,COLUMNS($A$5:AG11),0),\"\")","v":""},{"$f":"IFERROR(VLOOKUP($C$4&\"_\"&$A13,post_wise,COLUMNS($A$5:AH11),0),\"\")","v":""},{"$f":"IFERROR(VLOOKUP($C$4&\"_\"&$A13,post_wise,COLUMNS($A$5:AI11),0),\"\")","v":""},{"$f":"IFERROR(VLOOKUP($C$4&\"_\"&$A13,post_wise,COLUMNS($A$5:AJ11),0),\"\")","v":""}]
[8,{"$f":"IFERROR(VLOOKUP($C$4&\"_\"&$A14,post_wise,COLUMNS($A$5:C12),0),\"\")","v":""},{"$f":"IFERROR(VLOOKUP($C$4&\"_\"&$A14,post_wise,COLUMNS($A$5:D12),0),\"\")","v":""},{"$f":"IFERROR(VLOOKUP($C$4&\"_\"&$A14,post_wise,COLUMNS($A$5:E12),0),\"\")","v":""},{"$f":"IFERROR(VLOOKUP($C$4&\"_\"&$A14,post_wise,COLUMNS($A$5:F12),0),\"\")","v":""},{"$f":"IFERROR(VLOOKUP($C$4&\"_\"&$A14,post_wise,COLUMNS($A$5:G12),0),\"\")","v":""},{"$f":"IFERROR(VLOOKUP($C$4&\"_\"&$A14,post_wise,COLUMNS($A$5:H12),0),\"\")","v":""},{"$f":"IFERROR(VLOOKUP($C$4&\"_\"&$A14,post_wise,COLUMNS($A$5:I12),0),\"\")","v":""},{"$f":"IFERROR(VLOOKUP($C$4&\"_\"&$A14,post_wise,COLUMNS($A$5:J12),0),\"\")","v":""},{"$f":"IFERROR(VLOOKUP($C$4&\"_\"&$A14,post_wise,COLUMNS($A$5:K12),0),\"\")","v":""},{"$f":"IFERROR(VLOOKUP($C$4&\"_\"&$A14,post_wise,COLUMNS($A$5:L12),0),\"\")","v":""},{"$f":"IFERROR(VLOOKUP($C$4&\"_\"&$A14,post_wise,COLUMNS($A$5:M12),0),\"\")","v":""},{"$f":"IFERROR(VLOOKUP($C$4&\"_\"&$A14,post_wise,COLUMNS($A$5:N12),0),\"\")","v":""},{"$f":"IFERROR(VLOOKUP($C$4&\"_\"&$A14,post_wise,COLUMNS($A$5:O12),0),\"\")","v":""},{"$f":"IFERROR(VLOOKUP($C$4&\"_\"&$A14,post_wise,COLUMNS($A$5:P12),0),\"\")","v":""},{"$f":"IFERROR(VLOOKUP($C$4&\"_\"&$A14,post_wise,COLUMNS($A$5:Q12),0),\"\")","v":""},{"$f":"IFERROR(VLOOKUP($C$4&\"_\"&$A14,post_wise,COLUMNS($A$5:R12),0),\"\")","v":""},{"$f":"IFERROR(VLOOKUP($C$4&\"_\"&$A14,post_wise,COLUMNS($A$5:S12),0),\"\")","v":""},{"$f":"IFERROR(VLOOKUP($C$4&\"_\"&$A14,post_wise,COLUMNS($A$5:T12),0),\"\")","v":""},{"$f":"IFERROR(VLOOKUP($C$4&\"_\"&$A14,post_wise,COLUMNS($A$5:U12),0),\"\")","v":""},{"$f":"IFERROR(VLOOKUP($C$4&\"_\"&$A14,post_wise,COLUMNS($A$5:V12),0),\"\")","v":""},{"$f":"IFERROR(VLOOKUP($C$4&\"_\"&$A14,post_wise,COLUMNS($A$5:W12),0),\"\")","v":""},{"$f":"IFERROR(VLOOKUP($C$4&\"_\"&$A14,post_wise,COLUMNS($A$5:X12),0),\"\")","v":""},{"$f":"IFERROR(VLOOKUP($C$4&\"_\"&$A14,post_wise,COLUMNS($A$5:Y12),0),\"\")","v":""},{"$f":"IFERROR(VLOOKUP($C$4&\"_\"&$A14,post_wise,COLUMNS($A$5:Z12),0),\"\")","v":""},{"$f":"IFERROR(VLOOKUP($C$4&\"_\"&$A14,post_wise,COLUMNS($A$5:AA12),0),\"\")","v":""},{"$f":"IFERROR(VLOOKUP($C$4&\"_\"&$A14,post_wise,COLUMNS($A$5:AB12),0),\"\")","v":""},{"$f":"IFERROR(VLOOKUP($C$4&\"_\"&$A14,post_wise,COLUMNS($A$5:AC12),0),\"\")","v":""},{"$f":"IFERROR(VLOOKUP($C$4&\"_\"&$A14,post_wise,COLUMNS($A$5:AD12),0),\"\")","v":""},{"$f":"IFERROR(VLOOKUP($C$4&\"_\"&$A14,post_wise,COLUMNS($A$5:AE12),0),\"\")","v":""},{"$f":"IFERROR(VLOOKUP($C$4&\"_\"&$A14,post_wise,COLUMNS($A$5:AF12),0),\"\")","v":""},{"$f":"IFERROR(VLOOKUP($C$4&\"_\"&$A14,post_wise,COLUMNS($A$5:AG12),0),\"\")","v":""},{"$f":"IFERROR(VLOOKUP($C$4&\"_\"&$A14,post_wise,COLUMNS($A$5:AH12),0),\"\")","v":""},{"$f":"IFERROR(VLOOKUP($C$4&\"_\"&$A14,post_wise,COLUMNS($A$5:AI12),0),\"\")","v":""},{"$f":"IFERROR(VLOOKUP($C$4&\"_\"&$A14,post_wise,COLUMNS($A$5:AJ12),0),\"\")","v":""}]
[9,{"$f":"IFERROR(VLOOKUP($C$4&\"_\"&$A15,post_wise,COLUMNS($A$5:C13),0),\"\")","v":""},{"$f":"IFERROR(VLOOKUP($C$4&\"_\"&$A15,post_wise,COLUMNS($A$5:D13),0),\"\")","v":""},{"$f":"IFERROR(VLOOKUP($C$4&\"_\"&$A15,post_wise,COLUMNS($A$5:E13),0),\"\")","v":""},{"$f":"IFERROR(VLOOKUP($C$4&\"_\"&$A15,post_wise,COLUMNS($A$5:F13),0),\"\")","v":""},{"$f":"IFERROR(VLOOKUP($C$4&\"_\"&$A15,post_wise,COLUMNS($A$5:G13),0),\"\")","v":""},{"$f":"IFERROR(VLOOKUP($C$4&\"_\"&$A15,post_wise,COLUMNS($A$5:H13),0),\"\")","v":""},{"$f":"IFERROR(VLOOKUP($C$4&\"_\"&$A15,post_wise,COLUMNS($A$5:I13),0),\"\")","v":""},{"$f":"IFERROR(VLOOKUP($C$4&\"_\"&$A15,post_wise,COLUMNS($A$5:J13),0),\"\")","v":""},{"$f":"IFERROR(VLOOKUP($C$4&\"_\"&$A15,post_wise,COLUMNS($A$5:K13),0),\"\")","v":""},{"$f":"IFERROR(VLOOKUP($C$4&\"_\"&$A15,post_wise,COLUMNS($A$5:L13),0),\"\")","v":""},{"$f":"IFERROR(VLOOKUP($C$4&\"_\"&$A15,post_wise,COLUMNS($A$5:M13),0),\"\")","v":""},{"$f":"IFERROR(VLOOKUP($C$4&\"_\"&$A15,post_wise,COLUMNS($A$5:N13),0),\"\")","v":""},{"$f":"IFERROR(VLOOKUP($C$4&\"_\"&$A15,post_wise,COLUMNS($A$5:O13),0),\"\")","v":""},{"$f":"IFERROR(VLOOKUP($C$4&\"_\"&$A15,post_wise,COLUMNS($A$5:P13),0),\"\")","v":""},{"$f":"IFERROR(VLOOKUP($C$4&\"_\"&$A15,post_wise,COLUMNS($A$5:Q13),0),\"\")","v":""},{"$f":"IFERROR(VLOOKUP($C$4&\"_\"&$A15,post_wise,COLUMNS($A$5:R13),0),\"\")","v":""},{"$f":"IFERROR(VLOOKUP($C$4&\"_\"&$A15,post_wise,COLUMNS($A$5:S13),0),\"\")","v":""},{"$f":"IFERROR(VLOOKUP($C$4&\"_\"&$A15,post_wise,COLUMNS($A$5:T13),0),\"\")","v":""},{"$f":"IFERROR(VLOOKUP($C$4&\"_\"&$A15,post_wise,COLUMNS($A$5:U13),0),\"\")","v":""},{"$f":"IFERROR(VLOOKUP($C$4&\"_\"&$A15,post_wise,COLUMNS($A$5:V13),0),\"\")","v":""},{"$f":"IFERROR(VLOOKUP($C$4&\"_\"&$A15,post_wise,COLUMNS($A$5:W13),0),\"\")","v":""},{"$f":"IFERROR(VLOOKUP($C$4&\"_\"&$A15,post_wise,COLUMNS($A$5:X13),0),\"\")","v":""},{"$f":"IFERROR(VLOOKUP($C$4&\"_\"&$A15,post_wise,COLUMNS($A$5:Y13),0),\"\")","v":""},{"$f":"IFERROR(VLOOKUP($C$4&\"_\"&$A15,post_wise,COLUMNS($A$5:Z13),0),\"\")","v":""},{"$f":"IFERROR(VLOOKUP($C$4&\"_\"&$A15,post_wise,COLUMNS($A$5:AA13),0),\"\")","v":""},{"$f":"IFERROR(VLOOKUP($C$4&\"_\"&$A15,post_wise,COLUMNS($A$5:AB13),0),\"\")","v":""},{"$f":"IFERROR(VLOOKUP($C$4&\"_\"&$A15,post_wise,COLUMNS($A$5:AC13),0),\"\")","v":""},{"$f":"IFERROR(VLOOKUP($C$4&\"_\"&$A15,post_wise,COLUMNS($A$5:AD13),0),\"\")","v":""},{"$f":"IFERROR(VLOOKUP($C$4&\"_\"&$A15,post_wise,COLUMNS($A$5:AE13),0),\"\")","v":""},{"$f":"IFERROR(VLOOKUP($C$4&\"_\"&$A15,post_wise,COLUMNS($A$5:AF13),0),\"\")","v":""},{"$f":"IFERROR(VLOOKUP($C$4&\"_\"&$A15,post_wise,COLUMNS($A$5:AG13),0),\"\")","v":""},{"$f":"IFERROR(VLOOKUP($C$4&\"_\"&$A15,post_wise,COLUMNS($A$5:AH13),0),\"\")","v":""},{"$f":"IFERROR(VLOOKUP($C$4&\"_\"&$A15,post_wise,COLUMNS($A$5:AI13),0),\"\")","v":""},{"$f":"IFERROR(VLOOKUP($C$4&\"_\"&$A15,post_wise,COLUMNS($A$5:AJ13),0),\"\")","v":""}]
[10,{"$f":"IFERROR(VLOOKUP($C$4&\"_\"&$A16,post_wise,COLUMNS($A$5:C14),0),\"\")","v":""},{"$f":"IFERROR(VLOOKUP($C$4&\"_\"&$A16,post_wise,COLUMNS($A$5:D14),0),\"\")","v":""},{"$f":"IFERROR(VLOOKUP($C$4&\"_\"&$A16,post_wise,COLUMNS($A$5:E14),0),\"\")","v":""},{"$f":"IFERROR(VLOOKUP($C$4&\"_\"&$A16,post_wise,COLUMNS($A$5:F14),0),\"\")","v":""},{"$f":"IFERROR(VLOOKUP($C$4&\"_\"&$A16,post_wise,COLUMNS($A$5:G14),0),\"\")","v":""},{"$f":"IFERROR(VLOOKUP($C$4&\"_\"&$A16,post_wise,COLUMNS($A$5:H14),0),\"\")","v":""},{"$f":"IFERROR(VLOOKUP($C$4&\"_\"&$A16,post_wise,COLUMNS($A$5:I14),0),\"\")","v":""},{"$f":"IFERROR(VLOOKUP($C$4&\"_\"&$A16,post_wise,COLUMNS($A$5:J14),0),\"\")","v":""},{"$f":"IFERROR(VLOOKUP($C$4&\"_\"&$A16,post_wise,COLUMNS($A$5:K14),0),\"\")","v":""},{"$f":"IFERROR(VLOOKUP($C$4&\"_\"&$A16,post_wise,COLUMNS($A$5:L14),0),\"\")","v":""},{"$f":"IFERROR(VLOOKUP($C$4&\"_\"&$A16,post_wise,COLUMNS($A$5:M14),0),\"\")","v":""},{"$f":"IFERROR(VLOOKUP($C$4&\"_\"&$A16,post_wise,COLUMNS($A$5:N14),0),\"\")","v":""},{"$f":"IFERROR(VLOOKUP($C$4&\"_\"&$A16,post_wise,COLUMNS($A$5:O14),0),\"\")","v":""},{"$f":"IFERROR(VLOOKUP($C$4&\"_\"&$A16,post_wise,COLUMNS($A$5:P14),0),\"\")","v":""},{"$f":"IFERROR(VLOOKUP($C$4&\"_\"&$A16,post_wise,COLUMNS($A$5:Q14),0),\"\")","v":""},{"$f":"IFERROR(VLOOKUP($C$4&\"_\"&$A16,post_wise,COLUMNS($A$5:R14),0),\"\")","v":""},{"$f":"IFERROR(VLOOKUP($C$4&\"_\"&$A16,post_wise,COLUMNS($A$5:S14),0),\"\")","v":""},{"$f":"IFERROR(VLOOKUP($C$4&\"_\"&$A16,post_wise,COLUMNS($A$5:T14),0),\"\")","v":""},{"$f":"IFERROR(VLOOKUP($C$4&\"_\"&$A16,post_wise,COLUMNS($A$5:U14),0),\"\")","v":""},{"$f":"IFERROR(VLOOKUP($C$4&\"_\"&$A16,post_wise,COLUMNS($A$5:V14),0),\"\")","v":""},{"$f":"IFERROR(VLOOKUP($C$4&\"_\"&$A16,post_wise,COLUMNS($A$5:W14),0),\"\")","v":""},{"$f":"IFERROR(VLOOKUP($C$4&\"_\"&$A16,post_wise,COLUMNS($A$5:X14),0),\"\")","v":""},{"$f":"IFERROR(VLOOKUP($C$4&\"_\"&$A16,post_wise,COLUMNS($A$5:Y14),0),\"\")","v":""},{"$f":"IFERROR(VLOOKUP($C$4&\"_\"&$A16,post_wise,COLUMNS($A$5:Z14),0),\"\")","v":""},{"$f":"IFERROR(VLOOKUP($C$4&\"_\"&$A16,post_wise,COLUMNS($A$5:AA14),0),\"\")","v":""},{"$f":"IFERROR(VLOOKUP($C$4&\"_\"&$A16,post_wise,COLUMNS($A$5:AB14),0),\"\")","v":""},{"$f":"IFERROR(VLOOKUP($C$4&\"_\"&$A16,post_wise,COLUMNS($A$5:AC14),0),\"\")","v":""},{"$f":"IFERROR(VLOOKUP($C$4&\"_\"&$A16,post_wise,COLUMNS($A$5:AD14),0),\"\")","v":""},{"$f":"IFERROR(VLOOKUP($C$4&\"_\"&$A16,post_wise,COLUMNS($A$5:AE14),0),\"\")","v":""},{"$f":"IFERROR(VLOOKUP($C$4&\"_\"&$A16,post_wise,COLUMNS($A$5:AF14),0),\"\")","v":""},{"$f":"IFERROR(VLOOKUP($C$4&\"_\"&$A16,post_wise,COLUMNS($A$5:AG14),0),\"\")","v":""},{"$f":"IFERROR(VLOOKUP($C$4&\"_\"&$A16,post_wise,COLUMNS($A$5:AH14),0),\"\")","v":""},{"$f":"IFERROR(VLOOKUP($C$4&\"_\"&$A16,post_wise,COLUMNS($A$5:AI14),0),\"\")","v":""},{"$f":"IFERROR(VLOOKUP($C$4&\"_\"&$A16,post_wise,COLUMNS($A$5:AJ14),0),\"\")","v":""}]
[11,{"$f":"IFERROR(VLOOKUP($C$4&\"_\"&$A17,post_wise,COLUMNS($A$5:C15),0),\"\")","v":""},{"$f":"IFERROR(VLOOKUP($C$4&\"_\"&$A17,post_wise,COLUMNS($A$5:D15),0),\"\")","v":""},{"$f":"IFERROR(VLOOKUP($C$4&\"_\"&$A17,post_wise,COLUMNS($A$5:E15),0),\"\")","v":""},{"$f":"IFERROR(VLOOKUP($C$4&\"_\"&$A17,post_wise,COLUMNS($A$5:F15),0),\"\")","v":""},{"$f":"IFERROR(VLOOKUP($C$4&\"_\"&$A17,post_wise,COLUMNS($A$5:G15),0),\"\")","v":""},{"$f":"IFERROR(VLOOKUP($C$4&\"_\"&$A17,post_wise,COLUMNS($A$5:H15),0),\"\")","v":""},{"$f":"IFERROR(VLOOKUP($C$4&\"_\"&$A17,post_wise,COLUMNS($A$5:I15),0),\"\")","v":""},{"$f":"IFERROR(VLOOKUP($C$4&\"_\"&$A17,post_wise,COLUMNS($A$5:J15),0),\"\")","v":""},{"$f":"IFERROR(VLOOKUP($C$4&\"_\"&$A17,post_wise,COLUMNS($A$5:K15),0),\"\")","v":""},{"$f":"IFERROR(VLOOKUP($C$4&\"_\"&$A17,post_wise,COLUMNS($A$5:L15),0),\"\")","v":""},{"$f":"IFERROR(VLOOKUP($C$4&\"_\"&$A17,post_wise,COLUMNS($A$5:M15),0),\"\")","v":""},{"$f":"IFERROR(VLOOKUP($C$4&\"_\"&$A17,post_wise,COLUMNS($A$5:N15),0),\"\")","v":""},{"$f":"IFERROR(VLOOKUP($C$4&\"_\"&$A17,post_wise,COLUMNS($A$5:O15),0),\"\")","v":""},{"$f":"IFERROR(VLOOKUP($C$4&\"_\"&$A17,post_wise,COLUMNS($A$5:P15),0),\"\")","v":""},{"$f":"IFERROR(VLOOKUP($C$4&\"_\"&$A17,post_wise,COLUMNS($A$5:Q15),0),\"\")","v":""},{"$f":"IFERROR(VLOOKUP($C$4&\"_\"&$A17,post_wise,COLUMNS($A$5:R15),0),\"\")","v":""},{"$f":"IFERROR(VLOOKUP($C$4&\"_\"&$A17,post_wise,COLUMNS($A$5:S15),0),\"\")","v":""},{"$f":"IFERROR(VLOOKUP($C$4&\"_\"&$A17,post_wise,COLUMNS($A$5:T15),0),\"\")","v":""},{"$f":"IFERROR(VLOOKUP($C$4&\"_\"&$A17,post_wise,COLUMNS($A$5:U15),0),\"\")","v":""},{"$f":"IFERROR(VLOOKUP($C$4&\"_\"&$A17,post_wise,COLUMNS($A$5:V15),0),\"\")","v":""},{"$f":"IFERROR(VLOOKUP($C$4&\"_\"&$A17,post_wise,COLUMNS($A$5:W15),0),\"\")","v":""},{"$f":"IFERROR(VLOOKUP($C$4&\"_\"&$A17,post_wise,COLUMNS($A$5:X15),0),\"\")","v":""},{"$f":"IFERROR(VLOOKUP($C$4&\"_\"&$A17,post_wise,COLUMNS($A$5:Y15),0),\"\")","v":""},{"$f":"IFERROR(VLOOKUP($C$4&\"_\"&$A17,post_wise,COLUMNS($A$5:Z15),0),\"\")","v":""},{"$f":"IFERROR(VLOOKUP($C$4&\"_\"&$A17,post_wise,COLUMNS($A$5:AA15),0),\"\")","v":""},{"$f":"IFERROR(VLOOKUP($C$4&\"_\"&$A17,post_wise,COLUMNS($A$5:AB15),0),\"\")","v":""},{"$f":"IFERROR(VLOOKUP($C$4&\"_\"&$A17,post_wise,COLUMNS($A$5:AC15),0),\"\")","v":""},{"$f":"IFERROR(VLOOKUP($C$4&\"_\"&$A17,post_wise,COLUMNS($A$5:AD15),0),\"\")","v":""},{"$f":"IFERROR(VLOOKUP($C$4&\"_\"&$A17,post_wise,COLUMNS($A$5:AE15),0),\"\")","v":""},{"$f":"IFERROR(VLOOKUP($C$4&\"_\"&$A17,post_wise,COLUMNS($A$5:AF15),0),\"\")","v":""},{"$f":"IFERROR(VLOOKUP($C$4&\"_\"&$A17,post_wise,COLUMNS($A$5:AG15),0),\"\")","v":""},{"$f":"IFERROR(VLOOKUP($C$4&\"_\"&$A17,post_wise,COLUMNS($A$5:AH15),0),\"\")","v":""},{"$f":"IFERROR(VLOOKUP($C$4&\"_\"&$A17,post_wise,COLUMNS($A$5:AI15),0),\"\")","v":""},{"$f":"IFERROR(VLOOKUP($C$4&\"_\"&$A17,post_wise,COLUMNS($A$5:AJ15),0),\"\")","v":""}]
[12,{"$f":"IFERROR(VLOOKUP($C$4&\"_\"&$A18,post_wise,COLUMNS($A$5:C16),0),\"\")","v":""},{"$f":"IFERROR(VLOOKUP($C$4&\"_\"&$A18,post_wise,COLUMNS($A$5:D16),0),\"\")","v":""},{"$f":"IFERROR(VLOOKUP($C$4&\"_\"&$A18,post_wise,COLUMNS($A$5:E16),0),\"\")","v":""},{"$f":"IFERROR(VLOOKUP($C$4&\"_\"&$A18,post_wise,COLUMNS($A$5:F16),0),\"\")","v":""},{"$f":"IFERROR(VLOOKUP($C$4&\"_\"&$A18,post_wise,COLUMNS($A$5:G16),0),\"\")","v":""},{"$f":"IFERROR(VLOOKUP($C$4&\"_\"&$A18,post_wise,COLUMNS($A$5:H16),0),\"\")","v":""},{"$f":"IFERROR(VLOOKUP($C$4&\"_\"&$A18,post_wise,COLUMNS($A$5:I16),0),\"\")","v":""},{"$f":"IFERROR(VLOOKUP($C$4&\"_\"&$A18,post_wise,COLUMNS($A$5:J16),0),\"\")","v":""},{"$f":"IFERROR(VLOOKUP($C$4&\"_\"&$A18,post_wise,COLUMNS($A$5:K16),0),\"\")","v":""},{"$f":"IFERROR(VLOOKUP($C$4&\"_\"&$A18,post_wise,COLUMNS($A$5:L16),0),\"\")","v":""},{"$f":"IFERROR(VLOOKUP($C$4&\"_\"&$A18,post_wise,COLUMNS($A$5:M16),0),\"\")","v":""},{"$f":"IFERROR(VLOOKUP($C$4&\"_\"&$A18,post_wise,COLUMNS($A$5:N16),0),\"\")","v":""},{"$f":"IFERROR(VLOOKUP($C$4&\"_\"&$A18,post_wise,COLUMNS($A$5:O16),0),\"\")","v":""},{"$f":"IFERROR(VLOOKUP($C$4&\"_\"&$A18,post_wise,COLUMNS($A$5:P16),0),\"\")","v":""},{"$f":"IFERROR(VLOOKUP($C$4&\"_\"&$A18,post_wise,COLUMNS($A$5:Q16),0),\"\")","v":""},{"$f":"IFERROR(VLOOKUP($C$4&\"_\"&$A18,post_wise,COLUMNS($A$5:R16),0),\"\")","v":""},{"$f":"IFERROR(VLOOKUP($C$4&\"_\"&$A18,post_wise,COLUMNS($A$5:S16),0),\"\")","v":""},{"$f":"IFERROR(VLOOKUP($C$4&\"_\"&$A18,post_wise,COLUMNS($A$5:T16),0),\"\")","v":""},{"$f":"IFERROR(VLOOKUP($C$4&\"_\"&$A18,post_wise,COLUMNS($A$5:U16),0),\"\")","v":""},{"$f":"IFERROR(VLOOKUP($C$4&\"_\"&$A18,post_wise,COLUMNS($A$5:V16),0),\"\")","v":""},{"$f":"IFERROR(VLOOKUP($C$4&\"_\"&$A18,post_wise,COLUMNS($A$5:W16),0),\"\")","v":""},{"$f":"IFERROR(VLOOKUP($C$4&\"_\"&$A18,post_wise,COLUMNS($A$5:X16),0),\"\")","v":""},{"$f":"IFERROR(VLOOKUP($C$4&\"_\"&$A18,post_wise,COLUMNS($A$5:Y16),0),\"\")","v":""},{"$f":"IFERROR(VLOOKUP($C$4&\"_\"&$A18,post_wise,COLUMNS($A$5:Z16),0),\"\")","v":""},{"$f":"IFERROR(VLOOKUP($C$4&\"_\"&$A18,post_wise,COLUMNS($A$5:AA16),0),\"\")","v":""},{"$f":"IFERROR(VLOOKUP($C$4&\"_\"&$A18,post_wise,COLUMNS($A$5:AB16),0),\"\")","v":""},{"$f":"IFERROR(VLOOKUP($C$4&\"_\"&$A18,post_wise,COLUMNS($A$5:AC16),0),\"\")","v":""},{"$f":"IFERROR(VLOOKUP($C$4&\"_\"&$A18,post_wise,COLUMNS($A$5:AD16),0),\"\")","v":""},{"$f":"IFERROR(VLOOKUP($C$4&\"_\"&$A18,post_wise,COLUMNS($A$5:AE16),0),\"\")","v":""},{"$f":"IFERROR(VLOOKUP($C$4&\"_\"&$A18,post_wise,COLUMNS($A$5:AF16),0),\"\")","v":""},{"$f":"IFERROR(VLOOKUP($C$4&\"_\"&$A18,post_wise,COLUMNS($A$5:AG16),0),\"\")","v":""},{"$f":"IFERROR(VLOOKUP($C$4&\"_\"&$A18,post_wise,COLUMNS($A$5:AH16),0),\"\")","v":""},{"$f":"IFERROR(VLOOKUP($C$4&\"_\"&$A18,post_wise,COLUMNS($A$5:AI16),0),\"\")","v":""},{"$f":"IFERROR(VLOOKUP($C$4&\"_\"&$A18,post_wise,COLUMNS($A$5:AJ16),0),\"\")","v":""}]
[13,{"$f":"IFERROR(VLOOKUP($C$4&\"_\"&$A19,post_wise,COLUMNS($A$5:C17),0),\"\")","v":""},{"$f":"IFERROR(VLOOKUP($C$4&\"_\"&$A19,post_wise,COLUMNS($A$5:D17),0),\"\")","v":""},{"$f":"IFERROR(VLOOKUP($C$4&\"_\"&$A19,post_wise,COLUMNS($A$5:E17),0),\"\")","v":""},{"$f":"IFERROR(VLOOKUP($C$4&\"_\"&$A19,post_wise,COLUMNS($A$5:F17),0),\"\")","v":""},{"$f":"IFERROR(VLOOKUP($C$4&\"_\"&$A19,post_wise,COLUMNS($A$5:G17),0),\"\")","v":""},{"$f":"IFERROR(VLOOKUP($C$4&\"_\"&$A19,post_wise,COLUMNS($A$5:H17),0),\"\")","v":""},{"$f":"IFERROR(VLOOKUP($C$4&\"_\"&$A19,post_wise,COLUMNS($A$5:I17),0),\"\")","v":""},{"$f":"IFERROR(VLOOKUP($C$4&\"_\"&$A19,post_wise,COLUMNS($A$5:J17),0),\"\")","v":""},{"$f":"IFERROR(VLOOKUP($C$4&\"_\"&$A19,post_wise,COLUMNS($A$5:K17),0),\"\")","v":""},{"$f":"IFERROR(VLOOKUP($C$4&\"_\"&$A19,post_wise,COLUMNS($A$5:L17),0),\"\")","v":""},{"$f":"IFERROR(VLOOKUP($C$4&\"_\"&$A19,post_wise,COLUMNS($A$5:M17),0),\"\")","v":""},{"$f":"IFERROR(VLOOKUP($C$4&\"_\"&$A19,post_wise,COLUMNS($A$5:N17),0),\"\")","v":""},{"$f":"IFERROR(VLOOKUP($C$4&\"_\"&$A19,post_wise,COLUMNS($A$5:O17),0),\"\")","v":""},{"$f":"IFERROR(VLOOKUP($C$4&\"_\"&$A19,post_wise,COLUMNS($A$5:P17),0),\"\")","v":""},{"$f":"IFERROR(VLOOKUP($C$4&\"_\"&$A19,post_wise,COLUMNS($A$5:Q17),0),\"\")","v":""},{"$f":"IFERROR(VLOOKUP($C$4&\"_\"&$A19,post_wise,COLUMNS($A$5:R17),0),\"\")","v":""},{"$f":"IFERROR(VLOOKUP($C$4&\"_\"&$A19,post_wise,COLUMNS($A$5:S17),0),\"\")","v":""},{"$f":"IFERROR(VLOOKUP($C$4&\"_\"&$A19,post_wise,COLUMNS($A$5:T17),0),\"\")","v":""},{"$f":"IFERROR(VLOOKUP($C$4&\"_\"&$A19,post_wise,COLUMNS($A$5:U17),0),\"\")","v":""},{"$f":"IFERROR(VLOOKUP($C$4&\"_\"&$A19,post_wise,COLUMNS($A$5:V17),0),\"\")","v":""},{"$f":"IFERROR(VLOOKUP($C$4&\"_\"&$A19,post_wise,COLUMNS($A$5:W17),0),\"\")","v":""},{"$f":"IFERROR(VLOOKUP($C$4&\"_\"&$A19,post_wise,COLUMNS($A$5:X17),0),\"\")","v":""},{"$f":"IFERROR(VLOOKUP($C$4&\"_\"&$A19,post_wise,COLUMNS($A$5:Y17),0),\"\")","v":""},{"$f":"IFERROR(VLOOKUP($C$4&\"_\"&$A19,post_wise,COLUMNS($A$5:Z17),0),\"\")","v":""},{"$f":"IFERROR(VLOOKUP($C$4&\"_\"&$A19,post_wise,COLUMNS($A$5:AA17),0),\"\")","v":""},{"$f":"IFERROR(VLOOKUP($C$4&\"_\"&$A19,post_wise,COLUMNS($A$5:AB17),0),\"\")","v":""},{"$f":"IFERROR(VLOOKUP($C$4&\"_\"&$A19,post_wise,COLUMNS($A$5:AC17),0),\"\")","v":""},{"$f":"IFERROR(VLOOKUP($C$4&\"_\"&$A19,post_wise,COLUMNS($A$5:AD17),0),\"\")","v":""},{"$f":"IFERROR(VLOOKUP($C$4&\"_\"&$A19,post_wise,COLUMNS($A$5:AE17),0),\"\")","v":""},{"$f":"IFERROR(VLOOKUP($C$4&\"_\"&$A19,post_wise,COLUMNS($A$5:AF17),0),\"\")","v":""},{"$f":"IFERROR(VLOOKUP($C$4&\"_\"&$A19,post_wise,COLUMNS($A$5:AG17),0),\"\")","v":""},{"$f":"IFERROR(VLOOKUP($C$4&\"_\"&$A19,post_wise,COLUMNS($A$5:AH17),0),\"\")","v":""},{"$f":"IFERROR(VLOOKUP($C$4&\"_\"&$A19,post_wise,COLUMNS($A$5:AI17),0),\"\")","v":""},{"$f":"IFERROR(VLOOKUP($C$4&\"_\"&$A19,post_wise,COLUMNS($A$5:AJ17),0),\"\")","v":""}]
[14,{"$f":"IFERROR(VLOOKUP($C$4&\"_\"&$A20,post_wise,COLUMNS($A$5:C18),0),\"\")","v":""},{"$f":"IFERROR(VLOOKUP($C$4&\"_\"&$A20,post_wise,COLUMNS($A$5:D18),0),\"\")","v":""},{"$f":"IFERROR(VLOOKUP($C$4&\"_\"&$A20,post_wise,COLUMNS($A$5:E18),0),\"\")","v":""},{"$f":"IFERROR(VLOOKUP($C$4&\"_\"&$A20,post_wise,COLUMNS($A$5:F18),0),\"\")","v":""},{"$f":"IFERROR(VLOOKUP($C$4&\"_\"&$A20,post_wise,COLUMNS($A$5:G18),0),\"\")","v":""},{"$f":"IFERROR(VLOOKUP($C$4&\"_\"&$A20,post_wise,COLUMNS($A$5:H18),0),\"\")","v":""},{"$f":"IFERROR(VLOOKUP($C$4&\"_\"&$A20,post_wise,COLUMNS($A$5:I18),0),\"\")","v":""},{"$f":"IFERROR(VLOOKUP($C$4&\"_\"&$A20,post_wise,COLUMNS($A$5:J18),0),\"\")","v":""},{"$f":"IFERROR(VLOOKUP($C$4&\"_\"&$A20,post_wise,COLUMNS($A$5:K18),0),\"\")","v":""},{"$f":"IFERROR(VLOOKUP($C$4&\"_\"&$A20,post_wise,COLUMNS($A$5:L18),0),\"\")","v":""},{"$f":"IFERROR(VLOOKUP($C$4&\"_\"&$A20,post_wise,COLUMNS($A$5:M18),0),\"\")","v":""},{"$f":"IFERROR(VLOOKUP($C$4&\"_\"&$A20,post_wise,COLUMNS($A$5:N18),0),\"\")","v":""},{"$f":"IFERROR(VLOOKUP($C$4&\"_\"&$A20,post_wise,COLUMNS($A$5:O18),0),\"\")","v":""},{"$f":"IFERROR(VLOOKUP($C$4&\"_\"&$A20,post_wise,COLUMNS($A$5:P18),0),\"\")","v":""},{"$f":"IFERROR(VLOOKUP($C$4&\"_\"&$A20,post_wise,COLUMNS($A$5:Q18),0),\"\")","v":""},{"$f":"IFERROR(VLOOKUP($C$4&\"_\"&$A20,post_wise,COLUMNS($A$5:R18),0),\"\")","v":""},{"$f":"IFERROR(VLOOKUP($C$4&\"_\"&$A20,post_wise,COLUMNS($A$5:S18),0),\"\")","v":""},{"$f":"IFERROR(VLOOKUP($C$4&\"_\"&$A20,post_wise,COLUMNS($A$5:T18),0),\"\")","v":""},{"$f":"IFERROR(VLOOKUP($C$4&\"_\"&$A20,post_wise,COLUMNS($A$5:U18),0),\"\")","v":""},{"$f":"IFERROR(VLOOKUP($C$4&\"_\"&$A20,post_wise,COLUMNS($A$5:V18),0),\"\")","v":""},{"$f":"IFERROR(VLOOKUP($C$4&\"_\"&$A20,post_wise,COLUMNS($A$5:W18),0),\"\")","v":""},{"$f":"IFERROR(VLOOKUP($C$4&\"_\"&$A20,post_wise,COLUMNS($A$5:X18),0),\"\")","v":""},{"$f":"IFERROR(VLOOKUP($C$4&\"_\"&$A20,post_wise,COLUMNS($A$5:Y18),0),\"\")","v":""},{"$f":"IFERROR(VLOOKUP($C$4&\"_\"&$A20,post_wise,COLUMNS($A$5:Z18),0),\"\")","v":""},{"$f":"IFERROR(VLOOKUP($C$4&\"_\"&$A20,post_wise,COLUMNS($A$5:AA18),0),\"\")","v":""},{"$f":"IFERROR(VLOOKUP($C$4&\"_\"&$A20,post_wise,COLUMNS($A$5:AB18),0),\"\")","v":""},{"$f":"IFERROR(VLOOKUP($C$4&\"_\"&$A20,post_wise,COLUMNS($A$5:AC18),0),\"\")","v":""},{"$f":"IFERROR(VLOOKUP($C$4&\"_\"&$A20,post_wise,COLUMNS($A$5:AD18),0),\"\")","v":""},{"$f":"IFERROR(VLOOKUP($C$4&\"_\"&$A20,post_wise,COLUMNS($A$5:AE18),0),\"\")","v":""},{"$f":"IFERROR(VLOOKUP($C$4&\"_\"&$A20,post_wise,COLUMNS($A$5:AF18),0),\"\")","v":""},{"$f":"IFERROR(VLOOKUP($C$4&\"_\"&$A20,post_wise,COLUMNS($A$5:AG18),0),\"\")","v":""},{"$f":"IFERROR(VLOOKUP($C$4&\"_\"&$A20,post_wise,COLUMNS($A$5:AH18),0),\"\")","v":""},{"$f":"IFERROR(VLOOKUP($C$4&\"_\"&$A20,post_wise,COLUMNS($A$5:AI18),0),\"\")","v":""},{"$f":"IFERROR(VLOOKUP($C$4&\"_\"&$A20,post_wise,COLUMNS($A$5:AJ18),0),\"\")","v":""}]
[15,{"$f":"IFERROR(VLOOKUP($C$4&\"_\"&$A21,post_wise,COLUMNS($A$5:C19),0),\"\")","v":""},{"$f":"IFERROR(VLOOKUP($C$4&\"_\"&$A21,post_wise,COLUMNS($A$5:D19),0),\"\")","v":""},{"$f":"IFERROR(VLOOKUP($C$4&\"_\"&$A21,post_wise,COLUMNS($A$5:E19),0),\"\")","v":""},{"$f":"IFERROR(VLOOKUP($C$4&\"_\"&$A21,post_wise,COLUMNS($A$5:F19),0),\"\")","v":""},{"$f":"IFERROR(VLOOKUP($C$4&\"_\"&$A21,post_wise,COLUMNS($A$5:G19),0),\"\")","v":""},{"$f":"IFERROR(VLOOKUP($C$4&\"_\"&$A21,post_wise,COLUMNS($A$5:H19),0),\"\")","v":""},{"$f":"IFERROR(VLOOKUP($C$4&\"_\"&$A21,post_wise,COLUMNS($A$5:I19),0),\"\")","v":""},{"$f":"IFERROR(VLOOKUP($C$4&\"_\"&$A21,post_wise,COLUMNS($A$5:J19),0),\"\")","v":""},{"$f":"IFERROR(VLOOKUP($C$4&\"_\"&$A21,post_wise,COLUMNS($A$5:K19),0),\"\")","v":""},{"$f":"IFERROR(VLOOKUP($C$4&\"_\"&$A21,post_wise,COLUMNS($A$5:L19),0),\"\")","v":""},{"$f":"IFERROR(VLOOKUP($C$4&\"_\"&$A21,post_wise,COLUMNS($A$5:M19),0),\"\")","v":""},{"$f":"IFERROR(VLOOKUP($C$4&\"_\"&$A21,post_wise,COLUMNS($A$5:N19),0),\"\")","v":""},{"$f":"IFERROR(VLOOKUP($C$4&\"_\"&$A21,post_wise,COLUMNS($A$5:O19),0),\"\")","v":""},{"$f":"IFERROR(VLOOKUP($C$4&\"_\"&$A21,post_wise,COLUMNS($A$5:P19),0),\"\")","v":""},{"$f":"IFERROR(VLOOKUP($C$4&\"_\"&$A21,post_wise,COLUMNS($A$5:Q19),0),\"\")","v":""},{"$f":"IFERROR(VLOOKUP($C$4&\"_\"&$A21,post_wise,COLUMNS($A$5:R19),0),\"\")","v":""},{"$f":"IFERROR(VLOOKUP($C$4&\"_\"&$A21,post_wise,COLUMNS($A$5:S19),0),\"\")","v":""},{"$f":"IFERROR(VLOOKUP($C$4&\"_\"&$A21,post_wise,COLUMNS($A$5:T19),0),\"\")","v":""},{"$f":"IFERROR(VLOOKUP($C$4&\"_\"&$A21,post_wise,COLUMNS($A$5:U19),0),\"\")","v":""},{"$f":"IFERROR(VLOOKUP($C$4&\"_\"&$A21,post_wise,COLUMNS($A$5:V19),0),\"\")","v":""},{"$f":"IFERROR(VLOOKUP($C$4&\"_\"&$A21,post_wise,COLUMNS($A$5:W19),0),\"\")","v":""},{"$f":"IFERROR(VLOOKUP($C$4&\"_\"&$A21,post_wise,COLUMNS($A$5:X19),0),\"\")","v":""},{"$f":"IFERROR(VLOOKUP($C$4&\"_\"&$A21,post_wise,COLUMNS($A$5:Y19),0),\"\")","v":""},{"$f":"IFERROR(VLOOKUP($C$4&\"_\"&$A21,post_wise,COLUMNS($A$5:Z19),0),\"\")","v":""},{"$f":"IFERROR(VLOOKUP($C$4&\"_\"&$A21,post_wise,COLUMNS($A$5:AA19),0),\"\")","v":""},{"$f":"IFERROR(VLOOKUP($C$4&\"_\"&$A21,post_wise,COLUMNS($A$5:AB19),0),\"\")","v":""},{"$f":"IFERROR(VLOOKUP($C$4&\"_\"&$A21,post_wise,COLUMNS($A$5:AC19),0),\"\")","v":""},{"$f":"IFERROR(VLOOKUP($C$4&\"_\"&$A21,post_wise,COLUMNS($A$5:AD19),0),\"\")","v":""},{"$f":"IFERROR(VLOOKUP($C$4&\"_\"&$A21,post_wise,COLUMNS($A$5:AE19),0),\"\")","v":""},{"$f":"IFERROR(VLOOKUP($C$4&\"_\"&$A21,post_wise,COLUMNS($A$5:AF19),0),\"\")","v":""},{"$f":"IFERROR(VLOOKUP($C$4&\"_\"&$A21,post_wise,COLUMNS($A$5:AG19),0),\"\")","v":""},{"$f":"IFERROR(VLOOKUP($C$4&\"_\"&$A21,post_wise,COLUMNS($A$5:AH19),0),\"\")","v":""},{"$f":"IFERROR(VLOOKUP($C$4&\"_\"&$A21,post_wise,COLUMNS($A$5:AI19),0),\"\")","v":""},{"$f":"IFERROR(VLOOKUP($C$4&\"_\"&$A21,post_wise,COLUMNS($A$5:AJ19),0),\"\")","v":""}]
[16,{"$f":"IFERROR(VLOOKUP($C$4&\"_\"&$A22,post_wise,COLUMNS($A$5:C20),0),\"\")","v":""},{"$f":"IFERROR(VLOOKUP($C$4&\"_\"&$A22,post_wise,COLUMNS($A$5:D20),0),\"\")","v":""},{"$f":"IFERROR(VLOOKUP($C$4&\"_\"&$A22,post_wise,COLUMNS($A$5:E20),0),\"\")","v":""},{"$f":"IFERROR(VLOOKUP($C$4&\"_\"&$A22,post_wise,COLUMNS($A$5:F20),0),\"\")","v":""},{"$f":"IFERROR(VLOOKUP($C$4&\"_\"&$A22,post_wise,COLUMNS($A$5:G20),0),\"\")","v":""},{"$f":"IFERROR(VLOOKUP($C$4&\"_\"&$A22,post_wise,COLUMNS($A$5:H20),0),\"\")","v":""},{"$f":"IFERROR(VLOOKUP($C$4&\"_\"&$A22,post_wise,COLUMNS($A$5:I20),0),\"\")","v":""},{"$f":"IFERROR(VLOOKUP($C$4&\"_\"&$A22,post_wise,COLUMNS($A$5:J20),0),\"\")","v":""},{"$f":"IFERROR(VLOOKUP($C$4&\"_\"&$A22,post_wise,COLUMNS($A$5:K20),0),\"\")","v":""},{"$f":"IFERROR(VLOOKUP($C$4&\"_\"&$A22,post_wise,COLUMNS($A$5:L20),0),\"\")","v":""},{"$f":"IFERROR(VLOOKUP($C$4&\"_\"&$A22,post_wise,COLUMNS($A$5:M20),0),\"\")","v":""},{"$f":"IFERROR(VLOOKUP($C$4&\"_\"&$A22,post_wise,COLUMNS($A$5:N20),0),\"\")","v":""},{"$f":"IFERROR(VLOOKUP($C$4&\"_\"&$A22,post_wise,COLUMNS($A$5:O20),0),\"\")","v":""},{"$f":"IFERROR(VLOOKUP($C$4&\"_\"&$A22,post_wise,COLUMNS($A$5:P20),0),\"\")","v":""},{"$f":"IFERROR(VLOOKUP($C$4&\"_\"&$A22,post_wise,COLUMNS($A$5:Q20),0),\"\")","v":""},{"$f":"IFERROR(VLOOKUP($C$4&\"_\"&$A22,post_wise,COLUMNS($A$5:R20),0),\"\")","v":""},{"$f":"IFERROR(VLOOKUP($C$4&\"_\"&$A22,post_wise,COLUMNS($A$5:S20),0),\"\")","v":""},{"$f":"IFERROR(VLOOKUP($C$4&\"_\"&$A22,post_wise,COLUMNS($A$5:T20),0),\"\")","v":""},{"$f":"IFERROR(VLOOKUP($C$4&\"_\"&$A22,post_wise,COLUMNS($A$5:U20),0),\"\")","v":""},{"$f":"IFERROR(VLOOKUP($C$4&\"_\"&$A22,post_wise,COLUMNS($A$5:V20),0),\"\")","v":""},{"$f":"IFERROR(VLOOKUP($C$4&\"_\"&$A22,post_wise,COLUMNS($A$5:W20),0),\"\")","v":""},{"$f":"IFERROR(VLOOKUP($C$4&\"_\"&$A22,post_wise,COLUMNS($A$5:X20),0),\"\")","v":""},{"$f":"IFERROR(VLOOKUP($C$4&\"_\"&$A22,post_wise,COLUMNS($A$5:Y20),0),\"\")","v":""},{"$f":"IFERROR(VLOOKUP($C$4&\"_\"&$A22,post_wise,COLUMNS($A$5:Z20),0),\"\")","v":""},{"$f":"IFERROR(VLOOKUP($C$4&\"_\"&$A22,post_wise,COLUMNS($A$5:AA20),0),\"\")","v":""},{"$f":"IFERROR(VLOOKUP($C$4&\"_\"&$A22,post_wise,COLUMNS($A$5:AB20),0),\"\")","v":""},{"$f":"IFERROR(VLOOKUP($C$4&\"_\"&$A22,post_wise,COLUMNS($A$5:AC20),0),\"\")","v":""},{"$f":"IFERROR(VLOOKUP($C$4&\"_\"&$A22,post_wise,COLUMNS($A$5:AD20),0),\"\")","v":""},{"$f":"IFERROR(VLOOKUP($C$4&\"_\"&$A22,post_wise,COLUMNS($A$5:AE20),0),\"\")","v":""},{"$f":"IFERROR(VLOOKUP($C$4&\"_\"&$A22,post_wise,COLUMNS($A$5:AF20),0),\"\")","v":""},{"$f":"IFERROR(VLOOKUP($C$4&\"_\"&$A22,post_wise,COLUMNS($A$5:AG20),0),\"\")","v":""},{"$f":"IFERROR(VLOOKUP($C$4&\"_\"&$A22,post_wise,COLUMNS($A$5:AH20),0),\"\")","v":""},{"$f":"IFERROR(VLOOKUP($C$4&\"_\"&$A22,post_wise,COLUMNS($A$5:AI20),0),\"\")","v":""},{"$f":"IFERROR(VLOOKUP($C$4&\"_\"&$A22,post_wise,COLUMNS($A$5:AJ20),0),\"\")","v":""}]
[17,{"$f":"IFERROR(VLOOKUP($C$4&\"_\"&$A23,post_wise,COLUMNS($A$5:C21),0),\"\")","v":""},{"$f":"IFERROR(VLOOKUP($C$4&\"_\"&$A23,post_wise,COLUMNS($A$5:D21),0),\"\")","v":""},{"$f":"IFERROR(VLOOKUP($C$4&\"_\"&$A23,post_wise,COLUMNS($A$5:E21),0),\"\")","v":""},{"$f":"IFERROR(VLOOKUP($C$4&\"_\"&$A23,post_wise,COLUMNS($A$5:F21),0),\"\")","v":""},{"$f":"IFERROR(VLOOKUP($C$4&\"_\"&$A23,post_wise,COLUMNS($A$5:G21),0),\"\")","v":""},{"$f":"IFERROR(VLOOKUP($C$4&\"_\"&$A23,post_wise,COLUMNS($A$5:H21),0),\"\")","v":""},{"$f":"IFERROR(VLOOKUP($C$4&\"_\"&$A23,post_wise,COLUMNS($A$5:I21),0),\"\")","v":""},{"$f":"IFERROR(VLOOKUP($C$4&\"_\"&$A23,post_wise,COLUMNS($A$5:J21),0),\"\")","v":""},{"$f":"IFERROR(VLOOKUP($C$4&\"_\"&$A23,post_wise,COLUMNS($A$5:K21),0),\"\")","v":""},{"$f":"IFERROR(VLOOKUP($C$4&\"_\"&$A23,post_wise,COLUMNS($A$5:L21),0),\"\")","v":""},{"$f":"IFERROR(VLOOKUP($C$4&\"_\"&$A23,post_wise,COLUMNS($A$5:M21),0),\"\")","v":""},{"$f":"IFERROR(VLOOKUP($C$4&\"_\"&$A23,post_wise,COLUMNS($A$5:N21),0),\"\")","v":""},{"$f":"IFERROR(VLOOKUP($C$4&\"_\"&$A23,post_wise,COLUMNS($A$5:O21),0),\"\")","v":""},{"$f":"IFERROR(VLOOKUP($C$4&\"_\"&$A23,post_wise,COLUMNS($A$5:P21),0),\"\")","v":""},{"$f":"IFERROR(VLOOKUP($C$4&\"_\"&$A23,post_wise,COLUMNS($A$5:Q21),0),\"\")","v":""},{"$f":"IFERROR(VLOOKUP($C$4&\"_\"&$A23,post_wise,COLUMNS($A$5:R21),0),\"\")","v":""},{"$f":"IFERROR(VLOOKUP($C$4&\"_\"&$A23,post_wise,COLUMNS($A$5:S21),0),\"\")","v":""},{"$f":"IFERROR(VLOOKUP($C$4&\"_\"&$A23,post_wise,COLUMNS($A$5:T21),0),\"\")","v":""},{"$f":"IFERROR(VLOOKUP($C$4&\"_\"&$A23,post_wise,COLUMNS($A$5:U21),0),\"\")","v":""},{"$f":"IFERROR(VLOOKUP($C$4&\"_\"&$A23,post_wise,COLUMNS($A$5:V21),0),\"\")","v":""},{"$f":"IFERROR(VLOOKUP($C$4&\"_\"&$A23,post_wise,COLUMNS($A$5:W21),0),\"\")","v":""},{"$f":"IFERROR(VLOOKUP($C$4&\"_\"&$A23,post_wise,COLUMNS($A$5:X21),0),\"\")","v":""},{"$f":"IFERROR(VLOOKUP($C$4&\"_\"&$A23,post_wise,COLUMNS($A$5:Y21),0),\"\")","v":""},{"$f":"IFERROR(VLOOKUP($C$4&\"_\"&$A23,post_wise,COLUMNS($A$5:Z21),0),\"\")","v":""},{"$f":"IFERROR(VLOOKUP($C$4&\"_\"&$A23,post_wise,COLUMNS($A$5:AA21),0),\"\")","v":""},{"$f":"IFERROR(VLOOKUP($C$4&\"_\"&$A23,post_wise,COLUMNS($A$5:AB21),0),\"\")","v":""},{"$f":"IFERROR(VLOOKUP($C$4&\"_\"&$A23,post_wise,COLUMNS($A$5:AC21),0),\"\")","v":""},{"$f":"IFERROR(VLOOKUP($C$4&\"_\"&$A23,post_wise,COLUMNS($A$5:AD21),0),\"\")","v":""},{"$f":"IFERROR(VLOOKUP($C$4&\"_\"&$A23,post_wise,COLUMNS($A$5:AE21),0),\"\")","v":""},{"$f":"IFERROR(VLOOKUP($C$4&\"_\"&$A23,post_wise,COLUMNS($A$5:AF21),0),\"\")","v":""},{"$f":"IFERROR(VLOOKUP($C$4&\"_\"&$A23,post_wise,COLUMNS($A$5:AG21),0),\"\")","v":""},{"$f":"IFERROR(VLOOKUP($C$4&\"_\"&$A23,post_wise,COLUMNS($A$5:AH21),0),\"\")","v":""},{"$f":"IFERROR(VLOOKUP($C$4&\"_\"&$A23,post_wise,COLUMNS($A$5:AI21),0),\"\")","v":""},{"$f":"IFERROR(VLOOKUP($C$4&\"_\"&$A23,post_wise,COLUMNS($A$5:AJ21),0),\"\")","v":""}]
[18,{"$f":"IFERROR(VLOOKUP($C$4&\"_\"&$A24,post_wise,COLUMNS($A$5:C22),0),\"\")","v":""},{"$f":"IFERROR(VLOOKUP($C$4&\"_\"&$A24,post_wise,COLUMNS($A$5:D22),0),\"\")","v":""},{"$f":"IFERROR(VLOOKUP($C$4&\"_\"&$A24,post_wise,COLUMNS($A$5:E22),0),\"\")","v":""},{"$f":"IFERROR(VLOOKUP($C$4&\"_\"&$A24,post_wise,COLUMNS($A$5:F22),0),\"\")","v":""},{"$f":"IFERROR(VLOOKUP($C$4&\"_\"&$A24,post_wise,COLUMNS($A$5:G22),0),\"\")","v":""},{"$f":"IFERROR(VLOOKUP($C$4&\"_\"&$A24,post_wise,COLUMNS($A$5:H22),0),\"\")","v":""},{"$f":"IFERROR(VLOOKUP($C$4&\"_\"&$A24,post_wise,COLUMNS($A$5:I22),0),\"\")","v":""},{"$f":"IFERROR(VLOOKUP($C$4&\"_\"&$A24,post_wise,COLUMNS($A$5:J22),0),\"\")","v":""},{"$f":"IFERROR(VLOOKUP($C$4&\"_\"&$A24,post_wise,COLUMNS($A$5:K22),0),\"\")","v":""},{"$f":"IFERROR(VLOOKUP($C$4&\"_\"&$A24,post_wise,COLUMNS($A$5:L22),0),\"\")","v":""},{"$f":"IFERROR(VLOOKUP($C$4&\"_\"&$A24,post_wise,COLUMNS($A$5:M22),0),\"\")","v":""},{"$f":"IFERROR(VLOOKUP($C$4&\"_\"&$A24,post_wise,COLUMNS($A$5:N22),0),\"\")","v":""},{"$f":"IFERROR(VLOOKUP($C$4&\"_\"&$A24,post_wise,COLUMNS($A$5:O22),0),\"\")","v":""},{"$f":"IFERROR(VLOOKUP($C$4&\"_\"&$A24,post_wise,COLUMNS($A$5:P22),0),\"\")","v":""},{"$f":"IFERROR(VLOOKUP($C$4&\"_\"&$A24,post_wise,COLUMNS($A$5:Q22),0),\"\")","v":""},{"$f":"IFERROR(VLOOKUP($C$4&\"_\"&$A24,post_wise,COLUMNS($A$5:R22),0),\"\")","v":""},{"$f":"IFERROR(VLOOKUP($C$4&\"_\"&$A24,post_wise,COLUMNS($A$5:S22),0),\"\")","v":""},{"$f":"IFERROR(VLOOKUP($C$4&\"_\"&$A24,post_wise,COLUMNS($A$5:T22),0),\"\")","v":""},{"$f":"IFERROR(VLOOKUP($C$4&\"_\"&$A24,post_wise,COLUMNS($A$5:U22),0),\"\")","v":""},{"$f":"IFERROR(VLOOKUP($C$4&\"_\"&$A24,post_wise,COLUMNS($A$5:V22),0),\"\")","v":""},{"$f":"IFERROR(VLOOKUP($C$4&\"_\"&$A24,post_wise,COLUMNS($A$5:W22),0),\"\")","v":""},{"$f":"IFERROR(VLOOKUP($C$4&\"_\"&$A24,post_wise,COLUMNS($A$5:X22),0),\"\")","v":""},{"$f":"IFERROR(VLOOKUP($C$4&\"_\"&$A24,post_wise,COLUMNS($A$5:Y22),0),\"\")","v":""},{"$f":"IFERROR(VLOOKUP($C$4&\"_\"&$A24,post_wise,COLUMNS($A$5:Z22),0),\"\")","v":""},{"$f":"IFERROR(VLOOKUP($C$4&\"_\"&$A24,post_wise,COLUMNS($A$5:AA22),0),\"\")","v":""},{"$f":"IFERROR(VLOOKUP($C$4&\"_\"&$A24,post_wise,COLUMNS($A$5:AB22),0),\"\")","v":""},{"$f":"IFERROR(VLOOKUP($C$4&\"_\"&$A24,post_wise,COLUMNS($A$5:AC22),0),\"\")","v":""},{"$f":"IFERROR(VLOOKUP($C$4&\"_\"&$A24,post_wise,COLUMNS($A$5:AD22),0),\"\")","v":""},{"$f":"IFERROR(VLOOKUP($C$4&\"_\"&$A24,post_wise,COLUMNS($A$5:AE22),0),\"\")","v":""},{"$f":"IFERROR(VLOOKUP($C$4&\"_\"&$A24,post_wise,COLUMNS($A$5:AF22),0),\"\")","v":""},{"$f":"IFERROR(VLOOKUP($C$4&\"_\"&$A24,post_wise,COLUMNS($A$5:AG22),0),\"\")","v":""},{"$f":"IFERROR(VLOOKUP($C$4&\"_\"&$A24,post_wise,COLUMNS($A$5:AH22),0),\"\")","v":""},{"$f":"IFERROR(VLOOKUP($C$4&\"_\"&$A24,post_wise,COLUMNS($A$5:AI22),0),\"\")","v":""},{"$f":"IFERROR(VLOOKUP($C$4&\"_\"&$A24,post_wise,COLUMNS($A$5:AJ22),0),\"\")","v":""}]
[19,{"$f":"IFERROR(VLOOKUP($C$4&\"_\"&$A25,post_wise,COLUMNS($A$5:C23),0),\"\")","v":""},{"$f":"IFERROR(VLOOKUP($C$4&\"_\"&$A25,post_wise,COLUMNS($A$5:D23),0),\"\")","v":""},{"$f":"IFERROR(VLOOKUP($C$4&\"_\"&$A25,post_wise,COLUMNS($A$5:E23),0),\"\")","v":""},{"$f":"IFERROR(VLOOKUP($C$4&\"_\"&$A25,post_wise,COLUMNS($A$5:F23),0),\"\")","v":""},{"$f":"IFERROR(VLOOKUP($C$4&\"_\"&$A25,post_wise,COLUMNS($A$5:G23),0),\"\")","v":""},{"$f":"IFERROR(VLOOKUP($C$4&\"_\"&$A25,post_wise,COLUMNS($A$5:H23),0),\"\")","v":""},{"$f":"IFERROR(VLOOKUP($C$4&\"_\"&$A25,post_wise,COLUMNS($A$5:I23),0),\"\")","v":""},{"$f":"IFERROR(VLOOKUP($C$4&\"_\"&$A25,post_wise,COLUMNS($A$5:J23),0),\"\")","v":""},{"$f":"IFERROR(VLOOKUP($C$4&\"_\"&$A25,post_wise,COLUMNS($A$5:K23),0),\"\")","v":""},{"$f":"IFERROR(VLOOKUP($C$4&\"_\"&$A25,post_wise,COLUMNS($A$5:L23),0),\"\")","v":""},{"$f":"IFERROR(VLOOKUP($C$4&\"_\"&$A25,post_wise,COLUMNS($A$5:M23),0),\"\")","v":""},{"$f":"IFERROR(VLOOKUP($C$4&\"_\"&$A25,post_wise,COLUMNS($A$5:N23),0),\"\")","v":""},{"$f":"IFERROR(VLOOKUP($C$4&\"_\"&$A25,post_wise,COLUMNS($A$5:O23),0),\"\")","v":""},{"$f":"IFERROR(VLOOKUP($C$4&\"_\"&$A25,post_wise,COLUMNS($A$5:P23),0),\"\")","v":""},{"$f":"IFERROR(VLOOKUP($C$4&\"_\"&$A25,post_wise,COLUMNS($A$5:Q23),0),\"\")","v":""},{"$f":"IFERROR(VLOOKUP($C$4&\"_\"&$A25,post_wise,COLUMNS($A$5:R23),0),\"\")","v":""},{"$f":"IFERROR(VLOOKUP($C$4&\"_\"&$A25,post_wise,COLUMNS($A$5:S23),0),\"\")","v":""},{"$f":"IFERROR(VLOOKUP($C$4&\"_\"&$A25,post_wise,COLUMNS($A$5:T23),0),\"\")","v":""},{"$f":"IFERROR(VLOOKUP($C$4&\"_\"&$A25,post_wise,COLUMNS($A$5:U23),0),\"\")","v":""},{"$f":"IFERROR(VLOOKUP($C$4&\"_\"&$A25,post_wise,COLUMNS($A$5:V23),0),\"\")","v":""},{"$f":"IFERROR(VLOOKUP($C$4&\"_\"&$A25,post_wise,COLUMNS($A$5:W23),0),\"\")","v":""},{"$f":"IFERROR(VLOOKUP($C$4&\"_\"&$A25,post_wise,COLUMNS($A$5:X23),0),\"\")","v":""},{"$f":"IFERROR(VLOOKUP($C$4&\"_\"&$A25,post_wise,COLUMNS($A$5:Y23),0),\"\")","v":""},{"$f":"IFERROR(VLOOKUP($C$4&\"_\"&$A25,post_wise,COLUMNS($A$5:Z23),0),\"\")","v":""},{"$f":"IFERROR(VLOOKUP($C$4&\"_\"&$A25,post_wise,COLUMNS($A$5:AA23),0),\"\")","v":""},{"$f":"IFERROR(VLOOKUP($C$4&\"_\"&$A25,post_wise,COLUMNS($A$5:AB23),0),\"\")","v":""},{"$f":"IFERROR(VLOOKUP($C$4&\"_\"&$A25,post_wise,COLUMNS($A$5:AC23),0),\"\")","v":""},{"$f":"IFERROR(VLOOKUP($C$4&\"_\"&$A25,post_wise,COLUMNS($A$5:AD23),0),\"\")","v":""},{"$f":"IFERROR(VLOOKUP($C$4&\"_\"&$A25,post_wise,COLUMNS($A$5:AE23),0),\"\")","v":""},{"$f":"IFERROR(VLOOKUP($C$4&\"_\"&$A25,post_wise,COLUMNS($A$5:AF23),0),\"\")","v":""},{"$f":"IFERROR(VLOOKUP($C$4&\"_\"&$A25,post_wise,COLUMNS($A$5:AG23),0),\"\")","v":""},{"$f":"IFERROR(VLOOKUP($C$4&\"_\"&$A25,post_wise,COLUMNS($A$5:AH23),0),\"\")","v":""},{"$f":"IFERROR(VLOOKUP($C$4&\"_\"&$A25,post_wise,COLUMNS($A$5:AI23),0),\"\")","v":""},{"$f":"IFERROR(VLOOKUP($C$4&\"_\"&$A25,post_wise,COLUMNS($A$5:AJ23),0),\"\")","v":""}]
[20,{"$f":"IFERROR(VLOOKUP($C$4&\"_\"&$A26,post_wise,COLUMNS($A$5:C24),0),\"\")","v":""},{"$f":"IFERROR(VLOOKUP($C$4&\"_\"&$A26,post_wise,COLUMNS($A$5:D24),0),\"\")","v":""},{"$f":"IFERROR(VLOOKUP($C$4&\"_\"&$A26,post_wise,COLUMNS($A$5:E24),0),\"\")","v":""},{"$f":"IFERROR(VLOOKUP($C$4&\"_\"&$A26,post_wise,COLUMNS($A$5:F24),0),\"\")","v":""},{"$f":"IFERROR(VLOOKUP($C$4&\"_\"&$A26,post_wise,COLUMNS($A$5:G24),0),\"\")","v":""},{"$f":"IFERROR(VLOOKUP($C$4&\"_\"&$A26,post_wise,COLUMNS($A$5:H24),0),\"\")","v":""},{"$f":"IFERROR(VLOOKUP($C$4&\"_\"&$A26,post_wise,COLUMNS($A$5:I24),0),\"\")","v":""},{"$f":"IFERROR(VLOOKUP($C$4&\"_\"&$A26,post_wise,COLUMNS($A$5:J24),0),\"\")","v":""},{"$f":"IFERROR(VLOOKUP($C$4&\"_\"&$A26,post_wise,COLUMNS($A$5:K24),0),\"\")","v":""},{"$f":"IFERROR(VLOOKUP($C$4&\"_\"&$A26,post_wise,COLUMNS($A$5:L24),0),\"\")","v":""},{"$f":"IFERROR(VLOOKUP($C$4&\"_\"&$A26,post_wise,COLUMNS($A$5:M24),0),\"\")","v":""},{"$f":"IFERROR(VLOOKUP($C$4&\"_\"&$A26,post_wise,COLUMNS($A$5:N24),0),\"\")","v":""},{"$f":"IFERROR(VLOOKUP($C$4&\"_\"&$A26,post_wise,COLUMNS($A$5:O24),0),\"\")","v":""},{"$f":"IFERROR(VLOOKUP($C$4&\"_\"&$A26,post_wise,COLUMNS($A$5:P24),0),\"\")","v":""},{"$f":"IFERROR(VLOOKUP($C$4&\"_\"&$A26,post_wise,COLUMNS($A$5:Q24),0),\"\")","v":""},{"$f":"IFERROR(VLOOKUP($C$4&\"_\"&$A26,post_wise,COLUMNS($A$5:R24),0),\"\")","v":""},{"$f":"IFERROR(VLOOKUP($C$4&\"_\"&$A26,post_wise,COLUMNS($A$5:S24),0),\"\")","v":""},{"$f":"IFERROR(VLOOKUP($C$4&\"_\"&$A26,post_wise,COLUMNS($A$5:T24),0),\"\")","v":""},{"$f":"IFERROR(VLOOKUP($C$4&\"_\"&$A26,post_wise,COLUMNS($A$5:U24),0),\"\")","v":""},{"$f":"IFERROR(VLOOKUP($C$4&\"_\"&$A26,post_wise,COLUMNS($A$5:V24),0),\"\")","v":""},{"$f":"IFERROR(VLOOKUP($C$4&\"_\"&$A26,post_wise,COLUMNS($A$5:W24),0),\"\")","v":""},{"$f":"IFERROR(VLOOKUP($C$4&\"_\"&$A26,post_wise,COLUMNS($A$5:X24),0),\"\")","v":""},{"$f":"IFERROR(VLOOKUP($C$4&\"_\"&$A26,post_wise,COLUMNS($A$5:Y24),0),\"\")","v":""},{"$f":"IFERROR(VLOOKUP($C$4&\"_\"&$A26,post_wise,COLUMNS($A$5:Z24),0),\"\")","v":""},{"$f":"IFERROR(VLOOKUP($C$4&\"_\"&$A26,post_wise,COLUMNS($A$5:AA24),0),\"\")","v":""},{"$f":"IFERROR(VLOOKUP($C$4&\"_\"&$A26,post_wise,COLUMNS($A$5:AB24),0),\"\")","v":""},{"$f":"IFERROR(VLOOKUP($C$4&\"_\"&$A26,post_wise,COLUMNS($A$5:AC24),0),\"\")","v":""},{"$f":"IFERROR(VLOOKUP($C$4&\"_\"&$A26,post_wise,COLUMNS($A$5:AD24),0),\"\")","v":""},{"$f":"IFERROR(VLOOKUP($C$4&\"_\"&$A26,post_wise,COLUMNS($A$5:AE24),0),\"\")","v":""},{"$f":"IFERROR(VLOOKUP($C$4&\"_\"&$A26,post_wise,COLUMNS($A$5:AF24),0),\"\")","v":""},{"$f":"IFERROR(VLOOKUP($C$4&\"_\"&$A26,post_wise,COLUMNS($A$5:AG24),0),\"\")","v":""},{"$f":"IFERROR(VLOOKUP($C$4&\"_\"&$A26,post_wise,COLUMNS($A$5:AH24),0),\"\")","v":""},{"$f":"IFERROR(VLOOKUP($C$4&\"_\"&$A26,post_wise,COLUMNS($A$5:AI24),0),\"\")","v":""},{"$f":"IFERROR(VLOOKUP($C$4&\"_\"&$A26,post_wise,COLUMNS($A$5:AJ24),0),\"\")","v":""}]
[21,{"$f":"IFERROR(VLOOKUP($C$4&\"_\"&$A27,post_wise,COLUMNS($A$5:C25),0),\"\")","v":""},{"$f":"IFERROR(VLOOKUP($C$4&\"_\"&$A27,post_wise,COLUMNS($A$5:D25),0),\"\")","v":""},{"$f":"IFERROR(VLOOKUP($C$4&\"_\"&$A27,post_wise,COLUMNS($A$5:E25),0),\"\")","v":""},{"$f":"IFERROR(VLOOKUP($C$4&\"_\"&$A27,post_wise,COLUMNS($A$5:F25),0),\"\")","v":""},{"$f":"IFERROR(VLOOKUP($C$4&\"_\"&$A27,post_wise,COLUMNS($A$5:G25),0),\"\")","v":""},{"$f":"IFERROR(VLOOKUP($C$4&\"_\"&$A27,post_wise,COLUMNS($A$5:H25),0),\"\")","v":""},{"$f":"IFERROR(VLOOKUP($C$4&\"_\"&$A27,post_wise,COLUMNS($A$5:I25),0),\"\")","v":""},{"$f":"IFERROR(VLOOKUP($C$4&\"_\"&$A27,post_wise,COLUMNS($A$5:J25),0),\"\")","v":""},{"$f":"IFERROR(VLOOKUP($C$4&\"_\"&$A27,post_wise,COLUMNS($A$5:K25),0),\"\")","v":""},{"$f":"IFERROR(VLOOKUP($C$4&\"_\"&$A27,post_wise,COLUMNS($A$5:L25),0),\"\")","v":""},{"$f":"IFERROR(VLOOKUP($C$4&\"_\"&$A27,post_wise,COLUMNS($A$5:M25),0),\"\")","v":""},{"$f":"IFERROR(VLOOKUP($C$4&\"_\"&$A27,post_wise,COLUMNS($A$5:N25),0),\"\")","v":""},{"$f":"IFERROR(VLOOKUP($C$4&\"_\"&$A27,post_wise,COLUMNS($A$5:O25),0),\"\")","v":""},{"$f":"IFERROR(VLOOKUP($C$4&\"_\"&$A27,post_wise,COLUMNS($A$5:P25),0),\"\")","v":""},{"$f":"IFERROR(VLOOKUP($C$4&\"_\"&$A27,post_wise,COLUMNS($A$5:Q25),0),\"\")","v":""},{"$f":"IFERROR(VLOOKUP($C$4&\"_\"&$A27,post_wise,COLUMNS($A$5:R25),0),\"\")","v":""},{"$f":"IFERROR(VLOOKUP($C$4&\"_\"&$A27,post_wise,COLUMNS($A$5:S25),0),\"\")","v":""},{"$f":"IFERROR(VLOOKUP($C$4&\"_\"&$A27,post_wise,COLUMNS($A$5:T25),0),\"\")","v":""},{"$f":"IFERROR(VLOOKUP($C$4&\"_\"&$A27,post_wise,COLUMNS($A$5:U25),0),\"\")","v":""},{"$f":"IFERROR(VLOOKUP($C$4&\"_\"&$A27,post_wise,COLUMNS($A$5:V25),0),\"\")","v":""},{"$f":"IFERROR(VLOOKUP($C$4&\"_\"&$A27,post_wise,COLUMNS($A$5:W25),0),\"\")","v":""},{"$f":"IFERROR(VLOOKUP($C$4&\"_\"&$A27,post_wise,COLUMNS($A$5:X25),0),\"\")","v":""},{"$f":"IFERROR(VLOOKUP($C$4&\"_\"&$A27,post_wise,COLUMNS($A$5:Y25),0),\"\")","v":""},{"$f":"IFERROR(VLOOKUP($C$4&\"_\"&$A27,post_wise,COLUMNS($A$5:Z25),0),\"\")","v":""},{"$f":"IFERROR(VLOOKUP($C$4&\"_\"&$A27,post_wise,COLUMNS($A$5:AA25),0),\"\")","v":""},{"$f":"IFERROR(VLOOKUP($C$4&\"_\"&$A27,post_wise,COLUMNS($A$5:AB25),0),\"\")","v":""},{"$f":"IFERROR(VLOOKUP($C$4&\"_\"&$A27,post_wise,COLUMNS($A$5:AC25),0),\"\")","v":""},{"$f":"IFERROR(VLOOKUP($C$4&\"_\"&$A27,post_wise,COLUMNS($A$5:AD25),0),\"\")","v":""},{"$f":"IFERROR(VLOOKUP($C$4&\"_\"&$A27,post_wise,COLUMNS($A$5:AE25),0),\"\")","v":""},{"$f":"IFERROR(VLOOKUP($C$4&\"_\"&$A27,post_wise,COLUMNS($A$5:AF25),0),\"\")","v":""},{"$f":"IFERROR(VLOOKUP($C$4&\"_\"&$A27,post_wise,COLUMNS($A$5:AG25),0),\"\")","v":""},{"$f":"IFERROR(VLOOKUP($C$4&\"_\"&$A27,post_wise,COLUMNS($A$5:AH25),0),\"\")","v":""},{"$f":"IFERROR(VLOOKUP($C$4&\"_\"&$A27,post_wise,COLUMNS($A$5:AI25),0),\"\")","v":""},{"$f":"IFERROR(VLOOKUP($C$4&\"_\"&$A27,post_wise,COLUMNS($A$5:AJ25),0),\"\")","v":""}]
[22,{"$f":"IFERROR(VLOOKUP($C$4&\"_\"&$A28,post_wise,COLUMNS($A$5:C26),0),\"\")","v":""},{"$f":"IFERROR(VLOOKUP($C$4&\"_\"&$A28,post_wise,COLUMNS($A$5:D26),0),\"\")","v":""},{"$f":"IFERROR(VLOOKUP($C$4&\"_\"&$A28,post_wise,COLUMNS($A$5:E26),0),\"\")","v":""},{"$f":"IFERROR(VLOOKUP($C$4&\"_\"&$A28,post_wise,COLUMNS($A$5:F26),0),\"\")","v":""},{"$f":"IFERROR(VLOOKUP($C$4&\"_\"&$A28,post_wise,COLUMNS($A$5:G26),0),\"\")","v":""},{"$f":"IFERROR(VLOOKUP($C$4&\"_\"&$A28,post_wise,COLUMNS($A$5:H26),0),\"\")","v":""},{"$f":"IFERROR(VLOOKUP($C$4&\"_\"&$A28,post_wise,COLUMNS($A$5:I26),0),\"\")","v":""},{"$f":"IFERROR(VLOOKUP($C$4&\"_\"&$A28,post_wise,COLUMNS($A$5:J26),0),\"\")","v":""},{"$f":"IFERROR(VLOOKUP($C$4&\"_\"&$A28,post_wise,COLUMNS($A$5:K26),0),\"\")","v":""},{"$f":"IFERROR(VLOOKUP($C$4&\"_\"&$A28,post_wise,COLUMNS($A$5:L26),0),\"\")","v":""},{"$f":"IFERROR(VLOOKUP($C$4&\"_\"&$A28,post_wise,COLUMNS($A$5:M26),0),\"\")","v":""},{"$f":"IFERROR(VLOOKUP($C$4&\"_\"&$A28,post_wise,COLUMNS($A$5:N26),0),\"\")","v":""},{"$f":"IFERROR(VLOOKUP($C$4&\"_\"&$A28,post_wise,COLUMNS($A$5:O26),0),\"\")","v":""},{"$f":"IFERROR(VLOOKUP($C$4&\"_\"&$A28,post_wise,COLUMNS($A$5:P26),0),\"\")","v":""},{"$f":"IFERROR(VLOOKUP($C$4&\"_\"&$A28,post_wise,COLUMNS($A$5:Q26),0),\"\")","v":""},{"$f":"IFERROR(VLOOKUP($C$4&\"_\"&$A28,post_wise,COLUMNS($A$5:R26),0),\"\")","v":""},{"$f":"IFERROR(VLOOKUP($C$4&\"_\"&$A28,post_wise,COLUMNS($A$5:S26),0),\"\")","v":""},{"$f":"IFERROR(VLOOKUP($C$4&\"_\"&$A28,post_wise,COLUMNS($A$5:T26),0),\"\")","v":""},{"$f":"IFERROR(VLOOKUP($C$4&\"_\"&$A28,post_wise,COLUMNS($A$5:U26),0),\"\")","v":""},{"$f":"IFERROR(VLOOKUP($C$4&\"_\"&$A28,post_wise,COLUMNS($A$5:V26),0),\"\")","v":""},{"$f":"IFERROR(VLOOKUP($C$4&\"_\"&$A28,post_wise,COLUMNS($A$5:W26),0),\"\")","v":""},{"$f":"IFERROR(VLOOKUP($C$4&\"_\"&$A28,post_wise,COLUMNS($A$5:X26),0),\"\")","v":""},{"$f":"IFERROR(VLOOKUP($C$4&\"_\"&$A28,post_wise,COLUMNS($A$5:Y26),0),\"\")","v":""},{"$f":"IFERROR(VLOOKUP($C$4&\"_\"&$A28,post_wise,COLUMNS($A$5:Z26),0),\"\")","v":""},{"$f":"IFERROR(VLOOKUP($C$4&\"_\"&$A28,post_wise,COLUMNS($A$5:AA26),0),\"\")","v":""},{"$f":"IFERROR(VLOOKUP($C$4&\"_\"&$A28,post_wise,COLUMNS($A$5:AB26),0),\"\")","v":""},{"$f":"IFERROR(VLOOKUP($C$4&\"_\"&$A28,post_wise,COLUMNS($A$5:AC26),0),\"\")","v":""},{"$f":"IFERROR(VLOOKUP($C$4&\"_\"&$A28,post_wise,COLUMNS($A$5:AD26),0),\"\")","v":""},{"$f":"IFERROR(VLOOKUP($C$4&\"_\"&$A28,post_wise,COLUMNS($A$5:AE26),0),\"\")","v":""},{"$f":"IFERROR(VLOOKUP($C$4&\"_\"&$A28,post_wise,COLUMNS($A$5:AF26),0),\"\")","v":""},{"$f":"IFERROR(VLOOKUP($C$4&\"_\"&$A28,post_wise,COLUMNS($A$5:AG26),0),\"\")","v":""},{"$f":"IFERROR(VLOOKUP($C$4&\"_\"&$A28,post_wise,COLUMNS($A$5:AH26),0),\"\")","v":""},{"$f":"IFERROR(VLOOKUP($C$4&\"_\"&$A28,post_wise,COLUMNS($A$5:AI26),0),\"\")","v":""},{"$f":"IFERROR(VLOOKUP($C$4&\"_\"&$A28,post_wise,COLUMNS($A$5:AJ26),0),\"\")","v":""}]
[23,{"$f":"IFERROR(VLOOKUP($C$4&\"_\"&$A29,post_wise,COLUMNS($A$5:C27),0),\"\")","v":""},{"$f":"IFERROR(VLOOKUP($C$4&\"_\"&$A29,post_wise,COLUMNS($A$5:D27),0),\"\")","v":""},{"$f":"IFERROR(VLOOKUP($C$4&\"_\"&$A29,post_wise,COLUMNS($A$5:E27),0),\"\")","v":""},{"$f":"IFERROR(VLOOKUP($C$4&\"_\"&$A29,post_wise,COLUMNS($A$5:F27),0),\"\")","v":""},{"$f":"IFERROR(VLOOKUP($C$4&\"_\"&$A29,post_wise,COLUMNS($A$5:G27),0),\"\")","v":""},{"$f":"IFERROR(VLOOKUP($C$4&\"_\"&$A29,post_wise,COLUMNS($A$5:H27),0),\"\")","v":""},{"$f":"IFERROR(VLOOKUP($C$4&\"_\"&$A29,post_wise,COLUMNS($A$5:I27),0),\"\")","v":""},{"$f":"IFERROR(VLOOKUP($C$4&\"_\"&$A29,post_wise,COLUMNS($A$5:J27),0),\"\")","v":""},{"$f":"IFERROR(VLOOKUP($C$4&\"_\"&$A29,post_wise,COLUMNS($A$5:K27),0),\"\")","v":""},{"$f":"IFERROR(VLOOKUP($C$4&\"_\"&$A29,post_wise,COLUMNS($A$5:L27),0),\"\")","v":""},{"$f":"IFERROR(VLOOKUP($C$4&\"_\"&$A29,post_wise,COLUMNS($A$5:M27),0),\"\")","v":""},{"$f":"IFERROR(VLOOKUP($C$4&\"_\"&$A29,post_wise,COLUMNS($A$5:N27),0),\"\")","v":""},{"$f":"IFERROR(VLOOKUP($C$4&\"_\"&$A29,post_wise,COLUMNS($A$5:O27),0),\"\")","v":""},{"$f":"IFERROR(VLOOKUP($C$4&\"_\"&$A29,post_wise,COLUMNS($A$5:P27),0),\"\")","v":""},{"$f":"IFERROR(VLOOKUP($C$4&\"_\"&$A29,post_wise,COLUMNS($A$5:Q27),0),\"\")","v":""},{"$f":"IFERROR(VLOOKUP($C$4&\"_\"&$A29,post_wise,COLUMNS($A$5:R27),0),\"\")","v":""},{"$f":"IFERROR(VLOOKUP($C$4&\"_\"&$A29,post_wise,COLUMNS($A$5:S27),0),\"\")","v":""},{"$f":"IFERROR(VLOOKUP($C$4&\"_\"&$A29,post_wise,COLUMNS($A$5:T27),0),\"\")","v":""},{"$f":"IFERROR(VLOOKUP($C$4&\"_\"&$A29,post_wise,COLUMNS($A$5:U27),0),\"\")","v":""},{"$f":"IFERROR(VLOOKUP($C$4&\"_\"&$A29,post_wise,COLUMNS($A$5:V27),0),\"\")","v":""},{"$f":"IFERROR(VLOOKUP($C$4&\"_\"&$A29,post_wise,COLUMNS($A$5:W27),0),\"\")","v":""},{"$f":"IFERROR(VLOOKUP($C$4&\"_\"&$A29,post_wise,COLUMNS($A$5:X27),0),\"\")","v":""},{"$f":"IFERROR(VLOOKUP($C$4&\"_\"&$A29,post_wise,COLUMNS($A$5:Y27),0),\"\")","v":""},{"$f":"IFERROR(VLOOKUP($C$4&\"_\"&$A29,post_wise,COLUMNS($A$5:Z27),0),\"\")","v":""},{"$f":"IFERROR(VLOOKUP($C$4&\"_\"&$A29,post_wise,COLUMNS($A$5:AA27),0),\"\")","v":""},{"$f":"IFERROR(VLOOKUP($C$4&\"_\"&$A29,post_wise,COLUMNS($A$5:AB27),0),\"\")","v":""},{"$f":"IFERROR(VLOOKUP($C$4&\"_\"&$A29,post_wise,COLUMNS($A$5:AC27),0),\"\")","v":""},{"$f":"IFERROR(VLOOKUP($C$4&\"_\"&$A29,post_wise,COLUMNS($A$5:AD27),0),\"\")","v":""},{"$f":"IFERROR(VLOOKUP($C$4&\"_\"&$A29,post_wise,COLUMNS($A$5:AE27),0),\"\")","v":""},{"$f":"IFERROR(VLOOKUP($C$4&\"_\"&$A29,post_wise,COLUMNS($A$5:AF27),0),\"\")","v":""},{"$f":"IFERROR(VLOOKUP($C$4&\"_\"&$A29,post_wise,COLUMNS($A$5:AG27),0),\"\")","v":""},{"$f":"IFERROR(VLOOKUP($C$4&\"_\"&$A29,post_wise,COLUMNS($A$5:AH27),0),\"\")","v":""},{"$f":"IFERROR(VLOOKUP($C$4&\"_\"&$A29,post_wise,COLUMNS($A$5:AI27),0),\"\")","v":""},{"$f":"IFERROR(VLOOKUP($C$4&\"_\"&$A29,post_wise,COLUMNS($A$5:AJ27),0),\"\")","v":""}]
[24,{"$f":"IFERROR(VLOOKUP($C$4&\"_\"&$A30,post_wise,COLUMNS($A$5:C28),0),\"\")","v":""},{"$f":"IFERROR(VLOOKUP($C$4&\"_\"&$A30,post_wise,COLUMNS($A$5:D28),0),\"\")","v":""},{"$f":"IFERROR(VLOOKUP($C$4&\"_\"&$A30,post_wise,COLUMNS($A$5:E28),0),\"\")","v":""},{"$f":"IFERROR(VLOOKUP($C$4&\"_\"&$A30,post_wise,COLUMNS($A$5:F28),0),\"\")","v":""},{"$f":"IFERROR(VLOOKUP($C$4&\"_\"&$A30,post_wise,COLUMNS($A$5:G28),0),\"\")","v":""},{"$f":"IFERROR(VLOOKUP($C$4&\"_\"&$A30,post_wise,COLUMNS($A$5:H28),0),\"\")","v":""},{"$f":"IFERROR(VLOOKUP($C$4&\"_\"&$A30,post_wise,COLUMNS($A$5:I28),0),\"\")","v":""},{"$f":"IFERROR(VLOOKUP($C$4&\"_\"&$A30,post_wise,COLUMNS($A$5:J28),0),\"\")","v":""},{"$f":"IFERROR(VLOOKUP($C$4&\"_\"&$A30,post_wise,COLUMNS($A$5:K28),0),\"\")","v":""},{"$f":"IFERROR(VLOOKUP($C$4&\"_\"&$A30,post_wise,COLUMNS($A$5:L28),0),\"\")","v":""},{"$f":"IFERROR(VLOOKUP($C$4&\"_\"&$A30,post_wise,COLUMNS($A$5:M28),0),\"\")","v":""},{"$f":"IFERROR(VLOOKUP($C$4&\"_\"&$A30,post_wise,COLUMNS($A$5:N28),0),\"\")","v":""},{"$f":"IFERROR(VLOOKUP($C$4&\"_\"&$A30,post_wise,COLUMNS($A$5:O28),0),\"\")","v":""},{"$f":"IFERROR(VLOOKUP($C$4&\"_\"&$A30,post_wise,COLUMNS($A$5:P28),0),\"\")","v":""},{"$f":"IFERROR(VLOOKUP($C$4&\"_\"&$A30,post_wise,COLUMNS($A$5:Q28),0),\"\")","v":""},{"$f":"IFERROR(VLOOKUP($C$4&\"_\"&$A30,post_wise,COLUMNS($A$5:R28),0),\"\")","v":""},{"$f":"IFERROR(VLOOKUP($C$4&\"_\"&$A30,post_wise,COLUMNS($A$5:S28),0),\"\")","v":""},{"$f":"IFERROR(VLOOKUP($C$4&\"_\"&$A30,post_wise,COLUMNS($A$5:T28),0),\"\")","v":""},{"$f":"IFERROR(VLOOKUP($C$4&\"_\"&$A30,post_wise,COLUMNS($A$5:U28),0),\"\")","v":""},{"$f":"IFERROR(VLOOKUP($C$4&\"_\"&$A30,post_wise,COLUMNS($A$5:V28),0),\"\")","v":""},{"$f":"IFERROR(VLOOKUP($C$4&\"_\"&$A30,post_wise,COLUMNS($A$5:W28),0),\"\")","v":""},{"$f":"IFERROR(VLOOKUP($C$4&\"_\"&$A30,post_wise,COLUMNS($A$5:X28),0),\"\")","v":""},{"$f":"IFERROR(VLOOKUP($C$4&\"_\"&$A30,post_wise,COLUMNS($A$5:Y28),0),\"\")","v":""},{"$f":"IFERROR(VLOOKUP($C$4&\"_\"&$A30,post_wise,COLUMNS($A$5:Z28),0),\"\")","v":""},{"$f":"IFERROR(VLOOKUP($C$4&\"_\"&$A30,post_wise,COLUMNS($A$5:AA28),0),\"\")","v":""},{"$f":"IFERROR(VLOOKUP($C$4&\"_\"&$A30,post_wise,COLUMNS($A$5:AB28),0),\"\")","v":""},{"$f":"IFERROR(VLOOKUP($C$4&\"_\"&$A30,post_wise,COLUMNS($A$5:AC28),0),\"\")","v":""},{"$f":"IFERROR(VLOOKUP($C$4&\"_\"&$A30,post_wise,COLUMNS($A$5:AD28),0),\"\")","v":""},{"$f":"IFERROR(VLOOKUP($C$4&\"_\"&$A30,post_wise,COLUMNS($A$5:AE28),0),\"\")","v":""},{"$f":"IFERROR(VLOOKUP($C$4&\"_\"&$A30,post_wise,COLUMNS($A$5:AF28),0),\"\")","v":""},{"$f":"IFERROR(VLOOKUP($C$4&\"_\"&$A30,post_wise,COLUMNS($A$5:AG28),0),\"\")","v":""},{"$f":"IFERROR(VLOOKUP($C$4&\"_\"&$A30,post_wise,COLUMNS($A$5:AH28),0),\"\")","v":""},{"$f":"IFERROR(VLOOKUP($C$4&\"_\"&$A30,post_wise,COLUMNS($A$5:AI28),0),\"\")","v":""},{"$f":"IFERROR(VLOOKUP($C$4&\"_\"&$A30,post_wise,COLUMNS($A$5:AJ28),0),\"\")","v":""}]
[25,{"$f":"IFERROR(VLOOKUP($C$4&\"_\"&$A31,post_wise,COLUMNS($A$5:C29),0),\"\")","v":""},{"$f":"IFERROR(VLOOKUP($C$4&\"_\"&$A31,post_wise,COLUMNS($A$5:D29),0),\"\")","v":""},{"$f":"IFERROR(VLOOKUP($C$4&\"_\"&$A31,post_wise,COLUMNS($A$5:E29),0),\"\")","v":""},{"$f":"IFERROR(VLOOKUP($C$4&\"_\"&$A31,post_wise,COLUMNS($A$5:F29),0),\"\")","v":""},{"$f":"IFERROR(VLOOKUP($C$4&\"_\"&$A31,post_wise,COLUMNS($A$5:G29),0),\"\")","v":""},{"$f":"IFERROR(VLOOKUP($C$4&\"_\"&$A31,post_wise,COLUMNS($A$5:H29),0),\"\")","v":""},{"$f":"IFERROR(VLOOKUP($C$4&\"_\"&$A31,post_wise,COLUMNS($A$5:I29),0),\"\")","v":""},{"$f":"IFERROR(VLOOKUP($C$4&\"_\"&$A31,post_wise,COLUMNS($A$5:J29),0),\"\")","v":""},{"$f":"IFERROR(VLOOKUP($C$4&\"_\"&$A31,post_wise,COLUMNS($A$5:K29),0),\"\")","v":""},{"$f":"IFERROR(VLOOKUP($C$4&\"_\"&$A31,post_wise,COLUMNS($A$5:L29),0),\"\")","v":""},{"$f":"IFERROR(VLOOKUP($C$4&\"_\"&$A31,post_wise,COLUMNS($A$5:M29),0),\"\")","v":""},{"$f":"IFERROR(VLOOKUP($C$4&\"_\"&$A31,post_wise,COLUMNS($A$5:N29),0),\"\")","v":""},{"$f":"IFERROR(VLOOKUP($C$4&\"_\"&$A31,post_wise,COLUMNS($A$5:O29),0),\"\")","v":""},{"$f":"IFERROR(VLOOKUP($C$4&\"_\"&$A31,post_wise,COLUMNS($A$5:P29),0),\"\")","v":""},{"$f":"IFERROR(VLOOKUP($C$4&\"_\"&$A31,post_wise,COLUMNS($A$5:Q29),0),\"\")","v":""},{"$f":"IFERROR(VLOOKUP($C$4&\"_\"&$A31,post_wise,COLUMNS($A$5:R29),0),\"\")","v":""},{"$f":"IFERROR(VLOOKUP($C$4&\"_\"&$A31,post_wise,COLUMNS($A$5:S29),0),\"\")","v":""},{"$f":"IFERROR(VLOOKUP($C$4&\"_\"&$A31,post_wise,COLUMNS($A$5:T29),0),\"\")","v":""},{"$f":"IFERROR(VLOOKUP($C$4&\"_\"&$A31,post_wise,COLUMNS($A$5:U29),0),\"\")","v":""},{"$f":"IFERROR(VLOOKUP($C$4&\"_\"&$A31,post_wise,COLUMNS($A$5:V29),0),\"\")","v":""},{"$f":"IFERROR(VLOOKUP($C$4&\"_\"&$A31,post_wise,COLUMNS($A$5:W29),0),\"\")","v":""},{"$f":"IFERROR(VLOOKUP($C$4&\"_\"&$A31,post_wise,COLUMNS($A$5:X29),0),\"\")","v":""},{"$f":"IFERROR(VLOOKUP($C$4&\"_\"&$A31,post_wise,COLUMNS($A$5:Y29),0),\"\")","v":""},{"$f":"IFERROR(VLOOKUP($C$4&\"_\"&$A31,post_wise,COLUMNS($A$5:Z29),0),\"\")","v":""},{"$f":"IFERROR(VLOOKUP($C$4&\"_\"&$A31,post_wise,COLUMNS($A$5:AA29),0),\"\")","v":""},{"$f":"IFERROR(VLOOKUP($C$4&\"_\"&$A31,post_wise,COLUMNS($A$5:AB29),0),\"\")","v":""},{"$f":"IFERROR(VLOOKUP($C$4&\"_\"&$A31,post_wise,COLUMNS($A$5:AC29),0),\"\")","v":""},{"$f":"IFERROR(VLOOKUP($C$4&\"_\"&$A31,post_wise,COLUMNS($A$5:AD29),0),\"\")","v":""},{"$f":"IFERROR(VLOOKUP($C$4&\"_\"&$A31,post_wise,COLUMNS($A$5:AE29),0),\"\")","v":""},{"$f":"IFERROR(VLOOKUP($C$4&\"_\"&$A31,post_wise,COLUMNS($A$5:AF29),0),\"\")","v":""},{"$f":"IFERROR(VLOOKUP($C$4&\"_\"&$A31,post_wise,COLUMNS($A$5:AG29),0),\"\")","v":""},{"$f":"IFERROR(VLOOKUP($C$4&\"_\"&$A31,post_wise,COLUMNS($A$5:AH29),0),\"\")","v":""},{"$f":"IFERROR(VLOOKUP($C$4&\"_\"&$A31,post_wise,COLUMNS($A$5:AI29),0),\"\")","v":""},{"$f":"IFERROR(VLOOKUP($C$4&\"_\"&$A31,post_wise,COLUMNS($A$5:AJ29),0),\"\")","v":""}]
[26,{"$f":"IFERROR(VLOOKUP($C$4&\"_\"&$A32,post_wise,COLUMNS($A$5:C30),0),\"\")","v":""},{"$f":"IFERROR(VLOOKUP($C$4&\"_\"&$A32,post_wise,COLUMNS($A$5:D30),0),\"\")","v":""},{"$f":"IFERROR(VLOOKUP($C$4&\"_\"&$A32,post_wise,COLUMNS($A$5:E30),0),\"\")","v":""},{"$f":"IFERROR(VLOOKUP($C$4&\"_\"&$A32,post_wise,COLUMNS($A$5:F30),0),\"\")","v":""},{"$f":"IFERROR(VLOOKUP($C$4&\"_\"&$A32,post_wise,COLUMNS($A$5:G30),0),\"\")","v":""},{"$f":"IFERROR(VLOOKUP($C$4&\"_\"&$A32,post_wise,COLUMNS($A$5:H30),0),\"\")","v":""},{"$f":"IFERROR(VLOOKUP($C$4&\"_\"&$A32,post_wise,COLUMNS($A$5:I30),0),\"\")","v":""},{"$f":"IFERROR(VLOOKUP($C$4&\"_\"&$A32,post_wise,COLUMNS($A$5:J30),0),\"\")","v":""},{"$f":"IFERROR(VLOOKUP($C$4&\"_\"&$A32,post_wise,COLUMNS($A$5:K30),0),\"\")","v":""},{"$f":"IFERROR(VLOOKUP($C$4&\"_\"&$A32,post_wise,COLUMNS($A$5:L30),0),\"\")","v":""},{"$f":"IFERROR(VLOOKUP($C$4&\"_\"&$A32,post_wise,COLUMNS($A$5:M30),0),\"\")","v":""},{"$f":"IFERROR(VLOOKUP($C$4&\"_\"&$A32,post_wise,COLUMNS($A$5:N30),0),\"\")","v":""},{"$f":"IFERROR(VLOOKUP($C$4&\"_\"&$A32,post_wise,COLUMNS($A$5:O30),0),\"\")","v":""},{"$f":"IFERROR(VLOOKUP($C$4&\"_\"&$A32,post_wise,COLUMNS($A$5:P30),0),\"\")","v":""},{"$f":"IFERROR(VLOOKUP($C$4&\"_\"&$A32,post_wise,COLUMNS($A$5:Q30),0),\"\")","v":""},{"$f":"IFERROR(VLOOKUP($C$4&\"_\"&$A32,post_wise,COLUMNS($A$5:R30),0),\"\")","v":""},{"$f":"IFERROR(VLOOKUP($C$4&\"_\"&$A32,post_wise,COLUMNS($A$5:S30),0),\"\")","v":""},{"$f":"IFERROR(VLOOKUP($C$4&\"_\"&$A32,post_wise,COLUMNS($A$5:T30),0),\"\")","v":""},{"$f":"IFERROR(VLOOKUP($C$4&\"_\"&$A32,post_wise,COLUMNS($A$5:U30),0),\"\")","v":""},{"$f":"IFERROR(VLOOKUP($C$4&\"_\"&$A32,post_wise,COLUMNS($A$5:V30),0),\"\")","v":""},{"$f":"IFERROR(VLOOKUP($C$4&\"_\"&$A32,post_wise,COLUMNS($A$5:W30),0),\"\")","v":""},{"$f":"IFERROR(VLOOKUP($C$4&\"_\"&$A32,post_wise,COLUMNS($A$5:X30),0),\"\")","v":""},{"$f":"IFERROR(VLOOKUP($C$4&\"_\"&$A32,post_wise,COLUMNS($A$5:Y30),0),\"\")","v":""},{"$f":"IFERROR(VLOOKUP($C$4&\"_\"&$A32,post_wise,COLUMNS($A$5:Z30),0),\"\")","v":""},{"$f":"IFERROR(VLOOKUP($C$4&\"_\"&$A32,post_wise,COLUMNS($A$5:AA30),0),\"\")","v":""},{"$f":"IFERROR(VLOOKUP($C$4&\"_\"&$A32,post_wise,COLUMNS($A$5:AB30),0),\"\")","v":""},{"$f":"IFERROR(VLOOKUP($C$4&\"_\"&$A32,post_wise,COLUMNS($A$5:AC30),0),\"\")","v":""},{"$f":"IFERROR(VLOOKUP($C$4&\"_\"&$A32,post_wise,COLUMNS($A$5:AD30),0),\"\")","v":""},{"$f":"IFERROR(VLOOKUP($C$4&\"_\"&$A32,post_wise,COLUMNS($A$5:AE30),0),\"\")","v":""},{"$f":"IFERROR(VLOOKUP($C$4&\"_\"&$A32,post_wise,COLUMNS($A$5:AF30),0),\"\")","v":""},{"$f":"IFERROR(VLOOKUP($C$4&\"_\"&$A32,post_wise,COLUMNS($A$5:AG30),0),\"\")","v":""},{"$f":"IFERROR(VLOOKUP($C$4&\"_\"&$A32,post_wise,COLUMNS($A$5:AH30),0),\"\")","v":""},{"$f":"IFERROR(VLOOKUP($C$4&\"_\"&$A32,post_wise,COLUMNS($A$5:AI30),0),\"\")","v":""},{"$f":"IFERROR(VLOOKUP($C$4&\"_\"&$A32,post_wise,COLUMNS($A$5:AJ30),0),\"\")","v":""}]
[27,{"$f":"IFERROR(VLOOKUP($C$4&\"_\"&$A33,post_wise,COLUMNS($A$5:C31),0),\"\")","v":""},{"$f":"IFERROR(VLOOKUP($C$4&\"_\"&$A33,post_wise,COLUMNS($A$5:D31),0),\"\")","v":""},{"$f":"IFERROR(VLOOKUP($C$4&\"_\"&$A33,post_wise,COLUMNS($A$5:E31),0),\"\")","v":""},{"$f":"IFERROR(VLOOKUP($C$4&\"_\"&$A33,post_wise,COLUMNS($A$5:F31),0),\"\")","v":""},{"$f":"IFERROR(VLOOKUP($C$4&\"_\"&$A33,post_wise,COLUMNS($A$5:G31),0),\"\")","v":""},{"$f":"IFERROR(VLOOKUP($C$4&\"_\"&$A33,post_wise,COLUMNS($A$5:H31),0),\"\")","v":""},{"$f":"IFERROR(VLOOKUP($C$4&\"_\"&$A33,post_wise,COLUMNS($A$5:I31),0),\"\")","v":""},{"$f":"IFERROR(VLOOKUP($C$4&\"_\"&$A33,post_wise,COLUMNS($A$5:J31),0),\"\")","v":""},{"$f":"IFERROR(VLOOKUP($C$4&\"_\"&$A33,post_wise,COLUMNS($A$5:K31),0),\"\")","v":""},{"$f":"IFERROR(VLOOKUP($C$4&\"_\"&$A33,post_wise,COLUMNS($A$5:L31),0),\"\")","v":""},{"$f":"IFERROR(VLOOKUP($C$4&\"_\"&$A33,post_wise,COLUMNS($A$5:M31),0),\"\")","v":""},{"$f":"IFERROR(VLOOKUP($C$4&\"_\"&$A33,post_wise,COLUMNS($A$5:N31),0),\"\")","v":""},{"$f":"IFERROR(VLOOKUP($C$4&\"_\"&$A33,post_wise,COLUMNS($A$5:O31),0),\"\")","v":""},{"$f":"IFERROR(VLOOKUP($C$4&\"_\"&$A33,post_wise,COLUMNS($A$5:P31),0),\"\")","v":""},{"$f":"IFERROR(VLOOKUP($C$4&\"_\"&$A33,post_wise,COLUMNS($A$5:Q31),0),\"\")","v":""},{"$f":"IFERROR(VLOOKUP($C$4&\"_\"&$A33,post_wise,COLUMNS($A$5:R31),0),\"\")","v":""},{"$f":"IFERROR(VLOOKUP($C$4&\"_\"&$A33,post_wise,COLUMNS($A$5:S31),0),\"\")","v":""},{"$f":"IFERROR(VLOOKUP($C$4&\"_\"&$A33,post_wise,COLUMNS($A$5:T31),0),\"\")","v":""},{"$f":"IFERROR(VLOOKUP($C$4&\"_\"&$A33,post_wise,COLUMNS($A$5:U31),0),\"\")","v":""},{"$f":"IFERROR(VLOOKUP($C$4&\"_\"&$A33,post_wise,COLUMNS($A$5:V31),0),\"\")","v":""},{"$f":"IFERROR(VLOOKUP($C$4&\"_\"&$A33,post_wise,COLUMNS($A$5:W31),0),\"\")","v":""},{"$f":"IFERROR(VLOOKUP($C$4&\"_\"&$A33,post_wise,COLUMNS($A$5:X31),0),\"\")","v":""},{"$f":"IFERROR(VLOOKUP($C$4&\"_\"&$A33,post_wise,COLUMNS($A$5:Y31),0),\"\")","v":""},{"$f":"IFERROR(VLOOKUP($C$4&\"_\"&$A33,post_wise,COLUMNS($A$5:Z31),0),\"\")","v":""},{"$f":"IFERROR(VLOOKUP($C$4&\"_\"&$A33,post_wise,COLUMNS($A$5:AA31),0),\"\")","v":""},{"$f":"IFERROR(VLOOKUP($C$4&\"_\"&$A33,post_wise,COLUMNS($A$5:AB31),0),\"\")","v":""},{"$f":"IFERROR(VLOOKUP($C$4&\"_\"&$A33,post_wise,COLUMNS($A$5:AC31),0),\"\")","v":""},{"$f":"IFERROR(VLOOKUP($C$4&\"_\"&$A33,post_wise,COLUMNS($A$5:AD31),0),\"\")","v":""},{"$f":"IFERROR(VLOOKUP($C$4&\"_\"&$A33,post_wise,COLUMNS($A$5:AE31),0),\"\")","v":""},{"$f":"IFERROR(VLOOKUP($C$4&\"_\"&$A33,post_wise,COLUMNS($A$5:AF31),0),\"\")","v":""},{"$f":"IFERROR(VLOOKUP($C$4&\"_\"&$A33,post_wise,COLUMNS($A$5:AG31),0),\"\")","v":""},{"$f":"IFERROR(VLOOKUP($C$4&\"_\"&$A33,post_wise,COLUMNS($A$5:AH31),0),\"\")","v":""},{"$f":"IFERROR(VLOOKUP($C$4&\"_\"&$A33,post_wise,COLUMNS($A$5:AI31),0),\"\")","v":""},{"$f":"IFERROR(VLOOKUP($C$4&\"_\"&$A33,post_wise,COLUMNS($A$5:AJ31),0),\"\")","v":""}]
[28,{"$f":"IFERROR(VLOOKUP($C$4&\"_\"&$A34,post_wise,COLUMNS($A$5:C32),0),\"\")","v":""},{"$f":"IFERROR(VLOOKUP($C$4&\"_\"&$A34,post_wise,COLUMNS($A$5:D32),0),\"\")","v":""},{"$f":"IFERROR(VLOOKUP($C$4&\"_\"&$A34,post_wise,COLUMNS($A$5:E32),0),\"\")","v":""},{"$f":"IFERROR(VLOOKUP($C$4&\"_\"&$A34,post_wise,COLUMNS($A$5:F32),0),\"\")","v":""},{"$f":"IFERROR(VLOOKUP($C$4&\"_\"&$A34,post_wise,COLUMNS($A$5:G32),0),\"\")","v":""},{"$f":"IFERROR(VLOOKUP($C$4&\"_\"&$A34,post_wise,COLUMNS($A$5:H32),0),\"\")","v":""},{"$f":"IFERROR(VLOOKUP($C$4&\"_\"&$A34,post_wise,COLUMNS($A$5:I32),0),\"\")","v":""},{"$f":"IFERROR(VLOOKUP($C$4&\"_\"&$A34,post_wise,COLUMNS($A$5:J32),0),\"\")","v":""},{"$f":"IFERROR(VLOOKUP($C$4&\"_\"&$A34,post_wise,COLUMNS($A$5:K32),0),\"\")","v":""},{"$f":"IFERROR(VLOOKUP($C$4&\"_\"&$A34,post_wise,COLUMNS($A$5:L32),0),\"\")","v":""},{"$f":"IFERROR(VLOOKUP($C$4&\"_\"&$A34,post_wise,COLUMNS($A$5:M32),0),\"\")","v":""},{"$f":"IFERROR(VLOOKUP($C$4&\"_\"&$A34,post_wise,COLUMNS($A$5:N32),0),\"\")","v":""},{"$f":"IFERROR(VLOOKUP($C$4&\"_\"&$A34,post_wise,COLUMNS($A$5:O32),0),\"\")","v":""},{"$f":"IFERROR(VLOOKUP($C$4&\"_\"&$A34,post_wise,COLUMNS($A$5:P32),0),\"\")","v":""},{"$f":"IFERROR(VLOOKUP($C$4&\"_\"&$A34,post_wise,COLUMNS($A$5:Q32),0),\"\")","v":""},{"$f":"IFERROR(VLOOKUP($C$4&\"_\"&$A34,post_wise,COLUMNS($A$5:R32),0),\"\")","v":""},{"$f":"IFERROR(VLOOKUP($C$4&\"_\"&$A34,post_wise,COLUMNS($A$5:S32),0),\"\")","v":""},{"$f":"IFERROR(VLOOKUP($C$4&\"_\"&$A34,post_wise,COLUMNS($A$5:T32),0),\"\")","v":""},{"$f":"IFERROR(VLOOKUP($C$4&\"_\"&$A34,post_wise,COLUMNS($A$5:U32),0),\"\")","v":""},{"$f":"IFERROR(VLOOKUP($C$4&\"_\"&$A34,post_wise,COLUMNS($A$5:V32),0),\"\")","v":""},{"$f":"IFERROR(VLOOKUP($C$4&\"_\"&$A34,post_wise,COLUMNS($A$5:W32),0),\"\")","v":""},{"$f":"IFERROR(VLOOKUP($C$4&\"_\"&$A34,post_wise,COLUMNS($A$5:X32),0),\"\")","v":""},{"$f":"IFERROR(VLOOKUP($C$4&\"_\"&$A34,post_wise,COLUMNS($A$5:Y32),0),\"\")","v":""},{"$f":"IFERROR(VLOOKUP($C$4&\"_\"&$A34,post_wise,COLUMNS($A$5:Z32),0),\"\")","v":""},{"$f":"IFERROR(VLOOKUP($C$4&\"_\"&$A34,post_wise,COLUMNS($A$5:AA32),0),\"\")","v":""},{"$f":"IFERROR(VLOOKUP($C$4&\"_\"&$A34,post_wise,COLUMNS($A$5:AB32),0),\"\")","v":""},{"$f":"IFERROR(VLOOKUP($C$4&\"_\"&$A34,post_wise,COLUMNS($A$5:AC32),0),\"\")","v":""},{"$f":"IFERROR(VLOOKUP($C$4&\"_\"&$A34,post_wise,COLUMNS($A$5:AD32),0),\"\")","v":""},{"$f":"IFERROR(VLOOKUP($C$4&\"_\"&$A34,post_wise,COLUMNS($A$5:AE32),0),\"\")","v":""},{"$f":"IFERROR(VLOOKUP($C$4&\"_\"&$A34,post_wise,COLUMNS($A$5:AF32),0),\"\")","v":""},{"$f":"IFERROR(VLOOKUP($C$4&\"_\"&$A34,post_wise,COLUMNS($A$5:AG32),0),\"\")","v":""},{"$f":"IFERROR(VLOOKUP($C$4&\"_\"&$A34,post_wise,COLUMNS($A$5:AH32),0),\"\")","v":""},{"$f":"IFERROR(VLOOKUP($C$4&\"_\"&$A34,post_wise,COLUMNS($A$5:AI32),0),\"\")","v":""},{"$f":"IFERROR(VLOOKUP($C$4&\"_\"&$A34,post_wise,COLUMNS($A$5:AJ32),0),\"\")","v":""}]
[29,{"$f":"IFERROR(VLOOKUP($C$4&\"_\"&$A35,post_wise,COLUMNS($A$5:C33),0),\"\")","v":""},{"$f":"IFERROR(VLOOKUP($C$4&\"_\"&$A35,post_wise,COLUMNS($A$5:D33),0),\"\")","v":""},{"$f":"IFERROR(VLOOKUP($C$4&\"_\"&$A35,post_wise,COLUMNS($A$5:E33),0),\"\")","v":""},{"$f":"IFERROR(VLOOKUP($C$4&\"_\"&$A35,post_wise,COLUMNS($A$5:F33),0),\"\")","v":""},{"$f":"IFERROR(VLOOKUP($C$4&\"_\"&$A35,post_wise,COLUMNS($A$5:G33),0),\"\")","v":""},{"$f":"IFERROR(VLOOKUP($C$4&\"_\"&$A35,post_wise,COLUMNS($A$5:H33),0),\"\")","v":""},{"$f":"IFERROR(VLOOKUP($C$4&\"_\"&$A35,post_wise,COLUMNS($A$5:I33),0),\"\")","v":""},{"$f":"IFERROR(VLOOKUP($C$4&\"_\"&$A35,post_wise,COLUMNS($A$5:J33),0),\"\")","v":""},{"$f":"IFERROR(VLOOKUP($C$4&\"_\"&$A35,post_wise,COLUMNS($A$5:K33),0),\"\")","v":""},{"$f":"IFERROR(VLOOKUP($C$4&\"_\"&$A35,post_wise,COLUMNS($A$5:L33),0),\"\")","v":""},{"$f":"IFERROR(VLOOKUP($C$4&\"_\"&$A35,post_wise,COLUMNS($A$5:M33),0),\"\")","v":""},{"$f":"IFERROR(VLOOKUP($C$4&\"_\"&$A35,post_wise,COLUMNS($A$5:N33),0),\"\")","v":""},{"$f":"IFERROR(VLOOKUP($C$4&\"_\"&$A35,post_wise,COLUMNS($A$5:O33),0),\"\")","v":""},{"$f":"IFERROR(VLOOKUP($C$4&\"_\"&$A35,post_wise,COLUMNS($A$5:P33),0),\"\")","v":""},{"$f":"IFERROR(VLOOKUP($C$4&\"_\"&$A35,post_wise,COLUMNS($A$5:Q33),0),\"\")","v":""},{"$f":"IFERROR(VLOOKUP($C$4&\"_\"&$A35,post_wise,COLUMNS($A$5:R33),0),\"\")","v":""},{"$f":"IFERROR(VLOOKUP($C$4&\"_\"&$A35,post_wise,COLUMNS($A$5:S33),0),\"\")","v":""},{"$f":"IFERROR(VLOOKUP($C$4&\"_\"&$A35,post_wise,COLUMNS($A$5:T33),0),\"\")","v":""},{"$f":"IFERROR(VLOOKUP($C$4&\"_\"&$A35,post_wise,COLUMNS($A$5:U33),0),\"\")","v":""},{"$f":"IFERROR(VLOOKUP($C$4&\"_\"&$A35,post_wise,COLUMNS($A$5:V33),0),\"\")","v":""},{"$f":"IFERROR(VLOOKUP($C$4&\"_\"&$A35,post_wise,COLUMNS($A$5:W33),0),\"\")","v":""},{"$f":"IFERROR(VLOOKUP($C$4&\"_\"&$A35,post_wise,COLUMNS($A$5:X33),0),\"\")","v":""},{"$f":"IFERROR(VLOOKUP($C$4&\"_\"&$A35,post_wise,COLUMNS($A$5:Y33),0),\"\")","v":""},{"$f":"IFERROR(VLOOKUP($C$4&\"_\"&$A35,post_wise,COLUMNS($A$5:Z33),0),\"\")","v":""},{"$f":"IFERROR(VLOOKUP($C$4&\"_\"&$A35,post_wise,COLUMNS($A$5:AA33),0),\"\")","v":""},{"$f":"IFERROR(VLOOKUP($C$4&\"_\"&$A35,post_wise,COLUMNS($A$5:AB33),0),\"\")","v":""},{"$f":"IFERROR(VLOOKUP($C$4&\"_\"&$A35,post_wise,COLUMNS($A$5:AC33),0),\"\")","v":""},{"$f":"IFERROR(VLOOKUP($C$4&\"_\"&$A35,post_wise,COLUMNS($A$5:AD33),0),\"\")","v":""},{"$f":"IFERROR(VLOOKUP($C$4&\"_\"&$A35,post_wise,COLUMNS($A$5:AE33),0),\"\")","v":""},{"$f":"IFERROR(VLOOKUP($C$4&\"_\"&$A35,post_wise,COLUMNS($A$5:AF33),0),\"\")","v":""},{"$f":"IFERROR(VLOOKUP($C$4&\"_\"&$A35,post_wise,COLUMNS($A$5:AG33),0),\"\")","v":""},{"$f":"IFERROR(VLOOKUP($C$4&\"_\"&$A35,post_wise,COLUMNS($A$5:AH33),0),\"\")","v":""},{"$f":"IFERROR(VLOOKUP($C$4&\"_\"&$A35,post_wise,COLUMNS($A$5:AI33),0),\"\")","v":""},{"$f":"IFERROR(VLOOKUP($C$4&\"_\"&$A35,post_wise,COLUMNS($A$5:AJ33),0),\"\")","v":""}]
[30,{"$f":"IFERROR(VLOOKUP($C$4&\"_\"&$A36,post_wise,COLUMNS($A$5:C34),0),\"\")","v":""},{"$f":"IFERROR(VLOOKUP($C$4&\"_\"&$A36,post_wise,COLUMNS($A$5:D34),0),\"\")","v":""},{"$f":"IFERROR(VLOOKUP($C$4&\"_\"&$A36,post_wise,COLUMNS($A$5:E34),0),\"\")","v":""},{"$f":"IFERROR(VLOOKUP($C$4&\"_\"&$A36,post_wise,COLUMNS($A$5:F34),0),\"\")","v":""},{"$f":"IFERROR(VLOOKUP($C$4&\"_\"&$A36,post_wise,COLUMNS($A$5:G34),0),\"\")","v":""},{"$f":"IFERROR(VLOOKUP($C$4&\"_\"&$A36,post_wise,COLUMNS($A$5:H34),0),\"\")","v":""},{"$f":"IFERROR(VLOOKUP($C$4&\"_\"&$A36,post_wise,COLUMNS($A$5:I34),0),\"\")","v":""},{"$f":"IFERROR(VLOOKUP($C$4&\"_\"&$A36,post_wise,COLUMNS($A$5:J34),0),\"\")","v":""},{"$f":"IFERROR(VLOOKUP($C$4&\"_\"&$A36,post_wise,COLUMNS($A$5:K34),0),\"\")","v":""},{"$f":"IFERROR(VLOOKUP($C$4&\"_\"&$A36,post_wise,COLUMNS($A$5:L34),0),\"\")","v":""},{"$f":"IFERROR(VLOOKUP($C$4&\"_\"&$A36,post_wise,COLUMNS($A$5:M34),0),\"\")","v":""},{"$f":"IFERROR(VLOOKUP($C$4&\"_\"&$A36,post_wise,COLUMNS($A$5:N34),0),\"\")","v":""},{"$f":"IFERROR(VLOOKUP($C$4&\"_\"&$A36,post_wise,COLUMNS($A$5:O34),0),\"\")","v":""},{"$f":"IFERROR(VLOOKUP($C$4&\"_\"&$A36,post_wise,COLUMNS($A$5:P34),0),\"\")","v":""},{"$f":"IFERROR(VLOOKUP($C$4&\"_\"&$A36,post_wise,COLUMNS($A$5:Q34),0),\"\")","v":""},{"$f":"IFERROR(VLOOKUP($C$4&\"_\"&$A36,post_wise,COLUMNS($A$5:R34),0),\"\")","v":""},{"$f":"IFERROR(VLOOKUP($C$4&\"_\"&$A36,post_wise,COLUMNS($A$5:S34),0),\"\")","v":""},{"$f":"IFERROR(VLOOKUP($C$4&\"_\"&$A36,post_wise,COLUMNS($A$5:T34),0),\"\")","v":""},{"$f":"IFERROR(VLOOKUP($C$4&\"_\"&$A36,post_wise,COLUMNS($A$5:U34),0),\"\")","v":""},{"$f":"IFERROR(VLOOKUP($C$4&\"_\"&$A36,post_wise,COLUMNS($A$5:V34),0),\"\")","v":""},{"$f":"IFERROR(VLOOKUP($C$4&\"_\"&$A36,post_wise,COLUMNS($A$5:W34),0),\"\")","v":""},{"$f":"IFERROR(VLOOKUP($C$4&\"_\"&$A36,post_wise,COLUMNS($A$5:X34),0),\"\")","v":""},{"$f":"IFERROR(VLOOKUP($C$4&\"_\"&$A36,post_wise,COLUMNS($A$5:Y34),0),\"\")","v":""},{"$f":"IFERROR(VLOOKUP($C$4&\"_\"&$A36,post_wise,COLUMNS($A$5:Z34),0),\"\")","v":""},{"$f":"IFERROR(VLOOKUP($C$4&\"_\"&$A36,post_wise,COLUMNS($A$5:AA34),0),\"\")","v":""},{"$f":"IFERROR(VLOOKUP($C$4&\"_\"&$A36,post_wise,COLUMNS($A$5:AB34),0),\"\")","v":""},{"$f":"IFERROR(VLOOKUP($C$4&\"_\"&$A36,post_wise,COLUMNS($A$5:AC34),0),\"\")","v":""},{"$f":"IFERROR(VLOOKUP($C$4&\"_\"&$A36,post_wise,COLUMNS($A$5:AD34),0),\"\")","v":""},{"$f":"IFERROR(VLOOKUP($C$4&\"_\"&$A36,post_wise,COLUMNS($A$5:AE34),0),\"\")","v":""},{"$f":"IFERROR(VLOOKUP($C$4&\"_\"&$A36,post_wise,COLUMNS($A$5:AF34),0),\"\")","v":""},{"$f":"IFERROR(VLOOKUP($C$4&\"_\"&$A36,post_wise,COLUMNS($A$5:AG34),0),\"\")","v":""},{"$f":"IFERROR(VLOOKUP($C$4&\"_\"&$A36,post_wise,COLUMNS($A$5:AH34),0),\"\")","v":""},{"$f":"IFERROR(VLOOKUP($C$4&\"_\"&$A36,post_wise,COLUMNS($A$5:AI34),0),\"\")","v":""},{"$f":"IFERROR(VLOOKUP($C$4&\"_\"&$A36,post_wise,COLUMNS($A$5:AJ34),0),\"\")","v":""}]
[31,{"$f":"IFERROR(VLOOKUP($C$4&\"_\"&$A37,post_wise,COLUMNS($A$5:C35),0),\"\")","v":""},{"$f":"IFERROR(VLOOKUP($C$4&\"_\"&$A37,post_wise,COLUMNS($A$5:D35),0),\"\")","v":""},{"$f":"IFERROR(VLOOKUP($C$4&\"_\"&$A37,post_wise,COLUMNS($A$5:E35),0),\"\")","v":""},{"$f":"IFERROR(VLOOKUP($C$4&\"_\"&$A37,post_wise,COLUMNS($A$5:F35),0),\"\")","v":""},{"$f":"IFERROR(VLOOKUP($C$4&\"_\"&$A37,post_wise,COLUMNS($A$5:G35),0),\"\")","v":""},{"$f":"IFERROR(VLOOKUP($C$4&\"_\"&$A37,post_wise,COLUMNS($A$5:H35),0),\"\")","v":""},{"$f":"IFERROR(VLOOKUP($C$4&\"_\"&$A37,post_wise,COLUMNS($A$5:I35),0),\"\")","v":""},{"$f":"IFERROR(VLOOKUP($C$4&\"_\"&$A37,post_wise,COLUMNS($A$5:J35),0),\"\")","v":""},{"$f":"IFERROR(VLOOKUP($C$4&\"_\"&$A37,post_wise,COLUMNS($A$5:K35),0),\"\")","v":""},{"$f":"IFERROR(VLOOKUP($C$4&\"_\"&$A37,post_wise,COLUMNS($A$5:L35),0),\"\")","v":""},{"$f":"IFERROR(VLOOKUP($C$4&\"_\"&$A37,post_wise,COLUMNS($A$5:M35),0),\"\")","v":""},{"$f":"IFERROR(VLOOKUP($C$4&\"_\"&$A37,post_wise,COLUMNS($A$5:N35),0),\"\")","v":""},{"$f":"IFERROR(VLOOKUP($C$4&\"_\"&$A37,post_wise,COLUMNS($A$5:O35),0),\"\")","v":""},{"$f":"IFERROR(VLOOKUP($C$4&\"_\"&$A37,post_wise,COLUMNS($A$5:P35),0),\"\")","v":""},{"$f":"IFERROR(VLOOKUP($C$4&\"_\"&$A37,post_wise,COLUMNS($A$5:Q35),0),\"\")","v":""},{"$f":"IFERROR(VLOOKUP($C$4&\"_\"&$A37,post_wise,COLUMNS($A$5:R35),0),\"\")","v":""},{"$f":"IFERROR(VLOOKUP($C$4&\"_\"&$A37,post_wise,COLUMNS($A$5:S35),0),\"\")","v":""},{"$f":"IFERROR(VLOOKUP($C$4&\"_\"&$A37,post_wise,COLUMNS($A$5:T35),0),\"\")","v":""},{"$f":"IFERROR(VLOOKUP($C$4&\"_\"&$A37,post_wise,COLUMNS($A$5:U35),0),\"\")","v":""},{"$f":"IFERROR(VLOOKUP($C$4&\"_\"&$A37,post_wise,COLUMNS($A$5:V35),0),\"\")","v":""},{"$f":"IFERROR(VLOOKUP($C$4&\"_\"&$A37,post_wise,COLUMNS($A$5:W35),0),\"\")","v":""},{"$f":"IFERROR(VLOOKUP($C$4&\"_\"&$A37,post_wise,COLUMNS($A$5:X35),0),\"\")","v":""},{"$f":"IFERROR(VLOOKUP($C$4&\"_\"&$A37,post_wise,COLUMNS($A$5:Y35),0),\"\")","v":""},{"$f":"IFERROR(VLOOKUP($C$4&\"_\"&$A37,post_wise,COLUMNS($A$5:Z35),0),\"\")","v":""},{"$f":"IFERROR(VLOOKUP($C$4&\"_\"&$A37,post_wise,COLUMNS($A$5:AA35),0),\"\")","v":""},{"$f":"IFERROR(VLOOKUP($C$4&\"_\"&$A37,post_wise,COLUMNS($A$5:AB35),0),\"\")","v":""},{"$f":"IFERROR(VLOOKUP($C$4&\"_\"&$A37,post_wise,COLUMNS($A$5:AC35),0),\"\")","v":""},{"$f":"IFERROR(VLOOKUP($C$4&\"_\"&$A37,post_wise,COLUMNS($A$5:AD35),0),\"\")","v":""},{"$f":"IFERROR(VLOOKUP($C$4&\"_\"&$A37,post_wise,COLUMNS($A$5:AE35),0),\"\")","v":""},{"$f":"IFERROR(VLOOKUP($C$4&\"_\"&$A37,post_wise,COLUMNS($A$5:AF35),0),\"\")","v":""},{"$f":"IFERROR(VLOOKUP($C$4&\"_\"&$A37,post_wise,COLUMNS($A$5:AG35),0),\"\")","v":""},{"$f":"IFERROR(VLOOKUP($C$4&\"_\"&$A37,post_wise,COLUMNS($A$5:AH35),0),\"\")","v":""},{"$f":"IFERROR(VLOOKUP($C$4&\"_\"&$A37,post_wise,COLUMNS($A$5:AI35),0),\"\")","v":""},{"$f":"IFERROR(VLOOKUP($C$4&\"_\"&$A37,post_wise,COLUMNS($A$5:AJ35),0),\"\")","v":""}]
[32,{"$f":"IFERROR(VLOOKUP($C$4&\"_\"&$A38,post_wise,COLUMNS($A$5:C36),0),\"\")","v":""},{"$f":"IFERROR(VLOOKUP($C$4&\"_\"&$A38,post_wise,COLUMNS($A$5:D36),0),\"\")","v":""},{"$f":"IFERROR(VLOOKUP($C$4&\"_\"&$A38,post_wise,COLUMNS($A$5:E36),0),\"\")","v":""},{"$f":"IFERROR(VLOOKUP($C$4&\"_\"&$A38,post_wise,COLUMNS($A$5:F36),0),\"\")","v":""},{"$f":"IFERROR(VLOOKUP($C$4&\"_\"&$A38,post_wise,COLUMNS($A$5:G36),0),\"\")","v":""},{"$f":"IFERROR(VLOOKUP($C$4&\"_\"&$A38,post_wise,COLUMNS($A$5:H36),0),\"\")","v":""},{"$f":"IFERROR(VLOOKUP($C$4&\"_\"&$A38,post_wise,COLUMNS($A$5:I36),0),\"\")","v":""},{"$f":"IFERROR(VLOOKUP($C$4&\"_\"&$A38,post_wise,COLUMNS($A$5:J36),0),\"\")","v":""},{"$f":"IFERROR(VLOOKUP($C$4&\"_\"&$A38,post_wise,COLUMNS($A$5:K36),0),\"\")","v":""},{"$f":"IFERROR(VLOOKUP($C$4&\"_\"&$A38,post_wise,COLUMNS($A$5:L36),0),\"\")","v":""},{"$f":"IFERROR(VLOOKUP($C$4&\"_\"&$A38,post_wise,COLUMNS($A$5:M36),0),\"\")","v":""},{"$f":"IFERROR(VLOOKUP($C$4&\"_\"&$A38,post_wise,COLUMNS($A$5:N36),0),\"\")","v":""},{"$f":"IFERROR(VLOOKUP($C$4&\"_\"&$A38,post_wise,COLUMNS($A$5:O36),0),\"\")","v":""},{"$f":"IFERROR(VLOOKUP($C$4&\"_\"&$A38,post_wise,COLUMNS($A$5:P36),0),\"\")","v":""},{"$f":"IFERROR(VLOOKUP($C$4&\"_\"&$A38,post_wise,COLUMNS($A$5:Q36),0),\"\")","v":""},{"$f":"IFERROR(VLOOKUP($C$4&\"_\"&$A38,post_wise,COLUMNS($A$5:R36),0),\"\")","v":""},{"$f":"IFERROR(VLOOKUP($C$4&\"_\"&$A38,post_wise,COLUMNS($A$5:S36),0),\"\")","v":""},{"$f":"IFERROR(VLOOKUP($C$4&\"_\"&$A38,post_wise,COLUMNS($A$5:T36),0),\"\")","v":""},{"$f":"IFERROR(VLOOKUP($C$4&\"_\"&$A38,post_wise,COLUMNS($A$5:U36),0),\"\")","v":""},{"$f":"IFERROR(VLOOKUP($C$4&\"_\"&$A38,post_wise,COLUMNS($A$5:V36),0),\"\")","v":""},{"$f":"IFERROR(VLOOKUP($C$4&\"_\"&$A38,post_wise,COLUMNS($A$5:W36),0),\"\")","v":""},{"$f":"IFERROR(VLOOKUP($C$4&\"_\"&$A38,post_wise,COLUMNS($A$5:X36),0),\"\")","v":""},{"$f":"IFERROR(VLOOKUP($C$4&\"_\"&$A38,post_wise,COLUMNS($A$5:Y36),0),\"\")","v":""},{"$f":"IFERROR(VLOOKUP($C$4&\"_\"&$A38,post_wise,COLUMNS($A$5:Z36),0),\"\")","v":""},{"$f":"IFERROR(VLOOKUP($C$4&\"_\"&$A38,post_wise,COLUMNS($A$5:AA36),0),\"\")","v":""},{"$f":"IFERROR(VLOOKUP($C$4&\"_\"&$A38,post_wise,COLUMNS($A$5:AB36),0),\"\")","v":""},{"$f":"IFERROR(VLOOKUP($C$4&\"_\"&$A38,post_wise,COLUMNS($A$5:AC36),0),\"\")","v":""},{"$f":"IFERROR(VLOOKUP($C$4&\"_\"&$A38,post_wise,COLUMNS($A$5:AD36),0),\"\")","v":""},{"$f":"IFERROR(VLOOKUP($C$4&\"_\"&$A38,post_wise,COLUMNS($A$5:AE36),0),\"\")","v":""},{"$f":"IFERROR(VLOOKUP($C$4&\"_\"&$A38,post_wise,COLUMNS($A$5:AF36),0),\"\")","v":""},{"$f":"IFERROR(VLOOKUP($C$4&\"_\"&$A38,post_wise,COLUMNS($A$5:AG36),0),\"\")","v":""},{"$f":"IFERROR(VLOOKUP($C$4&\"_\"&$A38,post_wise,COLUMNS($A$5:AH36),0),\"\")","v":""},{"$f":"IFERROR(VLOOKUP($C$4&\"_\"&$A38,post_wise,COLUMNS($A$5:AI36),0),\"\")","v":""},{"$f":"IFERROR(VLOOKUP($C$4&\"_\"&$A38,post_wise,COLUMNS($A$5:AJ36),0),\"\")","v":""}]
[33,{"$f":"IFERROR(VLOOKUP($C$4&\"_\"&$A39,post_wise,COLUMNS($A$5:C37),0),\"\")","v":""},{"$f":"IFERROR(VLOOKUP($C$4&\"_\"&$A39,post_wise,COLUMNS($A$5:D37),0),\"\")","v":""},{"$f":"IFERROR(VLOOKUP($C$4&\"_\"&$A39,post_wise,COLUMNS($A$5:E37),0),\"\")","v":""},{"$f":"IFERROR(VLOOKUP($C$4&\"_\"&$A39,post_wise,COLUMNS($A$5:F37),0),\"\")","v":""},{"$f":"IFERROR(VLOOKUP($C$4&\"_\"&$A39,post_wise,COLUMNS($A$5:G37),0),\"\")","v":""},{"$f":"IFERROR(VLOOKUP($C$4&\"_\"&$A39,post_wise,COLUMNS($A$5:H37),0),\"\")","v":""},{"$f":"IFERROR(VLOOKUP($C$4&\"_\"&$A39,post_wise,COLUMNS($A$5:I37),0),\"\")","v":""},{"$f":"IFERROR(VLOOKUP($C$4&\"_\"&$A39,post_wise,COLUMNS($A$5:J37),0),\"\")","v":""},{"$f":"IFERROR(VLOOKUP($C$4&\"_\"&$A39,post_wise,COLUMNS($A$5:K37),0),\"\")","v":""},{"$f":"IFERROR(VLOOKUP($C$4&\"_\"&$A39,post_wise,COLUMNS($A$5:L37),0),\"\")","v":""},{"$f":"IFERROR(VLOOKUP($C$4&\"_\"&$A39,post_wise,COLUMNS($A$5:M37),0),\"\")","v":""},{"$f":"IFERROR(VLOOKUP($C$4&\"_\"&$A39,post_wise,COLUMNS($A$5:N37),0),\"\")","v":""},{"$f":"IFERROR(VLOOKUP($C$4&\"_\"&$A39,post_wise,COLUMNS($A$5:O37),0),\"\")","v":""},{"$f":"IFERROR(VLOOKUP($C$4&\"_\"&$A39,post_wise,COLUMNS($A$5:P37),0),\"\")","v":""},{"$f":"IFERROR(VLOOKUP($C$4&\"_\"&$A39,post_wise,COLUMNS($A$5:Q37),0),\"\")","v":""},{"$f":"IFERROR(VLOOKUP($C$4&\"_\"&$A39,post_wise,COLUMNS($A$5:R37),0),\"\")","v":""},{"$f":"IFERROR(VLOOKUP($C$4&\"_\"&$A39,post_wise,COLUMNS($A$5:S37),0),\"\")","v":""},{"$f":"IFERROR(VLOOKUP($C$4&\"_\"&$A39,post_wise,COLUMNS($A$5:T37),0),\"\")","v":""},{"$f":"IFERROR(VLOOKUP($C$4&\"_\"&$A39,post_wise,COLUMNS($A$5:U37),0),\"\")","v":""},{"$f":"IFERROR(VLOOKUP($C$4&\"_\"&$A39,post_wise,COLUMNS($A$5:V37),0),\"\")","v":""},{"$f":"IFERROR(VLOOKUP($C$4&\"_\"&$A39,post_wise,COLUMNS($A$5:W37),0),\"\")","v":""},{"$f":"IFERROR(VLOOKUP($C$4&\"_\"&$A39,post_wise,COLUMNS($A$5:X37),0),\"\")","v":""},{"$f":"IFERROR(VLOOKUP($C$4&\"_\"&$A39,post_wise,COLUMNS($A$5:Y37),0),\"\")","v":""},{"$f":"IFERROR(VLOOKUP($C$4&\"_\"&$A39,post_wise,COLUMNS($A$5:Z37),0),\"\")","v":""},{"$f":"IFERROR(VLOOKUP($C$4&\"_\"&$A39,post_wise,COLUMNS($A$5:AA37),0),\"\")","v":""},{"$f":"IFERROR(VLOOKUP($C$4&\"_\"&$A39,post_wise,COLUMNS($A$5:AB37),0),\"\")","v":""},{"$f":"IFERROR(VLOOKUP($C$4&\"_\"&$A39,post_wise,COLUMNS($A$5:AC37),0),\"\")","v":""},{"$f":"IFERROR(VLOOKUP($C$4&\"_\"&$A39,post_wise,COLUMNS($A$5:AD37),0),\"\")","v":""},{"$f":"IFERROR(VLOOKUP($C$4&\"_\"&$A39,post_wise,COLUMNS($A$5:AE37),0),\"\")","v":""},{"$f":"IFERROR(VLOOKUP($C$4&\"_\"&$A39,post_wise,COLUMNS($A$5:AF37),0),\"\")","v":""},{"$f":"IFERROR(VLOOKUP($C$4&\"_\"&$A39,post_wise,COLUMNS($A$5:AG37),0),\"\")","v":""},{"$f":"IFERROR(VLOOKUP($C$4&\"_\"&$A39,post_wise,COLUMNS($A$5:AH37),0),\"\")","v":""},{"$f":"IFERROR(VLOOKUP($C$4&\"_\"&$A39,post_wise,COLUMNS($A$5:AI37),0),\"\")","v":""},{"$f":"IFERROR(VLOOKUP($C$4&\"_\"&$A39,post_wise,COLUMNS($A$5:AJ37),0),\"\")","v":""}]
[34,{"$f":"IFERROR(VLOOKUP($C$4&\"_\"&$A40,post_wise,COLUMNS($A$5:C38),0),\"\")","v":""},{"$f":"IFERROR(VLOOKUP($C$4&\"_\"&$A40,post_wise,COLUMNS($A$5:D38),0),\"\")","v":""},{"$f":"IFERROR(VLOOKUP($C$4&\"_\"&$A40,post_wise,COLUMNS($A$5:E38),0),\"\")","v":""},{"$f":"IFERROR(VLOOKUP($C$4&\"_\"&$A40,post_wise,COLUMNS($A$5:F38),0),\"\")","v":""},{"$f":"IFERROR(VLOOKUP($C$4&\"_\"&$A40,post_wise,COLUMNS($A$5:G38),0),\"\")","v":""},{"$f":"IFERROR(VLOOKUP($C$4&\"_\"&$A40,post_wise,COLUMNS($A$5:H38),0),\"\")","v":""},{"$f":"IFERROR(VLOOKUP($C$4&\"_\"&$A40,post_wise,COLUMNS($A$5:I38),0),\"\")","v":""},{"$f":"IFERROR(VLOOKUP($C$4&\"_\"&$A40,post_wise,COLUMNS($A$5:J38),0),\"\")","v":""},{"$f":"IFERROR(VLOOKUP($C$4&\"_\"&$A40,post_wise,COLUMNS($A$5:K38),0),\"\")","v":""},{"$f":"IFERROR(VLOOKUP($C$4&\"_\"&$A40,post_wise,COLUMNS($A$5:L38),0),\"\")","v":""},{"$f":"IFERROR(VLOOKUP($C$4&\"_\"&$A40,post_wise,COLUMNS($A$5:M38),0),\"\")","v":""},{"$f":"IFERROR(VLOOKUP($C$4&\"_\"&$A40,post_wise,COLUMNS($A$5:N38),0),\"\")","v":""},{"$f":"IFERROR(VLOOKUP($C$4&\"_\"&$A40,post_wise,COLUMNS($A$5:O38),0),\"\")","v":""},{"$f":"IFERROR(VLOOKUP($C$4&\"_\"&$A40,post_wise,COLUMNS($A$5:P38),0),\"\")","v":""},{"$f":"IFERROR(VLOOKUP($C$4&\"_\"&$A40,post_wise,COLUMNS($A$5:Q38),0),\"\")","v":""},{"$f":"IFERROR(VLOOKUP($C$4&\"_\"&$A40,post_wise,COLUMNS($A$5:R38),0),\"\")","v":""},{"$f":"IFERROR(VLOOKUP($C$4&\"_\"&$A40,post_wise,COLUMNS($A$5:S38),0),\"\")","v":""},{"$f":"IFERROR(VLOOKUP($C$4&\"_\"&$A40,post_wise,COLUMNS($A$5:T38),0),\"\")","v":""},{"$f":"IFERROR(VLOOKUP($C$4&\"_\"&$A40,post_wise,COLUMNS($A$5:U38),0),\"\")","v":""},{"$f":"IFERROR(VLOOKUP($C$4&\"_\"&$A40,post_wise,COLUMNS($A$5:V38),0),\"\")","v":""},{"$f":"IFERROR(VLOOKUP($C$4&\"_\"&$A40,post_wise,COLUMNS($A$5:W38),0),\"\")","v":""},{"$f":"IFERROR(VLOOKUP($C$4&\"_\"&$A40,post_wise,COLUMNS($A$5:X38),0),\"\")","v":""},{"$f":"IFERROR(VLOOKUP($C$4&\"_\"&$A40,post_wise,COLUMNS($A$5:Y38),0),\"\")","v":""},{"$f":"IFERROR(VLOOKUP($C$4&\"_\"&$A40,post_wise,COLUMNS($A$5:Z38),0),\"\")","v":""},{"$f":"IFERROR(VLOOKUP($C$4&\"_\"&$A40,post_wise,COLUMNS($A$5:AA38),0),\"\")","v":""},{"$f":"IFERROR(VLOOKUP($C$4&\"_\"&$A40,post_wise,COLUMNS($A$5:AB38),0),\"\")","v":""},{"$f":"IFERROR(VLOOKUP($C$4&\"_\"&$A40,post_wise,COLUMNS($A$5:AC38),0),\"\")","v":""},{"$f":"IFERROR(VLOOKUP($C$4&\"_\"&$A40,post_wise,COLUMNS($A$5:AD38),0),\"\")","v":""},{"$f":"IFERROR(VLOOKUP($C$4&\"_\"&$A40,post_wise,COLUMNS($A$5:AE38),0),\"\")","v":""},{"$f":"IFERROR(VLOOKUP($C$4&\"_\"&$A40,post_wise,COLUMNS($A$5:AF38),0),\"\")","v":""},{"$f":"IFERROR(VLOOKUP($C$4&\"_\"&$A40,post_wise,COLUMNS($A$5:AG38),0),\"\")","v":""},{"$f":"IFERROR(VLOOKUP($C$4&\"_\"&$A40,post_wise,COLUMNS($A$5:AH38),0),\"\")","v":""},{"$f":"IFERROR(VLOOKUP($C$4&\"_\"&$A40,post_wise,COLUMNS($A$5:AI38),0),\"\")","v":""},{"$f":"IFERROR(VLOOKUP($C$4&\"_\"&$A40,post_wise,COLUMNS($A$5:AJ38),0),\"\")","v":""}]
[35,{"$f":"IFERROR(VLOOKUP($C$4&\"_\"&$A41,post_wise,COLUMNS($A$5:C39),0),\"\")","v":""},{"$f":"IFERROR(VLOOKUP($C$4&\"_\"&$A41,post_wise,COLUMNS($A$5:D39),0),\"\")","v":""},{"$f":"IFERROR(VLOOKUP($C$4&\"_\"&$A41,post_wise,COLUMNS($A$5:E39),0),\"\")","v":""},{"$f":"IFERROR(VLOOKUP($C$4&\"_\"&$A41,post_wise,COLUMNS($A$5:F39),0),\"\")","v":""},{"$f":"IFERROR(VLOOKUP($C$4&\"_\"&$A41,post_wise,COLUMNS($A$5:G39),0),\"\")","v":""},{"$f":"IFERROR(VLOOKUP($C$4&\"_\"&$A41,post_wise,COLUMNS($A$5:H39),0),\"\")","v":""},{"$f":"IFERROR(VLOOKUP($C$4&\"_\"&$A41,post_wise,COLUMNS($A$5:I39),0),\"\")","v":""},{"$f":"IFERROR(VLOOKUP($C$4&\"_\"&$A41,post_wise,COLUMNS($A$5:J39),0),\"\")","v":""},{"$f":"IFERROR(VLOOKUP($C$4&\"_\"&$A41,post_wise,COLUMNS($A$5:K39),0),\"\")","v":""},{"$f":"IFERROR(VLOOKUP($C$4&\"_\"&$A41,post_wise,COLUMNS($A$5:L39),0),\"\")","v":""},{"$f":"IFERROR(VLOOKUP($C$4&\"_\"&$A41,post_wise,COLUMNS($A$5:M39),0),\"\")","v":""},{"$f":"IFERROR(VLOOKUP($C$4&\"_\"&$A41,post_wise,COLUMNS($A$5:N39),0),\"\")","v":""},{"$f":"IFERROR(VLOOKUP($C$4&\"_\"&$A41,post_wise,COLUMNS($A$5:O39),0),\"\")","v":""},{"$f":"IFERROR(VLOOKUP($C$4&\"_\"&$A41,post_wise,COLUMNS($A$5:P39),0),\"\")","v":""},{"$f":"IFERROR(VLOOKUP($C$4&\"_\"&$A41,post_wise,COLUMNS($A$5:Q39),0),\"\")","v":""},{"$f":"IFERROR(VLOOKUP($C$4&\"_\"&$A41,post_wise,COLUMNS($A$5:R39),0),\"\")","v":""},{"$f":"IFERROR(VLOOKUP($C$4&\"_\"&$A41,post_wise,COLUMNS($A$5:S39),0),\"\")","v":""},{"$f":"IFERROR(VLOOKUP($C$4&\"_\"&$A41,post_wise,COLUMNS($A$5:T39),0),\"\")","v":""},{"$f":"IFERROR(VLOOKUP($C$4&\"_\"&$A41,post_wise,COLUMNS($A$5:U39),0),\"\")","v":""},{"$f":"IFERROR(VLOOKUP($C$4&\"_\"&$A41,post_wise,COLUMNS($A$5:V39),0),\"\")","v":""},{"$f":"IFERROR(VLOOKUP($C$4&\"_\"&$A41,post_wise,COLUMNS($A$5:W39),0),\"\")","v":""},{"$f":"IFERROR(VLOOKUP($C$4&\"_\"&$A41,post_wise,COLUMNS($A$5:X39),0),\"\")","v":""},{"$f":"IFERROR(VLOOKUP($C$4&\"_\"&$A41,post_wise,COLUMNS($A$5:Y39),0),\"\")","v":""},{"$f":"IFERROR(VLOOKUP($C$4&\"_\"&$A41,post_wise,COLUMNS($A$5:Z39),0),\"\")","v":""},{"$f":"IFERROR(VLOOKUP($C$4&\"_\"&$A41,post_wise,COLUMNS($A$5:AA39),0),\"\")","v":""},{"$f":"IFERROR(VLOOKUP($C$4&\"_\"&$A41,post_wise,COLUMNS($A$5:AB39),0),\"\")","v":""},{"$f":"IFERROR(VLOOKUP($C$4&\"_\"&$A41,post_wise,COLUMNS($A$5:AC39),0),\"\")","v":""},{"$f":"IFERROR(VLOOKUP($C$4&\"_\"&$A41,post_wise,COLUMNS($A$5:AD39),0),\"\")","v":""},{"$f":"IFERROR(VLOOKUP($C$4&\"_\"&$A41,post_wise,COLUMNS($A$5:AE39),0),\"\")","v":""},{"$f":"IFERROR(VLOOKUP($C$4&\"_\"&$A41,post_wise,COLUMNS($A$5:AF39),0),\"\")","v":""},{"$f":"IFERROR(VLOOKUP($C$4&\"_\"&$A41,post_wise,COLUMNS($A$5:AG39),0),\"\")","v":""},{"$f":"IFERROR(VLOOKUP($C$4&\"_\"&$A41,post_wise,COLUMNS($A$5:AH39),0),\"\")","v":""},{"$f":"IFERROR(VLOOKUP($C$4&\"_\"&$A41,post_wise,COLUMNS($A$5:AI39),0),\"\")","v":""},{"$f":"IFERROR(VLOOKUP($C$4&\"_\"&$A41,post_wise,COLUMNS($A$5:AJ39),0),\"\")","v":""}]
[36,{"$f":"IFERROR(VLOOKUP($C$4&\"_\"&$A42,post_wise,COLUMNS($A$5:C40),0),\"\")","v":""},{"$f":"IFERROR(VLOOKUP($C$4&\"_\"&$A42,post_wise,COLUMNS($A$5:D40),0),\"\")","v":""},{"$f":"IFERROR(VLOOKUP($C$4&\"_\"&$A42,post_wise,COLUMNS($A$5:E40),0),\"\")","v":""},{"$f":"IFERROR(VLOOKUP($C$4&\"_\"&$A42,post_wise,COLUMNS($A$5:F40),0),\"\")","v":""},{"$f":"IFERROR(VLOOKUP($C$4&\"_\"&$A42,post_wise,COLUMNS($A$5:G40),0),\"\")","v":""},{"$f":"IFERROR(VLOOKUP($C$4&\"_\"&$A42,post_wise,COLUMNS($A$5:H40),0),\"\")","v":""},{"$f":"IFERROR(VLOOKUP($C$4&\"_\"&$A42,post_wise,COLUMNS($A$5:I40),0),\"\")","v":""},{"$f":"IFERROR(VLOOKUP($C$4&\"_\"&$A42,post_wise,COLUMNS($A$5:J40),0),\"\")","v":""},{"$f":"IFERROR(VLOOKUP($C$4&\"_\"&$A42,post_wise,COLUMNS($A$5:K40),0),\"\")","v":""},{"$f":"IFERROR(VLOOKUP($C$4&\"_\"&$A42,post_wise,COLUMNS($A$5:L40),0),\"\")","v":""},{"$f":"IFERROR(VLOOKUP($C$4&\"_\"&$A42,post_wise,COLUMNS($A$5:M40),0),\"\")","v":""},{"$f":"IFERROR(VLOOKUP($C$4&\"_\"&$A42,post_wise,COLUMNS($A$5:N40),0),\"\")","v":""},{"$f":"IFERROR(VLOOKUP($C$4&\"_\"&$A42,post_wise,COLUMNS($A$5:O40),0),\"\")","v":""},{"$f":"IFERROR(VLOOKUP($C$4&\"_\"&$A42,post_wise,COLUMNS($A$5:P40),0),\"\")","v":""},{"$f":"IFERROR(VLOOKUP($C$4&\"_\"&$A42,post_wise,COLUMNS($A$5:Q40),0),\"\")","v":""},{"$f":"IFERROR(VLOOKUP($C$4&\"_\"&$A42,post_wise,COLUMNS($A$5:R40),0),\"\")","v":""},{"$f":"IFERROR(VLOOKUP($C$4&\"_\"&$A42,post_wise,COLUMNS($A$5:S40),0),\"\")","v":""},{"$f":"IFERROR(VLOOKUP($C$4&\"_\"&$A42,post_wise,COLUMNS($A$5:T40),0),\"\")","v":""},{"$f":"IFERROR(VLOOKUP($C$4&\"_\"&$A42,post_wise,COLUMNS($A$5:U40),0),\"\")","v":""},{"$f":"IFERROR(VLOOKUP($C$4&\"_\"&$A42,post_wise,COLUMNS($A$5:V40),0),\"\")","v":""},{"$f":"IFERROR(VLOOKUP($C$4&\"_\"&$A42,post_wise,COLUMNS($A$5:W40),0),\"\")","v":""},{"$f":"IFERROR(VLOOKUP($C$4&\"_\"&$A42,post_wise,COLUMNS($A$5:X40),0),\"\")","v":""},{"$f":"IFERROR(VLOOKUP($C$4&\"_\"&$A42,post_wise,COLUMNS($A$5:Y40),0),\"\")","v":""},{"$f":"IFERROR(VLOOKUP($C$4&\"_\"&$A42,post_wise,COLUMNS($A$5:Z40),0),\"\")","v":""},{"$f":"IFERROR(VLOOKUP($C$4&\"_\"&$A42,post_wise,COLUMNS($A$5:AA40),0),\"\")","v":""},{"$f":"IFERROR(VLOOKUP($C$4&\"_\"&$A42,post_wise,COLUMNS($A$5:AB40),0),\"\")","v":""},{"$f":"IFERROR(VLOOKUP($C$4&\"_\"&$A42,post_wise,COLUMNS($A$5:AC40),0),\"\")","v":""},{"$f":"IFERROR(VLOOKUP($C$4&\"_\"&$A42,post_wise,COLUMNS($A$5:AD40),0),\"\")","v":""},{"$f":"IFERROR(VLOOKUP($C$4&\"_\"&$A42,post_wise,COLUMNS($A$5:AE40),0),\"\")","v":""},{"$f":"IFERROR(VLOOKUP($C$4&\"_\"&$A42,post_wise,COLUMNS($A$5:AF40),0),\"\")","v":""},{"$f":"IFERROR(VLOOKUP($C$4&\"_\"&$A42,post_wise,COLUMNS($A$5:AG40),0),\"\")","v":""},{"$f":"IFERROR(VLOOKUP($C$4&\"_\"&$A42,post_wise,COLUMNS($A$5:AH40),0),\"\")","v":""},{"$f":"IFERROR(VLOOKUP($C$4&\"_\"&$A42,post_wise,COLUMNS($A$5:AI40),0),\"\")","v":""},{"$f":"IFERROR(VLOOKUP($C$4&\"_\"&$A42,post_wise,COLUMNS($A$5:AJ40),0),\"\")","v":""}]
[37,{"$f":"IFERROR(VLOOKUP($C$4&\"_\"&$A43,post_wise,COLUMNS($A$5:C41),0),\"\")","v":""},{"$f":"IFERROR(VLOOKUP($C$4&\"_\"&$A43,post_wise,COLUMNS($A$5:D41),0),\"\")","v":""},{"$f":"IFERROR(VLOOKUP($C$4&\"_\"&$A43,post_wise,COLUMNS($A$5:E41),0),\"\")","v":""},{"$f":"IFERROR(VLOOKUP($C$4&\"_\"&$A43,post_wise,COLUMNS($A$5:F41),0),\"\")","v":""},{"$f":"IFERROR(VLOOKUP($C$4&\"_\"&$A43,post_wise,COLUMNS($A$5:G41),0),\"\")","v":""},{"$f":"IFERROR(VLOOKUP($C$4&\"_\"&$A43,post_wise,COLUMNS($A$5:H41),0),\"\")","v":""},{"$f":"IFERROR(VLOOKUP($C$4&\"_\"&$A43,post_wise,COLUMNS($A$5:I41),0),\"\")","v":""},{"$f":"IFERROR(VLOOKUP($C$4&\"_\"&$A43,post_wise,COLUMNS($A$5:J41),0),\"\")","v":""},{"$f":"IFERROR(VLOOKUP($C$4&\"_\"&$A43,post_wise,COLUMNS($A$5:K41),0),\"\")","v":""},{"$f":"IFERROR(VLOOKUP($C$4&\"_\"&$A43,post_wise,COLUMNS($A$5:L41),0),\"\")","v":""},{"$f":"IFERROR(VLOOKUP($C$4&\"_\"&$A43,post_wise,COLUMNS($A$5:M41),0),\"\")","v":""},{"$f":"IFERROR(VLOOKUP($C$4&\"_\"&$A43,post_wise,COLUMNS($A$5:N41),0),\"\")","v":""},{"$f":"IFERROR(VLOOKUP($C$4&\"_\"&$A43,post_wise,COLUMNS($A$5:O41),0),\"\")","v":""},{"$f":"IFERROR(VLOOKUP($C$4&\"_\"&$A43,post_wise,COLUMNS($A$5:P41),0),\"\")","v":""},{"$f":"IFERROR(VLOOKUP($C$4&\"_\"&$A43,post_wise,COLUMNS($A$5:Q41),0),\"\")","v":""},{"$f":"IFERROR(VLOOKUP($C$4&\"_\"&$A43,post_wise,COLUMNS($A$5:R41),0),\"\")","v":""},{"$f":"IFERROR(VLOOKUP($C$4&\"_\"&$A43,post_wise,COLUMNS($A$5:S41),0),\"\")","v":""},{"$f":"IFERROR(VLOOKUP($C$4&\"_\"&$A43,post_wise,COLUMNS($A$5:T41),0),\"\")","v":""},{"$f":"IFERROR(VLOOKUP($C$4&\"_\"&$A43,post_wise,COLUMNS($A$5:U41),0),\"\")","v":""},{"$f":"IFERROR(VLOOKUP($C$4&\"_\"&$A43,post_wise,COLUMNS($A$5:V41),0),\"\")","v":""},{"$f":"IFERROR(VLOOKUP($C$4&\"_\"&$A43,post_wise,COLUMNS($A$5:W41),0),\"\")","v":""},{"$f":"IFERROR(VLOOKUP($C$4&\"_\"&$A43,post_wise,COLUMNS($A$5:X41),0),\"\")","v":""},{"$f":"IFERROR(VLOOKUP($C$4&\"_\"&$A43,post_wise,COLUMNS($A$5:Y41),0),\"\")","v":""},{"$f":"IFERROR(VLOOKUP($C$4&\"_\"&$A43,post_wise,COLUMNS($A$5:Z41),0),\"\")","v":""},{"$f":"IFERROR(VLOOKUP($C$4&\"_\"&$A43,post_wise,COLUMNS($A$5:AA41),0),\"\")","v":""},{"$f":"IFERROR(VLOOKUP($C$4&\"_\"&$A43,post_wise,COLUMNS($A$5:AB41),0),\"\")","v":""},{"$f":"IFERROR(VLOOKUP($C$4&\"_\"&$A43,post_wise,COLUMNS($A$5:AC41),0),\"\")","v":""},{"$f":"IFERROR(VLOOKUP($C$4&\"_\"&$A43,post_wise,COLUMNS($A$5:AD41),0),\"\")","v":""},{"$f":"IFERROR(VLOOKUP($C$4&\"_\"&$A43,post_wise,COLUMNS($A$5:AE41),0),\"\")","v":""},{"$f":"IFERROR(VLOOKUP($C$4&\"_\"&$A43,post_wise,COLUMNS($A$5:AF41),0),\"\")","v":""},{"$f":"IFERROR(VLOOKUP($C$4&\"_\"&$A43,post_wise,COLUMNS($A$5:AG41),0),\"\")","v":""},{"$f":"IFERROR(VLOOKUP($C$4&\"_\"&$A43,post_wise,COLUMNS($A$5:AH41),0),\"\")","v":""},{"$f":"IFERROR(VLOOKUP($C$4&\"_\"&$A43,post_wise,COLUMNS($A$5:AI41),0),\"\")","v":""},{"$f":"IFERROR(VLOOKUP($C$4&\"_\"&$A43,post_wise,COLUMNS($A$5:AJ41),0),\"\")","v":""}]
[38,{"$f":"IFERROR(VLOOKUP($C$4&\"_\"&$A44,post_wise,COLUMNS($A$5:C42),0),\"\")","v":""},{"$f":"IFERROR(VLOOKUP($C$4&\"_\"&$A44,post_wise,COLUMNS($A$5:D42),0),\"\")","v":""},{"$f":"IFERROR(VLOOKUP($C$4&\"_\"&$A44,post_wise,COLUMNS($A$5:E42),0),\"\")","v":""},{"$f":"IFERROR(VLOOKUP($C$4&\"_\"&$A44,post_wise,COLUMNS($A$5:F42),0),\"\")","v":""},{"$f":"IFERROR(VLOOKUP($C$4&\"_\"&$A44,post_wise,COLUMNS($A$5:G42),0),\"\")","v":""},{"$f":"IFERROR(VLOOKUP($C$4&\"_\"&$A44,post_wise,COLUMNS($A$5:H42),0),\"\")","v":""},{"$f":"IFERROR(VLOOKUP($C$4&\"_\"&$A44,post_wise,COLUMNS($A$5:I42),0),\"\")","v":""},{"$f":"IFERROR(VLOOKUP($C$4&\"_\"&$A44,post_wise,COLUMNS($A$5:J42),0),\"\")","v":""},{"$f":"IFERROR(VLOOKUP($C$4&\"_\"&$A44,post_wise,COLUMNS($A$5:K42),0),\"\")","v":""},{"$f":"IFERROR(VLOOKUP($C$4&\"_\"&$A44,post_wise,COLUMNS($A$5:L42),0),\"\")","v":""},{"$f":"IFERROR(VLOOKUP($C$4&\"_\"&$A44,post_wise,COLUMNS($A$5:M42),0),\"\")","v":""},{"$f":"IFERROR(VLOOKUP($C$4&\"_\"&$A44,post_wise,COLUMNS($A$5:N42),0),\"\")","v":""},{"$f":"IFERROR(VLOOKUP($C$4&\"_\"&$A44,post_wise,COLUMNS($A$5:O42),0),\"\")","v":""},{"$f":"IFERROR(VLOOKUP($C$4&\"_\"&$A44,post_wise,COLUMNS($A$5:P42),0),\"\")","v":""},{"$f":"IFERROR(VLOOKUP($C$4&\"_\"&$A44,post_wise,COLUMNS($A$5:Q42),0),\"\")","v":""},{"$f":"IFERROR(VLOOKUP($C$4&\"_\"&$A44,post_wise,COLUMNS($A$5:R42),0),\"\")","v":""},{"$f":"IFERROR(VLOOKUP($C$4&\"_\"&$A44,post_wise,COLUMNS($A$5:S42),0),\"\")","v":""},{"$f":"IFERROR(VLOOKUP($C$4&\"_\"&$A44,post_wise,COLUMNS($A$5:T42),0),\"\")","v":""},{"$f":"IFERROR(VLOOKUP($C$4&\"_\"&$A44,post_wise,COLUMNS($A$5:U42),0),\"\")","v":""},{"$f":"IFERROR(VLOOKUP($C$4&\"_\"&$A44,post_wise,COLUMNS($A$5:V42),0),\"\")","v":""},{"$f":"IFERROR(VLOOKUP($C$4&\"_\"&$A44,post_wise,COLUMNS($A$5:W42),0),\"\")","v":""},{"$f":"IFERROR(VLOOKUP($C$4&\"_\"&$A44,post_wise,COLUMNS($A$5:X42),0),\"\")","v":""},{"$f":"IFERROR(VLOOKUP($C$4&\"_\"&$A44,post_wise,COLUMNS($A$5:Y42),0),\"\")","v":""},{"$f":"IFERROR(VLOOKUP($C$4&\"_\"&$A44,post_wise,COLUMNS($A$5:Z42),0),\"\")","v":""},{"$f":"IFERROR(VLOOKUP($C$4&\"_\"&$A44,post_wise,COLUMNS($A$5:AA42),0),\"\")","v":""},{"$f":"IFERROR(VLOOKUP($C$4&\"_\"&$A44,post_wise,COLUMNS($A$5:AB42),0),\"\")","v":""},{"$f":"IFERROR(VLOOKUP($C$4&\"_\"&$A44,post_wise,COLUMNS($A$5:AC42),0),\"\")","v":""},{"$f":"IFERROR(VLOOKUP($C$4&\"_\"&$A44,post_wise,COLUMNS($A$5:AD42),0),\"\")","v":""},{"$f":"IFERROR(VLOOKUP($C$4&\"_\"&$A44,post_wise,COLUMNS($A$5:AE42),0),\"\")","v":""},{"$f":"IFERROR(VLOOKUP($C$4&\"_\"&$A44,post_wise,COLUMNS($A$5:AF42),0),\"\")","v":""},{"$f":"IFERROR(VLOOKUP($C$4&\"_\"&$A44,post_wise,COLUMNS($A$5:AG42),0),\"\")","v":""},{"$f":"IFERROR(VLOOKUP($C$4&\"_\"&$A44,post_wise,COLUMNS($A$5:AH42),0),\"\")","v":""},{"$f":"IFERROR(VLOOKUP($C$4&\"_\"&$A44,post_wise,COLUMNS($A$5:AI42),0),\"\")","v":""},{"$f":"IFERROR(VLOOKUP($C$4&\"_\"&$A44,post_wise,COLUMNS($A$5:AJ42),0),\"\")","v":""}]
[39,{"$f":"IFERROR(VLOOKUP($C$4&\"_\"&$A45,post_wise,COLUMNS($A$5:C43),0),\"\")","v":""},{"$f":"IFERROR(VLOOKUP($C$4&\"_\"&$A45,post_wise,COLUMNS($A$5:D43),0),\"\")","v":""},{"$f":"IFERROR(VLOOKUP($C$4&\"_\"&$A45,post_wise,COLUMNS($A$5:E43),0),\"\")","v":""},{"$f":"IFERROR(VLOOKUP($C$4&\"_\"&$A45,post_wise,COLUMNS($A$5:F43),0),\"\")","v":""},{"$f":"IFERROR(VLOOKUP($C$4&\"_\"&$A45,post_wise,COLUMNS($A$5:G43),0),\"\")","v":""},{"$f":"IFERROR(VLOOKUP($C$4&\"_\"&$A45,post_wise,COLUMNS($A$5:H43),0),\"\")","v":""},{"$f":"IFERROR(VLOOKUP($C$4&\"_\"&$A45,post_wise,COLUMNS($A$5:I43),0),\"\")","v":""},{"$f":"IFERROR(VLOOKUP($C$4&\"_\"&$A45,post_wise,COLUMNS($A$5:J43),0),\"\")","v":""},{"$f":"IFERROR(VLOOKUP($C$4&\"_\"&$A45,post_wise,COLUMNS($A$5:K43),0),\"\")","v":""},{"$f":"IFERROR(VLOOKUP($C$4&\"_\"&$A45,post_wise,COLUMNS($A$5:L43),0),\"\")","v":""},{"$f":"IFERROR(VLOOKUP($C$4&\"_\"&$A45,post_wise,COLUMNS($A$5:M43),0),\"\")","v":""},{"$f":"IFERROR(VLOOKUP($C$4&\"_\"&$A45,post_wise,COLUMNS($A$5:N43),0),\"\")","v":""},{"$f":"IFERROR(VLOOKUP($C$4&\"_\"&$A45,post_wise,COLUMNS($A$5:O43),0),\"\")","v":""},{"$f":"IFERROR(VLOOKUP($C$4&\"_\"&$A45,post_wise,COLUMNS($A$5:P43),0),\"\")","v":""},{"$f":"IFERROR(VLOOKUP($C$4&\"_\"&$A45,post_wise,COLUMNS($A$5:Q43),0),\"\")","v":""},{"$f":"IFERROR(VLOOKUP($C$4&\"_\"&$A45,post_wise,COLUMNS($A$5:R43),0),\"\")","v":""},{"$f":"IFERROR(VLOOKUP($C$4&\"_\"&$A45,post_wise,COLUMNS($A$5:S43),0),\"\")","v":""},{"$f":"IFERROR(VLOOKUP($C$4&\"_\"&$A45,post_wise,COLUMNS($A$5:T43),0),\"\")","v":""},{"$f":"IFERROR(VLOOKUP($C$4&\"_\"&$A45,post_wise,COLUMNS($A$5:U43),0),\"\")","v":""},{"$f":"IFERROR(VLOOKUP($C$4&\"_\"&$A45,post_wise,COLUMNS($A$5:V43),0),\"\")","v":""},{"$f":"IFERROR(VLOOKUP($C$4&\"_\"&$A45,post_wise,COLUMNS($A$5:W43),0),\"\")","v":""},{"$f":"IFERROR(VLOOKUP($C$4&\"_\"&$A45,post_wise,COLUMNS($A$5:X43),0),\"\")","v":""},{"$f":"IFERROR(VLOOKUP($C$4&\"_\"&$A45,post_wise,COLUMNS($A$5:Y43),0),\"\")","v":""},{"$f":"IFERROR(VLOOKUP($C$4&\"_\"&$A45,post_wise,COLUMNS($A$5:Z43),0),\"\")","v":""},{"$f":"IFERROR(VLOOKUP($C$4&\"_\"&$A45,post_wise,COLUMNS($A$5:AA43),0),\"\")","v":""},{"$f":"IFERROR(VLOOKUP($C$4&\"_\"&$A45,post_wise,COLUMNS($A$5:AB43),0),\"\")","v":""},{"$f":"IFERROR(VLOOKUP($C$4&\"_\"&$A45,post_wise,COLUMNS($A$5:AC43),0),\"\")","v":""},{"$f":"IFERROR(VLOOKUP($C$4&\"_\"&$A45,post_wise,COLUMNS($A$5:AD43),0),\"\")","v":""},{"$f":"IFERROR(VLOOKUP($C$4&\"_\"&$A45,post_wise,COLUMNS($A$5:AE43),0),\"\")","v":""},{"$f":"IFERROR(VLOOKUP($C$4&\"_\"&$A45,post_wise,COLUMNS($A$5:AF43),0),\"\")","v":""},{"$f":"IFERROR(VLOOKUP($C$4&\"_\"&$A45,post_wise,COLUMNS($A$5:AG43),0),\"\")","v":""},{"$f":"IFERROR(VLOOKUP($C$4&\"_\"&$A45,post_wise,COLUMNS($A$5:AH43),0),\"\")","v":""},{"$f":"IFERROR(VLOOKUP($C$4&\"_\"&$A45,post_wise,COLUMNS($A$5:AI43),0),\"\")","v":""},{"$f":"IFERROR(VLOOKUP($C$4&\"_\"&$A45,post_wise,COLUMNS($A$5:AJ43),0),\"\")","v":""}]
[40,{"$f":"IFERROR(VLOOKUP($C$4&\"_\"&$A46,post_wise,COLUMNS($A$5:C44),0),\"\")","v":""},{"$f":"IFERROR(VLOOKUP($C$4&\"_\"&$A46,post_wise,COLUMNS($A$5:D44),0),\"\")","v":""},{"$f":"IFERROR(VLOOKUP($C$4&\"_\"&$A46,post_wise,COLUMNS($A$5:E44),0),\"\")","v":""},{"$f":"IFERROR(VLOOKUP($C$4&\"_\"&$A46,post_wise,COLUMNS($A$5:F44),0),\"\")","v":""},{"$f":"IFERROR(VLOOKUP($C$4&\"_\"&$A46,post_wise,COLUMNS($A$5:G44),0),\"\")","v":""},{"$f":"IFERROR(VLOOKUP($C$4&\"_\"&$A46,post_wise,COLUMNS($A$5:H44),0),\"\")","v":""},{"$f":"IFERROR(VLOOKUP($C$4&\"_\"&$A46,post_wise,COLUMNS($A$5:I44),0),\"\")","v":""},{"$f":"IFERROR(VLOOKUP($C$4&\"_\"&$A46,post_wise,COLUMNS($A$5:J44),0),\"\")","v":""},{"$f":"IFERROR(VLOOKUP($C$4&\"_\"&$A46,post_wise,COLUMNS($A$5:K44),0),\"\")","v":""},{"$f":"IFERROR(VLOOKUP($C$4&\"_\"&$A46,post_wise,COLUMNS($A$5:L44),0),\"\")","v":""},{"$f":"IFERROR(VLOOKUP($C$4&\"_\"&$A46,post_wise,COLUMNS($A$5:M44),0),\"\")","v":""},{"$f":"IFERROR(VLOOKUP($C$4&\"_\"&$A46,post_wise,COLUMNS($A$5:N44),0),\"\")","v":""},{"$f":"IFERROR(VLOOKUP($C$4&\"_\"&$A46,post_wise,COLUMNS($A$5:O44),0),\"\")","v":""},{"$f":"IFERROR(VLOOKUP($C$4&\"_\"&$A46,post_wise,COLUMNS($A$5:P44),0),\"\")","v":""},{"$f":"IFERROR(VLOOKUP($C$4&\"_\"&$A46,post_wise,COLUMNS($A$5:Q44),0),\"\")","v":""},{"$f":"IFERROR(VLOOKUP($C$4&\"_\"&$A46,post_wise,COLUMNS($A$5:R44),0),\"\")","v":""},{"$f":"IFERROR(VLOOKUP($C$4&\"_\"&$A46,post_wise,COLUMNS($A$5:S44),0),\"\")","v":""},{"$f":"IFERROR(VLOOKUP($C$4&\"_\"&$A46,post_wise,COLUMNS($A$5:T44),0),\"\")","v":""},{"$f":"IFERROR(VLOOKUP($C$4&\"_\"&$A46,post_wise,COLUMNS($A$5:U44),0),\"\")","v":""},{"$f":"IFERROR(VLOOKUP($C$4&\"_\"&$A46,post_wise,COLUMNS($A$5:V44),0),\"\")","v":""},{"$f":"IFERROR(VLOOKUP($C$4&\"_\"&$A46,post_wise,COLUMNS($A$5:W44),0),\"\")","v":""},{"$f":"IFERROR(VLOOKUP($C$4&\"_\"&$A46,post_wise,COLUMNS($A$5:X44),0),\"\")","v":""},{"$f":"IFERROR(VLOOKUP($C$4&\"_\"&$A46,post_wise,COLUMNS($A$5:Y44),0),\"\")","v":""},{"$f":"IFERROR(VLOOKUP($C$4&\"_\"&$A46,post_wise,COLUMNS($A$5:Z44),0),\"\")","v":""},{"$f":"IFERROR(VLOOKUP($C$4&\"_\"&$A46,post_wise,COLUMNS($A$5:AA44),0),\"\")","v":""},{"$f":"IFERROR(VLOOKUP($C$4&\"_\"&$A46,post_wise,COLUMNS($A$5:AB44),0),\"\")","v":""},{"$f":"IFERROR(VLOOKUP($C$4&\"_\"&$A46,post_wise,COLUMNS($A$5:AC44),0),\"\")","v":""},{"$f":"IFERROR(VLOOKUP($C$4&\"_\"&$A46,post_wise,COLUMNS($A$5:AD44),0),\"\")","v":""},{"$f":"IFERROR(VLOOKUP($C$4&\"_\"&$A46,post_wise,COLUMNS($A$5:AE44),0),\"\")","v":""},{"$f":"IFERROR(VLOOKUP($C$4&\"_\"&$A46,post_wise,COLUMNS($A$5:AF44),0),\"\")","v":""},{"$f":"IFERROR(VLOOKUP($C$4&\"_\"&$A46,post_wise,COLUMNS($A$5:AG44),0),\"\")","v":""},{"$f":"IFERROR(VLOOKUP($C$4&\"_\"&$A46,post_wise,COLUMNS($A$5:AH44),0),\"\")","v":""},{"$f":"IFERROR(VLOOKUP($C$4&\"_\"&$A46,post_wise,COLUMNS($A$5:AI44),0),\"\")","v":""},{"$f":"IFERROR(VLOOKUP($C$4&\"_\"&$A46,post_wise,COLUMNS($A$5:AJ44),0),\"\")","v":""}]
[41,{"$f":"IFERROR(VLOOKUP($C$4&\"_\"&$A47,post_wise,COLUMNS($A$5:C45),0),\"\")","v":""},{"$f":"IFERROR(VLOOKUP($C$4&\"_\"&$A47,post_wise,COLUMNS($A$5:D45),0),\"\")","v":""},{"$f":"IFERROR(VLOOKUP($C$4&\"_\"&$A47,post_wise,COLUMNS($A$5:E45),0),\"\")","v":""},{"$f":"IFERROR(VLOOKUP($C$4&\"_\"&$A47,post_wise,COLUMNS($A$5:F45),0),\"\")","v":""},{"$f":"IFERROR(VLOOKUP($C$4&\"_\"&$A47,post_wise,COLUMNS($A$5:G45),0),\"\")","v":""},{"$f":"IFERROR(VLOOKUP($C$4&\"_\"&$A47,post_wise,COLUMNS($A$5:H45),0),\"\")","v":""},{"$f":"IFERROR(VLOOKUP($C$4&\"_\"&$A47,post_wise,COLUMNS($A$5:I45),0),\"\")","v":""},{"$f":"IFERROR(VLOOKUP($C$4&\"_\"&$A47,post_wise,COLUMNS($A$5:J45),0),\"\")","v":""},{"$f":"IFERROR(VLOOKUP($C$4&\"_\"&$A47,post_wise,COLUMNS($A$5:K45),0),\"\")","v":""},{"$f":"IFERROR(VLOOKUP($C$4&\"_\"&$A47,post_wise,COLUMNS($A$5:L45),0),\"\")","v":""},{"$f":"IFERROR(VLOOKUP($C$4&\"_\"&$A47,post_wise,COLUMNS($A$5:M45),0),\"\")","v":""},{"$f":"IFERROR(VLOOKUP($C$4&\"_\"&$A47,post_wise,COLUMNS($A$5:N45),0),\"\")","v":""},{"$f":"IFERROR(VLOOKUP($C$4&\"_\"&$A47,post_wise,COLUMNS($A$5:O45),0),\"\")","v":""},{"$f":"IFERROR(VLOOKUP($C$4&\"_\"&$A47,post_wise,COLUMNS($A$5:P45),0),\"\")","v":""},{"$f":"IFERROR(VLOOKUP($C$4&\"_\"&$A47,post_wise,COLUMNS($A$5:Q45),0),\"\")","v":""},{"$f":"IFERROR(VLOOKUP($C$4&\"_\"&$A47,post_wise,COLUMNS($A$5:R45),0),\"\")","v":""},{"$f":"IFERROR(VLOOKUP($C$4&\"_\"&$A47,post_wise,COLUMNS($A$5:S45),0),\"\")","v":""},{"$f":"IFERROR(VLOOKUP($C$4&\"_\"&$A47,post_wise,COLUMNS($A$5:T45),0),\"\")","v":""},{"$f":"IFERROR(VLOOKUP($C$4&\"_\"&$A47,post_wise,COLUMNS($A$5:U45),0),\"\")","v":""},{"$f":"IFERROR(VLOOKUP($C$4&\"_\"&$A47,post_wise,COLUMNS($A$5:V45),0),\"\")","v":""},{"$f":"IFERROR(VLOOKUP($C$4&\"_\"&$A47,post_wise,COLUMNS($A$5:W45),0),\"\")","v":""},{"$f":"IFERROR(VLOOKUP($C$4&\"_\"&$A47,post_wise,COLUMNS($A$5:X45),0),\"\")","v":""},{"$f":"IFERROR(VLOOKUP($C$4&\"_\"&$A47,post_wise,COLUMNS($A$5:Y45),0),\"\")","v":""},{"$f":"IFERROR(VLOOKUP($C$4&\"_\"&$A47,post_wise,COLUMNS($A$5:Z45),0),\"\")","v":""},{"$f":"IFERROR(VLOOKUP($C$4&\"_\"&$A47,post_wise,COLUMNS($A$5:AA45),0),\"\")","v":""},{"$f":"IFERROR(VLOOKUP($C$4&\"_\"&$A47,post_wise,COLUMNS($A$5:AB45),0),\"\")","v":""},{"$f":"IFERROR(VLOOKUP($C$4&\"_\"&$A47,post_wise,COLUMNS($A$5:AC45),0),\"\")","v":""},{"$f":"IFERROR(VLOOKUP($C$4&\"_\"&$A47,post_wise,COLUMNS($A$5:AD45),0),\"\")","v":""},{"$f":"IFERROR(VLOOKUP($C$4&\"_\"&$A47,post_wise,COLUMNS($A$5:AE45),0),\"\")","v":""},{"$f":"IFERROR(VLOOKUP($C$4&\"_\"&$A47,post_wise,COLUMNS($A$5:AF45),0),\"\")","v":""},{"$f":"IFERROR(VLOOKUP($C$4&\"_\"&$A47,post_wise,COLUMNS($A$5:AG45),0),\"\")","v":""},{"$f":"IFERROR(VLOOKUP($C$4&\"_\"&$A47,post_wise,COLUMNS($A$5:AH45),0),\"\")","v":""},{"$f":"IFERROR(VLOOKUP($C$4&\"_\"&$A47,post_wise,COLUMNS($A$5:AI45),0),\"\")","v":""},{"$f":"IFERROR(VLOOKUP($C$4&\"_\"&$A47,post_wise,COLUMNS($A$5:AJ45),0),\"\")","v":""}]
[42,{"$f":"IFERROR(VLOOKUP($C$4&\"_\"&$A48,post_wise,COLUMNS($A$5:C46),0),\"\")","v":""},{"$f":"IFERROR(VLOOKUP($C$4&\"_\"&$A48,post_wise,COLUMNS($A$5:D46),0),\"\")","v":""},{"$f":"IFERROR(VLOOKUP($C$4&\"_\"&$A48,post_wise,COLUMNS($A$5:E46),0),\"\")","v":""},{"$f":"IFERROR(VLOOKUP($C$4&\"_\"&$A48,post_wise,COLUMNS($A$5:F46),0),\"\")","v":""},{"$f":"IFERROR(VLOOKUP($C$4&\"_\"&$A48,post_wise,COLUMNS($A$5:G46),0),\"\")","v":""},{"$f":"IFERROR(VLOOKUP($C$4&\"_\"&$A48,post_wise,COLUMNS($A$5:H46),0),\"\")","v":""},{"$f":"IFERROR(VLOOKUP($C$4&\"_\"&$A48,post_wise,COLUMNS($A$5:I46),0),\"\")","v":""},{"$f":"IFERROR(VLOOKUP($C$4&\"_\"&$A48,post_wise,COLUMNS($A$5:J46),0),\"\")","v":""},{"$f":"IFERROR(VLOOKUP($C$4&\"_\"&$A48,post_wise,COLUMNS($A$5:K46),0),\"\")","v":""},{"$f":"IFERROR(VLOOKUP($C$4&\"_\"&$A48,post_wise,COLUMNS($A$5:L46),0),\"\")","v":""},{"$f":"IFERROR(VLOOKUP($C$4&\"_\"&$A48,post_wise,COLUMNS($A$5:M46),0),\"\")","v":""},{"$f":"IFERROR(VLOOKUP($C$4&\"_\"&$A48,post_wise,COLUMNS($A$5:N46),0),\"\")","v":""},{"$f":"IFERROR(VLOOKUP($C$4&\"_\"&$A48,post_wise,COLUMNS($A$5:O46),0),\"\")","v":""},{"$f":"IFERROR(VLOOKUP($C$4&\"_\"&$A48,post_wise,COLUMNS($A$5:P46),0),\"\")","v":""},{"$f":"IFERROR(VLOOKUP($C$4&\"_\"&$A48,post_wise,COLUMNS($A$5:Q46),0),\"\")","v":""},{"$f":"IFERROR(VLOOKUP($C$4&\"_\"&$A48,post_wise,COLUMNS($A$5:R46),0),\"\")","v":""},{"$f":"IFERROR(VLOOKUP($C$4&\"_\"&$A48,post_wise,COLUMNS($A$5:S46),0),\"\")","v":""},{"$f":"IFERROR(VLOOKUP($C$4&\"_\"&$A48,post_wise,COLUMNS($A$5:T46),0),\"\")","v":""},{"$f":"IFERROR(VLOOKUP($C$4&\"_\"&$A48,post_wise,COLUMNS($A$5:U46),0),\"\")","v":""},{"$f":"IFERROR(VLOOKUP($C$4&\"_\"&$A48,post_wise,COLUMNS($A$5:V46),0),\"\")","v":""},{"$f":"IFERROR(VLOOKUP($C$4&\"_\"&$A48,post_wise,COLUMNS($A$5:W46),0),\"\")","v":""},{"$f":"IFERROR(VLOOKUP($C$4&\"_\"&$A48,post_wise,COLUMNS($A$5:X46),0),\"\")","v":""},{"$f":"IFERROR(VLOOKUP($C$4&\"_\"&$A48,post_wise,COLUMNS($A$5:Y46),0),\"\")","v":""},{"$f":"IFERROR(VLOOKUP($C$4&\"_\"&$A48,post_wise,COLUMNS($A$5:Z46),0),\"\")","v":""},{"$f":"IFERROR(VLOOKUP($C$4&\"_\"&$A48,post_wise,COLUMNS($A$5:AA46),0),\"\")","v":""},{"$f":"IFERROR(VLOOKUP($C$4&\"_\"&$A48,post_wise,COLUMNS($A$5:AB46),0),\"\")","v":""},{"$f":"IFERROR(VLOOKUP($C$4&\"_\"&$A48,post_wise,COLUMNS($A$5:AC46),0),\"\")","v":""},{"$f":"IFERROR(VLOOKUP($C$4&\"_\"&$A48,post_wise,COLUMNS($A$5:AD46),0),\"\")","v":""},{"$f":"IFERROR(VLOOKUP($C$4&\"_\"&$A48,post_wise,COLUMNS($A$5:AE46),0),\"\")","v":""},{"$f":"IFERROR(VLOOKUP($C$4&\"_\"&$A48,post_wise,COLUMNS($A$5:AF46),0),\"\")","v":""},{"$f":"IFERROR(VLOOKUP($C$4&\"_\"&$A48,post_wise,COLUMNS($A$5:AG46),0),\"\")","v":""},{"$f":"IFERROR(VLOOKUP($C$4&\"_\"&$A48,post_wise,COLUMNS($A$5:AH46),0),\"\")","v":""},{"$f":"IFERROR(VLOOKUP($C$4&\"_\"&$A48,post_wise,COLUMNS($A$5:AI46),0),\"\")","v":""},{"$f":"IFERROR(VLOOKUP($C$4&\"_\"&$A48,post_wise,COLUMNS($A$5:AJ46),0),\"\")","v":""}]

{"sheet":"Sbjtwise","index":10,"n_rows":48,"n_cols":35,"rows_kept":48,"merged":[[0,0,0,8],[0,9,0,16],[0,17,0,25],[0,26,0,34],[1,0,1,8],[1,9,1,16],[1,17,1,25],[1,26,1,34],[3,2,3,3],[3,5,3,13]]}
[{"$f":"'Basic Intro'!A1","v":"राजकीय उच्च माध्यमिक विद्यालय, रूपपुरा (कुचामन सिटी)"},{"$nulls":8},{"$f":"'Basic Intro'!A1","v":"राजकीय उच्च माध्यमिक विद्यालय, रूपपुरा (कुचामन सिटी)"},{"$nulls":7},{"$f":"'Basic Intro'!A1","v":"राजकीय उच्च माध्यमिक विद्यालय, रूपपुरा (कुचामन सिटी)"},{"$nulls":8},{"$f":"'Basic Intro'!A1","v":"राजकीय उच्च माध्यमिक विद्यालय, रूपपुरा (कुचामन सिटी)"}]
["पदवार कर्मचारी विवरण",{"$nulls":8},"पदवार कर्मचारी विवरण",{"$nulls":7},"पदवार कर्मचारी विवरण",{"$nulls":8},"पदवार कर्मचारी विवरण"]
[]
[null,"विषय का चयन करे -","History",null,null,"जिस विषय के डाटा की आवशयकता हो वह विषय ड्राप डाउन लिस्ट में से चुने |"]
[]
["क्र.स.","नाम कर्मचारी","पिता/पति का नाम ","Employee ID","जन्म दिनाक ","जेंडर ","वर्ग","धर्म","दिव्यांग","वर्तमान पद","विषय","स्थाई/अस्थाई","ब्लड ग्रुप","पता","जिला","मोबाइल नंबर","ईमेल","बैंक अकाउंट नंबर","ब्रांच ","ब्रांच कोड","कार्यग्रहण तिथि","किसी भी सरकारी सेवा में कार्यग्रहण तिथि","शिक्षा विभाग में कार्यग्रहण तिथि","वर्तमान पद पर कार्यग्रहण तिथि","वर्तमान पद पर कार्यग्रहण तरीका","वर्तमान विद्यालय में कार्यग्रहण तिथि","जी.पी.एफ./प्राण नंबर","एस.आई. नंबर ","आधार नंबर","भामाशाह नंबर","पासपोर्ट नंबर","पैन नंबर","वर्तमान मूल वेतन ","उच्चतम शैक्षणिक योग्यता","उच्चतम प्रशैक्षणिक योग्यता"]
[1,{"$f":"IFERROR(VLOOKUP($C$4&\"_\"&$A7,subject_wise,COLUMNS($A$5:C5),0),\"\")","v":"श्री प्रकाश कुमार गौड़"},{"$f":"IFERROR(VLOOKUP($C$4&\"_\"&$A7,subject_wise,COLUMNS($A$5:D5),0),\"\")","v":"श्री राजेंद्र शर्मा"},{"$f":"IFERROR(VLOOKUP($C$4&\"_\"&$A7,subject_wise,COLUMNS($A$5:E5),0),\"\")","v":"RJNA201228008022"},{"$f":"IFERROR(VLOOKUP($C$4&\"_\"&$A7,subject_wise,COLUMNS($A$5:F5),0),\"\")","v":32180},{"$f":"IFERROR(VLOOKUP($C$4&\"_\"&$A7,subject_wise,COLUMNS($A$5:G5),0),\"\")","v":"Female"},{"$f":"IFERROR(VLOOKUP($C$4&\"_\"&$A7,subject_wise,COLUMNS($A$5:H5),0),\"\")","v":"Gen"},{"$f":"IFERROR(VLOOKUP($C$4&\"_\"&$A7,subject_wise,COLUMNS($A$5:I5),0),\"\")","v":"Hindu"},{"$f":"IFERROR(VLOOKUP($C$4&\"_\"&$A7,subject_wise,COLUMNS($A$5:J5),0),\"\")","v":"No"},{"$f":"IFERROR(VLOOKUP($C$4&\"_\"&$A7,subject_wise,COLUMNS($A$5:K5),0),\"\")","v":"व्याख्याता"},{"$f":"IFERROR(VLOOKUP($C$4&\"_\"&$A7,subject_wise,COLUMNS($A$5:L5),0),\"\")","v":"History"},{"$f":"IFERROR(VLOOKUP($C$4&\"_\"&$A7,subject_wise,COLUMNS($A$5:M5),0),\"\")","v":"स्थाई"},{"$f":"IFERROR(VLOOKUP($C$4&\"_\"&$A7,subject_wise,COLUMNS($A$5:N5),0),\"\")","v":"O+"},{"$f":"IFERROR(VLOOKUP($C$4&\"_\"&$A7,subject_wise,COLUMNS($A$5:O5),0),\"\")","v":"कुचामन सिटी"},{"$f":"IFERROR(VLOOKUP($C$4&\"_\"&$A7,subject_wise,COLUMNS($A$5:P5),0),\"\")","v":"नागौर"},{"$f":"IFERROR(VLOOKUP($C$4&\"_\"&$A7,subject_wise,COLUMNS($A$5:Q5),0),\"\")","v":9166023711},{"$f":"IFERROR(VLOOKUP($C$4&\"_\"&$A7,subject_wise,COLUMNS($A$5:R5),0),\"\")","v":"sspkctakumar@gmail.com"},{"$f":"IFERROR(VLOOKUP($C$4&\"_\"&$A7,subject_wise,COLUMNS($A$5:S5),0),\"\")","v":610370000000},{"$f":"IFERROR(VLOOKUP($C$4&\"_\"&$A7,subject_wise,COLUMNS($A$5:T5),0),\"\")","v":"SBI"},{"$f":"IFERROR(VLOOKUP($C$4&\"_\"&$A7,subject_wise,COLUMNS($A$5:U5),0),\"\")","v":"SBIN0031733"},{"$f":"IFERROR(VLOOKUP($C$4&\"_\"&$A7,subject_wise,COLUMNS($A$5:V5),0),\"\")","v":40835},{"$f":"IFERROR(VLOOKUP($C$4&\"_\"&$A7,subject_wise,COLUMNS($A$5:W5),0),\"\")","v":40835},{"$f":"IFERROR(VLOOKUP($C$4&\"_\"&$A7,subject_wise,COLUMNS($A$5:X5),0),\"\")","v":40866},{"$f":"IFERROR(VLOOKUP($C$4&\"_\"&$A7,subject_wise,COLUMNS($A$5:Y5),0),\"\")","v":40866},{"$f":"IFERROR(VLOOKUP($C$4&\"_\"&$A7,subject_wise,COLUMNS($A$5:Z5),0),\"\")","v":0},{"$f":"IFERROR(VLOOKUP($C$4&\"_\"&$A7,subject_wise,COLUMNS($A$5:AA5),0),\"\")","v":40866},{"$f":"IFERROR(VLOOKUP($C$4&\"_\"&$A7,subject_wise,COLUMNS($A$5:AB5),0),\"\")","v":110000000000},{"$f":"IFERROR(VLOOKUP($C$4&\"_\"&$A7,subject_wise,COLUMNS($A$5:AC5),0),\"\")","v":6123456},{"$f":"IFERROR(VLOOKUP($C$4&\"_\"&$A7,subject_wise,COLUMNS($A$5:AD5),0),\"\")","v":123456781234},{"$f":"IFERROR(VLOOKUP($C$4&\"_\"&$A7,subject_wise,COLUMNS($A$5:AE5),0),\"\")","v":"ZXZXZXD"},{"$f":"IFERROR(VLOOKUP($C$4&\"_\"&$A7,subject_wise,COLUMNS($A$5:AF5),0),\"\")","v":0},{"$f":"IFERROR(VLOOKUP($C$4&\"_\"&$A7,subject_wise,COLUMNS($A$5:AG5),0),\"\")","v":"ABCDE1111F"},{"$f":"IFERROR(VLOOKUP($C$4&\"_\"&$A7,subject_wise,COLUMNS($A$5:AH5),0),\"\")","v":48500},{"$f":"IFERROR(VLOOKUP($C$4&\"_\"&$A7,subject_wise,COLUMNS($A$5:AI5),0),\"\")","v":"M.A."},{"$f":"IFERROR(VLOOKUP($C$4&\"_\"&$A7,subject_wise,COLUMNS($A$5:AJ5),0),\"\")","v":"M.Ed"}]
[2,{"$f":"IFERROR(VLOOKUP($C$4&\"_\"&$A8,subject_wise,COLUMNS($A$5:C6),0),\"\")","v":""},{"$f":"IFERROR(VLOOKUP($C$4&\"_\"&$A8,subject_wise,COLUMNS($A$5:D6),0),\"\")","v":""},{"$f":"IFERROR(VLOOKUP($C$4&\"_\"&$A8,subject_wise,COLUMNS($A$5:E6),0),\"\")","v":""},{"$f":"IFERROR(VLOOKUP($C$4&\"_\"&$A8,subject_wise,COLUMNS($A$5:F6),0),\"\")","v":""},{"$f":"IFERROR(VLOOKUP($C$4&\"_\"&$A8,subject_wise,COLUMNS($A$5:G6),0),\"\")","v":""},{"$f":"IFERROR(VLOOKUP($C$4&\"_\"&$A8,subject_wise,COLUMNS($A$5:H6),0),\"\")","v":""},{"$f":"IFERROR(VLOOKUP($C$4&\"_\"&$A8,subject_wise,COLUMNS($A$5:I6),0),\"\")","v":""},{"$f":"IFERROR(VLOOKUP($C$4&\"_\"&$A8,subject_wise,COLUMNS($A$5:J6),0),\"\")","v":""},{"$f":"IFERROR(VLOOKUP($C$4&\"_\"&$A8,subject_wise,COLUMNS($A$5:K6),0),\"\")","v":""},{"$f":"IFERROR(VLOOKUP($C$4&\"_\"&$A8,subject_wise,COLUMNS($A$5:L6),0),\"\")","v":""},{"$f":"IFERROR(VLOOKUP($C$4&\"_\"&$A8,subject_wise,COLUMNS($A$5:M6),0),\"\")","v":""},{"$f":"IFERROR(VLOOKUP($C$4&\"_\"&$A8,subject_wise,COLUMNS($A$5:N6),0),\"\")","v":""},{"$f":"IFERROR(VLOOKUP($C$4&\"_\"&$A8,subject_wise,COLUMNS($A$5:O6),0),\"\")","v":""},{"$f":"IFERROR(VLOOKUP($C$4&\"_\"&$A8,subject_wise,COLUMNS($A$5:P6),0),\"\")","v":""},{"$f":"IFERROR(VLOOKUP($C$4&\"_\"&$A8,subject_wise,COLUMNS($A$5:Q6),0),\"\")","v":""},{"$f":"IFERROR(VLOOKUP($C$4&\"_\"&$A8,subject_wise,COLUMNS($A$5:R6),0),\"\")","v":""},{"$f":"IFERROR(VLOOKUP($C$4&\"_\"&$A8,subject_wise,COLUMNS($A$5:S6),0),\"\")","v":""},{"$f":"IFERROR(VLOOKUP($C$4&\"_\"&$A8,subject_wise,COLUMNS($A$5:T6),0),\"\")","v":""},{"$f":"IFERROR(VLOOKUP($C$4&\"_\"&$A8,subject_wise,COLUMNS($A$5:U6),0),\"\")","v":""},{"$f":"IFERROR(VLOOKUP($C$4&\"_\"&$A8,subject_wise,COLUMNS($A$5:V6),0),\"\")","v":""},{"$f":"IFERROR(VLOOKUP($C$4&\"_\"&$A8,subject_wise,COLUMNS($A$5:W6),0),\"\")","v":""},{"$f":"IFERROR(VLOOKUP($C$4&\"_\"&$A8,subject_wise,COLUMNS($A$5:X6),0),\"\")","v":""},{"$f":"IFERROR(VLOOKUP($C$4&\"_\"&$A8,subject_wise,COLUMNS($A$5:Y6),0),\"\")","v":""},{"$f":"IFERROR(VLOOKUP($C$4&\"_\"&$A8,subject_wise,COLUMNS($A$5:Z6),0),\"\")","v":""},{"$f":"IFERROR(VLOOKUP($C$4&\"_\"&$A8,subject_wise,COLUMNS($A$5:AA6),0),\"\")","v":""},{"$f":"IFERROR(VLOOKUP($C$4&\"_\"&$A8,subject_wise,COLUMNS($A$5:AB6),0),\"\")","v":""},{"$f":"IFERROR(VLOOKUP($C$4&\"_\"&$A8,subject_wise,COLUMNS($A$5:AC6),0),\"\")","v":""},{"$f":"IFERROR(VLOOKUP($C$4&\"_\"&$A8,subject_wise,COLUMNS($A$5:AD6),0),\"\")","v":""},{"$f":"IFERROR(VLOOKUP($C$4&\"_\"&$A8,subject_wise,COLUMNS($A$5:AE6),0),\"\")","v":""},{"$f":"IFERROR(VLOOKUP($C$4&\"_\"&$A8,subject_wise,COLUMNS($A$5:AF6),0),\"\")","v":""},{"$f":"IFERROR(VLOOKUP($C$4&\"_\"&$A8,subject_wise,COLUMNS($A$5:AG6),0),\"\")","v":""},{"$f":"IFERROR(VLOOKUP($C$4&\"_\"&$A8,subject_wise,COLUMNS($A$5:AH6),0),\"\")","v":""},{"$f":"IFERROR(VLOOKUP($C$4&\"_\"&$A8,subject_wise,COLUMNS($A$5:AI6),0),\"\")","v":""},{"$f":"IFERROR(VLOOKUP($C$4&\"_\"&$A8,subject_wise,COLUMNS($A$5:AJ6),0),\"\")","v":""}]
[3,{"$f":"IFERROR(VLOOKUP($C$4&\"_\"&$A9,subject_wise,COLUMNS($A$5:C7),0),\"\")","v":""},{"$f":"IFERROR(VLOOKUP($C$4&\"_\"&$A9,subject_wise,COLUMNS($A$5:D7),0),\"\")","v":""},{"$f":"IFERROR(VLOOKUP($C$4&\"_\"&$A9,subject_wise,COLUMNS($A$5:E7),0),\"\")","v":""},{"$f":"IFERROR(VLOOKUP($C$4&\"_\"&$A9,subject_wise,COLUMNS($A$5:F7),0),\"\")","v":""},{"$f":"IFERROR(VLOOKUP($C$4&\"_\"&$A9,subject_wise,COLUMNS($A$5:G7),0),\"\")","v":""},{"$f":"IFERROR(VLOOKUP($C$4&\"_\"&$A9,subject_wise,COLUMNS($A$5:H7),0),\"\")","v":""},{"$f":"IFERROR(VLOOKUP($C$4&\"_\"&$A9,subject_wise,COLUMNS($A$5:I7),0),\"\")","v":""},{"$f":"IFERROR(VLOOKUP($C$4&\"_\"&$A9,subject_wise,COLUMNS($A$5:J7),0),\"\")","v":""},{"$f":"IFERROR(VLOOKUP($C$4&\"_\"&$A9,subject_wise,COLUMNS($A$5:K7),0),\"\")","v":""},{"$f":"IFERROR(VLOOKUP($C$4&\"_\"&$A9,subject_wise,COLUMNS($A$5:L7),0),\"\")","v":""},{"$f":"IFERROR(VLOOKUP($C$4&\"_\"&$A9,subject_wise,COLUMNS($A$5:M7),0),\"\")","v":""},{"$f":"IFERROR(VLOOKUP($C$4&\"_\"&$A9,subject_wise,COLUMNS($A$5:N7),0),\"\")","v":""},{"$f":"IFERROR(VLOOKUP($C$4&\"_\"&$A9,subject_wise,COLUMNS($A$5:O7),0),\"\")","v":""},{"$f":"IFERROR(VLOOKUP($C$4&\"_\"&$A9,subject_wise,COLUMNS($A$5:P7),0),\"\")","v":""},{"$f":"IFERROR(VLOOKUP($C$4&\"_\"&$A9,subject_wise,COLUMNS($A$5:Q7),0),\"\")","v":""},{"$f":"IFERROR(VLOOKUP($C$4&\"_\"&$A9,subject_wise,COLUMNS($A$5:R7),0),\"\")","v":""},{"$f":"IFERROR(VLOOKUP($C$4&\"_\"&$A9,subject_wise,COLUMNS($A$5:S7),0),\"\")","v":""},{"$f":"IFERROR(VLOOKUP($C$4&\"_\"&$A9,subject_wise,COLUMNS($A$5:T7),0),\"\")","v":""},{"$f":"IFERROR(VLOOKUP($C$4&\"_\"&$A9,subject_wise,COLUMNS($A$5:U7),0),\"\")","v":""},{"$f":"IFERROR(VLOOKUP($C$4&\"_\"&$A9,subject_wise,COLUMNS($A$5:V7),0),\"\")","v":""},{"$f":"IFERROR(VLOOKUP($C$4&\"_\"&$A9,subject_wise,COLUMNS($A$5:W7),0),\"\")","v":""},{"$f":"IFERROR(VLOOKUP($C$4&\"_\"&$A9,subject_wise,COLUMNS($A$5:X7),0),\"\")","v":""},{"$f":"IFERROR(VLOOKUP($C$4&\"_\"&$A9,subject_wise,COLUMNS($A$5:Y7),0),\"\")","v":""},{"$f":"IFERROR(VLOOKUP($C$4&\"_\"&$A9,subject_wise,COLUMNS($A$5:Z7),0),\"\")","v":""},{"$f":"IFERROR(VLOOKUP($C$4&\"_\"&$A9,subject_wise,COLUMNS($A$5:AA7),0),\"\")","v":""},{"$f":"IFERROR(VLOOKUP($C$4&\"_\"&$A9,subject_wise,COLUMNS($A$5:AB7),0),\"\")","v":""},{"$f":"IFERROR(VLOOKUP($C$4&\"_\"&$A9,subject_wise,COLUMNS($A$5:AC7),0),\"\")","v":""},{"$f":"IFERROR(VLOOKUP($C$4&\"_\"&$A9,subject_wise,COLUMNS($A$5:AD7),0),\"\")","v":""},{"$f":"IFERROR(VLOOKUP($C$4&\"_\"&$A9,subject_wise,COLUMNS($A$5:AE7),0),\"\")","v":""},{"$f":"IFERROR(VLOOKUP($C$4&\"_\"&$A9,subject_wise,COLUMNS($A$5:AF7),0),\"\")","v":""},{"$f":"IFERROR(VLOOKUP($C$4&\"_\"&$A9,subject_wise,COLUMNS($A$5:AG7),0),\"\")","v":""},{"$f":"IFERROR(VLOOKUP($C$4&\"_\"&$A9,subject_wise,COLUMNS($A$5:AH7),0),\"\")","v":""},{"$f":"IFERROR(VLOOKUP($C$4&\"_\"&$A9,subject_wise,COLUMNS($A$5:AI7),0),\"\")","v":""},{"$f":"IFERROR(VLOOKUP($C$4&\"_\"&$A9,subject_wise,COLUMNS($A$5:AJ7),0),\"\")","v":""}]
[4,{"$f":"IFERROR(VLOOKUP($C$4&\"_\"&$A10,subject_wise,COLUMNS($A$5:C8),0),\"\")","v":""},{"$f":"IFERROR(VLOOKUP($C$4&\"_\"&$A10,subject_wise,COLUMNS($A$5:D8),0),\"\")","v":""},{"$f":"IFERROR(VLOOKUP($C$4&\"_\"&$A10,subject_wise,COLUMNS($A$5:E8),0),\"\")","v":""},{"$f":"IFERROR(VLOOKUP($C$4&\"_\"&$A10,subject_wise,COLUMNS($A$5:F8),0),\"\")","v":""},{"$f":"IFERROR(VLOOKUP($C$4&\"_\"&$A10,subject_wise,COLUMNS($A$5:G8),0),\"\")","v":""},{"$f":"IFERROR(VLOOKUP($C$4&\"_\"&$A10,subject_wise,COLUMNS($A$5:H8),0),\"\")","v":""},{"$f":"IFERROR(VLOOKUP($C$4&\"_\"&$A10,subject_wise,COLUMNS($A$5:I8),0),\"\")","v":""},{"$f":"IFERROR(VLOOKUP($C$4&\"_\"&$A10,subject_wise,COLUMNS($A$5:J8),0),\"\")","v":""},{"$f":"IFERROR(VLOOKUP($C$4&\"_\"&$A10,subject_wise,COLUMNS($A$5:K8),0),\"\")","v":""},{"$f":"IFERROR(VLOOKUP($C$4&\"_\"&$A10,subject_wise,COLUMNS($A$5:L8),0),\"\")","v":""},{"$f":"IFERROR(VLOOKUP($C$4&\"_\"&$A10,subject_wise,COLUMNS($A$5:M8),0),\"\")","v":""},{"$f":"IFERROR(VLOOKUP($C$4&\"_\"&$A10,subject_wise,COLUMNS($A$5:N8),0),\"\")","v":""},{"$f":"IFERROR(VLOOKUP($C$4&\"_\"&$A10,subject_wise,COLUMNS($A$5:O8),0),\"\")","v":""},{"$f":"IFERROR(VLOOKUP($C$4&\"_\"&$A10,subject_wise,COLUMNS($A$5:P8),0),\"\")","v":""},{"$f":"IFERROR(VLOOKUP($C$4&\"_\"&$A10,subject_wise,COLUMNS($A$5:Q8),0),\"\")","v":""},{"$f":"IFERROR(VLOOKUP($C$4&\"_\"&$A10,subject_wise,COLUMNS($A$5:R8),0),\"\")","v":""},{"$f":"IFERROR(VLOOKUP($C$4&\"_\"&$A10,subject_wise,COLUMNS($A$5:S8),0),\"\")","v":""},{"$f":"IFERROR(VLOOKUP($C$4&\"_\"&$A10,subject_wise,COLUMNS($A$5:T8),0),\"\")","v":""},{"$f":"IFERROR(VLOOKUP($C$4&\"_\"&$A10,subject_wise,COLUMNS($A$5:U8),0),\"\")","v":""},{"$f":"IFERROR(VLOOKUP($C$4&\"_\"&$A10,subject_wise,COLUMNS($A$5:V8),0),\"\")","v":""},{"$f":"IFERROR(VLOOKUP($C$4&\"_\"&$A10,subject_wise,COLUMNS($A$5:W8),0),\"\")","v":""},{"$f":"IFERROR(VLOOKUP($C$4&\"_\"&$A10,subject_wise,COLUMNS($A$5:X8),0),\"\")","v":""},{"$f":"IFERROR(VLOOKUP($C$4&\"_\"&$A10,subject_wise,COLUMNS($A$5:Y8),0),\"\")","v":""},{"$f":"IFERROR(VLOOKUP($C$4&\"_\"&$A10,subject_wise,COLUMNS($A$5:Z8),0),\"\")","v":""},{"$f":"IFERROR(VLOOKUP($C$4&\"_\"&$A10,subject_wise,COLUMNS($A$5:AA8),0),\"\")","v":""},{"$f":"IFERROR(VLOOKUP($C$4&\"_\"&$A10,subject_wise,COLUMNS($A$5:AB8),0),\"\")","v":""},{"$f":"IFERROR(VLOOKUP($C$4&\"_\"&$A10,subject_wise,COLUMNS($A$5:AC8),0),\"\")","v":""},{"$f":"IFERROR(VLOOKUP($C$4&\"_\"&$A10,subject_wise,COLUMNS($A$5:AD8),0),\"\")","v":""},{"$f":"IFERROR(VLOOKUP($C$4&\"_\"&$A10,subject_wise,COLUMNS($A$5:AE8),0),\"\")","v":""},{"$f":"IFERROR(VLOOKUP($C$4&\"_\"&$A10,subject_wise,COLUMNS($A$5:AF8),0),\"\")","v":""},{"$f":"IFERROR(VLOOKUP($C$4&\"_\"&$A10,subject_wise,COLUMNS($A$5:AG8),0),\"\")","v":""},{"$f":"IFERROR(VLOOKUP($C$4&\"_\"&$A10,subject_wise,COLUMNS($A$5:AH8),0),\"\")","v":""},{"$f":"IFERROR(VLOOKUP($C$4&\"_\"&$A10,subject_wise,COLUMNS($A$5:AI8),0),\"\")","v":""},{"$f":"IFERROR(VLOOKUP($C$4&\"_\"&$A10,subject_wise,COLUMNS($A$5:AJ8),0),\"\")","v":""}]
[5,{"$f":"IFERROR(VLOOKUP($C$4&\"_\"&$A11,subject_wise,COLUMNS($A$5:C9),0),\"\")","v":""},{"$f":"IFERROR(VLOOKUP($C$4&\"_\"&$A11,subject_wise,COLUMNS($A$5:D9),0),\"\")","v":""},{"$f":"IFERROR(VLOOKUP($C$4&\"_\"&$A11,subject_wise,COLUMNS($A$5:E9),0),\"\")","v":""},{"$f":"IFERROR(VLOOKUP($C$4&\"_\"&$A11,subject_wise,COLUMNS($A$5:F9),0),\"\")","v":""},{"$f":"IFERROR(VLOOKUP($C$4&\"_\"&$A11,subject_wise,COLUMNS($A$5:G9),0),\"\")","v":""},{"$f":"IFERROR(VLOOKUP($C$4&\"_\"&$A11,subject_wise,COLUMNS($A$5:H9),0),\"\")","v":""},{"$f":"IFERROR(VLOOKUP($C$4&\"_\"&$A11,subject_wise,COLUMNS($A$5:I9),0),\"\")","v":""},{"$f":"IFERROR(VLOOKUP($C$4&\"_\"&$A11,subject_wise,COLUMNS($A$5:J9),0),\"\")","v":""},{"$f":"IFERROR(VLOOKUP($C$4&\"_\"&$A11,subject_wise,COLUMNS($A$5:K9),0),\"\")","v":""},{"$f":"IFERROR(VLOOKUP($C$4&\"_\"&$A11,subject_wise,COLUMNS($A$5:L9),0),\"\")","v":""},{"$f":"IFERROR(VLOOKUP($C$4&\"_\"&$A11,subject_wise,COLUMNS($A$5:M9),0),\"\")","v":""},{"$f":"IFERROR(VLOOKUP($C$4&\"_\"&$A11,subject_wise,COLUMNS($A$5:N9),0),\"\")","v":""},{"$f":"IFERROR(VLOOKUP($C$4&\"_\"&$A11,subject_wise,COLUMNS($A$5:O9),0),\"\")","v":""},{"$f":"IFERROR(VLOOKUP($C$4&\"_\"&$A11,subject_wise,COLUMNS($A$5:P9),0),\"\")","v":""},{"$f":"IFERROR(VLOOKUP($C$4&\"_\"&$A11,subject_wise,COLUMNS($A$5:Q9),0),\"\")","v":""},{"$f":"IFERROR(VLOOKUP($C$4&\"_\"&$A11,subject_wise,COLUMNS($A$5:R9),0),\"\")","v":""},{"$f":"IFERROR(VLOOKUP($C$4&\"_\"&$A11,subject_wise,COLUMNS($A$5:S9),0),\"\")","v":""},{"$f":"IFERROR(VLOOKUP($C$4&\"_\"&$A11,subject_wise,COLUMNS($A$5:T9),0),\"\")","v":""},{"$f":"IFERROR(VLOOKUP($C$4&\"_\"&$A11,subject_wise,COLUMNS($A$5:U9),0),\"\")","v":""},{"$f":"IFERROR(VLOOKUP($C$4&\"_\"&$A11,subject_wise,COLUMNS($A$5:V9),0),\"\")","v":""},{"$f":"IFERROR(VLOOKUP($C$4&\"_\"&$A11,subject_wise,COLUMNS($A$5:W9),0),\"\")","v":""},{"$f":"IFERROR(VLOOKUP($C$4&\"_\"&$A11,subject_wise,COLUMNS($A$5:X9),0),\"\")","v":""},{"$f":"IFERROR(VLOOKUP($C$4&\"_\"&$A11,subject_wise,COLUMNS($A$5:Y9),0),\"\")","v":""},{"$f":"IFERROR(VLOOKUP($C$4&\"_\"&$A11,subject_wise,COLUMNS($A$5:Z9),0),\"\")","v":""},{"$f":"IFERROR(VLOOKUP($C$4&\"_\"&$A11,subject_wise,COLUMNS($A$5:AA9),0),\"\")","v":""},{"$f":"IFERROR(VLOOKUP($C$4&\"_\"&$A11,subject_wise,COLUMNS($A$5:AB9),0),\"\")","v":""},{"$f":"IFERROR(VLOOKUP($C$4&\"_\"&$A11,subject_wise,COLUMNS($A$5:AC9),0),\"\")","v":""},{"$f":"IFERROR(VLOOKUP($C$4&\"_\"&$A11,subject_wise,COLUMNS($A$5:AD9),0),\"\")","v":""},{"$f":"IFERROR(VLOOKUP($C$4&\"_\"&$A11,subject_wise,COLUMNS($A$5:AE9),0),\"\")","v":""},{"$f":"IFERROR(VLOOKUP($C$4&\"_\"&$A11,subject_wise,COLUMNS($A$5:AF9),0),\"\")","v":""},{"$f":"IFERROR(VLOOKUP($C$4&\"_\"&$A11,subject_wise,COLUMNS($A$5:AG9),0),\"\")","v":""},{"$f":"IFERROR(VLOOKUP($C$4&\"_\"&$A11,subject_wise,COLUMNS($A$5:AH9),0),\"\")","v":""},{"$f":"IFERROR(VLOOKUP($C$4&\"_\"&$A11,subject_wise,COLUMNS($A$5:AI9),0),\"\")","v":""},{"$f":"IFERROR(VLOOKUP($C$4&\"_\"&$A11,subject_wise,COLUMNS($A$5:AJ9),0),\"\")","v":""}]
[6,{"$f":"IFERROR(VLOOKUP($C$4&\"_\"&$A12,subject_wise,COLUMNS($A$5:C10),0),\"\")","v":""},{"$f":"IFERROR(VLOOKUP($C$4&\"_\"&$A12,subject_wise,COLUMNS($A$5:D10),0),\"\")","v":""},{"$f":"IFERROR(VLOOKUP($C$4&\"_\"&$A12,subject_wise,COLUMNS($A$5:E10),0),\"\")","v":""},{"$f":"IFERROR(VLOOKUP($C$4&\"_\"&$A12,subject_wise,COLUMNS($A$5:F10),0),\"\")","v":""},{"$f":"IFERROR(VLOOKUP($C$4&\"_\"&$A12,subject_wise,COLUMNS($A$5:G10),0),\"\")","v":""},{"$f":"IFERROR(VLOOKUP($C$4&\"_\"&$A12,subject_wise,COLUMNS($A$5:H10),0),\"\")","v":""},{"$f":"IFERROR(VLOOKUP($C$4&\"_\"&$A12,subject_wise,COLUMNS($A$5:I10),0),\"\")","v":""},{"$f":"IFERROR(VLOOKUP($C$4&\"_\"&$A12,subject_wise,COLUMNS($A$5:J10),0),\"\")","v":""},{"$f":"IFERROR(VLOOKUP($C$4&\"_\"&$A12,subject_wise,COLUMNS($A$5:K10),0),\"\")","v":""},{"$f":"IFERROR(VLOOKUP($C$4&\"_\"&$A12,subject_wise,COLUMNS($A$5:L10),0),\"\")","v":""},{"$f":"IFERROR(VLOOKUP($C$4&\"_\"&$A12,subject_wise,COLUMNS($A$5:M10),0),\"\")","v":""},{"$f":"IFERROR(VLOOKUP($C$4&\"_\"&$A12,subject_wise,COLUMNS($A$5:N10),0),\"\")","v":""},{"$f":"IFERROR(VLOOKUP($C$4&\"_\"&$A12,subject_wise,COLUMNS($A$5:O10),0),\"\")","v":""},{"$f":"IFERROR(VLOOKUP($C$4&\"_\"&$A12,subject_wise,COLUMNS($A$5:P10),0),\"\")","v":""},{"$f":"IFERROR(VLOOKUP($C$4&\"_\"&$A12,subject_wise,COLUMNS($A$5:Q10),0),\"\")","v":""},{"$f":"IFERROR(VLOOKUP($C$4&\"_\"&$A12,subject_wise,COLUMNS($A$5:R10),0),\"\")","v":""},{"$f":"IFERROR(VLOOKUP($C$4&\"_\"&$A12,subject_wise,COLUMNS($A$5:S10),0),\"\")","v":""},{"$f":"IFERROR(VLOOKUP($C$4&\"_\"&$A12,subject_wise,COLUMNS($A$5:T10),0),\"\")","v":""},{"$f":"IFERROR(VLOOKUP($C$4&\"_\"&$A12,subject_wise,COLUMNS($A$5:U10),0),\"\")","v":""},{"$f":"IFERROR(VLOOKUP($C$4&\"_\"&$A12,subject_wise,COLUMNS($A$5:V10),0),\"\")","v":""},{"$f":"IFERROR(VLOOKUP($C$4&\"_\"&$A12,subject_wise,COLUMNS($A$5:W10),0),\"\")","v":""},{"$f":"IFERROR(VLOOKUP($C$4&\"_\"&$A12,subject_wise,COLUMNS($A$5:X10),0),\"\")","v":""},{"$f":"IFERROR(VLOOKUP($C$4&\"_\"&$A12,subject_wise,COLUMNS($A$5:Y10),0),\"\")","v":""},{"$f":"IFERROR(VLOOKUP($C$4&\"_\"&$A12,subject_wise,COLUMNS($A$5:Z10),0),\"\")","v":""},{"$f":"IFERROR(VLOOKUP($C$4&\"_\"&$A12,subject_wise,COLUMNS($A$5:AA10),0),\"\")","v":""},{"$f":"IFERROR(VLOOKUP($C$4&\"_\"&$A12,subject_wise,COLUMNS($A$5:AB10),0),\"\")","v":""},{"$f":"IFERROR(VLOOKUP($C$4&\"_\"&$A12,subject_wise,COLUMNS($A$5:AC10),0),\"\")","v":""},{"$f":"IFERROR(VLOOKUP($C$4&\"_\"&$A12,subject_wise,COLUMNS($A$5:AD10),0),\"\")","v":""},{"$f":"IFERROR(VLOOKUP($C$4&\"_\"&$A12,subject_wise,COLUMNS($A$5:AE10),0),\"\")","v":""},{"$f":"IFERROR(VLOOKUP($C$4&\"_\"&$A12,subject_wise,COLUMNS($A$5:AF10),0),\"\")","v":""},{"$f":"IFERROR(VLOOKUP($C$4&\"_\"&$A12,subject_wise,COLUMNS($A$5:AG10),0),\"\")","v":""},{"$f":"IFERROR(VLOOKUP($C$4&\"_\"&$A12,subject_wise,COLUMNS($A$5:AH10),0),\"\")","v":""},{"$f":"IFERROR(VLOOKUP($C$4&\"_\"&$A12,subject_wise,COLUMNS($A$5:AI10),0),\"\")","v":""},{"$f":"IFERROR(VLOOKUP($C$4&\"_\"&$A12,subject_wise,COLUMNS($A$5:AJ10),0),\"\")","v":""}]
[7,{"$f":"IFERROR(VLOOKUP($C$4&\"_\"&$A13,subject_wise,COLUMNS($A$5:C11),0),\"\")","v":""},{"$f":"IFERROR(VLOOKUP($C$4&\"_\"&$A13,subject_wise,COLUMNS($A$5:D11),0),\"\")","v":""},{"$f":"IFERROR(VLOOKUP($C$4&\"_\"&$A13,subject_wise,COLUMNS($A$5:E11),0),\"\")","v":""},{"$f":"IFERROR(VLOOKUP($C$4&\"_\"&$A13,subject_wise,COLUMNS($A$5:F11),0),\"\")","v":""},{"$f":"IFERROR(VLOOKUP($C$4&\"_\"&$A13,subject_wise,COLUMNS($A$5:G11),0),\"\")","v":""},{"$f":"IFERROR(VLOOKUP($C$4&\"_\"&$A13,subject_wise,COLUMNS($A$5:H11),0),\"\")","v":""},{"$f":"IFERROR(VLOOKUP($C$4&\"_\"&$A13,subject_wise,COLUMNS($A$5:I11),0),\"\")","v":""},{"$f":"IFERROR(VLOOKUP($C$4&\"_\"&$A13,subject_wise,COLUMNS($A$5:J11),0),\"\")","v":""},{"$f":"IFERROR(VLOOKUP($C$4&\"_\"&$A13,subject_wise,COLUMNS($A$5:K11),0),\"\")","v":""},{"$f":"IFERROR(VLOOKUP($C$4&\"_\"&$A13,subject_wise,COLUMNS($A$5:L11),0),\"\")","v":""},{"$f":"IFERROR(VLOOKUP($C$4&\"_\"&$A13,subject_wise,COLUMNS($A$5:M11),0),\"\")","v":""},{"$f":"IFERROR(VLOOKUP($C$4&\"_\"&$A13,subject_wise,COLUMNS($A$5:N11),0),\"\")","v":""},{"$f":"IFERROR(VLOOKUP($C$4&\"_\"&$A13,subject_wise,COLUMNS($A$5:O11),0),\"\")","v":""},{"$f":"IFERROR(VLOOKUP($C$4&\"_\"&$A13,subject_wise,COLUMNS($A$5:P11),0),\"\")","v":""},{"$f":"IFERROR(VLOOKUP($C$4&\"_\"&$A13,subject_wise,COLUMNS($A$5:Q11),0),\"\")","v":""},{"$f":"IFERROR(VLOOKUP($C$4&\"_\"&$A13,subject_wise,COLUMNS($A$5:R11),0),\"\")","v":""},{"$f":"IFERROR(VLOOKUP($C$4&\"_\"&$A13,subject_wise,COLUMNS($A$5:S11),0),\"\")","v":""},{"$f":"IFERROR(VLOOKUP($C$4&\"_\"&$A13,subject_wise,COLUMNS($A$5:T11),0),\"\")","v":""},{"$f":"IFERROR(VLOOKUP($C$4&\"_\"&$A13,subject_wise,COLUMNS($A$5:U11),0),\"\")","v":""},{"$f":"IFERROR(VLOOKUP($C$4&\"_\"&$A13,subject_wise,COLUMNS($A$5:V11),0),\"\")","v":""},{"$f":"IFERROR(VLOOKUP($C$4&\"_\"&$A13,subject_wise,COLUMNS($A$5:W11),0),\"\")","v":""},{"$f":"IFERROR(VLOOKUP($C$4&\"_\"&$A13,subject_wise,COLUMNS($A$5:X11),0),\"\")","v":""},{"$f":"IFERROR(VLOOKUP($C$4&\"_\"&$A13,subject_wise,COLUMNS($A$5:Y11),0),\"\")","v":""},{"$f":"IFERROR(VLOOKUP($C$4&\"_\"&$A13,subject_wise,COLUMNS($A$5:Z11),0),\"\")","v":""},{"$f":"IFERROR(VLOOKUP($C$4&\"_\"&$A13,subject_wise,COLUMNS($A$5:AA11),0),\"\")","v":""},{"$f":"IFERROR(VLOOKUP($C$4&\"_\"&$A13,subject_wise,COLUMNS($A$5:AB11),0),\"\")","v":""},{"$f":"IFERROR(VLOOKUP($C$4&\"_\"&$A13,subject_wise,COLUMNS($A$5:AC11),0),\"\")","v":""},{"$f":"IFERROR(VLOOKUP($C$4&\"_\"&$A13,subject_wise,COLUMNS($A$5:AD11),0),\"\")","v":""},{"$f":"IFERROR(VLOOKUP($C$4&\"_\"&$A13,subject_wise,COLUMNS($A$5:AE11),0),\"\")","v":""},{"$f":"IFERROR(VLOOKUP($C$4&\"_\"&$A13,subject_wise,COLUMNS($A$5:AF11),0),\"\")","v":""},{"$f":"IFERROR(VLOOKUP($C$4&\"_\"&$A13,subject_wise,COLUMNS($A$5:AG11),0),\"\")","v":""},{"$f":"IFERROR(VLOOKUP($C$4&\"_\"&$A13,subject_wise,COLUMNS($A$5:AH11),0),\"\")","v":""},{"$f":"IFERROR(VLOOKUP($C$4&\"_\"&$A13,subject_wise,COLUMNS($A$5:AI11),0),\"\")","v":""},{"$f":"IFERROR(VLOOKUP($C$4&\"_\"&$A13,subject_wise,COLUMNS($A$5:AJ11),0),\"\")","v":""}]
[8,{"$f":"IFERROR(VLOOKUP($C$4&\"_\"&$A14,subject_wise,COLUMNS($A$5:C12),0),\"\")","v":""},{"$f":"IFERROR(VLOOKUP($C$4&\"_\"&$A14,subject_wise,COLUMNS($A$5:D12),0),\"\")","v":""},{"$f":"IFERROR(VLOOKUP($C$4&\"_\"&$A14,subject_wise,COLUMNS($A$5:E12),0),\"\")","v":""},{"$f":"IFERROR(VLOOKUP($C$4&\"_\"&$A14,subject_wise,COLUMNS($A$5:F12),0),\"\")","v":""},{"$f":"IFERROR(VLOOKUP($C$4&\"_\"&$A14,subject_wise,COLUMNS($A$5:G12),0),\"\")","v":""},{"$f":"IFERROR(VLOOKUP($C$4&\"_\"&$A14,subject_wise,COLUMNS($A$5:H12),0),\"\")","v":""},{"$f":"IFERROR(VLOOKUP($C$4&\"_\"&$A14,subject_wise,COLUMNS($A$5:I12),0),\"\")","v":""},{"$f":"IFERROR(VLOOKUP($C$4&\"_\"&$A14,subject_wise,COLUMNS($A$5:J12),0),\"\")","v":""},{"$f":"IFERROR(VLOOKUP($C$4&\"_\"&$A14,subject_wise,COLUMNS($A$5:K12),0),\"\")","v":""},{"$f":"IFERROR(VLOOKUP($C$4&\"_\"&$A14,subject_wise,COLUMNS($A$5:L12),0),\"\")","v":""},{"$f":"IFERROR(VLOOKUP($C$4&\"_\"&$A14,subject_wise,COLUMNS($A$5:M12),0),\"\")","v":""},{"$f":"IFERROR(VLOOKUP($C$4&\"_\"&$A14,subject_wise,COLUMNS($A$5:N12),0),\"\")","v":""},{"$f":"IFERROR(VLOOKUP($C$4&\"_\"&$A14,subject_wise,COLUMNS($A$5:O12),0),\"\")","v":""},{"$f":"IFERROR(VLOOKUP($C$4&\"_\"&$A14,subject_wise,COLUMNS($A$5:P12),0),\"\")","v":""},{"$f":"IFERROR(VLOOKUP($C$4&\"_\"&$A14,subject_wise,COLUMNS($A$5:Q12),0),\"\")","v":""},{"$f":"IFERROR(VLOOKUP($C$4&\"_\"&$A14,subject_wise,COLUMNS($A$5:R12),0),\"\")","v":""},{"$f":"IFERROR(VLOOKUP($C$4&\"_\"&$A14,subject_wise,COLUMNS($A$5:S12),0),\"\")","v":""},{"$f":"IFERROR(VLOOKUP($C$4&\"_\"&$A14,subject_wise,COLUMNS($A$5:T12),0),\"\")","v":""},{"$f":"IFERROR(VLOOKUP($C$4&\"_\"&$A14,subject_wise,COLUMNS($A$5:U12),0),\"\")","v":""},{"$f":"IFERROR(VLOOKUP($C$4&\"_\"&$A14,subject_wise,COLUMNS($A$5:V12),0),\"\")","v":""},{"$f":"IFERROR(VLOOKUP($C$4&\"_\"&$A14,subject_wise,COLUMNS($A$5:W12),0),\"\")","v":""},{"$f":"IFERROR(VLOOKUP($C$4&\"_\"&$A14,subject_wise,COLUMNS($A$5:X12),0),\"\")","v":""},{"$f":"IFERROR(VLOOKUP($C$4&\"_\"&$A14,subject_wise,COLUMNS($A$5:Y12),0),\"\")","v":""},{"$f":"IFERROR(VLOOKUP($C$4&\"_\"&$A14,subject_wise,COLUMNS($A$5:Z12),0),\"\")","v":""},{"$f":"IFERROR(VLOOKUP($C$4&\"_\"&$A14,subject_wise,COLUMNS($A$5:AA12),0),\"\")","v":""},{"$f":"IFERROR(VLOOKUP($C$4&\"_\"&$A14,subject_wise,COLUMNS($A$5:AB12),0),\"\")","v":""},{"$f":"IFERROR(VLOOKUP($C$4&\"_\"&$A14,subject_wise,COLUMNS($A$5:AC12),0),\"\")","v":""},{"$f":"IFERROR(VLOOKUP($C$4&\"_\"&$A14,subject_wise,COLUMNS($A$5:AD12),0),\"\")","v":""},{"$f":"IFERROR(VLOOKUP($C$4&\"_\"&$A14,subject_wise,COLUMNS($A$5:AE12),0),\"\")","v":""},{"$f":"IFERROR(VLOOKUP($C$4&\"_\"&$A14,subject_wise,COLUMNS($A$5:AF12),0),\"\")","v":""},{"$f":"IFERROR(VLOOKUP($C$4&\"_\"&$A14,subject_wise,COLUMNS($A$5:AG12),0),\"\")","v":""},{"$f":"IFERROR(VLOOKUP($C$4&\"_\"&$A14,subject_wise,COLUMNS($A$5:AH12),0),\"\")","v":""},{"$f":"IFERROR(VLOOKUP($C$4&\"_\"&$A14,subject_wise,COLUMNS($A$5:AI12),0),\"\")","v":""},{"$f":"IFERROR(VLOOKUP($C$4&\"_\"&$A14,subject_wise,COLUMNS($A$5:AJ12),0),\"\")","v":""}]
[9,{"$f":"IFERROR(VLOOKUP($C$4&\"_\"&$A15,subject_wise,COLUMNS($A$5:C13),0),\"\")","v":""},{"$f":"IFERROR(VLOOKUP($C$4&\"_\"&$A15,subject_wise,COLUMNS($A$5:D13),0),\"\")","v":""},{"$f":"IFERROR(VLOOKUP($C$4&\"_\"&$A15,subject_wise,COLUMNS($A$5:E13),0),\"\")","v":""},{"$f":"IFERROR(VLOOKUP($C$4&\"_\"&$A15,subject_wise,COLUMNS($A$5:F13),0),\"\")","v":""},{"$f":"IFERROR(VLOOKUP($C$4&\"_\"&$A15,subject_wise,COLUMNS($A$5:G13),0),\"\")","v":""},{"$f":"IFERROR(VLOOKUP($C$4&\"_\"&$A15,subject_wise,COLUMNS($A$5:H13),0),\"\")","v":""},{"$f":"IFERROR(VLOOKUP($C$4&\"_\"&$A15,subject_wise,COLUMNS($A$5:I13),0),\"\")","v":""},{"$f":"IFERROR(VLOOKUP($C$4&\"_\"&$A15,subject_wise,COLUMNS($A$5:J13),0),\"\")","v":""},{"$f":"IFERROR(VLOOKUP($C$4&\"_\"&$A15,subject_wise,COLUMNS($A$5:K13),0),\"\")","v":""},{"$f":"IFERROR(VLOOKUP($C$4&\"_\"&$A15,subject_wise,COLUMNS($A$5:L13),0),\"\")","v":""},{"$f":"IFERROR(VLOOKUP($C$4&\"_\"&$A15,subject_wise,COLUMNS($A$5:M13),0),\"\")","v":""},{"$f":"IFERROR(VLOOKUP($C$4&\"_\"&$A15,subject_wise,COLUMNS($A$5:N13),0),\"\")","v":""},{"$f":"IFERROR(VLOOKUP($C$4&\"_\"&$A15,subject_wise,COLUMNS($A$5:O13),0),\"\")","v":""},{"$f":"IFERROR(VLOOKUP($C$4&\"_\"&$A15,subject_wise,COLUMNS($A$5:P13),0),\"\")","v":""},{"$f":"IFERROR(VLOOKUP($C$4&\"_\"&$A15,subject_wise,COLUMNS($A$5:Q13),0),\"\")","v":""},{"$f":"IFERROR(VLOOKUP($C$4&\"_\"&$A15,subject_wise,COLUMNS($A$5:R13),0),\"\")","v":""},{"$f":"IFERROR(VLOOKUP($C$4&\"_\"&$A15,subject_wise,COLUMNS($A$5:S13),0),\"\")","v":""},{"$f":"IFERROR(VLOOKUP($C$4&\"_\"&$A15,subject_wise,COLUMNS($A$5:T13),0),\"\")","v":""},{"$f":"IFERROR(VLOOKUP($C$4&\"_\"&$A15,subject_wise,COLUMNS($A$5:U13),0),\"\")","v":""},{"$f":"IFERROR(VLOOKUP($C$4&\"_\"&$A15,subject_wise,COLUMNS($A$5:V13),0),\"\")","v":""},{"$f":"IFERROR(VLOOKUP($C$4&\"_\"&$A15,subject_wise,COLUMNS($A$5:W13),0),\"\")","v":""},{"$f":"IFERROR(VLOOKUP($C$4&\"_\"&$A15,subject_wise,COLUMNS($A$5:X13),0),\"\")","v":""},{"$f":"IFERROR(VLOOKUP($C$4&\"_\"&$A15,subject_wise,COLUMNS($A$5:Y13),0),\"\")","v":""},{"$f":"IFERROR(VLOOKUP($C$4&\"_\"&$A15,subject_wise,COLUMNS($A$5:Z13),0),\"\")","v":""},{"$f":"IFERROR(VLOOKUP($C$4&\"_\"&$A15,subject_wise,COLUMNS($A$5:AA13),0),\"\")","v":""},{"$f":"IFERROR(VLOOKUP($C$4&\"_\"&$A15,subject_wise,COLUMNS($A$5:AB13),0),\"\")","v":""},{"$f":"IFERROR(VLOOKUP($C$4&\"_\"&$A15,subject_wise,COLUMNS($A$5:AC13),0),\"\")","v":""},{"$f":"IFERROR(VLOOKUP($C$4&\"_\"&$A15,subject_wise,COLUMNS($A$5:AD13),0),\"\")","v":""},{"$f":"IFERROR(VLOOKUP($C$4&\"_\"&$A15,subject_wise,COLUMNS($A$5:AE13),0),\"\")","v":""},{"$f":"IFERROR(VLOOKUP($C$4&\"_\"&$A15,subject_wise,COLUMNS($A$5:AF13),0),\"\")","v":""},{"$f":"IFERROR(VLOOKUP($C$4&\"_\"&$A15,subject_wise,COLUMNS($A$5:AG13),0),\"\")","v":""},{"$f":"IFERROR(VLOOKUP($C$4&\"_\"&$A15,subject_wise,COLUMNS($A$5:AH13),0),\"\")","v":""},{"$f":"IFERROR(VLOOKUP($C$4&\"_\"&$A15,subject_wise,COLUMNS($A$5:AI13),0),\"\")","v":""},{"$f":"IFERROR(VLOOKUP($C$4&\"_\"&$A15,subject_wise,COLUMNS($A$5:AJ13),0),\"\")","v":""}]
[10,{"$f":"IFERROR(VLOOKUP($C$4&\"_\"&$A16,subject_wise,COLUMNS($A$5:C14),0),\"\")","v":""},{"$f":"IFERROR(VLOOKUP($C$4&\"_\"&$A16,subject_wise,COLUMNS($A$5:D14),0),\"\")","v":""},{"$f":"IFERROR(VLOOKUP($C$4&\"_\"&$A16,subject_wise,COLUMNS($A$5:E14),0),\"\")","v":""},{"$f":"IFERROR(VLOOKUP($C$4&\"_\"&$A16,subject_wise,COLUMNS($A$5:F14),0),\"\")","v":""},{"$f":"IFERROR(VLOOKUP($C$4&\"_\"&$A16,subject_wise,COLUMNS($A$5:G14),0),\"\")","v":""},{"$f":"IFERROR(VLOOKUP($C$4&\"_\"&$A16,subject_wise,COLUMNS($A$5:H14),0),\"\")","v":""},{"$f":"IFERROR(VLOOKUP($C$4&\"_\"&$A16,subject_wise,COLUMNS($A$5:I14),0),\"\")","v":""},{"$f":"IFERROR(VLOOKUP($C$4&\"_\"&$A16,subject_wise,COLUMNS($A$5:J14),0),\"\")","v":""},{"$f":"IFERROR(VLOOKUP($C$4&\"_\"&$A16,subject_wise,COLUMNS($A$5:K14),0),\"\")","v":""},{"$f":"IFERROR(VLOOKUP($C$4&\"_\"&$A16,subject_wise,COLUMNS($A$5:L14),0),\"\")","v":""},{"$f":"IFERROR(VLOOKUP($C$4&\"_\"&$A16,subject_wise,COLUMNS($A$5:M14),0),\"\")","v":""},{"$f":"IFERROR(VLOOKUP($C$4&\"_\"&$A16,subject_wise,COLUMNS($A$5:N14),0),\"\")","v":""},{"$f":"IFERROR(VLOOKUP($C$4&\"_\"&$A16,subject_wise,COLUMNS($A$5:O14),0),\"\")","v":""},{"$f":"IFERROR(VLOOKUP($C$4&\"_\"&$A16,subject_wise,COLUMNS($A$5:P14),0),\"\")","v":""},{"$f":"IFERROR(VLOOKUP($C$4&\"_\"&$A16,subject_wise,COLUMNS($A$5:Q14),0),\"\")","v":""},{"$f":"IFERROR(VLOOKUP($C$4&\"_\"&$A16,subject_wise,COLUMNS($A$5:R14),0),\"\")","v":""},{"$f":"IFERROR(VLOOKUP($C$4&\"_\"&$A16,subject_wise,COLUMNS($A$5:S14),0),\"\")","v":""},{"$f":"IFERROR(VLOOKUP($C$4&\"_\"&$A16,subject_wise,COLUMNS($A$5:T14),0),\"\")","v":""},{"$f":"IFERROR(VLOOKUP($C$4&\"_\"&$A16,subject_wise,COLUMNS($A$5:U14),0),\"\")","v":""},{"$f":"IFERROR(VLOOKUP($C$4&\"_\"&$A16,subject_wise,COLUMNS($A$5:V14),0),\"\")","v":""},{"$f":"IFERROR(VLOOKUP($C$4&\"_\"&$A16,subject_wise,COLUMNS($A$5:W14),0),\"\")","v":""},{"$f":"IFERROR(VLOOKUP($C$4&\"_\"&$A16,subject_wise,COLUMNS($A$5:X14),0),\"\")","v":""},{"$f":"IFERROR(VLOOKUP($C$4&\"_\"&$A16,subject_wise,COLUMNS($A$5:Y14),0),\"\")","v":""},{"$f":"IFERROR(VLOOKUP($C$4&\"_\"&$A16,subject_wise,COLUMNS($A$5:Z14),0),\"\")","v":""},{"$f":"IFERROR(VLOOKUP($C$4&\"_\"&$A16,subject_wise,COLUMNS($A$5:AA14),0),\"\")","v":""},{"$f":"IFERROR(VLOOKUP($C$4&\"_\"&$A16,subject_wise,COLUMNS($A$5:AB14),0),\"\")","v":""},{"$f":"IFERROR(VLOOKUP($C$4&\"_\"&$A16,subject_wise,COLUMNS($A$5:AC14),0),\"\")","v":""},{"$f":"IFERROR(VLOOKUP($C$4&\"_\"&$A16,subject_wise,COLUMNS($A$5:AD14),0),\"\")","v":""},{"$f":"IFERROR(VLOOKUP($C$4&\"_\"&$A16,subject_wise,COLUMNS($A$5:AE14),0),\"\")","v":""},{"$f":"IFERROR(VLOOKUP($C$4&\"_\"&$A16,subject_wise,COLUMNS($A$5:AF14),0),\"\")","v":""},{"$f":"IFERROR(VLOOKUP($C$4&\"_\"&$A16,subject_wise,COLUMNS($A$5:AG14),0),\"\")","v":""},{"$f":"IFERROR(VLOOKUP($C$4&\"_\"&$A16,subject_wise,COLUMNS($A$5:AH14),0),\"\")","v":""},{"$f":"IFERROR(VLOOKUP($C$4&\"_\"&$A16,subject_wise,COLUMNS($A$5:AI14),0),\"\")","v":""},{"$f":"IFERROR(VLOOKUP($C$4&\"_\"&$A16,subject_wise,COLUMNS($A$5:AJ14),0),\"\")","v":""}]
[11,{"$f":"IFERROR(VLOOKUP($C$4&\"_\"&$A17,subject_wise,COLUMNS($A$5:C15),0),\"\")","v":""},{"$f":"IFERROR(VLOOKUP($C$4&\"_\"&$A17,subject_wise,COLUMNS($A$5:D15),0),\"\")","v":""},{"$f":"IFERROR(VLOOKUP($C$4&\"_\"&$A17,subject_wise,COLUMNS($A$5:E15),0),\"\")","v":""},{"$f":"IFERROR(VLOOKUP($C$4&\"_\"&$A17,subject_wise,COLUMNS($A$5:F15),0),\"\")","v":""},{"$f":"IFERROR(VLOOKUP($C$4&\"_\"&$A17,subject_wise,COLUMNS($A$5:G15),0),\"\")","v":""},{"$f":"IFERROR(VLOOKUP($C$4&\"_\"&$A17,subject_wise,COLUMNS($A$5:H15),0),\"\")","v":""},{"$f":"IFERROR(VLOOKUP($C$4&\"_\"&$A17,subject_wise,COLUMNS($A$5:I15),0),\"\")","v":""},{"$f":"IFERROR(VLOOKUP($C$4&\"_\"&$A17,subject_wise,COLUMNS($A$5:J15),0),\"\")","v":""},{"$f":"IFERROR(VLOOKUP($C$4&\"_\"&$A17,subject_wise,COLUMNS($A$5:K15),0),\"\")","v":""},{"$f":"IFERROR(VLOOKUP($C$4&\"_\"&$A17,subject_wise,COLUMNS($A$5:L15),0),\"\")","v":""},{"$f":"IFERROR(VLOOKUP($C$4&\"_\"&$A17,subject_wise,COLUMNS($A$5:M15),0),\"\")","v":""},{"$f":"IFERROR(VLOOKUP($C$4&\"_\"&$A17,subject_wise,COLUMNS($A$5:N15),0),\"\")","v":""},{"$f":"IFERROR(VLOOKUP($C$4&\"_\"&$A17,subject_wise,COLUMNS($A$5:O15),0),\"\")","v":""},{"$f":"IFERROR(VLOOKUP($C$4&\"_\"&$A17,subject_wise,COLUMNS($A$5:P15),0),\"\")","v":""},{"$f":"IFERROR(VLOOKUP($C$4&\"_\"&$A17,subject_wise,COLUMNS($A$5:Q15),0),\"\")","v":""},{"$f":"IFERROR(VLOOKUP($C$4&\"_\"&$A17,subject_wise,COLUMNS($A$5:R15),0),\"\")","v":""},{"$f":"IFERROR(VLOOKUP($C$4&\"_\"&$A17,subject_wise,COLUMNS($A$5:S15),0),\"\")","v":""},{"$f":"IFERROR(VLOOKUP($C$4&\"_\"&$A17,subject_wise,COLUMNS($A$5:T15),0),\"\")","v":""},{"$f":"IFERROR(VLOOKUP($C$4&\"_\"&$A17,subject_wise,COLUMNS($A$5:U15),0),\"\")","v":""},{"$f":"IFERROR(VLOOKUP($C$4&\"_\"&$A17,subject_wise,COLUMNS($A$5:V15),0),\"\")","v":""},{"$f":"IFERROR(VLOOKUP($C$4&\"_\"&$A17,subject_wise,COLUMNS($A$5:W15),0),\"\")","v":""},{"$f":"IFERROR(VLOOKUP($C$4&\"_\"&$A17,subject_wise,COLUMNS($A$5:X15),0),\"\")","v":""},{"$f":"IFERROR(VLOOKUP($C$4&\"_\"&$A17,subject_wise,COLUMNS($A$5:Y15),0),\"\")","v":""},{"$f":"IFERROR(VLOOKUP($C$4&\"_\"&$A17,subject_wise,COLUMNS($A$5:Z15),0),\"\")","v":""},{"$f":"IFERROR(VLOOKUP($C$4&\"_\"&$A17,subject_wise,COLUMNS($A$5:AA15),0),\"\")","v":""},{"$f":"IFERROR(VLOOKUP($C$4&\"_\"&$A17,subject_wise,COLUMNS($A$5:AB15),0),\"\")","v":""},{"$f":"IFERROR(VLOOKUP($C$4&\"_\"&$A17,subject_wise,COLUMNS($A$5:AC15),0),\"\")","v":""},{"$f":"IFERROR(VLOOKUP($C$4&\"_\"&$A17,subject_wise,COLUMNS($A$5:AD15),0),\"\")","v":""},{"$f":"IFERROR(VLOOKUP($C$4&\"_\"&$A17,subject_wise,COLUMNS($A$5:AE15),0),\"\")","v":""},{"$f":"IFERROR(VLOOKUP($C$4&\"_\"&$A17,subject_wise,COLUMNS($A$5:AF15),0),\"\")","v":""},{"$f":"IFERROR(VLOOKUP($C$4&\"_\"&$A17,subject_wise,COLUMNS($A$5:AG15),0),\"\")","v":""},{"$f":"IFERROR(VLOOKUP($C$4&\"_\"&$A17,subject_wise,COLUMNS($A$5:AH15),0),\"\")","v":""},{"$f":"IFERROR(VLOOKUP($C$4&\"_\"&$A17,subject_wise,COLUMNS($A$5:AI15),0),\"\")","v":""},{"$f":"IFERROR(VLOOKUP($C$4&\"_\"&$A17,subject_wise,COLUMNS($A$5:AJ15),0),\"\")","v":""}]
[12,{"$f":"IFERROR(VLOOKUP($C$4&\"_\"&$A18,subject_wise,COLUMNS($A$5:C16),0),\"\")","v":""},{"$f":"IFERROR(VLOOKUP($C$4&\"_\"&$A18,subject_wise,COLUMNS($A$5:D16),0),\"\")","v":""},{"$f":"IFERROR(VLOOKUP($C$4&\"_\"&$A18,subject_wise,COLUMNS($A$5:E16),0),\"\")","v":""},{"$f":"IFERROR(VLOOKUP($C$4&\"_\"&$A18,subject_wise,COLUMNS($A$5:F16),0),\"\")","v":""},{"$f":"IFERROR(VLOOKUP($C$4&\"_\"&$A18,subject_wise,COLUMNS($A$5:G16),0),\"\")","v":""},{"$f":"IFERROR(VLOOKUP($C$4&\"_\"&$A18,subject_wise,COLUMNS($A$5:H16),0),\"\")","v":""},{"$f":"IFERROR(VLOOKUP($C$4&\"_\"&$A18,subject_wise,COLUMNS($A$5:I16),0),\"\")","v":""},{"$f":"IFERROR(VLOOKUP($C$4&\"_\"&$A18,subject_wise,COLUMNS($A$5:J16),0),\"\")","v":""},{"$f":"IFERROR(VLOOKUP($C$4&\"_\"&$A18,subject_wise,COLUMNS($A$5:K16),0),\"\")","v":""},{"$f":"IFERROR(VLOOKUP($C$4&\"_\"&$A18,subject_wise,COLUMNS($A$5:L16),0),\"\")","v":""},{"$f":"IFERROR(VLOOKUP($C$4&\"_\"&$A18,subject_wise,COLUMNS($A$5:M16),0),\"\")","v":""},{"$f":"IFERROR(VLOOKUP($C$4&\"_\"&$A18,subject_wise,COLUMNS($A$5:N16),0),\"\")","v":""},{"$f":"IFERROR(VLOOKUP($C$4&\"_\"&$A18,subject_wise,COLUMNS($A$5:O16),0),\"\")","v":""},{"$f":"IFERROR(VLOOKUP($C$4&\"_\"&$A18,subject_wise,COLUMNS($A$5:P16),0),\"\")","v":""},{"$f":"IFERROR(VLOOKUP($C$4&\"_\"&$A18,subject_wise,COLUMNS($A$5:Q16),0),\"\")","v":""},{"$f":"IFERROR(VLOOKUP($C$4&\"_\"&$A18,subject_wise,COLUMNS($A$5:R16),0),\"\")","v":""},{"$f":"IFERROR(VLOOKUP($C$4&\"_\"&$A18,subject_wise,COLUMNS($A$5:S16),0),\"\")","v":""},{"$f":"IFERROR(VLOOKUP($C$4&\"_\"&$A18,subject_wise,COLUMNS($A$5:T16),0),\"\")","v":""},{"$f":"IFERROR(VLOOKUP($C$4&\"_\"&$A18,subject_wise,COLUMNS($A$5:U16),0),\"\")","v":""},{"$f":"IFERROR(VLOOKUP($C$4&\"_\"&$A18,subject_wise,COLUMNS($A$5:V16),0),\"\")","v":""},{"$f":"IFERROR(VLOOKUP($C$4&\"_\"&$A18,subject_wise,COLUMNS($A$5:W16),0),\"\")","v":""},{"$f":"IFERROR(VLOOKUP($C$4&\"_\"&$A18,subject_wise,COLUMNS($A$5:X16),0),\"\")","v":""},{"$f":"IFERROR(VLOOKUP($C$4&\"_\"&$A18,subject_wise,COLUMNS($A$5:Y16),0),\"\")","v":""},{"$f":"IFERROR(VLOOKUP($C$4&\"_\"&$A18,subject_wise,COLUMNS($A$5:Z16),0),\"\")","v":""},{"$f":"IFERROR(VLOOKUP($C$4&\"_\"&$A18,subject_wise,COLUMNS($A$5:AA16),0),\"\")","v":""},{"$f":"IFERROR(VLOOKUP($C$4&\"_\"&$A18,subject_wise,COLUMNS($A$5:AB16),0),\"\")","v":""},{"$f":"IFERROR(VLOOKUP($C$4&\"_\"&$A18,subject_wise,COLUMNS($A$5:AC16),0),\"\")","v":""},{"$f":"IFERROR(VLOOKUP($C$4&\"_\"&$A18,subject_wise,COLUMNS($A$5:AD16),0),\"\")","v":""},{"$f":"IFERROR(VLOOKUP($C$4&\"_\"&$A18,subject_wise,COLUMNS($A$5:AE16),0),\"\")","v":""},{"$f":"IFERROR(VLOOKUP($C$4&\"_\"&$A18,subject_wise,COLUMNS($A$5:AF16),0),\"\")","v":""},{"$f":"IFERROR(VLOOKUP($C$4&\"_\"&$A18,subject_wise,COLUMNS($A$5:AG16),0),\"\")","v":""},{"$f":"IFERROR(VLOOKUP($C$4&\"_\"&$A18,subject_wise,COLUMNS($A$5:AH16),0),\"\")","v":""},{"$f":"IFERROR(VLOOKUP($C$4&\"_\"&$A18,subject_wise,COLUMNS($A$5:AI16),0),\"\")","v":""},{"$f":"IFERROR(VLOOKUP($C$4&\"_\"&$A18,subject_wise,COLUMNS($A$5:AJ16),0),\"\")","v":""}]
[13,{"$f":"IFERROR(VLOOKUP($C$4&\"_\"&$A19,subject_wise,COLUMNS($A$5:C17),0),\"\")","v":""},{"$f":"IFERROR(VLOOKUP($C$4&\"_\"&$A19,subject_wise,COLUMNS($A$5:D17),0),\"\")","v":""},{"$f":"IFERROR(VLOOKUP($C$4&\"_\"&$A19,subject_wise,COLUMNS($A$5:E17),0),\"\")","v":""},{"$f":"IFERROR(VLOOKUP($C$4&\"_\"&$A19,subject_wise,COLUMNS($A$5:F17),0),\"\")","v":""},{"$f":"IFERROR(VLOOKUP($C$4&\"_\"&$A19,subject_wise,COLUMNS($A$5:G17),0),\"\")","v":""},{"$f":"IFERROR(VLOOKUP($C$4&\"_\"&$A19,subject_wise,COLUMNS($A$5:H17),0),\"\")","v":""},{"$f":"IFERROR(VLOOKUP($C$4&\"_\"&$A19,subject_wise,COLUMNS($A$5:I17),0),\"\")","v":""},{"$f":"IFERROR(VLOOKUP($C$4&\"_\"&$A19,subject_wise,COLUMNS($A$5:J17),0),\"\")","v":""},{"$f":"IFERROR(VLOOKUP($C$4&\"_\"&$A19,subject_wise,COLUMNS($A$5:K17),0),\"\")","v":""},{"$f":"IFERROR(VLOOKUP($C$4&\"_\"&$A19,subject_wise,COLUMNS($A$5:L17),0),\"\")","v":""},{"$f":"IFERROR(VLOOKUP($C$4&\"_\"&$A19,subject_wise,COLUMNS($A$5:M17),0),\"\")","v":""},{"$f":"IFERROR(VLOOKUP($C$4&\"_\"&$A19,subject_wise,COLUMNS($A$5:N17),0),\"\")","v":""},{"$f":"IFERROR(VLOOKUP($C$4&\"_\"&$A19,subject_wise,COLUMNS($A$5:O17),0),\"\")","v":""},{"$f":"IFERROR(VLOOKUP($C$4&\"_\"&$A19,subject_wise,COLUMNS($A$5:P17),0),\"\")","v":""},{"$f":"IFERROR(VLOOKUP($C$4&\"_\"&$A19,subject_wise,COLUMNS($A$5:Q17),0),\"\")","v":""},{"$f":"IFERROR(VLOOKUP($C$4&\"_\"&$A19,subject_wise,COLUMNS($A$5:R17),0),\"\")","v":""},{"$f":"IFERROR(VLOOKUP($C$4&\"_\"&$A19,subject_wise,COLUMNS($A$5:S17),0),\"\")","v":""},{"$f":"IFERROR(VLOOKUP($C$4&\"_\"&$A19,subject_wise,COLUMNS($A$5:T17),0),\"\")","v":""},{"$f":"IFERROR(VLOOKUP($C$4&\"_\"&$A19,subject_wise,COLUMNS($A$5:U17),0),\"\")","v":""},{"$f":"IFERROR(VLOOKUP($C$4&\"_\"&$A19,subject_wise,COLUMNS($A$5:V17),0),\"\")","v":""},{"$f":"IFERROR(VLOOKUP($C$4&\"_\"&$A19,subject_wise,COLUMNS($A$5:W17),0),\"\")","v":""},{"$f":"IFERROR(VLOOKUP($C$4&\"_\"&$A19,subject_wise,COLUMNS($A$5:X17),0),\"\")","v":""},{"$f":"IFERROR(VLOOKUP($C$4&\"_\"&$A19,subject_wise,COLUMNS($A$5:Y17),0),\"\")","v":""},{"$f":"IFERROR(VLOOKUP($C$4&\"_\"&$A19,subject_wise,COLUMNS($A$5:Z17),0),\"\")","v":""},{"$f":"IFERROR(VLOOKUP($C$4&\"_\"&$A19,subject_wise,COLUMNS($A$5:AA17),0),\"\")","v":""},{"$f":"IFERROR(VLOOKUP($C$4&\"_\"&$A19,subject_wise,COLUMNS($A$5:AB17),0),\"\")","v":""},{"$f":"IFERROR(VLOOKUP($C$4&\"_\"&$A19,subject_wise,COLUMNS($A$5:AC17),0),\"\")","v":""},{"$f":"IFERROR(VLOOKUP($C$4&\"_\"&$A19,subject_wise,COLUMNS($A$5:AD17),0),\"\")","v":""},{"$f":"IFERROR(VLOOKUP($C$4&\"_\"&$A19,subject_wise,COLUMNS($A$5:AE17),0),\"\")","v":""},{"$f":"IFERROR(VLOOKUP($C$4&\"_\"&$A19,subject_wise,COLUMNS($A$5:AF17),0),\"\")","v":""},{"$f":"IFERROR(VLOOKUP($C$4&\"_\"&$A19,subject_wise,COLUMNS($A$5:AG17),0),\"\")","v":""},{"$f":"IFERROR(VLOOKUP($C$4&\"_\"&$A19,subject_wise,COLUMNS($A$5:AH17),0),\"\")","v":""},{"$f":"IFERROR(VLOOKUP($C$4&\"_\"&$A19,subject_wise,COLUMNS($A$5:AI17),0),\"\")","v":""},{"$f":"IFERROR(VLOOKUP($C$4&\"_\"&$A19,subject_wise,COLUMNS($A$5:AJ17),0),\"\")","v":""}]
[14,{"$f":"IFERROR(VLOOKUP($C$4&\"_\"&$A20,subject_wise,COLUMNS($A$5:C18),0),\"\")","v":""},{"$f":"IFERROR(VLOOKUP($C$4&\"_\"&$A20,subject_wise,COLUMNS($A$5:D18),0),\"\")","v":""},{"$f":"IFERROR(VLOOKUP($C$4&\"_\"&$A20,subject_wise,COLUMNS($A$5:E18),0),\"\")","v":""},{"$f":"IFERROR(VLOOKUP($C$4&\"_\"&$A20,subject_wise,COLUMNS($A$5:F18),0),\"\")","v":""},{"$f":"IFERROR(VLOOKUP($C$4&\"_\"&$A20,subject_wise,COLUMNS($A$5:G18),0),\"\")","v":""},{"$f":"IFERROR(VLOOKUP($C$4&\"_\"&$A20,subject_wise,COLUMNS($A$5:H18),0),\"\")","v":""},{"$f":"IFERROR(VLOOKUP($C$4&\"_\"&$A20,subject_wise,COLUMNS($A$5:I18),0),\"\")","v":""},{"$f":"IFERROR(VLOOKUP($C$4&\"_\"&$A20,subject_wise,COLUMNS($A$5:J18),0),\"\")","v":""},{"$f":"IFERROR(VLOOKUP($C$4&\"_\"&$A20,subject_wise,COLUMNS($A$5:K18),0),\"\")","v":""},{"$f":"IFERROR(VLOOKUP($C$4&\"_\"&$A20,subject_wise,COLUMNS($A$5:L18),0),\"\")","v":""},{"$f":"IFERROR(VLOOKUP($C$4&\"_\"&$A20,subject_wise,COLUMNS($A$5:M18),0),\"\")","v":""},{"$f":"IFERROR(VLOOKUP($C$4&\"_\"&$A20,subject_wise,COLUMNS($A$5:N18),0),\"\")","v":""},{"$f":"IFERROR(VLOOKUP($C$4&\"_\"&$A20,subject_wise,COLUMNS($A$5:O18),0),\"\")","v":""},{"$f":"IFERROR(VLOOKUP($C$4&\"_\"&$A20,subject_wise,COLUMNS($A$5:P18),0),\"\")","v":""},{"$f":"IFERROR(VLOOKUP($C$4&\"_\"&$A20,subject_wise,COLUMNS($A$5:Q18),0),\"\")","v":""},{"$f":"IFERROR(VLOOKUP($C$4&\"_\"&$A20,subject_wise,COLUMNS($A$5:R18),0),\"\")","v":""},{"$f":"IFERROR(VLOOKUP($C$4&\"_\"&$A20,subject_wise,COLUMNS($A$5:S18),0),\"\")","v":""},{"$f":"IFERROR(VLOOKUP($C$4&\"_\"&$A20,subject_wise,COLUMNS($A$5:T18),0),\"\")","v":""},{"$f":"IFERROR(VLOOKUP($C$4&\"_\"&$A20,subject_wise,COLUMNS($A$5:U18),0),\"\")","v":""},{"$f":"IFERROR(VLOOKUP($C$4&\"_\"&$A20,subject_wise,COLUMNS($A$5:V18),0),\"\")","v":""},{"$f":"IFERROR(VLOOKUP($C$4&\"_\"&$A20,subject_wise,COLUMNS($A$5:W18),0),\"\")","v":""},{"$f":"IFERROR(VLOOKUP($C$4&\"_\"&$A20,subject_wise,COLUMNS($A$5:X18),0),\"\")","v":""},{"$f":"IFERROR(VLOOKUP($C$4&\"_\"&$A20,subject_wise,COLUMNS($A$5:Y18),0),\"\")","v":""},{"$f":"IFERROR(VLOOKUP($C$4&\"_\"&$A20,subject_wise,COLUMNS($A$5:Z18),0),\"\")","v":""},{"$f":"IFERROR(VLOOKUP($C$4&\"_\"&$A20,subject_wise,COLUMNS($A$5:AA18),0),\"\")","v":""},{"$f":"IFERROR(VLOOKUP($C$4&\"_\"&$A20,subject_wise,COLUMNS($A$5:AB18),0),\"\")","v":""},{"$f":"IFERROR(VLOOKUP($C$4&\"_\"&$A20,subject_wise,COLUMNS($A$5:AC18),0),\"\")","v":""},{"$f":"IFERROR(VLOOKUP($C$4&\"_\"&$A20,subject_wise,COLUMNS($A$5:AD18),0),\"\")","v":""},{"$f":"IFERROR(VLOOKUP($C$4&\"_\"&$A20,subject_wise,COLUMNS($A$5:AE18),0),\"\")","v":""},{"$f":"IFERROR(VLOOKUP($C$4&\"_\"&$A20,subject_wise,COLUMNS($A$5:AF18),0),\"\")","v":""},{"$f":"IFERROR(VLOOKUP($C$4&\"_\"&$A20,subject_wise,COLUMNS($A$5:AG18),0),\"\")","v":""},{"$f":"IFERROR(VLOOKUP($C$4&\"_\"&$A20,subject_wise,COLUMNS($A$5:AH18),0),\"\")","v":""},{"$f":"IFERROR(VLOOKUP($C$4&\"_\"&$A20,subject_wise,COLUMNS($A$5:AI18),0),\"\")","v":""},{"$f":"IFERROR(VLOOKUP($C$4&\"_\"&$A20,subject_wise,COLUMNS($A$5:AJ18),0),\"\")","v":""}]
[15,{"$f":"IFERROR(VLOOKUP($C$4&\"_\"&$A21,subject_wise,COLUMNS($A$5:C19),0),\"\")","v":""},{"$f":"IFERROR(VLOOKUP($C$4&\"_\"&$A21,subject_wise,COLUMNS($A$5:D19),0),\"\")","v":""},{"$f":"IFERROR(VLOOKUP($C$4&\"_\"&$A21,subject_wise,COLUMNS($A$5:E19),0),\"\")","v":""},{"$f":"IFERROR(VLOOKUP($C$4&\"_\"&$A21,subject_wise,COLUMNS($A$5:F19),0),\"\")","v":""},{"$f":"IFERROR(VLOOKUP($C$4&\"_\"&$A21,subject_wise,COLUMNS($A$5:G19),0),\"\")","v":""},{"$f":"IFERROR(VLOOKUP($C$4&\"_\"&$A21,subject_wise,COLUMNS($A$5:H19),0),\"\")","v":""},{"$f":"IFERROR(VLOOKUP($C$4&\"_\"&$A21,subject_wise,COLUMNS($A$5:I19),0),\"\")","v":""},{"$f":"IFERROR(VLOOKUP($C$4&\"_\"&$A21,subject_wise,COLUMNS($A$5:J19),0),\"\")","v":""},{"$f":"IFERROR(VLOOKUP($C$4&\"_\"&$A21,subject_wise,COLUMNS($A$5:K19),0),\"\")","v":""},{"$f":"IFERROR(VLOOKUP($C$4&\"_\"&$A21,subject_wise,COLUMNS($A$5:L19),0),\"\")","v":""},{"$f":"IFERROR(VLOOKUP($C$4&\"_\"&$A21,subject_wise,COLUMNS($A$5:M19),0),\"\")","v":""},{"$f":"IFERROR(VLOOKUP($C$4&\"_\"&$A21,subject_wise,COLUMNS($A$5:N19),0),\"\")","v":""},{"$f":"IFERROR(VLOOKUP($C$4&\"_\"&$A21,subject_wise,COLUMNS($A$5:O19),0),\"\")","v":""},{"$f":"IFERROR(VLOOKUP($C$4&\"_\"&$A21,subject_wise,COLUMNS($A$5:P19),0),\"\")","v":""},{"$f":"IFERROR(VLOOKUP($C$4&\"_\"&$A21,subject_wise,COLUMNS($A$5:Q19),0),\"\")","v":""},{"$f":"IFERROR(VLOOKUP($C$4&\"_\"&$A21,subject_wise,COLUMNS($A$5:R19),0),\"\")","v":""},{"$f":"IFERROR(VLOOKUP($C$4&\"_\"&$A21,subject_wise,COLUMNS($A$5:S19),0),\"\")","v":""},{"$f":"IFERROR(VLOOKUP($C$4&\"_\"&$A21,subject_wise,COLUMNS($A$5:T19),0),\"\")","v":""},{"$f":"IFERROR(VLOOKUP($C$4&\"_\"&$A21,subject_wise,COLUMNS($A$5:U19),0),\"\")","v":""},{"$f":"IFERROR(VLOOKUP($C$4&\"_\"&$A21,subject_wise,COLUMNS($A$5:V19),0),\"\")","v":""},{"$f":"IFERROR(VLOOKUP($C$4&\"_\"&$A21,subject_wise,COLUMNS($A$5:W19),0),\"\")","v":""},{"$f":"IFERROR(VLOOKUP($C$4&\"_\"&$A21,subject_wise,COLUMNS($A$5:X19),0),\"\")","v":""},{"$f":"IFERROR(VLOOKUP($C$4&\"_\"&$A21,subject_wise,COLUMNS($A$5:Y19),0),\"\")","v":""},{"$f":"IFERROR(VLOOKUP($C$4&\"_\"&$A21,subject_wise,COLUMNS($A$5:Z19),0),\"\")","v":""},{"$f":"IFERROR(VLOOKUP($C$4&\"_\"&$A21,subject_wise,COLUMNS($A$5:AA19),0),\"\")","v":""},{"$f":"IFERROR(VLOOKUP($C$4&\"_\"&$A21,subject_wise,COLUMNS($A$5:AB19),0),\"\")","v":""},{"$f":"IFERROR(VLOOKUP($C$4&\"_\"&$A21,subject_wise,COLUMNS($A$5:AC19),0),\"\")","v":""},{"$f":"IFERROR(VLOOKUP($C$4&\"_\"&$A21,subject_wise,COLUMNS($A$5:AD19),0),\"\")","v":""},{"$f":"IFERROR(VLOOKUP($C$4&\"_\"&$A21,subject_wise,COLUMNS($A$5:AE19),0),\"\")","v":""},{"$f":"IFERROR(VLOOKUP($C$4&\"_\"&$A21,subject_wise,COLUMNS($A$5:AF19),0),\"\")","v":""},{"$f":"IFERROR(VLOOKUP($C$4&\"_\"&$A21,subject_wise,COLUMNS($A$5:AG19),0),\"\")","v":""},{"$f":"IFERROR(VLOOKUP($C$4&\"_\"&$A21,subject_wise,COLUMNS($A$5:AH19),0),\"\")","v":""},{"$f":"IFERROR(VLOOKUP($C$4&\"_\"&$A21,subject_wise,COLUMNS($A$5:AI19),0),\"\")","v":""},{"$f":"IFERROR(VLOOKUP($C$4&\"_\"&$A21,subject_wise,COLUMNS($A$5:AJ19),0),\"\")","v":""}]
[16,{"$f":"IFERROR(VLOOKUP($C$4&\"_\"&$A22,subject_wise,COLUMNS($A$5:C20),0),\"\")","v":""},{"$f":"IFERROR(VLOOKUP($C$4&\"_\"&$A22,subject_wise,COLUMNS($A$5:D20),0),\"\")","v":""},{"$f":"IFERROR(VLOOKUP($C$4&\"_\"&$A22,subject_wise,COLUMNS($A$5:E20),0),\"\")","v":""},{"$f":"IFERROR(VLOOKUP($C$4&\"_\"&$A22,subject_wise,COLUMNS($A$5:F20),0),\"\")","v":""},{"$f":"IFERROR(VLOOKUP($C$4&\"_\"&$A22,subject_wise,COLUMNS($A$5:G20),0),\"\")","v":""},{"$f":"IFERROR(VLOOKUP($C$4&\"_\"&$A22,subject_wise,COLUMNS($A$5:H20),0),\"\")","v":""},{"$f":"IFERROR(VLOOKUP($C$4&\"_\"&$A22,subject_wise,COLUMNS($A$5:I20),0),\"\")","v":""},{"$f":"IFERROR(VLOOKUP($C$4&\"_\"&$A22,subject_wise,COLUMNS($A$5:J20),0),\"\")","v":""},{"$f":"IFERROR(VLOOKUP($C$4&\"_\"&$A22,subject_wise,COLUMNS($A$5:K20),0),\"\")","v":""},{"$f":"IFERROR(VLOOKUP($C$4&\"_\"&$A22,subject_wise,COLUMNS($A$5:L20),0),\"\")","v":""},{"$f":"IFERROR(VLOOKUP($C$4&\"_\"&$A22,subject_wise,COLUMNS($A$5:M20),0),\"\")","v":""},{"$f":"IFERROR(VLOOKUP($C$4&\"_\"&$A22,subject_wise,COLUMNS($A$5:N20),0),\"\")","v":""},{"$f":"IFERROR(VLOOKUP($C$4&\"_\"&$A22,subject_wise,COLUMNS($A$5:O20),0),\"\")","v":""},{"$f":"IFERROR(VLOOKUP($C$4&\"_\"&$A22,subject_wise,COLUMNS($A$5:P20),0),\"\")","v":""},{"$f":"IFERROR(VLOOKUP($C$4&\"_\"&$A22,subject_wise,COLUMNS($A$5:Q20),0),\"\")","v":""},{"$f":"IFERROR(VLOOKUP($C$4&\"_\"&$A22,subject_wise,COLUMNS($A$5:R20),0),\"\")","v":""},{"$f":"IFERROR(VLOOKUP($C$4&\"_\"&$A22,subject_wise,COLUMNS($A$5:S20),0),\"\")","v":""},{"$f":"IFERROR(VLOOKUP($C$4&\"_\"&$A22,subject_wise,COLUMNS($A$5:T20),0),\"\")","v":""},{"$f":"IFERROR(VLOOKUP($C$4&\"_\"&$A22,subject_wise,COLUMNS($A$5:U20),0),\"\")","v":""},{"$f":"IFERROR(VLOOKUP($C$4&\"_\"&$A22,subject_wise,COLUMNS($A$5:V20),0),\"\")","v":""},{"$f":"IFERROR(VLOOKUP($C$4&\"_\"&$A22,subject_wise,COLUMNS($A$5:W20),0),\"\")","v":""},{"$f":"IFERROR(VLOOKUP($C$4&\"_\"&$A22,subject_wise,COLUMNS($A$5:X20),0),\"\")","v":""},{"$f":"IFERROR(VLOOKUP($C$4&\"_\"&$A22,subject_wise,COLUMNS($A$5:Y20),0),\"\")","v":""},{"$f":"IFERROR(VLOOKUP($C$4&\"_\"&$A22,subject_wise,COLUMNS($A$5:Z20),0),\"\")","v":""},{"$f":"IFERROR(VLOOKUP($C$4&\"_\"&$A22,subject_wise,COLUMNS($A$5:AA20),0),\"\")","v":""},{"$f":"IFERROR(VLOOKUP($C$4&\"_\"&$A22,subject_wise,COLUMNS($A$5:AB20),0),\"\")","v":""},{"$f":"IFERROR(VLOOKUP($C$4&\"_\"&$A22,subject_wise,COLUMNS($A$5:AC20),0),\"\")","v":""},{"$f":"IFERROR(VLOOKUP($C$4&\"_\"&$A22,subject_wise,COLUMNS($A$5:AD20),0),\"\")","v":""},{"$f":"IFERROR(VLOOKUP($C$4&\"_\"&$A22,subject_wise,COLUMNS($A$5:AE20),0),\"\")","v":""},{"$f":"IFERROR(VLOOKUP($C$4&\"_\"&$A22,subject_wise,COLUMNS($A$5:AF20),0),\"\")","v":""},{"$f":"IFERROR(VLOOKUP($C$4&\"_\"&$A22,subject_wise,COLUMNS($A$5:AG20),0),\"\")","v":""},{"$f":"IFERROR(VLOOKUP($C$4&\"_\"&$A22,subject_wise,COLUMNS($A$5:AH20),0),\"\")","v":""},{"$f":"IFERROR(VLOOKUP($C$4&\"_\"&$A22,subject_wise,COLUMNS($A$5:AI20),0),\"\")","v":""},{"$f":"IFERROR(VLOOKUP($C$4&\"_\"&$A22,subject_wise,COLUMNS($A$5:AJ20),0),\"\")","v":""}]
[17,{"$f":"IFERROR(VLOOKUP($C$4&\"_\"&$A23,subject_wise,COLUMNS($A$5:C21),0),\"\")","v":""},{"$f":"IFERROR(VLOOKUP($C$4&\"_\"&$A23,subject_wise,COLUMNS($A$5:D21),0),\"\")","v":""},{"$f":"IFERROR(VLOOKUP($C$4&\"_\"&$A23,subject_wise,COLUMNS($A$5:E21),0),\"\")","v":""},{"$f":"IFERROR(VLOOKUP($C$4&\"_\"&$A23,subject_wise,COLUMNS($A$5:F21),0),\"\")","v":""},{"$f":"IFERROR(VLOOKUP($C$4&\"_\"&$A23,subject_wise,COLUMNS($A$5:G21),0),\"\")","v":""},{"$f":"IFERROR(VLOOKUP($C$4&\"_\"&$A23,subject_wise,COLUMNS($A$5:H21),0),\"\")","v":""},{"$f":"IFERROR(VLOOKUP($C$4&\"_\"&$A23,subject_wise,COLUMNS($A$5:I21),0),\"\")","v":""},{"$f":"IFERROR(VLOOKUP($C$4&\"_\"&$A23,subject_wise,COLUMNS($A$5:J21),0),\"\")","v":""},{"$f":"IFERROR(VLOOKUP($C$4&\"_\"&$A23,subject_wise,COLUMNS($A$5:K21),0),\"\")","v":""},{"$f":"IFERROR(VLOOKUP($C$4&\"_\"&$A23,subject_wise,COLUMNS($A$5:L21),0),\"\")","v":""},{"$f":"IFERROR(VLOOKUP($C$4&\"_\"&$A23,subject_wise,COLUMNS($A$5:M21),0),\"\")","v":""},{"$f":"IFERROR(VLOOKUP($C$4&\"_\"&$A23,subject_wise,COLUMNS($A$5:N21),0),\"\")","v":""},{"$f":"IFERROR(VLOOKUP($C$4&\"_\"&$A23,subject_wise,COLUMNS($A$5:O21),0),\"\")","v":""},{"$f":"IFERROR(VLOOKUP($C$4&\"_\"&$A23,subject_wise,COLUMNS($A$5:P21),0),\"\")","v":""},{"$f":"IFERROR(VLOOKUP($C$4&\"_\"&$A23,subject_wise,COLUMNS($A$5:Q21),0),\"\")","v":""},{"$f":"IFERROR(VLOOKUP($C$4&\"_\"&$A23,subject_wise,COLUMNS($A$5:R21),0),\"\")","v":""},{"$f":"IFERROR(VLOOKUP($C$4&\"_\"&$A23,subject_wise,COLUMNS($A$5:S21),0),\"\")","v":""},{"$f":"IFERROR(VLOOKUP($C$4&\"_\"&$A23,subject_wise,COLUMNS($A$5:T21),0),\"\")","v":""},{"$f":"IFERROR(VLOOKUP($C$4&\"_\"&$A23,subject_wise,COLUMNS($A$5:U21),0),\"\")","v":""},{"$f":"IFERROR(VLOOKUP($C$4&\"_\"&$A23,subject_wise,COLUMNS($A$5:V21),0),\"\")","v":""},{"$f":"IFERROR(VLOOKUP($C$4&\"_\"&$A23,subject_wise,COLUMNS($A$5:W21),0),\"\")","v":""},{"$f":"IFERROR(VLOOKUP($C$4&\"_\"&$A23,subject_wise,COLUMNS($A$5:X21),0),\"\")","v":""},{"$f":"IFERROR(VLOOKUP($C$4&\"_\"&$A23,subject_wise,COLUMNS($A$5:Y21),0),\"\")","v":""},{"$f":"IFERROR(VLOOKUP($C$4&\"_\"&$A23,subject_wise,COLUMNS($A$5:Z21),0),\"\")","v":""},{"$f":"IFERROR(VLOOKUP($C$4&\"_\"&$A23,subject_wise,COLUMNS($A$5:AA21),0),\"\")","v":""},{"$f":"IFERROR(VLOOKUP($C$4&\"_\"&$A23,subject_wise,COLUMNS($A$5:AB21),0),\"\")","v":""},{"$f":"IFERROR(VLOOKUP($C$4&\"_\"&$A23,subject_wise,COLUMNS($A$5:AC21),0),\"\")","v":""},{"$f":"IFERROR(VLOOKUP($C$4&\"_\"&$A23,subject_wise,COLUMNS($A$5:AD21),0),\"\")","v":""},{"$f":"IFERROR(VLOOKUP($C$4&\"_\"&$A23,subject_wise,COLUMNS($A$5:AE21),0),\"\")","v":""},{"$f":"IFERROR(VLOOKUP($C$4&\"_\"&$A23,subject_wise,COLUMNS($A$5:AF21),0),\"\")","v":""},{"$f":"IFERROR(VLOOKUP($C$4&\"_\"&$A23,subject_wise,COLUMNS($A$5:AG21),0),\"\")","v":""},{"$f":"IFERROR(VLOOKUP($C$4&\"_\"&$A23,subject_wise,COLUMNS($A$5:AH21),0),\"\")","v":""},{"$f":"IFERROR(VLOOKUP($C$4&\"_\"&$A23,subject_wise,COLUMNS($A$5:AI21),0),\"\")","v":""},{"$f":"IFERROR(VLOOKUP($C$4&\"_\"&$A23,subject_wise,COLUMNS($A$5:AJ21),0),\"\")","v":""}]
[18,{"$f":"IFERROR(VLOOKUP($C$4&\"_\"&$A24,subject_wise,COLUMNS($A$5:C22),0),\"\")","v":""},{"$f":"IFERROR(VLOOKUP($C$4&\"_\"&$A24,subject_wise,COLUMNS($A$5:D22),0),\"\")","v":""},{"$f":"IFERROR(VLOOKUP($C$4&\"_\"&$A24,subject_wise,COLUMNS($A$5:E22),0),\"\")","v":""},{"$f":"IFERROR(VLOOKUP($C$4&\"_\"&$A24,subject_wise,COLUMNS($A$5:F22),0),\"\")","v":""},{"$f":"IFERROR(VLOOKUP($C$4&\"_\"&$A24,subject_wise,COLUMNS($A$5:G22),0),\"\")","v":""},{"$f":"IFERROR(VLOOKUP($C$4&\"_\"&$A24,subject_wise,COLUMNS($A$5:H22),0),\"\")","v":""},{"$f":"IFERROR(VLOOKUP($C$4&\"_\"&$A24,subject_wise,COLUMNS($A$5:I22),0),\"\")","v":""},{"$f":"IFERROR(VLOOKUP($C$4&\"_\"&$A24,subject_wise,COLUMNS($A$5:J22),0),\"\")","v":""},{"$f":"IFERROR(VLOOKUP($C$4&\"_\"&$A24,subject_wise,COLUMNS($A$5:K22),0),\"\")","v":""},{"$f":"IFERROR(VLOOKUP($C$4&\"_\"&$A24,subject_wise,COLUMNS($A$5:L22),0),\"\")","v":""},{"$f":"IFERROR(VLOOKUP($C$4&\"_\"&$A24,subject_wise,COLUMNS($A$5:M22),0),\"\")","v":""},{"$f":"IFERROR(VLOOKUP($C$4&\"_\"&$A24,subject_wise,COLUMNS($A$5:N22),0),\"\")","v":""},{"$f":"IFERROR(VLOOKUP($C$4&\"_\"&$A24,subject_wise,COLUMNS($A$5:O22),0),\"\")","v":""},{"$f":"IFERROR(VLOOKUP($C$4&\"_\"&$A24,subject_wise,COLUMNS($A$5:P22),0),\"\")","v":""},{"$f":"IFERROR(VLOOKUP($C$4&\"_\"&$A24,subject_wise,COLUMNS($A$5:Q22),0),\"\")","v":""},{"$f":"IFERROR(VLOOKUP($C$4&\"_\"&$A24,subject_wise,COLUMNS($A$5:R22),0),\"\")","v":""},{"$f":"IFERROR(VLOOKUP($C$4&\"_\"&$A24,subject_wise,COLUMNS($A$5:S22),0),\"\")","v":""},{"$f":"IFERROR(VLOOKUP($C$4&\"_\"&$A24,subject_wise,COLUMNS($A$5:T22),0),\"\")","v":""},{"$f":"IFERROR(VLOOKUP($C$4&\"_\"&$A24,subject_wise,COLUMNS($A$5:U22),0),\"\")","v":""},{"$f":"IFERROR(VLOOKUP($C$4&\"_\"&$A24,subject_wise,COLUMNS($A$5:V22),0),\"\")","v":""},{"$f":"IFERROR(VLOOKUP($C$4&\"_\"&$A24,subject_wise,COLUMNS($A$5:W22),0),\"\")","v":""},{"$f":"IFERROR(VLOOKUP($C$4&\"_\"&$A24,subject_wise,COLUMNS($A$5:X22),0),\"\")","v":""},{"$f":"IFERROR(VLOOKUP($C$4&\"_\"&$A24,subject_wise,COLUMNS($A$5:Y22),0),\"\")","v":""},{"$f":"IFERROR(VLOOKUP($C$4&\"_\"&$A24,subject_wise,COLUMNS($A$5:Z22),0),\"\")","v":""},{"$f":"IFERROR(VLOOKUP($C$4&\"_\"&$A24,subject_wise,COLUMNS($A$5:AA22),0),\"\")","v":""},{"$f":"IFERROR(VLOOKUP($C$4&\"_\"&$A24,subject_wise,COLUMNS($A$5:AB22),0),\"\")","v":""},{"$f":"IFERROR(VLOOKUP($C$4&\"_\"&$A24,subject_wise,COLUMNS($A$5:AC22),0),\"\")","v":""},{"$f":"IFERROR(VLOOKUP($C$4&\"_\"&$A24,subject_wise,COLUMNS($A$5:AD22),0),\"\")","v":""},{"$f":"IFERROR(VLOOKUP($C$4&\"_\"&$A24,subject_wise,COLUMNS($A$5:AE22),0),\"\")","v":""},{"$f":"IFERROR(VLOOKUP($C$4&\"_\"&$A24,subject_wise,COLUMNS($A$5:AF22),0),\"\")","v":""},{"$f":"IFERROR(VLOOKUP($C$4&\"_\"&$A24,subject_wise,COLUMNS($A$5:AG22),0),\"\")","v":""},{"$f":"IFERROR(VLOOKUP($C$4&\"_\"&$A24,subject_wise,COLUMNS($A$5:AH22),0),\"\")","v":""},{"$f":"IFERROR(VLOOKUP($C$4&\"_\"&$A24,subject_wise,COLUMNS($A$5:AI22),0),\"\")","v":""},{"$f":"IFERROR(VLOOKUP($C$4&\"_\"&$A24,subject_wise,COLUMNS($A$5:AJ22),0),\"\")","v":""}]
[19,{"$f":"IFERROR(VLOOKUP($C$4&\"_\"&$A25,subject_wise,COLUMNS($A$5:C23),0),\"\")","v":""},{"$f":"IFERROR(VLOOKUP($C$4&\"_\"&$A25,subject_wise,COLUMNS($A$5:D23),0),\"\")","v":""},{"$f":"IFERROR(VLOOKUP($C$4&\"_\"&$A25,subject_wise,COLUMNS($A$5:E23),0),\"\")","v":""},{"$f":"IFERROR(VLOOKUP($C$4&\"_\"&$A25,subject_wise,COLUMNS($A$5:F23),0),\"\")","v":""},{"$f":"IFERROR(VLOOKUP($C$4&\"_\"&$A25,subject_wise,COLUMNS($A$5:G23),0),\"\")","v":""},{"$f":"IFERROR(VLOOKUP($C$4&\"_\"&$A25,subject_wise,COLUMNS($A$5:H23),0),\"\")","v":""},{"$f":"IFERROR(VLOOKUP($C$4&\"_\"&$A25,subject_wise,COLUMNS($A$5:I23),0),\"\")","v":""},{"$f":"IFERROR(VLOOKUP($C$4&\"_\"&$A25,subject_wise,COLUMNS($A$5:J23),0),\"\")","v":""},{"$f":"IFERROR(VLOOKUP($C$4&\"_\"&$A25,subject_wise,COLUMNS($A$5:K23),0),\"\")","v":""},{"$f":"IFERROR(VLOOKUP($C$4&\"_\"&$A25,subject_wise,COLUMNS($A$5:L23),0),\"\")","v":""},{"$f":"IFERROR(VLOOKUP($C$4&\"_\"&$A25,subject_wise,COLUMNS($A$5:M23),0),\"\")","v":""},{"$f":"IFERROR(VLOOKUP($C$4&\"_\"&$A25,subject_wise,COLUMNS($A$5:N23),0),\"\")","v":""},{"$f":"IFERROR(VLOOKUP($C$4&\"_\"&$A25,subject_wise,COLUMNS($A$5:O23),0),\"\")","v":""},{"$f":"IFERROR(VLOOKUP($C$4&\"_\"&$A25,subject_wise,COLUMNS($A$5:P23),0),\"\")","v":""},{"$f":"IFERROR(VLOOKUP($C$4&\"_\"&$A25,subject_wise,COLUMNS($A$5:Q23),0),\"\")","v":""},{"$f":"IFERROR(VLOOKUP($C$4&\"_\"&$A25,subject_wise,COLUMNS($A$5:R23),0),\"\")","v":""},{"$f":"IFERROR(VLOOKUP($C$4&\"_\"&$A25,subject_wise,COLUMNS($A$5:S23),0),\"\")","v":""},{"$f":"IFERROR(VLOOKUP($C$4&\"_\"&$A25,subject_wise,COLUMNS($A$5:T23),0),\"\")","v":""},{"$f":"IFERROR(VLOOKUP($C$4&\"_\"&$A25,subject_wise,COLUMNS($A$5:U23),0),\"\")","v":""},{"$f":"IFERROR(VLOOKUP($C$4&\"_\"&$A25,subject_wise,COLUMNS($A$5:V23),0),\"\")","v":""},{"$f":"IFERROR(VLOOKUP($C$4&\"_\"&$A25,subject_wise,COLUMNS($A$5:W23),0),\"\")","v":""},{"$f":"IFERROR(VLOOKUP($C$4&\"_\"&$A25,subject_wise,COLUMNS($A$5:X23),0),\"\")","v":""},{"$f":"IFERROR(VLOOKUP($C$4&\"_\"&$A25,subject_wise,COLUMNS($A$5:Y23),0),\"\")","v":""},{"$f":"IFERROR(VLOOKUP($C$4&\"_\"&$A25,subject_wise,COLUMNS($A$5:Z23),0),\"\")","v":""},{"$f":"IFERROR(VLOOKUP($C$4&\"_\"&$A25,subject_wise,COLUMNS($A$5:AA23),0),\"\")","v":""},{"$f":"IFERROR(VLOOKUP($C$4&\"_\"&$A25,subject_wise,COLUMNS($A$5:AB23),0),\"\")","v":""},{"$f":"IFERROR(VLOOKUP($C$4&\"_\"&$A25,subject_wise,COLUMNS($A$5:AC23),0),\"\")","v":""},{"$f":"IFERROR(VLOOKUP($C$4&\"_\"&$A25,subject_wise,COLUMNS($A$5:AD23),0),\"\")","v":""},{"$f":"IFERROR(VLOOKUP($C$4&\"_\"&$A25,subject_wise,COLUMNS($A$5:AE23),0),\"\")","v":""},{"$f":"IFERROR(VLOOKUP($C$4&\"_\"&$A25,subject_wise,COLUMNS($A$5:AF23),0),\"\")","v":""},{"$f":"IFERROR(VLOOKUP($C$4&\"_\"&$A25,subject_wise,COLUMNS($A$5:AG23),0),\"\")","v":""},{"$f":"IFERROR(VLOOKUP($C$4&\"_\"&$A25,subject_wise,COLUMNS($A$5:AH23),0),\"\")","v":""},{"$f":"IFERROR(VLOOKUP($C$4&\"_\"&$A25,subject_wise,COLUMNS($A$5:AI23),0),\"\")","v":""},{"$f":"IFERROR(VLOOKUP($C$4&\"_\"&$A25,subject_wise,COLUMNS($A$5:AJ23),0),\"\")","v":""}]
[20,{"$f":"IFERROR(VLOOKUP($C$4&\"_\"&$A26,subject_wise,COLUMNS($A$5:C24),0),\"\")","v":""},{"$f":"IFERROR(VLOOKUP($C$4&\"_\"&$A26,subject_wise,COLUMNS($A$5:D24),0),\"\")","v":""},{"$f":"IFERROR(VLOOKUP($C$4&\"_\"&$A26,subject_wise,COLUMNS($A$5:E24),0),\"\")","v":""},{"$f":"IFERROR(VLOOKUP($C$4&\"_\"&$A26,subject_wise,COLUMNS($A$5:F24),0),\"\")","v":""},{"$f":"IFERROR(VLOOKUP($C$4&\"_\"&$A26,subject_wise,COLUMNS($A$5:G24),0),\"\")","v":""},{"$f":"IFERROR(VLOOKUP($C$4&\"_\"&$A26,subject_wise,COLUMNS($A$5:H24),0),\"\")","v":""},{"$f":"IFERROR(VLOOKUP($C$4&\"_\"&$A26,subject_wise,COLUMNS($A$5:I24),0),\"\")","v":""},{"$f":"IFERROR(VLOOKUP($C$4&\"_\"&$A26,subject_wise,COLUMNS($A$5:J24),0),\"\")","v":""},{"$f":"IFERROR(VLOOKUP($C$4&\"_\"&$A26,subject_wise,COLUMNS($A$5:K24),0),\"\")","v":""},{"$f":"IFERROR(VLOOKUP($C$4&\"_\"&$A26,subject_wise,COLUMNS($A$5:L24),0),\"\")","v":""},{"$f":"IFERROR(VLOOKUP($C$4&\"_\"&$A26,subject_wise,COLUMNS($A$5:M24),0),\"\")","v":""},{"$f":"IFERROR(VLOOKUP($C$4&\"_\"&$A26,subject_wise,COLUMNS($A$5:N24),0),\"\")","v":""},{"$f":"IFERROR(VLOOKUP($C$4&\"_\"&$A26,subject_wise,COLUMNS($A$5:O24),0),\"\")","v":""},{"$f":"IFERROR(VLOOKUP($C$4&\"_\"&$A26,subject_wise,COLUMNS($A$5:P24),0),\"\")","v":""},{"$f":"IFERROR(VLOOKUP($C$4&\"_\"&$A26,subject_wise,COLUMNS($A$5:Q24),0),\"\")","v":""},{"$f":"IFERROR(VLOOKUP($C$4&\"_\"&$A26,subject_wise,COLUMNS($A$5:R24),0),\"\")","v":""},{"$f":"IFERROR(VLOOKUP($C$4&\"_\"&$A26,subject_wise,COLUMNS($A$5:S24),0),\"\")","v":""},{"$f":"IFERROR(VLOOKUP($C$4&\"_\"&$A26,subject_wise,COLUMNS($A$5:T24),0),\"\")","v":""},{"$f":"IFERROR(VLOOKUP($C$4&\"_\"&$A26,subject_wise,COLUMNS($A$5:U24),0),\"\")","v":""},{"$f":"IFERROR(VLOOKUP($C$4&\"_\"&$A26,subject_wise,COLUMNS($A$5:V24),0),\"\")","v":""},{"$f":"IFERROR(VLOOKUP($C$4&\"_\"&$A26,subject_wise,COLUMNS($A$5:W24),0),\"\")","v":""},{"$f":"IFERROR(VLOOKUP($C$4&\"_\"&$A26,subject_wise,COLUMNS($A$5:X24),0),\"\")","v":""},{"$f":"IFERROR(VLOOKUP($C$4&\"_\"&$A26,subject_wise,COLUMNS($A$5:Y24),0),\"\")","v":""},{"$f":"IFERROR(VLOOKUP($C$4&\"_\"&$A26,subject_wise,COLUMNS($A$5:Z24),0),\"\")","v":""},{"$f":"IFERROR(VLOOKUP($C$4&\"_\"&$A26,subject_wise,COLUMNS($A$5:AA24),0),\"\")","v":""},{"$f":"IFERROR(VLOOKUP($C$4&\"_\"&$A26,subject_wise,COLUMNS($A$5:AB24),0),\"\")","v":""},{"$f":"IFERROR(VLOOKUP($C$4&\"_\"&$A26,subject_wise,COLUMNS($A$5:AC24),0),\"\")","v":""},{"$f":"IFERROR(VLOOKUP($C$4&\"_\"&$A26,subject_wise,COLUMNS($A$5:AD24),0),\"\")","v":""},{"$f":"IFERROR(VLOOKUP($C$4&\"_\"&$A26,subject_wise,COLUMNS($A$5:AE24),0),\"\")","v":""},{"$f":"IFERROR(VLOOKUP($C$4&\"_\"&$A26,subject_wise,COLUMNS($A$5:AF24),0),\"\")","v":""},{"$f":"IFERROR(VLOOKUP($C$4&\"_\"&$A26,subject_wise,COLUMNS($A$5:AG24),0),\"\")","v":""},{"$f":"IFERROR(VLOOKUP($C$4&\"_\"&$A26,subject_wise,COLUMNS($A$5:AH24),0),\"\")","v":""},{"$f":"IFERROR(VLOOKUP($C$4&\"_\"&$A26,subject_wise,COLUMNS($A$5:AI24),0),\"\")","v":""},{"$f":"IFERROR(VLOOKUP($C$4&\"_\"&$A26,subject_wise,COLUMNS($A$5:AJ24),0),\"\")","v":""}]
[21,{"$f":"IFERROR(VLOOKUP($C$4&\"_\"&$A27,subject_wise,COLUMNS($A$5:C25),0),\"\")","v":""},{"$f":"IFERROR(VLOOKUP($C$4&\"_\"&$A27,subject_wise,COLUMNS($A$5:D25),0),\"\")","v":""},{"$f":"IFERROR(VLOOKUP($C$4&\"_\"&$A27,subject_wise,COLUMNS($A$5:E25),0),\"\")","v":""},{"$f":"IFERROR(VLOOKUP($C$4&\"_\"&$A27,subject_wise,COLUMNS($A$5:F25),0),\"\")","v":""},{"$f":"IFERROR(VLOOKUP($C$4&\"_\"&$A27,subject_wise,COLUMNS($A$5:G25),0),\"\")","v":""},{"$f":"IFERROR(VLOOKUP($C$4&\"_\"&$A27,subject_wise,COLUMNS($A$5:H25),0),\"\")","v":""},{"$f":"IFERROR(VLOOKUP($C$4&\"_\"&$A27,subject_wise,COLUMNS($A$5:I25),0),\"\")","v":""},{"$f":"IFERROR(VLOOKUP($C$4&\"_\"&$A27,subject_wise,COLUMNS($A$5:J25),0),\"\")","v":""},{"$f":"IFERROR(VLOOKUP($C$4&\"_\"&$A27,subject_wise,COLUMNS($A$5:K25),0),\"\")","v":""},{"$f":"IFERROR(VLOOKUP($C$4&\"_\"&$A27,subject_wise,COLUMNS($A$5:L25),0),\"\")","v":""},{"$f":"IFERROR(VLOOKUP($C$4&\"_\"&$A27,subject_wise,COLUMNS($A$5:M25),0),\"\")","v":""},{"$f":"IFERROR(VLOOKUP($C$4&\"_\"&$A27,subject_wise,COLUMNS($A$5:N25),0),\"\")","v":""},{"$f":"IFERROR(VLOOKUP($C$4&\"_\"&$A27,subject_wise,COLUMNS($A$5:O25),0),\"\")","v":""},{"$f":"IFERROR(VLOOKUP($C$4&\"_\"&$A27,subject_wise,COLUMNS($A$5:P25),0),\"\")","v":""},{"$f":"IFERROR(VLOOKUP($C$4&\"_\"&$A27,subject_wise,COLUMNS($A$5:Q25),0),\"\")","v":""},{"$f":"IFERROR(VLOOKUP($C$4&\"_\"&$A27,subject_wise,COLUMNS($A$5:R25),0),\"\")","v":""},{"$f":"IFERROR(VLOOKUP($C$4&\"_\"&$A27,subject_wise,COLUMNS($A$5:S25),0),\"\")","v":""},{"$f":"IFERROR(VLOOKUP($C$4&\"_\"&$A27,subject_wise,COLUMNS($A$5:T25),0),\"\")","v":""},{"$f":"IFERROR(VLOOKUP($C$4&\"_\"&$A27,subject_wise,COLUMNS($A$5:U25),0),\"\")","v":""},{"$f":"IFERROR(VLOOKUP($C$4&\"_\"&$A27,subject_wise,COLUMNS($A$5:V25),0),\"\")","v":""},{"$f":"IFERROR(VLOOKUP($C$4&\"_\"&$A27,subject_wise,COLUMNS($A$5:W25),0),\"\")","v":""},{"$f":"IFERROR(VLOOKUP($C$4&\"_\"&$A27,subject_wise,COLUMNS($A$5:X25),0),\"\")","v":""},{"$f":"IFERROR(VLOOKUP($C$4&\"_\"&$A27,subject_wise,COLUMNS($A$5:Y25),0),\"\")","v":""},{"$f":"IFERROR(VLOOKUP($C$4&\"_\"&$A27,subject_wise,COLUMNS($A$5:Z25),0),\"\")","v":""},{"$f":"IFERROR(VLOOKUP($C$4&\"_\"&$A27,subject_wise,COLUMNS($A$5:AA25),0),\"\")","v":""},{"$f":"IFERROR(VLOOKUP($C$4&\"_\"&$A27,subject_wise,COLUMNS($A$5:AB25),0),\"\")","v":""},{"$f":"IFERROR(VLOOKUP($C$4&\"_\"&$A27,subject_wise,COLUMNS($A$5:AC25),0),\"\")","v":""},{"$f":"IFERROR(VLOOKUP($C$4&\"_\"&$A27,subject_wise,COLUMNS($A$5:AD25),0),\"\")","v":""},{"$f":"IFERROR(VLOOKUP($C$4&\"_\"&$A27,subject_wise,COLUMNS($A$5:AE25),0),\"\")","v":""},{"$f":"IFERROR(VLOOKUP($C$4&\"_\"&$A27,subject_wise,COLUMNS($A$5:AF25),0),\"\")","v":""},{"$f":"IFERROR(VLOOKUP($C$4&\"_\"&$A27,subject_wise,COLUMNS($A$5:AG25),0),\"\")","v":""},{"$f":"IFERROR(VLOOKUP($C$4&\"_\"&$A27,subject_wise,COLUMNS($A$5:AH25),0),\"\")","v":""},{"$f":"IFERROR(VLOOKUP($C$4&\"_\"&$A27,subject_wise,COLUMNS($A$5:AI25),0),\"\")","v":""},{"$f":"IFERROR(VLOOKUP($C$4&\"_\"&$A27,subject_wise,COLUMNS($A$5:AJ25),0),\"\")","v":""}]
[22,{"$f":"IFERROR(VLOOKUP($C$4&\"_\"&$A28,subject_wise,COLUMNS($A$5:C26),0),\"\")","v":""},{"$f":"IFERROR(VLOOKUP($C$4&\"_\"&$A28,subject_wise,COLUMNS($A$5:D26),0),\"\")","v":""},{"$f":"IFERROR(VLOOKUP($C$4&\"_\"&$A28,subject_wise,COLUMNS($A$5:E26),0),\"\")","v":""},{"$f":"IFERROR(VLOOKUP($C$4&\"_\"&$A28,subject_wise,COLUMNS($A$5:F26),0),\"\")","v":""},{"$f":"IFERROR(VLOOKUP($C$4&\"_\"&$A28,subject_wise,COLUMNS($A$5:G26),0),\"\")","v":""},{"$f":"IFERROR(VLOOKUP($C$4&\"_\"&$A28,subject_wise,COLUMNS($A$5:H26),0),\"\")","v":""},{"$f":"IFERROR(VLOOKUP($C$4&\"_\"&$A28,subject_wise,COLUMNS($A$5:I26),0),\"\")","v":""},{"$f":"IFERROR(VLOOKUP($C$4&\"_\"&$A28,subject_wise,COLUMNS($A$5:J26),0),\"\")","v":""},{"$f":"IFERROR(VLOOKUP($C$4&\"_\"&$A28,subject_wise,COLUMNS($A$5:K26),0),\"\")","v":""},{"$f":"IFERROR(VLOOKUP($C$4&\"_\"&$A28,subject_wise,COLUMNS($A$5:L26),0),\"\")","v":""},{"$f":"IFERROR(VLOOKUP($C$4&\"_\"&$A28,subject_wise,COLUMNS($A$5:M26),0),\"\")","v":""},{"$f":"IFERROR(VLOOKUP($C$4&\"_\"&$A28,subject_wise,COLUMNS($A$5:N26),0),\"\")","v":""},{"$f":"IFERROR(VLOOKUP($C$4&\"_\"&$A28,subject_wise,COLUMNS($A$5:O26),0),\"\")","v":""},{"$f":"IFERROR(VLOOKUP($C$4&\"_\"&$A28,subject_wise,COLUMNS($A$5:P26),0),\"\")","v":""},{"$f":"IFERROR(VLOOKUP($C$4&\"_\"&$A28,subject_wise,COLUMNS($A$5:Q26),0),\"\")","v":""},{"$f":"IFERROR(VLOOKUP($C$4&\"_\"&$A28,subject_wise,COLUMNS($A$5:R26),0),\"\")","v":""},{"$f":"IFERROR(VLOOKUP($C$4&\"_\"&$A28,subject_wise,COLUMNS($A$5:S26),0),\"\")","v":""},{"$f":"IFERROR(VLOOKUP($C$4&\"_\"&$A28,subject_wise,COLUMNS($A$5:T26),0),\"\")","v":""},{"$f":"IFERROR(VLOOKUP($C$4&\"_\"&$A28,subject_wise,COLUMNS($A$5:U26),0),\"\")","v":""},{"$f":"IFERROR(VLOOKUP($C$4&\"_\"&$A28,subject_wise,COLUMNS($A$5:V26),0),\"\")","v":""},{"$f":"IFERROR(VLOOKUP($C$4&\"_\"&$A28,subject_wise,COLUMNS($A$5:W26),0),\"\")","v":""},{"$f":"IFERROR(VLOOKUP($C$4&\"_\"&$A28,subject_wise,COLUMNS($A$5:X26),0),\"\")","v":""},{"$f":"IFERROR(VLOOKUP($C$4&\"_\"&$A28,subject_wise,COLUMNS($A$5:Y26),0),\"\")","v":""},{"$f":"IFERROR(VLOOKUP($C$4&\"_\"&$A28,subject_wise,COLUMNS($A$5:Z26),0),\"\")","v":""},{"$f":"IFERROR(VLOOKUP($C$4&\"_\"&$A28,subject_wise,COLUMNS($A$5:AA26),0),\"\")","v":""},{"$f":"IFERROR(VLOOKUP($C$4&\"_\"&$A28,subject_wise,COLUMNS($A$5:AB26),0),\"\")","v":""},{"$f":"IFERROR(VLOOKUP($C$4&\"_\"&$A28,subject_wise,COLUMNS($A$5:AC26),0),\"\")","v":""},{"$f":"IFERROR(VLOOKUP($C$4&\"_\"&$A28,subject_wise,COLUMNS($A$5:AD26),0),\"\")","v":""},{"$f":"IFERROR(VLOOKUP($C$4&\"_\"&$A28,subject_wise,COLUMNS($A$5:AE26),0),\"\")","v":""},{"$f":"IFERROR(VLOOKUP($C$4&\"_\"&$A28,subject_wise,COLUMNS($A$5:AF26),0),\"\")","v":""},{"$f":"IFERROR(VLOOKUP($C$4&\"_\"&$A28,subject_wise,COLUMNS($A$5:AG26),0),\"\")","v":""},{"$f":"IFERROR(VLOOKUP($C$4&\"_\"&$A28,subject_wise,COLUMNS($A$5:AH26),0),\"\")","v":""},{"$f":"IFERROR(VLOOKUP($C$4&\"_\"&$A28,subject_wise,COLUMNS($A$5:AI26),0),\"\")","v":""},{"$f":"IFERROR(VLOOKUP($C$4&\"_\"&$A28,subject_wise,COLUMNS($A$5:AJ26),0),\"\")","v":""}]
[23,{"$f":"IFERROR(VLOOKUP($C$4&\"_\"&$A29,subject_wise,COLUMNS($A$5:C27),0),\"\")","v":""},{"$f":"IFERROR(VLOOKUP($C$4&\"_\"&$A29,subject_wise,COLUMNS($A$5:D27),0),\"\")","v":""},{"$f":"IFERROR(VLOOKUP($C$4&\"_\"&$A29,subject_wise,COLUMNS($A$5:E27),0),\"\")","v":""},{"$f":"IFERROR(VLOOKUP($C$4&\"_\"&$A29,subject_wise,COLUMNS($A$5:F27),0),\"\")","v":""},{"$f":"IFERROR(VLOOKUP($C$4&\"_\"&$A29,subject_wise,COLUMNS($A$5:G27),0),\"\")","v":""},{"$f":"IFERROR(VLOOKUP($C$4&\"_\"&$A29,subject_wise,COLUMNS($A$5:H27),0),\"\")","v":""},{"$f":"IFERROR(VLOOKUP($C$4&\"_\"&$A29,subject_wise,COLUMNS($A$5:I27),0),\"\")","v":""},{"$f":"IFERROR(VLOOKUP($C$4&\"_\"&$A29,subject_wise,COLUMNS($A$5:J27),0),\"\")","v":""},{"$f":"IFERROR(VLOOKUP($C$4&\"_\"&$A29,subject_wise,COLUMNS($A$5:K27),0),\"\")","v":""},{"$f":"IFERROR(VLOOKUP($C$4&\"_\"&$A29,subject_wise,COLUMNS($A$5:L27),0),\"\")","v":""},{"$f":"IFERROR(VLOOKUP($C$4&\"_\"&$A29,subject_wise,COLUMNS($A$5:M27),0),\"\")","v":""},{"$f":"IFERROR(VLOOKUP($C$4&\"_\"&$A29,subject_wise,COLUMNS($A$5:N27),0),\"\")","v":""},{"$f":"IFERROR(VLOOKUP($C$4&\"_\"&$A29,subject_wise,COLUMNS($A$5:O27),0),\"\")","v":""},{"$f":"IFERROR(VLOOKUP($C$4&\"_\"&$A29,subject_wise,COLUMNS($A$5:P27),0),\"\")","v":""},{"$f":"IFERROR(VLOOKUP($C$4&\"_\"&$A29,subject_wise,COLUMNS($A$5:Q27),0),\"\")","v":""},{"$f":"IFERROR(VLOOKUP($C$4&\"_\"&$A29,subject_wise,COLUMNS($A$5:R27),0),\"\")","v":""},{"$f":"IFERROR(VLOOKUP($C$4&\"_\"&$A29,subject_wise,COLUMNS($A$5:S27),0),\"\")","v":""},{"$f":"IFERROR(VLOOKUP($C$4&\"_\"&$A29,subject_wise,COLUMNS($A$5:T27),0),\"\")","v":""},{"$f":"IFERROR(VLOOKUP($C$4&\"_\"&$A29,subject_wise,COLUMNS($A$5:U27),0),\"\")","v":""},{"$f":"IFERROR(VLOOKUP($C$4&\"_\"&$A29,subject_wise,COLUMNS($A$5:V27),0),\"\")","v":""},{"$f":"IFERROR(VLOOKUP($C$4&\"_\"&$A29,subject_wise,COLUMNS($A$5:W27),0),\"\")","v":""},{"$f":"IFERROR(VLOOKUP($C$4&\"_\"&$A29,subject_wise,COLUMNS($A$5:X27),0),\"\")","v":""},{"$f":"IFERROR(VLOOKUP($C$4&\"_\"&$A29,subject_wise,COLUMNS($A$5:Y27),0),\"\")","v":""},{"$f":"IFERROR(VLOOKUP($C$4&\"_\"&$A29,subject_wise,COLUMNS($A$5:Z27),0),\"\")","v":""},{"$f":"IFERROR(VLOOKUP($C$4&\"_\"&$A29,subject_wise,COLUMNS($A$5:AA27),0),\"\")","v":""},{"$f":"IFERROR(VLOOKUP($C$4&\"_\"&$A29,subject_wise,COLUMNS($A$5:AB27),0),\"\")","v":""},{"$f":"IFERROR(VLOOKUP($C$4&\"_\"&$A29,subject_wise,COLUMNS($A$5:AC27),0),\"\")","v":""},{"$f":"IFERROR(VLOOKUP($C$4&\"_\"&$A29,subject_wise,COLUMNS($A$5:AD27),0),\"\")","v":""},{"$f":"IFERROR(VLOOKUP($C$4&\"_\"&$A29,subject_wise,COLUMNS($A$5:AE27),0),\"\")","v":""},{"$f":"IFERROR(VLOOKUP($C$4&\"_\"&$A29,subject_wise,COLUMNS($A$5:AF27),0),\"\")","v":""},{"$f":"IFERROR(VLOOKUP($C$4&\"_\"&$A29,subject_wise,COLUMNS($A$5:AG27),0),\"\")","v":""},{"$f":"IFERROR(VLOOKUP($C$4&\"_\"&$A29,subject_wise,COLUMNS($A$5:AH27),0),\"\")","v":""},{"$f":"IFERROR(VLOOKUP($C$4&\"_\"&$A29,subject_wise,COLUMNS($A$5:AI27),0),\"\")","v":""},{"$f":"IFERROR(VLOOKUP($C$4&\"_\"&$A29,subject_wise,COLUMNS($A$5:AJ27),0),\"\")","v":""}]
[24,{"$f":"IFERROR(VLOOKUP($C$4&\"_\"&$A30,subject_wise,COLUMNS($A$5:C28),0),\"\")","v":""},{"$f":"IFERROR(VLOOKUP($C$4&\"_\"&$A30,subject_wise,COLUMNS($A$5:D28),0),\"\")","v":""},{"$f":"IFERROR(VLOOKUP($C$4&\"_\"&$A30,subject_wise,COLUMNS($A$5:E28),0),\"\")","v":""},{"$f":"IFERROR(VLOOKUP($C$4&\"_\"&$A30,subject_wise,COLUMNS($A$5:F28),0),\"\")","v":""},{"$f":"IFERROR(VLOOKUP($C$4&\"_\"&$A30,subject_wise,COLUMNS($A$5:G28),0),\"\")","v":""},{"$f":"IFERROR(VLOOKUP($C$4&\"_\"&$A30,subject_wise,COLUMNS($A$5:H28),0),\"\")","v":""},{"$f":"IFERROR(VLOOKUP($C$4&\"_\"&$A30,subject_wise,COLUMNS($A$5:I28),0),\"\")","v":""},{"$f":"IFERROR(VLOOKUP($C$4&\"_\"&$A30,subject_wise,COLUMNS($A$5:J28),0),\"\")","v":""},{"$f":"IFERROR(VLOOKUP($C$4&\"_\"&$A30,subject_wise,COLUMNS($A$5:K28),0),\"\")","v":""},{"$f":"IFERROR(VLOOKUP($C$4&\"_\"&$A30,subject_wise,COLUMNS($A$5:L28),0),\"\")","v":""},{"$f":"IFERROR(VLOOKUP($C$4&\"_\"&$A30,subject_wise,COLUMNS($A$5:M28),0),\"\")","v":""},{"$f":"IFERROR(VLOOKUP($C$4&\"_\"&$A30,subject_wise,COLUMNS($A$5:N28),0),\"\")","v":""},{"$f":"IFERROR(VLOOKUP($C$4&\"_\"&$A30,subject_wise,COLUMNS($A$5:O28),0),\"\")","v":""},{"$f":"IFERROR(VLOOKUP($C$4&\"_\"&$A30,subject_wise,COLUMNS($A$5:P28),0),\"\")","v":""},{"$f":"IFERROR(VLOOKUP($C$4&\"_\"&$A30,subject_wise,COLUMNS($A$5:Q28),0),\"\")","v":""},{"$f":"IFERROR(VLOOKUP($C$4&\"_\"&$A30,subject_wise,COLUMNS($A$5:R28),0),\"\")","v":""},{"$f":"IFERROR(VLOOKUP($C$4&\"_\"&$A30,subject_wise,COLUMNS($A$5:S28),0),\"\")","v":""},{"$f":"IFERROR(VLOOKUP($C$4&\"_\"&$A30,subject_wise,COLUMNS($A$5:T28),0),\"\")","v":""},{"$f":"IFERROR(VLOOKUP($C$4&\"_\"&$A30,subject_wise,COLUMNS($A$5:U28),0),\"\")","v":""},{"$f":"IFERROR(VLOOKUP($C$4&\"_\"&$A30,subject_wise,COLUMNS($A$5:V28),0),\"\")","v":""},{"$f":"IFERROR(VLOOKUP($C$4&\"_\"&$A30,subject_wise,COLUMNS($A$5:W28),0),\"\")","v":""},{"$f":"IFERROR(VLOOKUP($C$4&\"_\"&$A30,subject_wise,COLUMNS($A$5:X28),0),\"\")","v":""},{"$f":"IFERROR(VLOOKUP($C$4&\"_\"&$A30,subject_wise,COLUMNS($A$5:Y28),0),\"\")","v":""},{"$f":"IFERROR(VLOOKUP($C$4&\"_\"&$A30,subject_wise,COLUMNS($A$5:Z28),0),\"\")","v":""},{"$f":"IFERROR(VLOOKUP($C$4&\"_\"&$A30,subject_wise,COLUMNS($A$5:AA28),0),\"\")","v":""},{"$f":"IFERROR(VLOOKUP($C$4&\"_\"&$A30,subject_wise,COLUMNS($A$5:AB28),0),\"\")","v":""},{"$f":"IFERROR(VLOOKUP($C$4&\"_\"&$A30,subject_wise,COLUMNS($A$5:AC28),0),\"\")","v":""},{"$f":"IFERROR(VLOOKUP($C$4&\"_\"&$A30,subject_wise,COLUMNS($A$5:AD28),0),\"\")","v":""},{"$f":"IFERROR(VLOOKUP($C$4&\"_\"&$A30,subject_wise,COLUMNS($A$5:AE28),0),\"\")","v":""},{"$f":"IFERROR(VLOOKUP($C$4&\"_\"&$A30,subject_wise,COLUMNS($A$5:AF28),0),\"\")","v":""},{"$f":"IFERROR(VLOOKUP($C$4&\"_\"&$A30,subject_wise,COLUMNS($A$5:AG28),0),\"\")","v":""},{"$f":"IFERROR(VLOOKUP($C$4&\"_\"&$A30,subject_wise,COLUMNS($A$5:AH28),0),\"\")","v":""},{"$f":"IFERROR(VLOOKUP($C$4&\"_\"&$A30,subject_wise,COLUMNS($A$5:AI28),0),\"\")","v":""},{"$f":"IFERROR(VLOOKUP($C$4&\"_\"&$A30,subject_wise,COLUMNS($A$5:AJ28),0),\"\")","v":""}]
[25,{"$f":"IFERROR(VLOOKUP($C$4&\"_\"&$A31,subject_wise,COLUMNS($A$5:C29),0),\"\")","v":""},{"$f":"IFERROR(VLOOKUP($C$4&\"_\"&$A31,subject_wise,COLUMNS($A$5:D29),0),\"\")","v":""},{"$f":"IFERROR(VLOOKUP($C$4&\"_\"&$A31,subject_wise,COLUMNS($A$5:E29),0),\"\")","v":""},{"$f":"IFERROR(VLOOKUP($C$4&\"_\"&$A31,subject_wise,COLUMNS($A$5:F29),0),\"\")","v":""},{"$f":"IFERROR(VLOOKUP($C$4&\"_\"&$A31,subject_wise,COLUMNS($A$5:G29),0),\"\")","v":""},{"$f":"IFERROR(VLOOKUP($C$4&\"_\"&$A31,subject_wise,COLUMNS($A$5:H29),0),\"\")","v":""},{"$f":"IFERROR(VLOOKUP($C$4&\"_\"&$A31,subject_wise,COLUMNS($A$5:I29),0),\"\")","v":""},{"$f":"IFERROR(VLOOKUP($C$4&\"_\"&$A31,subject_wise,COLUMNS($A$5:J29),0),\"\")","v":""},{"$f":"IFERROR(VLOOKUP($C$4&\"_\"&$A31,subject_wise,COLUMNS($A$5:K29),0),\"\")","v":""},{"$f":"IFERROR(VLOOKUP($C$4&\"_\"&$A31,subject_wise,COLUMNS($A$5:L29),0),\"\")","v":""},{"$f":"IFERROR(VLOOKUP($C$4&\"_\"&$A31,subject_wise,COLUMNS($A$5:M29),0),\"\")","v":""},{"$f":"IFERROR(VLOOKUP($C$4&\"_\"&$A31,subject_wise,COLUMNS($A$5:N29),0),\"\")","v":""},{"$f":"IFERROR(VLOOKUP($C$4&\"_\"&$A31,subject_wise,COLUMNS($A$5:O29),0),\"\")","v":""},{"$f":"IFERROR(VLOOKUP($C$4&\"_\"&$A31,subject_wise,COLUMNS($A$5:P29),0),\"\")","v":""},{"$f":"IFERROR(VLOOKUP($C$4&\"_\"&$A31,subject_wise,COLUMNS($A$5:Q29),0),\"\")","v":""},{"$f":"IFERROR(VLOOKUP($C$4&\"_\"&$A31,subject_wise,COLUMNS($A$5:R29),0),\"\")","v":""},{"$f":"IFERROR(VLOOKUP($C$4&\"_\"&$A31,subject_wise,COLUMNS($A$5:S29),0),\"\")","v":""},{"$f":"IFERROR(VLOOKUP($C$4&\"_\"&$A31,subject_wise,COLUMNS($A$5:T29),0),\"\")","v":""},{"$f":"IFERROR(VLOOKUP($C$4&\"_\"&$A31,subject_wise,COLUMNS($A$5:U29),0),\"\")","v":""},{"$f":"IFERROR(VLOOKUP($C$4&\"_\"&$A31,subject_wise,COLUMNS($A$5:V29),0),\"\")","v":""},{"$f":"IFERROR(VLOOKUP($C$4&\"_\"&$A31,subject_wise,COLUMNS($A$5:W29),0),\"\")","v":""},{"$f":"IFERROR(VLOOKUP($C$4&\"_\"&$A31,subject_wise,COLUMNS($A$5:X29),0),\"\")","v":""},{"$f":"IFERROR(VLOOKUP($C$4&\"_\"&$A31,subject_wise,COLUMNS($A$5:Y29),0),\"\")","v":""},{"$f":"IFERROR(VLOOKUP($C$4&\"_\"&$A31,subject_wise,COLUMNS($A$5:Z29),0),\"\")","v":""},{"$f":"IFERROR(VLOOKUP($C$4&\"_\"&$A31,subject_wise,COLUMNS($A$5:AA29),0),\"\")","v":""},{"$f":"IFERROR(VLOOKUP($C$4&\"_\"&$A31,subject_wise,COLUMNS($A$5:AB29),0),\"\")","v":""},{"$f":"IFERROR(VLOOKUP($C$4&\"_\"&$A31,subject_wise,COLUMNS($A$5:AC29),0),\"\")","v":""},{"$f":"IFERROR(VLOOKUP($C$4&\"_\"&$A31,subject_wise,COLUMNS($A$5:AD29),0),\"\")","v":""},{"$f":"IFERROR(VLOOKUP($C$4&\"_\"&$A31,subject_wise,COLUMNS($A$5:AE29),0),\"\")","v":""},{"$f":"IFERROR(VLOOKUP($C$4&\"_\"&$A31,subject_wise,COLUMNS($A$5:AF29),0),\"\")","v":""},{"$f":"IFERROR(VLOOKUP($C$4&\"_\"&$A31,subject_wise,COLUMNS($A$5:AG29),0),\"\")","v":""},{"$f":"IFERROR(VLOOKUP($C$4&\"_\"&$A31,subject_wise,COLUMNS($A$5:AH29),0),\"\")","v":""},{"$f":"IFERROR(VLOOKUP($C$4&\"_\"&$A31,subject_wise,COLUMNS($A$5:AI29),0),\"\")","v":""},{"$f":"IFERROR(VLOOKUP($C$4&\"_\"&$A31,subject_wise,COLUMNS($A$5:AJ29),0),\"\")","v":""}]
[26,{"$f":"IFERROR(VLOOKUP($C$4&\"_\"&$A32,subject_wise,COLUMNS($A$5:C30),0),\"\")","v":""},{"$f":"IFERROR(VLOOKUP($C$4&\"_\"&$A32,subject_wise,COLUMNS($A$5:D30),0),\"\")","v":""},{"$f":"IFERROR(VLOOKUP($C$4&\"_\"&$A32,subject_wise,COLUMNS($A$5:E30),0),\"\")","v":""},{"$f":"IFERROR(VLOOKUP($C$4&\"_\"&$A32,subject_wise,COLUMNS($A$5:F30),0),\"\")","v":""},{"$f":"IFERROR(VLOOKUP($C$4&\"_\"&$A32,subject_wise,COLUMNS($A$5:G30),0),\"\")","v":""},{"$f":"IFERROR(VLOOKUP($C$4&\"_\"&$A32,subject_wise,COLUMNS($A$5:H30),0),\"\")","v":""},{"$f":"IFERROR(VLOOKUP($C$4&\"_\"&$A32,subject_wise,COLUMNS($A$5:I30),0),\"\")","v":""},{"$f":"IFERROR(VLOOKUP($C$4&\"_\"&$A32,subject_wise,COLUMNS($A$5:J30),0),\"\")","v":""},{"$f":"IFERROR(VLOOKUP($C$4&\"_\"&$A32,subject_wise,COLUMNS($A$5:K30),0),\"\")","v":""},{"$f":"IFERROR(VLOOKUP($C$4&\"_\"&$A32,subject_wise,COLUMNS($A$5:L30),0),\"\")","v":""},{"$f":"IFERROR(VLOOKUP($C$4&\"_\"&$A32,subject_wise,COLUMNS($A$5:M30),0),\"\")","v":""},{"$f":"IFERROR(VLOOKUP($C$4&\"_\"&$A32,subject_wise,COLUMNS($A$5:N30),0),\"\")","v":""},{"$f":"IFERROR(VLOOKUP($C$4&\"_\"&$A32,subject_wise,COLUMNS($A$5:O30),0),\"\")","v":""},{"$f":"IFERROR(VLOOKUP($C$4&\"_\"&$A32,subject_wise,COLUMNS($A$5:P30),0),\"\")","v":""},{"$f":"IFERROR(VLOOKUP($C$4&\"_\"&$A32,subject_wise,COLUMNS($A$5:Q30),0),\"\")","v":""},{"$f":"IFERROR(VLOOKUP($C$4&\"_\"&$A32,subject_wise,COLUMNS($A$5:R30),0),\"\")","v":""},{"$f":"IFERROR(VLOOKUP($C$4&\"_\"&$A32,subject_wise,COLUMNS($A$5:S30),0),\"\")","v":""},{"$f":"IFERROR(VLOOKUP($C$4&\"_\"&$A32,subject_wise,COLUMNS($A$5:T30),0),\"\")","v":""},{"$f":"IFERROR(VLOOKUP($C$4&\"_\"&$A32,subject_wise,COLUMNS($A$5:U30),0),\"\")","v":""},{"$f":"IFERROR(VLOOKUP($C$4&\"_\"&$A32,subject_wise,COLUMNS($A$5:V30),0),\"\")","v":""},{"$f":"IFERROR(VLOOKUP($C$4&\"_\"&$A32,subject_wise,COLUMNS($A$5:W30),0),\"\")","v":""},{"$f":"IFERROR(VLOOKUP($C$4&\"_\"&$A32,subject_wise,COLUMNS($A$5:X30),0),\"\")","v":""},{"$f":"IFERROR(VLOOKUP($C$4&\"_\"&$A32,subject_wise,COLUMNS($A$5:Y30),0),\"\")","v":""},{"$f":"IFERROR(VLOOKUP($C$4&\"_\"&$A32,subject_wise,COLUMNS($A$5:Z30),0),\"\")","v":""},{"$f":"IFERROR(VLOOKUP($C$4&\"_\"&$A32,subject_wise,COLUMNS($A$5:AA30),0),\"\")","v":""},{"$f":"IFERROR(VLOOKUP($C$4&\"_\"&$A32,subject_wise,COLUMNS($A$5:AB30),0),\"\")","v":""},{"$f":"IFERROR(VLOOKUP($C$4&\"_\"&$A32,subject_wise,COLUMNS($A$5:AC30),0),\"\")","v":""},{"$f":"IFERROR(VLOOKUP($C$4&\"_\"&$A32,subject_wise,COLUMNS($A$5:AD30),0),\"\")","v":""},{"$f":"IFERROR(VLOOKUP($C$4&\"_\"&$A32,subject_wise,COLUMNS($A$5:AE30),0),\"\")","v":""},{"$f":"IFERROR(VLOOKUP($C$4&\"_\"&$A32,subject_wise,COLUMNS($A$5:AF30),0),\"\")","v":""},{"$f":"IFERROR(VLOOKUP($C$4&\"_\"&$A32,subject_wise,COLUMNS($A$5:AG30),0),\"\")","v":""},{"$f":"IFERROR(VLOOKUP($C$4&\"_\"&$A32,subject_wise,COLUMNS($A$5:AH30),0),\"\")","v":""},{"$f":"IFERROR(VLOOKUP($C$4&\"_\"&$A32,subject_wise,COLUMNS($A$5:AI30),0),\"\")","v":""},{"$f":"IFERROR(VLOOKUP($C$4&\"_\"&$A32,subject_wise,COLUMNS($A$5:AJ30),0),\"\")","v":""}]
[27,{"$f":"IFERROR(VLOOKUP($C$4&\"_\"&$A33,subject_wise,COLUMNS($A$5:C31),0),\"\")","v":""},{"$f":"IFERROR(VLOOKUP($C$4&\"_\"&$A33,subject_wise,COLUMNS($A$5:D31),0),\"\")","v":""},{"$f":"IFERROR(VLOOKUP($C$4&\"_\"&$A33,subject_wise,COLUMNS($A$5:E31),0),\"\")","v":""},{"$f":"IFERROR(VLOOKUP($C$4&\"_\"&$A33,subject_wise,COLUMNS($A$5:F31),0),\"\")","v":""},{"$f":"IFERROR(VLOOKUP($C$4&\"_\"&$A33,subject_wise,COLUMNS($A$5:G31),0),\"\")","v":""},{"$f":"IFERROR(VLOOKUP($C$4&\"_\"&$A33,subject_wise,COLUMNS($A$5:H31),0),\"\")","v":""},{"$f":"IFERROR(VLOOKUP($C$4&\"_\"&$A33,subject_wise,COLUMNS($A$5:I31),0),\"\")","v":""},{"$f":"IFERROR(VLOOKUP($C$4&\"_\"&$A33,subject_wise,COLUMNS($A$5:J31),0),\"\")","v":""},{"$f":"IFERROR(VLOOKUP($C$4&\"_\"&$A33,subject_wise,COLUMNS($A$5:K31),0),\"\")","v":""},{"$f":"IFERROR(VLOOKUP($C$4&\"_\"&$A33,subject_wise,COLUMNS($A$5:L31),0),\"\")","v":""},{"$f":"IFERROR(VLOOKUP($C$4&\"_\"&$A33,subject_wise,COLUMNS($A$5:M31),0),\"\")","v":""},{"$f":"IFERROR(VLOOKUP($C$4&\"_\"&$A33,subject_wise,COLUMNS($A$5:N31),0),\"\")","v":""},{"$f":"IFERROR(VLOOKUP($C$4&\"_\"&$A33,subject_wise,COLUMNS($A$5:O31),0),\"\")","v":""},{"$f":"IFERROR(VLOOKUP($C$4&\"_\"&$A33,subject_wise,COLUMNS($A$5:P31),0),\"\")","v":""},{"$f":"IFERROR(VLOOKUP($C$4&\"_\"&$A33,subject_wise,COLUMNS($A$5:Q31),0),\"\")","v":""},{"$f":"IFERROR(VLOOKUP($C$4&\"_\"&$A33,subject_wise,COLUMNS($A$5:R31),0),\"\")","v":""},{"$f":"IFERROR(VLOOKUP($C$4&\"_\"&$A33,subject_wise,COLUMNS($A$5:S31),0),\"\")","v":""},{"$f":"IFERROR(VLOOKUP($C$4&\"_\"&$A33,subject_wise,COLUMNS($A$5:T31),0),\"\")","v":""},{"$f":"IFERROR(VLOOKUP($C$4&\"_\"&$A33,subject_wise,COLUMNS($A$5:U31),0),\"\")","v":""},{"$f":"IFERROR(VLOOKUP($C$4&\"_\"&$A33,subject_wise,COLUMNS($A$5:V31),0),\"\")","v":""},{"$f":"IFERROR(VLOOKUP($C$4&\"_\"&$A33,subject_wise,COLUMNS($A$5:W31),0),\"\")","v":""},{"$f":"IFERROR(VLOOKUP($C$4&\"_\"&$A33,subject_wise,COLUMNS($A$5:X31),0),\"\")","v":""},{"$f":"IFERROR(VLOOKUP($C$4&\"_\"&$A33,subject_wise,COLUMNS($A$5:Y31),0),\"\")","v":""},{"$f":"IFERROR(VLOOKUP($C$4&\"_\"&$A33,subject_wise,COLUMNS($A$5:Z31),0),\"\")","v":""},{"$f":"IFERROR(VLOOKUP($C$4&\"_\"&$A33,subject_wise,COLUMNS($A$5:AA31),0),\"\")","v":""},{"$f":"IFERROR(VLOOKUP($C$4&\"_\"&$A33,subject_wise,COLUMNS($A$5:AB31),0),\"\")","v":""},{"$f":"IFERROR(VLOOKUP($C$4&\"_\"&$A33,subject_wise,COLUMNS($A$5:AC31),0),\"\")","v":""},{"$f":"IFERROR(VLOOKUP($C$4&\"_\"&$A33,subject_wise,COLUMNS($A$5:AD31),0),\"\")","v":""},{"$f":"IFERROR(VLOOKUP($C$4&\"_\"&$A33,subject_wise,COLUMNS($A$5:AE31),0),\"\")","v":""},{"$f":"IFERROR(VLOOKUP($C$4&\"_\"&$A33,subject_wise,COLUMNS($A$5:AF31),0),\"\")","v":""},{"$f":"IFERROR(VLOOKUP($C$4&\"_\"&$A33,subject_wise,COLUMNS($A$5:AG31),0),\"\")","v":""},{"$f":"IFERROR(VLOOKUP($C$4&\"_\"&$A33,subject_wise,COLUMNS($A$5:AH31),0),\"\")","v":""},{"$f":"IFERROR(VLOOKUP($C$4&\"_\"&$A33,subject_wise,COLUMNS($A$5:AI31),0),\"\")","v":""},{"$f":"IFERROR(VLOOKUP($C$4&\"_\"&$A33,subject_wise,COLUMNS($A$5:AJ31),0),\"\")","v":""}]
[28,{"$f":"IFERROR(VLOOKUP($C$4&\"_\"&$A34,subject_wise,COLUMNS($A$5:C32),0),\"\")","v":""},{"$f":"IFERROR(VLOOKUP($C$4&\"_\"&$A34,subject_wise,COLUMNS($A$5:D32),0),\"\")","v":""},{"$f":"IFERROR(VLOOKUP($C$4&\"_\"&$A34,subject_wise,COLUMNS($A$5:E32),0),\"\")","v":""},{"$f":"IFERROR(VLOOKUP($C$4&\"_\"&$A34,subject_wise,COLUMNS($A$5:F32),0),\"\")","v":""},{"$f":"IFERROR(VLOOKUP($C$4&\"_\"&$A34,subject_wise,COLUMNS($A$5:G32),0),\"\")","v":""},{"$f":"IFERROR(VLOOKUP($C$4&\"_\"&$A34,subject_wise,COLUMNS($A$5:H32),0),\"\")","v":""},{"$f":"IFERROR(VLOOKUP($C$4&\"_\"&$A34,subject_wise,COLUMNS($A$5:I32),0),\"\")","v":""},{"$f":"IFERROR(VLOOKUP($C$4&\"_\"&$A34,subject_wise,COLUMNS($A$5:J32),0),\"\")","v":""},{"$f":"IFERROR(VLOOKUP($C$4&\"_\"&$A34,subject_wise,COLUMNS($A$5:K32),0),\"\")","v":""},{"$f":"IFERROR(VLOOKUP($C$4&\"_\"&$A34,subject_wise,COLUMNS($A$5:L32),0),\"\")","v":""},{"$f":"IFERROR(VLOOKUP($C$4&\"_\"&$A34,subject_wise,COLUMNS($A$5:M32),0),\"\")","v":""},{"$f":"IFERROR(VLOOKUP($C$4&\"_\"&$A34,subject_wise,COLUMNS($A$5:N32),0),\"\")","v":""},{"$f":"IFERROR(VLOOKUP($C$4&\"_\"&$A34,subject_wise,COLUMNS($A$5:O32),0),\"\")","v":""},{"$f":"IFERROR(VLOOKUP($C$4&\"_\"&$A34,subject_wise,COLUMNS($A$5:P32),0),\"\")","v":""},{"$f":"IFERROR(VLOOKUP($C$4&\"_\"&$A34,subject_wise,COLUMNS($A$5:Q32),0),\"\")","v":""},{"$f":"IFERROR(VLOOKUP($C$4&\"_\"&$A34,subject_wise,COLUMNS($A$5:R32),0),\"\")","v":""},{"$f":"IFERROR(VLOOKUP($C$4&\"_\"&$A34,subject_wise,COLUMNS($A$5:S32),0),\"\")","v":""},{"$f":"IFERROR(VLOOKUP($C$4&\"_\"&$A34,subject_wise,COLUMNS($A$5:T32),0),\"\")","v":""},{"$f":"IFERROR(VLOOKUP($C$4&\"_\"&$A34,subject_wise,COLUMNS($A$5:U32),0),\"\")","v":""},{"$f":"IFERROR(VLOOKUP($C$4&\"_\"&$A34,subject_wise,COLUMNS($A$5:V32),0),\"\")","v":""},{"$f":"IFERROR(VLOOKUP($C$4&\"_\"&$A34,subject_wise,COLUMNS($A$5:W32),0),\"\")","v":""},{"$f":"IFERROR(VLOOKUP($C$4&\"_\"&$A34,subject_wise,COLUMNS($A$5:X32),0),\"\")","v":""},{"$f":"IFERROR(VLOOKUP($C$4&\"_\"&$A34,subject_wise,COLUMNS($A$5:Y32),0),\"\")","v":""},{"$f":"IFERROR(VLOOKUP($C$4&\"_\"&$A34,subject_wise,COLUMNS($A$5:Z32),0),\"\")","v":""},{"$f":"IFERROR(VLOOKUP($C$4&\"_\"&$A34,subject_wise,COLUMNS($A$5:AA32),0),\"\")","v":""},{"$f":"IFERROR(VLOOKUP($C$4&\"_\"&$A34,subject_wise,COLUMNS($A$5:AB32),0),\"\")","v":""},{"$f":"IFERROR(VLOOKUP($C$4&\"_\"&$A34,subject_wise,COLUMNS($A$5:AC32),0),\"\")","v":""},{"$f":"IFERROR(VLOOKUP($C$4&\"_\"&$A34,subject_wise,COLUMNS($A$5:AD32),0),\"\")","v":""},{"$f":"IFERROR(VLOOKUP($C$4&\"_\"&$A34,subject_wise,COLUMNS($A$5:AE32),0),\"\")","v":""},{"$f":"IFERROR(VLOOKUP($C$4&\"_\"&$A34,subject_wise,COLUMNS($A$5:AF32),0),\"\")","v":""},{"$f":"IFERROR(VLOOKUP($C$4&\"_\"&$A34,subject_wise,COLUMNS($A$5:AG32),0),\"\")","v":""},{"$f":"IFERROR(VLOOKUP($C$4&\"_\"&$A34,subject_wise,COLUMNS($A$5:AH32),0),\"\")","v":""},{"$f":"IFERROR(VLOOKUP($C$4&\"_\"&$A34,subject_wise,COLUMNS($A$5:AI32),0),\"\")","v":""},{"$f":"IFERROR(VLOOKUP($C$4&\"_\"&$A34,subject_wise,COLUMNS($A$5:AJ32),0),\"\")","v":""}]
[29,{"$f":"IFERROR(VLOOKUP($C$4&\"_\"&$A35,subject_wise,COLUMNS($A$5:C33),0),\"\")","v":""},{"$f":"IFERROR(VLOOKUP($C$4&\"_\"&$A35,subject_wise,COLUMNS($A$5:D33),0),\"\")","v":""},{"$f":"IFERROR(VLOOKUP($C$4&\"_\"&$A35,subject_wise,COLUMNS($A$5:E33),0),\"\")","v":""},{"$f":"IFERROR(VLOOKUP($C$4&\"_\"&$A35,subject_wise,COLUMNS($A$5:F33),0),\"\")","v":""},{"$f":"IFERROR(VLOOKUP($C$4&\"_\"&$A35,subject_wise,COLUMNS($A$5:G33),0),\"\")","v":""},{"$f":"IFERROR(VLOOKUP($C$4&\"_\"&$A35,subject_wise,COLUMNS($A$5:H33),0),\"\")","v":""},{"$f":"IFERROR(VLOOKUP($C$4&\"_\"&$A35,subject_wise,COLUMNS($A$5:I33),0),\"\")","v":""},{"$f":"IFERROR(VLOOKUP($C$4&\"_\"&$A35,subject_wise,COLUMNS($A$5:J33),0),\"\")","v":""},{"$f":"IFERROR(VLOOKUP($C$4&\"_\"&$A35,subject_wise,COLUMNS($A$5:K33),0),\"\")","v":""},{"$f":"IFERROR(VLOOKUP($C$4&\"_\"&$A35,subject_wise,COLUMNS($A$5:L33),0),\"\")","v":""},{"$f":"IFERROR(VLOOKUP($C$4&\"_\"&$A35,subject_wise,COLUMNS($A$5:M33),0),\"\")","v":""},{"$f":"IFERROR(VLOOKUP($C$4&\"_\"&$A35,subject_wise,COLUMNS($A$5:N33),0),\"\")","v":""},{"$f":"IFERROR(VLOOKUP($C$4&\"_\"&$A35,subject_wise,COLUMNS($A$5:O33),0),\"\")","v":""},{"$f":"IFERROR(VLOOKUP($C$4&\"_\"&$A35,subject_wise,COLUMNS($A$5:P33),0),\"\")","v":""},{"$f":"IFERROR(VLOOKUP($C$4&\"_\"&$A35,subject_wise,COLUMNS($A$5:Q33),0),\"\")","v":""},{"$f":"IFERROR(VLOOKUP($C$4&\"_\"&$A35,subject_wise,COLUMNS($A$5:R33),0),\"\")","v":""},{"$f":"IFERROR(VLOOKUP($C$4&\"_\"&$A35,subject_wise,COLUMNS($A$5:S33),0),\"\")","v":""},{"$f":"IFERROR(VLOOKUP($C$4&\"_\"&$A35,subject_wise,COLUMNS($A$5:T33),0),\"\")","v":""},{"$f":"IFERROR(VLOOKUP($C$4&\"_\"&$A35,subject_wise,COLUMNS($A$5:U33),0),\"\")","v":""},{"$f":"IFERROR(VLOOKUP($C$4&\"_\"&$A35,subject_wise,COLUMNS($A$5:V33),0),\"\")","v":""},{"$f":"IFERROR(VLOOKUP($C$4&\"_\"&$A35,subject_wise,COLUMNS($A$5:W33),0),\"\")","v":""},{"$f":"IFERROR(VLOOKUP($C$4&\"_\"&$A35,subject_wise,COLUMNS($A$5:X33),0),\"\")","v":""},{"$f":"IFERROR(VLOOKUP($C$4&\"_\"&$A35,subject_wise,COLUMNS($A$5:Y33),0),\"\")","v":""},{"$f":"IFERROR(VLOOKUP($C$4&\"_\"&$A35,subject_wise,COLUMNS($A$5:Z33),0),\"\")","v":""},{"$f":"IFERROR(VLOOKUP($C$4&\"_\"&$A35,subject_wise,COLUMNS($A$5:AA33),0),\"\")","v":""},{"$f":"IFERROR(VLOOKUP($C$4&\"_\"&$A35,subject_wise,COLUMNS($A$5:AB33),0),\"\")","v":""},{"$f":"IFERROR(VLOOKUP($C$4&\"_\"&$A35,subject_wise,COLUMNS($A$5:AC33),0),\"\")","v":""},{"$f":"IFERROR(VLOOKUP($C$4&\"_\"&$A35,subject_wise,COLUMNS($A$5:AD33),0),\"\")","v":""},{"$f":"IFERROR(VLOOKUP($C$4&\"_\"&$A35,subject_wise,COLUMNS($A$5:AE33),0),\"\")","v":""},{"$f":"IFERROR(VLOOKUP($C$4&\"_\"&$A35,subject_wise,COLUMNS($A$5:AF33),0),\"\")","v":""},{"$f":"IFERROR(VLOOKUP($C$4&\"_\"&$A35,subject_wise,COLUMNS($A$5:AG33),0),\"\")","v":""},{"$f":"IFERROR(VLOOKUP($C$4&\"_\"&$A35,subject_wise,COLUMNS($A$5:AH33),0),\"\")","v":""},{"$f":"IFERROR(VLOOKUP($C$4&\"_\"&$A35,subject_wise,COLUMNS($A$5:AI33),0),\"\")","v":""},{"$f":"IFERROR(VLOOKUP($C$4&\"_\"&$A35,subject_wise,COLUMNS($A$5:AJ33),0),\"\")","v":""}]
[30,{"$f":"IFERROR(VLOOKUP($C$4&\"_\"&$A36,subject_wise,COLUMNS($A$5:C34),0),\"\")","v":""},{"$f":"IFERROR(VLOOKUP($C$4&\"_\"&$A36,subject_wise,COLUMNS($A$5:D34),0),\"\")","v":""},{"$f":"IFERROR(VLOOKUP($C$4&\"_\"&$A36,subject_wise,COLUMNS($A$5:E34),0),\"\")","v":""},{"$f":"IFERROR(VLOOKUP($C$4&\"_\"&$A36,subject_wise,COLUMNS($A$5:F34),0),\"\")","v":""},{"$f":"IFERROR(VLOOKUP($C$4&\"_\"&$A36,subject_wise,COLUMNS($A$5:G34),0),\"\")","v":""},{"$f":"IFERROR(VLOOKUP($C$4&\"_\"&$A36,subject_wise,COLUMNS($A$5:H34),0),\"\")","v":""},{"$f":"IFERROR(VLOOKUP($C$4&\"_\"&$A36,subject_wise,COLUMNS($A$5:I34),0),\"\")","v":""},{"$f":"IFERROR(VLOOKUP($C$4&\"_\"&$A36,subject_wise,COLUMNS($A$5:J34),0),\"\")","v":""},{"$f":"IFERROR(VLOOKUP($C$4&\"_\"&$A36,subject_wise,COLUMNS($A$5:K34),0),\"\")","v":""},{"$f":"IFERROR(VLOOKUP($C$4&\"_\"&$A36,subject_wise,COLUMNS($A$5:L34),0),\"\")","v":""},{"$f":"IFERROR(VLOOKUP($C$4&\"_\"&$A36,subject_wise,COLUMNS($A$5:M34),0),\"\")","v":""},{"$f":"IFERROR(VLOOKUP($C$4&\"_\"&$A36,subject_wise,COLUMNS($A$5:N34),0),\"\")","v":""},{"$f":"IFERROR(VLOOKUP($C$4&\"_\"&$A36,subject_wise,COLUMNS($A$5:O34),0),\"\")","v":""},{"$f":"IFERROR(VLOOKUP($C$4&\"_\"&$A36,subject_wise,COLUMNS($A$5:P34),0),\"\")","v":""},{"$f":"IFERROR(VLOOKUP($C$4&\"_\"&$A36,subject_wise,COLUMNS($A$5:Q34),0),\"\")","v":""},{"$f":"IFERROR(VLOOKUP($C$4&\"_\"&$A36,subject_wise,COLUMNS($A$5:R34),0),\"\")","v":""},{"$f":"IFERROR(VLOOKUP($C$4&\"_\"&$A36,subject_wise,COLUMNS($A$5:S34),0),\"\")","v":""},{"$f":"IFERROR(VLOOKUP($C$4&\"_\"&$A36,subject_wise,COLUMNS($A$5:T34),0),\"\")","v":""},{"$f":"IFERROR(VLOOKUP($C$4&\"_\"&$A36,subject_wise,COLUMNS($A$5:U34),0),\"\")","v":""},{"$f":"IFERROR(VLOOKUP($C$4&\"_\"&$A36,subject_wise,COLUMNS($A$5:V34),0),\"\")","v":""},{"$f":"IFERROR(VLOOKUP($C$4&\"_\"&$A36,subject_wise,COLUMNS($A$5:W34),0),\"\")","v":""},{"$f":"IFERROR(VLOOKUP($C$4&\"_\"&$A36,subject_wise,COLUMNS($A$5:X34),0),\"\")","v":""},{"$f":"IFERROR(VLOOKUP($C$4&\"_\"&$A36,subject_wise,COLUMNS($A$5:Y34),0),\"\")","v":""},{"$f":"IFERROR(VLOOKUP($C$4&\"_\"&$A36,subject_wise,COLUMNS($A$5:Z34),0),\"\")","v":""},{"$f":"IFERROR(VLOOKUP($C$4&\"_\"&$A36,subject_wise,COLUMNS($A$5:AA34),0),\"\")","v":""},{"$f":"IFERROR(VLOOKUP($C$4&\"_\"&$A36,subject_wise,COLUMNS($A$5:AB34),0),\"\")","v":""},{"$f":"IFERROR(VLOOKUP($C$4&\"_\"&$A36,subject_wise,COLUMNS($A$5:AC34),0),\"\")","v":""},{"$f":"IFERROR(VLOOKUP($C$4&\"_\"&$A36,subject_wise,COLUMNS($A$5:AD34),0),\"\")","v":""},{"$f":"IFERROR(VLOOKUP($C$4&\"_\"&$A36,subject_wise,COLUMNS($A$5:AE34),0),\"\")","v":""},{"$f":"IFERROR(VLOOKUP($C$4&\"_\"&$A36,subject_wise,COLUMNS($A$5:AF34),0),\"\")","v":""},{"$f":"IFERROR(VLOOKUP($C$4&\"_\"&$A36,subject_wise,COLUMNS($A$5:AG34),0),\"\")","v":""},{"$f":"IFERROR(VLOOKUP($C$4&\"_\"&$A36,subject_wise,COLUMNS($A$5:AH34),0),\"\")","v":""},{"$f":"IFERROR(VLOOKUP($C$4&\"_\"&$A36,subject_wise,COLUMNS($A$5:AI34),0),\"\")","v":""},{"$f":"IFERROR(VLOOKUP($C$4&\"_\"&$A36,subject_wise,COLUMNS($A$5:AJ34),0),\"\")","v":""}]
[31,{"$f":"IFERROR(VLOOKUP($C$4&\"_\"&$A37,subject_wise,COLUMNS($A$5:C35),0),\"\")","v":""},{"$f":"IFERROR(VLOOKUP($C$4&\"_\"&$A37,subject_wise,COLUMNS($A$5:D35),0),\"\")","v":""},{"$f":"IFERROR(VLOOKUP($C$4&\"_\"&$A37,subject_wise,COLUMNS($A$5:E35),0),\"\")","v":""},{"$f":"IFERROR(VLOOKUP($C$4&\"_\"&$A37,subject_wise,COLUMNS($A$5:F35),0),\"\")","v":""},{"$f":"IFERROR(VLOOKUP($C$4&\"_\"&$A37,subject_wise,COLUMNS($A$5:G35),0),\"\")","v":""},{"$f":"IFERROR(VLOOKUP($C$4&\"_\"&$A37,subject_wise,COLUMNS($A$5:H35),0),\"\")","v":""},{"$f":"IFERROR(VLOOKUP($C$4&\"_\"&$A37,subject_wise,COLUMNS($A$5:I35),0),\"\")","v":""},{"$f":"IFERROR(VLOOKUP($C$4&\"_\"&$A37,subject_wise,COLUMNS($A$5:J35),0),\"\")","v":""},{"$f":"IFERROR(VLOOKUP($C$4&\"_\"&$A37,subject_wise,COLUMNS($A$5:K35),0),\"\")","v":""},{"$f":"IFERROR(VLOOKUP($C$4&\"_\"&$A37,subject_wise,COLUMNS($A$5:L35),0),\"\")","v":""},{"$f":"IFERROR(VLOOKUP($C$4&\"_\"&$A37,subject_wise,COLUMNS($A$5:M35),0),\"\")","v":""},{"$f":"IFERROR(VLOOKUP($C$4&\"_\"&$A37,subject_wise,COLUMNS($A$5:N35),0),\"\")","v":""},{"$f":"IFERROR(VLOOKUP($C$4&\"_\"&$A37,subject_wise,COLUMNS($A$5:O35),0),\"\")","v":""},{"$f":"IFERROR(VLOOKUP($C$4&\"_\"&$A37,subject_wise,COLUMNS($A$5:P35),0),\"\")","v":""},{"$f":"IFERROR(VLOOKUP($C$4&\"_\"&$A37,subject_wise,COLUMNS($A$5:Q35),0),\"\")","v":""},{"$f":"IFERROR(VLOOKUP($C$4&\"_\"&$A37,subject_wise,COLUMNS($A$5:R35),0),\"\")","v":""},{"$f":"IFERROR(VLOOKUP($C$4&\"_\"&$A37,subject_wise,COLUMNS($A$5:S35),0),\"\")","v":""},{"$f":"IFERROR(VLOOKUP($C$4&\"_\"&$A37,subject_wise,COLUMNS($A$5:T35),0),\"\")","v":""},{"$f":"IFERROR(VLOOKUP($C$4&\"_\"&$A37,subject_wise,COLUMNS($A$5:U35),0),\"\")","v":""},{"$f":"IFERROR(VLOOKUP($C$4&\"_\"&$A37,subject_wise,COLUMNS($A$5:V35),0),\"\")","v":""},{"$f":"IFERROR(VLOOKUP($C$4&\"_\"&$A37,subject_wise,COLUMNS($A$5:W35),0),\"\")","v":""},{"$f":"IFERROR(VLOOKUP($C$4&\"_\"&$A37,subject_wise,COLUMNS($A$5:X35),0),\"\")","v":""},{"$f":"IFERROR(VLOOKUP($C$4&\"_\"&$A37,subject_wise,COLUMNS($A$5:Y35),0),\"\")","v":""},{"$f":"IFERROR(VLOOKUP($C$4&\"_\"&$A37,subject_wise,COLUMNS($A$5:Z35),0),\"\")","v":""},{"$f":"IFERROR(VLOOKUP($C$4&\"_\"&$A37,subject_wise,COLUMNS($A$5:AA35),0),\"\")","v":""},{"$f":"IFERROR(VLOOKUP($C$4&\"_\"&$A37,subject_wise,COLUMNS($A$5:AB35),0),\"\")","v":""},{"$f":"IFERROR(VLOOKUP($C$4&\"_\"&$A37,subject_wise,COLUMNS($A$5:AC35),0),\"\")","v":""},{"$f":"IFERROR(VLOOKUP($C$4&\"_\"&$A37,subject_wise,COLUMNS($A$5:AD35),0),\"\")","v":""},{"$f":"IFERROR(VLOOKUP($C$4&\"_\"&$A37,subject_wise,COLUMNS($A$5:AE35),0),\"\")","v":""},{"$f":"IFERROR(VLOOKUP($C$4&\"_\"&$A37,subject_wise,COLUMNS($A$5:AF35),0),\"\")","v":""},{"$f":"IFERROR(VLOOKUP($C$4&\"_\"&$A37,subject_wise,COLUMNS($A$5:AG35),0),\"\")","v":""},{"$f":"IFERROR(VLOOKUP($C$4&\"_\"&$A37,subject_wise,COLUMNS($A$5:AH35),0),\"\")","v":""},{"$f":"IFERROR(VLOOKUP($C$4&\"_\"&$A37,subject_wise,COLUMNS($A$5:AI35),0),\"\")","v":""},{"$f":"IFERROR(VLOOKUP($C$4&\"_\"&$A37,subject_wise,COLUMNS($A$5:AJ35),0),\"\")","v":""}]
[32,{"$f":"IFERROR(VLOOKUP($C$4&\"_\"&$A38,subject_wise,COLUMNS($A$5:C36),0),\"\")","v":""},{"$f":"IFERROR(VLOOKUP($C$4&\"_\"&$A38,subject_wise,COLUMNS($A$5:D36),0),\"\")","v":""},{"$f":"IFERROR(VLOOKUP($C$4&\"_\"&$A38,subject_wise,COLUMNS($A$5:E36),0),\"\")","v":""},{"$f":"IFERROR(VLOOKUP($C$4&\"_\"&$A38,subject_wise,COLUMNS($A$5:F36),0),\"\")","v":""},{"$f":"IFERROR(VLOOKUP($C$4&\"_\"&$A38,subject_wise,COLUMNS($A$5:G36),0),\"\")","v":""},{"$f":"IFERROR(VLOOKUP($C$4&\"_\"&$A38,subject_wise,COLUMNS($A$5:H36),0),\"\")","v":""},{"$f":"IFERROR(VLOOKUP($C$4&\"_\"&$A38,subject_wise,COLUMNS($A$5:I36),0),\"\")","v":""},{"$f":"IFERROR(VLOOKUP($C$4&\"_\"&$A38,subject_wise,COLUMNS($A$5:J36),0),\"\")","v":""},{"$f":"IFERROR(VLOOKUP($C$4&\"_\"&$A38,subject_wise,COLUMNS($A$5:K36),0),\"\")","v":""},{"$f":"IFERROR(VLOOKUP($C$4&\"_\"&$A38,subject_wise,COLUMNS($A$5:L36),0),\"\")","v":""},{"$f":"IFERROR(VLOOKUP($C$4&\"_\"&$A38,subject_wise,COLUMNS($A$5:M36),0),\"\")","v":""},{"$f":"IFERROR(VLOOKUP($C$4&\"_\"&$A38,subject_wise,COLUMNS($A$5:N36),0),\"\")","v":""},{"$f":"IFERROR(VLOOKUP($C$4&\"_\"&$A38,subject_wise,COLUMNS($A$5:O36),0),\"\")","v":""},{"$f":"IFERROR(VLOOKUP($C$4&\"_\"&$A38,subject_wise,COLUMNS($A$5:P36),0),\"\")","v":""},{"$f":"IFERROR(VLOOKUP($C$4&\"_\"&$A38,subject_wise,COLUMNS($A$5:Q36),0),\"\")","v":""},{"$f":"IFERROR(VLOOKUP($C$4&\"_\"&$A38,subject_wise,COLUMNS($A$5:R36),0),\"\")","v":""},{"$f":"IFERROR(VLOOKUP($C$4&\"_\"&$A38,subject_wise,COLUMNS($A$5:S36),0),\"\")","v":""},{"$f":"IFERROR(VLOOKUP($C$4&\"_\"&$A38,subject_wise,COLUMNS($A$5:T36),0),\"\")","v":""},{"$f":"IFERROR(VLOOKUP($C$4&\"_\"&$A38,subject_wise,COLUMNS($A$5:U36),0),\"\")","v":""},{"$f":"IFERROR(VLOOKUP($C$4&\"_\"&$A38,subject_wise,COLUMNS($A$5:V36),0),\"\")","v":""},{"$f":"IFERROR(VLOOKUP($C$4&\"_\"&$A38,subject_wise,COLUMNS($A$5:W36),0),\"\")","v":""},{"$f":"IFERROR(VLOOKUP($C$4&\"_\"&$A38,subject_wise,COLUMNS($A$5:X36),0),\"\")","v":""},{"$f":"IFERROR(VLOOKUP($C$4&\"_\"&$A38,subject_wise,COLUMNS($A$5:Y36),0),\"\")","v":""},{"$f":"IFERROR(VLOOKUP($C$4&\"_\"&$A38,subject_wise,COLUMNS($A$5:Z36),0),\"\")","v":""},{"$f":"IFERROR(VLOOKUP($C$4&\"_\"&$A38,subject_wise,COLUMNS($A$5:AA36),0),\"\")","v":""},{"$f":"IFERROR(VLOOKUP($C$4&\"_\"&$A38,subject_wise,COLUMNS($A$5:AB36),0),\"\")","v":""},{"$f":"IFERROR(VLOOKUP($C$4&\"_\"&$A38,subject_wise,COLUMNS($A$5:AC36),0),\"\")","v":""},{"$f":"IFERROR(VLOOKUP($C$4&\"_\"&$A38,subject_wise,COLUMNS($A$5:AD36),0),\"\")","v":""},{"$f":"IFERROR(VLOOKUP($C$4&\"_\"&$A38,subject_wise,COLUMNS($A$5:AE36),0),\"\")","v":""},{"$f":"IFERROR(VLOOKUP($C$4&\"_\"&$A38,subject_wise,COLUMNS($A$5:AF36),0),\"\")","v":""},{"$f":"IFERROR(VLOOKUP($C$4&\"_\"&$A38,subject_wise,COLUMNS($A$5:AG36),0),\"\")","v":""},{"$f":"IFERROR(VLOOKUP($C$4&\"_\"&$A38,subject_wise,COLUMNS($A$5:AH36),0),\"\")","v":""},{"$f":"IFERROR(VLOOKUP($C$4&\"_\"&$A38,subject_wise,COLUMNS($A$5:AI36),0),\"\")","v":""},{"$f":"IFERROR(VLOOKUP($C$4&\"_\"&$A38,subject_wise,COLUMNS($A$5:AJ36),0),\"\")","v":""}]
[33,{"$f":"IFERROR(VLOOKUP($C$4&\"_\"&$A39,subject_wise,COLUMNS($A$5:C37),0),\"\")","v":""},{"$f":"IFERROR(VLOOKUP($C$4&\"_\"&$A39,subject_wise,COLUMNS($A$5:D37),0),\"\")","v":""},{"$f":"IFERROR(VLOOKUP($C$4&\"_\"&$A39,subject_wise,COLUMNS($A$5:E37),0),\"\")","v":""},{"$f":"IFERROR(VLOOKUP($C$4&\"_\"&$A39,subject_wise,COLUMNS($A$5:F37),0),\"\")","v":""},{"$f":"IFERROR(VLOOKUP($C$4&\"_\"&$A39,subject_wise,COLUMNS($A$5:G37),0),\"\")","v":""},{"$f":"IFERROR(VLOOKUP($C$4&\"_\"&$A39,subject_wise,COLUMNS($A$5:H37),0),\"\")","v":""},{"$f":"IFERROR(VLOOKUP($C$4&\"_\"&$A39,subject_wise,COLUMNS($A$5:I37),0),\"\")","v":""},{"$f":"IFERROR(VLOOKUP($C$4&\"_\"&$A39,subject_wise,COLUMNS($A$5:J37),0),\"\")","v":""},{"$f":"IFERROR(VLOOKUP($C$4&\"_\"&$A39,subject_wise,COLUMNS($A$5:K37),0),\"\")","v":""},{"$f":"IFERROR(VLOOKUP($C$4&\"_\"&$A39,subject_wise,COLUMNS($A$5:L37),0),\"\")","v":""},{"$f":"IFERROR(VLOOKUP($C$4&\"_\"&$A39,subject_wise,COLUMNS($A$5:M37),0),\"\")","v":""},{"$f":"IFERROR(VLOOKUP($C$4&\"_\"&$A39,subject_wise,COLUMNS($A$5:N37),0),\"\")","v":""},{"$f":"IFERROR(VLOOKUP($C$4&\"_\"&$A39,subject_wise,COLUMNS($A$5:O37),0),\"\")","v":""},{"$f":"IFERROR(VLOOKUP($C$4&\"_\"&$A39,subject_wise,COLUMNS($A$5:P37),0),\"\")","v":""},{"$f":"IFERROR(VLOOKUP($C$4&\"_\"&$A39,subject_wise,COLUMNS($A$5:Q37),0),\"\")","v":""},{"$f":"IFERROR(VLOOKUP($C$4&\"_\"&$A39,subject_wise,COLUMNS($A$5:R37),0),\"\")","v":""},{"$f":"IFERROR(VLOOKUP($C$4&\"_\"&$A39,subject_wise,COLUMNS($A$5:S37),0),\"\")","v":""},{"$f":"IFERROR(VLOOKUP($C$4&\"_\"&$A39,subject_wise,COLUMNS($A$5:T37),0),\"\")","v":""},{"$f":"IFERROR(VLOOKUP($C$4&\"_\"&$A39,subject_wise,COLUMNS($A$5:U37),0),\"\")","v":""},{"$f":"IFERROR(VLOOKUP($C$4&\"_\"&$A39,subject_wise,COLUMNS($A$5:V37),0),\"\")","v":""},{"$f":"IFERROR(VLOOKUP($C$4&\"_\"&$A39,subject_wise,COLUMNS($A$5:W37),0),\"\")","v":""},{"$f":"IFERROR(VLOOKUP($C$4&\"_\"&$A39,subject_wise,COLUMNS($A$5:X37),0),\"\")","v":""},{"$f":"IFERROR(VLOOKUP($C$4&\"_\"&$A39,subject_wise,COLUMNS($A$5:Y37),0),\"\")","v":""},{"$f":"IFERROR(VLOOKUP($C$4&\"_\"&$A39,subject_wise,COLUMNS($A$5:Z37),0),\"\")","v":""},{"$f":"IFERROR(VLOOKUP($C$4&\"_\"&$A39,subject_wise,COLUMNS($A$5:AA37),0),\"\")","v":""},{"$f":"IFERROR(VLOOKUP($C$4&\"_\"&$A39,subject_wise,COLUMNS($A$5:AB37),0),\"\")","v":""},{"$f":"IFERROR(VLOOKUP($C$4&\"_\"&$A39,subject_wise,COLUMNS($A$5:AC37),0),\"\")","v":""},{"$f":"IFERROR(VLOOKUP($C$4&\"_\"&$A39,subject_wise,COLUMNS($A$5:AD37),0),\"\")","v":""},{"$f":"IFERROR(VLOOKUP($C$4&\"_\"&$A39,subject_wise,COLUMNS($A$5:AE37),0),\"\")","v":""},{"$f":"IFERROR(VLOOKUP($C$4&\"_\"&$A39,subject_wise,COLUMNS($A$5:AF37),0),\"\")","v":""},{"$f":"IFERROR(VLOOKUP($C$4&\"_\"&$A39,subject_wise,COLUMNS($A$5:AG37),0),\"\")","v":""},{"$f":"IFERROR(VLOOKUP($C$4&\"_\"&$A39,subject_wise,COLUMNS($A$5:AH37),0),\"\")","v":""},{"$f":"IFERROR(VLOOKUP($C$4&\"_\"&$A39,subject_wise,COLUMNS($A$5:AI37),0),\"\")","v":""},{"$f":"IFERROR(VLOOKUP($C$4&\"_\"&$A39,subject_wise,COLUMNS($A$5:AJ37),0),\"\")","v":""}]
[34,{"$f":"IFERROR(VLOOKUP($C$4&\"_\"&$A40,subject_wise,COLUMNS($A$5:C38),0),\"\")","v":""},{"$f":"IFERROR(VLOOKUP($C$4&\"_\"&$A40,subject_wise,COLUMNS($A$5:D38),0),\"\")","v":""},{"$f":"IFERROR(VLOOKUP($C$4&\"_\"&$A40,subject_wise,COLUMNS($A$5:E38),0),\"\")","v":""},{"$f":"IFERROR(VLOOKUP($C$4&\"_\"&$A40,subject_wise,COLUMNS($A$5:F38),0),\"\")","v":""},{"$f":"IFERROR(VLOOKUP($C$4&\"_\"&$A40,subject_wise,COLUMNS($A$5:G38),0),\"\")","v":""},{"$f":"IFERROR(VLOOKUP($C$4&\"_\"&$A40,subject_wise,COLUMNS($A$5:H38),0),\"\")","v":""},{"$f":"IFERROR(VLOOKUP($C$4&\"_\"&$A40,subject_wise,COLUMNS($A$5:I38),0),\"\")","v":""},{"$f":"IFERROR(VLOOKUP($C$4&\"_\"&$A40,subject_wise,COLUMNS($A$5:J38),0),\"\")","v":""},{"$f":"IFERROR(VLOOKUP($C$4&\"_\"&$A40,subject_wise,COLUMNS($A$5:K38),0),\"\")","v":""},{"$f":"IFERROR(VLOOKUP($C$4&\"_\"&$A40,subject_wise,COLUMNS($A$5:L38),0),\"\")","v":""},{"$f":"IFERROR(VLOOKUP($C$4&\"_\"&$A40,subject_wise,COLUMNS($A$5:M38),0),\"\")","v":""},{"$f":"IFERROR(VLOOKUP($C$4&\"_\"&$A40,subject_wise,COLUMNS($A$5:N38),0),\"\")","v":""},{"$f":"IFERROR(VLOOKUP($C$4&\"_\"&$A40,subject_wise,COLUMNS($A$5:O38),0),\"\")","v":""},{"$f":"IFERROR(VLOOKUP($C$4&\"_\"&$A40,subject_wise,COLUMNS($A$5:P38),0),\"\")","v":""},{"$f":"IFERROR(VLOOKUP($C$4&\"_\"&$A40,subject_wise,COLUMNS($A$5:Q38),0),\"\")","v":""},{"$f":"IFERROR(VLOOKUP($C$4&\"_\"&$A40,subject_wise,COLUMNS($A$5:R38),0),\"\")","v":""},{"$f":"IFERROR(VLOOKUP($C$4&\"_\"&$A40,subject_wise,COLUMNS($A$5:S38),0),\"\")","v":""},{"$f":"IFERROR(VLOOKUP($C$4&\"_\"&$A40,subject_wise,COLUMNS($A$5:T38),0),\"\")","v":""},{"$f":"IFERROR(VLOOKUP($C$4&\"_\"&$A40,subject_wise,COLUMNS($A$5:U38),0),\"\")","v":""},{"$f":"IFERROR(VLOOKUP($C$4&\"_\"&$A40,subject_wise,COLUMNS($A$5:V38),0),\"\")","v":""},{"$f":"IFERROR(VLOOKUP($C$4&\"_\"&$A40,subject_wise,COLUMNS($A$5:W38),0),\"\")","v":""},{"$f":"IFERROR(VLOOKUP($C$4&\"_\"&$A40,subject_wise,COLUMNS($A$5:X38),0),\"\")","v":""},{"$f":"IFERROR(VLOOKUP($C$4&\"_\"&$A40,subject_wise,COLUMNS($A$5:Y38),0),\"\")","v":""},{"$f":"IFERROR(VLOOKUP($C$4&\"_\"&$A40,subject_wise,COLUMNS($A$5:Z38),0),\"\")","v":""},{"$f":"IFERROR(VLOOKUP($C$4&\"_\"&$A40,subject_wise,COLUMNS($A$5:AA38),0),\"\")","v":""},{"$f":"IFERROR(VLOOKUP($C$4&\"_\"&$A40,subject_wise,COLUMNS($A$5:AB38),0),\"\")","v":""},{"$f":"IFERROR(VLOOKUP($C$4&\"_\"&$A40,subject_wise,COLUMNS($A$5:AC38),0),\"\")","v":""},{"$f":"IFERROR(VLOOKUP($C$4&\"_\"&$A40,subject_wise,COLUMNS($A$5:AD38),0),\"\")","v":""},{"$f":"IFERROR(VLOOKUP($C$4&\"_\"&$A40,subject_wise,COLUMNS($A$5:AE38),0),\"\")","v":""},{"$f":"IFERROR(VLOOKUP($C$4&\"_\"&$A40,subject_wise,COLUMNS($A$5:AF38),0),\"\")","v":""},{"$f":"IFERROR(VLOOKUP($C$4&\"_\"&$A40,subject_wise,COLUMNS($A$5:AG38),0),\"\")","v":""},{"$f":"IFERROR(VLOOKUP($C$4&\"_\"&$A40,subject_wise,COLUMNS($A$5:AH38),0),\"\")","v":""},{"$f":"IFERROR(VLOOKUP($C$4&\"_\"&$A40,subject_wise,COLUMNS($A$5:AI38),0),\"\")","v":""},{"$f":"IFERROR(VLOOKUP($C$4&\"_\"&$A40,subject_wise,COLUMNS($A$5:AJ38),0),\"\")","v":""}]
[35,{"$f":"IFERROR(VLOOKUP($C$4&\"_\"&$A41,subject_wise,COLUMNS($A$5:C39),0),\"\")","v":""},{"$f":"IFERROR(VLOOKUP($C$4&\"_\"&$A41,subject_wise,COLUMNS($A$5:D39),0),\"\")","v":""},{"$f":"IFERROR(VLOOKUP($C$4&\"_\"&$A41,subject_wise,COLUMNS($A$5:E39),0),\"\")","v":""},{"$f":"IFERROR(VLOOKUP($C$4&\"_\"&$A41,subject_wise,COLUMNS($A$5:F39),0),\"\")","v":""},{"$f":"IFERROR(VLOOKUP($C$4&\"_\"&$A41,subject_wise,COLUMNS($A$5:G39),0),\"\")","v":""},{"$f":"IFERROR(VLOOKUP($C$4&\"_\"&$A41,subject_wise,COLUMNS($A$5:H39),0),\"\")","v":""},{"$f":"IFERROR(VLOOKUP($C$4&\"_\"&$A41,subject_wise,COLUMNS($A$5:I39),0),\"\")","v":""},{"$f":"IFERROR(VLOOKUP($C$4&\"_\"&$A41,subject_wise,COLUMNS($A$5:J39),0),\"\")","v":""},{"$f":"IFERROR(VLOOKUP($C$4&\"_\"&$A41,subject_wise,COLUMNS($A$5:K39),0),\"\")","v":""},{"$f":"IFERROR(VLOOKUP($C$4&\"_\"&$A41,subject_wise,COLUMNS($A$5:L39),0),\"\")","v":""},{"$f":"IFERROR(VLOOKUP($C$4&\"_\"&$A41,subject_wise,COLUMNS($A$5:M39),0),\"\")","v":""},{"$f":"IFERROR(VLOOKUP($C$4&\"_\"&$A41,subject_wise,COLUMNS($A$5:N39),0),\"\")","v":""},{"$f":"IFERROR(VLOOKUP($C$4&\"_\"&$A41,subject_wise,COLUMNS($A$5:O39),0),\"\")","v":""},{"$f":"IFERROR(VLOOKUP($C$4&\"_\"&$A41,subject_wise,COLUMNS($A$5:P39),0),\"\")","v":""},{"$f":"IFERROR(VLOOKUP($C$4&\"_\"&$A41,subject_wise,COLUMNS($A$5:Q39),0),\"\")","v":""},{"$f":"IFERROR(VLOOKUP($C$4&\"_\"&$A41,subject_wise,COLUMNS($A$5:R39),0),\"\")","v":""},{"$f":"IFERROR(VLOOKUP($C$4&\"_\"&$A41,subject_wise,COLUMNS($A$5:S39),0),\"\")","v":""},{"$f":"IFERROR(VLOOKUP($C$4&\"_\"&$A41,subject_wise,COLUMNS($A$5:T39),0),\"\")","v":""},{"$f":"IFERROR(VLOOKUP($C$4&\"_\"&$A41,subject_wise,COLUMNS($A$5:U39),0),\"\")","v":""},{"$f":"IFERROR(VLOOKUP($C$4&\"_\"&$A41,subject_wise,COLUMNS($A$5:V39),0),\"\")","v":""},{"$f":"IFERROR(VLOOKUP($C$4&\"_\"&$A41,subject_wise,COLUMNS($A$5:W39),0),\"\")","v":""},{"$f":"IFERROR(VLOOKUP($C$4&\"_\"&$A41,subject_wise,COLUMNS($A$5:X39),0),\"\")","v":""},{"$f":"IFERROR(VLOOKUP($C$4&\"_\"&$A41,subject_wise,COLUMNS($A$5:Y39),0),\"\")","v":""},{"$f":"IFERROR(VLOOKUP($C$4&\"_\"&$A41,subject_wise,COLUMNS($A$5:Z39),0),\"\")","v":""},{"$f":"IFERROR(VLOOKUP($C$4&\"_\"&$A41,subject_wise,COLUMNS($A$5:AA39),0),\"\")","v":""},{"$f":"IFERROR(VLOOKUP($C$4&\"_\"&$A41,subject_wise,COLUMNS($A$5:AB39),0),\"\")","v":""},{"$f":"IFERROR(VLOOKUP($C$4&\"_\"&$A41,subject_wise,COLUMNS($A$5:AC39),0),\"\")","v":""},{"$f":"IFERROR(VLOOKUP($C$4&\"_\"&$A41,subject_wise,COLUMNS($A$5:AD39),0),\"\")","v":""},{"$f":"IFERROR(VLOOKUP($C$4&\"_\"&$A41,subject_wise,COLUMNS($A$5:AE39),0),\"\")","v":""},{"$f":"IFERROR(VLOOKUP($C$4&\"_\"&$A41,subject_wise,COLUMNS($A$5:AF39),0),\"\")","v":""},{"$f":"IFERROR(VLOOKUP($C$4&\"_\"&$A41,subject_wise,COLUMNS($A$5:AG39),0),\"\")","v":""},{"$f":"IFERROR(VLOOKUP($C$4&\"_\"&$A41,subject_wise,COLUMNS($A$5:AH39),0),\"\")","v":""},{"$f":"IFERROR(VLOOKUP($C$4&\"_\"&$A41,subject_wise,COLUMNS($A$5:AI39),0),\"\")","v":""},{"$f":"IFERROR(VLOOKUP($C$4&\"_\"&$A41,subject_wise,COLUMNS($A$5:AJ39),0),\"\")","v":""}]
[36,{"$f":"IFERROR(VLOOKUP($C$4&\"_\"&$A42,subject_wise,COLUMNS($A$5:C40),0),\"\")","v":""},{"$f":"IFERROR(VLOOKUP($C$4&\"_\"&$A42,subject_wise,COLUMNS($A$5:D40),0),\"\")","v":""},{"$f":"IFERROR(VLOOKUP($C$4&\"_\"&$A42,subject_wise,COLUMNS($A$5:E40),0),\"\")","v":""},{"$f":"IFERROR(VLOOKUP($C$4&\"_\"&$A42,subject_wise,COLUMNS($A$5:F40),0),\"\")","v":""},{"$f":"IFERROR(VLOOKUP($C$4&\"_\"&$A42,subject_wise,COLUMNS($A$5:G40),0),\"\")","v":""},{"$f":"IFERROR(VLOOKUP($C$4&\"_\"&$A42,subject_wise,COLUMNS($A$5:H40),0),\"\")","v":""},{"$f":"IFERROR(VLOOKUP($C$4&\"_\"&$A42,subject_wise,COLUMNS($A$5:I40),0),\"\")","v":""},{"$f":"IFERROR(VLOOKUP($C$4&\"_\"&$A42,subject_wise,COLUMNS($A$5:J40),0),\"\")","v":""},{"$f":"IFERROR(VLOOKUP($C$4&\"_\"&$A42,subject_wise,COLUMNS($A$5:K40),0),\"\")","v":""},{"$f":"IFERROR(VLOOKUP($C$4&\"_\"&$A42,subject_wise,COLUMNS($A$5:L40),0),\"\")","v":""},{"$f":"IFERROR(VLOOKUP($C$4&\"_\"&$A42,subject_wise,COLUMNS($A$5:M40),0),\"\")","v":""},{"$f":"IFERROR(VLOOKUP($C$4&\"_\"&$A42,subject_wise,COLUMNS($A$5:N40),0),\"\")","v":""},{"$f":"IFERROR(VLOOKUP($C$4&\"_\"&$A42,subject_wise,COLUMNS($A$5:O40),0),\"\")","v":""},{"$f":"IFERROR(VLOOKUP($C$4&\"_\"&$A42,subject_wise,COLUMNS($A$5:P40),0),\"\")","v":""},{"$f":"IFERROR(VLOOKUP($C$4&\"_\"&$A42,subject_wise,COLUMNS($A$5:Q40),0),\"\")","v":""},{"$f":"IFERROR(VLOOKUP($C$4&\"_\"&$A42,subject_wise,COLUMNS($A$5:R40),0),\"\")","v":""},{"$f":"IFERROR(VLOOKUP($C$4&\"_\"&$A42,subject_wise,COLUMNS($A$5:S40),0),\"\")","v":""},{"$f":"IFERROR(VLOOKUP($C$4&\"_\"&$A42,subject_wise,COLUMNS($A$5:T40),0),\"\")","v":""},{"$f":"IFERROR(VLOOKUP($C$4&\"_\"&$A42,subject_wise,COLUMNS($A$5:U40),0),\"\")","v":""},{"$f":"IFERROR(VLOOKUP($C$4&\"_\"&$A42,subject_wise,COLUMNS($A$5:V40),0),\"\")","v":""},{"$f":"IFERROR(VLOOKUP($C$4&\"_\"&$A42,subject_wise,COLUMNS($A$5:W40),0),\"\")","v":""},{"$f":"IFERROR(VLOOKUP($C$4&\"_\"&$A42,subject_wise,COLUMNS($A$5:X40),0),\"\")","v":""},{"$f":"IFERROR(VLOOKUP($C$4&\"_\"&$A42,subject_wise,COLUMNS($A$5:Y40),0),\"\")","v":""},{"$f":"IFERROR(VLOOKUP($C$4&\"_\"&$A42,subject_wise,COLUMNS($A$5:Z40),0),\"\")","v":""},{"$f":"IFERROR(VLOOKUP($C$4&\"_\"&$A42,subject_wise,COLUMNS($A$5:AA40),0),\"\")","v":""},{"$f":"IFERROR(VLOOKUP($C$4&\"_\"&$A42,subject_wise,COLUMNS($A$5:AB40),0),\"\")","v":""},{"$f":"IFERROR(VLOOKUP($C$4&\"_\"&$A42,subject_wise,COLUMNS($A$5:AC40),0),\"\")","v":""},{"$f":"IFERROR(VLOOKUP($C$4&\"_\"&$A42,subject_wise,COLUMNS($A$5:AD40),0),\"\")","v":""},{"$f":"IFERROR(VLOOKUP($C$4&\"_\"&$A42,subject_wise,COLUMNS($A$5:AE40),0),\"\")","v":""},{"$f":"IFERROR(VLOOKUP($C$4&\"_\"&$A42,subject_wise,COLUMNS($A$5:AF40),0),\"\")","v":""},{"$f":"IFERROR(VLOOKUP($C$4&\"_\"&$A42,subject_wise,COLUMNS($A$5:AG40),0),\"\")","v":""},{"$f":"IFERROR(VLOOKUP($C$4&\"_\"&$A42,subject_wise,COLUMNS($A$5:AH40),0),\"\")","v":""},{"$f":"IFERROR(VLOOKUP($C$4&\"_\"&$A42,subject_wise,COLUMNS($A$5:AI40),0),\"\")","v":""},{"$f":"IFERROR(VLOOKUP($C$4&\"_\"&$A42,subject_wise,COLUMNS($A$5:AJ40),0),\"\")","v":""}]
[37,{"$f":"IFERROR(VLOOKUP($C$4&\"_\"&$A43,subject_wise,COLUMNS($A$5:C41),0),\"\")","v":""},{"$f":"IFERROR(VLOOKUP($C$4&\"_\"&$A43,subject_wise,COLUMNS($A$5:D41),0),\"\")","v":""},{"$f":"IFERROR(VLOOKUP($C$4&\"_\"&$A43,subject_wise,COLUMNS($A$5:E41),0),\"\")","v":""},{"$f":"IFERROR(VLOOKUP($C$4&\"_\"&$A43,subject_wise,COLUMNS($A$5:F41),0),\"\")","v":""},{"$f":"IFERROR(VLOOKUP($C$4&\"_\"&$A43,subject_wise,COLUMNS($A$5:G41),0),\"\")","v":""},{"$f":"IFERROR(VLOOKUP($C$4&\"_\"&$A43,subject_wise,COLUMNS($A$5:H41),0),\"\")","v":""},{"$f":"IFERROR(VLOOKUP($C$4&\"_\"&$A43,subject_wise,COLUMNS($A$5:I41),0),\"\")","v":""},{"$f":"IFERROR(VLOOKUP($C$4&\"_\"&$A43,subject_wise,COLUMNS($A$5:J41),0),\"\")","v":""},{"$f":"IFERROR(VLOOKUP($C$4&\"_\"&$A43,subject_wise,COLUMNS($A$5:K41),0),\"\")","v":""},{"$f":"IFERROR(VLOOKUP($C$4&\"_\"&$A43,subject_wise,COLUMNS($A$5:L41),0),\"\")","v":""},{"$f":"IFERROR(VLOOKUP($C$4&\"_\"&$A43,subject_wise,COLUMNS($A$5:M41),0),\"\")","v":""},{"$f":"IFERROR(VLOOKUP($C$4&\"_\"&$A43,subject_wise,COLUMNS($A$5:N41),0),\"\")","v":""},{"$f":"IFERROR(VLOOKUP($C$4&\"_\"&$A43,subject_wise,COLUMNS($A$5:O41),0),\"\")","v":""},{"$f":"IFERROR(VLOOKUP($C$4&\"_\"&$A43,subject_wise,COLUMNS($A$5:P41),0),\"\")","v":""},{"$f":"IFERROR(VLOOKUP($C$4&\"_\"&$A43,subject_wise,COLUMNS($A$5:Q41),0),\"\")","v":""},{"$f":"IFERROR(VLOOKUP($C$4&\"_\"&$A43,subject_wise,COLUMNS($A$5:R41),0),\"\")","v":""},{"$f":"IFERROR(VLOOKUP($C$4&\"_\"&$A43,subject_wise,COLUMNS($A$5:S41),0),\"\")","v":""},{"$f":"IFERROR(VLOOKUP($C$4&\"_\"&$A43,subject_wise,COLUMNS($A$5:T41),0),\"\")","v":""},{"$f":"IFERROR(VLOOKUP($C$4&\"_\"&$A43,subject_wise,COLUMNS($A$5:U41),0),\"\")","v":""},{"$f":"IFERROR(VLOOKUP($C$4&\"_\"&$A43,subject_wise,COLUMNS($A$5:V41),0),\"\")","v":""},{"$f":"IFERROR(VLOOKUP($C$4&\"_\"&$A43,subject_wise,COLUMNS($A$5:W41),0),\"\")","v":""},{"$f":"IFERROR(VLOOKUP($C$4&\"_\"&$A43,subject_wise,COLUMNS($A$5:X41),0),\"\")","v":""},{"$f":"IFERROR(VLOOKUP($C$4&\"_\"&$A43,subject_wise,COLUMNS($A$5:Y41),0),\"\")","v":""},{"$f":"IFERROR(VLOOKUP($C$4&\"_\"&$A43,subject_wise,COLUMNS($A$5:Z41),0),\"\")","v":""},{"$f":"IFERROR(VLOOKUP($C$4&\"_\"&$A43,subject_wise,COLUMNS($A$5:AA41),0),\"\")","v":""},{"$f":"IFERROR(VLOOKUP($C$4&\"_\"&$A43,subject_wise,COLUMNS($A$5:AB41),0),\"\")","v":""},{"$f":"IFERROR(VLOOKUP($C$4&\"_\"&$A43,subject_wise,COLUMNS($A$5:AC41),0),\"\")","v":""},{"$f":"IFERROR(VLOOKUP($C$4&\"_\"&$A43,subject_wise,COLUMNS($A$5:AD41),0),\"\")","v":""},{"$f":"IFERROR(VLOOKUP($C$4&\"_\"&$A43,subject_wise,COLUMNS($A$5:AE41),0),\"\")","v":""},{"$f":"IFERROR(VLOOKUP($C$4&\"_\"&$A43,subject_wise,COLUMNS($A$5:AF41),0),\"\")","v":""},{"$f":"IFERROR(VLOOKUP($C$4&\"_\"&$A43,subject_wise,COLUMNS($A$5:AG41),0),\"\")","v":""},{"$f":"IFERROR(VLOOKUP($C$4&\"_\"&$A43,subject_wise,COLUMNS($A$5:AH41),0),\"\")","v":""},{"$f":"IFERROR(VLOOKUP($C$4&\"_\"&$A43,subject_wise,COLUMNS($A$5:AI41),0),\"\")","v":""},{"$f":"IFERROR(VLOOKUP($C$4&\"_\"&$A43,subject_wise,COLUMNS($A$5:AJ41),0),\"\")","v":""}]
[38,{"$f":"IFERROR(VLOOKUP($C$4&\"_\"&$A44,subject_wise,COLUMNS($A$5:C42),0),\"\")","v":""},{"$f":"IFERROR(VLOOKUP($C$4&\"_\"&$A44,subject_wise,COLUMNS($A$5:D42),0),\"\")","v":""},{"$f":"IFERROR(VLOOKUP($C$4&\"_\"&$A44,subject_wise,COLUMNS($A$5:E42),0),\"\")","v":""},{"$f":"IFERROR(VLOOKUP($C$4&\"_\"&$A44,subject_wise,COLUMNS($A$5:F42),0),\"\")","v":""},{"$f":"IFERROR(VLOOKUP($C$4&\"_\"&$A44,subject_wise,COLUMNS($A$5:G42),0),\"\")","v":""},{"$f":"IFERROR(VLOOKUP($C$4&\"_\"&$A44,subject_wise,COLUMNS($A$5:H42),0),\"\")","v":""},{"$f":"IFERROR(VLOOKUP($C$4&\"_\"&$A44,subject_wise,COLUMNS($A$5:I42),0),\"\")","v":""},{"$f":"IFERROR(VLOOKUP($C$4&\"_\"&$A44,subject_wise,COLUMNS($A$5:J42),0),\"\")","v":""},{"$f":"IFERROR(VLOOKUP($C$4&\"_\"&$A44,subject_wise,COLUMNS($A$5:K42),0),\"\")","v":""},{"$f":"IFERROR(VLOOKUP($C$4&\"_\"&$A44,subject_wise,COLUMNS($A$5:L42),0),\"\")","v":""},{"$f":"IFERROR(VLOOKUP($C$4&\"_\"&$A44,subject_wise,COLUMNS($A$5:M42),0),\"\")","v":""},{"$f":"IFERROR(VLOOKUP($C$4&\"_\"&$A44,subject_wise,COLUMNS($A$5:N42),0),\"\")","v":""},{"$f":"IFERROR(VLOOKUP($C$4&\"_\"&$A44,subject_wise,COLUMNS($A$5:O42),0),\"\")","v":""},{"$f":"IFERROR(VLOOKUP($C$4&\"_\"&$A44,subject_wise,COLUMNS($A$5:P42),0),\"\")","v":""},{"$f":"IFERROR(VLOOKUP($C$4&\"_\"&$A44,subject_wise,COLUMNS($A$5:Q42),0),\"\")","v":""},{"$f":"IFERROR(VLOOKUP($C$4&\"_\"&$A44,subject_wise,COLUMNS($A$5:R42),0),\"\")","v":""},{"$f":"IFERROR(VLOOKUP($C$4&\"_\"&$A44,subject_wise,COLUMNS($A$5:S42),0),\"\")","v":""},{"$f":"IFERROR(VLOOKUP($C$4&\"_\"&$A44,subject_wise,COLUMNS($A$5:T42),0),\"\")","v":""},{"$f":"IFERROR(VLOOKUP($C$4&\"_\"&$A44,subject_wise,COLUMNS($A$5:U42),0),\"\")","v":""},{"$f":"IFERROR(VLOOKUP($C$4&\"_\"&$A44,subject_wise,COLUMNS($A$5:V42),0),\"\")","v":""},{"$f":"IFERROR(VLOOKUP($C$4&\"_\"&$A44,subject_wise,COLUMNS($A$5:W42),0),\"\")","v":""},{"$f":"IFERROR(VLOOKUP($C$4&\"_\"&$A44,subject_wise,COLUMNS($A$5:X42),0),\"\")","v":""},{"$f":"IFERROR(VLOOKUP($C$4&\"_\"&$A44,subject_wise,COLUMNS($A$5:Y42),0),\"\")","v":""},{"$f":"IFERROR(VLOOKUP($C$4&\"_\"&$A44,subject_wise,COLUMNS($A$5:Z42),0),\"\")","v":""},{"$f":"IFERROR(VLOOKUP($C$4&\"_\"&$A44,subject_wise,COLUMNS($A$5:AA42),0),\"\")","v":""},{"$f":"IFERROR(VLOOKUP($C$4&\"_\"&$A44,subject_wise,COLUMNS($A$5:AB42),0),\"\")","v":""},{"$f":"IFERROR(VLOOKUP($C$4&\"_\"&$A44,subject_wise,COLUMNS($A$5:AC42),0),\"\")","v":""},{"$f":"IFERROR(VLOOKUP($C$4&\"_\"&$A44,subject_wise,COLUMNS($A$5:AD42),0),\"\")","v":""},{"$f":"IFERROR(VLOOKUP($C$4&\"_\"&$A44,subject_wise,COLUMNS($A$5:AE42),0),\"\")","v":""},{"$f":"IFERROR(VLOOKUP($C$4&\"_\"&$A44,subject_wise,COLUMNS($A$5:AF42),0),\"\")","v":""},{"$f":"IFERROR(VLOOKUP($C$4&\"_\"&$A44,subject_wise,COLUMNS($A$5:AG42),0),\"\")","v":""},{"$f":"IFERROR(VLOOKUP($C$4&\"_\"&$A44,subject_wise,COLUMNS($A$5:AH42),0),\"\")","v":""},{"$f":"IFERROR(VLOOKUP($C$4&\"_\"&$A44,subject_wise,COLUMNS($A$5:AI42),0),\"\")","v":""},{"$f":"IFERROR(VLOOKUP($C$4&\"_\"&$A44,subject_wise,COLUMNS($A$5:AJ42),0),\"\")","v":""}]
[39,{"$f":"IFERROR(VLOOKUP($C$4&\"_\"&$A45,subject_wise,COLUMNS($A$5:C43),0),\"\")","v":""},{"$f":"IFERROR(VLOOKUP($C$4&\"_\"&$A45,subject_wise,COLUMNS($A$5:D43),0),\"\")","v":""},{"$f":"IFERROR(VLOOKUP($C$4&\"_\"&$A45,subject_wise,COLUMNS($A$5:E43),0),\"\")","v":""},{"$f":"IFERROR(VLOOKUP($C$4&\"_\"&$A45,subject_wise,COLUMNS($A$5:F43),0),\"\")","v":""},{"$f":"IFERROR(VLOOKUP($C$4&\"_\"&$A45,subject_wise,COLUMNS($A$5:G43),0),\"\")","v":""},{"$f":"IFERROR(VLOOKUP($C$4&\"_\"&$A45,subject_wise,COLUMNS($A$5:H43),0),\"\")","v":""},{"$f":"IFERROR(VLOOKUP($C$4&\"_\"&$A45,subject_wise,COLUMNS($A$5:I43),0),\"\")","v":""},{"$f":"IFERROR(VLOOKUP($C$4&\"_\"&$A45,subject_wise,COLUMNS($A$5:J43),0),\"\")","v":""},{"$f":"IFERROR(VLOOKUP($C$4&\"_\"&$A45,subject_wise,COLUMNS($A$5:K43),0),\"\")","v":""},{"$f":"IFERROR(VLOOKUP($C$4&\"_\"&$A45,subject_wise,COLUMNS($A$5:L43),0),\"\")","v":""},{"$f":"IFERROR(VLOOKUP($C$4&\"_\"&$A45,subject_wise,COLUMNS($A$5:M43),0),\"\")","v":""},{"$f":"IFERROR(VLOOKUP($C$4&\"_\"&$A45,subject_wise,COLUMNS($A$5:N43),0),\"\")","v":""},{"$f":"IFERROR(VLOOKUP($C$4&\"_\"&$A45,subject_wise,COLUMNS($A$5:O43),0),\"\")","v":""},{"$f":"IFERROR(VLOOKUP($C$4&\"_\"&$A45,subject_wise,COLUMNS($A$5:P43),0),\"\")","v":""},{"$f":"IFERROR(VLOOKUP($C$4&\"_\"&$A45,subject_wise,COLUMNS($A$5:Q43),0),\"\")","v":""},{"$f":"IFERROR(VLOOKUP($C$4&\"_\"&$A45,subject_wise,COLUMNS($A$5:R43),0),\"\")","v":""},{"$f":"IFERROR(VLOOKUP($C$4&\"_\"&$A45,subject_wise,COLUMNS($A$5:S43),0),\"\")","v":""},{"$f":"IFERROR(VLOOKUP($C$4&\"_\"&$A45,subject_wise,COLUMNS($A$5:T43),0),\"\")","v":""},{"$f":"IFERROR(VLOOKUP($C$4&\"_\"&$A45,subject_wise,COLUMNS($A$5:U43),0),\"\")","v":""},{"$f":"IFERROR(VLOOKUP($C$4&\"_\"&$A45,subject_wise,COLUMNS($A$5:V43),0),\"\")","v":""},{"$f":"IFERROR(VLOOKUP($C$4&\"_\"&$A45,subject_wise,COLUMNS($A$5:W43),0),\"\")","v":""},{"$f":"IFERROR(VLOOKUP($C$4&\"_\"&$A45,subject_wise,COLUMNS($A$5:X43),0),\"\")","v":""},{"$f":"IFERROR(VLOOKUP($C$4&\"_\"&$A45,subject_wise,COLUMNS($A$5:Y43),0),\"\")","v":""},{"$f":"IFERROR(VLOOKUP($C$4&\"_\"&$A45,subject_wise,COLUMNS($A$5:Z43),0),\"\")","v":""},{"$f":"IFERROR(VLOOKUP($C$4&\"_\"&$A45,subject_wise,COLUMNS($A$5:AA43),0),\"\")","v":""},{"$f":"IFERROR(VLOOKUP($C$4&\"_\"&$A45,subject_wise,COLUMNS($A$5:AB43),0),\"\")","v":""},{"$f":"IFERROR(VLOOKUP($C$4&\"_\"&$A45,subject_wise,COLUMNS($A$5:AC43),0),\"\")","v":""},{"$f":"IFERROR(VLOOKUP($C$4&\"_\"&$A45,subject_wise,COLUMNS($A$5:AD43),0),\"\")","v":""},{"$f":"IFERROR(VLOOKUP($C$4&\"_\"&$A45,subject_wise,COLUMNS($A$5:AE43),0),\"\")","v":""},{"$f":"IFERROR(VLOOKUP($C$4&\"_\"&$A45,subject_wise,COLUMNS($A$5:AF43),0),\"\")","v":""},{"$f":"IFERROR(VLOOKUP($C$4&\"_\"&$A45,subject_wise,COLUMNS($A$5:AG43),0),\"\")","v":""},{"$f":"IFERROR(VLOOKUP($C$4&\"_\"&$A45,subject_wise,COLUMNS($A$5:AH43),0),\"\")","v":""},{"$f":"IFERROR(VLOOKUP($C$4&\"_\"&$A45,subject_wise,COLUMNS($A$5:AI43),0),\"\")","v":""},{"$f":"IFERROR(VLOOKUP($C$4&\"_\"&$A45,subject_wise,COLUMNS($A$5:AJ43),0),\"\")","v":""}]
[40,{"$f":"IFERROR(VLOOKUP($C$4&\"_\"&$A46,subject_wise,COLUMNS($A$5:C44),0),\"\")","v":""},{"$f":"IFERROR(VLOOKUP($C$4&\"_\"&$A46,subject_wise,COLUMNS($A$5:D44),0),\"\")","v":""},{"$f":"IFERROR(VLOOKUP($C$4&\"_\"&$A46,subject_wise,COLUMNS($A$5:E44),0),\"\")","v":""},{"$f":"IFERROR(VLOOKUP($C$4&\"_\"&$A46,subject_wise,COLUMNS($A$5:F44),0),\"\")","v":""},{"$f":"IFERROR(VLOOKUP($C$4&\"_\"&$A46,subject_wise,COLUMNS($A$5:G44),0),\"\")","v":""},{"$f":"IFERROR(VLOOKUP($C$4&\"_\"&$A46,subject_wise,COLUMNS($A$5:H44),0),\"\")","v":""},{"$f":"IFERROR(VLOOKUP($C$4&\"_\"&$A46,subject_wise,COLUMNS($A$5:I44),0),\"\")","v":""},{"$f":"IFERROR(VLOOKUP($C$4&\"_\"&$A46,subject_wise,COLUMNS($A$5:J44),0),\"\")","v":""},{"$f":"IFERROR(VLOOKUP($C$4&\"_\"&$A46,subject_wise,COLUMNS($A$5:K44),0),\"\")","v":""},{"$f":"IFERROR(VLOOKUP($C$4&\"_\"&$A46,subject_wise,COLUMNS($A$5:L44),0),\"\")","v":""},{"$f":"IFERROR(VLOOKUP($C$4&\"_\"&$A46,subject_wise,COLUMNS($A$5:M44),0),\"\")","v":""},{"$f":"IFERROR(VLOOKUP($C$4&\"_\"&$A46,subject_wise,COLUMNS($A$5:N44),0),\"\")","v":""},{"$f":"IFERROR(VLOOKUP($C$4&\"_\"&$A46,subject_wise,COLUMNS($A$5:O44),0),\"\")","v":""},{"$f":"IFERROR(VLOOKUP($C$4&\"_\"&$A46,subject_wise,COLUMNS($A$5:P44),0),\"\")","v":""},{"$f":"IFERROR(VLOOKUP($C$4&\"_\"&$A46,subject_wise,COLUMNS($A$5:Q44),0),\"\")","v":""},{"$f":"IFERROR(VLOOKUP($C$4&\"_\"&$A46,subject_wise,COLUMNS($A$5:R44),0),\"\")","v":""},{"$f":"IFERROR(VLOOKUP($C$4&\"_\"&$A46,subject_wise,COLUMNS($A$5:S44),0),\"\")","v":""},{"$f":"IFERROR(VLOOKUP($C$4&\"_\"&$A46,subject_wise,COLUMNS($A$5:T44),0),\"\")","v":""},{"$f":"IFERROR(VLOOKUP($C$4&\"_\"&$A46,subject_wise,COLUMNS($A$5:U44),0),\"\")","v":""},{"$f":"IFERROR(VLOOKUP($C$4&\"_\"&$A46,subject_wise,COLUMNS($A$5:V44),0),\"\")","v":""},{"$f":"IFERROR(VLOOKUP($C$4&\"_\"&$A46,subject_wise,COLUMNS($A$5:W44),0),\"\")","v":""},{"$f":"IFERROR(VLOOKUP($C$4&\"_\"&$A46,subject_wise,COLUMNS($A$5:X44),0),\"\")","v":""},{"$f":"IFERROR(VLOOKUP($C$4&\"_\"&$A46,subject_wise,COLUMNS($A$5:Y44),0),\"\")","v":""},{"$f":"IFERROR(VLOOKUP($C$4&\"_\"&$A46,subject_wise,COLUMNS($A$5:Z44),0),\"\")","v":""},{"$f":"IFERROR(VLOOKUP($C$4&\"_\"&$A46,subject_wise,COLUMNS($A$5:AA44),0),\"\")","v":""},{"$f":"IFERROR(VLOOKUP($C$4&\"_\"&$A46,subject_wise,COLUMNS($A$5:AB44),0),\"\")","v":""},{"$f":"IFERROR(VLOOKUP($C$4&\"_\"&$A46,subject_wise,COLUMNS($A$5:AC44),0),\"\")","v":""},{"$f":"IFERROR(VLOOKUP($C$4&\"_\"&$A46,subject_wise,COLUMNS($A$5:AD44),0),\"\")","v":""},{"$f":"IFERROR(VLOOKUP($C$4&\"_\"&$A46,subject_wise,COLUMNS($A$5:AE44),0),\"\")","v":""},{"$f":"IFERROR(VLOOKUP($C$4&\"_\"&$A46,subject_wise,COLUMNS($A$5:AF44),0),\"\")","v":""},{"$f":"IFERROR(VLOOKUP($C$4&\"_\"&$A46,subject_wise,COLUMNS($A$5:AG44),0),\"\")","v":""},{"$f":"IFERROR(VLOOKUP($C$4&\"_\"&$A46,subject_wise,COLUMNS($A$5:AH44),0),\"\")","v":""},{"$f":"IFERROR(VLOOKUP($C$4&\"_\"&$A46,subject_wise,COLUMNS($A$5:AI44),0),\"\")","v":""},{"$f":"IFERROR(VLOOKUP($C$4&\"_\"&$A46,subject_wise,COLUMNS($A$5:AJ44),0),\"\")","v":""}]
[41,{"$f":"IFERROR(VLOOKUP($C$4&\"_\"&$A47,subject_wise,COLUMNS($A$5:C45),0),\"\")","v":""},{"$f":"IFERROR(VLOOKUP($C$4&\"_\"&$A47,subject_wise,COLUMNS($A$5:D45),0),\"\")","v":""},{"$f":"IFERROR(VLOOKUP($C$4&\"_\"&$A47,subject_wise,COLUMNS($A$5:E45),0),\"\")","v":""},{"$f":"IFERROR(VLOOKUP($C$4&\"_\"&$A47,subject_wise,COLUMNS($A$5:F45),0),\"\")","v":""},{"$f":"IFERROR(VLOOKUP($C$4&\"_\"&$A47,subject_wise,COLUMNS($A$5:G45),0),\"\")","v":""},{"$f":"IFERROR(VLOOKUP($C$4&\"_\"&$A47,subject_wise,COLUMNS($A$5:H45),0),\"\")","v":""},{"$f":"IFERROR(VLOOKUP($C$4&\"_\"&$A47,subject_wise,COLUMNS($A$5:I45),0),\"\")","v":""},{"$f":"IFERROR(VLOOKUP($C$4&\"_\"&$A47,subject_wise,COLUMNS($A$5:J45),0),\"\")","v":""},{"$f":"IFERROR(VLOOKUP($C$4&\"_\"&$A47,subject_wise,COLUMNS($A$5:K45),0),\"\")","v":""},{"$f":"IFERROR(VLOOKUP($C$4&\"_\"&$A47,subject_wise,COLUMNS($A$5:L45),0),\"\")","v":""},{"$f":"IFERROR(VLOOKUP($C$4&\"_\"&$A47,subject_wise,COLUMNS($A$5:M45),0),\"\")","v":""},{"$f":"IFERROR(VLOOKUP($C$4&\"_\"&$A47,subject_wise,COLUMNS($A$5:N45),0),\"\")","v":""},{"$f":"IFERROR(VLOOKUP($C$4&\"_\"&$A47,subject_wise,COLUMNS($A$5:O45),0),\"\")","v":""},{"$f":"IFERROR(VLOOKUP($C$4&\"_\"&$A47,subject_wise,COLUMNS($A$5:P45),0),\"\")","v":""},{"$f":"IFERROR(VLOOKUP($C$4&\"_\"&$A47,subject_wise,COLUMNS($A$5:Q45),0),\"\")","v":""},{"$f":"IFERROR(VLOOKUP($C$4&\"_\"&$A47,subject_wise,COLUMNS($A$5:R45),0),\"\")","v":""},{"$f":"IFERROR(VLOOKUP($C$4&\"_\"&$A47,subject_wise,COLUMNS($A$5:S45),0),\"\")","v":""},{"$f":"IFERROR(VLOOKUP($C$4&\"_\"&$A47,subject_wise,COLUMNS($A$5:T45),0),\"\")","v":""},{"$f":"IFERROR(VLOOKUP($C$4&\"_\"&$A47,subject_wise,COLUMNS($A$5:U45),0),\"\")","v":""},{"$f":"IFERROR(VLOOKUP($C$4&\"_\"&$A47,subject_wise,COLUMNS($A$5:V45),0),\"\")","v":""},{"$f":"IFERROR(VLOOKUP($C$4&\"_\"&$A47,subject_wise,COLUMNS($A$5:W45),0),\"\")","v":""},{"$f":"IFERROR(VLOOKUP($C$4&\"_\"&$A47,subject_wise,COLUMNS($A$5:X45),0),\"\")","v":""},{"$f":"IFERROR(VLOOKUP($C$4&\"_\"&$A47,subject_wise,COLUMNS($A$5:Y45),0),\"\")","v":""},{"$f":"IFERROR(VLOOKUP($C$4&\"_\"&$A47,subject_wise,COLUMNS($A$5:Z45),0),\"\")","v":""},{"$f":"IFERROR(VLOOKUP($C$4&\"_\"&$A47,subject_wise,COLUMNS($A$5:AA45),0),\"\")","v":""},{"$f":"IFERROR(VLOOKUP($C$4&\"_\"&$A47,subject_wise,COLUMNS($A$5:AB45),0),\"\")","v":""},{"$f":"IFERROR(VLOOKUP($C$4&\"_\"&$A47,subject_wise,COLUMNS($A$5:AC45),0),\"\")","v":""},{"$f":"IFERROR(VLOOKUP($C$4&\"_\"&$A47,subject_wise,COLUMNS($A$5:AD45),0),\"\")","v":""},{"$f":"IFERROR(VLOOKUP($C$4&\"_\"&$A47,subject_wise,COLUMNS($A$5:AE45),0),\"\")","v":""},{"$f":"IFERROR(VLOOKUP($C$4&\"_\"&$A47,subject_wise,COLUMNS($A$5:AF45),0),\"\")","v":""},{"$f":"IFERROR(VLOOKUP($C$4&\"_\"&$A47,subject_wise,COLUMNS($A$5:AG45),0),\"\")","v":""},{"$f":"IFERROR(VLOOKUP($C$4&\"_\"&$A47,subject_wise,COLUMNS($A$5:AH45),0),\"\")","v":""},{"$f":"IFERROR(VLOOKUP($C$4&\"_\"&$A47,subject_wise,COLUMNS($A$5:AI45),0),\"\")","v":""},{"$f":"IFERROR(VLOOKUP($C$4&\"_\"&$A47,subject_wise,COLUMNS($A$5:AJ45),0),\"\")","v":""}]
[42,{"$f":"IFERROR(VLOOKUP($C$4&\"_\"&$A48,subject_wise,COLUMNS($A$5:C46),0),\"\")","v":""},{"$f":"IFERROR(VLOOKUP($C$4&\"_\"&$A48,subject_wise,COLUMNS($A$5:D46),0),\"\")","v":""},{"$f":"IFERROR(VLOOKUP($C$4&\"_\"&$A48,subject_wise,COLUMNS($A$5:E46),0),\"\")","v":""},{"$f":"IFERROR(VLOOKUP($C$4&\"_\"&$A48,subject_wise,COLUMNS($A$5:F46),0),\"\")","v":""},{"$f":"IFERROR(VLOOKUP($C$4&\"_\"&$A48,subject_wise,COLUMNS($A$5:G46),0),\"\")","v":""},{"$f":"IFERROR(VLOOKUP($C$4&\"_\"&$A48,subject_wise,COLUMNS($A$5:H46),0),\"\")","v":""},{"$f":"IFERROR(VLOOKUP($C$4&\"_\"&$A48,subject_wise,COLUMNS($A$5:I46),0),\"\")","v":""},{"$f":"IFERROR(VLOOKUP($C$4&\"_\"&$A48,subject_wise,COLUMNS($A$5:J46),0),\"\")","v":""},{"$f":"IFERROR(VLOOKUP($C$4&\"_\"&$A48,subject_wise,COLUMNS($A$5:K46),0),\"\")","v":""},{"$f":"IFERROR(VLOOKUP($C$4&\"_\"&$A48,subject_wise,COLUMNS($A$5:L46),0),\"\")","v":""},{"$f":"IFERROR(VLOOKUP($C$4&\"_\"&$A48,subject_wise,COLUMNS($A$5:M46),0),\"\")","v":""},{"$f":"IFERROR(VLOOKUP($C$4&\"_\"&$A48,subject_wise,COLUMNS($A$5:N46),0),\"\")","v":""},{"$f":"IFERROR(VLOOKUP($C$4&\"_\"&$A48,subject_wise,COLUMNS($A$5:O46),0),\"\")","v":""},{"$f":"IFERROR(VLOOKUP($C$4&\"_\"&$A48,subject_wise,COLUMNS($A$5:P46),0),\"\")","v":""},{"$f":"IFERROR(VLOOKUP($C$4&\"_\"&$A48,subject_wise,COLUMNS($A$5:Q46),0),\"\")","v":""},{"$f":"IFERROR(VLOOKUP($C$4&\"_\"&$A48,subject_wise,COLUMNS($A$5:R46),0),\"\")","v":""},{"$f":"IFERROR(VLOOKUP($C$4&\"_\"&$A48,subject_wise,COLUMNS($A$5:S46),0),\"\")","v":""},{"$f":"IFERROR(VLOOKUP($C$4&\"_\"&$A48,subject_wise,COLUMNS($A$5:T46),0),\"\")","v":""},{"$f":"IFERROR(VLOOKUP($C$4&\"_\"&$A48,subject_wise,COLUMNS($A$5:U46),0),\"\")","v":""},{"$f":"IFERROR(VLOOKUP($C$4&\"_\"&$A48,subject_wise,COLUMNS($A$5:V46),0),\"\")","v":""},{"$f":"IFERROR(VLOOKUP($C$4&\"_\"&$A48,subject_wise,COLUMNS($A$5:W46),0),\"\")","v":""},{"$f":"IFERROR(VLOOKUP($C$4&\"_\"&$A48,subject_wise,COLUMNS($A$5:X46),0),\"\")","v":""},{"$f":"IFERROR(VLOOKUP($C$4&\"_\"&$A48,subject_wise,COLUMNS($A$5:Y46),0),\"\")","v":""},{"$f":"IFERROR(VLOOKUP($C$4&\"_\"&$A48,subject_wise,COLUMNS($A$5:Z46),0),\"\")","v":""},{"$f":"IFERROR(VLOOKUP($C$4&\"_\"&$A48,subject_wise,COLUMNS($A$5:AA46),0),\"\")","v":""},{"$f":"IFERROR(VLOOKUP($C$4&\"_\"&$A48,subject_wise,COLUMNS($A$5:AB46),0),\"\")","v":""},{"$f":"IFERROR(VLOOKUP($C$4&\"_\"&$A48,subject_wise,COLUMNS($A$5:AC46),0),\"\")","v":""},{"$f":"IFERROR(VLOOKUP($C$4&\"_\"&$A48,subject_wise,COLUMNS($A$5:AD46),0),\"\")","v":""},{"$f":"IFERROR(VLOOKUP($C$4&\"_\"&$A48,subject_wise,COLUMNS($A$5:AE46),0),\"\")","v":""},{"$f":"IFERROR(VLOOKUP($C$4&\"_\"&$A48,subject_wise,COLUMNS($A$5:AF46),0),\"\")","v":""},{"$f":"IFERROR(VLOOKUP($C$4&\"_\"&$A48,subject_wise,COLUMNS($A$5:AG46),0),\"\")","v":""},{"$f":"IFERROR(VLOOKUP($C$4&\"_\"&$A48,subject_wise,COLUMNS($A$5:AH46),0),\"\")","v":""},{"$f":"IFERROR(VLOOKUP($C$4&\"_\"&$A48,subject_wise,COLUMNS($A$5:AI46),0),\"\")","v":""},{"$f":"IFERROR(VLOOKUP($C$4&\"_\"&$A48,subject_wise,COLUMNS($A$5:AJ46),0),\"\")","v":""}]

{"sheet":"gndrwise","index":11,"n_rows":48,"n_cols":35,"rows_kept":48,"merged":[[0,0,0,8],[0,9,0,16],[0,17,0,25],[0,26,0,34],[1,0,1,8],[1,9,1,16],[1,17,1,25],[1,26,1,34],[3,2,3,3],[3,5,3,13]]}
[{"$f":"'Basic Intro'!A1","v":"राजकीय उच्च माध्यमिक विद्यालय, रूपपुरा (कुचामन सिटी)"},{"$nulls":8},{"$f":"'Basic Intro'!A1","v":"राजकीय उच्च माध्यमिक विद्यालय, रूपपुरा (कुचामन सिटी)"},{"$nulls":7},{"$f":"'Basic Intro'!A1","v":"राजकीय उच्च माध्यमिक विद्यालय, रूपपुरा (कुचामन सिटी)"},{"$nulls":8},{"$f":"'Basic Intro'!A1","v":"राजकीय उच्च माध्यमिक विद्यालय, रूपपुरा (कुचामन सिटी)"}]
["पदवार कर्मचारी विवरण",{"$nulls":8},"पदवार कर्मचारी विवरण",{"$nulls":7},"पदवार कर्मचारी विवरण",{"$nulls":8},"पदवार कर्मचारी विवरण"]
[]
[null,"जेंडर का चयन करे -","Male",null,null,"जिस जेंडर के डाटा की आवशयकता हो वह जेंडर ड्राप डाउन लिस्ट में से चुने |"]
[]
["क्र.स.","नाम कर्मचारी","पिता/पति का नाम ","Employee ID","जन्म दिनाक ","जेंडर ","वर्ग","धर्म","दिव्यांग","वर्तमान पद","विषय","स्थाई/अस्थाई","ब्लड ग्रुप","पता","जिला","मोबाइल नंबर","ईमेल","बैंक अकाउंट नंबर","ब्रांच ","ब्रांच कोड","कार्यग्रहण तिथि","किसी भी सरकारी सेवा में कार्यग्रहण तिथि","शिक्षा विभाग में कार्यग्रहण तिथि","वर्तमान पद पर कार्यग्रहण तिथि","वर्तमान पद पर कार्यग्रहण तरीका","वर्तमान विद्यालय में कार्यग्रहण तिथि","जी.पी.एफ./प्राण नंबर","एस.आई. नंबर ","आधार नंबर","भामाशाह नंबर","पासपोर्ट नंबर","पैन नंबर","वर्तमान मूल वेतन ","उच्चतम शैक्षणिक योग्यता","उच्चतम प्रशैक्षणिक योग्यता"]
[1,{"$f":"IFERROR(VLOOKUP($C$4&\"_\"&$A7,gender_wise,COLUMNS($A$5:C5),0),\"\")","v":"श्री अश्विनी कुमार"},{"$f":"IFERROR(VLOOKUP($C$4&\"_\"&$A7,gender_wise,COLUMNS($A$5:D5),0),\"\")","v":"श्री मेघराज शर्मा"},{"$f":"IFERROR(VLOOKUP($C$4&\"_\"&$A7,gender_wise,COLUMNS($A$5:E5),0),\"\")","v":"RJNA201228008021"},{"$f":"IFERROR(VLOOKUP($C$4&\"_\"&$A7,gender_wise,COLUMNS($A$5:F5),0),\"\")","v":32179},{"$f":"IFERROR(VLOOKUP($C$4&\"_\"&$A7,gender_wise,COLUMNS($A$5:G5),0),\"\")","v":"Male"},{"$f":"IFERROR(VLOOKUP($C$4&\"_\"&$A7,gender_wise,COLUMNS($A$5:H5),0),\"\")","v":"Gen"},{"$f":"IFERROR(VLOOKUP($C$4&\"_\"&$A7,gender_wise,COLUMNS($A$5:I5),0),\"\")","v":"Hindu"},{"$f":"IFERROR(VLOOKUP($C$4&\"_\"&$A7,gender_wise,COLUMNS($A$5:J5),0),\"\")","v":"No"},{"$f":"IFERROR(VLOOKUP($C$4&\"_\"&$A7,gender_wise,COLUMNS($A$5:K5),0),\"\")","v":"वरिष्ठ अध्यापक"},{"$f":"IFERROR(VLOOKUP($C$4&\"_\"&$A7,gender_wise,COLUMNS($A$5:L5),0),\"\")","v":"English"},{"$f":"IFERROR(VLOOKUP($C$4&\"_\"&$A7,gender_wise,COLUMNS($A$5:M5),0),\"\")","v":"स्थाई"},{"$f":"IFERROR(VLOOKUP($C$4&\"_\"&$A7,gender_wise,COLUMNS($A$5:N5),0),\"\")","v":"O+"},{"$f":"IFERROR(VLOOKUP($C$4&\"_\"&$A7,gender_wise,COLUMNS($A$5:O5),0),\"\")","v":"कुचामन सिटी"},{"$f":"IFERROR(VLOOKUP($C$4&\"_\"&$A7,gender_wise,COLUMNS($A$5:P5),0),\"\")","v":"नागौर"},{"$f":"IFERROR(VLOOKUP($C$4&\"_\"&$A7,gender_wise,COLUMNS($A$5:Q5),0),\"\")","v":9166023711},{"$f":"IFERROR(VLOOKUP($C$4&\"_\"&$A7,gender_wise,COLUMNS($A$5:R5),0),\"\")","v":"sspkctakumar@gmail.com"},{"$f":"IFERROR(VLOOKUP($C$4&\"_\"&$A7,gender_wise,COLUMNS($A$5:S5),0),\"\")","v":610370000000},{"$f":"IFERROR(VLOOKUP($C$4&\"_\"&$A7,gender_wise,COLUMNS($A$5:T5),0),\"\")","v":"SBI"},{"$f":"IFERROR(VLOOKUP($C$4&\"_\"&$A7,gender_wise,COLUMNS($A$5:U5),0),\"\")","v":"SBIN0031733"},{"$f":"IFERROR(VLOOKUP($C$4&\"_\"&$A7,gender_wise,COLUMNS($A$5:V5),0),\"\")","v":40835},{"$f":"IFERROR(VLOOKUP($C$4&\"_\"&$A7,gender_wise,COLUMNS($A$5:W5),0),\"\")","v":40835},{"$f":"IFERROR(VLOOKUP($C$4&\"_\"&$A7,gender_wise,COLUMNS($A$5:X5),0),\"\")","v":40866},{"$f":"IFERROR(VLOOKUP($C$4&\"_\"&$A7,gender_wise,COLUMNS($A$5:Y5),0),\"\")","v":40866},{"$f":"IFERROR(VLOOKUP($C$4&\"_\"&$A7,gender_wise,COLUMNS($A$5:Z5),0),\"\")","v":0},{"$f":"IFERROR(VLOOKUP($C$4&\"_\"&$A7,gender_wise,COLUMNS($A$5:AA5),0),\"\")","v":40866},{"$f":"IFERROR(VLOOKUP($C$4&\"_\"&$A7,gender_wise,COLUMNS($A$5:AB5),0),\"\")","v":110000000000},{"$f":"IFERROR(VLOOKUP($C$4&\"_\"&$A7,gender_wise,COLUMNS($A$5:AC5),0),\"\")","v":6123456},{"$f":"IFERROR(VLOOKUP($C$4&\"_\"&$A7,gender_wise,COLUMNS($A$5:AD5),0),\"\")","v":123456781234},{"$f":"IFERROR(VLOOKUP($C$4&\"_\"&$A7,gender_wise,COLUMNS($A$5:AE5),0),\"\")","v":"ZXZXZXD"},{"$f":"IFERROR(VLOOKUP($C$4&\"_\"&$A7,gender_wise,COLUMNS($A$5:AF5),0),\"\")","v":0},{"$f":"IFERROR(VLOOKUP($C$4&\"_\"&$A7,gender_wise,COLUMNS($A$5:AG5),0),\"\")","v":"ABCDE1111F"},{"$f":"IFERROR(VLOOKUP($C$4&\"_\"&$A7,gender_wise,COLUMNS($A$5:AH5),0),\"\")","v":48500},{"$f":"IFERROR(VLOOKUP($C$4&\"_\"&$A7,gender_wise,COLUMNS($A$5:AI5),0),\"\")","v":"M.A."},{"$f":"IFERROR(VLOOKUP($C$4&\"_\"&$A7,gender_wise,COLUMNS($A$5:AJ5),0),\"\")","v":"M.Ed"}]
[2,{"$f":"IFERROR(VLOOKUP($C$4&\"_\"&$A8,gender_wise,COLUMNS($A$5:C6),0),\"\")","v":"श्री जावेद खान"},{"$f":"IFERROR(VLOOKUP($C$4&\"_\"&$A8,gender_wise,COLUMNS($A$5:D6),0),\"\")","v":"श्री"},{"$f":"IFERROR(VLOOKUP($C$4&\"_\"&$A8,gender_wise,COLUMNS($A$5:E6),0),\"\")","v":"RJNA201228008023"},{"$f":"IFERROR(VLOOKUP($C$4&\"_\"&$A8,gender_wise,COLUMNS($A$5:F6),0),\"\")","v":32181},{"$f":"IFERROR(VLOOKUP($C$4&\"_\"&$A8,gender_wise,COLUMNS($A$5:G6),0),\"\")","v":"Male"},{"$f":"IFERROR(VLOOKUP($C$4&\"_\"&$A8,gender_wise,COLUMNS($A$5:H6),0),\"\")","v":"OBC"},{"$f":"IFERROR(VLOOKUP($C$4&\"_\"&$A8,gender_wise,COLUMNS($A$5:I6),0),\"\")","v":"Muslim"},{"$f":"IFERROR(VLOOKUP($C$4&\"_\"&$A8,gender_wise,COLUMNS($A$5:J6),0),\"\")","v":"Yes"},{"$f":"IFERROR(VLOOKUP($C$4&\"_\"&$A8,gender_wise,COLUMNS($A$5:K6),0),\"\")","v":"प्रधानाचार्य"},{"$f":"IFERROR(VLOOKUP($C$4&\"_\"&$A8,gender_wise,COLUMNS($A$5:L6),0),\"\")","v":"Agriculture"},{"$f":"IFERROR(VLOOKUP($C$4&\"_\"&$A8,gender_wise,COLUMNS($A$5:M6),0),\"\")","v":"अस्थाई"},{"$f":"IFERROR(VLOOKUP($C$4&\"_\"&$A8,gender_wise,COLUMNS($A$5:N6),0),\"\")","v":"AB+"},{"$f":"IFERROR(VLOOKUP($C$4&\"_\"&$A8,gender_wise,COLUMNS($A$5:O6),0),\"\")","v":"कुचामन सिटी"},{"$f":"IFERROR(VLOOKUP($C$4&\"_\"&$A8,gender_wise,COLUMNS($A$5:P6),0),\"\")","v":"नागौर"},{"$f":"IFERROR(VLOOKUP($C$4&\"_\"&$A8,gender_wise,COLUMNS($A$5:Q6),0),\"\")","v":9166023711},{"$f":"IFERROR(VLOOKUP($C$4&\"_\"&$A8,gender_wise,COLUMNS($A$5:R6),0),\"\")","v":"sspkctakumar@gmail.com"},{"$f":"IFERROR(VLOOKUP($C$4&\"_\"&$A8,gender_wise,COLUMNS($A$5:S6),0),\"\")","v":610370000000},{"$f":"IFERROR(VLOOKUP($C$4&\"_\"&$A8,gender_wise,COLUMNS($A$5:T6),0),\"\")","v":"SBI"},{"$f":"IFERROR(VLOOKUP($C$4&\"_\"&$A8,gender_wise,COLUMNS($A$5:U6),0),\"\")","v":"SBIN0031733"},{"$f":"IFERROR(VLOOKUP($C$4&\"_\"&$A8,gender_wise,COLUMNS($A$5:V6),0),\"\")","v":40835},{"$f":"IFERROR(VLOOKUP($C$4&\"_\"&$A8,gender_wise,COLUMNS($A$5:W6),0),\"\")","v":40835},{"$f":"IFERROR(VLOOKUP($C$4&\"_\"&$A8,gender_wise,COLUMNS($A$5:X6),0),\"\")","v":40866},{"$f":"IFERROR(VLOOKUP($C$4&\"_\"&$A8,gender_wise,COLUMNS($A$5:Y6),0),\"\")","v":40866},{"$f":"IFERROR(VLOOKUP($C$4&\"_\"&$A8,gender_wise,COLUMNS($A$5:Z6),0),\"\")","v":0},{"$f":"IFERROR(VLOOKUP($C$4&\"_\"&$A8,gender_wise,COLUMNS($A$5:AA6),0),\"\")","v":40866},{"$f":"IFERROR(VLOOKUP($C$4&\"_\"&$A8,gender_wise,COLUMNS($A$5:AB6),0),\"\")","v":110000000000},{"$f":"IFERROR(VLOOKUP($C$4&\"_\"&$A8,gender_wise,COLUMNS($A$5:AC6),0),\"\")","v":6123456},{"$f":"IFERROR(VLOOKUP($C$4&\"_\"&$A8,gender_wise,COLUMNS($A$5:AD6),0),\"\")","v":123456781234},{"$f":"IFERROR(VLOOKUP($C$4&\"_\"&$A8,gender_wise,COLUMNS($A$5:AE6),0),\"\")","v":"ZXZXZXD"},{"$f":"IFERROR(VLOOKUP($C$4&\"_\"&$A8,gender_wise,COLUMNS($A$5:AF6),0),\"\")","v":0},{"$f":"IFERROR(VLOOKUP($C$4&\"_\"&$A8,gender_wise,COLUMNS($A$5:AG6),0),\"\")","v":"ABCDE1111F"},{"$f":"IFERROR(VLOOKUP($C$4&\"_\"&$A8,gender_wise,COLUMNS($A$5:AH6),0),\"\")","v":48500},{"$f":"IFERROR(VLOOKUP($C$4&\"_\"&$A8,gender_wise,COLUMNS($A$5:AI6),0),\"\")","v":"M.A."},{"$f":"IFERROR(VLOOKUP($C$4&\"_\"&$A8,gender_wise,COLUMNS($A$5:AJ6),0),\"\")","v":"M.Ed"}]
[3,{"$f":"IFERROR(VLOOKUP($C$4&\"_\"&$A9,gender_wise,COLUMNS($A$5:C7),0),\"\")","v":""},{"$f":"IFERROR(VLOOKUP($C$4&\"_\"&$A9,gender_wise,COLUMNS($A$5:D7),0),\"\")","v":""},{"$f":"IFERROR(VLOOKUP($C$4&\"_\"&$A9,gender_wise,COLUMNS($A$5:E7),0),\"\")","v":""},{"$f":"IFERROR(VLOOKUP($C$4&\"_\"&$A9,gender_wise,COLUMNS($A$5:F7),0),\"\")","v":""},{"$f":"IFERROR(VLOOKUP($C$4&\"_\"&$A9,gender_wise,COLUMNS($A$5:G7),0),\"\")","v":""},{"$f":"IFERROR(VLOOKUP($C$4&\"_\"&$A9,gender_wise,COLUMNS($A$5:H7),0),\"\")","v":""},{"$f":"IFERROR(VLOOKUP($C$4&\"_\"&$A9,gender_wise,COLUMNS($A$5:I7),0),\"\")","v":""},{"$f":"IFERROR(VLOOKUP($C$4&\"_\"&$A9,gender_wise,COLUMNS($A$5:J7),0),\"\")","v":""},{"$f":"IFERROR(VLOOKUP($C$4&\"_\"&$A9,gender_wise,COLUMNS($A$5:K7),0),\"\")","v":""},{"$f":"IFERROR(VLOOKUP($C$4&\"_\"&$A9,gender_wise,COLUMNS($A$5:L7),0),\"\")","v":""},{"$f":"IFERROR(VLOOKUP($C$4&\"_\"&$A9,gender_wise,COLUMNS($A$5:M7),0),\"\")","v":""},{"$f":"IFERROR(VLOOKUP($C$4&\"_\"&$A9,gender_wise,COLUMNS($A$5:N7),0),\"\")","v":""},{"$f":"IFERROR(VLOOKUP($C$4&\"_\"&$A9,gender_wise,COLUMNS($A$5:O7),0),\"\")","v":""},{"$f":"IFERROR(VLOOKUP($C$4&\"_\"&$A9,gender_wise,COLUMNS($A$5:P7),0),\"\")","v":""},{"$f":"IFERROR(VLOOKUP($C$4&\"_\"&$A9,gender_wise,COLUMNS($A$5:Q7),0),\"\")","v":""},{"$f":"IFERROR(VLOOKUP($C$4&\"_\"&$A9,gender_wise,COLUMNS($A$5:R7),0),\"\")","v":""},{"$f":"IFERROR(VLOOKUP($C$4&\"_\"&$A9,gender_wise,COLUMNS($A$5:S7),0),\"\")","v":""},{"$f":"IFERROR(VLOOKUP($C$4&\"_\"&$A9,gender_wise,COLUMNS($A$5:T7),0),\"\")","v":""},{"$f":"IFERROR(VLOOKUP($C$4&\"_\"&$A9,gender_wise,COLUMNS($A$5:U7),0),\"\")","v":""},{"$f":"IFERROR(VLOOKUP($C$4&\"_\"&$A9,gender_wise,COLUMNS($A$5:V7),0),\"\")","v":""},{"$f":"IFERROR(VLOOKUP($C$4&\"_\"&$A9,gender_wise,COLUMNS($A$5:W7),0),\"\")","v":""},{"$f":"IFERROR(VLOOKUP($C$4&\"_\"&$A9,gender_wise,COLUMNS($A$5:X7),0),\"\")","v":""},{"$f":"IFERROR(VLOOKUP($C$4&\"_\"&$A9,gender_wise,COLUMNS($A$5:Y7),0),\"\")","v":""},{"$f":"IFERROR(VLOOKUP($C$4&\"_\"&$A9,gender_wise,COLUMNS($A$5:Z7),0),\"\")","v":""},{"$f":"IFERROR(VLOOKUP($C$4&\"_\"&$A9,gender_wise,COLUMNS($A$5:AA7),0),\"\")","v":""},{"$f":"IFERROR(VLOOKUP($C$4&\"_\"&$A9,gender_wise,COLUMNS($A$5:AB7),0),\"\")","v":""},{"$f":"IFERROR(VLOOKUP($C$4&\"_\"&$A9,gender_wise,COLUMNS($A$5:AC7),0),\"\")","v":""},{"$f":"IFERROR(VLOOKUP($C$4&\"_\"&$A9,gender_wise,COLUMNS($A$5:AD7),0),\"\")","v":""},{"$f":"IFERROR(VLOOKUP($C$4&\"_\"&$A9,gender_wise,COLUMNS($A$5:AE7),0),\"\")","v":""},{"$f":"IFERROR(VLOOKUP($C$4&\"_\"&$A9,gender_wise,COLUMNS($A$5:AF7),0),\"\")","v":""},{"$f":"IFERROR(VLOOKUP($C$4&\"_\"&$A9,gender_wise,COLUMNS($A$5:AG7),0),\"\")","v":""},{"$f":"IFERROR(VLOOKUP($C$4&\"_\"&$A9,gender_wise,COLUMNS($A$5:AH7),0),\"\")","v":""},{"$f":"IFERROR(VLOOKUP($C$4&\"_\"&$A9,gender_wise,COLUMNS($A$5:AI7),0),\"\")","v":""},{"$f":"IFERROR(VLOOKUP($C$4&\"_\"&$A9,gender_wise,COLUMNS($A$5:AJ7),0),\"\")","v":""}]
[4,{"$f":"IFERROR(VLOOKUP($C$4&\"_\"&$A10,gender_wise,COLUMNS($A$5:C8),0),\"\")","v":""},{"$f":"IFERROR(VLOOKUP($C$4&\"_\"&$A10,gender_wise,COLUMNS($A$5:D8),0),\"\")","v":""},{"$f":"IFERROR(VLOOKUP($C$4&\"_\"&$A10,gender_wise,COLUMNS($A$5:E8),0),\"\")","v":""},{"$f":"IFERROR(VLOOKUP($C$4&\"_\"&$A10,gender_wise,COLUMNS($A$5:F8),0),\"\")","v":""},{"$f":"IFERROR(VLOOKUP($C$4&\"_\"&$A10,gender_wise,COLUMNS($A$5:G8),0),\"\")","v":""},{"$f":"IFERROR(VLOOKUP($C$4&\"_\"&$A10,gender_wise,COLUMNS($A$5:H8),0),\"\")","v":""},{"$f":"IFERROR(VLOOKUP($C$4&\"_\"&$A10,gender_wise,COLUMNS($A$5:I8),0),\"\")","v":""},{"$f":"IFERROR(VLOOKUP($C$4&\"_\"&$A10,gender_wise,COLUMNS($A$5:J8),0),\"\")","v":""},{"$f":"IFERROR(VLOOKUP($C$4&\"_\"&$A10,gender_wise,COLUMNS($A$5:K8),0),\"\")","v":""},{"$f":"IFERROR(VLOOKUP($C$4&\"_\"&$A10,gender_wise,COLUMNS($A$5:L8),0),\"\")","v":""},{"$f":"IFERROR(VLOOKUP($C$4&\"_\"&$A10,gender_wise,COLUMNS($A$5:M8),0),\"\")","v":""},{"$f":"IFERROR(VLOOKUP($C$4&\"_\"&$A10,gender_wise,COLUMNS($A$5:N8),0),\"\")","v":""},{"$f":"IFERROR(VLOOKUP($C$4&\"_\"&$A10,gender_wise,COLUMNS($A$5:O8),0),\"\")","v":""},{"$f":"IFERROR(VLOOKUP($C$4&\"_\"&$A10,gender_wise,COLUMNS($A$5:P8),0),\"\")","v":""},{"$f":"IFERROR(VLOOKUP($C$4&\"_\"&$A10,gender_wise,COLUMNS($A$5:Q8),0),\"\")","v":""},{"$f":"IFERROR(VLOOKUP($C$4&\"_\"&$A10,gender_wise,COLUMNS($A$5:R8),0),\"\")","v":""},{"$f":"IFERROR(VLOOKUP($C$4&\"_\"&$A10,gender_wise,COLUMNS($A$5:S8),0),\"\")","v":""},{"$f":"IFERROR(VLOOKUP($C$4&\"_\"&$A10,gender_wise,COLUMNS($A$5:T8),0),\"\")","v":""},{"$f":"IFERROR(VLOOKUP($C$4&\"_\"&$A10,gender_wise,COLUMNS($A$5:U8),0),\"\")","v":""},{"$f":"IFERROR(VLOOKUP($C$4&\"_\"&$A10,gender_wise,COLUMNS($A$5:V8),0),\"\")","v":""},{"$f":"IFERROR(VLOOKUP($C$4&\"_\"&$A10,gender_wise,COLUMNS($A$5:W8),0),\"\")","v":""},{"$f":"IFERROR(VLOOKUP($C$4&\"_\"&$A10,gender_wise,COLUMNS($A$5:X8),0),\"\")","v":""},{"$f":"IFERROR(VLOOKUP($C$4&\"_\"&$A10,gender_wise,COLUMNS($A$5:Y8),0),\"\")","v":""},{"$f":"IFERROR(VLOOKUP($C$4&\"_\"&$A10,gender_wise,COLUMNS($A$5:Z8),0),\"\")","v":""},{"$f":"IFERROR(VLOOKUP($C$4&\"_\"&$A10,gender_wise,COLUMNS($A$5:AA8),0),\"\")","v":""},{"$f":"IFERROR(VLOOKUP($C$4&\"_\"&$A10,gender_wise,COLUMNS($A$5:AB8),0),\"\")","v":""},{"$f":"IFERROR(VLOOKUP($C$4&\"_\"&$A10,gender_wise,COLUMNS($A$5:AC8),0),\"\")","v":""},{"$f":"IFERROR(VLOOKUP($C$4&\"_\"&$A10,gender_wise,COLUMNS($A$5:AD8),0),\"\")","v":""},{"$f":"IFERROR(VLOOKUP($C$4&\"_\"&$A10,gender_wise,COLUMNS($A$5:AE8),0),\"\")","v":""},{"$f":"IFERROR(VLOOKUP($C$4&\"_\"&$A10,gender_wise,COLUMNS($A$5:AF8),0),\"\")","v":""},{"$f":"IFERROR(VLOOKUP($C$4&\"_\"&$A10,gender_wise,COLUMNS($A$5:AG8),0),\"\")","v":""},{"$f":"IFERROR(VLOOKUP($C$4&\"_\"&$A10,gender_wise,COLUMNS($A$5:AH8),0),\"\")","v":""},{"$f":"IFERROR(VLOOKUP($C$4&\"_\"&$A10,gender_wise,COLUMNS($A$5:AI8),0),\"\")","v":""},{"$f":"IFERROR(VLOOKUP($C$4&\"_\"&$A10,gender_wise,COLUMNS($A$5:AJ8),0),\"\")","v":""}]
[5,{"$f":"IFERROR(VLOOKUP($C$4&\"_\"&$A11,gender_wise,COLUMNS($A$5:C9),0),\"\")","v":""},{"$f":"IFERROR(VLOOKUP($C$4&\"_\"&$A11,gender_wise,COLUMNS($A$5:D9),0),\"\")","v":""},{"$f":"IFERROR(VLOOKUP($C$4&\"_\"&$A11,gender_wise,COLUMNS($A$5:E9),0),\"\")","v":""},{"$f":"IFERROR(VLOOKUP($C$4&\"_\"&$A11,gender_wise,COLUMNS($A$5:F9),0),\"\")","v":""},{"$f":"IFERROR(VLOOKUP($C$4&\"_\"&$A11,gender_wise,COLUMNS($A$5:G9),0),\"\")","v":""},{"$f":"IFERROR(VLOOKUP($C$4&\"_\"&$A11,gender_wise,COLUMNS($A$5:H9),0),\"\")","v":""},{"$f":"IFERROR(VLOOKUP($C$4&\"_\"&$A11,gender_wise,COLUMNS($A$5:I9),0),\"\")","v":""},{"$f":"IFERROR(VLOOKUP($C$4&\"_\"&$A11,gender_wise,COLUMNS($A$5:J9),0),\"\")","v":""},{"$f":"IFERROR(VLOOKUP($C$4&\"_\"&$A11,gender_wise,COLUMNS($A$5:K9),0),\"\")","v":""},{"$f":"IFERROR(VLOOKUP($C$4&\"_\"&$A11,gender_wise,COLUMNS($A$5:L9),0),\"\")","v":""},{"$f":"IFERROR(VLOOKUP($C$4&\"_\"&$A11,gender_wise,COLUMNS($A$5:M9),0),\"\")","v":""},{"$f":"IFERROR(VLOOKUP($C$4&\"_\"&$A11,gender_wise,COLUMNS($A$5:N9),0),\"\")","v":""},{"$f":"IFERROR(VLOOKUP($C$4&\"_\"&$A11,gender_wise,COLUMNS($A$5:O9),0),\"\")","v":""},{"$f":"IFERROR(VLOOKUP($C$4&\"_\"&$A11,gender_wise,COLUMNS($A$5:P9),0),\"\")","v":""},{"$f":"IFERROR(VLOOKUP($C$4&\"_\"&$A11,gender_wise,COLUMNS($A$5:Q9),0),\"\")","v":""},{"$f":"IFERROR(VLOOKUP($C$4&\"_\"&$A11,gender_wise,COLUMNS($A$5:R9),0),\"\")","v":""},{"$f":"IFERROR(VLOOKUP($C$4&\"_\"&$A11,gender_wise,COLUMNS($A$5:S9),0),\"\")","v":""},{"$f":"IFERROR(VLOOKUP($C$4&\"_\"&$A11,gender_wise,COLUMNS($A$5:T9),0),\"\")","v":""},{"$f":"IFERROR(VLOOKUP($C$4&\"_\"&$A11,gender_wise,COLUMNS($A$5:U9),0),\"\")","v":""},{"$f":"IFERROR(VLOOKUP($C$4&\"_\"&$A11,gender_wise,COLUMNS($A$5:V9),0),\"\")","v":""},{"$f":"IFERROR(VLOOKUP($C$4&\"_\"&$A11,gender_wise,COLUMNS($A$5:W9),0),\"\")","v":""},{"$f":"IFERROR(VLOOKUP($C$4&\"_\"&$A11,gender_wise,COLUMNS($A$5:X9),0),\"\")","v":""},{"$f":"IFERROR(VLOOKUP($C$4&\"_\"&$A11,gender_wise,COLUMNS($A$5:Y9),0),\"\")","v":""},{"$f":"IFERROR(VLOOKUP($C$4&\"_\"&$A11,gender_wise,COLUMNS($A$5:Z9),0),\"\")","v":""},{"$f":"IFERROR(VLOOKUP($C$4&\"_\"&$A11,gender_wise,COLUMNS($A$5:AA9),0),\"\")","v":""},{"$f":"IFERROR(VLOOKUP($C$4&\"_\"&$A11,gender_wise,COLUMNS($A$5:AB9),0),\"\")","v":""},{"$f":"IFERROR(VLOOKUP($C$4&\"_\"&$A11,gender_wise,COLUMNS($A$5:AC9),0),\"\")","v":""},{"$f":"IFERROR(VLOOKUP($C$4&\"_\"&$A11,gender_wise,COLUMNS($A$5:AD9),0),\"\")","v":""},{"$f":"IFERROR(VLOOKUP($C$4&\"_\"&$A11,gender_wise,COLUMNS($A$5:AE9),0),\"\")","v":""},{"$f":"IFERROR(VLOOKUP($C$4&\"_\"&$A11,gender_wise,COLUMNS($A$5:AF9),0),\"\")","v":""},{"$f":"IFERROR(VLOOKUP($C$4&\"_\"&$A11,gender_wise,COLUMNS($A$5:AG9),0),\"\")","v":""},{"$f":"IFERROR(VLOOKUP($C$4&\"_\"&$A11,gender_wise,COLUMNS($A$5:AH9),0),\"\")","v":""},{"$f":"IFERROR(VLOOKUP($C$4&\"_\"&$A11,gender_wise,COLUMNS($A$5:AI9),0),\"\")","v":""},{"$f":"IFERROR(VLOOKUP($C$4&\"_\"&$A11,gender_wise,COLUMNS($A$5:AJ9),0),\"\")","v":""}]
[6,{"$f":"IFERROR(VLOOKUP($C$4&\"_\"&$A12,gender_wise,COLUMNS($A$5:C10),0),\"\")","v":""},{"$f":"IFERROR(VLOOKUP($C$4&\"_\"&$A12,gender_wise,COLUMNS($A$5:D10),0),\"\")","v":""},{"$f":"IFERROR(VLOOKUP($C$4&\"_\"&$A12,gender_wise,COLUMNS($A$5:E10),0),\"\")","v":""},{"$f":"IFERROR(VLOOKUP($C$4&\"_\"&$A12,gender_wise,COLUMNS($A$5:F10),0),\"\")","v":""},{"$f":"IFERROR(VLOOKUP($C$4&\"_\"&$A12,gender_wise,COLUMNS($A$5:G10),0),\"\")","v":""},{"$f":"IFERROR(VLOOKUP($C$4&\"_\"&$A12,gender_wise,COLUMNS($A$5:H10),0),\"\")","v":""},{"$f":"IFERROR(VLOOKUP($C$4&\"_\"&$A12,gender_wise,COLUMNS($A$5:I10),0),\"\")","v":""},{"$f":"IFERROR(VLOOKUP($C$4&\"_\"&$A12,gender_wise,COLUMNS($A$5:J10),0),\"\")","v":""},{"$f":"IFERROR(VLOOKUP($C$4&\"_\"&$A12,gender_wise,COLUMNS($A$5:K10),0),\"\")","v":""},{"$f":"IFERROR(VLOOKUP($C$4&\"_\"&$A12,gender_wise,COLUMNS($A$5:L10),0),\"\")","v":""},{"$f":"IFERROR(VLOOKUP($C$4&\"_\"&$A12,gender_wise,COLUMNS($A$5:M10),0),\"\")","v":""},{"$f":"IFERROR(VLOOKUP($C$4&\"_\"&$A12,gender_wise,COLUMNS($A$5:N10),0),\"\")","v":""},{"$f":"IFERROR(VLOOKUP($C$4&\"_\"&$A12,gender_wise,COLUMNS($A$5:O10),0),\"\")","v":""},{"$f":"IFERROR(VLOOKUP($C$4&\"_\"&$A12,gender_wise,COLUMNS($A$5:P10),0),\"\")","v":""},{"$f":"IFERROR(VLOOKUP($C$4&\"_\"&$A12,gender_wise,COLUMNS($A$5:Q10),0),\"\")","v":""},{"$f":"IFERROR(VLOOKUP($C$4&\"_\"&$A12,gender_wise,COLUMNS($A$5:R10),0),\"\")","v":""},{"$f":"IFERROR(VLOOKUP($C$4&\"_\"&$A12,gender_wise,COLUMNS($A$5:S10),0),\"\")","v":""},{"$f":"IFERROR(VLOOKUP($C$4&\"_\"&$A12,gender_wise,COLUMNS($A$5:T10),0),\"\")","v":""},{"$f":"IFERROR(VLOOKUP($C$4&\"_\"&$A12,gender_wise,COLUMNS($A$5:U10),0),\"\")","v":""},{"$f":"IFERROR(VLOOKUP($C$4&\"_\"&$A12,gender_wise,COLUMNS($A$5:V10),0),\"\")","v":""},{"$f":"IFERROR(VLOOKUP($C$4&\"_\"&$A12,gender_wise,COLUMNS($A$5:W10),0),\"\")","v":""},{"$f":"IFERROR(VLOOKUP($C$4&\"_\"&$A12,gender_wise,COLUMNS($A$5:X10),0),\"\")","v":""},{"$f":"IFERROR(VLOOKUP($C$4&\"_\"&$A12,gender_wise,COLUMNS($A$5:Y10),0),\"\")","v":""},{"$f":"IFERROR(VLOOKUP($C$4&\"_\"&$A12,gender_wise,COLUMNS($A$5:Z10),0),\"\")","v":""},{"$f":"IFERROR(VLOOKUP($C$4&\"_\"&$A12,gender_wise,COLUMNS($A$5:AA10),0),\"\")","v":""},{"$f":"IFERROR(VLOOKUP($C$4&\"_\"&$A12,gender_wise,COLUMNS($A$5:AB10),0),\"\")","v":""},{"$f":"IFERROR(VLOOKUP($C$4&\"_\"&$A12,gender_wise,COLUMNS($A$5:AC10),0),\"\")","v":""},{"$f":"IFERROR(VLOOKUP($C$4&\"_\"&$A12,gender_wise,COLUMNS($A$5:AD10),0),\"\")","v":""},{"$f":"IFERROR(VLOOKUP($C$4&\"_\"&$A12,gender_wise,COLUMNS($A$5:AE10),0),\"\")","v":""},{"$f":"IFERROR(VLOOKUP($C$4&\"_\"&$A12,gender_wise,COLUMNS($A$5:AF10),0),\"\")","v":""},{"$f":"IFERROR(VLOOKUP($C$4&\"_\"&$A12,gender_wise,COLUMNS($A$5:AG10),0),\"\")","v":""},{"$f":"IFERROR(VLOOKUP($C$4&\"_\"&$A12,gender_wise,COLUMNS($A$5:AH10),0),\"\")","v":""},{"$f":"IFERROR(VLOOKUP($C$4&\"_\"&$A12,gender_wise,COLUMNS($A$5:AI10),0),\"\")","v":""},{"$f":"IFERROR(VLOOKUP($C$4&\"_\"&$A12,gender_wise,COLUMNS($A$5:AJ10),0),\"\")","v":""}]
[7,{"$f":"IFERROR(VLOOKUP($C$4&\"_\"&$A13,gender_wise,COLUMNS($A$5:C11),0),\"\")","v":""},{"$f":"IFERROR(VLOOKUP($C$4&\"_\"&$A13,gender_wise,COLUMNS($A$5:D11),0),\"\")","v":""},{"$f":"IFERROR(VLOOKUP($C$4&\"_\"&$A13,gender_wise,COLUMNS($A$5:E11),0),\"\")","v":""},{"$f":"IFERROR(VLOOKUP($C$4&\"_\"&$A13,gender_wise,COLUMNS($A$5:F11),0),\"\")","v":""},{"$f":"IFERROR(VLOOKUP($C$4&\"_\"&$A13,gender_wise,COLUMNS($A$5:G11),0),\"\")","v":""},{"$f":"IFERROR(VLOOKUP($C$4&\"_\"&$A13,gender_wise,COLUMNS($A$5:H11),0),\"\")","v":""},{"$f":"IFERROR(VLOOKUP($C$4&\"_\"&$A13,gender_wise,COLUMNS($A$5:I11),0),\"\")","v":""},{"$f":"IFERROR(VLOOKUP($C$4&\"_\"&$A13,gender_wise,COLUMNS($A$5:J11),0),\"\")","v":""},{"$f":"IFERROR(VLOOKUP($C$4&\"_\"&$A13,gender_wise,COLUMNS($A$5:K11),0),\"\")","v":""},{"$f":"IFERROR(VLOOKUP($C$4&\"_\"&$A13,gender_wise,COLUMNS($A$5:L11),0),\"\")","v":""},{"$f":"IFERROR(VLOOKUP($C$4&\"_\"&$A13,gender_wise,COLUMNS($A$5:M11),0),\"\")","v":""},{"$f":"IFERROR(VLOOKUP($C$4&\"_\"&$A13,gender_wise,COLUMNS($A$5:N11),0),\"\")","v":""},{"$f":"IFERROR(VLOOKUP($C$4&\"_\"&$A13,gender_wise,COLUMNS($A$5:O11),0),\"\")","v":""},{"$f":"IFERROR(VLOOKUP($C$4&\"_\"&$A13,gender_wise,COLUMNS($A$5:P11),0),\"\")","v":""},{"$f":"IFERROR(VLOOKUP($C$4&\"_\"&$A13,gender_wise,COLUMNS($A$5:Q11),0),\"\")","v":""},{"$f":"IFERROR(VLOOKUP($C$4&\"_\"&$A13,gender_wise,COLUMNS($A$5:R11),0),\"\")","v":""},{"$f":"IFERROR(VLOOKUP($C$4&\"_\"&$A13,gender_wise,COLUMNS($A$5:S11),0),\"\")","v":""},{"$f":"IFERROR(VLOOKUP($C$4&\"_\"&$A13,gender_wise,COLUMNS($A$5:T11),0),\"\")","v":""},{"$f":"IFERROR(VLOOKUP($C$4&\"_\"&$A13,gender_wise,COLUMNS($A$5:U11),0),\"\")","v":""},{"$f":"IFERROR(VLOOKUP($C$4&\"_\"&$A13,gender_wise,COLUMNS($A$5:V11),0),\"\")","v":""},{"$f":"IFERROR(VLOOKUP($C$4&\"_\"&$A13,gender_wise,COLUMNS($A$5:W11),0),\"\")","v":""},{"$f":"IFERROR(VLOOKUP($C$4&\"_\"&$A13,gender_wise,COLUMNS($A$5:X11),0),\"\")","v":""},{"$f":"IFERROR(VLOOKUP($C$4&\"_\"&$A13,gender_wise,COLUMNS($A$5:Y11),0),\"\")","v":""},{"$f":"IFERROR(VLOOKUP($C$4&\"_\"&$A13,gender_wise,COLUMNS($A$5:Z11),0),\"\")","v":""},{"$f":"IFERROR(VLOOKUP($C$4&\"_\"&$A13,gender_wise,COLUMNS($A$5:AA11),0),\"\")","v":""},{"$f":"IFERROR(VLOOKUP($C$4&\"_\"&$A13,gender_wise,COLUMNS($A$5:AB11),0),\"\")","v":""},{"$f":"IFERROR(VLOOKUP($C$4&\"_\"&$A13,gender_wise,COLUMNS($A$5:AC11),0),\"\")","v":""},{"$f":"IFERROR(VLOOKUP($C$4&\"_\"&$A13,gender_wise,COLUMNS($A$5:AD11),0),\"\")","v":""},{"$f":"IFERROR(VLOOKUP($C$4&\"_\"&$A13,gender_wise,COLUMNS($A$5:AE11),0),\"\")","v":""},{"$f":"IFERROR(VLOOKUP($C$4&\"_\"&$A13,gender_wise,COLUMNS($A$5:AF11),0),\"\")","v":""},{"$f":"IFERROR(VLOOKUP($C$4&\"_\"&$A13,gender_wise,COLUMNS($A$5:AG11),0),\"\")","v":""},{"$f":"IFERROR(VLOOKUP($C$4&\"_\"&$A13,gender_wise,COLUMNS($A$5:AH11),0),\"\")","v":""},{"$f":"IFERROR(VLOOKUP($C$4&\"_\"&$A13,gender_wise,COLUMNS($A$5:AI11),0),\"\")","v":""},{"$f":"IFERROR(VLOOKUP($C$4&\"_\"&$A13,gender_wise,COLUMNS($A$5:AJ11),0),\"\")","v":""}]
[8,{"$f":"IFERROR(VLOOKUP($C$4&\"_\"&$A14,gender_wise,COLUMNS($A$5:C12),0),\"\")","v":""},{"$f":"IFERROR(VLOOKUP($C$4&\"_\"&$A14,gender_wise,COLUMNS($A$5:D12),0),\"\")","v":""},{"$f":"IFERROR(VLOOKUP($C$4&\"_\"&$A14,gender_wise,COLUMNS($A$5:E12),0),\"\")","v":""},{"$f":"IFERROR(VLOOKUP($C$4&\"_\"&$A14,gender_wise,COLUMNS($A$5:F12),0),\"\")","v":""},{"$f":"IFERROR(VLOOKUP($C$4&\"_\"&$A14,gender_wise,COLUMNS($A$5:G12),0),\"\")","v":""},{"$f":"IFERROR(VLOOKUP($C$4&\"_\"&$A14,gender_wise,COLUMNS($A$5:H12),0),\"\")","v":""},{"$f":"IFERROR(VLOOKUP($C$4&\"_\"&$A14,gender_wise,COLUMNS($A$5:I12),0),\"\")","v":""},{"$f":"IFERROR(VLOOKUP($C$4&\"_\"&$A14,gender_wise,COLUMNS($A$5:J12),0),\"\")","v":""},{"$f":"IFERROR(VLOOKUP($C$4&\"_\"&$A14,gender_wise,COLUMNS($A$5:K12),0),\"\")","v":""},{"$f":"IFERROR(VLOOKUP($C$4&\"_\"&$A14,gender_wise,COLUMNS($A$5:L12),0),\"\")","v":""},{"$f":"IFERROR(VLOOKUP($C$4&\"_\"&$A14,gender_wise,COLUMNS($A$5:M12),0),\"\")","v":""},{"$f":"IFERROR(VLOOKUP($C$4&\"_\"&$A14,gender_wise,COLUMNS($A$5:N12),0),\"\")","v":""},{"$f":"IFERROR(VLOOKUP($C$4&\"_\"&$A14,gender_wise,COLUMNS($A$5:O12),0),\"\")","v":""},{"$f":"IFERROR(VLOOKUP($C$4&\"_\"&$A14,gender_wise,COLUMNS($A$5:P12),0),\"\")","v":""},{"$f":"IFERROR(VLOOKUP($C$4&\"_\"&$A14,gender_wise,COLUMNS($A$5:Q12),0),\"\")","v":""},{"$f":"IFERROR(VLOOKUP($C$4&\"_\"&$A14,gender_wise,COLUMNS($A$5:R12),0),\"\")","v":""},{"$f":"IFERROR(VLOOKUP($C$4&\"_\"&$A14,gender_wise,COLUMNS($A$5:S12),0),\"\")","v":""},{"$f":"IFERROR(VLOOKUP($C$4&\"_\"&$A14,gender_wise,COLUMNS($A$5:T12),0),\"\")","v":""},{"$f":"IFERROR(VLOOKUP($C$4&\"_\"&$A14,gender_wise,COLUMNS($A$5:U12),0),\"\")","v":""},{"$f":"IFERROR(VLOOKUP($C$4&\"_\"&$A14,gender_wise,COLUMNS($A$5:V12),0),\"\")","v":""},{"$f":"IFERROR(VLOOKUP($C$4&\"_\"&$A14,gender_wise,COLUMNS($A$5:W12),0),\"\")","v":""},{"$f":"IFERROR(VLOOKUP($C$4&\"_\"&$A14,gender_wise,COLUMNS($A$5:X12),0),\"\")","v":""},{"$f":"IFERROR(VLOOKUP($C$4&\"_\"&$A14,gender_wise,COLUMNS($A$5:Y12),0),\"\")","v":""},{"$f":"IFERROR(VLOOKUP($C$4&\"_\"&$A14,gender_wise,COLUMNS($A$5:Z12),0),\"\")","v":""},{"$f":"IFERROR(VLOOKUP($C$4&\"_\"&$A14,gender_wise,COLUMNS($A$5:AA12),0),\"\")","v":""},{"$f":"IFERROR(VLOOKUP($C$4&\"_\"&$A14,gender_wise,COLUMNS($A$5:AB12),0),\"\")","v":""},{"$f":"IFERROR(VLOOKUP($C$4&\"_\"&$A14,gender_wise,COLUMNS($A$5:AC12),0),\"\")","v":""},{"$f":"IFERROR(VLOOKUP($C$4&\"_\"&$A14,gender_wise,COLUMNS($A$5:AD12),0),\"\")","v":""},{"$f":"IFERROR(VLOOKUP($C$4&\"_\"&$A14,gender_wise,COLUMNS($A$5:AE12),0),\"\")","v":""},{"$f":"IFERROR(VLOOKUP($C$4&\"_\"&$A14,gender_wise,COLUMNS($A$5:AF12),0),\"\")","v":""},{"$f":"IFERROR(VLOOKUP($C$4&\"_\"&$A14,gender_wise,COLUMNS($A$5:AG12),0),\"\")","v":""},{"$f":"IFERROR(VLOOKUP($C$4&\"_\"&$A14,gender_wise,COLUMNS($A$5:AH12),0),\"\")","v":""},{"$f":"IFERROR(VLOOKUP($C$4&\"_\"&$A14,gender_wise,COLUMNS($A$5:AI12),0),\"\")","v":""},{"$f":"IFERROR(VLOOKUP($C$4&\"_\"&$A14,gender_wise,COLUMNS($A$5:AJ12),0),\"\")","v":""}]
[9,{"$f":"IFERROR(VLOOKUP($C$4&\"_\"&$A15,gender_wise,COLUMNS($A$5:C13),0),\"\")","v":""},{"$f":"IFERROR(VLOOKUP($C$4&\"_\"&$A15,gender_wise,COLUMNS($A$5:D13),0),\"\")","v":""},{"$f":"IFERROR(VLOOKUP($C$4&\"_\"&$A15,gender_wise,COLUMNS($A$5:E13),0),\"\")","v":""},{"$f":"IFERROR(VLOOKUP($C$4&\"_\"&$A15,gender_wise,COLUMNS($A$5:F13),0),\"\")","v":""},{"$f":"IFERROR(VLOOKUP($C$4&\"_\"&$A15,gender_wise,COLUMNS($A$5:G13),0),\"\")","v":""},{"$f":"IFERROR(VLOOKUP($C$4&\"_\"&$A15,gender_wise,COLUMNS($A$5:H13),0),\"\")","v":""},{"$f":"IFERROR(VLOOKUP($C$4&\"_\"&$A15,gender_wise,COLUMNS($A$5:I13),0),\"\")","v":""},{"$f":"IFERROR(VLOOKUP($C$4&\"_\"&$A15,gender_wise,COLUMNS($A$5:J13),0),\"\")","v":""},{"$f":"IFERROR(VLOOKUP($C$4&\"_\"&$A15,gender_wise,COLUMNS($A$5:K13),0),\"\")","v":""},{"$f":"IFERROR(VLOOKUP($C$4&\"_\"&$A15,gender_wise,COLUMNS($A$5:L13),0),\"\")","v":""},{"$f":"IFERROR(VLOOKUP($C$4&\"_\"&$A15,gender_wise,COLUMNS($A$5:M13),0),\"\")","v":""},{"$f":"IFERROR(VLOOKUP($C$4&\"_\"&$A15,gender_wise,COLUMNS($A$5:N13),0),\"\")","v":""},{"$f":"IFERROR(VLOOKUP($C$4&\"_\"&$A15,gender_wise,COLUMNS($A$5:O13),0),\"\")","v":""},{"$f":"IFERROR(VLOOKUP($C$4&\"_\"&$A15,gender_wise,COLUMNS($A$5:P13),0),\"\")","v":""},{"$f":"IFERROR(VLOOKUP($C$4&\"_\"&$A15,gender_wise,COLUMNS($A$5:Q13),0),\"\")","v":""},{"$f":"IFERROR(VLOOKUP($C$4&\"_\"&$A15,gender_wise,COLUMNS($A$5:R13),0),\"\")","v":""},{"$f":"IFERROR(VLOOKUP($C$4&\"_\"&$A15,gender_wise,COLUMNS($A$5:S13),0),\"\")","v":""},{"$f":"IFERROR(VLOOKUP($C$4&\"_\"&$A15,gender_wise,COLUMNS($A$5:T13),0),\"\")","v":""},{"$f":"IFERROR(VLOOKUP($C$4&\"_\"&$A15,gender_wise,COLUMNS($A$5:U13),0),\"\")","v":""},{"$f":"IFERROR(VLOOKUP($C$4&\"_\"&$A15,gender_wise,COLUMNS($A$5:V13),0),\"\")","v":""},{"$f":"IFERROR(VLOOKUP($C$4&\"_\"&$A15,gender_wise,COLUMNS($A$5:W13),0),\"\")","v":""},{"$f":"IFERROR(VLOOKUP($C$4&\"_\"&$A15,gender_wise,COLUMNS($A$5:X13),0),\"\")","v":""},{"$f":"IFERROR(VLOOKUP($C$4&\"_\"&$A15,gender_wise,COLUMNS($A$5:Y13),0),\"\")","v":""},{"$f":"IFERROR(VLOOKUP($C$4&\"_\"&$A15,gender_wise,COLUMNS($A$5:Z13),0),\"\")","v":""},{"$f":"IFERROR(VLOOKUP($C$4&\"_\"&$A15,gender_wise,COLUMNS($A$5:AA13),0),\"\")","v":""},{"$f":"IFERROR(VLOOKUP($C$4&\"_\"&$A15,gender_wise,COLUMNS($A$5:AB13),0),\"\")","v":""},{"$f":"IFERROR(VLOOKUP($C$4&\"_\"&$A15,gender_wise,COLUMNS($A$5:AC13),0),\"\")","v":""},{"$f":"IFERROR(VLOOKUP($C$4&\"_\"&$A15,gender_wise,COLUMNS($A$5:AD13),0),\"\")","v":""},{"$f":"IFERROR(VLOOKUP($C$4&\"_\"&$A15,gender_wise,COLUMNS($A$5:AE13),0),\"\")","v":""},{"$f":"IFERROR(VLOOKUP($C$4&\"_\"&$A15,gender_wise,COLUMNS($A$5:AF13),0),\"\")","v":""},{"$f":"IFERROR(VLOOKUP($C$4&\"_\"&$A15,gender_wise,COLUMNS($A$5:AG13),0),\"\")","v":""},{"$f":"IFERROR(VLOOKUP($C$4&\"_\"&$A15,gender_wise,COLUMNS($A$5:AH13),0),\"\")","v":""},{"$f":"IFERROR(VLOOKUP($C$4&\"_\"&$A15,gender_wise,COLUMNS($A$5:AI13),0),\"\")","v":""},{"$f":"IFERROR(VLOOKUP($C$4&\"_\"&$A15,gender_wise,COLUMNS($A$5:AJ13),0),\"\")","v":""}]
[10,{"$f":"IFERROR(VLOOKUP($C$4&\"_\"&$A16,gender_wise,COLUMNS($A$5:C14),0),\"\")","v":""},{"$f":"IFERROR(VLOOKUP($C$4&\"_\"&$A16,gender_wise,COLUMNS($A$5:D14),0),\"\")","v":""},{"$f":"IFERROR(VLOOKUP($C$4&\"_\"&$A16,gender_wise,COLUMNS($A$5:E14),0),\"\")","v":""},{"$f":"IFERROR(VLOOKUP($C$4&\"_\"&$A16,gender_wise,COLUMNS($A$5:F14),0),\"\")","v":""},{"$f":"IFERROR(VLOOKUP($C$4&\"_\"&$A16,gender_wise,COLUMNS($A$5:G14),0),\"\")","v":""},{"$f":"IFERROR(VLOOKUP($C$4&\"_\"&$A16,gender_wise,COLUMNS($A$5:H14),0),\"\")","v":""},{"$f":"IFERROR(VLOOKUP($C$4&\"_\"&$A16,gender_wise,COLUMNS($A$5:I14),0),\"\")","v":""},{"$f":"IFERROR(VLOOKUP($C$4&\"_\"&$A16,gender_wise,COLUMNS($A$5:J14),0),\"\")","v":""},{"$f":"IFERROR(VLOOKUP($C$4&\"_\"&$A16,gender_wise,COLUMNS($A$5:K14),0),\"\")","v":""},{"$f":"IFERROR(VLOOKUP($C$4&\"_\"&$A16,gender_wise,COLUMNS($A$5:L14),0),\"\")","v":""},{"$f":"IFERROR(VLOOKUP($C$4&\"_\"&$A16,gender_wise,COLUMNS($A$5:M14),0),\"\")","v":""},{"$f":"IFERROR(VLOOKUP($C$4&\"_\"&$A16,gender_wise,COLUMNS($A$5:N14),0),\"\")","v":""},{"$f":"IFERROR(VLOOKUP($C$4&\"_\"&$A16,gender_wise,COLUMNS($A$5:O14),0),\"\")","v":""},{"$f":"IFERROR(VLOOKUP($C$4&\"_\"&$A16,gender_wise,COLUMNS($A$5:P14),0),\"\")","v":""},{"$f":"IFERROR(VLOOKUP($C$4&\"_\"&$A16,gender_wise,COLUMNS($A$5:Q14),0),\"\")","v":""},{"$f":"IFERROR(VLOOKUP($C$4&\"_\"&$A16,gender_wise,COLUMNS($A$5:R14),0),\"\")","v":""},{"$f":"IFERROR(VLOOKUP($C$4&\"_\"&$A16,gender_wise,COLUMNS($A$5:S14),0),\"\")","v":""},{"$f":"IFERROR(VLOOKUP($C$4&\"_\"&$A16,gender_wise,COLUMNS($A$5:T14),0),\"\")","v":""},{"$f":"IFERROR(VLOOKUP($C$4&\"_\"&$A16,gender_wise,COLUMNS($A$5:U14),0),\"\")","v":""},{"$f":"IFERROR(VLOOKUP($C$4&\"_\"&$A16,gender_wise,COLUMNS($A$5:V14),0),\"\")","v":""},{"$f":"IFERROR(VLOOKUP($C$4&\"_\"&$A16,gender_wise,COLUMNS($A$5:W14),0),\"\")","v":""},{"$f":"IFERROR(VLOOKUP($C$4&\"_\"&$A16,gender_wise,COLUMNS($A$5:X14),0),\"\")","v":""},{"$f":"IFERROR(VLOOKUP($C$4&\"_\"&$A16,gender_wise,COLUMNS($A$5:Y14),0),\"\")","v":""},{"$f":"IFERROR(VLOOKUP($C$4&\"_\"&$A16,gender_wise,COLUMNS($A$5:Z14),0),\"\")","v":""},{"$f":"IFERROR(VLOOKUP($C$4&\"_\"&$A16,gender_wise,COLUMNS($A$5:AA14),0),\"\")","v":""},{"$f":"IFERROR(VLOOKUP($C$4&\"_\"&$A16,gender_wise,COLUMNS($A$5:AB14),0),\"\")","v":""},{"$f":"IFERROR(VLOOKUP($C$4&\"_\"&$A16,gender_wise,COLUMNS($A$5:AC14),0),\"\")","v":""},{"$f":"IFERROR(VLOOKUP($C$4&\"_\"&$A16,gender_wise,COLUMNS($A$5:AD14),0),\"\")","v":""},{"$f":"IFERROR(VLOOKUP($C$4&\"_\"&$A16,gender_wise,COLUMNS($A$5:AE14),0),\"\")","v":""},{"$f":"IFERROR(VLOOKUP($C$4&\"_\"&$A16,gender_wise,COLUMNS($A$5:AF14),0),\"\")","v":""},{"$f":"IFERROR(VLOOKUP($C$4&\"_\"&$A16,gender_wise,COLUMNS($A$5:AG14),0),\"\")","v":""},{"$f":"IFERROR(VLOOKUP($C$4&\"_\"&$A16,gender_wise,COLUMNS($A$5:AH14),0),\"\")","v":""},{"$f":"IFERROR(VLOOKUP($C$4&\"_\"&$A16,gender_wise,COLUMNS($A$5:AI14),0),\"\")","v":""},{"$f":"IFERROR(VLOOKUP($C$4&\"_\"&$A16,gender_wise,COLUMNS($A$5:AJ14),0),\"\")","v":""}]
[11,{"$f":"IFERROR(VLOOKUP($C$4&\"_\"&$A17,gender_wise,COLUMNS($A$5:C15),0),\"\")","v":""},{"$f":"IFERROR(VLOOKUP($C$4&\"_\"&$A17,gender_wise,COLUMNS($A$5:D15),0),\"\")","v":""},{"$f":"IFERROR(VLOOKUP($C$4&\"_\"&$A17,gender_wise,COLUMNS($A$5:E15),0),\"\")","v":""},{"$f":"IFERROR(VLOOKUP($C$4&\"_\"&$A17,gender_wise,COLUMNS($A$5:F15),0),\"\")","v":""},{"$f":"IFERROR(VLOOKUP($C$4&\"_\"&$A17,gender_wise,COLUMNS($A$5:G15),0),\"\")","v":""},{"$f":"IFERROR(VLOOKUP($C$4&\"_\"&$A17,gender_wise,COLUMNS($A$5:H15),0),\"\")","v":""},{"$f":"IFERROR(VLOOKUP($C$4&\"_\"&$A17,gender_wise,COLUMNS($A$5:I15),0),\"\")","v":""},{"$f":"IFERROR(VLOOKUP($C$4&\"_\"&$A17,gender_wise,COLUMNS($A$5:J15),0),\"\")","v":""},{"$f":"IFERROR(VLOOKUP($C$4&\"_\"&$A17,gender_wise,COLUMNS($A$5:K15),0),\"\")","v":""},{"$f":"IFERROR(VLOOKUP($C$4&\"_\"&$A17,gender_wise,COLUMNS($A$5:L15),0),\"\")","v":""},{"$f":"IFERROR(VLOOKUP($C$4&\"_\"&$A17,gender_wise,COLUMNS($A$5:M15),0),\"\")","v":""},{"$f":"IFERROR(VLOOKUP($C$4&\"_\"&$A17,gender_wise,COLUMNS($A$5:N15),0),\"\")","v":""},{"$f":"IFERROR(VLOOKUP($C$4&\"_\"&$A17,gender_wise,COLUMNS($A$5:O15),0),\"\")","v":""},{"$f":"IFERROR(VLOOKUP($C$4&\"_\"&$A17,gender_wise,COLUMNS($A$5:P15),0),\"\")","v":""},{"$f":"IFERROR(VLOOKUP($C$4&\"_\"&$A17,gender_wise,COLUMNS($A$5:Q15),0),\"\")","v":""},{"$f":"IFERROR(VLOOKUP($C$4&\"_\"&$A17,gender_wise,COLUMNS($A$5:R15),0),\"\")","v":""},{"$f":"IFERROR(VLOOKUP($C$4&\"_\"&$A17,gender_wise,COLUMNS($A$5:S15),0),\"\")","v":""},{"$f":"IFERROR(VLOOKUP($C$4&\"_\"&$A17,gender_wise,COLUMNS($A$5:T15),0),\"\")","v":""},{"$f":"IFERROR(VLOOKUP($C$4&\"_\"&$A17,gender_wise,COLUMNS($A$5:U15),0),\"\")","v":""},{"$f":"IFERROR(VLOOKUP($C$4&\"_\"&$A17,gender_wise,COLUMNS($A$5:V15),0),\"\")","v":""},{"$f":"IFERROR(VLOOKUP($C$4&\"_\"&$A17,gender_wise,COLUMNS($A$5:W15),0),\"\")","v":""},{"$f":"IFERROR(VLOOKUP($C$4&\"_\"&$A17,gender_wise,COLUMNS($A$5:X15),0),\"\")","v":""},{"$f":"IFERROR(VLOOKUP($C$4&\"_\"&$A17,gender_wise,COLUMNS($A$5:Y15),0),\"\")","v":""},{"$f":"IFERROR(VLOOKUP($C$4&\"_\"&$A17,gender_wise,COLUMNS($A$5:Z15),0),\"\")","v":""},{"$f":"IFERROR(VLOOKUP($C$4&\"_\"&$A17,gender_wise,COLUMNS($A$5:AA15),0),\"\")","v":""},{"$f":"IFERROR(VLOOKUP($C$4&\"_\"&$A17,gender_wise,COLUMNS($A$5:AB15),0),\"\")","v":""},{"$f":"IFERROR(VLOOKUP($C$4&\"_\"&$A17,gender_wise,COLUMNS($A$5:AC15),0),\"\")","v":""},{"$f":"IFERROR(VLOOKUP($C$4&\"_\"&$A17,gender_wise,COLUMNS($A$5:AD15),0),\"\")","v":""},{"$f":"IFERROR(VLOOKUP($C$4&\"_\"&$A17,gender_wise,COLUMNS($A$5:AE15),0),\"\")","v":""},{"$f":"IFERROR(VLOOKUP($C$4&\"_\"&$A17,gender_wise,COLUMNS($A$5:AF15),0),\"\")","v":""},{"$f":"IFERROR(VLOOKUP($C$4&\"_\"&$A17,gender_wise,COLUMNS($A$5:AG15),0),\"\")","v":""},{"$f":"IFERROR(VLOOKUP($C$4&\"_\"&$A17,gender_wise,COLUMNS($A$5:AH15),0),\"\")","v":""},{"$f":"IFERROR(VLOOKUP($C$4&\"_\"&$A17,gender_wise,COLUMNS($A$5:AI15),0),\"\")","v":""},{"$f":"IFERROR(VLOOKUP($C$4&\"_\"&$A17,gender_wise,COLUMNS($A$5:AJ15),0),\"\")","v":""}]
[12,{"$f":"IFERROR(VLOOKUP($C$4&\"_\"&$A18,gender_wise,COLUMNS($A$5:C16),0),\"\")","v":""},{"$f":"IFERROR(VLOOKUP($C$4&\"_\"&$A18,gender_wise,COLUMNS($A$5:D16),0),\"\")","v":""},{"$f":"IFERROR(VLOOKUP($C$4&\"_\"&$A18,gender_wise,COLUMNS($A$5:E16),0),\"\")","v":""},{"$f":"IFERROR(VLOOKUP($C$4&\"_\"&$A18,gender_wise,COLUMNS($A$5:F16),0),\"\")","v":""},{"$f":"IFERROR(VLOOKUP($C$4&\"_\"&$A18,gender_wise,COLUMNS($A$5:G16),0),\"\")","v":""},{"$f":"IFERROR(VLOOKUP($C$4&\"_\"&$A18,gender_wise,COLUMNS($A$5:H16),0),\"\")","v":""},{"$f":"IFERROR(VLOOKUP($C$4&\"_\"&$A18,gender_wise,COLUMNS($A$5:I16),0),\"\")","v":""},{"$f":"IFERROR(VLOOKUP($C$4&\"_\"&$A18,gender_wise,COLUMNS($A$5:J16),0),\"\")","v":""},{"$f":"IFERROR(VLOOKUP($C$4&\"_\"&$A18,gender_wise,COLUMNS($A$5:K16),0),\"\")","v":""},{"$f":"IFERROR(VLOOKUP($C$4&\"_\"&$A18,gender_wise,COLUMNS($A$5:L16),0),\"\")","v":""},{"$f":"IFERROR(VLOOKUP($C$4&\"_\"&$A18,gender_wise,COLUMNS($A$5:M16),0),\"\")","v":""},{"$f":"IFERROR(VLOOKUP($C$4&\"_\"&$A18,gender_wise,COLUMNS($A$5:N16),0),\"\")","v":""},{"$f":"IFERROR(VLOOKUP($C$4&\"_\"&$A18,gender_wise,COLUMNS($A$5:O16),0),\"\")","v":""},{"$f":"IFERROR(VLOOKUP($C$4&\"_\"&$A18,gender_wise,COLUMNS($A$5:P16),0),\"\")","v":""},{"$f":"IFERROR(VLOOKUP($C$4&\"_\"&$A18,gender_wise,COLUMNS($A$5:Q16),0),\"\")","v":""},{"$f":"IFERROR(VLOOKUP($C$4&\"_\"&$A18,gender_wise,COLUMNS($A$5:R16),0),\"\")","v":""},{"$f":"IFERROR(VLOOKUP($C$4&\"_\"&$A18,gender_wise,COLUMNS($A$5:S16),0),\"\")","v":""},{"$f":"IFERROR(VLOOKUP($C$4&\"_\"&$A18,gender_wise,COLUMNS($A$5:T16),0),\"\")","v":""},{"$f":"IFERROR(VLOOKUP($C$4&\"_\"&$A18,gender_wise,COLUMNS($A$5:U16),0),\"\")","v":""},{"$f":"IFERROR(VLOOKUP($C$4&\"_\"&$A18,gender_wise,COLUMNS($A$5:V16),0),\"\")","v":""},{"$f":"IFERROR(VLOOKUP($C$4&\"_\"&$A18,gender_wise,COLUMNS($A$5:W16),0),\"\")","v":""},{"$f":"IFERROR(VLOOKUP($C$4&\"_\"&$A18,gender_wise,COLUMNS($A$5:X16),0),\"\")","v":""},{"$f":"IFERROR(VLOOKUP($C$4&\"_\"&$A18,gender_wise,COLUMNS($A$5:Y16),0),\"\")","v":""},{"$f":"IFERROR(VLOOKUP($C$4&\"_\"&$A18,gender_wise,COLUMNS($A$5:Z16),0),\"\")","v":""},{"$f":"IFERROR(VLOOKUP($C$4&\"_\"&$A18,gender_wise,COLUMNS($A$5:AA16),0),\"\")","v":""},{"$f":"IFERROR(VLOOKUP($C$4&\"_\"&$A18,gender_wise,COLUMNS($A$5:AB16),0),\"\")","v":""},{"$f":"IFERROR(VLOOKUP($C$4&\"_\"&$A18,gender_wise,COLUMNS($A$5:AC16),0),\"\")","v":""},{"$f":"IFERROR(VLOOKUP($C$4&\"_\"&$A18,gender_wise,COLUMNS($A$5:AD16),0),\"\")","v":""},{"$f":"IFERROR(VLOOKUP($C$4&\"_\"&$A18,gender_wise,COLUMNS($A$5:AE16),0),\"\")","v":""},{"$f":"IFERROR(VLOOKUP($C$4&\"_\"&$A18,gender_wise,COLUMNS($A$5:AF16),0),\"\")","v":""},{"$f":"IFERROR(VLOOKUP($C$4&\"_\"&$A18,gender_wise,COLUMNS($A$5:AG16),0),\"\")","v":""},{"$f":"IFERROR(VLOOKUP($C$4&\"_\"&$A18,gender_wise,COLUMNS($A$5:AH16),0),\"\")","v":""},{"$f":"IFERROR(VLOOKUP($C$4&\"_\"&$A18,gender_wise,COLUMNS($A$5:AI16),0),\"\")","v":""},{"$f":"IFERROR(VLOOKUP($C$4&\"_\"&$A18,gender_wise,COLUMNS($A$5:AJ16),0),\"\")","v":""}]
[13,{"$f":"IFERROR(VLOOKUP($C$4&\"_\"&$A19,gender_wise,COLUMNS($A$5:C17),0),\"\")","v":""},{"$f":"IFERROR(VLOOKUP($C$4&\"_\"&$A19,gender_wise,COLUMNS($A$5:D17),0),\"\")","v":""},{"$f":"IFERROR(VLOOKUP($C$4&\"_\"&$A19,gender_wise,COLUMNS($A$5:E17),0),\"\")","v":""},{"$f":"IFERROR(VLOOKUP($C$4&\"_\"&$A19,gender_wise,COLUMNS($A$5:F17),0),\"\")","v":""},{"$f":"IFERROR(VLOOKUP($C$4&\"_\"&$A19,gender_wise,COLUMNS($A$5:G17),0),\"\")","v":""},{"$f":"IFERROR(VLOOKUP($C$4&\"_\"&$A19,gender_wise,COLUMNS($A$5:H17),0),\"\")","v":""},{"$f":"IFERROR(VLOOKUP($C$4&\"_\"&$A19,gender_wise,COLUMNS($A$5:I17),0),\"\")","v":""},{"$f":"IFERROR(VLOOKUP($C$4&\"_\"&$A19,gender_wise,COLUMNS($A$5:J17),0),\"\")","v":""},{"$f":"IFERROR(VLOOKUP($C$4&\"_\"&$A19,gender_wise,COLUMNS($A$5:K17),0),\"\")","v":""},{"$f":"IFERROR(VLOOKUP($C$4&\"_\"&$A19,gender_wise,COLUMNS($A$5:L17),0),\"\")","v":""},{"$f":"IFERROR(VLOOKUP($C$4&\"_\"&$A19,gender_wise,COLUMNS($A$5:M17),0),\"\")","v":""},{"$f":"IFERROR(VLOOKUP($C$4&\"_\"&$A19,gender_wise,COLUMNS($A$5:N17),0),\"\")","v":""},{"$f":"IFERROR(VLOOKUP($C$4&\"_\"&$A19,gender_wise,COLUMNS($A$5:O17),0),\"\")","v":""},{"$f":"IFERROR(VLOOKUP($C$4&\"_\"&$A19,gender_wise,COLUMNS($A$5:P17),0),\"\")","v":""},{"$f":"IFERROR(VLOOKUP($C$4&\"_\"&$A19,gender_wise,COLUMNS($A$5:Q17),0),\"\")","v":""},{"$f":"IFERROR(VLOOKUP($C$4&\"_\"&$A19,gender_wise,COLUMNS($A$5:R17),0),\"\")","v":""},{"$f":"IFERROR(VLOOKUP($C$4&\"_\"&$A19,gender_wise,COLUMNS($A$5:S17),0),\"\")","v":""},{"$f":"IFERROR(VLOOKUP($C$4&\"_\"&$A19,gender_wise,COLUMNS($A$5:T17),0),\"\")","v":""},{"$f":"IFERROR(VLOOKUP($C$4&\"_\"&$A19,gender_wise,COLUMNS($A$5:U17),0),\"\")","v":""},{"$f":"IFERROR(VLOOKUP($C$4&\"_\"&$A19,gender_wise,COLUMNS($A$5:V17),0),\"\")","v":""},{"$f":"IFERROR(VLOOKUP($C$4&\"_\"&$A19,gender_wise,COLUMNS($A$5:W17),0),\"\")","v":""},{"$f":"IFERROR(VLOOKUP($C$4&\"_\"&$A19,gender_wise,COLUMNS($A$5:X17),0),\"\")","v":""},{"$f":"IFERROR(VLOOKUP($C$4&\"_\"&$A19,gender_wise,COLUMNS($A$5:Y17),0),\"\")","v":""},{"$f":"IFERROR(VLOOKUP($C$4&\"_\"&$A19,gender_wise,COLUMNS($A$5:Z17),0),\"\")","v":""},{"$f":"IFERROR(VLOOKUP($C$4&\"_\"&$A19,gender_wise,COLUMNS($A$5:AA17),0),\"\")","v":""},{"$f":"IFERROR(VLOOKUP($C$4&\"_\"&$A19,gender_wise,COLUMNS($A$5:AB17),0),\"\")","v":""},{"$f":"IFERROR(VLOOKUP($C$4&\"_\"&$A19,gender_wise,COLUMNS($A$5:AC17),0),\"\")","v":""},{"$f":"IFERROR(VLOOKUP($C$4&\"_\"&$A19,gender_wise,COLUMNS($A$5:AD17),0),\"\")","v":""},{"$f":"IFERROR(VLOOKUP($C$4&\"_\"&$A19,gender_wise,COLUMNS($A$5:AE17),0),\"\")","v":""},{"$f":"IFERROR(VLOOKUP($C$4&\"_\"&$A19,gender_wise,COLUMNS($A$5:AF17),0),\"\")","v":""},{"$f":"IFERROR(VLOOKUP($C$4&\"_\"&$A19,gender_wise,COLUMNS($A$5:AG17),0),\"\")","v":""},{"$f":"IFERROR(VLOOKUP($C$4&\"_\"&$A19,gender_wise,COLUMNS($A$5:AH17),0),\"\")","v":""},{"$f":"IFERROR(VLOOKUP($C$4&\"_\"&$A19,gender_wise,COLUMNS($A$5:AI17),0),\"\")","v":""},{"$f":"IFERROR(VLOOKUP($C$4&\"_\"&$A19,gender_wise,COLUMNS($A$5:AJ17),0),\"\")","v":""}]
[14,{"$f":"IFERROR(VLOOKUP($C$4&\"_\"&$A20,gender_wise,COLUMNS($A$5:C18),0),\"\")","v":""},{"$f":"IFERROR(VLOOKUP($C$4&\"_\"&$A20,gender_wise,COLUMNS($A$5:D18),0),\"\")","v":""},{"$f":"IFERROR(VLOOKUP($C$4&\"_\"&$A20,gender_wise,COLUMNS($A$5:E18),0),\"\")","v":""},{"$f":"IFERROR(VLOOKUP($C$4&\"_\"&$A20,gender_wise,COLUMNS($A$5:F18),0),\"\")","v":""},{"$f":"IFERROR(VLOOKUP($C$4&\"_\"&$A20,gender_wise,COLUMNS($A$5:G18),0),\"\")","v":""},{"$f":"IFERROR(VLOOKUP($C$4&\"_\"&$A20,gender_wise,COLUMNS($A$5:H18),0),\"\")","v":""},{"$f":"IFERROR(VLOOKUP($C$4&\"_\"&$A20,gender_wise,COLUMNS($A$5:I18),0),\"\")","v":""},{"$f":"IFERROR(VLOOKUP($C$4&\"_\"&$A20,gender_wise,COLUMNS($A$5:J18),0),\"\")","v":""},{"$f":"IFERROR(VLOOKUP($C$4&\"_\"&$A20,gender_wise,COLUMNS($A$5:K18),0),\"\")","v":""},{"$f":"IFERROR(VLOOKUP($C$4&\"_\"&$A20,gender_wise,COLUMNS($A$5:L18),0),\"\")","v":""},{"$f":"IFERROR(VLOOKUP($C$4&\"_\"&$A20,gender_wise,COLUMNS($A$5:M18),0),\"\")","v":""},{"$f":"IFERROR(VLOOKUP($C$4&\"_\"&$A20,gender_wise,COLUMNS($A$5:N18),0),\"\")","v":""},{"$f":"IFERROR(VLOOKUP($C$4&\"_\"&$A20,gender_wise,COLUMNS($A$5:O18),0),\"\")","v":""},{"$f":"IFERROR(VLOOKUP($C$4&\"_\"&$A20,gender_wise,COLUMNS($A$5:P18),0),\"\")","v":""},{"$f":"IFERROR(VLOOKUP($C$4&\"_\"&$A20,gender_wise,COLUMNS($A$5:Q18),0),\"\")","v":""},{"$f":"IFERROR(VLOOKUP($C$4&\"_\"&$A20,gender_wise,COLUMNS($A$5:R18),0),\"\")","v":""},{"$f":"IFERROR(VLOOKUP($C$4&\"_\"&$A20,gender_wise,COLUMNS($A$5:S18),0),\"\")","v":""},{"$f":"IFERROR(VLOOKUP($C$4&\"_\"&$A20,gender_wise,COLUMNS($A$5:T18),0),\"\")","v":""},{"$f":"IFERROR(VLOOKUP($C$4&\"_\"&$A20,gender_wise,COLUMNS($A$5:U18),0),\"\")","v":""},{"$f":"IFERROR(VLOOKUP($C$4&\"_\"&$A20,gender_wise,COLUMNS($A$5:V18),0),\"\")","v":""},{"$f":"IFERROR(VLOOKUP($C$4&\"_\"&$A20,gender_wise,COLUMNS($A$5:W18),0),\"\")","v":""},{"$f":"IFERROR(VLOOKUP($C$4&\"_\"&$A20,gender_wise,COLUMNS($A$5:X18),0),\"\")","v":""},{"$f":"IFERROR(VLOOKUP($C$4&\"_\"&$A20,gender_wise,COLUMNS($A$5:Y18),0),\"\")","v":""},{"$f":"IFERROR(VLOOKUP($C$4&\"_\"&$A20,gender_wise,COLUMNS($A$5:Z18),0),\"\")","v":""},{"$f":"IFERROR(VLOOKUP($C$4&\"_\"&$A20,gender_wise,COLUMNS($A$5:AA18),0),\"\")","v":""},{"$f":"IFERROR(VLOOKUP($C$4&\"_\"&$A20,gender_wise,COLUMNS($A$5:AB18),0),\"\")","v":""},{"$f":"IFERROR(VLOOKUP($C$4&\"_\"&$A20,gender_wise,COLUMNS($A$5:AC18),0),\"\")","v":""},{"$f":"IFERROR(VLOOKUP($C$4&\"_\"&$A20,gender_wise,COLUMNS($A$5:AD18),0),\"\")","v":""},{"$f":"IFERROR(VLOOKUP($C$4&\"_\"&$A20,gender_wise,COLUMNS($A$5:AE18),0),\"\")","v":""},{"$f":"IFERROR(VLOOKUP($C$4&\"_\"&$A20,gender_wise,COLUMNS($A$5:AF18),0),\"\")","v":""},{"$f":"IFERROR(VLOOKUP($C$4&\"_\"&$A20,gender_wise,COLUMNS($A$5:AG18),0),\"\")","v":""},{"$f":"IFERROR(VLOOKUP($C$4&\"_\"&$A20,gender_wise,COLUMNS($A$5:AH18),0),\"\")","v":""},{"$f":"IFERROR(VLOOKUP($C$4&\"_\"&$A20,gender_wise,COLUMNS($A$5:AI18),0),\"\")","v":""},{"$f":"IFERROR(VLOOKUP($C$4&\"_\"&$A20,gender_wise,COLUMNS($A$5:AJ18),0),\"\")","v":""}]
[15,{"$f":"IFERROR(VLOOKUP($C$4&\"_\"&$A21,gender_wise,COLUMNS($A$5:C19),0),\"\")","v":""},{"$f":"IFERROR(VLOOKUP($C$4&\"_\"&$A21,gender_wise,COLUMNS($A$5:D19),0),\"\")","v":""},{"$f":"IFERROR(VLOOKUP($C$4&\"_\"&$A21,gender_wise,COLUMNS($A$5:E19),0),\"\")","v":""},{"$f":"IFERROR(VLOOKUP($C$4&\"_\"&$A21,gender_wise,COLUMNS($A$5:F19),0),\"\")","v":""},{"$f":"IFERROR(VLOOKUP($C$4&\"_\"&$A21,gender_wise,COLUMNS($A$5:G19),0),\"\")","v":""},{"$f":"IFERROR(VLOOKUP($C$4&\"_\"&$A21,gender_wise,COLUMNS($A$5:H19),0),\"\")","v":""},{"$f":"IFERROR(VLOOKUP($C$4&\"_\"&$A21,gender_wise,COLUMNS($A$5:I19),0),\"\")","v":""},{"$f":"IFERROR(VLOOKUP($C$4&\"_\"&$A21,gender_wise,COLUMNS($A$5:J19),0),\"\")","v":""},{"$f":"IFERROR(VLOOKUP($C$4&\"_\"&$A21,gender_wise,COLUMNS($A$5:K19),0),\"\")","v":""},{"$f":"IFERROR(VLOOKUP($C$4&\"_\"&$A21,gender_wise,COLUMNS($A$5:L19),0),\"\")","v":""},{"$f":"IFERROR(VLOOKUP($C$4&\"_\"&$A21,gender_wise,COLUMNS($A$5:M19),0),\"\")","v":""},{"$f":"IFERROR(VLOOKUP($C$4&\"_\"&$A21,gender_wise,COLUMNS($A$5:N19),0),\"\")","v":""},{"$f":"IFERROR(VLOOKUP($C$4&\"_\"&$A21,gender_wise,COLUMNS($A$5:O19),0),\"\")","v":""},{"$f":"IFERROR(VLOOKUP($C$4&\"_\"&$A21,gender_wise,COLUMNS($A$5:P19),0),\"\")","v":""},{"$f":"IFERROR(VLOOKUP($C$4&\"_\"&$A21,gender_wise,COLUMNS($A$5:Q19),0),\"\")","v":""},{"$f":"IFERROR(VLOOKUP($C$4&\"_\"&$A21,gender_wise,COLUMNS($A$5:R19),0),\"\")","v":""},{"$f":"IFERROR(VLOOKUP($C$4&\"_\"&$A21,gender_wise,COLUMNS($A$5:S19),0),\"\")","v":""},{"$f":"IFERROR(VLOOKUP($C$4&\"_\"&$A21,gender_wise,COLUMNS($A$5:T19),0),\"\")","v":""},{"$f":"IFERROR(VLOOKUP($C$4&\"_\"&$A21,gender_wise,COLUMNS($A$5:U19),0),\"\")","v":""},{"$f":"IFERROR(VLOOKUP($C$4&\"_\"&$A21,gender_wise,COLUMNS($A$5:V19),0),\"\")","v":""},{"$f":"IFERROR(VLOOKUP($C$4&\"_\"&$A21,gender_wise,COLUMNS($A$5:W19),0),\"\")","v":""},{"$f":"IFERROR(VLOOKUP($C$4&\"_\"&$A21,gender_wise,COLUMNS($A$5:X19),0),\"\")","v":""},{"$f":"IFERROR(VLOOKUP($C$4&\"_\"&$A21,gender_wise,COLUMNS($A$5:Y19),0),\"\")","v":""},{"$f":"IFERROR(VLOOKUP($C$4&\"_\"&$A21,gender_wise,COLUMNS($A$5:Z19),0),\"\")","v":""},{"$f":"IFERROR(VLOOKUP($C$4&\"_\"&$A21,gender_wise,COLUMNS($A$5:AA19),0),\"\")","v":""},{"$f":"IFERROR(VLOOKUP($C$4&\"_\"&$A21,gender_wise,COLUMNS($A$5:AB19),0),\"\")","v":""},{"$f":"IFERROR(VLOOKUP($C$4&\"_\"&$A21,gender_wise,COLUMNS($A$5:AC19),0),\"\")","v":""},{"$f":"IFERROR(VLOOKUP($C$4&\"_\"&$A21,gender_wise,COLUMNS($A$5:AD19),0),\"\")","v":""},{"$f":"IFERROR(VLOOKUP($C$4&\"_\"&$A21,gender_wise,COLUMNS($A$5:AE19),0),\"\")","v":""},{"$f":"IFERROR(VLOOKUP($C$4&\"_\"&$A21,gender_wise,COLUMNS($A$5:AF19),0),\"\")","v":""},{"$f":"IFERROR(VLOOKUP($C$4&\"_\"&$A21,gender_wise,COLUMNS($A$5:AG19),0),\"\")","v":""},{"$f":"IFERROR(VLOOKUP($C$4&\"_\"&$A21,gender_wise,COLUMNS($A$5:AH19),0),\"\")","v":""},{"$f":"IFERROR(VLOOKUP($C$4&\"_\"&$A21,gender_wise,COLUMNS($A$5:AI19),0),\"\")","v":""},{"$f":"IFERROR(VLOOKUP($C$4&\"_\"&$A21,gender_wise,COLUMNS($A$5:AJ19),0),\"\")","v":""}]
[16,{"$f":"IFERROR(VLOOKUP($C$4&\"_\"&$A22,gender_wise,COLUMNS($A$5:C20),0),\"\")","v":""},{"$f":"IFERROR(VLOOKUP($C$4&\"_\"&$A22,gender_wise,COLUMNS($A$5:D20),0),\"\")","v":""},{"$f":"IFERROR(VLOOKUP($C$4&\"_\"&$A22,gender_wise,COLUMNS($A$5:E20),0),\"\")","v":""},{"$f":"IFERROR(VLOOKUP($C$4&\"_\"&$A22,gender_wise,COLUMNS($A$5:F20),0),\"\")","v":""},{"$f":"IFERROR(VLOOKUP($C$4&\"_\"&$A22,gender_wise,COLUMNS($A$5:G20),0),\"\")","v":""},{"$f":"IFERROR(VLOOKUP($C$4&\"_\"&$A22,gender_wise,COLUMNS($A$5:H20),0),\"\")","v":""},{"$f":"IFERROR(VLOOKUP($C$4&\"_\"&$A22,gender_wise,COLUMNS($A$5:I20),0),\"\")","v":""},{"$f":"IFERROR(VLOOKUP($C$4&\"_\"&$A22,gender_wise,COLUMNS($A$5:J20),0),\"\")","v":""},{"$f":"IFERROR(VLOOKUP($C$4&\"_\"&$A22,gender_wise,COLUMNS($A$5:K20),0),\"\")","v":""},{"$f":"IFERROR(VLOOKUP($C$4&\"_\"&$A22,gender_wise,COLUMNS($A$5:L20),0),\"\")","v":""},{"$f":"IFERROR(VLOOKUP($C$4&\"_\"&$A22,gender_wise,COLUMNS($A$5:M20),0),\"\")","v":""},{"$f":"IFERROR(VLOOKUP($C$4&\"_\"&$A22,gender_wise,COLUMNS($A$5:N20),0),\"\")","v":""},{"$f":"IFERROR(VLOOKUP($C$4&\"_\"&$A22,gender_wise,COLUMNS($A$5:O20),0),\"\")","v":""},{"$f":"IFERROR(VLOOKUP($C$4&\"_\"&$A22,gender_wise,COLUMNS($A$5:P20),0),\"\")","v":""},{"$f":"IFERROR(VLOOKUP($C$4&\"_\"&$A22,gender_wise,COLUMNS($A$5:Q20),0),\"\")","v":""},{"$f":"IFERROR(VLOOKUP($C$4&\"_\"&$A22,gender_wise,COLUMNS($A$5:R20),0),\"\")","v":""},{"$f":"IFERROR(VLOOKUP($C$4&\"_\"&$A22,gender_wise,COLUMNS($A$5:S20),0),\"\")","v":""},{"$f":"IFERROR(VLOOKUP($C$4&\"_\"&$A22,gender_wise,COLUMNS($A$5:T20),0),\"\")","v":""},{"$f":"IFERROR(VLOOKUP($C$4&\"_\"&$A22,gender_wise,COLUMNS($A$5:U20),0),\"\")","v":""},{"$f":"IFERROR(VLOOKUP($C$4&\"_\"&$A22,gender_wise,COLUMNS($A$5:V20),0),\"\")","v":""},{"$f":"IFERROR(VLOOKUP($C$4&\"_\"&$A22,gender_wise,COLUMNS($A$5:W20),0),\"\")","v":""},{"$f":"IFERROR(VLOOKUP($C$4&\"_\"&$A22,gender_wise,COLUMNS($A$5:X20),0),\"\")","v":""},{"$f":"IFERROR(VLOOKUP($C$4&\"_\"&$A22,gender_wise,COLUMNS($A$5:Y20),0),\"\")","v":""},{"$f":"IFERROR(VLOOKUP($C$4&\"_\"&$A22,gender_wise,COLUMNS($A$5:Z20),0),\"\")","v":""},{"$f":"IFERROR(VLOOKUP($C$4&\"_\"&$A22,gender_wise,COLUMNS($A$5:AA20),0),\"\")","v":""},{"$f":"IFERROR(VLOOKUP($C$4&\"_\"&$A22,gender_wise,COLUMNS($A$5:AB20),0),\"\")","v":""},{"$f":"IFERROR(VLOOKUP($C$4&\"_\"&$A22,gender_wise,COLUMNS($A$5:AC20),0),\"\")","v":""},{"$f":"IFERROR(VLOOKUP($C$4&\"_\"&$A22,gender_wise,COLUMNS($A$5:AD20),0),\"\")","v":""},{"$f":"IFERROR(VLOOKUP($C$4&\"_\"&$A22,gender_wise,COLUMNS($A$5:AE20),0),\"\")","v":""},{"$f":"IFERROR(VLOOKUP($C$4&\"_\"&$A22,gender_wise,COLUMNS($A$5:AF20),0),\"\")","v":""},{"$f":"IFERROR(VLOOKUP($C$4&\"_\"&$A22,gender_wise,COLUMNS($A$5:AG20),0),\"\")","v":""},{"$f":"IFERROR(VLOOKUP($C$4&\"_\"&$A22,gender_wise,COLUMNS($A$5:AH20),0),\"\")","v":""},{"$f":"IFERROR(VLOOKUP($C$4&\"_\"&$A22,gender_wise,COLUMNS($A$5:AI20),0),\"\")","v":""},{"$f":"IFERROR(VLOOKUP($C$4&\"_\"&$A22,gender_wise,COLUMNS($A$5:AJ20),0),\"\")","v":""}]
[17,{"$f":"IFERROR(VLOOKUP($C$4&\"_\"&$A23,gender_wise,COLUMNS($A$5:C21),0),\"\")","v":""},{"$f":"IFERROR(VLOOKUP($C$4&\"_\"&$A23,gender_wise,COLUMNS($A$5:D21),0),\"\")","v":""},{"$f":"IFERROR(VLOOKUP($C$4&\"_\"&$A23,gender_wise,COLUMNS($A$5:E21),0),\"\")","v":""},{"$f":"IFERROR(VLOOKUP($C$4&\"_\"&$A23,gender_wise,COLUMNS($A$5:F21),0),\"\")","v":""},{"$f":"IFERROR(VLOOKUP($C$4&\"_\"&$A23,gender_wise,COLUMNS($A$5:G21),0),\"\")","v":""},{"$f":"IFERROR(VLOOKUP($C$4&\"_\"&$A23,gender_wise,COLUMNS($A$5:H21),0),\"\")","v":""},{"$f":"IFERROR(VLOOKUP($C$4&\"_\"&$A23,gender_wise,COLUMNS($A$5:I21),0),\"\")","v":""},{"$f":"IFERROR(VLOOKUP($C$4&\"_\"&$A23,gender_wise,COLUMNS($A$5:J21),0),\"\")","v":""},{"$f":"IFERROR(VLOOKUP($C$4&\"_\"&$A23,gender_wise,COLUMNS($A$5:K21),0),\"\")","v":""},{"$f":"IFERROR(VLOOKUP($C$4&\"_\"&$A23,gender_wise,COLUMNS($A$5:L21),0),\"\")","v":""},{"$f":"IFERROR(VLOOKUP($C$4&\"_\"&$A23,gender_wise,COLUMNS($A$5:M21),0),\"\")","v":""},{"$f":"IFERROR(VLOOKUP($C$4&\"_\"&$A23,gender_wise,COLUMNS($A$5:N21),0),\"\")","v":""},{"$f":"IFERROR(VLOOKUP($C$4&\"_\"&$A23,gender_wise,COLUMNS($A$5:O21),0),\"\")","v":""},{"$f":"IFERROR(VLOOKUP($C$4&\"_\"&$A23,gender_wise,COLUMNS($A$5:P21),0),\"\")","v":""},{"$f":"IFERROR(VLOOKUP($C$4&\"_\"&$A23,gender_wise,COLUMNS($A$5:Q21),0),\"\")","v":""},{"$f":"IFERROR(VLOOKUP($C$4&\"_\"&$A23,gender_wise,COLUMNS($A$5:R21),0),\"\")","v":""},{"$f":"IFERROR(VLOOKUP($C$4&\"_\"&$A23,gender_wise,COLUMNS($A$5:S21),0),\"\")","v":""},{"$f":"IFERROR(VLOOKUP($C$4&\"_\"&$A23,gender_wise,COLUMNS($A$5:T21),0),\"\")","v":""},{"$f":"IFERROR(VLOOKUP($C$4&\"_\"&$A23,gender_wise,COLUMNS($A$5:U21),0),\"\")","v":""},{"$f":"IFERROR(VLOOKUP($C$4&\"_\"&$A23,gender_wise,COLUMNS($A$5:V21),0),\"\")","v":""},{"$f":"IFERROR(VLOOKUP($C$4&\"_\"&$A23,gender_wise,COLUMNS($A$5:W21),0),\"\")","v":""},{"$f":"IFERROR(VLOOKUP($C$4&\"_\"&$A23,gender_wise,COLUMNS($A$5:X21),0),\"\")","v":""},{"$f":"IFERROR(VLOOKUP($C$4&\"_\"&$A23,gender_wise,COLUMNS($A$5:Y21),0),\"\")","v":""},{"$f":"IFERROR(VLOOKUP($C$4&\"_\"&$A23,gender_wise,COLUMNS($A$5:Z21),0),\"\")","v":""},{"$f":"IFERROR(VLOOKUP($C$4&\"_\"&$A23,gender_wise,COLUMNS($A$5:AA21),0),\"\")","v":""},{"$f":"IFERROR(VLOOKUP($C$4&\"_\"&$A23,gender_wise,COLUMNS($A$5:AB21),0),\"\")","v":""},{"$f":"IFERROR(VLOOKUP($C$4&\"_\"&$A23,gender_wise,COLUMNS($A$5:AC21),0),\"\")","v":""},{"$f":"IFERROR(VLOOKUP($C$4&\"_\"&$A23,gender_wise,COLUMNS($A$5:AD21),0),\"\")","v":""},{"$f":"IFERROR(VLOOKUP($C$4&\"_\"&$A23,gender_wise,COLUMNS($A$5:AE21),0),\"\")","v":""},{"$f":"IFERROR(VLOOKUP($C$4&\"_\"&$A23,gender_wise,COLUMNS($A$5:AF21),0),\"\")","v":""},{"$f":"IFERROR(VLOOKUP($C$4&\"_\"&$A23,gender_wise,COLUMNS($A$5:AG21),0),\"\")","v":""},{"$f":"IFERROR(VLOOKUP($C$4&\"_\"&$A23,gender_wise,COLUMNS($A$5:AH21),0),\"\")","v":""},{"$f":"IFERROR(VLOOKUP($C$4&\"_\"&$A23,gender_wise,COLUMNS($A$5:AI21),0),\"\")","v":""},{"$f":"IFERROR(VLOOKUP($C$4&\"_\"&$A23,gender_wise,COLUMNS($A$5:AJ21),0),\"\")","v":""}]
[18,{"$f":"IFERROR(VLOOKUP($C$4&\"_\"&$A24,gender_wise,COLUMNS($A$5:C22),0),\"\")","v":""},{"$f":"IFERROR(VLOOKUP($C$4&\"_\"&$A24,gender_wise,COLUMNS($A$5:D22),0),\"\")","v":""},{"$f":"IFERROR(VLOOKUP($C$4&\"_\"&$A24,gender_wise,COLUMNS($A$5:E22),0),\"\")","v":""},{"$f":"IFERROR(VLOOKUP($C$4&\"_\"&$A24,gender_wise,COLUMNS($A$5:F22),0),\"\")","v":""},{"$f":"IFERROR(VLOOKUP($C$4&\"_\"&$A24,gender_wise,COLUMNS($A$5:G22),0),\"\")","v":""},{"$f":"IFERROR(VLOOKUP($C$4&\"_\"&$A24,gender_wise,COLUMNS($A$5:H22),0),\"\")","v":""},{"$f":"IFERROR(VLOOKUP($C$4&\"_\"&$A24,gender_wise,COLUMNS($A$5:I22),0),\"\")","v":""},{"$f":"IFERROR(VLOOKUP($C$4&\"_\"&$A24,gender_wise,COLUMNS($A$5:J22),0),\"\")","v":""},{"$f":"IFERROR(VLOOKUP($C$4&\"_\"&$A24,gender_wise,COLUMNS($A$5:K22),0),\"\")","v":""},{"$f":"IFERROR(VLOOKUP($C$4&\"_\"&$A24,gender_wise,COLUMNS($A$5:L22),0),\"\")","v":""},{"$f":"IFERROR(VLOOKUP($C$4&\"_\"&$A24,gender_wise,COLUMNS($A$5:M22),0),\"\")","v":""},{"$f":"IFERROR(VLOOKUP($C$4&\"_\"&$A24,gender_wise,COLUMNS($A$5:N22),0),\"\")","v":""},{"$f":"IFERROR(VLOOKUP($C$4&\"_\"&$A24,gender_wise,COLUMNS($A$5:O22),0),\"\")","v":""},{"$f":"IFERROR(VLOOKUP($C$4&\"_\"&$A24,gender_wise,COLUMNS($A$5:P22),0),\"\")","v":""},{"$f":"IFERROR(VLOOKUP($C$4&\"_\"&$A24,gender_wise,COLUMNS($A$5:Q22),0),\"\")","v":""},{"$f":"IFERROR(VLOOKUP($C$4&\"_\"&$A24,gender_wise,COLUMNS($A$5:R22),0),\"\")","v":""},{"$f":"IFERROR(VLOOKUP($C$4&\"_\"&$A24,gender_wise,COLUMNS($A$5:S22),0),\"\")","v":""},{"$f":"IFERROR(VLOOKUP($C$4&\"_\"&$A24,gender_wise,COLUMNS($A$5:T22),0),\"\")","v":""},{"$f":"IFERROR(VLOOKUP($C$4&\"_\"&$A24,gender_wise,COLUMNS($A$5:U22),0),\"\")","v":""},{"$f":"IFERROR(VLOOKUP($C$4&\"_\"&$A24,gender_wise,COLUMNS($A$5:V22),0),\"\")","v":""},{"$f":"IFERROR(VLOOKUP($C$4&\"_\"&$A24,gender_wise,COLUMNS($A$5:W22),0),\"\")","v":""},{"$f":"IFERROR(VLOOKUP($C$4&\"_\"&$A24,gender_wise,COLUMNS($A$5:X22),0),\"\")","v":""},{"$f":"IFERROR(VLOOKUP($C$4&\"_\"&$A24,gender_wise,COLUMNS($A$5:Y22),0),\"\")","v":""},{"$f":"IFERROR(VLOOKUP($C$4&\"_\"&$A24,gender_wise,COLUMNS($A$5:Z22),0),\"\")","v":""},{"$f":"IFERROR(VLOOKUP($C$4&\"_\"&$A24,gender_wise,COLUMNS($A$5:AA22),0),\"\")","v":""},{"$f":"IFERROR(VLOOKUP($C$4&\"_\"&$A24,gender_wise,COLUMNS($A$5:AB22),0),\"\")","v":""},{"$f":"IFERROR(VLOOKUP($C$4&\"_\"&$A24,gender_wise,COLUMNS($A$5:AC22),0),\"\")","v":""},{"$f":"IFERROR(VLOOKUP($C$4&\"_\"&$A24,gender_wise,COLUMNS($A$5:AD22),0),\"\")","v":""},{"$f":"IFERROR(VLOOKUP($C$4&\"_\"&$A24,gender_wise,COLUMNS($A$5:AE22),0),\"\")","v":""},{"$f":"IFERROR(VLOOKUP($C$4&\"_\"&$A24,gender_wise,COLUMNS($A$5:AF22),0),\"\")","v":""},{"$f":"IFERROR(VLOOKUP($C$4&\"_\"&$A24,gender_wise,COLUMNS($A$5:AG22),0),\"\")","v":""},{"$f":"IFERROR(VLOOKUP($C$4&\"_\"&$A24,gender_wise,COLUMNS($A$5:AH22),0),\"\")","v":""},{"$f":"IFERROR(VLOOKUP($C$4&\"_\"&$A24,gender_wise,COLUMNS($A$5:AI22),0),\"\")","v":""},{"$f":"IFERROR(VLOOKUP($C$4&\"_\"&$A24,gender_wise,COLUMNS($A$5:AJ22),0),\"\")","v":""}]
[19,{"$f":"IFERROR(VLOOKUP($C$4&\"_\"&$A25,gender_wise,COLUMNS($A$5:C23),0),\"\")","v":""},{"$f":"IFERROR(VLOOKUP($C$4&\"_\"&$A25,gender_wise,COLUMNS($A$5:D23),0),\"\")","v":""},{"$f":"IFERROR(VLOOKUP($C$4&\"_\"&$A25,gender_wise,COLUMNS($A$5:E23),0),\"\")","v":""},{"$f":"IFERROR(VLOOKUP($C$4&\"_\"&$A25,gender_wise,COLUMNS($A$5:F23),0),\"\")","v":""},{"$f":"IFERROR(VLOOKUP($C$4&\"_\"&$A25,gender_wise,COLUMNS($A$5:G23),0),\"\")","v":""},{"$f":"IFERROR(VLOOKUP($C$4&\"_\"&$A25,gender_wise,COLUMNS($A$5:H23),0),\"\")","v":""},{"$f":"IFERROR(VLOOKUP($C$4&\"_\"&$A25,gender_wise,COLUMNS($A$5:I23),0),\"\")","v":""},{"$f":"IFERROR(VLOOKUP($C$4&\"_\"&$A25,gender_wise,COLUMNS($A$5:J23),0),\"\")","v":""},{"$f":"IFERROR(VLOOKUP($C$4&\"_\"&$A25,gender_wise,COLUMNS($A$5:K23),0),\"\")","v":""},{"$f":"IFERROR(VLOOKUP($C$4&\"_\"&$A25,gender_wise,COLUMNS($A$5:L23),0),\"\")","v":""},{"$f":"IFERROR(VLOOKUP($C$4&\"_\"&$A25,gender_wise,COLUMNS($A$5:M23),0),\"\")","v":""},{"$f":"IFERROR(VLOOKUP($C$4&\"_\"&$A25,gender_wise,COLUMNS($A$5:N23),0),\"\")","v":""},{"$f":"IFERROR(VLOOKUP($C$4&\"_\"&$A25,gender_wise,COLUMNS($A$5:O23),0),\"\")","v":""},{"$f":"IFERROR(VLOOKUP($C$4&\"_\"&$A25,gender_wise,COLUMNS($A$5:P23),0),\"\")","v":""},{"$f":"IFERROR(VLOOKUP($C$4&\"_\"&$A25,gender_wise,COLUMNS($A$5:Q23),0),\"\")","v":""},{"$f":"IFERROR(VLOOKUP($C$4&\"_\"&$A25,gender_wise,COLUMNS($A$5:R23),0),\"\")","v":""},{"$f":"IFERROR(VLOOKUP($C$4&\"_\"&$A25,gender_wise,COLUMNS($A$5:S23),0),\"\")","v":""},{"$f":"IFERROR(VLOOKUP($C$4&\"_\"&$A25,gender_wise,COLUMNS($A$5:T23),0),\"\")","v":""},{"$f":"IFERROR(VLOOKUP($C$4&\"_\"&$A25,gender_wise,COLUMNS($A$5:U23),0),\"\")","v":""},{"$f":"IFERROR(VLOOKUP($C$4&\"_\"&$A25,gender_wise,COLUMNS($A$5:V23),0),\"\")","v":""},{"$f":"IFERROR(VLOOKUP($C$4&\"_\"&$A25,gender_wise,COLUMNS($A$5:W23),0),\"\")","v":""},{"$f":"IFERROR(VLOOKUP($C$4&\"_\"&$A25,gender_wise,COLUMNS($A$5:X23),0),\"\")","v":""},{"$f":"IFERROR(VLOOKUP($C$4&\"_\"&$A25,gender_wise,COLUMNS($A$5:Y23),0),\"\")","v":""},{"$f":"IFERROR(VLOOKUP($C$4&\"_\"&$A25,gender_wise,COLUMNS($A$5:Z23),0),\"\")","v":""},{"$f":"IFERROR(VLOOKUP($C$4&\"_\"&$A25,gender_wise,COLUMNS($A$5:AA23),0),\"\")","v":""},{"$f":"IFERROR(VLOOKUP($C$4&\"_\"&$A25,gender_wise,COLUMNS($A$5:AB23),0),\"\")","v":""},{"$f":"IFERROR(VLOOKUP($C$4&\"_\"&$A25,gender_wise,COLUMNS($A$5:AC23),0),\"\")","v":""},{"$f":"IFERROR(VLOOKUP($C$4&\"_\"&$A25,gender_wise,COLUMNS($A$5:AD23),0),\"\")","v":""},{"$f":"IFERROR(VLOOKUP($C$4&\"_\"&$A25,gender_wise,COLUMNS($A$5:AE23),0),\"\")","v":""},{"$f":"IFERROR(VLOOKUP($C$4&\"_\"&$A25,gender_wise,COLUMNS($A$5:AF23),0),\"\")","v":""},{"$f":"IFERROR(VLOOKUP($C$4&\"_\"&$A25,gender_wise,COLUMNS($A$5:AG23),0),\"\")","v":""},{"$f":"IFERROR(VLOOKUP($C$4&\"_\"&$A25,gender_wise,COLUMNS($A$5:AH23),0),\"\")","v":""},{"$f":"IFERROR(VLOOKUP($C$4&\"_\"&$A25,gender_wise,COLUMNS($A$5:AI23),0),\"\")","v":""},{"$f":"IFERROR(VLOOKUP($C$4&\"_\"&$A25,gender_wise,COLUMNS($A$5:AJ23),0),\"\")","v":""}]
[20,{"$f":"IFERROR(VLOOKUP($C$4&\"_\"&$A26,gender_wise,COLUMNS($A$5:C24),0),\"\")","v":""},{"$f":"IFERROR(VLOOKUP($C$4&\"_\"&$A26,gender_wise,COLUMNS($A$5:D24),0),\"\")","v":""},{"$f":"IFERROR(VLOOKUP($C$4&\"_\"&$A26,gender_wise,COLUMNS($A$5:E24),0),\"\")","v":""},{"$f":"IFERROR(VLOOKUP($C$4&\"_\"&$A26,gender_wise,COLUMNS($A$5:F24),0),\"\")","v":""},{"$f":"IFERROR(VLOOKUP($C$4&\"_\"&$A26,gender_wise,COLUMNS($A$5:G24),0),\"\")","v":""},{"$f":"IFERROR(VLOOKUP($C$4&\"_\"&$A26,gender_wise,COLUMNS($A$5:H24),0),\"\")","v":""},{"$f":"IFERROR(VLOOKUP($C$4&\"_\"&$A26,gender_wise,COLUMNS($A$5:I24),0),\"\")","v":""},{"$f":"IFERROR(VLOOKUP($C$4&\"_\"&$A26,gender_wise,COLUMNS($A$5:J24),0),\"\")","v":""},{"$f":"IFERROR(VLOOKUP($C$4&\"_\"&$A26,gender_wise,COLUMNS($A$5:K24),0),\"\")","v":""},{"$f":"IFERROR(VLOOKUP($C$4&\"_\"&$A26,gender_wise,COLUMNS($A$5:L24),0),\"\")","v":""},{"$f":"IFERROR(VLOOKUP($C$4&\"_\"&$A26,gender_wise,COLUMNS($A$5:M24),0),\"\")","v":""},{"$f":"IFERROR(VLOOKUP($C$4&\"_\"&$A26,gender_wise,COLUMNS($A$5:N24),0),\"\")","v":""},{"$f":"IFERROR(VLOOKUP($C$4&\"_\"&$A26,gender_wise,COLUMNS($A$5:O24),0),\"\")","v":""},{"$f":"IFERROR(VLOOKUP($C$4&\"_\"&$A26,gender_wise,COLUMNS($A$5:P24),0),\"\")","v":""},{"$f":"IFERROR(VLOOKUP($C$4&\"_\"&$A26,gender_wise,COLUMNS($A$5:Q24),0),\"\")","v":""},{"$f":"IFERROR(VLOOKUP($C$4&\"_\"&$A26,gender_wise,COLUMNS($A$5:R24),0),\"\")","v":""},{"$f":"IFERROR(VLOOKUP($C$4&\"_\"&$A26,gender_wise,COLUMNS($A$5:S24),0),\"\")","v":""},{"$f":"IFERROR(VLOOKUP($C$4&\"_\"&$A26,gender_wise,COLUMNS($A$5:T24),0),\"\")","v":""},{"$f":"IFERROR(VLOOKUP($C$4&\"_\"&$A26,gender_wise,COLUMNS($A$5:U24),0),\"\")","v":""},{"$f":"IFERROR(VLOOKUP($C$4&\"_\"&$A26,gender_wise,COLUMNS($A$5:V24),0),\"\")","v":""},{"$f":"IFERROR(VLOOKUP($C$4&\"_\"&$A26,gender_wise,COLUMNS($A$5:W24),0),\"\")","v":""},{"$f":"IFERROR(VLOOKUP($C$4&\"_\"&$A26,gender_wise,COLUMNS($A$5:X24),0),\"\")","v":""},{"$f":"IFERROR(VLOOKUP($C$4&\"_\"&$A26,gender_wise,COLUMNS($A$5:Y24),0),\"\")","v":""},{"$f":"IFERROR(VLOOKUP($C$4&\"_\"&$A26,gender_wise,COLUMNS($A$5:Z24),0),\"\")","v":""},{"$f":"IFERROR(VLOOKUP($C$4&\"_\"&$A26,gender_wise,COLUMNS($A$5:AA24),0),\"\")","v":""},{"$f":"IFERROR(VLOOKUP($C$4&\"_\"&$A26,gender_wise,COLUMNS($A$5:AB24),0),\"\")","v":""},{"$f":"IFERROR(VLOOKUP($C$4&\"_\"&$A26,gender_wise,COLUMNS($A$5:AC24),0),\"\")","v":""},{"$f":"IFERROR(VLOOKUP($C$4&\"_\"&$A26,gender_wise,COLUMNS($A$5:AD24),0),\"\")","v":""},{"$f":"IFERROR(VLOOKUP($C$4&\"_\"&$A26,gender_wise,COLUMNS($A$5:AE24),0),\"\")","v":""},{"$f":"IFERROR(VLOOKUP($C$4&\"_\"&$A26,gender_wise,COLUMNS($A$5:AF24),0),\"\")","v":""},{"$f":"IFERROR(VLOOKUP($C$4&\"_\"&$A26,gender_wise,COLUMNS($A$5:AG24),0),\"\")","v":""},{"$f":"IFERROR(VLOOKUP($C$4&\"_\"&$A26,gender_wise,COLUMNS($A$5:AH24),0),\"\")","v":""},{"$f":"IFERROR(VLOOKUP($C$4&\"_\"&$A26,gender_wise,COLUMNS($A$5:AI24),0),\"\")","v":""},{"$f":"IFERROR(VLOOKUP($C$4&\"_\"&$A26,gender_wise,COLUMNS($A$5:AJ24),0),\"\")","v":""}]
[21,{"$f":"IFERROR(VLOOKUP($C$4&\"_\"&$A27,gender_wise,COLUMNS($A$5:C25),0),\"\")","v":""},{"$f":"IFERROR(VLOOKUP($C$4&\"_\"&$A27,gender_wise,COLUMNS($A$5:D25),0),\"\")","v":""},{"$f":"IFERROR(VLOOKUP($C$4&\"_\"&$A27,gender_wise,COLUMNS($A$5:E25),0),\"\")","v":""},{"$f":"IFERROR(VLOOKUP($C$4&\"_\"&$A27,gender_wise,COLUMNS($A$5:F25),0),\"\")","v":""},{"$f":"IFERROR(VLOOKUP($C$4&\"_\"&$A27,gender_wise,COLUMNS($A$5:G25),0),\"\")","v":""},{"$f":"IFERROR(VLOOKUP($C$4&\"_\"&$A27,gender_wise,COLUMNS($A$5:H25),0),\"\")","v":""},{"$f":"IFERROR(VLOOKUP($C$4&\"_\"&$A27,gender_wise,COLUMNS($A$5:I25),0),\"\")","v":""},{"$f":"IFERROR(VLOOKUP($C$4&\"_\"&$A27,gender_wise,COLUMNS($A$5:J25),0),\"\")","v":""},{"$f":"IFERROR(VLOOKUP($C$4&\"_\"&$A27,gender_wise,COLUMNS($A$5:K25),0),\"\")","v":""},{"$f":"IFERROR(VLOOKUP($C$4&\"_\"&$A27,gender_wise,COLUMNS($A$5:L25),0),\"\")","v":""},{"$f":"IFERROR(VLOOKUP($C$4&\"_\"&$A27,gender_wise,COLUMNS($A$5:M25),0),\"\")","v":""},{"$f":"IFERROR(VLOOKUP($C$4&\"_\"&$A27,gender_wise,COLUMNS($A$5:N25),0),\"\")","v":""},{"$f":"IFERROR(VLOOKUP($C$4&\"_\"&$A27,gender_wise,COLUMNS($A$5:O25),0),\"\")","v":""},{"$f":"IFERROR(VLOOKUP($C$4&\"_\"&$A27,gender_wise,COLUMNS($A$5:P25),0),\"\")","v":""},{"$f":"IFERROR(VLOOKUP($C$4&\"_\"&$A27,gender_wise,COLUMNS($A$5:Q25),0),\"\")","v":""},{"$f":"IFERROR(VLOOKUP($C$4&\"_\"&$A27,gender_wise,COLUMNS($A$5:R25),0),\"\")","v":""},{"$f":"IFERROR(VLOOKUP($C$4&\"_\"&$A27,gender_wise,COLUMNS($A$5:S25),0),\"\")","v":""},{"$f":"IFERROR(VLOOKUP($C$4&\"_\"&$A27,gender_wise,COLUMNS($A$5:T25),0),\"\")","v":""},{"$f":"IFERROR(VLOOKUP($C$4&\"_\"&$A27,gender_wise,COLUMNS($A$5:U25),0),\"\")","v":""},{"$f":"IFERROR(VLOOKUP($C$4&\"_\"&$A27,gender_wise,COLUMNS($A$5:V25),0),\"\")","v":""},{"$f":"IFERROR(VLOOKUP($C$4&\"_\"&$A27,gender_wise,COLUMNS($A$5:W25),0),\"\")","v":""},{"$f":"IFERROR(VLOOKUP($C$4&\"_\"&$A27,gender_wise,COLUMNS($A$5:X25),0),\"\")","v":""},{"$f":"IFERROR(VLOOKUP($C$4&\"_\"&$A27,gender_wise,COLUMNS($A$5:Y25),0),\"\")","v":""},{"$f":"IFERROR(VLOOKUP($C$4&\"_\"&$A27,gender_wise,COLUMNS($A$5:Z25),0),\"\")","v":""},{"$f":"IFERROR(VLOOKUP($C$4&\"_\"&$A27,gender_wise,COLUMNS($A$5:AA25),0),\"\")","v":""},{"$f":"IFERROR(VLOOKUP($C$4&\"_\"&$A27,gender_wise,COLUMNS($A$5:AB25),0),\"\")","v":""},{"$f":"IFERROR(VLOOKUP($C$4&\"_\"&$A27,gender_wise,COLUMNS($A$5:AC25),0),\"\")","v":""},{"$f":"IFERROR(VLOOKUP($C$4&\"_\"&$A27,gender_wise,COLUMNS($A$5:AD25),0),\"\")","v":""},{"$f":"IFERROR(VLOOKUP($C$4&\"_\"&$A27,gender_wise,COLUMNS($A$5:AE25),0),\"\")","v":""},{"$f":"IFERROR(VLOOKUP($C$4&\"_\"&$A27,gender_wise,COLUMNS($A$5:AF25),0),\"\")","v":""},{"$f":"IFERROR(VLOOKUP($C$4&\"_\"&$A27,gender_wise,COLUMNS($A$5:AG25),0),\"\")","v":""},{"$f":"IFERROR(VLOOKUP($C$4&\"_\"&$A27,gender_wise,COLUMNS($A$5:AH25),0),\"\")","v":""},{"$f":"IFERROR(VLOOKUP($C$4&\"_\"&$A27,gender_wise,COLUMNS($A$5:AI25),0),\"\")","v":""},{"$f":"IFERROR(VLOOKUP($C$4&\"_\"&$A27,gender_wise,COLUMNS($A$5:AJ25),0),\"\")","v":""}]
[22,{"$f":"IFERROR(VLOOKUP($C$4&\"_\"&$A28,gender_wise,COLUMNS($A$5:C26),0),\"\")","v":""},{"$f":"IFERROR(VLOOKUP($C$4&\"_\"&$A28,gender_wise,COLUMNS($A$5:D26),0),\"\")","v":""},{"$f":"IFERROR(VLOOKUP($C$4&\"_\"&$A28,gender_wise,COLUMNS($A$5:E26),0),\"\")","v":""},{"$f":"IFERROR(VLOOKUP($C$4&\"_\"&$A28,gender_wise,COLUMNS($A$5:F26),0),\"\")","v":""},{"$f":"IFERROR(VLOOKUP($C$4&\"_\"&$A28,gender_wise,COLUMNS($A$5:G26),0),\"\")","v":""},{"$f":"IFERROR(VLOOKUP($C$4&\"_\"&$A28,gender_wise,COLUMNS($A$5:H26),0),\"\")","v":""},{"$f":"IFERROR(VLOOKUP($C$4&\"_\"&$A28,gender_wise,COLUMNS($A$5:I26),0),\"\")","v":""},{"$f":"IFERROR(VLOOKUP($C$4&\"_\"&$A28,gender_wise,COLUMNS($A$5:J26),0),\"\")","v":""},{"$f":"IFERROR(VLOOKUP($C$4&\"_\"&$A28,gender_wise,COLUMNS($A$5:K26),0),\"\")","v":""},{"$f":"IFERROR(VLOOKUP($C$4&\"_\"&$A28,gender_wise,COLUMNS($A$5:L26),0),\"\")","v":""},{"$f":"IFERROR(VLOOKUP($C$4&\"_\"&$A28,gender_wise,COLUMNS($A$5:M26),0),\"\")","v":""},{"$f":"IFERROR(VLOOKUP($C$4&\"_\"&$A28,gender_wise,COLUMNS($A$5:N26),0),\"\")","v":""},{"$f":"IFERROR(VLOOKUP($C$4&\"_\"&$A28,gender_wise,COLUMNS($A$5:O26),0),\"\")","v":""},{"$f":"IFERROR(VLOOKUP($C$4&\"_\"&$A28,gender_wise,COLUMNS($A$5:P26),0),\"\")","v":""},{"$f":"IFERROR(VLOOKUP($C$4&\"_\"&$A28,gender_wise,COLUMNS($A$5:Q26),0),\"\")","v":""},{"$f":"IFERROR(VLOOKUP($C$4&\"_\"&$A28,gender_wise,COLUMNS($A$5:R26),0),\"\")","v":""},{"$f":"IFERROR(VLOOKUP($C$4&\"_\"&$A28,gender_wise,COLUMNS($A$5:S26),0),\"\")","v":""},{"$f":"IFERROR(VLOOKUP($C$4&\"_\"&$A28,gender_wise,COLUMNS($A$5:T26),0),\"\")","v":""},{"$f":"IFERROR(VLOOKUP($C$4&\"_\"&$A28,gender_wise,COLUMNS($A$5:U26),0),\"\")","v":""},{"$f":"IFERROR(VLOOKUP($C$4&\"_\"&$A28,gender_wise,COLUMNS($A$5:V26),0),\"\")","v":""},{"$f":"IFERROR(VLOOKUP($C$4&\"_\"&$A28,gender_wise,COLUMNS($A$5:W26),0),\"\")","v":""},{"$f":"IFERROR(VLOOKUP($C$4&\"_\"&$A28,gender_wise,COLUMNS($A$5:X26),0),\"\")","v":""},{"$f":"IFERROR(VLOOKUP($C$4&\"_\"&$A28,gender_wise,COLUMNS($A$5:Y26),0),\"\")","v":""},{"$f":"IFERROR(VLOOKUP($C$4&\"_\"&$A28,gender_wise,COLUMNS($A$5:Z26),0),\"\")","v":""},{"$f":"IFERROR(VLOOKUP($C$4&\"_\"&$A28,gender_wise,COLUMNS($A$5:AA26),0),\"\")","v":""},{"$f":"IFERROR(VLOOKUP($C$4&\"_\"&$A28,gender_wise,COLUMNS($A$5:AB26),0),\"\")","v":""},{"$f":"IFERROR(VLOOKUP($C$4&\"_\"&$A28,gender_wise,COLUMNS($A$5:AC26),0),\"\")","v":""},{"$f":"IFERROR(VLOOKUP($C$4&\"_\"&$A28,gender_wise,COLUMNS($A$5:AD26),0),\"\")","v":""},{"$f":"IFERROR(VLOOKUP($C$4&\"_\"&$A28,gender_wise,COLUMNS($A$5:AE26),0),\"\")","v":""},{"$f":"IFERROR(VLOOKUP($C$4&\"_\"&$A28,gender_wise,COLUMNS($A$5:AF26),0),\"\")","v":""},{"$f":"IFERROR(VLOOKUP($C$4&\"_\"&$A28,gender_wise,COLUMNS($A$5:AG26),0),\"\")","v":""},{"$f":"IFERROR(VLOOKUP($C$4&\"_\"&$A28,gender_wise,COLUMNS($A$5:AH26),0),\"\")","v":""},{"$f":"IFERROR(VLOOKUP($C$4&\"_\"&$A28,gender_wise,COLUMNS($A$5:AI26),0),\"\")","v":""},{"$f":"IFERROR(VLOOKUP($C$4&\"_\"&$A28,gender_wise,COLUMNS($A$5:AJ26),0),\"\")","v":""}]
[23,{"$f":"IFERROR(VLOOKUP($C$4&\"_\"&$A29,gender_wise,COLUMNS($A$5:C27),0),\"\")","v":""},{"$f":"IFERROR(VLOOKUP($C$4&\"_\"&$A29,gender_wise,COLUMNS($A$5:D27),0),\"\")","v":""},{"$f":"IFERROR(VLOOKUP($C$4&\"_\"&$A29,gender_wise,COLUMNS($A$5:E27),0),\"\")","v":""},{"$f":"IFERROR(VLOOKUP($C$4&\"_\"&$A29,gender_wise,COLUMNS($A$5:F27),0),\"\")","v":""},{"$f":"IFERROR(VLOOKUP($C$4&\"_\"&$A29,gender_wise,COLUMNS($A$5:G27),0),\"\")","v":""},{"$f":"IFERROR(VLOOKUP($C$4&\"_\"&$A29,gender_wise,COLUMNS($A$5:H27),0),\"\")","v":""},{"$f":"IFERROR(VLOOKUP($C$4&\"_\"&$A29,gender_wise,COLUMNS($A$5:I27),0),\"\")","v":""},{"$f":"IFERROR(VLOOKUP($C$4&\"_\"&$A29,gender_wise,COLUMNS($A$5:J27),0),\"\")","v":""},{"$f":"IFERROR(VLOOKUP($C$4&\"_\"&$A29,gender_wise,COLUMNS($A$5:K27),0),\"\")","v":""},{"$f":"IFERROR(VLOOKUP($C$4&\"_\"&$A29,gender_wise,COLUMNS($A$5:L27),0),\"\")","v":""},{"$f":"IFERROR(VLOOKUP($C$4&\"_\"&$A29,gender_wise,COLUMNS($A$5:M27),0),\"\")","v":""},{"$f":"IFERROR(VLOOKUP($C$4&\"_\"&$A29,gender_wise,COLUMNS($A$5:N27),0),\"\")","v":""},{"$f":"IFERROR(VLOOKUP($C$4&\"_\"&$A29,gender_wise,COLUMNS($A$5:O27),0),\"\")","v":""},{"$f":"IFERROR(VLOOKUP($C$4&\"_\"&$A29,gender_wise,COLUMNS($A$5:P27),0),\"\")","v":""},{"$f":"IFERROR(VLOOKUP($C$4&\"_\"&$A29,gender_wise,COLUMNS($A$5:Q27),0),\"\")","v":""},{"$f":"IFERROR(VLOOKUP($C$4&\"_\"&$A29,gender_wise,COLUMNS($A$5:R27),0),\"\")","v":""},{"$f":"IFERROR(VLOOKUP($C$4&\"_\"&$A29,gender_wise,COLUMNS($A$5:S27),0),\"\")","v":""},{"$f":"IFERROR(VLOOKUP($C$4&\"_\"&$A29,gender_wise,COLUMNS($A$5:T27),0),\"\")","v":""},{"$f":"IFERROR(VLOOKUP($C$4&\"_\"&$A29,gender_wise,COLUMNS($A$5:U27),0),\"\")","v":""},{"$f":"IFERROR(VLOOKUP($C$4&\"_\"&$A29,gender_wise,COLUMNS($A$5:V27),0),\"\")","v":""},{"$f":"IFERROR(VLOOKUP($C$4&\"_\"&$A29,gender_wise,COLUMNS($A$5:W27),0),\"\")","v":""},{"$f":"IFERROR(VLOOKUP($C$4&\"_\"&$A29,gender_wise,COLUMNS($A$5:X27),0),\"\")","v":""},{"$f":"IFERROR(VLOOKUP($C$4&\"_\"&$A29,gender_wise,COLUMNS($A$5:Y27),0),\"\")","v":""},{"$f":"IFERROR(VLOOKUP($C$4&\"_\"&$A29,gender_wise,COLUMNS($A$5:Z27),0),\"\")","v":""},{"$f":"IFERROR(VLOOKUP($C$4&\"_\"&$A29,gender_wise,COLUMNS($A$5:AA27),0),\"\")","v":""},{"$f":"IFERROR(VLOOKUP($C$4&\"_\"&$A29,gender_wise,COLUMNS($A$5:AB27),0),\"\")","v":""},{"$f":"IFERROR(VLOOKUP($C$4&\"_\"&$A29,gender_wise,COLUMNS($A$5:AC27),0),\"\")","v":""},{"$f":"IFERROR(VLOOKUP($C$4&\"_\"&$A29,gender_wise,COLUMNS($A$5:AD27),0),\"\")","v":""},{"$f":"IFERROR(VLOOKUP($C$4&\"_\"&$A29,gender_wise,COLUMNS($A$5:AE27),0),\"\")","v":""},{"$f":"IFERROR(VLOOKUP($C$4&\"_\"&$A29,gender_wise,COLUMNS($A$5:AF27),0),\"\")","v":""},{"$f":"IFERROR(VLOOKUP($C$4&\"_\"&$A29,gender_wise,COLUMNS($A$5:AG27),0),\"\")","v":""},{"$f":"IFERROR(VLOOKUP($C$4&\"_\"&$A29,gender_wise,COLUMNS($A$5:AH27),0),\"\")","v":""},{"$f":"IFERROR(VLOOKUP($C$4&\"_\"&$A29,gender_wise,COLUMNS($A$5:AI27),0),\"\")","v":""},{"$f":"IFERROR(VLOOKUP($C$4&\"_\"&$A29,gender_wise,COLUMNS($A$5:AJ27),0),\"\")","v":""}]
[24,{"$f":"IFERROR(VLOOKUP($C$4&\"_\"&$A30,gender_wise,COLUMNS($A$5:C28),0),\"\")","v":""},{"$f":"IFERROR(VLOOKUP($C$4&\"_\"&$A30,gender_wise,COLUMNS($A$5:D28),0),\"\")","v":""},{"$f":"IFERROR(VLOOKUP($C$4&\"_\"&$A30,gender_wise,COLUMNS($A$5:E28),0),\"\")","v":""},{"$f":"IFERROR(VLOOKUP($C$4&\"_\"&$A30,gender_wise,COLUMNS($A$5:F28),0),\"\")","v":""},{"$f":"IFERROR(VLOOKUP($C$4&\"_\"&$A30,gender_wise,COLUMNS($A$5:G28),0),\"\")","v":""},{"$f":"IFERROR(VLOOKUP($C$4&\"_\"&$A30,gender_wise,COLUMNS($A$5:H28),0),\"\")","v":""},{"$f":"IFERROR(VLOOKUP($C$4&\"_\"&$A30,gender_wise,COLUMNS($A$5:I28),0),\"\")","v":""},{"$f":"IFERROR(VLOOKUP($C$4&\"_\"&$A30,gender_wise,COLUMNS($A$5:J28),0),\"\")","v":""},{"$f":"IFERROR(VLOOKUP($C$4&\"_\"&$A30,gender_wise,COLUMNS($A$5:K28),0),\"\")","v":""},{"$f":"IFERROR(VLOOKUP($C$4&\"_\"&$A30,gender_wise,COLUMNS($A$5:L28),0),\"\")","v":""},{"$f":"IFERROR(VLOOKUP($C$4&\"_\"&$A30,gender_wise,COLUMNS($A$5:M28),0),\"\")","v":""},{"$f":"IFERROR(VLOOKUP($C$4&\"_\"&$A30,gender_wise,COLUMNS($A$5:N28),0),\"\")","v":""},{"$f":"IFERROR(VLOOKUP($C$4&\"_\"&$A30,gender_wise,COLUMNS($A$5:O28),0),\"\")","v":""},{"$f":"IFERROR(VLOOKUP($C$4&\"_\"&$A30,gender_wise,COLUMNS($A$5:P28),0),\"\")","v":""},{"$f":"IFERROR(VLOOKUP($C$4&\"_\"&$A30,gender_wise,COLUMNS($A$5:Q28),0),\"\")","v":""},{"$f":"IFERROR(VLOOKUP($C$4&\"_\"&$A30,gender_wise,COLUMNS($A$5:R28),0),\"\")","v":""},{"$f":"IFERROR(VLOOKUP($C$4&\"_\"&$A30,gender_wise,COLUMNS($A$5:S28),0),\"\")","v":""},{"$f":"IFERROR(VLOOKUP($C$4&\"_\"&$A30,gender_wise,COLUMNS($A$5:T28),0),\"\")","v":""},{"$f":"IFERROR(VLOOKUP($C$4&\"_\"&$A30,gender_wise,COLUMNS($A$5:U28),0),\"\")","v":""},{"$f":"IFERROR(VLOOKUP($C$4&\"_\"&$A30,gender_wise,COLUMNS($A$5:V28),0),\"\")","v":""},{"$f":"IFERROR(VLOOKUP($C$4&\"_\"&$A30,gender_wise,COLUMNS($A$5:W28),0),\"\")","v":""},{"$f":"IFERROR(VLOOKUP($C$4&\"_\"&$A30,gender_wise,COLUMNS($A$5:X28),0),\"\")","v":""},{"$f":"IFERROR(VLOOKUP($C$4&\"_\"&$A30,gender_wise,COLUMNS($A$5:Y28),0),\"\")","v":""},{"$f":"IFERROR(VLOOKUP($C$4&\"_\"&$A30,gender_wise,COLUMNS($A$5:Z28),0),\"\")","v":""},{"$f":"IFERROR(VLOOKUP($C$4&\"_\"&$A30,gender_wise,COLUMNS($A$5:AA28),0),\"\")","v":""},{"$f":"IFERROR(VLOOKUP($C$4&\"_\"&$A30,gender_wise,COLUMNS($A$5:AB28),0),\"\")","v":""},{"$f":"IFERROR(VLOOKUP($C$4&\"_\"&$A30,gender_wise,COLUMNS($A$5:AC28),0),\"\")","v":""},{"$f":"IFERROR(VLOOKUP($C$4&\"_\"&$A30,gender_wise,COLUMNS($A$5:AD28),0),\"\")","v":""},{"$f":"IFERROR(VLOOKUP($C$4&\"_\"&$A30,gender_wise,COLUMNS($A$5:AE28),0),\"\")","v":""},{"$f":"IFERROR(VLOOKUP($C$4&\"_\"&$A30,gender_wise,COLUMNS($A$5:AF28),0),\"\")","v":""},{"$f":"IFERROR(VLOOKUP($C$4&\"_\"&$A30,gender_wise,COLUMNS($A$5:AG28),0),\"\")","v":""},{"$f":"IFERROR(VLOOKUP($C$4&\"_\"&$A30,gender_wise,COLUMNS($A$5:AH28),0),\"\")","v":""},{"$f":"IFERROR(VLOOKUP($C$4&\"_\"&$A30,gender_wise,COLUMNS($A$5:AI28),0),\"\")","v":""},{"$f":"IFERROR(VLOOKUP($C$4&\"_\"&$A30,gender_wise,COLUMNS($A$5:AJ28),0),\"\")","v":""}]
[25,{"$f":"IFERROR(VLOOKUP($C$4&\"_\"&$A31,gender_wise,COLUMNS($A$5:C29),0),\"\")","v":""},{"$f":"IFERROR(VLOOKUP($C$4&\"_\"&$A31,gender_wise,COLUMNS($A$5:D29),0),\"\")","v":""},{"$f":"IFERROR(VLOOKUP($C$4&\"_\"&$A31,gender_wise,COLUMNS($A$5:E29),0),\"\")","v":""},{"$f":"IFERROR(VLOOKUP($C$4&\"_\"&$A31,gender_wise,COLUMNS($A$5:F29),0),\"\")","v":""},{"$f":"IFERROR(VLOOKUP($C$4&\"_\"&$A31,gender_wise,COLUMNS($A$5:G29),0),\"\")","v":""},{"$f":"IFERROR(VLOOKUP($C$4&\"_\"&$A31,gender_wise,COLUMNS($A$5:H29),0),\"\")","v":""},{"$f":"IFERROR(VLOOKUP($C$4&\"_\"&$A31,gender_wise,COLUMNS($A$5:I29),0),\"\")","v":""},{"$f":"IFERROR(VLOOKUP($C$4&\"_\"&$A31,gender_wise,COLUMNS($A$5:J29),0),\"\")","v":""},{"$f":"IFERROR(VLOOKUP($C$4&\"_\"&$A31,gender_wise,COLUMNS($A$5:K29),0),\"\")","v":""},{"$f":"IFERROR(VLOOKUP($C$4&\"_\"&$A31,gender_wise,COLUMNS($A$5:L29),0),\"\")","v":""},{"$f":"IFERROR(VLOOKUP($C$4&\"_\"&$A31,gender_wise,COLUMNS($A$5:M29),0),\"\")","v":""},{"$f":"IFERROR(VLOOKUP($C$4&\"_\"&$A31,gender_wise,COLUMNS($A$5:N29),0),\"\")","v":""},{"$f":"IFERROR(VLOOKUP($C$4&\"_\"&$A31,gender_wise,COLUMNS($A$5:O29),0),\"\")","v":""},{"$f":"IFERROR(VLOOKUP($C$4&\"_\"&$A31,gender_wise,COLUMNS($A$5:P29),0),\"\")","v":""},{"$f":"IFERROR(VLOOKUP($C$4&\"_\"&$A31,gender_wise,COLUMNS($A$5:Q29),0),\"\")","v":""},{"$f":"IFERROR(VLOOKUP($C$4&\"_\"&$A31,gender_wise,COLUMNS($A$5:R29),0),\"\")","v":""},{"$f":"IFERROR(VLOOKUP($C$4&\"_\"&$A31,gender_wise,COLUMNS($A$5:S29),0),\"\")","v":""},{"$f":"IFERROR(VLOOKUP($C$4&\"_\"&$A31,gender_wise,COLUMNS($A$5:T29),0),\"\")","v":""},{"$f":"IFERROR(VLOOKUP($C$4&\"_\"&$A31,gender_wise,COLUMNS($A$5:U29),0),\"\")","v":""},{"$f":"IFERROR(VLOOKUP($C$4&\"_\"&$A31,gender_wise,COLUMNS($A$5:V29),0),\"\")","v":""},{"$f":"IFERROR(VLOOKUP($C$4&\"_\"&$A31,gender_wise,COLUMNS($A$5:W29),0),\"\")","v":""},{"$f":"IFERROR(VLOOKUP($C$4&\"_\"&$A31,gender_wise,COLUMNS($A$5:X29),0),\"\")","v":""},{"$f":"IFERROR(VLOOKUP($C$4&\"_\"&$A31,gender_wise,COLUMNS($A$5:Y29),0),\"\")","v":""},{"$f":"IFERROR(VLOOKUP($C$4&\"_\"&$A31,gender_wise,COLUMNS($A$5:Z29),0),\"\")","v":""},{"$f":"IFERROR(VLOOKUP($C$4&\"_\"&$A31,gender_wise,COLUMNS($A$5:AA29),0),\"\")","v":""},{"$f":"IFERROR(VLOOKUP($C$4&\"_\"&$A31,gender_wise,COLUMNS($A$5:AB29),0),\"\")","v":""},{"$f":"IFERROR(VLOOKUP($C$4&\"_\"&$A31,gender_wise,COLUMNS($A$5:AC29),0),\"\")","v":""},{"$f":"IFERROR(VLOOKUP($C$4&\"_\"&$A31,gender_wise,COLUMNS($A$5:AD29),0),\"\")","v":""},{"$f":"IFERROR(VLOOKUP($C$4&\"_\"&$A31,gender_wise,COLUMNS($A$5:AE29),0),\"\")","v":""},{"$f":"IFERROR(VLOOKUP($C$4&\"_\"&$A31,gender_wise,COLUMNS($A$5:AF29),0),\"\")","v":""},{"$f":"IFERROR(VLOOKUP($C$4&\"_\"&$A31,gender_wise,COLUMNS($A$5:AG29),0),\"\")","v":""},{"$f":"IFERROR(VLOOKUP($C$4&\"_\"&$A31,gender_wise,COLUMNS($A$5:AH29),0),\"\")","v":""},{"$f":"IFERROR(VLOOKUP($C$4&\"_\"&$A31,gender_wise,COLUMNS($A$5:AI29),0),\"\")","v":""},{"$f":"IFERROR(VLOOKUP($C$4&\"_\"&$A31,gender_wise,COLUMNS($A$5:AJ29),0),\"\")","v":""}]
[26,{"$f":"IFERROR(VLOOKUP($C$4&\"_\"&$A32,gender_wise,COLUMNS($A$5:C30),0),\"\")","v":""},{"$f":"IFERROR(VLOOKUP($C$4&\"_\"&$A32,gender_wise,COLUMNS($A$5:D30),0),\"\")","v":""},{"$f":"IFERROR(VLOOKUP($C$4&\"_\"&$A32,gender_wise,COLUMNS($A$5:E30),0),\"\")","v":""},{"$f":"IFERROR(VLOOKUP($C$4&\"_\"&$A32,gender_wise,COLUMNS($A$5:F30),0),\"\")","v":""},{"$f":"IFERROR(VLOOKUP($C$4&\"_\"&$A32,gender_wise,COLUMNS($A$5:G30),0),\"\")","v":""},{"$f":"IFERROR(VLOOKUP($C$4&\"_\"&$A32,gender_wise,COLUMNS($A$5:H30),0),\"\")","v":""},{"$f":"IFERROR(VLOOKUP($C$4&\"_\"&$A32,gender_wise,COLUMNS($A$5:I30),0),\"\")","v":""},{"$f":"IFERROR(VLOOKUP($C$4&\"_\"&$A32,gender_wise,COLUMNS($A$5:J30),0),\"\")","v":""},{"$f":"IFERROR(VLOOKUP($C$4&\"_\"&$A32,gender_wise,COLUMNS($A$5:K30),0),\"\")","v":""},{"$f":"IFERROR(VLOOKUP($C$4&\"_\"&$A32,gender_wise,COLUMNS($A$5:L30),0),\"\")","v":""},{"$f":"IFERROR(VLOOKUP($C$4&\"_\"&$A32,gender_wise,COLUMNS($A$5:M30),0),\"\")","v":""},{"$f":"IFERROR(VLOOKUP($C$4&\"_\"&$A32,gender_wise,COLUMNS($A$5:N30),0),\"\")","v":""},{"$f":"IFERROR(VLOOKUP($C$4&\"_\"&$A32,gender_wise,COLUMNS($A$5:O30),0),\"\")","v":""},{"$f":"IFERROR(VLOOKUP($C$4&\"_\"&$A32,gender_wise,COLUMNS($A$5:P30),0),\"\")","v":""},{"$f":"IFERROR(VLOOKUP($C$4&\"_\"&$A32,gender_wise,COLUMNS($A$5:Q30),0),\"\")","v":""},{"$f":"IFERROR(VLOOKUP($C$4&\"_\"&$A32,gender_wise,COLUMNS($A$5:R30),0),\"\")","v":""},{"$f":"IFERROR(VLOOKUP($C$4&\"_\"&$A32,gender_wise,COLUMNS($A$5:S30),0),\"\")","v":""},{"$f":"IFERROR(VLOOKUP($C$4&\"_\"&$A32,gender_wise,COLUMNS($A$5:T30),0),\"\")","v":""},{"$f":"IFERROR(VLOOKUP($C$4&\"_\"&$A32,gender_wise,COLUMNS($A$5:U30),0),\"\")","v":""},{"$f":"IFERROR(VLOOKUP($C$4&\"_\"&$A32,gender_wise,COLUMNS($A$5:V30),0),\"\")","v":""},{"$f":"IFERROR(VLOOKUP($C$4&\"_\"&$A32,gender_wise,COLUMNS($A$5:W30),0),\"\")","v":""},{"$f":"IFERROR(VLOOKUP($C$4&\"_\"&$A32,gender_wise,COLUMNS($A$5:X30),0),\"\")","v":""},{"$f":"IFERROR(VLOOKUP($C$4&\"_\"&$A32,gender_wise,COLUMNS($A$5:Y30),0),\"\")","v":""},{"$f":"IFERROR(VLOOKUP($C$4&\"_\"&$A32,gender_wise,COLUMNS($A$5:Z30),0),\"\")","v":""},{"$f":"IFERROR(VLOOKUP($C$4&\"_\"&$A32,gender_wise,COLUMNS($A$5:AA30),0),\"\")","v":""},{"$f":"IFERROR(VLOOKUP($C$4&\"_\"&$A32,gender_wise,COLUMNS($A$5:AB30),0),\"\")","v":""},{"$f":"IFERROR(VLOOKUP($C$4&\"_\"&$A32,gender_wise,COLUMNS($A$5:AC30),0),\"\")","v":""},{"$f":"IFERROR(VLOOKUP($C$4&\"_\"&$A32,gender_wise,COLUMNS($A$5:AD30),0),\"\")","v":""},{"$f":"IFERROR(VLOOKUP($C$4&\"_\"&$A32,gender_wise,COLUMNS($A$5:AE30),0),\"\")","v":""},{"$f":"IFERROR(VLOOKUP($C$4&\"_\"&$A32,gender_wise,COLUMNS($A$5:AF30),0),\"\")","v":""},{"$f":"IFERROR(VLOOKUP($C$4&\"_\"&$A32,gender_wise,COLUMNS($A$5:AG30),0),\"\")","v":""},{"$f":"IFERROR(VLOOKUP($C$4&\"_\"&$A32,gender_wise,COLUMNS($A$5:AH30),0),\"\")","v":""},{"$f":"IFERROR(VLOOKUP($C$4&\"_\"&$A32,gender_wise,COLUMNS($A$5:AI30),0),\"\")","v":""},{"$f":"IFERROR(VLOOKUP($C$4&\"_\"&$A32,gender_wise,COLUMNS($A$5:AJ30),0),\"\")","v":""}]
[27,{"$f":"IFERROR(VLOOKUP($C$4&\"_\"&$A33,gender_wise,COLUMNS($A$5:C31),0),\"\")","v":""},{"$f":"IFERROR(VLOOKUP($C$4&\"_\"&$A33,gender_wise,COLUMNS($A$5:D31),0),\"\")","v":""},{"$f":"IFERROR(VLOOKUP($C$4&\"_\"&$A33,gender_wise,COLUMNS($A$5:E31),0),\"\")","v":""},{"$f":"IFERROR(VLOOKUP($C$4&\"_\"&$A33,gender_wise,COLUMNS($A$5:F31),0),\"\")","v":""},{"$f":"IFERROR(VLOOKUP($C$4&\"_\"&$A33,gender_wise,COLUMNS($A$5:G31),0),\"\")","v":""},{"$f":"IFERROR(VLOOKUP($C$4&\"_\"&$A33,gender_wise,COLUMNS($A$5:H31),0),\"\")","v":""},{"$f":"IFERROR(VLOOKUP($C$4&\"_\"&$A33,gender_wise,COLUMNS($A$5:I31),0),\"\")","v":""},{"$f":"IFERROR(VLOOKUP($C$4&\"_\"&$A33,gender_wise,COLUMNS($A$5:J31),0),\"\")","v":""},{"$f":"IFERROR(VLOOKUP($C$4&\"_\"&$A33,gender_wise,COLUMNS($A$5:K31),0),\"\")","v":""},{"$f":"IFERROR(VLOOKUP($C$4&\"_\"&$A33,gender_wise,COLUMNS($A$5:L31),0),\"\")","v":""},{"$f":"IFERROR(VLOOKUP($C$4&\"_\"&$A33,gender_wise,COLUMNS($A$5:M31),0),\"\")","v":""},{"$f":"IFERROR(VLOOKUP($C$4&\"_\"&$A33,gender_wise,COLUMNS($A$5:N31),0),\"\")","v":""},{"$f":"IFERROR(VLOOKUP($C$4&\"_\"&$A33,gender_wise,COLUMNS($A$5:O31),0),\"\")","v":""},{"$f":"IFERROR(VLOOKUP($C$4&\"_\"&$A33,gender_wise,COLUMNS($A$5:P31),0),\"\")","v":""},{"$f":"IFERROR(VLOOKUP($C$4&\"_\"&$A33,gender_wise,COLUMNS($A$5:Q31),0),\"\")","v":""},{"$f":"IFERROR(VLOOKUP($C$4&\"_\"&$A33,gender_wise,COLUMNS($A$5:R31),0),\"\")","v":""},{"$f":"IFERROR(VLOOKUP($C$4&\"_\"&$A33,gender_wise,COLUMNS($A$5:S31),0),\"\")","v":""},{"$f":"IFERROR(VLOOKUP($C$4&\"_\"&$A33,gender_wise,COLUMNS($A$5:T31),0),\"\")","v":""},{"$f":"IFERROR(VLOOKUP($C$4&\"_\"&$A33,gender_wise,COLUMNS($A$5:U31),0),\"\")","v":""},{"$f":"IFERROR(VLOOKUP($C$4&\"_\"&$A33,gender_wise,COLUMNS($A$5:V31),0),\"\")","v":""},{"$f":"IFERROR(VLOOKUP($C$4&\"_\"&$A33,gender_wise,COLUMNS($A$5:W31),0),\"\")","v":""},{"$f":"IFERROR(VLOOKUP($C$4&\"_\"&$A33,gender_wise,COLUMNS($A$5:X31),0),\"\")","v":""},{"$f":"IFERROR(VLOOKUP($C$4&\"_\"&$A33,gender_wise,COLUMNS($A$5:Y31),0),\"\")","v":""},{"$f":"IFERROR(VLOOKUP($C$4&\"_\"&$A33,gender_wise,COLUMNS($A$5:Z31),0),\"\")","v":""},{"$f":"IFERROR(VLOOKUP($C$4&\"_\"&$A33,gender_wise,COLUMNS($A$5:AA31),0),\"\")","v":""},{"$f":"IFERROR(VLOOKUP($C$4&\"_\"&$A33,gender_wise,COLUMNS($A$5:AB31),0),\"\")","v":""},{"$f":"IFERROR(VLOOKUP($C$4&\"_\"&$A33,gender_wise,COLUMNS($A$5:AC31),0),\"\")","v":""},{"$f":"IFERROR(VLOOKUP($C$4&\"_\"&$A33,gender_wise,COLUMNS($A$5:AD31),0),\"\")","v":""},{"$f":"IFERROR(VLOOKUP($C$4&\"_\"&$A33,gender_wise,COLUMNS($A$5:AE31),0),\"\")","v":""},{"$f":"IFERROR(VLOOKUP($C$4&\"_\"&$A33,gender_wise,COLUMNS($A$5:AF31),0),\"\")","v":""},{"$f":"IFERROR(VLOOKUP($C$4&\"_\"&$A33,gender_wise,COLUMNS($A$5:AG31),0),\"\")","v":""},{"$f":"IFERROR(VLOOKUP($C$4&\"_\"&$A33,gender_wise,COLUMNS($A$5:AH31),0),\"\")","v":""},{"$f":"IFERROR(VLOOKUP($C$4&\"_\"&$A33,gender_wise,COLUMNS($A$5:AI31),0),\"\")","v":""},{"$f":"IFERROR(VLOOKUP($C$4&\"_\"&$A33,gender_wise,COLUMNS($A$5:AJ31),0),\"\")","v":""}]
[28,{"$f":"IFERROR(VLOOKUP($C$4&\"_\"&$A34,gender_wise,COLUMNS($A$5:C32),0),\"\")","v":""},{"$f":"IFERROR(VLOOKUP($C$4&\"_\"&$A34,gender_wise,COLUMNS($A$5:D32),0),\"\")","v":""},{"$f":"IFERROR(VLOOKUP($C$4&\"_\"&$A34,gender_wise,COLUMNS($A$5:E32),0),\"\")","v":""},{"$f":"IFERROR(VLOOKUP($C$4&\"_\"&$A34,gender_wise,COLUMNS($A$5:F32),0),\"\")","v":""},{"$f":"IFERROR(VLOOKUP($C$4&\"_\"&$A34,gender_wise,COLUMNS($A$5:G32),0),\"\")","v":""},{"$f":"IFERROR(VLOOKUP($C$4&\"_\"&$A34,gender_wise,COLUMNS($A$5:H32),0),\"\")","v":""},{"$f":"IFERROR(VLOOKUP($C$4&\"_\"&$A34,gender_wise,COLUMNS($A$5:I32),0),\"\")","v":""},{"$f":"IFERROR(VLOOKUP($C$4&\"_\"&$A34,gender_wise,COLUMNS($A$5:J32),0),\"\")","v":""},{"$f":"IFERROR(VLOOKUP($C$4&\"_\"&$A34,gender_wise,COLUMNS($A$5:K32),0),\"\")","v":""},{"$f":"IFERROR(VLOOKUP($C$4&\"_\"&$A34,gender_wise,COLUMNS($A$5:L32),0),\"\")","v":""},{"$f":"IFERROR(VLOOKUP($C$4&\"_\"&$A34,gender_wise,COLUMNS($A$5:M32),0),\"\")","v":""},{"$f":"IFERROR(VLOOKUP($C$4&\"_\"&$A34,gender_wise,COLUMNS($A$5:N32),0),\"\")","v":""},{"$f":"IFERROR(VLOOKUP($C$4&\"_\"&$A34,gender_wise,COLUMNS($A$5:O32),0),\"\")","v":""},{"$f":"IFERROR(VLOOKUP($C$4&\"_\"&$A34,gender_wise,COLUMNS($A$5:P32),0),\"\")","v":""},{"$f":"IFERROR(VLOOKUP($C$4&\"_\"&$A34,gender_wise,COLUMNS($A$5:Q32),0),\"\")","v":""},{"$f":"IFERROR(VLOOKUP($C$4&\"_\"&$A34,gender_wise,COLUMNS($A$5:R32),0),\"\")","v":""},{"$f":"IFERROR(VLOOKUP($C$4&\"_\"&$A34,gender_wise,COLUMNS($A$5:S32),0),\"\")","v":""},{"$f":"IFERROR(VLOOKUP($C$4&\"_\"&$A34,gender_wise,COLUMNS($A$5:T32),0),\"\")","v":""},{"$f":"IFERROR(VLOOKUP($C$4&\"_\"&$A34,gender_wise,COLUMNS($A$5:U32),0),\"\")","v":""},{"$f":"IFERROR(VLOOKUP($C$4&\"_\"&$A34,gender_wise,COLUMNS($A$5:V32),0),\"\")","v":""},{"$f":"IFERROR(VLOOKUP($C$4&\"_\"&$A34,gender_wise,COLUMNS($A$5:W32),0),\"\")","v":""},{"$f":"IFERROR(VLOOKUP($C$4&\"_\"&$A34,gender_wise,COLUMNS($A$5:X32),0),\"\")","v":""},{"$f":"IFERROR(VLOOKUP($C$4&\"_\"&$A34,gender_wise,COLUMNS($A$5:Y32),0),\"\")","v":""},{"$f":"IFERROR(VLOOKUP($C$4&\"_\"&$A34,gender_wise,COLUMNS($A$5:Z32),0),\"\")","v":""},{"$f":"IFERROR(VLOOKUP($C$4&\"_\"&$A34,gender_wise,COLUMNS($A$5:AA32),0),\"\")","v":""},{"$f":"IFERROR(VLOOKUP($C$4&\"_\"&$A34,gender_wise,COLUMNS($A$5:AB32),0),\"\")","v":""},{"$f":"IFERROR(VLOOKUP($C$4&\"_\"&$A34,gender_wise,COLUMNS($A$5:AC32),0),\"\")","v":""},{"$f":"IFERROR(VLOOKUP($C$4&\"_\"&$A34,gender_wise,COLUMNS($A$5:AD32),0),\"\")","v":""},{"$f":"IFERROR(VLOOKUP($C$4&\"_\"&$A34,gender_wise,COLUMNS($A$5:AE32),0),\"\")","v":""},{"$f":"IFERROR(VLOOKUP($C$4&\"_\"&$A34,gender_wise,COLUMNS($A$5:AF32),0),\"\")","v":""},{"$f":"IFERROR(VLOOKUP($C$4&\"_\"&$A34,gender_wise,COLUMNS($A$5:AG32),0),\"\")","v":""},{"$f":"IFERROR(VLOOKUP($C$4&\"_\"&$A34,gender_wise,COLUMNS($A$5:AH32),0),\"\")","v":""},{"$f":"IFERROR(VLOOKUP($C$4&\"_\"&$A34,gender_wise,COLUMNS($A$5:AI32),0),\"\")","v":""},{"$f":"IFERROR(VLOOKUP($C$4&\"_\"&$A34,gender_wise,COLUMNS($A$5:AJ32),0),\"\")","v":""}]
[29,{"$f":"IFERROR(VLOOKUP($C$4&\"_\"&$A35,gender_wise,COLUMNS($A$5:C33),0),\"\")","v":""},{"$f":"IFERROR(VLOOKUP($C$4&\"_\"&$A35,gender_wise,COLUMNS($A$5:D33),0),\"\")","v":""},{"$f":"IFERROR(VLOOKUP($C$4&\"_\"&$A35,gender_wise,COLUMNS($A$5:E33),0),\"\")","v":""},{"$f":"IFERROR(VLOOKUP($C$4&\"_\"&$A35,gender_wise,COLUMNS($A$5:F33),0),\"\")","v":""},{"$f":"IFERROR(VLOOKUP($C$4&\"_\"&$A35,gender_wise,COLUMNS($A$5:G33),0),\"\")","v":""},{"$f":"IFERROR(VLOOKUP($C$4&\"_\"&$A35,gender_wise,COLUMNS($A$5:H33),0),\"\")","v":""},{"$f":"IFERROR(VLOOKUP($C$4&\"_\"&$A35,gender_wise,COLUMNS($A$5:I33),0),\"\")","v":""},{"$f":"IFERROR(VLOOKUP($C$4&\"_\"&$A35,gender_wise,COLUMNS($A$5:J33),0),\"\")","v":""},{"$f":"IFERROR(VLOOKUP($C$4&\"_\"&$A35,gender_wise,COLUMNS($A$5:K33),0),\"\")","v":""},{"$f":"IFERROR(VLOOKUP($C$4&\"_\"&$A35,gender_wise,COLUMNS($A$5:L33),0),\"\")","v":""},{"$f":"IFERROR(VLOOKUP($C$4&\"_\"&$A35,gender_wise,COLUMNS($A$5:M33),0),\"\")","v":""},{"$f":"IFERROR(VLOOKUP($C$4&\"_\"&$A35,gender_wise,COLUMNS($A$5:N33),0),\"\")","v":""},{"$f":"IFERROR(VLOOKUP($C$4&\"_\"&$A35,gender_wise,COLUMNS($A$5:O33),0),\"\")","v":""},{"$f":"IFERROR(VLOOKUP($C$4&\"_\"&$A35,gender_wise,COLUMNS($A$5:P33),0),\"\")","v":""},{"$f":"IFERROR(VLOOKUP($C$4&\"_\"&$A35,gender_wise,COLUMNS($A$5:Q33),0),\"\")","v":""},{"$f":"IFERROR(VLOOKUP($C$4&\"_\"&$A35,gender_wise,COLUMNS($A$5:R33),0),\"\")","v":""},{"$f":"IFERROR(VLOOKUP($C$4&\"_\"&$A35,gender_wise,COLUMNS($A$5:S33),0),\"\")","v":""},{"$f":"IFERROR(VLOOKUP($C$4&\"_\"&$A35,gender_wise,COLUMNS($A$5:T33),0),\"\")","v":""},{"$f":"IFERROR(VLOOKUP($C$4&\"_\"&$A35,gender_wise,COLUMNS($A$5:U33),0),\"\")","v":""},{"$f":"IFERROR(VLOOKUP($C$4&\"_\"&$A35,gender_wise,COLUMNS($A$5:V33),0),\"\")","v":""},{"$f":"IFERROR(VLOOKUP($C$4&\"_\"&$A35,gender_wise,COLUMNS($A$5:W33),0),\"\")","v":""},{"$f":"IFERROR(VLOOKUP($C$4&\"_\"&$A35,gender_wise,COLUMNS($A$5:X33),0),\"\")","v":""},{"$f":"IFERROR(VLOOKUP($C$4&\"_\"&$A35,gender_wise,COLUMNS($A$5:Y33),0),\"\")","v":""},{"$f":"IFERROR(VLOOKUP($C$4&\"_\"&$A35,gender_wise,COLUMNS($A$5:Z33),0),\"\")","v":""},{"$f":"IFERROR(VLOOKUP($C$4&\"_\"&$A35,gender_wise,COLUMNS($A$5:AA33),0),\"\")","v":""},{"$f":"IFERROR(VLOOKUP($C$4&\"_\"&$A35,gender_wise,COLUMNS($A$5:AB33),0),\"\")","v":""},{"$f":"IFERROR(VLOOKUP($C$4&\"_\"&$A35,gender_wise,COLUMNS($A$5:AC33),0),\"\")","v":""},{"$f":"IFERROR(VLOOKUP($C$4&\"_\"&$A35,gender_wise,COLUMNS($A$5:AD33),0),\"\")","v":""},{"$f":"IFERROR(VLOOKUP($C$4&\"_\"&$A35,gender_wise,COLUMNS($A$5:AE33),0),\"\")","v":""},{"$f":"IFERROR(VLOOKUP($C$4&\"_\"&$A35,gender_wise,COLUMNS($A$5:AF33),0),\"\")","v":""},{"$f":"IFERROR(VLOOKUP($C$4&\"_\"&$A35,gender_wise,COLUMNS($A$5:AG33),0),\"\")","v":""},{"$f":"IFERROR(VLOOKUP($C$4&\"_\"&$A35,gender_wise,COLUMNS($A$5:AH33),0),\"\")","v":""},{"$f":"IFERROR(VLOOKUP($C$4&\"_\"&$A35,gender_wise,COLUMNS($A$5:AI33),0),\"\")","v":""},{"$f":"IFERROR(VLOOKUP($C$4&\"_\"&$A35,gender_wise,COLUMNS($A$5:AJ33),0),\"\")","v":""}]
[30,{"$f":"IFERROR(VLOOKUP($C$4&\"_\"&$A36,gender_wise,COLUMNS($A$5:C34),0),\"\")","v":""},{"$f":"IFERROR(VLOOKUP($C$4&\"_\"&$A36,gender_wise,COLUMNS($A$5:D34),0),\"\")","v":""},{"$f":"IFERROR(VLOOKUP($C$4&\"_\"&$A36,gender_wise,COLUMNS($A$5:E34),0),\"\")","v":""},{"$f":"IFERROR(VLOOKUP($C$4&\"_\"&$A36,gender_wise,COLUMNS($A$5:F34),0),\"\")","v":""},{"$f":"IFERROR(VLOOKUP($C$4&\"_\"&$A36,gender_wise,COLUMNS($A$5:G34),0),\"\")","v":""},{"$f":"IFERROR(VLOOKUP($C$4&\"_\"&$A36,gender_wise,COLUMNS($A$5:H34),0),\"\")","v":""},{"$f":"IFERROR(VLOOKUP($C$4&\"_\"&$A36,gender_wise,COLUMNS($A$5:I34),0),\"\")","v":""},{"$f":"IFERROR(VLOOKUP($C$4&\"_\"&$A36,gender_wise,COLUMNS($A$5:J34),0),\"\")","v":""},{"$f":"IFERROR(VLOOKUP($C$4&\"_\"&$A36,gender_wise,COLUMNS($A$5:K34),0),\"\")","v":""},{"$f":"IFERROR(VLOOKUP($C$4&\"_\"&$A36,gender_wise,COLUMNS($A$5:L34),0),\"\")","v":""},{"$f":"IFERROR(VLOOKUP($C$4&\"_\"&$A36,gender_wise,COLUMNS($A$5:M34),0),\"\")","v":""},{"$f":"IFERROR(VLOOKUP($C$4&\"_\"&$A36,gender_wise,COLUMNS($A$5:N34),0),\"\")","v":""},{"$f":"IFERROR(VLOOKUP($C$4&\"_\"&$A36,gender_wise,COLUMNS($A$5:O34),0),\"\")","v":""},{"$f":"IFERROR(VLOOKUP($C$4&\"_\"&$A36,gender_wise,COLUMNS($A$5:P34),0),\"\")","v":""},{"$f":"IFERROR(VLOOKUP($C$4&\"_\"&$A36,gender_wise,COLUMNS($A$5:Q34),0),\"\")","v":""},{"$f":"IFERROR(VLOOKUP($C$4&\"_\"&$A36,gender_wise,COLUMNS($A$5:R34),0),\"\")","v":""},{"$f":"IFERROR(VLOOKUP($C$4&\"_\"&$A36,gender_wise,COLUMNS($A$5:S34),0),\"\")","v":""},{"$f":"IFERROR(VLOOKUP($C$4&\"_\"&$A36,gender_wise,COLUMNS($A$5:T34),0),\"\")","v":""},{"$f":"IFERROR(VLOOKUP($C$4&\"_\"&$A36,gender_wise,COLUMNS($A$5:U34),0),\"\")","v":""},{"$f":"IFERROR(VLOOKUP($C$4&\"_\"&$A36,gender_wise,COLUMNS($A$5:V34),0),\"\")","v":""},{"$f":"IFERROR(VLOOKUP($C$4&\"_\"&$A36,gender_wise,COLUMNS($A$5:W34),0),\"\")","v":""},{"$f":"IFERROR(VLOOKUP($C$4&\"_\"&$A36,gender_wise,COLUMNS($A$5:X34),0),\"\")","v":""},{"$f":"IFERROR(VLOOKUP($C$4&\"_\"&$A36,gender_wise,COLUMNS($A$5:Y34),0),\"\")","v":""},{"$f":"IFERROR(VLOOKUP($C$4&\"_\"&$A36,gender_wise,COLUMNS($A$5:Z34),0),\"\")","v":""},{"$f":"IFERROR(VLOOKUP($C$4&\"_\"&$A36,gender_wise,COLUMNS($A$5:AA34),0),\"\")","v":""},{"$f":"IFERROR(VLOOKUP($C$4&\"_\"&$A36,gender_wise,COLUMNS($A$5:AB34),0),\"\")","v":""},{"$f":"IFERROR(VLOOKUP($C$4&\"_\"&$A36,gender_wise,COLUMNS($A$5:AC34),0),\"\")","v":""},{"$f":"IFERROR(VLOOKUP($C$4&\"_\"&$A36,gender_wise,COLUMNS($A$5:AD34),0),\"\")","v":""},{"$f":"IFERROR(VLOOKUP($C$4&\"_\"&$A36,gender_wise,COLUMNS($A$5:AE34),0),\"\")","v":""},{"$f":"IFERROR(VLOOKUP($C$4&\"_\"&$A36,gender_wise,COLUMNS($A$5:AF34),0),\"\")","v":""},{"$f":"IFERROR(VLOOKUP($C$4&\"_\"&$A36,gender_wise,COLUMNS($A$5:AG34),0),\"\")","v":""},{"$f":"IFERROR(VLOOKUP($C$4&\"_\"&$A36,gender_wise,COLUMNS($A$5:AH34),0),\"\")","v":""},{"$f":"IFERROR(VLOOKUP($C$4&\"_\"&$A36,gender_wise,COLUMNS($A$5:AI34),0),\"\")","v":""},{"$f":"IFERROR(VLOOKUP($C$4&\"_\"&$A36,gender_wise,COLUMNS($A$5:AJ34),0),\"\")","v":""}]
[31,{"$f":"IFERROR(VLOOKUP($C$4&\"_\"&$A37,gender_wise,COLUMNS($A$5:C35),0),\"\")","v":""},{"$f":"IFERROR(VLOOKUP($C$4&\"_\"&$A37,gender_wise,COLUMNS($A$5:D35),0),\"\")","v":""},{"$f":"IFERROR(VLOOKUP($C$4&\"_\"&$A37,gender_wise,COLUMNS($A$5:E35),0),\"\")","v":""},{"$f":"IFERROR(VLOOKUP($C$4&\"_\"&$A37,gender_wise,COLUMNS($A$5:F35),0),\"\")","v":""},{"$f":"IFERROR(VLOOKUP($C$4&\"_\"&$A37,gender_wise,COLUMNS($A$5:G35),0),\"\")","v":""},{"$f":"IFERROR(VLOOKUP($C$4&\"_\"&$A37,gender_wise,COLUMNS($A$5:H35),0),\"\")","v":""},{"$f":"IFERROR(VLOOKUP($C$4&\"_\"&$A37,gender_wise,COLUMNS($A$5:I35),0),\"\")","v":""},{"$f":"IFERROR(VLOOKUP($C$4&\"_\"&$A37,gender_wise,COLUMNS($A$5:J35),0),\"\")","v":""},{"$f":"IFERROR(VLOOKUP($C$4&\"_\"&$A37,gender_wise,COLUMNS($A$5:K35),0),\"\")","v":""},{"$f":"IFERROR(VLOOKUP($C$4&\"_\"&$A37,gender_wise,COLUMNS($A$5:L35),0),\"\")","v":""},{"$f":"IFERROR(VLOOKUP($C$4&\"_\"&$A37,gender_wise,COLUMNS($A$5:M35),0),\"\")","v":""},{"$f":"IFERROR(VLOOKUP($C$4&\"_\"&$A37,gender_wise,COLUMNS($A$5:N35),0),\"\")","v":""},{"$f":"IFERROR(VLOOKUP($C$4&\"_\"&$A37,gender_wise,COLUMNS($A$5:O35),0),\"\")","v":""},{"$f":"IFERROR(VLOOKUP($C$4&\"_\"&$A37,gender_wise,COLUMNS($A$5:P35),0),\"\")","v":""},{"$f":"IFERROR(VLOOKUP($C$4&\"_\"&$A37,gender_wise,COLUMNS($A$5:Q35),0),\"\")","v":""},{"$f":"IFERROR(VLOOKUP($C$4&\"_\"&$A37,gender_wise,COLUMNS($A$5:R35),0),\"\")","v":""},{"$f":"IFERROR(VLOOKUP($C$4&\"_\"&$A37,gender_wise,COLUMNS($A$5:S35),0),\"\")","v":""},{"$f":"IFERROR(VLOOKUP($C$4&\"_\"&$A37,gender_wise,COLUMNS($A$5:T35),0),\"\")","v":""},{"$f":"IFERROR(VLOOKUP($C$4&\"_\"&$A37,gender_wise,COLUMNS($A$5:U35),0),\"\")","v":""},{"$f":"IFERROR(VLOOKUP($C$4&\"_\"&$A37,gender_wise,COLUMNS($A$5:V35),0),\"\")","v":""},{"$f":"IFERROR(VLOOKUP($C$4&\"_\"&$A37,gender_wise,COLUMNS($A$5:W35),0),\"\")","v":""},{"$f":"IFERROR(VLOOKUP($C$4&\"_\"&$A37,gender_wise,COLUMNS($A$5:X35),0),\"\")","v":""},{"$f":"IFERROR(VLOOKUP($C$4&\"_\"&$A37,gender_wise,COLUMNS($A$5:Y35),0),\"\")","v":""},{"$f":"IFERROR(VLOOKUP($C$4&\"_\"&$A37,gender_wise,COLUMNS($A$5:Z35),0),\"\")","v":""},{"$f":"IFERROR(VLOOKUP($C$4&\"_\"&$A37,gender_wise,COLUMNS($A$5:AA35),0),\"\")","v":""},{"$f":"IFERROR(VLOOKUP($C$4&\"_\"&$A37,gender_wise,COLUMNS($A$5:AB35),0),\"\")","v":""},{"$f":"IFERROR(VLOOKUP($C$4&\"_\"&$A37,gender_wise,COLUMNS($A$5:AC35),0),\"\")","v":""},{"$f":"IFERROR(VLOOKUP($C$4&\"_\"&$A37,gender_wise,COLUMNS($A$5:AD35),0),\"\")","v":""},{"$f":"IFERROR(VLOOKUP($C$4&\"_\"&$A37,gender_wise,COLUMNS($A$5:AE35),0),\"\")","v":""},{"$f":"IFERROR(VLOOKUP($C$4&\"_\"&$A37,gender_wise,COLUMNS($A$5:AF35),0),\"\")","v":""},{"$f":"IFERROR(VLOOKUP($C$4&\"_\"&$A37,gender_wise,COLUMNS($A$5:AG35),0),\"\")","v":""},{"$f":"IFERROR(VLOOKUP($C$4&\"_\"&$A37,gender_wise,COLUMNS($A$5:AH35),0),\"\")","v":""},{"$f":"IFERROR(VLOOKUP($C$4&\"_\"&$A37,gender_wise,COLUMNS($A$5:AI35),0),\"\")","v":""},{"$f":"IFERROR(VLOOKUP($C$4&\"_\"&$A37,gender_wise,COLUMNS($A$5:AJ35),0),\"\")","v":""}]
[32,{"$f":"IFERROR(VLOOKUP($C$4&\"_\"&$A38,gender_wise,COLUMNS($A$5:C36),0),\"\")","v":""},{"$f":"IFERROR(VLOOKUP($C$4&\"_\"&$A38,gender_wise,COLUMNS($A$5:D36),0),\"\")","v":""},{"$f":"IFERROR(VLOOKUP($C$4&\"_\"&$A38,gender_wise,COLUMNS($A$5:E36),0),\"\")","v":""},{"$f":"IFERROR(VLOOKUP($C$4&\"_\"&$A38,gender_wise,COLUMNS($A$5:F36),0),\"\")","v":""},{"$f":"IFERROR(VLOOKUP($C$4&\"_\"&$A38,gender_wise,COLUMNS($A$5:G36),0),\"\")","v":""},{"$f":"IFERROR(VLOOKUP($C$4&\"_\"&$A38,gender_wise,COLUMNS($A$5:H36),0),\"\")","v":""},{"$f":"IFERROR(VLOOKUP($C$4&\"_\"&$A38,gender_wise,COLUMNS($A$5:I36),0),\"\")","v":""},{"$f":"IFERROR(VLOOKUP($C$4&\"_\"&$A38,gender_wise,COLUMNS($A$5:J36),0),\"\")","v":""},{"$f":"IFERROR(VLOOKUP($C$4&\"_\"&$A38,gender_wise,COLUMNS($A$5:K36),0),\"\")","v":""},{"$f":"IFERROR(VLOOKUP($C$4&\"_\"&$A38,gender_wise,COLUMNS($A$5:L36),0),\"\")","v":""},{"$f":"IFERROR(VLOOKUP($C$4&\"_\"&$A38,gender_wise,COLUMNS($A$5:M36),0),\"\")","v":""},{"$f":"IFERROR(VLOOKUP($C$4&\"_\"&$A38,gender_wise,COLUMNS($A$5:N36),0),\"\")","v":""},{"$f":"IFERROR(VLOOKUP($C$4&\"_\"&$A38,gender_wise,COLUMNS($A$5:O36),0),\"\")","v":""},{"$f":"IFERROR(VLOOKUP($C$4&\"_\"&$A38,gender_wise,COLUMNS($A$5:P36),0),\"\")","v":""},{"$f":"IFERROR(VLOOKUP($C$4&\"_\"&$A38,gender_wise,COLUMNS($A$5:Q36),0),\"\")","v":""},{"$f":"IFERROR(VLOOKUP($C$4&\"_\"&$A38,gender_wise,COLUMNS($A$5:R36),0),\"\")","v":""},{"$f":"IFERROR(VLOOKUP($C$4&\"_\"&$A38,gender_wise,COLUMNS($A$5:S36),0),\"\")","v":""},{"$f":"IFERROR(VLOOKUP($C$4&\"_\"&$A38,gender_wise,COLUMNS($A$5:T36),0),\"\")","v":""},{"$f":"IFERROR(VLOOKUP($C$4&\"_\"&$A38,gender_wise,COLUMNS($A$5:U36),0),\"\")","v":""},{"$f":"IFERROR(VLOOKUP($C$4&\"_\"&$A38,gender_wise,COLUMNS($A$5:V36),0),\"\")","v":""},{"$f":"IFERROR(VLOOKUP($C$4&\"_\"&$A38,gender_wise,COLUMNS($A$5:W36),0),\"\")","v":""},{"$f":"IFERROR(VLOOKUP($C$4&\"_\"&$A38,gender_wise,COLUMNS($A$5:X36),0),\"\")","v":""},{"$f":"IFERROR(VLOOKUP($C$4&\"_\"&$A38,gender_wise,COLUMNS($A$5:Y36),0),\"\")","v":""},{"$f":"IFERROR(VLOOKUP($C$4&\"_\"&$A38,gender_wise,COLUMNS($A$5:Z36),0),\"\")","v":""},{"$f":"IFERROR(VLOOKUP($C$4&\"_\"&$A38,gender_wise,COLUMNS($A$5:AA36),0),\"\")","v":""},{"$f":"IFERROR(VLOOKUP($C$4&\"_\"&$A38,gender_wise,COLUMNS($A$5:AB36),0),\"\")","v":""},{"$f":"IFERROR(VLOOKUP($C$4&\"_\"&$A38,gender_wise,COLUMNS($A$5:AC36),0),\"\")","v":""},{"$f":"IFERROR(VLOOKUP($C$4&\"_\"&$A38,gender_wise,COLUMNS($A$5:AD36),0),\"\")","v":""},{"$f":"IFERROR(VLOOKUP($C$4&\"_\"&$A38,gender_wise,COLUMNS($A$5:AE36),0),\"\")","v":""},{"$f":"IFERROR(VLOOKUP($C$4&\"_\"&$A38,gender_wise,COLUMNS($A$5:AF36),0),\"\")","v":""},{"$f":"IFERROR(VLOOKUP($C$4&\"_\"&$A38,gender_wise,COLUMNS($A$5:AG36),0),\"\")","v":""},{"$f":"IFERROR(VLOOKUP($C$4&\"_\"&$A38,gender_wise,COLUMNS($A$5:AH36),0),\"\")","v":""},{"$f":"IFERROR(VLOOKUP($C$4&\"_\"&$A38,gender_wise,COLUMNS($A$5:AI36),0),\"\")","v":""},{"$f":"IFERROR(VLOOKUP($C$4&\"_\"&$A38,gender_wise,COLUMNS($A$5:AJ36),0),\"\")","v":""}]
[33,{"$f":"IFERROR(VLOOKUP($C$4&\"_\"&$A39,gender_wise,COLUMNS($A$5:C37),0),\"\")","v":""},{"$f":"IFERROR(VLOOKUP($C$4&\"_\"&$A39,gender_wise,COLUMNS($A$5:D37),0),\"\")","v":""},{"$f":"IFERROR(VLOOKUP($C$4&\"_\"&$A39,gender_wise,COLUMNS($A$5:E37),0),\"\")","v":""},{"$f":"IFERROR(VLOOKUP($C$4&\"_\"&$A39,gender_wise,COLUMNS($A$5:F37),0),\"\")","v":""},{"$f":"IFERROR(VLOOKUP($C$4&\"_\"&$A39,gender_wise,COLUMNS($A$5:G37),0),\"\")","v":""},{"$f":"IFERROR(VLOOKUP($C$4&\"_\"&$A39,gender_wise,COLUMNS($A$5:H37),0),\"\")","v":""},{"$f":"IFERROR(VLOOKUP($C$4&\"_\"&$A39,gender_wise,COLUMNS($A$5:I37),0),\"\")","v":""},{"$f":"IFERROR(VLOOKUP($C$4&\"_\"&$A39,gender_wise,COLUMNS($A$5:J37),0),\"\")","v":""},{"$f":"IFERROR(VLOOKUP($C$4&\"_\"&$A39,gender_wise,COLUMNS($A$5:K37),0),\"\")","v":""},{"$f":"IFERROR(VLOOKUP($C$4&\"_\"&$A39,gender_wise,COLUMNS($A$5:L37),0),\"\")","v":""},{"$f":"IFERROR(VLOOKUP($C$4&\"_\"&$A39,gender_wise,COLUMNS($A$5:M37),0),\"\")","v":""},{"$f":"IFERROR(VLOOKUP($C$4&\"_\"&$A39,gender_wise,COLUMNS($A$5:N37),0),\"\")","v":""},{"$f":"IFERROR(VLOOKUP($C$4&\"_\"&$A39,gender_wise,COLUMNS($A$5:O37),0),\"\")","v":""},{"$f":"IFERROR(VLOOKUP($C$4&\"_\"&$A39,gender_wise,COLUMNS($A$5:P37),0),\"\")","v":""},{"$f":"IFERROR(VLOOKUP($C$4&\"_\"&$A39,gender_wise,COLUMNS($A$5:Q37),0),\"\")","v":""},{"$f":"IFERROR(VLOOKUP($C$4&\"_\"&$A39,gender_wise,COLUMNS($A$5:R37),0),\"\")","v":""},{"$f":"IFERROR(VLOOKUP($C$4&\"_\"&$A39,gender_wise,COLUMNS($A$5:S37),0),\"\")","v":""},{"$f":"IFERROR(VLOOKUP($C$4&\"_\"&$A39,gender_wise,COLUMNS($A$5:T37),0),\"\")","v":""},{"$f":"IFERROR(VLOOKUP($C$4&\"_\"&$A39,gender_wise,COLUMNS($A$5:U37),0),\"\")","v":""},{"$f":"IFERROR(VLOOKUP($C$4&\"_\"&$A39,gender_wise,COLUMNS($A$5:V37),0),\"\")","v":""},{"$f":"IFERROR(VLOOKUP($C$4&\"_\"&$A39,gender_wise,COLUMNS($A$5:W37),0),\"\")","v":""},{"$f":"IFERROR(VLOOKUP($C$4&\"_\"&$A39,gender_wise,COLUMNS($A$5:X37),0),\"\")","v":""},{"$f":"IFERROR(VLOOKUP($C$4&\"_\"&$A39,gender_wise,COLUMNS($A$5:Y37),0),\"\")","v":""},{"$f":"IFERROR(VLOOKUP($C$4&\"_\"&$A39,gender_wise,COLUMNS($A$5:Z37),0),\"\")","v":""},{"$f":"IFERROR(VLOOKUP($C$4&\"_\"&$A39,gender_wise,COLUMNS($A$5:AA37),0),\"\")","v":""},{"$f":"IFERROR(VLOOKUP($C$4&\"_\"&$A39,gender_wise,COLUMNS($A$5:AB37),0),\"\")","v":""},{"$f":"IFERROR(VLOOKUP($C$4&\"_\"&$A39,gender_wise,COLUMNS($A$5:AC37),0),\"\")","v":""},{"$f":"IFERROR(VLOOKUP($C$4&\"_\"&$A39,gender_wise,COLUMNS($A$5:AD37),0),\"\")","v":""},{"$f":"IFERROR(VLOOKUP($C$4&\"_\"&$A39,gender_wise,COLUMNS($A$5:AE37),0),\"\")","v":""},{"$f":"IFERROR(VLOOKUP($C$4&\"_\"&$A39,gender_wise,COLUMNS($A$5:AF37),0),\"\")","v":""},{"$f":"IFERROR(VLOOKUP($C$4&\"_\"&$A39,gender_wise,COLUMNS($A$5:AG37),0),\"\")","v":""},{"$f":"IFERROR(VLOOKUP($C$4&\"_\"&$A39,gender_wise,COLUMNS($A$5:AH37),0),\"\")","v":""},{"$f":"IFERROR(VLOOKUP($C$4&\"_\"&$A39,gender_wise,COLUMNS($A$5:AI37),0),\"\")","v":""},{"$f":"IFERROR(VLOOKUP($C$4&\"_\"&$A39,gender_wise,COLUMNS($A$5:AJ37),0),\"\")","v":""}]
[34,{"$f":"IFERROR(VLOOKUP($C$4&\"_\"&$A40,gender_wise,COLUMNS($A$5:C38),0),\"\")","v":""},{"$f":"IFERROR(VLOOKUP($C$4&\"_\"&$A40,gender_wise,COLUMNS($A$5:D38),0),\"\")","v":""},{"$f":"IFERROR(VLOOKUP($C$4&\"_\"&$A40,gender_wise,COLUMNS($A$5:E38),0),\"\")","v":""},{"$f":"IFERROR(VLOOKUP($C$4&\"_\"&$A40,gender_wise,COLUMNS($A$5:F38),0),\"\")","v":""},{"$f":"IFERROR(VLOOKUP($C$4&\"_\"&$A40,gender_wise,COLUMNS($A$5:G38),0),\"\")","v":""},{"$f":"IFERROR(VLOOKUP($C$4&\"_\"&$A40,gender_wise,COLUMNS($A$5:H38),0),\"\")","v":""},{"$f":"IFERROR(VLOOKUP($C$4&\"_\"&$A40,gender_wise,COLUMNS($A$5:I38),0),\"\")","v":""},{"$f":"IFERROR(VLOOKUP($C$4&\"_\"&$A40,gender_wise,COLUMNS($A$5:J38),0),\"\")","v":""},{"$f":"IFERROR(VLOOKUP($C$4&\"_\"&$A40,gender_wise,COLUMNS($A$5:K38),0),\"\")","v":""},{"$f":"IFERROR(VLOOKUP($C$4&\"_\"&$A40,gender_wise,COLUMNS($A$5:L38),0),\"\")","v":""},{"$f":"IFERROR(VLOOKUP($C$4&\"_\"&$A40,gender_wise,COLUMNS($A$5:M38),0),\"\")","v":""},{"$f":"IFERROR(VLOOKUP($C$4&\"_\"&$A40,gender_wise,COLUMNS($A$5:N38),0),\"\")","v":""},{"$f":"IFERROR(VLOOKUP($C$4&\"_\"&$A40,gender_wise,COLUMNS($A$5:O38),0),\"\")","v":""},{"$f":"IFERROR(VLOOKUP($C$4&\"_\"&$A40,gender_wise,COLUMNS($A$5:P38),0),\"\")","v":""},{"$f":"IFERROR(VLOOKUP($C$4&\"_\"&$A40,gender_wise,COLUMNS($A$5:Q38),0),\"\")","v":""},{"$f":"IFERROR(VLOOKUP($C$4&\"_\"&$A40,gender_wise,COLUMNS($A$5:R38),0),\"\")","v":""},{"$f":"IFERROR(VLOOKUP($C$4&\"_\"&$A40,gender_wise,COLUMNS($A$5:S38),0),\"\")","v":""},{"$f":"IFERROR(VLOOKUP($C$4&\"_\"&$A40,gender_wise,COLUMNS($A$5:T38),0),\"\")","v":""},{"$f":"IFERROR(VLOOKUP($C$4&\"_\"&$A40,gender_wise,COLUMNS($A$5:U38),0),\"\")","v":""},{"$f":"IFERROR(VLOOKUP($C$4&\"_\"&$A40,gender_wise,COLUMNS($A$5:V38),0),\"\")","v":""},{"$f":"IFERROR(VLOOKUP($C$4&\"_\"&$A40,gender_wise,COLUMNS($A$5:W38),0),\"\")","v":""},{"$f":"IFERROR(VLOOKUP($C$4&\"_\"&$A40,gender_wise,COLUMNS($A$5:X38),0),\"\")","v":""},{"$f":"IFERROR(VLOOKUP($C$4&\"_\"&$A40,gender_wise,COLUMNS($A$5:Y38),0),\"\")","v":""},{"$f":"IFERROR(VLOOKUP($C$4&\"_\"&$A40,gender_wise,COLUMNS($A$5:Z38),0),\"\")","v":""},{"$f":"IFERROR(VLOOKUP($C$4&\"_\"&$A40,gender_wise,COLUMNS($A$5:AA38),0),\"\")","v":""},{"$f":"IFERROR(VLOOKUP($C$4&\"_\"&$A40,gender_wise,COLUMNS($A$5:AB38),0),\"\")","v":""},{"$f":"IFERROR(VLOOKUP($C$4&\"_\"&$A40,gender_wise,COLUMNS($A$5:AC38),0),\"\")","v":""},{"$f":"IFERROR(VLOOKUP($C$4&\"_\"&$A40,gender_wise,COLUMNS($A$5:AD38),0),\"\")","v":""},{"$f":"IFERROR(VLOOKUP($C$4&\"_\"&$A40,gender_wise,COLUMNS($A$5:AE38),0),\"\")","v":""},{"$f":"IFERROR(VLOOKUP($C$4&\"_\"&$A40,gender_wise,COLUMNS($A$5:AF38),0),\"\")","v":""},{"$f":"IFERROR(VLOOKUP($C$4&\"_\"&$A40,gender_wise,COLUMNS($A$5:AG38),0),\"\")","v":""},{"$f":"IFERROR(VLOOKUP($C$4&\"_\"&$A40,gender_wise,COLUMNS($A$5:AH38),0),\"\")","v":""},{"$f":"IFERROR(VLOOKUP($C$4&\"_\"&$A40,gender_wise,COLUMNS($A$5:AI38),0),\"\")","v":""},{"$f":"IFERROR(VLOOKUP($C$4&\"_\"&$A40,gender_wise,COLUMNS($A$5:AJ38),0),\"\")","v":""}]
[35,{"$f":"IFERROR(VLOOKUP($C$4&\"_\"&$A41,gender_wise,COLUMNS($A$5:C39),0),\"\")","v":""},{"$f":"IFERROR(VLOOKUP($C$4&\"_\"&$A41,gender_wise,COLUMNS($A$5:D39),0),\"\")","v":""},{"$f":"IFERROR(VLOOKUP($C$4&\"_\"&$A41,gender_wise,COLUMNS($A$5:E39),0),\"\")","v":""},{"$f":"IFERROR(VLOOKUP($C$4&\"_\"&$A41,gender_wise,COLUMNS($A$5:F39),0),\"\")","v":""},{"$f":"IFERROR(VLOOKUP($C$4&\"_\"&$A41,gender_wise,COLUMNS($A$5:G39),0),\"\")","v":""},{"$f":"IFERROR(VLOOKUP($C$4&\"_\"&$A41,gender_wise,COLUMNS($A$5:H39),0),\"\")","v":""},{"$f":"IFERROR(VLOOKUP($C$4&\"_\"&$A41,gender_wise,COLUMNS($A$5:I39),0),\"\")","v":""},{"$f":"IFERROR(VLOOKUP($C$4&\"_\"&$A41,gender_wise,COLUMNS($A$5:J39),0),\"\")","v":""},{"$f":"IFERROR(VLOOKUP($C$4&\"_\"&$A41,gender_wise,COLUMNS($A$5:K39),0),\"\")","v":""},{"$f":"IFERROR(VLOOKUP($C$4&\"_\"&$A41,gender_wise,COLUMNS($A$5:L39),0),\"\")","v":""},{"$f":"IFERROR(VLOOKUP($C$4&\"_\"&$A41,gender_wise,COLUMNS($A$5:M39),0),\"\")","v":""},{"$f":"IFERROR(VLOOKUP($C$4&\"_\"&$A41,gender_wise,COLUMNS($A$5:N39),0),\"\")","v":""},{"$f":"IFERROR(VLOOKUP($C$4&\"_\"&$A41,gender_wise,COLUMNS($A$5:O39),0),\"\")","v":""},{"$f":"IFERROR(VLOOKUP($C$4&\"_\"&$A41,gender_wise,COLUMNS($A$5:P39),0),\"\")","v":""},{"$f":"IFERROR(VLOOKUP($C$4&\"_\"&$A41,gender_wise,COLUMNS($A$5:Q39),0),\"\")","v":""},{"$f":"IFERROR(VLOOKUP($C$4&\"_\"&$A41,gender_wise,COLUMNS($A$5:R39),0),\"\")","v":""},{"$f":"IFERROR(VLOOKUP($C$4&\"_\"&$A41,gender_wise,COLUMNS($A$5:S39),0),\"\")","v":""},{"$f":"IFERROR(VLOOKUP($C$4&\"_\"&$A41,gender_wise,COLUMNS($A$5:T39),0),\"\")","v":""},{"$f":"IFERROR(VLOOKUP($C$4&\"_\"&$A41,gender_wise,COLUMNS($A$5:U39),0),\"\")","v":""},{"$f":"IFERROR(VLOOKUP($C$4&\"_\"&$A41,gender_wise,COLUMNS($A$5:V39),0),\"\")","v":""},{"$f":"IFERROR(VLOOKUP($C$4&\"_\"&$A41,gender_wise,COLUMNS($A$5:W39),0),\"\")","v":""},{"$f":"IFERROR(VLOOKUP($C$4&\"_\"&$A41,gender_wise,COLUMNS($A$5:X39),0),\"\")","v":""},{"$f":"IFERROR(VLOOKUP($C$4&\"_\"&$A41,gender_wise,COLUMNS($A$5:Y39),0),\"\")","v":""},{"$f":"IFERROR(VLOOKUP($C$4&\"_\"&$A41,gender_wise,COLUMNS($A$5:Z39),0),\"\")","v":""},{"$f":"IFERROR(VLOOKUP($C$4&\"_\"&$A41,gender_wise,COLUMNS($A$5:AA39),0),\"\")","v":""},{"$f":"IFERROR(VLOOKUP($C$4&\"_\"&$A41,gender_wise,COLUMNS($A$5:AB39),0),\"\")","v":""},{"$f":"IFERROR(VLOOKUP($C$4&\"_\"&$A41,gender_wise,COLUMNS($A$5:AC39),0),\"\")","v":""},{"$f":"IFERROR(VLOOKUP($C$4&\"_\"&$A41,gender_wise,COLUMNS($A$5:AD39),0),\"\")","v":""},{"$f":"IFERROR(VLOOKUP($C$4&\"_\"&$A41,gender_wise,COLUMNS($A$5:AE39),0),\"\")","v":""},{"$f":"IFERROR(VLOOKUP($C$4&\"_\"&$A41,gender_wise,COLUMNS($A$5:AF39),0),\"\")","v":""},{"$f":"IFERROR(VLOOKUP($C$4&\"_\"&$A41,gender_wise,COLUMNS($A$5:AG39),0),\"\")","v":""},{"$f":"IFERROR(VLOOKUP($C$4&\"_\"&$A41,gender_wise,COLUMNS($A$5:AH39),0),\"\")","v":""},{"$f":"IFERROR(VLOOKUP($C$4&\"_\"&$A41,gender_wise,COLUMNS($A$5:AI39),0),\"\")","v":""},{"$f":"IFERROR(VLOOKUP($C$4&\"_\"&$A41,gender_wise,COLUMNS($A$5:AJ39),0),\"\")","v":""}]
[36,{"$f":"IFERROR(VLOOKUP($C$4&\"_\"&$A42,gender_wise,COLUMNS($A$5:C40),0),\"\")","v":""},{"$f":"IFERROR(VLOOKUP($C$4&\"_\"&$A42,gender_wise,COLUMNS($A$5:D40),0),\"\")","v":""},{"$f":"IFERROR(VLOOKUP($C$4&\"_\"&$A42,gender_wise,COLUMNS($A$5:E40),0),\"\")","v":""},{"$f":"IFERROR(VLOOKUP($C$4&\"_\"&$A42,gender_wise,COLUMNS($A$5:F40),0),\"\")","v":""},{"$f":"IFERROR(VLOOKUP($C$4&\"_\"&$A42,gender_wise,COLUMNS($A$5:G40),0),\"\")","v":""},{"$f":"IFERROR(VLOOKUP($C$4&\"_\"&$A42,gender_wise,COLUMNS($A$5:H40),0),\"\")","v":""},{"$f":"IFERROR(VLOOKUP($C$4&\"_\"&$A42,gender_wise,COLUMNS($A$5:I40),0),\"\")","v":""},{"$f":"IFERROR(VLOOKUP($C$4&\"_\"&$A42,gender_wise,COLUMNS($A$5:J40),0),\"\")","v":""},{"$f":"IFERROR(VLOOKUP($C$4&\"_\"&$A42,gender_wise,COLUMNS($A$5:K40),0),\"\")","v":""},{"$f":"IFERROR(VLOOKUP($C$4&\"_\"&$A42,gender_wise,COLUMNS($A$5:L40),0),\"\")","v":""},{"$f":"IFERROR(VLOOKUP($C$4&\"_\"&$A42,gender_wise,COLUMNS($A$5:M40),0),\"\")","v":""},{"$f":"IFERROR(VLOOKUP($C$4&\"_\"&$A42,gender_wise,COLUMNS($A$5:N40),0),\"\")","v":""},{"$f":"IFERROR(VLOOKUP($C$4&\"_\"&$A42,gender_wise,COLUMNS($A$5:O40),0),\"\")","v":""},{"$f":"IFERROR(VLOOKUP($C$4&\"_\"&$A42,gender_wise,COLUMNS($A$5:P40),0),\"\")","v":""},{"$f":"IFERROR(VLOOKUP($C$4&\"_\"&$A42,gender_wise,COLUMNS($A$5:Q40),0),\"\")","v":""},{"$f":"IFERROR(VLOOKUP($C$4&\"_\"&$A42,gender_wise,COLUMNS($A$5:R40),0),\"\")","v":""},{"$f":"IFERROR(VLOOKUP($C$4&\"_\"&$A42,gender_wise,COLUMNS($A$5:S40),0),\"\")","v":""},{"$f":"IFERROR(VLOOKUP($C$4&\"_\"&$A42,gender_wise,COLUMNS($A$5:T40),0),\"\")","v":""},{"$f":"IFERROR(VLOOKUP($C$4&\"_\"&$A42,gender_wise,COLUMNS($A$5:U40),0),\"\")","v":""},{"$f":"IFERROR(VLOOKUP($C$4&\"_\"&$A42,gender_wise,COLUMNS($A$5:V40),0),\"\")","v":""},{"$f":"IFERROR(VLOOKUP($C$4&\"_\"&$A42,gender_wise,COLUMNS($A$5:W40),0),\"\")","v":""},{"$f":"IFERROR(VLOOKUP($C$4&\"_\"&$A42,gender_wise,COLUMNS($A$5:X40),0),\"\")","v":""},{"$f":"IFERROR(VLOOKUP($C$4&\"_\"&$A42,gender_wise,COLUMNS($A$5:Y40),0),\"\")","v":""},{"$f":"IFERROR(VLOOKUP($C$4&\"_\"&$A42,gender_wise,COLUMNS($A$5:Z40),0),\"\")","v":""},{"$f":"IFERROR(VLOOKUP($C$4&\"_\"&$A42,gender_wise,COLUMNS($A$5:AA40),0),\"\")","v":""},{"$f":"IFERROR(VLOOKUP($C$4&\"_\"&$A42,gender_wise,COLUMNS($A$5:AB40),0),\"\")","v":""},{"$f":"IFERROR(VLOOKUP($C$4&\"_\"&$A42,gender_wise,COLUMNS($A$5:AC40),0),\"\")","v":""},{"$f":"IFERROR(VLOOKUP($C$4&\"_\"&$A42,gender_wise,COLUMNS($A$5:AD40),0),\"\")","v":""},{"$f":"IFERROR(VLOOKUP($C$4&\"_\"&$A42,gender_wise,COLUMNS($A$5:AE40),0),\"\")","v":""},{"$f":"IFERROR(VLOOKUP($C$4&\"_\"&$A42,gender_wise,COLUMNS($A$5:AF40),0),\"\")","v":""},{"$f":"IFERROR(VLOOKUP($C$4&\"_\"&$A42,gender_wise,COLUMNS($A$5:AG40),0),\"\")","v":""},{"$f":"IFERROR(VLOOKUP($C$4&\"_\"&$A42,gender_wise,COLUMNS($A$5:AH40),0),\"\")","v":""},{"$f":"IFERROR(VLOOKUP($C$4&\"_\"&$A42,gender_wise,COLUMNS($A$5:AI40),0),\"\")","v":""},{"$f":"IFERROR(VLOOKUP($C$4&\"_\"&$A42,gender_wise,COLUMNS($A$5:AJ40),0),\"\")","v":""}]
[37,{"$f":"IFERROR(VLOOKUP($C$4&\"_\"&$A43,gender_wise,COLUMNS($A$5:C41),0),\"\")","v":""},{"$f":"IFERROR(VLOOKUP($C$4&\"_\"&$A43,gender_wise,COLUMNS($A$5:D41),0),\"\")","v":""},{"$f":"IFERROR(VLOOKUP($C$4&\"_\"&$A43,gender_wise,COLUMNS($A$5:E41),0),\"\")","v":""},{"$f":"IFERROR(VLOOKUP($C$4&\"_\"&$A43,gender_wise,COLUMNS($A$5:F41),0),\"\")","v":""},{"$f":"IFERROR(VLOOKUP($C$4&\"_\"&$A43,gender_wise,COLUMNS($A$5:G41),0),\"\")","v":""},{"$f":"IFERROR(VLOOKUP($C$4&\"_\"&$A43,gender_wise,COLUMNS($A$5:H41),0),\"\")","v":""},{"$f":"IFERROR(VLOOKUP($C$4&\"_\"&$A43,gender_wise,COLUMNS($A$5:I41),0),\"\")","v":""},{"$f":"IFERROR(VLOOKUP($C$4&\"_\"&$A43,gender_wise,COLUMNS($A$5:J41),0),\"\")","v":""},{"$f":"IFERROR(VLOOKUP($C$4&\"_\"&$A43,gender_wise,COLUMNS($A$5:K41),0),\"\")","v":""},{"$f":"IFERROR(VLOOKUP($C$4&\"_\"&$A43,gender_wise,COLUMNS($A$5:L41),0),\"\")","v":""},{"$f":"IFERROR(VLOOKUP($C$4&\"_\"&$A43,gender_wise,COLUMNS($A$5:M41),0),\"\")","v":""},{"$f":"IFERROR(VLOOKUP($C$4&\"_\"&$A43,gender_wise,COLUMNS($A$5:N41),0),\"\")","v":""},{"$f":"IFERROR(VLOOKUP($C$4&\"_\"&$A43,gender_wise,COLUMNS($A$5:O41),0),\"\")","v":""},{"$f":"IFERROR(VLOOKUP($C$4&\"_\"&$A43,gender_wise,COLUMNS($A$5:P41),0),\"\")","v":""},{"$f":"IFERROR(VLOOKUP($C$4&\"_\"&$A43,gender_wise,COLUMNS($A$5:Q41),0),\"\")","v":""},{"$f":"IFERROR(VLOOKUP($C$4&\"_\"&$A43,gender_wise,COLUMNS($A$5:R41),0),\"\")","v":""},{"$f":"IFERROR(VLOOKUP($C$4&\"_\"&$A43,gender_wise,COLUMNS($A$5:S41),0),\"\")","v":""},{"$f":"IFERROR(VLOOKUP($C$4&\"_\"&$A43,gender_wise,COLUMNS($A$5:T41),0),\"\")","v":""},{"$f":"IFERROR(VLOOKUP($C$4&\"_\"&$A43,gender_wise,COLUMNS($A$5:U41),0),\"\")","v":""},{"$f":"IFERROR(VLOOKUP($C$4&\"_\"&$A43,gender_wise,COLUMNS($A$5:V41),0),\"\")","v":""},{"$f":"IFERROR(VLOOKUP($C$4&\"_\"&$A43,gender_wise,COLUMNS($A$5:W41),0),\"\")","v":""},{"$f":"IFERROR(VLOOKUP($C$4&\"_\"&$A43,gender_wise,COLUMNS($A$5:X41),0),\"\")","v":""},{"$f":"IFERROR(VLOOKUP($C$4&\"_\"&$A43,gender_wise,COLUMNS($A$5:Y41),0),\"\")","v":""},{"$f":"IFERROR(VLOOKUP($C$4&\"_\"&$A43,gender_wise,COLUMNS($A$5:Z41),0),\"\")","v":""},{"$f":"IFERROR(VLOOKUP($C$4&\"_\"&$A43,gender_wise,COLUMNS($A$5:AA41),0),\"\")","v":""},{"$f":"IFERROR(VLOOKUP($C$4&\"_\"&$A43,gender_wise,COLUMNS($A$5:AB41),0),\"\")","v":""},{"$f":"IFERROR(VLOOKUP($C$4&\"_\"&$A43,gender_wise,COLUMNS($A$5:AC41),0),\"\")","v":""},{"$f":"IFERROR(VLOOKUP($C$4&\"_\"&$A43,gender_wise,COLUMNS($A$5:AD41),0),\"\")","v":""},{"$f":"IFERROR(VLOOKUP($C$4&\"_\"&$A43,gender_wise,COLUMNS($A$5:AE41),0),\"\")","v":""},{"$f":"IFERROR(VLOOKUP($C$4&\"_\"&$A43,gender_wise,COLUMNS($A$5:AF41),0),\"\")","v":""},{"$f":"IFERROR(VLOOKUP($C$4&\"_\"&$A43,gender_wise,COLUMNS($A$5:AG41),0),\"\")","v":""},{"$f":"IFERROR(VLOOKUP($C$4&\"_\"&$A43,gender_wise,COLUMNS($A$5:AH41),0),\"\")","v":""},{"$f":"IFERROR(VLOOKUP($C$4&\"_\"&$A43,gender_wise,COLUMNS($A$5:AI41),0),\"\")","v":""},{"$f":"IFERROR(VLOOKUP($C$4&\"_\"&$A43,gender_wise,COLUMNS($A$5:AJ41),0),\"\")","v":""}]
[38,{"$f":"IFERROR(VLOOKUP($C$4&\"_\"&$A44,gender_wise,COLUMNS($A$5:C42),0),\"\")","v":""},{"$f":"IFERROR(VLOOKUP($C$4&\"_\"&$A44,gender_wise,COLUMNS($A$5:D42),0),\"\")","v":""},{"$f":"IFERROR(VLOOKUP($C$4&\"_\"&$A44,gender_wise,COLUMNS($A$5:E42),0),\"\")","v":""},{"$f":"IFERROR(VLOOKUP($C$4&\"_\"&$A44,gender_wise,COLUMNS($A$5:F42),0),\"\")","v":""},{"$f":"IFERROR(VLOOKUP($C$4&\"_\"&$A44,gender_wise,COLUMNS($A$5:G42),0),\"\")","v":""},{"$f":"IFERROR(VLOOKUP($C$4&\"_\"&$A44,gender_wise,COLUMNS($A$5:H42),0),\"\")","v":""},{"$f":"IFERROR(VLOOKUP($C$4&\"_\"&$A44,gender_wise,COLUMNS($A$5:I42),0),\"\")","v":""},{"$f":"IFERROR(VLOOKUP($C$4&\"_\"&$A44,gender_wise,COLUMNS($A$5:J42),0),\"\")","v":""},{"$f":"IFERROR(VLOOKUP($C$4&\"_\"&$A44,gender_wise,COLUMNS($A$5:K42),0),\"\")","v":""},{"$f":"IFERROR(VLOOKUP($C$4&\"_\"&$A44,gender_wise,COLUMNS($A$5:L42),0),\"\")","v":""},{"$f":"IFERROR(VLOOKUP($C$4&\"_\"&$A44,gender_wise,COLUMNS($A$5:M42),0),\"\")","v":""},{"$f":"IFERROR(VLOOKUP($C$4&\"_\"&$A44,gender_wise,COLUMNS($A$5:N42),0),\"\")","v":""},{"$f":"IFERROR(VLOOKUP($C$4&\"_\"&$A44,gender_wise,COLUMNS($A$5:O42),0),\"\")","v":""},{"$f":"IFERROR(VLOOKUP($C$4&\"_\"&$A44,gender_wise,COLUMNS($A$5:P42),0),\"\")","v":""},{"$f":"IFERROR(VLOOKUP($C$4&\"_\"&$A44,gender_wise,COLUMNS($A$5:Q42),0),\"\")","v":""},{"$f":"IFERROR(VLOOKUP($C$4&\"_\"&$A44,gender_wise,COLUMNS($A$5:R42),0),\"\")","v":""},{"$f":"IFERROR(VLOOKUP($C$4&\"_\"&$A44,gender_wise,COLUMNS($A$5:S42),0),\"\")","v":""},{"$f":"IFERROR(VLOOKUP($C$4&\"_\"&$A44,gender_wise,COLUMNS($A$5:T42),0),\"\")","v":""},{"$f":"IFERROR(VLOOKUP($C$4&\"_\"&$A44,gender_wise,COLUMNS($A$5:U42),0),\"\")","v":""},{"$f":"IFERROR(VLOOKUP($C$4&\"_\"&$A44,gender_wise,COLUMNS($A$5:V42),0),\"\")","v":""},{"$f":"IFERROR(VLOOKUP($C$4&\"_\"&$A44,gender_wise,COLUMNS($A$5:W42),0),\"\")","v":""},{"$f":"IFERROR(VLOOKUP($C$4&\"_\"&$A44,gender_wise,COLUMNS($A$5:X42),0),\"\")","v":""},{"$f":"IFERROR(VLOOKUP($C$4&\"_\"&$A44,gender_wise,COLUMNS($A$5:Y42),0),\"\")","v":""},{"$f":"IFERROR(VLOOKUP($C$4&\"_\"&$A44,gender_wise,COLUMNS($A$5:Z42),0),\"\")","v":""},{"$f":"IFERROR(VLOOKUP($C$4&\"_\"&$A44,gender_wise,COLUMNS($A$5:AA42),0),\"\")","v":""},{"$f":"IFERROR(VLOOKUP($C$4&\"_\"&$A44,gender_wise,COLUMNS($A$5:AB42),0),\"\")","v":""},{"$f":"IFERROR(VLOOKUP($C$4&\"_\"&$A44,gender_wise,COLUMNS($A$5:AC42),0),\"\")","v":""},{"$f":"IFERROR(VLOOKUP($C$4&\"_\"&$A44,gender_wise,COLUMNS($A$5:AD42),0),\"\")","v":""},{"$f":"IFERROR(VLOOKUP($C$4&\"_\"&$A44,gender_wise,COLUMNS($A$5:AE42),0),\"\")","v":""},{"$f":"IFERROR(VLOOKUP($C$4&\"_\"&$A44,gender_wise,COLUMNS($A$5:AF42),0),\"\")","v":""},{"$f":"IFERROR(VLOOKUP($C$4&\"_\"&$A44,gender_wise,COLUMNS($A$5:AG42),0),\"\")","v":""},{"$f":"IFERROR(VLOOKUP($C$4&\"_\"&$A44,gender_wise,COLUMNS($A$5:AH42),0),\"\")","v":""},{"$f":"IFERROR(VLOOKUP($C$4&\"_\"&$A44,gender_wise,COLUMNS($A$5:AI42),0),\"\")","v":""},{"$f":"IFERROR(VLOOKUP($C$4&\"_\"&$A44,gender_wise,COLUMNS($A$5:AJ42),0),\"\")","v":""}]
[39,{"$f":"IFERROR(VLOOKUP($C$4&\"_\"&$A45,gender_wise,COLUMNS($A$5:C43),0),\"\")","v":""},{"$f":"IFERROR(VLOOKUP($C$4&\"_\"&$A45,gender_wise,COLUMNS($A$5:D43),0),\"\")","v":""},{"$f":"IFERROR(VLOOKUP($C$4&\"_\"&$A45,gender_wise,COLUMNS($A$5:E43),0),\"\")","v":""},{"$f":"IFERROR(VLOOKUP($C$4&\"_\"&$A45,gender_wise,COLUMNS($A$5:F43),0),\"\")","v":""},{"$f":"IFERROR(VLOOKUP($C$4&\"_\"&$A45,gender_wise,COLUMNS($A$5:G43),0),\"\")","v":""},{"$f":"IFERROR(VLOOKUP($C$4&\"_\"&$A45,gender_wise,COLUMNS($A$5:H43),0),\"\")","v":""},{"$f":"IFERROR(VLOOKUP($C$4&\"_\"&$A45,gender_wise,COLUMNS($A$5:I43),0),\"\")","v":""},{"$f":"IFERROR(VLOOKUP($C$4&\"_\"&$A45,gender_wise,COLUMNS($A$5:J43),0),\"\")","v":""},{"$f":"IFERROR(VLOOKUP($C$4&\"_\"&$A45,gender_wise,COLUMNS($A$5:K43),0),\"\")","v":""},{"$f":"IFERROR(VLOOKUP($C$4&\"_\"&$A45,gender_wise,COLUMNS($A$5:L43),0),\"\")","v":""},{"$f":"IFERROR(VLOOKUP($C$4&\"_\"&$A45,gender_wise,COLUMNS($A$5:M43),0),\"\")","v":""},{"$f":"IFERROR(VLOOKUP($C$4&\"_\"&$A45,gender_wise,COLUMNS($A$5:N43),0),\"\")","v":""},{"$f":"IFERROR(VLOOKUP($C$4&\"_\"&$A45,gender_wise,COLUMNS($A$5:O43),0),\"\")","v":""},{"$f":"IFERROR(VLOOKUP($C$4&\"_\"&$A45,gender_wise,COLUMNS($A$5:P43),0),\"\")","v":""},{"$f":"IFERROR(VLOOKUP($C$4&\"_\"&$A45,gender_wise,COLUMNS($A$5:Q43),0),\"\")","v":""},{"$f":"IFERROR(VLOOKUP($C$4&\"_\"&$A45,gender_wise,COLUMNS($A$5:R43),0),\"\")","v":""},{"$f":"IFERROR(VLOOKUP($C$4&\"_\"&$A45,gender_wise,COLUMNS($A$5:S43),0),\"\")","v":""},{"$f":"IFERROR(VLOOKUP($C$4&\"_\"&$A45,gender_wise,COLUMNS($A$5:T43),0),\"\")","v":""},{"$f":"IFERROR(VLOOKUP($C$4&\"_\"&$A45,gender_wise,COLUMNS($A$5:U43),0),\"\")","v":""},{"$f":"IFERROR(VLOOKUP($C$4&\"_\"&$A45,gender_wise,COLUMNS($A$5:V43),0),\"\")","v":""},{"$f":"IFERROR(VLOOKUP($C$4&\"_\"&$A45,gender_wise,COLUMNS($A$5:W43),0),\"\")","v":""},{"$f":"IFERROR(VLOOKUP($C$4&\"_\"&$A45,gender_wise,COLUMNS($A$5:X43),0),\"\")","v":""},{"$f":"IFERROR(VLOOKUP($C$4&\"_\"&$A45,gender_wise,COLUMNS($A$5:Y43),0),\"\")","v":""},{"$f":"IFERROR(VLOOKUP($C$4&\"_\"&$A45,gender_wise,COLUMNS($A$5:Z43),0),\"\")","v":""},{"$f":"IFERROR(VLOOKUP($C$4&\"_\"&$A45,gender_wise,COLUMNS($A$5:AA43),0),\"\")","v":""},{"$f":"IFERROR(VLOOKUP($C$4&\"_\"&$A45,gender_wise,COLUMNS($A$5:AB43),0),\"\")","v":""},{"$f":"IFERROR(VLOOKUP($C$4&\"_\"&$A45,gender_wise,COLUMNS($A$5:AC43),0),\"\")","v":""},{"$f":"IFERROR(VLOOKUP($C$4&\"_\"&$A45,gender_wise,COLUMNS($A$5:AD43),0),\"\")","v":""},{"$f":"IFERROR(VLOOKUP($C$4&\"_\"&$A45,gender_wise,COLUMNS($A$5:AE43),0),\"\")","v":""},{"$f":"IFERROR(VLOOKUP($C$4&\"_\"&$A45,gender_wise,COLUMNS($A$5:AF43),0),\"\")","v":""},{"$f":"IFERROR(VLOOKUP($C$4&\"_\"&$A45,gender_wise,COLUMNS($A$5:AG43),0),\"\")","v":""},{"$f":"IFERROR(VLOOKUP($C$4&\"_\"&$A45,gender_wise,COLUMNS($A$5:AH43),0),\"\")","v":""},{"$f":"IFERROR(VLOOKUP($C$4&\"_\"&$A45,gender_wise,COLUMNS($A$5:AI43),0),\"\")","v":""},{"$f":"IFERROR(VLOOKUP($C$4&\"_\"&$A45,gender_wise,COLUMNS($A$5:AJ43),0),\"\")","v":""}]
[40,{"$f":"IFERROR(VLOOKUP($C$4&\"_\"&$A46,gender_wise,COLUMNS($A$5:C44),0),\"\")","v":""},{"$f":"IFERROR(VLOOKUP($C$4&\"_\"&$A46,gender_wise,COLUMNS($A$5:D44),0),\"\")","v":""},{"$f":"IFERROR(VLOOKUP($C$4&\"_\"&$A46,gender_wise,COLUMNS($A$5:E44),0),\"\")","v":""},{"$f":"IFERROR(VLOOKUP($C$4&\"_\"&$A46,gender_wise,COLUMNS($A$5:F44),0),\"\")","v":""},{"$f":"IFERROR(VLOOKUP($C$4&\"_\"&$A46,gender_wise,COLUMNS($A$5:G44),0),\"\")","v":""},{"$f":"IFERROR(VLOOKUP($C$4&\"_\"&$A46,gender_wise,COLUMNS($A$5:H44),0),\"\")","v":""},{"$f":"IFERROR(VLOOKUP($C$4&\"_\"&$A46,gender_wise,COLUMNS($A$5:I44),0),\"\")","v":""},{"$f":"IFERROR(VLOOKUP($C$4&\"_\"&$A46,gender_wise,COLUMNS($A$5:J44),0),\"\")","v":""},{"$f":"IFERROR(VLOOKUP($C$4&\"_\"&$A46,gender_wise,COLUMNS($A$5:K44),0),\"\")","v":""},{"$f":"IFERROR(VLOOKUP($C$4&\"_\"&$A46,gender_wise,COLUMNS($A$5:L44),0),\"\")","v":""},{"$f":"IFERROR(VLOOKUP($C$4&\"_\"&$A46,gender_wise,COLUMNS($A$5:M44),0),\"\")","v":""},{"$f":"IFERROR(VLOOKUP($C$4&\"_\"&$A46,gender_wise,COLUMNS($A$5:N44),0),\"\")","v":""},{"$f":"IFERROR(VLOOKUP($C$4&\"_\"&$A46,gender_wise,COLUMNS($A$5:O44),0),\"\")","v":""},{"$f":"IFERROR(VLOOKUP($C$4&\"_\"&$A46,gender_wise,COLUMNS($A$5:P44),0),\"\")","v":""},{"$f":"IFERROR(VLOOKUP($C$4&\"_\"&$A46,gender_wise,COLUMNS($A$5:Q44),0),\"\")","v":""},{"$f":"IFERROR(VLOOKUP($C$4&\"_\"&$A46,gender_wise,COLUMNS($A$5:R44),0),\"\")","v":""},{"$f":"IFERROR(VLOOKUP($C$4&\"_\"&$A46,gender_wise,COLUMNS($A$5:S44),0),\"\")","v":""},{"$f":"IFERROR(VLOOKUP($C$4&\"_\"&$A46,gender_wise,COLUMNS($A$5:T44),0),\"\")","v":""},{"$f":"IFERROR(VLOOKUP($C$4&\"_\"&$A46,gender_wise,COLUMNS($A$5:U44),0),\"\")","v":""},{"$f":"IFERROR(VLOOKUP($C$4&\"_\"&$A46,gender_wise,COLUMNS($A$5:V44),0),\"\")","v":""},{"$f":"IFERROR(VLOOKUP($C$4&\"_\"&$A46,gender_wise,COLUMNS($A$5:W44),0),\"\")","v":""},{"$f":"IFERROR(VLOOKUP($C$4&\"_\"&$A46,gender_wise,COLUMNS($A$5:X44),0),\"\")","v":""},{"$f":"IFERROR(VLOOKUP($C$4&\"_\"&$A46,gender_wise,COLUMNS($A$5:Y44),0),\"\")","v":""},{"$f":"IFERROR(VLOOKUP($C$4&\"_\"&$A46,gender_wise,COLUMNS($A$5:Z44),0),\"\")","v":""},{"$f":"IFERROR(VLOOKUP($C$4&\"_\"&$A46,gender_wise,COLUMNS($A$5:AA44),0),\"\")","v":""},{"$f":"IFERROR(VLOOKUP($C$4&\"_\"&$A46,gender_wise,COLUMNS($A$5:AB44),0),\"\")","v":""},{"$f":"IFERROR(VLOOKUP($C$4&\"_\"&$A46,gender_wise,COLUMNS($A$5:AC44),0),\"\")","v":""},{"$f":"IFERROR(VLOOKUP($C$4&\"_\"&$A46,gender_wise,COLUMNS($A$5:AD44),0),\"\")","v":""},{"$f":"IFERROR(VLOOKUP($C$4&\"_\"&$A46,gender_wise,COLUMNS($A$5:AE44),0),\"\")","v":""},{"$f":"IFERROR(VLOOKUP($C$4&\"_\"&$A46,gender_wise,COLUMNS($A$5:AF44),0),\"\")","v":""},{"$f":"IFERROR(VLOOKUP($C$4&\"_\"&$A46,gender_wise,COLUMNS($A$5:AG44),0),\"\")","v":""},{"$f":"IFERROR(VLOOKUP($C$4&\"_\"&$A46,gender_wise,COLUMNS($A$5:AH44),0),\"\")","v":""},{"$f":"IFERROR(VLOOKUP($C$4&\"_\"&$A46,gender_wise,COLUMNS($A$5:AI44),0),\"\")","v":""},{"$f":"IFERROR(VLOOKUP($C$4&\"_\"&$A46,gender_wise,COLUMNS($A$5:AJ44),0),\"\")","v":""}]
[41,{"$f":"IFERROR(VLOOKUP($C$4&\"_\"&$A47,gender_wise,COLUMNS($A$5:C45),0),\"\")","v":""},{"$f":"IFERROR(VLOOKUP($C$4&\"_\"&$A47,gender_wise,COLUMNS($A$5:D45),0),\"\")","v":""},{"$f":"IFERROR(VLOOKUP($C$4&\"_\"&$A47,gender_wise,COLUMNS($A$5:E45),0),\"\")","v":""},{"$f":"IFERROR(VLOOKUP($C$4&\"_\"&$A47,gender_wise,COLUMNS($A$5:F45),0),\"\")","v":""},{"$f":"IFERROR(VLOOKUP($C$4&\"_\"&$A47,gender_wise,COLUMNS($A$5:G45),0),\"\")","v":""},{"$f":"IFERROR(VLOOKUP($C$4&\"_\"&$A47,gender_wise,COLUMNS($A$5:H45),0),\"\")","v":""},{"$f":"IFERROR(VLOOKUP($C$4&\"_\"&$A47,gender_wise,COLUMNS($A$5:I45),0),\"\")","v":""},{"$f":"IFERROR(VLOOKUP($C$4&\"_\"&$A47,gender_wise,COLUMNS($A$5:J45),0),\"\")","v":""},{"$f":"IFERROR(VLOOKUP($C$4&\"_\"&$A47,gender_wise,COLUMNS($A$5:K45),0),\"\")","v":""},{"$f":"IFERROR(VLOOKUP($C$4&\"_\"&$A47,gender_wise,COLUMNS($A$5:L45),0),\"\")","v":""},{"$f":"IFERROR(VLOOKUP($C$4&\"_\"&$A47,gender_wise,COLUMNS($A$5:M45),0),\"\")","v":""},{"$f":"IFERROR(VLOOKUP($C$4&\"_\"&$A47,gender_wise,COLUMNS($A$5:N45),0),\"\")","v":""},{"$f":"IFERROR(VLOOKUP($C$4&\"_\"&$A47,gender_wise,COLUMNS($A$5:O45),0),\"\")","v":""},{"$f":"IFERROR(VLOOKUP($C$4&\"_\"&$A47,gender_wise,COLUMNS($A$5:P45),0),\"\")","v":""},{"$f":"IFERROR(VLOOKUP($C$4&\"_\"&$A47,gender_wise,COLUMNS($A$5:Q45),0),\"\")","v":""},{"$f":"IFERROR(VLOOKUP($C$4&\"_\"&$A47,gender_wise,COLUMNS($A$5:R45),0),\"\")","v":""},{"$f":"IFERROR(VLOOKUP($C$4&\"_\"&$A47,gender_wise,COLUMNS($A$5:S45),0),\"\")","v":""},{"$f":"IFERROR(VLOOKUP($C$4&\"_\"&$A47,gender_wise,COLUMNS($A$5:T45),0),\"\")","v":""},{"$f":"IFERROR(VLOOKUP($C$4&\"_\"&$A47,gender_wise,COLUMNS($A$5:U45),0),\"\")","v":""},{"$f":"IFERROR(VLOOKUP($C$4&\"_\"&$A47,gender_wise,COLUMNS($A$5:V45),0),\"\")","v":""},{"$f":"IFERROR(VLOOKUP($C$4&\"_\"&$A47,gender_wise,COLUMNS($A$5:W45),0),\"\")","v":""},{"$f":"IFERROR(VLOOKUP($C$4&\"_\"&$A47,gender_wise,COLUMNS($A$5:X45),0),\"\")","v":""},{"$f":"IFERROR(VLOOKUP($C$4&\"_\"&$A47,gender_wise,COLUMNS($A$5:Y45),0),\"\")","v":""},{"$f":"IFERROR(VLOOKUP($C$4&\"_\"&$A47,gender_wise,COLUMNS($A$5:Z45),0),\"\")","v":""},{"$f":"IFERROR(VLOOKUP($C$4&\"_\"&$A47,gender_wise,COLUMNS($A$5:AA45),0),\"\")","v":""},{"$f":"IFERROR(VLOOKUP($C$4&\"_\"&$A47,gender_wise,COLUMNS($A$5:AB45),0),\"\")","v":""},{"$f":"IFERROR(VLOOKUP($C$4&\"_\"&$A47,gender_wise,COLUMNS($A$5:AC45),0),\"\")","v":""},{"$f":"IFERROR(VLOOKUP($C$4&\"_\"&$A47,gender_wise,COLUMNS($A$5:AD45),0),\"\")","v":""},{"$f":"IFERROR(VLOOKUP($C$4&\"_\"&$A47,gender_wise,COLUMNS($A$5:AE45),0),\"\")","v":""},{"$f":"IFERROR(VLOOKUP($C$4&\"_\"&$A47,gender_wise,COLUMNS($A$5:AF45),0),\"\")","v":""},{"$f":"IFERROR(VLOOKUP($C$4&\"_\"&$A47,gender_wise,COLUMNS($A$5:AG45),0),\"\")","v":""},{"$f":"IFERROR(VLOOKUP($C$4&\"_\"&$A47,gender_wise,COLUMNS($A$5:AH45),0),\"\")","v":""},{"$f":"IFERROR(VLOOKUP($C$4&\"_\"&$A47,gender_wise,COLUMNS($A$5:AI45),0),\"\")","v":""},{"$f":"IFERROR(VLOOKUP($C$4&\"_\"&$A47,gender_wise,COLUMNS($A$5:AJ45),0),\"\")","v":""}]
[42,{"$f":"IFERROR(VLOOKUP($C$4&\"_\"&$A48,gender_wise,COLUMNS($A$5:C46),0),\"\")","v":""},{"$f":"IFERROR(VLOOKUP($C$4&\"_\"&$A48,gender_wise,COLUMNS($A$5:D46),0),\"\")","v":""},{"$f":"IFERROR(VLOOKUP($C$4&\"_\"&$A48,gender_wise,COLUMNS($A$5:E46),0),\"\")","v":""},{"$f":"IFERROR(VLOOKUP($C$4&\"_\"&$A48,gender_wise,COLUMNS($A$5:F46),0),\"\")","v":""},{"$f":"IFERROR(VLOOKUP($C$4&\"_\"&$A48,gender_wise,COLUMNS($A$5:G46),0),\"\")","v":""},{"$f":"IFERROR(VLOOKUP($C$4&\"_\"&$A48,gender_wise,COLUMNS($A$5:H46),0),\"\")","v":""},{"$f":"IFERROR(VLOOKUP($C$4&\"_\"&$A48,gender_wise,COLUMNS($A$5:I46),0),\"\")","v":""},{"$f":"IFERROR(VLOOKUP($C$4&\"_\"&$A48,gender_wise,COLUMNS($A$5:J46),0),\"\")","v":""},{"$f":"IFERROR(VLOOKUP($C$4&\"_\"&$A48,gender_wise,COLUMNS($A$5:K46),0),\"\")","v":""},{"$f":"IFERROR(VLOOKUP($C$4&\"_\"&$A48,gender_wise,COLUMNS($A$5:L46),0),\"\")","v":""},{"$f":"IFERROR(VLOOKUP($C$4&\"_\"&$A48,gender_wise,COLUMNS($A$5:M46),0),\"\")","v":""},{"$f":"IFERROR(VLOOKUP($C$4&\"_\"&$A48,gender_wise,COLUMNS($A$5:N46),0),\"\")","v":""},{"$f":"IFERROR(VLOOKUP($C$4&\"_\"&$A48,gender_wise,COLUMNS($A$5:O46),0),\"\")","v":""},{"$f":"IFERROR(VLOOKUP($C$4&\"_\"&$A48,gender_wise,COLUMNS($A$5:P46),0),\"\")","v":""},{"$f":"IFERROR(VLOOKUP($C$4&\"_\"&$A48,gender_wise,COLUMNS($A$5:Q46),0),\"\")","v":""},{"$f":"IFERROR(VLOOKUP($C$4&\"_\"&$A48,gender_wise,COLUMNS($A$5:R46),0),\"\")","v":""},{"$f":"IFERROR(VLOOKUP($C$4&\"_\"&$A48,gender_wise,COLUMNS($A$5:S46),0),\"\")","v":""},{"$f":"IFERROR(VLOOKUP($C$4&\"_\"&$A48,gender_wise,COLUMNS($A$5:T46),0),\"\")","v":""},{"$f":"IFERROR(VLOOKUP($C$4&\"_\"&$A48,gender_wise,COLUMNS($A$5:U46),0),\"\")","v":""},{"$f":"IFERROR(VLOOKUP($C$4&\"_\"&$A48,gender_wise,COLUMNS($A$5:V46),0),\"\")","v":""},{"$f":"IFERROR(VLOOKUP($C$4&\"_\"&$A48,gender_wise,COLUMNS($A$5:W46),0),\"\")","v":""},{"$f":"IFERROR(VLOOKUP($C$4&\"_\"&$A48,gender_wise,COLUMNS($A$5:X46),0),\"\")","v":""},{"$f":"IFERROR(VLOOKUP($C$4&\"_\"&$A48,gender_wise,COLUMNS($A$5:Y46),0),\"\")","v":""},{"$f":"IFERROR(VLOOKUP($C$4&\"_\"&$A48,gender_wise,COLUMNS($A$5:Z46),0),\"\")","v":""},{"$f":"IFERROR(VLOOKUP($C$4&\"_\"&$A48,gender_wise,COLUMNS($A$5:AA46),0),\"\")","v":""},{"$f":"IFERROR(VLOOKUP($C$4&\"_\"&$A48,gender_wise,COLUMNS($A$5:AB46),0),\"\")","v":""},{"$f":"IFERROR(VLOOKUP($C$4&\"_\"&$A48,gender_wise,COLUMNS($A$5:AC46),0),\"\")","v":""},{"$f":"IFERROR(VLOOKUP($C$4&\"_\"&$A48,gender_wise,COLUMNS($A$5:AD46),0),\"\")","v":""},{"$f":"IFERROR(VLOOKUP($C$4&\"_\"&$A48,gender_wise,COLUMNS($A$5:AE46),0),\"\")","v":""},{"$f":"IFERROR(VLOOKUP($C$4&\"_\"&$A48,gender_wise,COLUMNS($A$5:AF46),0),\"\")","v":""},{"$f":"IFERROR(VLOOKUP($C$4&\"_\"&$A48,gender_wise,COLUMNS($A$5:AG46),0),\"\")","v":""},{"$f":"IFERROR(VLOOKUP($C$4&\"_\"&$A48,gender_wise,COLUMNS($A$5:AH46),0),\"\")","v":""},{"$f":"IFERROR(VLOOKUP($C$4&\"_\"&$A48,gender_wise,COLUMNS($A$5:AI46),0),\"\")","v":""},{"$f":"IFERROR(VLOOKUP($C$4&\"_\"&$A48,gender_wise,COLUMNS($A$5:AJ46),0),\"\")","v":""}]

{"sheet":"School_wise","index":12,"n_rows":48,"n_cols":35,"rows_kept":48,"merged":[[0,0,0,8],[0,9,0,16],[0,17,0,25],[0,26,0,34],[1,0,1,8],[1,9,1,16],[1,17,1,25],[1,26,1,34],[3,2,3,3],[3,5,3,13]]}
[{"$f":"'Basic Intro'!A1","v":"राजकीय उच्च माध्यमिक विद्यालय, रूपपुरा (कुचामन सिटी)"},{"$nulls":8},{"$f":"'Basic Intro'!A1","v":"राजकीय उच्च माध्यमिक विद्यालय, रूपपुरा (कुचामन सिटी)"},{"$nulls":7},{"$f":"'Basic Intro'!A1","v":"राजकीय उच्च माध्यमिक विद्यालय, रूपपुरा (कुचामन सिटी)"},{"$nulls":8},{"$f":"'Basic Intro'!A1","v":"राजकीय उच्च माध्यमिक विद्यालय, रूपपुरा (कुचामन सिटी)"}]
["विद्यालयवार कर्मचारी विवरण",{"$nulls":8},"विद्यालयवार कर्मचारी विवरण",{"$nulls":7},"विद्यालयवार कर्मचारी विवरण",{"$nulls":8},"विद्यालयवार कर्मचारी विवरण"]
[]
[null,"विद्यालय  का चयन करे -","राउमावि, रूपपुरा",null,null,"जिस विद्यालय के डाटा की आवशयकता हो वह विद्यालय ड्राप डाउन लिस्ट में से चुने |"]
[]
["क्र.स.","नाम कर्मचारी","पिता/पति का नाम ","Employee ID","जन्म दिनाक ","जेंडर ","वर्ग","धर्म","दिव्यांग","वर्तमान पद","विषय","स्थाई/अस्थाई","ब्लड ग्रुप","पता","जिला","मोबाइल नंबर","ईमेल","बैंक अकाउंट नंबर","ब्रांच ","ब्रांच कोड","कार्यग्रहण तिथि","किसी भी सरकारी सेवा में कार्यग्रहण तिथि","शिक्षा विभाग में कार्यग्रहण तिथि","वर्तमान पद पर कार्यग्रहण तिथि","वर्तमान पद पर कार्यग्रहण तरीका","वर्तमान विद्यालय में कार्यग्रहण तिथि","जी.पी.एफ./प्राण नंबर","एस.आई. नंबर ","आधार नंबर","भामाशाह नंबर","पासपोर्ट नंबर","पैन नंबर","वर्तमान मूल वेतन ","उच्चतम शैक्षणिक योग्यता","उच्चतम प्रशैक्षणिक योग्यता"]
[1,{"$f":"IFERROR(VLOOKUP($C$4&\"_\"&$A7,school_wise,COLUMNS($A$5:C5),0),\"\")","v":"श्री अश्विनी कुमार"},{"$f":"IFERROR(VLOOKUP($C$4&\"_\"&$A7,school_wise,COLUMNS($A$5:D5),0),\"\")","v":"श्री मेघराज शर्मा"},{"$f":"IFERROR(VLOOKUP($C$4&\"_\"&$A7,school_wise,COLUMNS($A$5:E5),0),\"\")","v":"RJNA201228008021"},{"$f":"IFERROR(VLOOKUP($C$4&\"_\"&$A7,school_wise,COLUMNS($A$5:F5),0),\"\")","v":32179},{"$f":"IFERROR(VLOOKUP($C$4&\"_\"&$A7,school_wise,COLUMNS($A$5:G5),0),\"\")","v":"Male"},{"$f":"IFERROR(VLOOKUP($C$4&\"_\"&$A7,school_wise,COLUMNS($A$5:H5),0),\"\")","v":"Gen"},{"$f":"IFERROR(VLOOKUP($C$4&\"_\"&$A7,school_wise,COLUMNS($A$5:I5),0),\"\")","v":"Hindu"},{"$f":"IFERROR(VLOOKUP($C$4&\"_\"&$A7,school_wise,COLUMNS($A$5:J5),0),\"\")","v":"No"},{"$f":"IFERROR(VLOOKUP($C$4&\"_\"&$A7,school_wise,COLUMNS($A$5:K5),0),\"\")","v":"वरिष्ठ अध्यापक"},{"$f":"IFERROR(VLOOKUP($C$4&\"_\"&$A7,school_wise,COLUMNS($A$5:L5),0),\"\")","v":"English"},{"$f":"IFERROR(VLOOKUP($C$4&\"_\"&$A7,school_wise,COLUMNS($A$5:M5),0),\"\")","v":"स्थाई"},{"$f":"IFERROR(VLOOKUP($C$4&\"_\"&$A7,school_wise,COLUMNS($A$5:N5),0),\"\")","v":"O+"},{"$f":"IFERROR(VLOOKUP($C$4&\"_\"&$A7,school_wise,COLUMNS($A$5:O5),0),\"\")","v":"कुचामन सिटी"},{"$f":"IFERROR(VLOOKUP($C$4&\"_\"&$A7,school_wise,COLUMNS($A$5:P5),0),\"\")","v":"नागौर"},{"$f":"IFERROR(VLOOKUP($C$4&\"_\"&$A7,school_wise,COLUMNS($A$5:Q5),0),\"\")","v":9166023711},{"$f":"IFERROR(VLOOKUP($C$4&\"_\"&$A7,school_wise,COLUMNS($A$5:R5),0),\"\")","v":"sspkctakumar@gmail.com"},{"$f":"IFERROR(VLOOKUP($C$4&\"_\"&$A7,school_wise,COLUMNS($A$5:S5),0),\"\")","v":610370000000},{"$f":"IFERROR(VLOOKUP($C$4&\"_\"&$A7,school_wise,COLUMNS($A$5:T5),0),\"\")","v":"SBI"},{"$f":"IFERROR(VLOOKUP($C$4&\"_\"&$A7,school_wise,COLUMNS($A$5:U5),0),\"\")","v":"SBIN0031733"},{"$f":"IFERROR(VLOOKUP($C$4&\"_\"&$A7,school_wise,COLUMNS($A$5:V5),0),\"\")","v":40835},{"$f":"IFERROR(VLOOKUP($C$4&\"_\"&$A7,school_wise,COLUMNS($A$5:W5),0),\"\")","v":40835},{"$f":"IFERROR(VLOOKUP($C$4&\"_\"&$A7,school_wise,COLUMNS($A$5:X5),0),\"\")","v":40866},{"$f":"IFERROR(VLOOKUP($C$4&\"_\"&$A7,school_wise,COLUMNS($A$5:Y5),0),\"\")","v":40866},{"$f":"IFERROR(VLOOKUP($C$4&\"_\"&$A7,school_wise,COLUMNS($A$5:Z5),0),\"\")","v":0},{"$f":"IFERROR(VLOOKUP($C$4&\"_\"&$A7,school_wise,COLUMNS($A$5:AA5),0),\"\")","v":40866},{"$f":"IFERROR(VLOOKUP($C$4&\"_\"&$A7,school_wise,COLUMNS($A$5:AB5),0),\"\")","v":110000000000},{"$f":"IFERROR(VLOOKUP($C$4&\"_\"&$A7,school_wise,COLUMNS($A$5:AC5),0),\"\")","v":6123456},{"$f":"IFERROR(VLOOKUP($C$4&\"_\"&$A7,school_wise,COLUMNS($A$5:AD5),0),\"\")","v":123456781234},{"$f":"IFERROR(VLOOKUP($C$4&\"_\"&$A7,school_wise,COLUMNS($A$5:AE5),0),\"\")","v":"ZXZXZXD"},{"$f":"IFERROR(VLOOKUP($C$4&\"_\"&$A7,school_wise,COLUMNS($A$5:AF5),0),\"\")","v":0},{"$f":"IFERROR(VLOOKUP($C$4&\"_\"&$A7,school_wise,COLUMNS($A$5:AG5),0),\"\")","v":"ABCDE1111F"},{"$f":"IFERROR(VLOOKUP($C$4&\"_\"&$A7,school_wise,COLUMNS($A$5:AH5),0),\"\")","v":48500},{"$f":"IFERROR(VLOOKUP($C$4&\"_\"&$A7,school_wise,COLUMNS($A$5:AI5),0),\"\")","v":"M.A."},{"$f":"IFERROR(VLOOKUP($C$4&\"_\"&$A7,school_wise,COLUMNS($A$5:AJ5),0),\"\")","v":"M.Ed"}]
[2,{"$f":"IFERROR(VLOOKUP($C$4&\"_\"&$A8,school_wise,COLUMNS($A$5:C6),0),\"\")","v":0},{"$f":"IFERROR(VLOOKUP($C$4&\"_\"&$A8,school_wise,COLUMNS($A$5:D6),0),\"\")","v":0},{"$f":"IFERROR(VLOOKUP($C$4&\"_\"&$A8,school_wise,COLUMNS($A$5:E6),0),\"\")","v":0},{"$f":"IFERROR(VLOOKUP($C$4&\"_\"&$A8,school_wise,COLUMNS($A$5:F6),0),\"\")","v":0},{"$f":"IFERROR(VLOOKUP($C$4&\"_\"&$A8,school_wise,COLUMNS($A$5:G6),0),\"\")","v":0},{"$f":"IFERROR(VLOOKUP($C$4&\"_\"&$A8,school_wise,COLUMNS($A$5:H6),0),\"\")","v":0},{"$f":"IFERROR(VLOOKUP($C$4&\"_\"&$A8,school_wise,COLUMNS($A$5:I6),0),\"\")","v":0},{"$f":"IFERROR(VLOOKUP($C$4&\"_\"&$A8,school_wise,COLUMNS($A$5:J6),0),\"\")","v":0},{"$f":"IFERROR(VLOOKUP($C$4&\"_\"&$A8,school_wise,COLUMNS($A$5:K6),0),\"\")","v":0},{"$f":"IFERROR(VLOOKUP($C$4&\"_\"&$A8,school_wise,COLUMNS($A$5:L6),0),\"\")","v":0},{"$f":"IFERROR(VLOOKUP($C$4&\"_\"&$A8,school_wise,COLUMNS($A$5:M6),0),\"\")","v":0},{"$f":"IFERROR(VLOOKUP($C$4&\"_\"&$A8,school_wise,COLUMNS($A$5:N6),0),\"\")","v":0},{"$f":"IFERROR(VLOOKUP($C$4&\"_\"&$A8,school_wise,COLUMNS($A$5:O6),0),\"\")","v":0},{"$f":"IFERROR(VLOOKUP($C$4&\"_\"&$A8,school_wise,COLUMNS($A$5:P6),0),\"\")","v":0},{"$f":"IFERROR(VLOOKUP($C$4&\"_\"&$A8,school_wise,COLUMNS($A$5:Q6),0),\"\")","v":0},{"$f":"IFERROR(VLOOKUP($C$4&\"_\"&$A8,school_wise,COLUMNS($A$5:R6),0),\"\")","v":0},{"$f":"IFERROR(VLOOKUP($C$4&\"_\"&$A8,school_wise,COLUMNS($A$5:S6),0),\"\")","v":0},{"$f":"IFERROR(VLOOKUP($C$4&\"_\"&$A8,school_wise,COLUMNS($A$5:T6),0),\"\")","v":0},{"$f":"IFERROR(VLOOKUP($C$4&\"_\"&$A8,school_wise,COLUMNS($A$5:U6),0),\"\")","v":0},{"$f":"IFERROR(VLOOKUP($C$4&\"_\"&$A8,school_wise,COLUMNS($A$5:V6),0),\"\")","v":0},{"$f":"IFERROR(VLOOKUP($C$4&\"_\"&$A8,school_wise,COLUMNS($A$5:W6),0),\"\")","v":0},{"$f":"IFERROR(VLOOKUP($C$4&\"_\"&$A8,school_wise,COLUMNS($A$5:X6),0),\"\")","v":0},{"$f":"IFERROR(VLOOKUP($C$4&\"_\"&$A8,school_wise,COLUMNS($A$5:Y6),0),\"\")","v":0},{"$f":"IFERROR(VLOOKUP($C$4&\"_\"&$A8,school_wise,COLUMNS($A$5:Z6),0),\"\")","v":0},{"$f":"IFERROR(VLOOKUP($C$4&\"_\"&$A8,school_wise,COLUMNS($A$5:AA6),0),\"\")","v":0},{"$f":"IFERROR(VLOOKUP($C$4&\"_\"&$A8,school_wise,COLUMNS($A$5:AB6),0),\"\")","v":0},{"$f":"IFERROR(VLOOKUP($C$4&\"_\"&$A8,school_wise,COLUMNS($A$5:AC6),0),\"\")","v":0},{"$f":"IFERROR(VLOOKUP($C$4&\"_\"&$A8,school_wise,COLUMNS($A$5:AD6),0),\"\")","v":0},{"$f":"IFERROR(VLOOKUP($C$4&\"_\"&$A8,school_wise,COLUMNS($A$5:AE6),0),\"\")","v":0},{"$f":"IFERROR(VLOOKUP($C$4&\"_\"&$A8,school_wise,COLUMNS($A$5:AF6),0),\"\")","v":0},{"$f":"IFERROR(VLOOKUP($C$4&\"_\"&$A8,school_wise,COLUMNS($A$5:AG6),0),\"\")","v":0},{"$f":"IFERROR(VLOOKUP($C$4&\"_\"&$A8,school_wise,COLUMNS($A$5:AH6),0),\"\")","v":0},{"$f":"IFERROR(VLOOKUP($C$4&\"_\"&$A8,school_wise,COLUMNS($A$5:AI6),0),\"\")","v":0},{"$f":"IFERROR(VLOOKUP($C$4&\"_\"&$A8,school_wise,COLUMNS($A$5:AJ6),0),\"\")","v":0}]
[3,{"$f":"IFERROR(VLOOKUP($C$4&\"_\"&$A9,school_wise,COLUMNS($A$5:C7),0),\"\")","v":""},{"$f":"IFERROR(VLOOKUP($C$4&\"_\"&$A9,school_wise,COLUMNS($A$5:D7),0),\"\")","v":""},{"$f":"IFERROR(VLOOKUP($C$4&\"_\"&$A9,school_wise,COLUMNS($A$5:E7),0),\"\")","v":""},{"$f":"IFERROR(VLOOKUP($C$4&\"_\"&$A9,school_wise,COLUMNS($A$5:F7),0),\"\")","v":""},{"$f":"IFERROR(VLOOKUP($C$4&\"_\"&$A9,school_wise,COLUMNS($A$5:G7),0),\"\")","v":""},{"$f":"IFERROR(VLOOKUP($C$4&\"_\"&$A9,school_wise,COLUMNS($A$5:H7),0),\"\")","v":""},{"$f":"IFERROR(VLOOKUP($C$4&\"_\"&$A9,school_wise,COLUMNS($A$5:I7),0),\"\")","v":""},{"$f":"IFERROR(VLOOKUP($C$4&\"_\"&$A9,school_wise,COLUMNS($A$5:J7),0),\"\")","v":""},{"$f":"IFERROR(VLOOKUP($C$4&\"_\"&$A9,school_wise,COLUMNS($A$5:K7),0),\"\")","v":""},{"$f":"IFERROR(VLOOKUP($C$4&\"_\"&$A9,school_wise,COLUMNS($A$5:L7),0),\"\")","v":""},{"$f":"IFERROR(VLOOKUP($C$4&\"_\"&$A9,school_wise,COLUMNS($A$5:M7),0),\"\")","v":""},{"$f":"IFERROR(VLOOKUP($C$4&\"_\"&$A9,school_wise,COLUMNS($A$5:N7),0),\"\")","v":""},{"$f":"IFERROR(VLOOKUP($C$4&\"_\"&$A9,school_wise,COLUMNS($A$5:O7),0),\"\")","v":""},{"$f":"IFERROR(VLOOKUP($C$4&\"_\"&$A9,school_wise,COLUMNS($A$5:P7),0),\"\")","v":""},{"$f":"IFERROR(VLOOKUP($C$4&\"_\"&$A9,school_wise,COLUMNS($A$5:Q7),0),\"\")","v":""},{"$f":"IFERROR(VLOOKUP($C$4&\"_\"&$A9,school_wise,COLUMNS($A$5:R7),0),\"\")","v":""},{"$f":"IFERROR(VLOOKUP($C$4&\"_\"&$A9,school_wise,COLUMNS($A$5:S7),0),\"\")","v":""},{"$f":"IFERROR(VLOOKUP($C$4&\"_\"&$A9,school_wise,COLUMNS($A$5:T7),0),\"\")","v":""},{"$f":"IFERROR(VLOOKUP($C$4&\"_\"&$A9,school_wise,COLUMNS($A$5:U7),0),\"\")","v":""},{"$f":"IFERROR(VLOOKUP($C$4&\"_\"&$A9,school_wise,COLUMNS($A$5:V7),0),\"\")","v":""},{"$f":"IFERROR(VLOOKUP($C$4&\"_\"&$A9,school_wise,COLUMNS($A$5:W7),0),\"\")","v":""},{"$f":"IFERROR(VLOOKUP($C$4&\"_\"&$A9,school_wise,COLUMNS($A$5:X7),0),\"\")","v":""},{"$f":"IFERROR(VLOOKUP($C$4&\"_\"&$A9,school_wise,COLUMNS($A$5:Y7),0),\"\")","v":""},{"$f":"IFERROR(VLOOKUP($C$4&\"_\"&$A9,school_wise,COLUMNS($A$5:Z7),0),\"\")","v":""},{"$f":"IFERROR(VLOOKUP($C$4&\"_\"&$A9,school_wise,COLUMNS($A$5:AA7),0),\"\")","v":""},{"$f":"IFERROR(VLOOKUP($C$4&\"_\"&$A9,school_wise,COLUMNS($A$5:AB7),0),\"\")","v":""},{"$f":"IFERROR(VLOOKUP($C$4&\"_\"&$A9,school_wise,COLUMNS($A$5:AC7),0),\"\")","v":""},{"$f":"IFERROR(VLOOKUP($C$4&\"_\"&$A9,school_wise,COLUMNS($A$5:AD7),0),\"\")","v":""},{"$f":"IFERROR(VLOOKUP($C$4&\"_\"&$A9,school_wise,COLUMNS($A$5:AE7),0),\"\")","v":""},{"$f":"IFERROR(VLOOKUP($C$4&\"_\"&$A9,school_wise,COLUMNS($A$5:AF7),0),\"\")","v":""},{"$f":"IFERROR(VLOOKUP($C$4&\"_\"&$A9,school_wise,COLUMNS($A$5:AG7),0),\"\")","v":""},{"$f":"IFERROR(VLOOKUP($C$4&\"_\"&$A9,school_wise,COLUMNS($A$5:AH7),0),\"\")","v":""},{"$f":"IFERROR(VLOOKUP($C$4&\"_\"&$A9,school_wise,COLUMNS($A$5:AI7),0),\"\")","v":""},{"$f":"IFERROR(VLOOKUP($C$4&\"_\"&$A9,school_wise,COLUMNS($A$5:AJ7),0),\"\")","v":""}]
[4,{"$f":"IFERROR(VLOOKUP($C$4&\"_\"&$A10,school_wise,COLUMNS($A$5:C8),0),\"\")","v":""},{"$f":"IFERROR(VLOOKUP($C$4&\"_\"&$A10,school_wise,COLUMNS($A$5:D8),0),\"\")","v":""},{"$f":"IFERROR(VLOOKUP($C$4&\"_\"&$A10,school_wise,COLUMNS($A$5:E8),0),\"\")","v":""},{"$f":"IFERROR(VLOOKUP($C$4&\"_\"&$A10,school_wise,COLUMNS($A$5:F8),0),\"\")","v":""},{"$f":"IFERROR(VLOOKUP($C$4&\"_\"&$A10,school_wise,COLUMNS($A$5:G8),0),\"\")","v":""},{"$f":"IFERROR(VLOOKUP($C$4&\"_\"&$A10,school_wise,COLUMNS($A$5:H8),0),\"\")","v":""},{"$f":"IFERROR(VLOOKUP($C$4&\"_\"&$A10,school_wise,COLUMNS($A$5:I8),0),\"\")","v":""},{"$f":"IFERROR(VLOOKUP($C$4&\"_\"&$A10,school_wise,COLUMNS($A$5:J8),0),\"\")","v":""},{"$f":"IFERROR(VLOOKUP($C$4&\"_\"&$A10,school_wise,COLUMNS($A$5:K8),0),\"\")","v":""},{"$f":"IFERROR(VLOOKUP($C$4&\"_\"&$A10,school_wise,COLUMNS($A$5:L8),0),\"\")","v":""},{"$f":"IFERROR(VLOOKUP($C$4&\"_\"&$A10,school_wise,COLUMNS($A$5:M8),0),\"\")","v":""},{"$f":"IFERROR(VLOOKUP($C$4&\"_\"&$A10,school_wise,COLUMNS($A$5:N8),0),\"\")","v":""},{"$f":"IFERROR(VLOOKUP($C$4&\"_\"&$A10,school_wise,COLUMNS($A$5:O8),0),\"\")","v":""},{"$f":"IFERROR(VLOOKUP($C$4&\"_\"&$A10,school_wise,COLUMNS($A$5:P8),0),\"\")","v":""},{"$f":"IFERROR(VLOOKUP($C$4&\"_\"&$A10,school_wise,COLUMNS($A$5:Q8),0),\"\")","v":""},{"$f":"IFERROR(VLOOKUP($C$4&\"_\"&$A10,school_wise,COLUMNS($A$5:R8),0),\"\")","v":""},{"$f":"IFERROR(VLOOKUP($C$4&\"_\"&$A10,school_wise,COLUMNS($A$5:S8),0),\"\")","v":""},{"$f":"IFERROR(VLOOKUP($C$4&\"_\"&$A10,school_wise,COLUMNS($A$5:T8),0),\"\")","v":""},{"$f":"IFERROR(VLOOKUP($C$4&\"_\"&$A10,school_wise,COLUMNS($A$5:U8),0),\"\")","v":""},{"$f":"IFERROR(VLOOKUP($C$4&\"_\"&$A10,school_wise,COLUMNS($A$5:V8),0),\"\")","v":""},{"$f":"IFERROR(VLOOKUP($C$4&\"_\"&$A10,school_wise,COLUMNS($A$5:W8),0),\"\")","v":""},{"$f":"IFERROR(VLOOKUP($C$4&\"_\"&$A10,school_wise,COLUMNS($A$5:X8),0),\"\")","v":""},{"$f":"IFERROR(VLOOKUP($C$4&\"_\"&$A10,school_wise,COLUMNS($A$5:Y8),0),\"\")","v":""},{"$f":"IFERROR(VLOOKUP($C$4&\"_\"&$A10,school_wise,COLUMNS($A$5:Z8),0),\"\")","v":""},{"$f":"IFERROR(VLOOKUP($C$4&\"_\"&$A10,school_wise,COLUMNS($A$5:AA8),0),\"\")","v":""},{"$f":"IFERROR(VLOOKUP($C$4&\"_\"&$A10,school_wise,COLUMNS($A$5:AB8),0),\"\")","v":""},{"$f":"IFERROR(VLOOKUP($C$4&\"_\"&$A10,school_wise,COLUMNS($A$5:AC8),0),\"\")","v":""},{"$f":"IFERROR(VLOOKUP($C$4&\"_\"&$A10,school_wise,COLUMNS($A$5:AD8),0),\"\")","v":""},{"$f":"IFERROR(VLOOKUP($C$4&\"_\"&$A10,school_wise,COLUMNS($A$5:AE8),0),\"\")","v":""},{"$f":"IFERROR(VLOOKUP($C$4&\"_\"&$A10,school_wise,COLUMNS($A$5:AF8),0),\"\")","v":""},{"$f":"IFERROR(VLOOKUP($C$4&\"_\"&$A10,school_wise,COLUMNS($A$5:AG8),0),\"\")","v":""},{"$f":"IFERROR(VLOOKUP($C$4&\"_\"&$A10,school_wise,COLUMNS($A$5:AH8),0),\"\")","v":""},{"$f":"IFERROR(VLOOKUP($C$4&\"_\"&$A10,school_wise,COLUMNS($A$5:AI8),0),\"\")","v":""},{"$f":"IFERROR(VLOOKUP($C$4&\"_\"&$A10,school_wise,COLUMNS($A$5:AJ8),0),\"\")","v":""}]
[5,{"$f":"IFERROR(VLOOKUP($C$4&\"_\"&$A11,school_wise,COLUMNS($A$5:C9),0),\"\")","v":""},{"$f":"IFERROR(VLOOKUP($C$4&\"_\"&$A11,school_wise,COLUMNS($A$5:D9),0),\"\")","v":""},{"$f":"IFERROR(VLOOKUP($C$4&\"_\"&$A11,school_wise,COLUMNS($A$5:E9),0),\"\")","v":""},{"$f":"IFERROR(VLOOKUP($C$4&\"_\"&$A11,school_wise,COLUMNS($A$5:F9),0),\"\")","v":""},{"$f":"IFERROR(VLOOKUP($C$4&\"_\"&$A11,school_wise,COLUMNS($A$5:G9),0),\"\")","v":""},{"$f":"IFERROR(VLOOKUP($C$4&\"_\"&$A11,school_wise,COLUMNS($A$5:H9),0),\"\")","v":""},{"$f":"IFERROR(VLOOKUP($C$4&\"_\"&$A11,school_wise,COLUMNS($A$5:I9),0),\"\")","v":""},{"$f":"IFERROR(VLOOKUP($C$4&\"_\"&$A11,school_wise,COLUMNS($A$5:J9),0),\"\")","v":""},{"$f":"IFERROR(VLOOKUP($C$4&\"_\"&$A11,school_wise,COLUMNS($A$5:K9),0),\"\")","v":""},{"$f":"IFERROR(VLOOKUP($C$4&\"_\"&$A11,school_wise,COLUMNS($A$5:L9),0),\"\")","v":""},{"$f":"IFERROR(VLOOKUP($C$4&\"_\"&$A11,school_wise,COLUMNS($A$5:M9),0),\"\")","v":""},{"$f":"IFERROR(VLOOKUP($C$4&\"_\"&$A11,school_wise,COLUMNS($A$5:N9),0),\"\")","v":""},{"$f":"IFERROR(VLOOKUP($C$4&\"_\"&$A11,school_wise,COLUMNS($A$5:O9),0),\"\")","v":""},{"$f":"IFERROR(VLOOKUP($C$4&\"_\"&$A11,school_wise,COLUMNS($A$5:P9),0),\"\")","v":""},{"$f":"IFERROR(VLOOKUP($C$4&\"_\"&$A11,school_wise,COLUMNS($A$5:Q9),0),\"\")","v":""},{"$f":"IFERROR(VLOOKUP($C$4&\"_\"&$A11,school_wise,COLUMNS($A$5:R9),0),\"\")","v":""},{"$f":"IFERROR(VLOOKUP($C$4&\"_\"&$A11,school_wise,COLUMNS($A$5:S9),0),\"\")","v":""},{"$f":"IFERROR(VLOOKUP($C$4&\"_\"&$A11,school_wise,COLUMNS($A$5:T9),0),\"\")","v":""},{"$f":"IFERROR(VLOOKUP($C$4&\"_\"&$A11,school_wise,COLUMNS($A$5:U9),0),\"\")","v":""},{"$f":"IFERROR(VLOOKUP($C$4&\"_\"&$A11,school_wise,COLUMNS($A$5:V9),0),\"\")","v":""},{"$f":"IFERROR(VLOOKUP($C$4&\"_\"&$A11,school_wise,COLUMNS($A$5:W9),0),\"\")","v":""},{"$f":"IFERROR(VLOOKUP($C$4&\"_\"&$A11,school_wise,COLUMNS($A$5:X9),0),\"\")","v":""},{"$f":"IFERROR(VLOOKUP($C$4&\"_\"&$A11,school_wise,COLUMNS($A$5:Y9),0),\"\")","v":""},{"$f":"IFERROR(VLOOKUP($C$4&\"_\"&$A11,school_wise,COLUMNS($A$5:Z9),0),\"\")","v":""},{"$f":"IFERROR(VLOOKUP($C$4&\"_\"&$A11,school_wise,COLUMNS($A$5:AA9),0),\"\")","v":""},{"$f":"IFERROR(VLOOKUP($C$4&\"_\"&$A11,school_wise,COLUMNS($A$5:AB9),0),\"\")","v":""},{"$f":"IFERROR(VLOOKUP($C$4&\"_\"&$A11,school_wise,COLUMNS($A$5:AC9),0),\"\")","v":""},{"$f":"IFERROR(VLOOKUP($C$4&\"_\"&$A11,school_wise,COLUMNS($A$5:AD9),0),\"\")","v":""},{"$f":"IFERROR(VLOOKUP($C$4&\"_\"&$A11,school_wise,COLUMNS($A$5:AE9),0),\"\")","v":""},{"$f":"IFERROR(VLOOKUP($C$4&\"_\"&$A11,school_wise,COLUMNS($A$5:AF9),0),\"\")","v":""},{"$f":"IFERROR(VLOOKUP($C$4&\"_\"&$A11,school_wise,COLUMNS($A$5:AG9),0),\"\")","v":""},{"$f":"IFERROR(VLOOKUP($C$4&\"_\"&$A11,school_wise,COLUMNS($A$5:AH9),0),\"\")","v":""},{"$f":"IFERROR(VLOOKUP($C$4&\"_\"&$A11,school_wise,COLUMNS($A$5:AI9),0),\"\")","v":""},{"$f":"IFERROR(VLOOKUP($C$4&\"_\"&$A11,school_wise,COLUMNS($A$5:AJ9),0),\"\")","v":""}]
[6,{"$f":"IFERROR(VLOOKUP($C$4&\"_\"&$A12,school_wise,COLUMNS($A$5:C10),0),\"\")","v":""},{"$f":"IFERROR(VLOOKUP($C$4&\"_\"&$A12,school_wise,COLUMNS($A$5:D10),0),\"\")","v":""},{"$f":"IFERROR(VLOOKUP($C$4&\"_\"&$A12,school_wise,COLUMNS($A$5:E10),0),\"\")","v":""},{"$f":"IFERROR(VLOOKUP($C$4&\"_\"&$A12,school_wise,COLUMNS($A$5:F10),0),\"\")","v":""},{"$f":"IFERROR(VLOOKUP($C$4&\"_\"&$A12,school_wise,COLUMNS($A$5:G10),0),\"\")","v":""},{"$f":"IFERROR(VLOOKUP($C$4&\"_\"&$A12,school_wise,COLUMNS($A$5:H10),0),\"\")","v":""},{"$f":"IFERROR(VLOOKUP($C$4&\"_\"&$A12,school_wise,COLUMNS($A$5:I10),0),\"\")","v":""},{"$f":"IFERROR(VLOOKUP($C$4&\"_\"&$A12,school_wise,COLUMNS($A$5:J10),0),\"\")","v":""},{"$f":"IFERROR(VLOOKUP($C$4&\"_\"&$A12,school_wise,COLUMNS($A$5:K10),0),\"\")","v":""},{"$f":"IFERROR(VLOOKUP($C$4&\"_\"&$A12,school_wise,COLUMNS($A$5:L10),0),\"\")","v":""},{"$f":"IFERROR(VLOOKUP($C$4&\"_\"&$A12,school_wise,COLUMNS($A$5:M10),0),\"\")","v":""},{"$f":"IFERROR(VLOOKUP($C$4&\"_\"&$A12,school_wise,COLUMNS($A$5:N10),0),\"\")","v":""},{"$f":"IFERROR(VLOOKUP($C$4&\"_\"&$A12,school_wise,COLUMNS($A$5:O10),0),\"\")","v":""},{"$f":"IFERROR(VLOOKUP($C$4&\"_\"&$A12,school_wise,COLUMNS($A$5:P10),0),\"\")","v":""},{"$f":"IFERROR(VLOOKUP($C$4&\"_\"&$A12,school_wise,COLUMNS($A$5:Q10),0),\"\")","v":""},{"$f":"IFERROR(VLOOKUP($C$4&\"_\"&$A12,school_wise,COLUMNS($A$5:R10),0),\"\")","v":""},{"$f":"IFERROR(VLOOKUP($C$4&\"_\"&$A12,school_wise,COLUMNS($A$5:S10),0),\"\")","v":""},{"$f":"IFERROR(VLOOKUP($C$4&\"_\"&$A12,school_wise,COLUMNS($A$5:T10),0),\"\")","v":""},{"$f":"IFERROR(VLOOKUP($C$4&\"_\"&$A12,school_wise,COLUMNS($A$5:U10),0),\"\")","v":""},{"$f":"IFERROR(VLOOKUP($C$4&\"_\"&$A12,school_wise,COLUMNS($A$5:V10),0),\"\")","v":""},{"$f":"IFERROR(VLOOKUP($C$4&\"_\"&$A12,school_wise,COLUMNS($A$5:W10),0),\"\")","v":""},{"$f":"IFERROR(VLOOKUP($C$4&\"_\"&$A12,school_wise,COLUMNS($A$5:X10),0),\"\")","v":""},{"$f":"IFERROR(VLOOKUP($C$4&\"_\"&$A12,school_wise,COLUMNS($A$5:Y10),0),\"\")","v":""},{"$f":"IFERROR(VLOOKUP($C$4&\"_\"&$A12,school_wise,COLUMNS($A$5:Z10),0),\"\")","v":""},{"$f":"IFERROR(VLOOKUP($C$4&\"_\"&$A12,school_wise,COLUMNS($A$5:AA10),0),\"\")","v":""},{"$f":"IFERROR(VLOOKUP($C$4&\"_\"&$A12,school_wise,COLUMNS($A$5:AB10),0),\"\")","v":""},{"$f":"IFERROR(VLOOKUP($C$4&\"_\"&$A12,school_wise,COLUMNS($A$5:AC10),0),\"\")","v":""},{"$f":"IFERROR(VLOOKUP($C$4&\"_\"&$A12,school_wise,COLUMNS($A$5:AD10),0),\"\")","v":""},{"$f":"IFERROR(VLOOKUP($C$4&\"_\"&$A12,school_wise,COLUMNS($A$5:AE10),0),\"\")","v":""},{"$f":"IFERROR(VLOOKUP($C$4&\"_\"&$A12,school_wise,COLUMNS($A$5:AF10),0),\"\")","v":""},{"$f":"IFERROR(VLOOKUP($C$4&\"_\"&$A12,school_wise,COLUMNS($A$5:AG10),0),\"\")","v":""},{"$f":"IFERROR(VLOOKUP($C$4&\"_\"&$A12,school_wise,COLUMNS($A$5:AH10),0),\"\")","v":""},{"$f":"IFERROR(VLOOKUP($C$4&\"_\"&$A12,school_wise,COLUMNS($A$5:AI10),0),\"\")","v":""},{"$f":"IFERROR(VLOOKUP($C$4&\"_\"&$A12,school_wise,COLUMNS($A$5:AJ10),0),\"\")","v":""}]
[7,{"$f":"IFERROR(VLOOKUP($C$4&\"_\"&$A13,school_wise,COLUMNS($A$5:C11),0),\"\")","v":""},{"$f":"IFERROR(VLOOKUP($C$4&\"_\"&$A13,school_wise,COLUMNS($A$5:D11),0),\"\")","v":""},{"$f":"IFERROR(VLOOKUP($C$4&\"_\"&$A13,school_wise,COLUMNS($A$5:E11),0),\"\")","v":""},{"$f":"IFERROR(VLOOKUP($C$4&\"_\"&$A13,school_wise,COLUMNS($A$5:F11),0),\"\")","v":""},{"$f":"IFERROR(VLOOKUP($C$4&\"_\"&$A13,school_wise,COLUMNS($A$5:G11),0),\"\")","v":""},{"$f":"IFERROR(VLOOKUP($C$4&\"_\"&$A13,school_wise,COLUMNS($A$5:H11),0),\"\")","v":""},{"$f":"IFERROR(VLOOKUP($C$4&\"_\"&$A13,school_wise,COLUMNS($A$5:I11),0),\"\")","v":""},{"$f":"IFERROR(VLOOKUP($C$4&\"_\"&$A13,school_wise,COLUMNS($A$5:J11),0),\"\")","v":""},{"$f":"IFERROR(VLOOKUP($C$4&\"_\"&$A13,school_wise,COLUMNS($A$5:K11),0),\"\")","v":""},{"$f":"IFERROR(VLOOKUP($C$4&\"_\"&$A13,school_wise,COLUMNS($A$5:L11),0),\"\")","v":""},{"$f":"IFERROR(VLOOKUP($C$4&\"_\"&$A13,school_wise,COLUMNS($A$5:M11),0),\"\")","v":""},{"$f":"IFERROR(VLOOKUP($C$4&\"_\"&$A13,school_wise,COLUMNS($A$5:N11),0),\"\")","v":""},{"$f":"IFERROR(VLOOKUP($C$4&\"_\"&$A13,school_wise,COLUMNS($A$5:O11),0),\"\")","v":""},{"$f":"IFERROR(VLOOKUP($C$4&\"_\"&$A13,school_wise,COLUMNS($A$5:P11),0),\"\")","v":""},{"$f":"IFERROR(VLOOKUP($C$4&\"_\"&$A13,school_wise,COLUMNS($A$5:Q11),0),\"\")","v":""},{"$f":"IFERROR(VLOOKUP($C$4&\"_\"&$A13,school_wise,COLUMNS($A$5:R11),0),\"\")","v":""},{"$f":"IFERROR(VLOOKUP($C$4&\"_\"&$A13,school_wise,COLUMNS($A$5:S11),0),\"\")","v":""},{"$f":"IFERROR(VLOOKUP($C$4&\"_\"&$A13,school_wise,COLUMNS($A$5:T11),0),\"\")","v":""},{"$f":"IFERROR(VLOOKUP($C$4&\"_\"&$A13,school_wise,COLUMNS($A$5:U11),0),\"\")","v":""},{"$f":"IFERROR(VLOOKUP($C$4&\"_\"&$A13,school_wise,COLUMNS($A$5:V11),0),\"\")","v":""},{"$f":"IFERROR(VLOOKUP($C$4&\"_\"&$A13,school_wise,COLUMNS($A$5:W11),0),\"\")","v":""},{"$f":"IFERROR(VLOOKUP($C$4&\"_\"&$A13,school_wise,COLUMNS($A$5:X11),0),\"\")","v":""},{"$f":"IFERROR(VLOOKUP($C$4&\"_\"&$A13,school_wise,COLUMNS($A$5:Y11),0),\"\")","v":""},{"$f":"IFERROR(VLOOKUP($C$4&\"_\"&$A13,school_wise,COLUMNS($A$5:Z11),0),\"\")","v":""},{"$f":"IFERROR(VLOOKUP($C$4&\"_\"&$A13,school_wise,COLUMNS($A$5:AA11),0),\"\")","v":""},{"$f":"IFERROR(VLOOKUP($C$4&\"_\"&$A13,school_wise,COLUMNS($A$5:AB11),0),\"\")","v":""},{"$f":"IFERROR(VLOOKUP($C$4&\"_\"&$A13,school_wise,COLUMNS($A$5:AC11),0),\"\")","v":""},{"$f":"IFERROR(VLOOKUP($C$4&\"_\"&$A13,school_wise,COLUMNS($A$5:AD11),0),\"\")","v":""},{"$f":"IFERROR(VLOOKUP($C$4&\"_\"&$A13,school_wise,COLUMNS($A$5:AE11),0),\"\")","v":""},{"$f":"IFERROR(VLOOKUP($C$4&\"_\"&$A13,school_wise,COLUMNS($A$5:AF11),0),\"\")","v":""},{"$f":"IFERROR(VLOOKUP($C$4&\"_\"&$A13,school_wise,COLUMNS($A$5:AG11),0),\"\")","v":""},{"$f":"IFERROR(VLOOKUP($C$4&\"_\"&$A13,school_wise,COLUMNS($A$5:AH11),0),\"\")","v":""},{"$f":"IFERROR(VLOOKUP($C$4&\"_\"&$A13,school_wise,COLUMNS($A$5:AI11),0),\"\")","v":""},{"$f":"IFERROR(VLOOKUP($C$4&\"_\"&$A13,school_wise,COLUMNS($A$5:AJ11),0),\"\")","v":""}]
[8,{"$f":"IFERROR(VLOOKUP($C$4&\"_\"&$A14,school_wise,COLUMNS($A$5:C12),0),\"\")","v":""},{"$f":"IFERROR(VLOOKUP($C$4&\"_\"&$A14,school_wise,COLUMNS($A$5:D12),0),\"\")","v":""},{"$f":"IFERROR(VLOOKUP($C$4&\"_\"&$A14,school_wise,COLUMNS($A$5:E12),0),\"\")","v":""},{"$f":"IFERROR(VLOOKUP($C$4&\"_\"&$A14,school_wise,COLUMNS($A$5:F12),0),\"\")","v":""},{"$f":"IFERROR(VLOOKUP($C$4&\"_\"&$A14,school_wise,COLUMNS($A$5:G12),0),\"\")","v":""},{"$f":"IFERROR(VLOOKUP($C$4&\"_\"&$A14,school_wise,COLUMNS($A$5:H12),0),\"\")","v":""},{"$f":"IFERROR(VLOOKUP($C$4&\"_\"&$A14,school_wise,COLUMNS($A$5:I12),0),\"\")","v":""},{"$f":"IFERROR(VLOOKUP($C$4&\"_\"&$A14,school_wise,COLUMNS($A$5:J12),0),\"\")","v":""},{"$f":"IFERROR(VLOOKUP($C$4&\"_\"&$A14,school_wise,COLUMNS($A$5:K12),0),\"\")","v":""},{"$f":"IFERROR(VLOOKUP($C$4&\"_\"&$A14,school_wise,COLUMNS($A$5:L12),0),\"\")","v":""},{"$f":"IFERROR(VLOOKUP($C$4&\"_\"&$A14,school_wise,COLUMNS($A$5:M12),0),\"\")","v":""},{"$f":"IFERROR(VLOOKUP($C$4&\"_\"&$A14,school_wise,COLUMNS($A$5:N12),0),\"\")","v":""},{"$f":"IFERROR(VLOOKUP($C$4&\"_\"&$A14,school_wise,COLUMNS($A$5:O12),0),\"\")","v":""},{"$f":"IFERROR(VLOOKUP($C$4&\"_\"&$A14,school_wise,COLUMNS($A$5:P12),0),\"\")","v":""},{"$f":"IFERROR(VLOOKUP($C$4&\"_\"&$A14,school_wise,COLUMNS($A$5:Q12),0),\"\")","v":""},{"$f":"IFERROR(VLOOKUP($C$4&\"_\"&$A14,school_wise,COLUMNS($A$5:R12),0),\"\")","v":""},{"$f":"IFERROR(VLOOKUP($C$4&\"_\"&$A14,school_wise,COLUMNS($A$5:S12),0),\"\")","v":""},{"$f":"IFERROR(VLOOKUP($C$4&\"_\"&$A14,school_wise,COLUMNS($A$5:T12),0),\"\")","v":""},{"$f":"IFERROR(VLOOKUP($C$4&\"_\"&$A14,school_wise,COLUMNS($A$5:U12),0),\"\")","v":""},{"$f":"IFERROR(VLOOKUP($C$4&\"_\"&$A14,school_wise,COLUMNS($A$5:V12),0),\"\")","v":""},{"$f":"IFERROR(VLOOKUP($C$4&\"_\"&$A14,school_wise,COLUMNS($A$5:W12),0),\"\")","v":""},{"$f":"IFERROR(VLOOKUP($C$4&\"_\"&$A14,school_wise,COLUMNS($A$5:X12),0),\"\")","v":""},{"$f":"IFERROR(VLOOKUP($C$4&\"_\"&$A14,school_wise,COLUMNS($A$5:Y12),0),\"\")","v":""},{"$f":"IFERROR(VLOOKUP($C$4&\"_\"&$A14,school_wise,COLUMNS($A$5:Z12),0),\"\")","v":""},{"$f":"IFERROR(VLOOKUP($C$4&\"_\"&$A14,school_wise,COLUMNS($A$5:AA12),0),\"\")","v":""},{"$f":"IFERROR(VLOOKUP($C$4&\"_\"&$A14,school_wise,COLUMNS($A$5:AB12),0),\"\")","v":""},{"$f":"IFERROR(VLOOKUP($C$4&\"_\"&$A14,school_wise,COLUMNS($A$5:AC12),0),\"\")","v":""},{"$f":"IFERROR(VLOOKUP($C$4&\"_\"&$A14,school_wise,COLUMNS($A$5:AD12),0),\"\")","v":""},{"$f":"IFERROR(VLOOKUP($C$4&\"_\"&$A14,school_wise,COLUMNS($A$5:AE12),0),\"\")","v":""},{"$f":"IFERROR(VLOOKUP($C$4&\"_\"&$A14,school_wise,COLUMNS($A$5:AF12),0),\"\")","v":""},{"$f":"IFERROR(VLOOKUP($C$4&\"_\"&$A14,school_wise,COLUMNS($A$5:AG12),0),\"\")","v":""},{"$f":"IFERROR(VLOOKUP($C$4&\"_\"&$A14,school_wise,COLUMNS($A$5:AH12),0),\"\")","v":""},{"$f":"IFERROR(VLOOKUP($C$4&\"_\"&$A14,school_wise,COLUMNS($A$5:AI12),0),\"\")","v":""},{"$f":"IFERROR(VLOOKUP($C$4&\"_\"&$A14,school_wise,COLUMNS($A$5:AJ12),0),\"\")","v":""}]
[9,{"$f":"IFERROR(VLOOKUP($C$4&\"_\"&$A15,school_wise,COLUMNS($A$5:C13),0),\"\")","v":""},{"$f":"IFERROR(VLOOKUP($C$4&\"_\"&$A15,school_wise,COLUMNS($A$5:D13),0),\"\")","v":""},{"$f":"IFERROR(VLOOKUP($C$4&\"_\"&$A15,school_wise,COLUMNS($A$5:E13),0),\"\")","v":""},{"$f":"IFERROR(VLOOKUP($C$4&\"_\"&$A15,school_wise,COLUMNS($A$5:F13),0),\"\")","v":""},{"$f":"IFERROR(VLOOKUP($C$4&\"_\"&$A15,school_wise,COLUMNS($A$5:G13),0),\"\")","v":""},{"$f":"IFERROR(VLOOKUP($C$4&\"_\"&$A15,school_wise,COLUMNS($A$5:H13),0),\"\")","v":""},{"$f":"IFERROR(VLOOKUP($C$4&\"_\"&$A15,school_wise,COLUMNS($A$5:I13),0),\"\")","v":""},{"$f":"IFERROR(VLOOKUP($C$4&\"_\"&$A15,school_wise,COLUMNS($A$5:J13),0),\"\")","v":""},{"$f":"IFERROR(VLOOKUP($C$4&\"_\"&$A15,school_wise,COLUMNS($A$5:K13),0),\"\")","v":""},{"$f":"IFERROR(VLOOKUP($C$4&\"_\"&$A15,school_wise,COLUMNS($A$5:L13),0),\"\")","v":""},{"$f":"IFERROR(VLOOKUP($C$4&\"_\"&$A15,school_wise,COLUMNS($A$5:M13),0),\"\")","v":""},{"$f":"IFERROR(VLOOKUP($C$4&\"_\"&$A15,school_wise,COLUMNS($A$5:N13),0),\"\")","v":""},{"$f":"IFERROR(VLOOKUP($C$4&\"_\"&$A15,school_wise,COLUMNS($A$5:O13),0),\"\")","v":""},{"$f":"IFERROR(VLOOKUP($C$4&\"_\"&$A15,school_wise,COLUMNS($A$5:P13),0),\"\")","v":""},{"$f":"IFERROR(VLOOKUP($C$4&\"_\"&$A15,school_wise,COLUMNS($A$5:Q13),0),\"\")","v":""},{"$f":"IFERROR(VLOOKUP($C$4&\"_\"&$A15,school_wise,COLUMNS($A$5:R13),0),\"\")","v":""},{"$f":"IFERROR(VLOOKUP($C$4&\"_\"&$A15,school_wise,COLUMNS($A$5:S13),0),\"\")","v":""},{"$f":"IFERROR(VLOOKUP($C$4&\"_\"&$A15,school_wise,COLUMNS($A$5:T13),0),\"\")","v":""},{"$f":"IFERROR(VLOOKUP($C$4&\"_\"&$A15,school_wise,COLUMNS($A$5:U13),0),\"\")","v":""},{"$f":"IFERROR(VLOOKUP($C$4&\"_\"&$A15,school_wise,COLUMNS($A$5:V13),0),\"\")","v":""},{"$f":"IFERROR(VLOOKUP($C$4&\"_\"&$A15,school_wise,COLUMNS($A$5:W13),0),\"\")","v":""},{"$f":"IFERROR(VLOOKUP($C$4&\"_\"&$A15,school_wise,COLUMNS($A$5:X13),0),\"\")","v":""},{"$f":"IFERROR(VLOOKUP($C$4&\"_\"&$A15,school_wise,COLUMNS($A$5:Y13),0),\"\")","v":""},{"$f":"IFERROR(VLOOKUP($C$4&\"_\"&$A15,school_wise,COLUMNS($A$5:Z13),0),\"\")","v":""},{"$f":"IFERROR(VLOOKUP($C$4&\"_\"&$A15,school_wise,COLUMNS($A$5:AA13),0),\"\")","v":""},{"$f":"IFERROR(VLOOKUP($C$4&\"_\"&$A15,school_wise,COLUMNS($A$5:AB13),0),\"\")","v":""},{"$f":"IFERROR(VLOOKUP($C$4&\"_\"&$A15,school_wise,COLUMNS($A$5:AC13),0),\"\")","v":""},{"$f":"IFERROR(VLOOKUP($C$4&\"_\"&$A15,school_wise,COLUMNS($A$5:AD13),0),\"\")","v":""},{"$f":"IFERROR(VLOOKUP($C$4&\"_\"&$A15,school_wise,COLUMNS($A$5:AE13),0),\"\")","v":""},{"$f":"IFERROR(VLOOKUP($C$4&\"_\"&$A15,school_wise,COLUMNS($A$5:AF13),0),\"\")","v":""},{"$f":"IFERROR(VLOOKUP($C$4&\"_\"&$A15,school_wise,COLUMNS($A$5:AG13),0),\"\")","v":""},{"$f":"IFERROR(VLOOKUP($C$4&\"_\"&$A15,school_wise,COLUMNS($A$5:AH13),0),\"\")","v":""},{"$f":"IFERROR(VLOOKUP($C$4&\"_\"&$A15,school_wise,COLUMNS($A$5:AI13),0),\"\")","v":""},{"$f":"IFERROR(VLOOKUP($C$4&\"_\"&$A15,school_wise,COLUMNS($A$5:AJ13),0),\"\")","v":""}]
[10,{"$f":"IFERROR(VLOOKUP($C$4&\"_\"&$A16,school_wise,COLUMNS($A$5:C14),0),\"\")","v":""},{"$f":"IFERROR(VLOOKUP($C$4&\"_\"&$A16,school_wise,COLUMNS($A$5:D14),0),\"\")","v":""},{"$f":"IFERROR(VLOOKUP($C$4&\"_\"&$A16,school_wise,COLUMNS($A$5:E14),0),\"\")","v":""},{"$f":"IFERROR(VLOOKUP($C$4&\"_\"&$A16,school_wise,COLUMNS($A$5:F14),0),\"\")","v":""},{"$f":"IFERROR(VLOOKUP($C$4&\"_\"&$A16,school_wise,COLUMNS($A$5:G14),0),\"\")","v":""},{"$f":"IFERROR(VLOOKUP($C$4&\"_\"&$A16,school_wise,COLUMNS($A$5:H14),0),\"\")","v":""},{"$f":"IFERROR(VLOOKUP($C$4&\"_\"&$A16,school_wise,COLUMNS($A$5:I14),0),\"\")","v":""},{"$f":"IFERROR(VLOOKUP($C$4&\"_\"&$A16,school_wise,COLUMNS($A$5:J14),0),\"\")","v":""},{"$f":"IFERROR(VLOOKUP($C$4&\"_\"&$A16,school_wise,COLUMNS($A$5:K14),0),\"\")","v":""},{"$f":"IFERROR(VLOOKUP($C$4&\"_\"&$A16,school_wise,COLUMNS($A$5:L14),0),\"\")","v":""},{"$f":"IFERROR(VLOOKUP($C$4&\"_\"&$A16,school_wise,COLUMNS($A$5:M14),0),\"\")","v":""},{"$f":"IFERROR(VLOOKUP($C$4&\"_\"&$A16,school_wise,COLUMNS($A$5:N14),0),\"\")","v":""},{"$f":"IFERROR(VLOOKUP($C$4&\"_\"&$A16,school_wise,COLUMNS($A$5:O14),0),\"\")","v":""},{"$f":"IFERROR(VLOOKUP($C$4&\"_\"&$A16,school_wise,COLUMNS($A$5:P14),0),\"\")","v":""},{"$f":"IFERROR(VLOOKUP($C$4&\"_\"&$A16,school_wise,COLUMNS($A$5:Q14),0),\"\")","v":""},{"$f":"IFERROR(VLOOKUP($C$4&\"_\"&$A16,school_wise,COLUMNS($A$5:R14),0),\"\")","v":""},{"$f":"IFERROR(VLOOKUP($C$4&\"_\"&$A16,school_wise,COLUMNS($A$5:S14),0),\"\")","v":""},{"$f":"IFERROR(VLOOKUP($C$4&\"_\"&$A16,school_wise,COLUMNS($A$5:T14),0),\"\")","v":""},{"$f":"IFERROR(VLOOKUP($C$4&\"_\"&$A16,school_wise,COLUMNS($A$5:U14),0),\"\")","v":""},{"$f":"IFERROR(VLOOKUP($C$4&\"_\"&$A16,school_wise,COLUMNS($A$5:V14),0),\"\")","v":""},{"$f":"IFERROR(VLOOKUP($C$4&\"_\"&$A16,school_wise,COLUMNS($A$5:W14),0),\"\")","v":""},{"$f":"IFERROR(VLOOKUP($C$4&\"_\"&$A16,school_wise,COLUMNS($A$5:X14),0),\"\")","v":""},{"$f":"IFERROR(VLOOKUP($C$4&\"_\"&$A16,school_wise,COLUMNS($A$5:Y14),0),\"\")","v":""},{"$f":"IFERROR(VLOOKUP($C$4&\"_\"&$A16,school_wise,COLUMNS($A$5:Z14),0),\"\")","v":""},{"$f":"IFERROR(VLOOKUP($C$4&\"_\"&$A16,school_wise,COLUMNS($A$5:AA14),0),\"\")","v":""},{"$f":"IFERROR(VLOOKUP($C$4&\"_\"&$A16,school_wise,COLUMNS($A$5:AB14),0),\"\")","v":""},{"$f":"IFERROR(VLOOKUP($C$4&\"_\"&$A16,school_wise,COLUMNS($A$5:AC14),0),\"\")","v":""},{"$f":"IFERROR(VLOOKUP($C$4&\"_\"&$A16,school_wise,COLUMNS($A$5:AD14),0),\"\")","v":""},{"$f":"IFERROR(VLOOKUP($C$4&\"_\"&$A16,school_wise,COLUMNS($A$5:AE14),0),\"\")","v":""},{"$f":"IFERROR(VLOOKUP($C$4&\"_\"&$A16,school_wise,COLUMNS($A$5:AF14),0),\"\")","v":""},{"$f":"IFERROR(VLOOKUP($C$4&\"_\"&$A16,school_wise,COLUMNS($A$5:AG14),0),\"\")","v":""},{"$f":"IFERROR(VLOOKUP($C$4&\"_\"&$A16,school_wise,COLUMNS($A$5:AH14),0),\"\")","v":""},{"$f":"IFERROR(VLOOKUP($C$4&\"_\"&$A16,school_wise,COLUMNS($A$5:AI14),0),\"\")","v":""},{"$f":"IFERROR(VLOOKUP($C$4&\"_\"&$A16,school_wise,COLUMNS($A$5:AJ14),0),\"\")","v":""}]
[11,{"$f":"IFERROR(VLOOKUP($C$4&\"_\"&$A17,school_wise,COLUMNS($A$5:C15),0),\"\")","v":""},{"$f":"IFERROR(VLOOKUP($C$4&\"_\"&$A17,school_wise,COLUMNS($A$5:D15),0),\"\")","v":""},{"$f":"IFERROR(VLOOKUP($C$4&\"_\"&$A17,school_wise,COLUMNS($A$5:E15),0),\"\")","v":""},{"$f":"IFERROR(VLOOKUP($C$4&\"_\"&$A17,school_wise,COLUMNS($A$5:F15),0),\"\")","v":""},{"$f":"IFERROR(VLOOKUP($C$4&\"_\"&$A17,school_wise,COLUMNS($A$5:G15),0),\"\")","v":""},{"$f":"IFERROR(VLOOKUP($C$4&\"_\"&$A17,school_wise,COLUMNS($A$5:H15),0),\"\")","v":""},{"$f":"IFERROR(VLOOKUP($C$4&\"_\"&$A17,school_wise,COLUMNS($A$5:I15),0),\"\")","v":""},{"$f":"IFERROR(VLOOKUP($C$4&\"_\"&$A17,school_wise,COLUMNS($A$5:J15),0),\"\")","v":""},{"$f":"IFERROR(VLOOKUP($C$4&\"_\"&$A17,school_wise,COLUMNS($A$5:K15),0),\"\")","v":""},{"$f":"IFERROR(VLOOKUP($C$4&\"_\"&$A17,school_wise,COLUMNS($A$5:L15),0),\"\")","v":""},{"$f":"IFERROR(VLOOKUP($C$4&\"_\"&$A17,school_wise,COLUMNS($A$5:M15),0),\"\")","v":""},{"$f":"IFERROR(VLOOKUP($C$4&\"_\"&$A17,school_wise,COLUMNS($A$5:N15),0),\"\")","v":""},{"$f":"IFERROR(VLOOKUP($C$4&\"_\"&$A17,school_wise,COLUMNS($A$5:O15),0),\"\")","v":""},{"$f":"IFERROR(VLOOKUP($C$4&\"_\"&$A17,school_wise,COLUMNS($A$5:P15),0),\"\")","v":""},{"$f":"IFERROR(VLOOKUP($C$4&\"_\"&$A17,school_wise,COLUMNS($A$5:Q15),0),\"\")","v":""},{"$f":"IFERROR(VLOOKUP($C$4&\"_\"&$A17,school_wise,COLUMNS($A$5:R15),0),\"\")","v":""},{"$f":"IFERROR(VLOOKUP($C$4&\"_\"&$A17,school_wise,COLUMNS($A$5:S15),0),\"\")","v":""},{"$f":"IFERROR(VLOOKUP($C$4&\"_\"&$A17,school_wise,COLUMNS($A$5:T15),0),\"\")","v":""},{"$f":"IFERROR(VLOOKUP($C$4&\"_\"&$A17,school_wise,COLUMNS($A$5:U15),0),\"\")","v":""},{"$f":"IFERROR(VLOOKUP($C$4&\"_\"&$A17,school_wise,COLUMNS($A$5:V15),0),\"\")","v":""},{"$f":"IFERROR(VLOOKUP($C$4&\"_\"&$A17,school_wise,COLUMNS($A$5:W15),0),\"\")","v":""},{"$f":"IFERROR(VLOOKUP($C$4&\"_\"&$A17,school_wise,COLUMNS($A$5:X15),0),\"\")","v":""},{"$f":"IFERROR(VLOOKUP($C$4&\"_\"&$A17,school_wise,COLUMNS($A$5:Y15),0),\"\")","v":""},{"$f":"IFERROR(VLOOKUP($C$4&\"_\"&$A17,school_wise,COLUMNS($A$5:Z15),0),\"\")","v":""},{"$f":"IFERROR(VLOOKUP($C$4&\"_\"&$A17,school_wise,COLUMNS($A$5:AA15),0),\"\")","v":""},{"$f":"IFERROR(VLOOKUP($C$4&\"_\"&$A17,school_wise,COLUMNS($A$5:AB15),0),\"\")","v":""},{"$f":"IFERROR(VLOOKUP($C$4&\"_\"&$A17,school_wise,COLUMNS($A$5:AC15),0),\"\")","v":""},{"$f":"IFERROR(VLOOKUP($C$4&\"_\"&$A17,school_wise,COLUMNS($A$5:AD15),0),\"\")","v":""},{"$f":"IFERROR(VLOOKUP($C$4&\"_\"&$A17,school_wise,COLUMNS($A$5:AE15),0),\"\")","v":""},{"$f":"IFERROR(VLOOKUP($C$4&\"_\"&$A17,school_wise,COLUMNS($A$5:AF15),0),\"\")","v":""},{"$f":"IFERROR(VLOOKUP($C$4&\"_\"&$A17,school_wise,COLUMNS($A$5:AG15),0),\"\")","v":""},{"$f":"IFERROR(VLOOKUP($C$4&\"_\"&$A17,school_wise,COLUMNS($A$5:AH15),0),\"\")","v":""},{"$f":"IFERROR(VLOOKUP($C$4&\"_\"&$A17,school_wise,COLUMNS($A$5:AI15),0),\"\")","v":""},{"$f":"IFERROR(VLOOKUP($C$4&\"_\"&$A17,school_wise,COLUMNS($A$5:AJ15),0),\"\")","v":""}]
[12,{"$f":"IFERROR(VLOOKUP($C$4&\"_\"&$A18,school_wise,COLUMNS($A$5:C16),0),\"\")","v":""},{"$f":"IFERROR(VLOOKUP($C$4&\"_\"&$A18,school_wise,COLUMNS($A$5:D16),0),\"\")","v":""},{"$f":"IFERROR(VLOOKUP($C$4&\"_\"&$A18,school_wise,COLUMNS($A$5:E16),0),\"\")","v":""},{"$f":"IFERROR(VLOOKUP($C$4&\"_\"&$A18,school_wise,COLUMNS($A$5:F16),0),\"\")","v":""},{"$f":"IFERROR(VLOOKUP($C$4&\"_\"&$A18,school_wise,COLUMNS($A$5:G16),0),\"\")","v":""},{"$f":"IFERROR(VLOOKUP($C$4&\"_\"&$A18,school_wise,COLUMNS($A$5:H16),0),\"\")","v":""},{"$f":"IFERROR(VLOOKUP($C$4&\"_\"&$A18,school_wise,COLUMNS($A$5:I16),0),\"\")","v":""},{"$f":"IFERROR(VLOOKUP($C$4&\"_\"&$A18,school_wise,COLUMNS($A$5:J16),0),\"\")","v":""},{"$f":"IFERROR(VLOOKUP($C$4&\"_\"&$A18,school_wise,COLUMNS($A$5:K16),0),\"\")","v":""},{"$f":"IFERROR(VLOOKUP($C$4&\"_\"&$A18,school_wise,COLUMNS($A$5:L16),0),\"\")","v":""},{"$f":"IFERROR(VLOOKUP($C$4&\"_\"&$A18,school_wise,COLUMNS($A$5:M16),0),\"\")","v":""},{"$f":"IFERROR(VLOOKUP($C$4&\"_\"&$A18,school_wise,COLUMNS($A$5:N16),0),\"\")","v":""},{"$f":"IFERROR(VLOOKUP($C$4&\"_\"&$A18,school_wise,COLUMNS($A$5:O16),0),\"\")","v":""},{"$f":"IFERROR(VLOOKUP($C$4&\"_\"&$A18,school_wise,COLUMNS($A$5:P16),0),\"\")","v":""},{"$f":"IFERROR(VLOOKUP($C$4&\"_\"&$A18,school_wise,COLUMNS($A$5:Q16),0),\"\")","v":""},{"$f":"IFERROR(VLOOKUP($C$4&\"_\"&$A18,school_wise,COLUMNS($A$5:R16),0),\"\")","v":""},{"$f":"IFERROR(VLOOKUP($C$4&\"_\"&$A18,school_wise,COLUMNS($A$5:S16),0),\"\")","v":""},{"$f":"IFERROR(VLOOKUP($C$4&\"_\"&$A18,school_wise,COLUMNS($A$5:T16),0),\"\")","v":""},{"$f":"IFERROR(VLOOKUP($C$4&\"_\"&$A18,school_wise,COLUMNS($A$5:U16),0),\"\")","v":""},{"$f":"IFERROR(VLOOKUP($C$4&\"_\"&$A18,school_wise,COLUMNS($A$5:V16),0),\"\")","v":""},{"$f":"IFERROR(VLOOKUP($C$4&\"_\"&$A18,school_wise,COLUMNS($A$5:W16),0),\"\")","v":""},{"$f":"IFERROR(VLOOKUP($C$4&\"_\"&$A18,school_wise,COLUMNS($A$5:X16),0),\"\")","v":""},{"$f":"IFERROR(VLOOKUP($C$4&\"_\"&$A18,school_wise,COLUMNS($A$5:Y16),0),\"\")","v":""},{"$f":"IFERROR(VLOOKUP($C$4&\"_\"&$A18,school_wise,COLUMNS($A$5:Z16),0),\"\")","v":""},{"$f":"IFERROR(VLOOKUP($C$4&\"_\"&$A18,school_wise,COLUMNS($A$5:AA16),0),\"\")","v":""},{"$f":"IFERROR(VLOOKUP($C$4&\"_\"&$A18,school_wise,COLUMNS($A$5:AB16),0),\"\")","v":""},{"$f":"IFERROR(VLOOKUP($C$4&\"_\"&$A18,school_wise,COLUMNS($A$5:AC16),0),\"\")","v":""},{"$f":"IFERROR(VLOOKUP($C$4&\"_\"&$A18,school_wise,COLUMNS($A$5:AD16),0),\"\")","v":""},{"$f":"IFERROR(VLOOKUP($C$4&\"_\"&$A18,school_wise,COLUMNS($A$5:AE16),0),\"\")","v":""},{"$f":"IFERROR(VLOOKUP($C$4&\"_\"&$A18,school_wise,COLUMNS($A$5:AF16),0),\"\")","v":""},{"$f":"IFERROR(VLOOKUP($C$4&\"_\"&$A18,school_wise,COLUMNS($A$5:AG16),0),\"\")","v":""},{"$f":"IFERROR(VLOOKUP($C$4&\"_\"&$A18,school_wise,COLUMNS($A$5:AH16),0),\"\")","v":""},{"$f":"IFERROR(VLOOKUP($C$4&\"_\"&$A18,school_wise,COLUMNS($A$5:AI16),0),\"\")","v":""},{"$f":"IFERROR(VLOOKUP($C$4&\"_\"&$A18,school_wise,COLUMNS($A$5:AJ16),0),\"\")","v":""}]
[13,{"$f":"IFERROR(VLOOKUP($C$4&\"_\"&$A19,school_wise,COLUMNS($A$5:C17),0),\"\")","v":""},{"$f":"IFERROR(VLOOKUP($C$4&\"_\"&$A19,school_wise,COLUMNS($A$5:D17),0),\"\")","v":""},{"$f":"IFERROR(VLOOKUP($C$4&\"_\"&$A19,school_wise,COLUMNS($A$5:E17),0),\"\")","v":""},{"$f":"IFERROR(VLOOKUP($C$4&\"_\"&$A19,school_wise,COLUMNS($A$5:F17),0),\"\")","v":""},{"$f":"IFERROR(VLOOKUP($C$4&\"_\"&$A19,school_wise,COLUMNS($A$5:G17),0),\"\")","v":""},{"$f":"IFERROR(VLOOKUP($C$4&\"_\"&$A19,school_wise,COLUMNS($A$5:H17),0),\"\")","v":""},{"$f":"IFERROR(VLOOKUP($C$4&\"_\"&$A19,school_wise,COLUMNS($A$5:I17),0),\"\")","v":""},{"$f":"IFERROR(VLOOKUP($C$4&\"_\"&$A19,school_wise,COLUMNS($A$5:J17),0),\"\")","v":""},{"$f":"IFERROR(VLOOKUP($C$4&\"_\"&$A19,school_wise,COLUMNS($A$5:K17),0),\"\")","v":""},{"$f":"IFERROR(VLOOKUP($C$4&\"_\"&$A19,school_wise,COLUMNS($A$5:L17),0),\"\")","v":""},{"$f":"IFERROR(VLOOKUP($C$4&\"_\"&$A19,school_wise,COLUMNS($A$5:M17),0),\"\")","v":""},{"$f":"IFERROR(VLOOKUP($C$4&\"_\"&$A19,school_wise,COLUMNS($A$5:N17),0),\"\")","v":""},{"$f":"IFERROR(VLOOKUP($C$4&\"_\"&$A19,school_wise,COLUMNS($A$5:O17),0),\"\")","v":""},{"$f":"IFERROR(VLOOKUP($C$4&\"_\"&$A19,school_wise,COLUMNS($A$5:P17),0),\"\")","v":""},{"$f":"IFERROR(VLOOKUP($C$4&\"_\"&$A19,school_wise,COLUMNS($A$5:Q17),0),\"\")","v":""},{"$f":"IFERROR(VLOOKUP($C$4&\"_\"&$A19,school_wise,COLUMNS($A$5:R17),0),\"\")","v":""},{"$f":"IFERROR(VLOOKUP($C$4&\"_\"&$A19,school_wise,COLUMNS($A$5:S17),0),\"\")","v":""},{"$f":"IFERROR(VLOOKUP($C$4&\"_\"&$A19,school_wise,COLUMNS($A$5:T17),0),\"\")","v":""},{"$f":"IFERROR(VLOOKUP($C$4&\"_\"&$A19,school_wise,COLUMNS($A$5:U17),0),\"\")","v":""},{"$f":"IFERROR(VLOOKUP($C$4&\"_\"&$A19,school_wise,COLUMNS($A$5:V17),0),\"\")","v":""},{"$f":"IFERROR(VLOOKUP($C$4&\"_\"&$A19,school_wise,COLUMNS($A$5:W17),0),\"\")","v":""},{"$f":"IFERROR(VLOOKUP($C$4&\"_\"&$A19,school_wise,COLUMNS($A$5:X17),0),\"\")","v":""},{"$f":"IFERROR(VLOOKUP($C$4&\"_\"&$A19,school_wise,COLUMNS($A$5:Y17),0),\"\")","v":""},{"$f":"IFERROR(VLOOKUP($C$4&\"_\"&$A19,school_wise,COLUMNS($A$5:Z17),0),\"\")","v":""},{"$f":"IFERROR(VLOOKUP($C$4&\"_\"&$A19,school_wise,COLUMNS($A$5:AA17),0),\"\")","v":""},{"$f":"IFERROR(VLOOKUP($C$4&\"_\"&$A19,school_wise,COLUMNS($A$5:AB17),0),\"\")","v":""},{"$f":"IFERROR(VLOOKUP($C$4&\"_\"&$A19,school_wise,COLUMNS($A$5:AC17),0),\"\")","v":""},{"$f":"IFERROR(VLOOKUP($C$4&\"_\"&$A19,school_wise,COLUMNS($A$5:AD17),0),\"\")","v":""},{"$f":"IFERROR(VLOOKUP($C$4&\"_\"&$A19,school_wise,COLUMNS($A$5:AE17),0),\"\")","v":""},{"$f":"IFERROR(VLOOKUP($C$4&\"_\"&$A19,school_wise,COLUMNS($A$5:AF17),0),\"\")","v":""},{"$f":"IFERROR(VLOOKUP($C$4&\"_\"&$A19,school_wise,COLUMNS($A$5:AG17),0),\"\")","v":""},{"$f":"IFERROR(VLOOKUP($C$4&\"_\"&$A19,school_wise,COLUMNS($A$5:AH17),0),\"\")","v":""},{"$f":"IFERROR(VLOOKUP($C$4&\"_\"&$A19,school_wise,COLUMNS($A$5:AI17),0),\"\")","v":""},{"$f":"IFERROR(VLOOKUP($C$4&\"_\"&$A19,school_wise,COLUMNS($A$5:AJ17),0),\"\")","v":""}]
[14,{"$f":"IFERROR(VLOOKUP($C$4&\"_\"&$A20,school_wise,COLUMNS($A$5:C18),0),\"\")","v":""},{"$f":"IFERROR(VLOOKUP($C$4&\"_\"&$A20,school_wise,COLUMNS($A$5:D18),0),\"\")","v":""},{"$f":"IFERROR(VLOOKUP($C$4&\"_\"&$A20,school_wise,COLUMNS($A$5:E18),0),\"\")","v":""},{"$f":"IFERROR(VLOOKUP($C$4&\"_\"&$A20,school_wise,COLUMNS($A$5:F18),0),\"\")","v":""},{"$f":"IFERROR(VLOOKUP($C$4&\"_\"&$A20,school_wise,COLUMNS($A$5:G18),0),\"\")","v":""},{"$f":"IFERROR(VLOOKUP($C$4&\"_\"&$A20,school_wise,COLUMNS($A$5:H18),0),\"\")","v":""},{"$f":"IFERROR(VLOOKUP($C$4&\"_\"&$A20,school_wise,COLUMNS($A$5:I18),0),\"\")","v":""},{"$f":"IFERROR(VLOOKUP($C$4&\"_\"&$A20,school_wise,COLUMNS($A$5:J18),0),\"\")","v":""},{"$f":"IFERROR(VLOOKUP($C$4&\"_\"&$A20,school_wise,COLUMNS($A$5:K18),0),\"\")","v":""},{"$f":"IFERROR(VLOOKUP($C$4&\"_\"&$A20,school_wise,COLUMNS($A$5:L18),0),\"\")","v":""},{"$f":"IFERROR(VLOOKUP($C$4&\"_\"&$A20,school_wise,COLUMNS($A$5:M18),0),\"\")","v":""},{"$f":"IFERROR(VLOOKUP($C$4&\"_\"&$A20,school_wise,COLUMNS($A$5:N18),0),\"\")","v":""},{"$f":"IFERROR(VLOOKUP($C$4&\"_\"&$A20,school_wise,COLUMNS($A$5:O18),0),\"\")","v":""},{"$f":"IFERROR(VLOOKUP($C$4&\"_\"&$A20,school_wise,COLUMNS($A$5:P18),0),\"\")","v":""},{"$f":"IFERROR(VLOOKUP($C$4&\"_\"&$A20,school_wise,COLUMNS($A$5:Q18),0),\"\")","v":""},{"$f":"IFERROR(VLOOKUP($C$4&\"_\"&$A20,school_wise,COLUMNS($A$5:R18),0),\"\")","v":""},{"$f":"IFERROR(VLOOKUP($C$4&\"_\"&$A20,school_wise,COLUMNS($A$5:S18),0),\"\")","v":""},{"$f":"IFERROR(VLOOKUP($C$4&\"_\"&$A20,school_wise,COLUMNS($A$5:T18),0),\"\")","v":""},{"$f":"IFERROR(VLOOKUP($C$4&\"_\"&$A20,school_wise,COLUMNS($A$5:U18),0),\"\")","v":""},{"$f":"IFERROR(VLOOKUP($C$4&\"_\"&$A20,school_wise,COLUMNS($A$5:V18),0),\"\")","v":""},{"$f":"IFERROR(VLOOKUP($C$4&\"_\"&$A20,school_wise,COLUMNS($A$5:W18),0),\"\")","v":""},{"$f":"IFERROR(VLOOKUP($C$4&\"_\"&$A20,school_wise,COLUMNS($A$5:X18),0),\"\")","v":""},{"$f":"IFERROR(VLOOKUP($C$4&\"_\"&$A20,school_wise,COLUMNS($A$5:Y18),0),\"\")","v":""},{"$f":"IFERROR(VLOOKUP($C$4&\"_\"&$A20,school_wise,COLUMNS($A$5:Z18),0),\"\")","v":""},{"$f":"IFERROR(VLOOKUP($C$4&\"_\"&$A20,school_wise,COLUMNS($A$5:AA18),0),\"\")","v":""},{"$f":"IFERROR(VLOOKUP($C$4&\"_\"&$A20,school_wise,COLUMNS($A$5:AB18),0),\"\")","v":""},{"$f":"IFERROR(VLOOKUP($C$4&\"_\"&$A20,school_wise,COLUMNS($A$5:AC18),0),\"\")","v":""},{"$f":"IFERROR(VLOOKUP($C$4&\"_\"&$A20,school_wise,COLUMNS($A$5:AD18),0),\"\")","v":""},{"$f":"IFERROR(VLOOKUP($C$4&\"_\"&$A20,school_wise,COLUMNS($A$5:AE18),0),\"\")","v":""},{"$f":"IFERROR(VLOOKUP($C$4&\"_\"&$A20,school_wise,COLUMNS($A$5:AF18),0),\"\")","v":""},{"$f":"IFERROR(VLOOKUP($C$4&\"_\"&$A20,school_wise,COLUMNS($A$5:AG18),0),\"\")","v":""},{"$f":"IFERROR(VLOOKUP($C$4&\"_\"&$A20,school_wise,COLUMNS($A$5:AH18),0),\"\")","v":""},{"$f":"IFERROR(VLOOKUP($C$4&\"_\"&$A20,school_wise,COLUMNS($A$5:AI18),0),\"\")","v":""},{"$f":"IFERROR(VLOOKUP($C$4&\"_\"&$A20,school_wise,COLUMNS($A$5:AJ18),0),\"\")","v":""}]
[15,{"$f":"IFERROR(VLOOKUP($C$4&\"_\"&$A21,school_wise,COLUMNS($A$5:C19),0),\"\")","v":""},{"$f":"IFERROR(VLOOKUP($C$4&\"_\"&$A21,school_wise,COLUMNS($A$5:D19),0),\"\")","v":""},{"$f":"IFERROR(VLOOKUP($C$4&\"_\"&$A21,school_wise,COLUMNS($A$5:E19),0),\"\")","v":""},{"$f":"IFERROR(VLOOKUP($C$4&\"_\"&$A21,school_wise,COLUMNS($A$5:F19),0),\"\")","v":""},{"$f":"IFERROR(VLOOKUP($C$4&\"_\"&$A21,school_wise,COLUMNS($A$5:G19),0),\"\")","v":""},{"$f":"IFERROR(VLOOKUP($C$4&\"_\"&$A21,school_wise,COLUMNS($A$5:H19),0),\"\")","v":""},{"$f":"IFERROR(VLOOKUP($C$4&\"_\"&$A21,school_wise,COLUMNS($A$5:I19),0),\"\")","v":""},{"$f":"IFERROR(VLOOKUP($C$4&\"_\"&$A21,school_wise,COLUMNS($A$5:J19),0),\"\")","v":""},{"$f":"IFERROR(VLOOKUP($C$4&\"_\"&$A21,school_wise,COLUMNS($A$5:K19),0),\"\")","v":""},{"$f":"IFERROR(VLOOKUP($C$4&\"_\"&$A21,school_wise,COLUMNS($A$5:L19),0),\"\")","v":""},{"$f":"IFERROR(VLOOKUP($C$4&\"_\"&$A21,school_wise,COLUMNS($A$5:M19),0),\"\")","v":""},{"$f":"IFERROR(VLOOKUP($C$4&\"_\"&$A21,school_wise,COLUMNS($A$5:N19),0),\"\")","v":""},{"$f":"IFERROR(VLOOKUP($C$4&\"_\"&$A21,school_wise,COLUMNS($A$5:O19),0),\"\")","v":""},{"$f":"IFERROR(VLOOKUP($C$4&\"_\"&$A21,school_wise,COLUMNS($A$5:P19),0),\"\")","v":""},{"$f":"IFERROR(VLOOKUP($C$4&\"_\"&$A21,school_wise,COLUMNS($A$5:Q19),0),\"\")","v":""},{"$f":"IFERROR(VLOOKUP($C$4&\"_\"&$A21,school_wise,COLUMNS($A$5:R19),0),\"\")","v":""},{"$f":"IFERROR(VLOOKUP($C$4&\"_\"&$A21,school_wise,COLUMNS($A$5:S19),0),\"\")","v":""},{"$f":"IFERROR(VLOOKUP($C$4&\"_\"&$A21,school_wise,COLUMNS($A$5:T19),0),\"\")","v":""},{"$f":"IFERROR(VLOOKUP($C$4&\"_\"&$A21,school_wise,COLUMNS($A$5:U19),0),\"\")","v":""},{"$f":"IFERROR(VLOOKUP($C$4&\"_\"&$A21,school_wise,COLUMNS($A$5:V19),0),\"\")","v":""},{"$f":"IFERROR(VLOOKUP($C$4&\"_\"&$A21,school_wise,COLUMNS($A$5:W19),0),\"\")","v":""},{"$f":"IFERROR(VLOOKUP($C$4&\"_\"&$A21,school_wise,COLUMNS($A$5:X19),0),\"\")","v":""},{"$f":"IFERROR(VLOOKUP($C$4&\"_\"&$A21,school_wise,COLUMNS($A$5:Y19),0),\"\")","v":""},{"$f":"IFERROR(VLOOKUP($C$4&\"_\"&$A21,school_wise,COLUMNS($A$5:Z19),0),\"\")","v":""},{"$f":"IFERROR(VLOOKUP($C$4&\"_\"&$A21,school_wise,COLUMNS($A$5:AA19),0),\"\")","v":""},{"$f":"IFERROR(VLOOKUP($C$4&\"_\"&$A21,school_wise,COLUMNS($A$5:AB19),0),\"\")","v":""},{"$f":"IFERROR(VLOOKUP($C$4&\"_\"&$A21,school_wise,COLUMNS($A$5:AC19),0),\"\")","v":""},{"$f":"IFERROR(VLOOKUP($C$4&\"_\"&$A21,school_wise,COLUMNS($A$5:AD19),0),\"\")","v":""},{"$f":"IFERROR(VLOOKUP($C$4&\"_\"&$A21,school_wise,COLUMNS($A$5:AE19),0),\"\")","v":""},{"$f":"IFERROR(VLOOKUP($C$4&\"_\"&$A21,school_wise,COLUMNS($A$5:AF19),0),\"\")","v":""},{"$f":"IFERROR(VLOOKUP($C$4&\"_\"&$A21,school_wise,COLUMNS($A$5:AG19),0),\"\")","v":""},{"$f":"IFERROR(VLOOKUP($C$4&\"_\"&$A21,school_wise,COLUMNS($A$5:AH19),0),\"\")","v":""},{"$f":"IFERROR(VLOOKUP($C$4&\"_\"&$A21,school_wise,COLUMNS($A$5:AI19),0),\"\")","v":""},{"$f":"IFERROR(VLOOKUP($C$4&\"_\"&$A21,school_wise,COLUMNS($A$5:AJ19),0),\"\")","v":""}]
[16,{"$f":"IFERROR(VLOOKUP($C$4&\"_\"&$A22,school_wise,COLUMNS($A$5:C20),0),\"\")","v":""},{"$f":"IFERROR(VLOOKUP($C$4&\"_\"&$A22,school_wise,COLUMNS($A$5:D20),0),\"\")","v":""},{"$f":"IFERROR(VLOOKUP($C$4&\"_\"&$A22,school_wise,COLUMNS($A$5:E20),0),\"\")","v":""},{"$f":"IFERROR(VLOOKUP($C$4&\"_\"&$A22,school_wise,COLUMNS($A$5:F20),0),\"\")","v":""},{"$f":"IFERROR(VLOOKUP($C$4&\"_\"&$A22,school_wise,COLUMNS($A$5:G20),0),\"\")","v":""},{"$f":"IFERROR(VLOOKUP($C$4&\"_\"&$A22,school_wise,COLUMNS($A$5:H20),0),\"\")","v":""},{"$f":"IFERROR(VLOOKUP($C$4&\"_\"&$A22,school_wise,COLUMNS($A$5:I20),0),\"\")","v":""},{"$f":"IFERROR(VLOOKUP($C$4&\"_\"&$A22,school_wise,COLUMNS($A$5:J20),0),\"\")","v":""},{"$f":"IFERROR(VLOOKUP($C$4&\"_\"&$A22,school_wise,COLUMNS($A$5:K20),0),\"\")","v":""},{"$f":"IFERROR(VLOOKUP($C$4&\"_\"&$A22,school_wise,COLUMNS($A$5:L20),0),\"\")","v":""},{"$f":"IFERROR(VLOOKUP($C$4&\"_\"&$A22,school_wise,COLUMNS($A$5:M20),0),\"\")","v":""},{"$f":"IFERROR(VLOOKUP($C$4&\"_\"&$A22,school_wise,COLUMNS($A$5:N20),0),\"\")","v":""},{"$f":"IFERROR(VLOOKUP($C$4&\"_\"&$A22,school_wise,COLUMNS($A$5:O20),0),\"\")","v":""},{"$f":"IFERROR(VLOOKUP($C$4&\"_\"&$A22,school_wise,COLUMNS($A$5:P20),0),\"\")","v":""},{"$f":"IFERROR(VLOOKUP($C$4&\"_\"&$A22,school_wise,COLUMNS($A$5:Q20),0),\"\")","v":""},{"$f":"IFERROR(VLOOKUP($C$4&\"_\"&$A22,school_wise,COLUMNS($A$5:R20),0),\"\")","v":""},{"$f":"IFERROR(VLOOKUP($C$4&\"_\"&$A22,school_wise,COLUMNS($A$5:S20),0),\"\")","v":""},{"$f":"IFERROR(VLOOKUP($C$4&\"_\"&$A22,school_wise,COLUMNS($A$5:T20),0),\"\")","v":""},{"$f":"IFERROR(VLOOKUP($C$4&\"_\"&$A22,school_wise,COLUMNS($A$5:U20),0),\"\")","v":""},{"$f":"IFERROR(VLOOKUP($C$4&\"_\"&$A22,school_wise,COLUMNS($A$5:V20),0),\"\")","v":""},{"$f":"IFERROR(VLOOKUP($C$4&\"_\"&$A22,school_wise,COLUMNS($A$5:W20),0),\"\")","v":""},{"$f":"IFERROR(VLOOKUP($C$4&\"_\"&$A22,school_wise,COLUMNS($A$5:X20),0),\"\")","v":""},{"$f":"IFERROR(VLOOKUP($C$4&\"_\"&$A22,school_wise,COLUMNS($A$5:Y20),0),\"\")","v":""},{"$f":"IFERROR(VLOOKUP($C$4&\"_\"&$A22,school_wise,COLUMNS($A$5:Z20),0),\"\")","v":""},{"$f":"IFERROR(VLOOKUP($C$4&\"_\"&$A22,school_wise,COLUMNS($A$5:AA20),0),\"\")","v":""},{"$f":"IFERROR(VLOOKUP($C$4&\"_\"&$A22,school_wise,COLUMNS($A$5:AB20),0),\"\")","v":""},{"$f":"IFERROR(VLOOKUP($C$4&\"_\"&$A22,school_wise,COLUMNS($A$5:AC20),0),\"\")","v":""},{"$f":"IFERROR(VLOOKUP($C$4&\"_\"&$A22,school_wise,COLUMNS($A$5:AD20),0),\"\")","v":""},{"$f":"IFERROR(VLOOKUP($C$4&\"_\"&$A22,school_wise,COLUMNS($A$5:AE20),0),\"\")","v":""},{"$f":"IFERROR(VLOOKUP($C$4&\"_\"&$A22,school_wise,COLUMNS($A$5:AF20),0),\"\")","v":""},{"$f":"IFERROR(VLOOKUP($C$4&\"_\"&$A22,school_wise,COLUMNS($A$5:AG20),0),\"\")","v":""},{"$f":"IFERROR(VLOOKUP($C$4&\"_\"&$A22,school_wise,COLUMNS($A$5:AH20),0),\"\")","v":""},{"$f":"IFERROR(VLOOKUP($C$4&\"_\"&$A22,school_wise,COLUMNS($A$5:AI20),0),\"\")","v":""},{"$f":"IFERROR(VLOOKUP($C$4&\"_\"&$A22,school_wise,COLUMNS($A$5:AJ20),0),\"\")","v":""}]
[17,{"$f":"IFERROR(VLOOKUP($C$4&\"_\"&$A23,school_wise,COLUMNS($A$5:C21),0),\"\")","v":""},{"$f":"IFERROR(VLOOKUP($C$4&\"_\"&$A23,school_wise,COLUMNS($A$5:D21),0),\"\")","v":""},{"$f":"IFERROR(VLOOKUP($C$4&\"_\"&$A23,school_wise,COLUMNS($A$5:E21),0),\"\")","v":""},{"$f":"IFERROR(VLOOKUP($C$4&\"_\"&$A23,school_wise,COLUMNS($A$5:F21),0),\"\")","v":""},{"$f":"IFERROR(VLOOKUP($C$4&\"_\"&$A23,school_wise,COLUMNS($A$5:G21),0),\"\")","v":""},{"$f":"IFERROR(VLOOKUP($C$4&\"_\"&$A23,school_wise,COLUMNS($A$5:H21),0),\"\")","v":""},{"$f":"IFERROR(VLOOKUP($C$4&\"_\"&$A23,school_wise,COLUMNS($A$5:I21),0),\"\")","v":""},{"$f":"IFERROR(VLOOKUP($C$4&\"_\"&$A23,school_wise,COLUMNS($A$5:J21),0),\"\")","v":""},{"$f":"IFERROR(VLOOKUP($C$4&\"_\"&$A23,school_wise,COLUMNS($A$5:K21),0),\"\")","v":""},{"$f":"IFERROR(VLOOKUP($C$4&\"_\"&$A23,school_wise,COLUMNS($A$5:L21),0),\"\")","v":""},{"$f":"IFERROR(VLOOKUP($C$4&\"_\"&$A23,school_wise,COLUMNS($A$5:M21),0),\"\")","v":""},{"$f":"IFERROR(VLOOKUP($C$4&\"_\"&$A23,school_wise,COLUMNS($A$5:N21),0),\"\")","v":""},{"$f":"IFERROR(VLOOKUP($C$4&\"_\"&$A23,school_wise,COLUMNS($A$5:O21),0),\"\")","v":""},{"$f":"IFERROR(VLOOKUP($C$4&\"_\"&$A23,school_wise,COLUMNS($A$5:P21),0),\"\")","v":""},{"$f":"IFERROR(VLOOKUP($C$4&\"_\"&$A23,school_wise,COLUMNS($A$5:Q21),0),\"\")","v":""},{"$f":"IFERROR(VLOOKUP($C$4&\"_\"&$A23,school_wise,COLUMNS($A$5:R21),0),\"\")","v":""},{"$f":"IFERROR(VLOOKUP($C$4&\"_\"&$A23,school_wise,COLUMNS($A$5:S21),0),\"\")","v":""},{"$f":"IFERROR(VLOOKUP($C$4&\"_\"&$A23,school_wise,COLUMNS($A$5:T21),0),\"\")","v":""},{"$f":"IFERROR(VLOOKUP($C$4&\"_\"&$A23,school_wise,COLUMNS($A$5:U21),0),\"\")","v":""},{"$f":"IFERROR(VLOOKUP($C$4&\"_\"&$A23,school_wise,COLUMNS($A$5:V21),0),\"\")","v":""},{"$f":"IFERROR(VLOOKUP($C$4&\"_\"&$A23,school_wise,COLUMNS($A$5:W21),0),\"\")","v":""},{"$f":"IFERROR(VLOOKUP($C$4&\"_\"&$A23,school_wise,COLUMNS($A$5:X21),0),\"\")","v":""},{"$f":"IFERROR(VLOOKUP($C$4&\"_\"&$A23,school_wise,COLUMNS($A$5:Y21),0),\"\")","v":""},{"$f":"IFERROR(VLOOKUP($C$4&\"_\"&$A23,school_wise,COLUMNS($A$5:Z21),0),\"\")","v":""},{"$f":"IFERROR(VLOOKUP($C$4&\"_\"&$A23,school_wise,COLUMNS($A$5:AA21),0),\"\")","v":""},{"$f":"IFERROR(VLOOKUP($C$4&\"_\"&$A23,school_wise,COLUMNS($A$5:AB21),0),\"\")","v":""},{"$f":"IFERROR(VLOOKUP($C$4&\"_\"&$A23,school_wise,COLUMNS($A$5:AC21),0),\"\")","v":""},{"$f":"IFERROR(VLOOKUP($C$4&\"_\"&$A23,school_wise,COLUMNS($A$5:AD21),0),\"\")","v":""},{"$f":"IFERROR(VLOOKUP($C$4&\"_\"&$A23,school_wise,COLUMNS($A$5:AE21),0),\"\")","v":""},{"$f":"IFERROR(VLOOKUP($C$4&\"_\"&$A23,school_wise,COLUMNS($A$5:AF21),0),\"\")","v":""},{"$f":"IFERROR(VLOOKUP($C$4&\"_\"&$A23,school_wise,COLUMNS($A$5:AG21),0),\"\")","v":""},{"$f":"IFERROR(VLOOKUP($C$4&\"_\"&$A23,school_wise,COLUMNS($A$5:AH21),0),\"\")","v":""},{"$f":"IFERROR(VLOOKUP($C$4&\"_\"&$A23,school_wise,COLUMNS($A$5:AI21),0),\"\")","v":""},{"$f":"IFERROR(VLOOKUP($C$4&\"_\"&$A23,school_wise,COLUMNS($A$5:AJ21),0),\"\")","v":""}]
[18,{"$f":"IFERROR(VLOOKUP($C$4&\"_\"&$A24,school_wise,COLUMNS($A$5:C22),0),\"\")","v":""},{"$f":"IFERROR(VLOOKUP($C$4&\"_\"&$A24,school_wise,COLUMNS($A$5:D22),0),\"\")","v":""},{"$f":"IFERROR(VLOOKUP($C$4&\"_\"&$A24,school_wise,COLUMNS($A$5:E22),0),\"\")","v":""},{"$f":"IFERROR(VLOOKUP($C$4&\"_\"&$A24,school_wise,COLUMNS($A$5:F22),0),\"\")","v":""},{"$f":"IFERROR(VLOOKUP($C$4&\"_\"&$A24,school_wise,COLUMNS($A$5:G22),0),\"\")","v":""},{"$f":"IFERROR(VLOOKUP($C$4&\"_\"&$A24,school_wise,COLUMNS($A$5:H22),0),\"\")","v":""},{"$f":"IFERROR(VLOOKUP($C$4&\"_\"&$A24,school_wise,COLUMNS($A$5:I22),0),\"\")","v":""},{"$f":"IFERROR(VLOOKUP($C$4&\"_\"&$A24,school_wise,COLUMNS($A$5:J22),0),\"\")","v":""},{"$f":"IFERROR(VLOOKUP($C$4&\"_\"&$A24,school_wise,COLUMNS($A$5:K22),0),\"\")","v":""},{"$f":"IFERROR(VLOOKUP($C$4&\"_\"&$A24,school_wise,COLUMNS($A$5:L22),0),\"\")","v":""},{"$f":"IFERROR(VLOOKUP($C$4&\"_\"&$A24,school_wise,COLUMNS($A$5:M22),0),\"\")","v":""},{"$f":"IFERROR(VLOOKUP($C$4&\"_\"&$A24,school_wise,COLUMNS($A$5:N22),0),\"\")","v":""},{"$f":"IFERROR(VLOOKUP($C$4&\"_\"&$A24,school_wise,COLUMNS($A$5:O22),0),\"\")","v":""},{"$f":"IFERROR(VLOOKUP($C$4&\"_\"&$A24,school_wise,COLUMNS($A$5:P22),0),\"\")","v":""},{"$f":"IFERROR(VLOOKUP($C$4&\"_\"&$A24,school_wise,COLUMNS($A$5:Q22),0),\"\")","v":""},{"$f":"IFERROR(VLOOKUP($C$4&\"_\"&$A24,school_wise,COLUMNS($A$5:R22),0),\"\")","v":""},{"$f":"IFERROR(VLOOKUP($C$4&\"_\"&$A24,school_wise,COLUMNS($A$5:S22),0),\"\")","v":""},{"$f":"IFERROR(VLOOKUP($C$4&\"_\"&$A24,school_wise,COLUMNS($A$5:T22),0),\"\")","v":""},{"$f":"IFERROR(VLOOKUP($C$4&\"_\"&$A24,school_wise,COLUMNS($A$5:U22),0),\"\")","v":""},{"$f":"IFERROR(VLOOKUP($C$4&\"_\"&$A24,school_wise,COLUMNS($A$5:V22),0),\"\")","v":""},{"$f":"IFERROR(VLOOKUP($C$4&\"_\"&$A24,school_wise,COLUMNS($A$5:W22),0),\"\")","v":""},{"$f":"IFERROR(VLOOKUP($C$4&\"_\"&$A24,school_wise,COLUMNS($A$5:X22),0),\"\")","v":""},{"$f":"IFERROR(VLOOKUP($C$4&\"_\"&$A24,school_wise,COLUMNS($A$5:Y22),0),\"\")","v":""},{"$f":"IFERROR(VLOOKUP($C$4&\"_\"&$A24,school_wise,COLUMNS($A$5:Z22),0),\"\")","v":""},{"$f":"IFERROR(VLOOKUP($C$4&\"_\"&$A24,school_wise,COLUMNS($A$5:AA22),0),\"\")","v":""},{"$f":"IFERROR(VLOOKUP($C$4&\"_\"&$A24,school_wise,COLUMNS($A$5:AB22),0),\"\")","v":""},{"$f":"IFERROR(VLOOKUP($C$4&\"_\"&$A24,school_wise,COLUMNS($A$5:AC22),0),\"\")","v":""},{"$f":"IFERROR(VLOOKUP($C$4&\"_\"&$A24,school_wise,COLUMNS($A$5:AD22),0),\"\")","v":""},{"$f":"IFERROR(VLOOKUP($C$4&\"_\"&$A24,school_wise,COLUMNS($A$5:AE22),0),\"\")","v":""},{"$f":"IFERROR(VLOOKUP($C$4&\"_\"&$A24,school_wise,COLUMNS($A$5:AF22),0),\"\")","v":""},{"$f":"IFERROR(VLOOKUP($C$4&\"_\"&$A24,school_wise,COLUMNS($A$5:AG22),0),\"\")","v":""},{"$f":"IFERROR(VLOOKUP($C$4&\"_\"&$A24,school_wise,COLUMNS($A$5:AH22),0),\"\")","v":""},{"$f":"IFERROR(VLOOKUP($C$4&\"_\"&$A24,school_wise,COLUMNS($A$5:AI22),0),\"\")","v":""},{"$f":"IFERROR(VLOOKUP($C$4&\"_\"&$A24,school_wise,COLUMNS($A$5:AJ22),0),\"\")","v":""}]
[19,{"$f":"IFERROR(VLOOKUP($C$4&\"_\"&$A25,school_wise,COLUMNS($A$5:C23),0),\"\")","v":""},{"$f":"IFERROR(VLOOKUP($C$4&\"_\"&$A25,school_wise,COLUMNS($A$5:D23),0),\"\")","v":""},{"$f":"IFERROR(VLOOKUP($C$4&\"_\"&$A25,school_wise,COLUMNS($A$5:E23),0),\"\")","v":""},{"$f":"IFERROR(VLOOKUP($C$4&\"_\"&$A25,school_wise,COLUMNS($A$5:F23),0),\"\")","v":""},{"$f":"IFERROR(VLOOKUP($C$4&\"_\"&$A25,school_wise,COLUMNS($A$5:G23),0),\"\")","v":""},{"$f":"IFERROR(VLOOKUP($C$4&\"_\"&$A25,school_wise,COLUMNS($A$5:H23),0),\"\")","v":""},{"$f":"IFERROR(VLOOKUP($C$4&\"_\"&$A25,school_wise,COLUMNS($A$5:I23),0),\"\")","v":""},{"$f":"IFERROR(VLOOKUP($C$4&\"_\"&$A25,school_wise,COLUMNS($A$5:J23),0),\"\")","v":""},{"$f":"IFERROR(VLOOKUP($C$4&\"_\"&$A25,school_wise,COLUMNS($A$5:K23),0),\"\")","v":""},{"$f":"IFERROR(VLOOKUP($C$4&\"_\"&$A25,school_wise,COLUMNS($A$5:L23),0),\"\")","v":""},{"$f":"IFERROR(VLOOKUP($C$4&\"_\"&$A25,school_wise,COLUMNS($A$5:M23),0),\"\")","v":""},{"$f":"IFERROR(VLOOKUP($C$4&\"_\"&$A25,school_wise,COLUMNS($A$5:N23),0),\"\")","v":""},{"$f":"IFERROR(VLOOKUP($C$4&\"_\"&$A25,school_wise,COLUMNS($A$5:O23),0),\"\")","v":""},{"$f":"IFERROR(VLOOKUP($C$4&\"_\"&$A25,school_wise,COLUMNS($A$5:P23),0),\"\")","v":""},{"$f":"IFERROR(VLOOKUP($C$4&\"_\"&$A25,school_wise,COLUMNS($A$5:Q23),0),\"\")","v":""},{"$f":"IFERROR(VLOOKUP($C$4&\"_\"&$A25,school_wise,COLUMNS($A$5:R23),0),\"\")","v":""},{"$f":"IFERROR(VLOOKUP($C$4&\"_\"&$A25,school_wise,COLUMNS($A$5:S23),0),\"\")","v":""},{"$f":"IFERROR(VLOOKUP($C$4&\"_\"&$A25,school_wise,COLUMNS($A$5:T23),0),\"\")","v":""},{"$f":"IFERROR(VLOOKUP($C$4&\"_\"&$A25,school_wise,COLUMNS($A$5:U23),0),\"\")","v":""},{"$f":"IFERROR(VLOOKUP($C$4&\"_\"&$A25,school_wise,COLUMNS($A$5:V23),0),\"\")","v":""},{"$f":"IFERROR(VLOOKUP($C$4&\"_\"&$A25,school_wise,COLUMNS($A$5:W23),0),\"\")","v":""},{"$f":"IFERROR(VLOOKUP($C$4&\"_\"&$A25,school_wise,COLUMNS($A$5:X23),0),\"\")","v":""},{"$f":"IFERROR(VLOOKUP($C$4&\"_\"&$A25,school_wise,COLUMNS($A$5:Y23),0),\"\")","v":""},{"$f":"IFERROR(VLOOKUP($C$4&\"_\"&$A25,school_wise,COLUMNS($A$5:Z23),0),\"\")","v":""},{"$f":"IFERROR(VLOOKUP($C$4&\"_\"&$A25,school_wise,COLUMNS($A$5:AA23),0),\"\")","v":""},{"$f":"IFERROR(VLOOKUP($C$4&\"_\"&$A25,school_wise,COLUMNS($A$5:AB23),0),\"\")","v":""},{"$f":"IFERROR(VLOOKUP($C$4&\"_\"&$A25,school_wise,COLUMNS($A$5:AC23),0),\"\")","v":""},{"$f":"IFERROR(VLOOKUP($C$4&\"_\"&$A25,school_wise,COLUMNS($A$5:AD23),0),\"\")","v":""},{"$f":"IFERROR(VLOOKUP($C$4&\"_\"&$A25,school_wise,COLUMNS($A$5:AE23),0),\"\")","v":""},{"$f":"IFERROR(VLOOKUP($C$4&\"_\"&$A25,school_wise,COLUMNS($A$5:AF23),0),\"\")","v":""},{"$f":"IFERROR(VLOOKUP($C$4&\"_\"&$A25,school_wise,COLUMNS($A$5:AG23),0),\"\")","v":""},{"$f":"IFERROR(VLOOKUP($C$4&\"_\"&$A25,school_wise,COLUMNS($A$5:AH23),0),\"\")","v":""},{"$f":"IFERROR(VLOOKUP($C$4&\"_\"&$A25,school_wise,COLUMNS($A$5:AI23),0),\"\")","v":""},{"$f":"IFERROR(VLOOKUP($C$4&\"_\"&$A25,school_wise,COLUMNS($A$5:AJ23),0),\"\")","v":""}]
[20,{"$f":"IFERROR(VLOOKUP($C$4&\"_\"&$A26,school_wise,COLUMNS($A$5:C24),0),\"\")","v":""},{"$f":"IFERROR(VLOOKUP($C$4&\"_\"&$A26,school_wise,COLUMNS($A$5:D24),0),\"\")","v":""},{"$f":"IFERROR(VLOOKUP($C$4&\"_\"&$A26,school_wise,COLUMNS($A$5:E24),0),\"\")","v":""},{"$f":"IFERROR(VLOOKUP($C$4&\"_\"&$A26,school_wise,COLUMNS($A$5:F24),0),\"\")","v":""},{"$f":"IFERROR(VLOOKUP($C$4&\"_\"&$A26,school_wise,COLUMNS($A$5:G24),0),\"\")","v":""},{"$f":"IFERROR(VLOOKUP($C$4&\"_\"&$A26,school_wise,COLUMNS($A$5:H24),0),\"\")","v":""},{"$f":"IFERROR(VLOOKUP($C$4&\"_\"&$A26,school_wise,COLUMNS($A$5:I24),0),\"\")","v":""},{"$f":"IFERROR(VLOOKUP($C$4&\"_\"&$A26,school_wise,COLUMNS($A$5:J24),0),\"\")","v":""},{"$f":"IFERROR(VLOOKUP($C$4&\"_\"&$A26,school_wise,COLUMNS($A$5:K24),0),\"\")","v":""},{"$f":"IFERROR(VLOOKUP($C$4&\"_\"&$A26,school_wise,COLUMNS($A$5:L24),0),\"\")","v":""},{"$f":"IFERROR(VLOOKUP($C$4&\"_\"&$A26,school_wise,COLUMNS($A$5:M24),0),\"\")","v":""},{"$f":"IFERROR(VLOOKUP($C$4&\"_\"&$A26,school_wise,COLUMNS($A$5:N24),0),\"\")","v":""},{"$f":"IFERROR(VLOOKUP($C$4&\"_\"&$A26,school_wise,COLUMNS($A$5:O24),0),\"\")","v":""},{"$f":"IFERROR(VLOOKUP($C$4&\"_\"&$A26,school_wise,COLUMNS($A$5:P24),0),\"\")","v":""},{"$f":"IFERROR(VLOOKUP($C$4&\"_\"&$A26,school_wise,COLUMNS($A$5:Q24),0),\"\")","v":""},{"$f":"IFERROR(VLOOKUP($C$4&\"_\"&$A26,school_wise,COLUMNS($A$5:R24),0),\"\")","v":""},{"$f":"IFERROR(VLOOKUP($C$4&\"_\"&$A26,school_wise,COLUMNS($A$5:S24),0),\"\")","v":""},{"$f":"IFERROR(VLOOKUP($C$4&\"_\"&$A26,school_wise,COLUMNS($A$5:T24),0),\"\")","v":""},{"$f":"IFERROR(VLOOKUP($C$4&\"_\"&$A26,school_wise,COLUMNS($A$5:U24),0),\"\")","v":""},{"$f":"IFERROR(VLOOKUP($C$4&\"_\"&$A26,school_wise,COLUMNS($A$5:V24),0),\"\")","v":""},{"$f":"IFERROR(VLOOKUP($C$4&\"_\"&$A26,school_wise,COLUMNS($A$5:W24),0),\"\")","v":""},{"$f":"IFERROR(VLOOKUP($C$4&\"_\"&$A26,school_wise,COLUMNS($A$5:X24),0),\"\")","v":""},{"$f":"IFERROR(VLOOKUP($C$4&\"_\"&$A26,school_wise,COLUMNS($A$5:Y24),0),\"\")","v":""},{"$f":"IFERROR(VLOOKUP($C$4&\"_\"&$A26,school_wise,COLUMNS($A$5:Z24),0),\"\")","v":""},{"$f":"IFERROR(VLOOKUP($C$4&\"_\"&$A26,school_wise,COLUMNS($A$5:AA24),0),\"\")","v":""},{"$f":"IFERROR(VLOOKUP($C$4&\"_\"&$A26,school_wise,COLUMNS($A$5:AB24),0),\"\")","v":""},{"$f":"IFERROR(VLOOKUP($C$4&\"_\"&$A26,school_wise,COLUMNS($A$5:AC24),0),\"\")","v":""},{"$f":"IFERROR(VLOOKUP($C$4&\"_\"&$A26,school_wise,COLUMNS($A$5:AD24),0),\"\")","v":""},{"$f":"IFERROR(VLOOKUP($C$4&\"_\"&$A26,school_wise,COLUMNS($A$5:AE24),0),\"\")","v":""},{"$f":"IFERROR(VLOOKUP($C$4&\"_\"&$A26,school_wise,COLUMNS($A$5:AF24),0),\"\")","v":""},{"$f":"IFERROR(VLOOKUP($C$4&\"_\"&$A26,school_wise,COLUMNS($A$5:AG24),0),\"\")","v":""},{"$f":"IFERROR(VLOOKUP($C$4&\"_\"&$A26,school_wise,COLUMNS($A$5:AH24),0),\"\")","v":""},{"$f":"IFERROR(VLOOKUP($C$4&\"_\"&$A26,school_wise,COLUMNS($A$5:AI24),0),\"\")","v":""},{"$f":"IFERROR(VLOOKUP($C$4&\"_\"&$A26,school_wise,COLUMNS($A$5:AJ24),0),\"\")","v":""}]
[21,{"$f":"IFERROR(VLOOKUP($C$4&\"_\"&$A27,school_wise,COLUMNS($A$5:C25),0),\"\")","v":""},{"$f":"IFERROR(VLOOKUP($C$4&\"_\"&$A27,school_wise,COLUMNS($A$5:D25),0),\"\")","v":""},{"$f":"IFERROR(VLOOKUP($C$4&\"_\"&$A27,school_wise,COLUMNS($A$5:E25),0),\"\")","v":""},{"$f":"IFERROR(VLOOKUP($C$4&\"_\"&$A27,school_wise,COLUMNS($A$5:F25),0),\"\")","v":""},{"$f":"IFERROR(VLOOKUP($C$4&\"_\"&$A27,school_wise,COLUMNS($A$5:G25),0),\"\")","v":""},{"$f":"IFERROR(VLOOKUP($C$4&\"_\"&$A27,school_wise,COLUMNS($A$5:H25),0),\"\")","v":""},{"$f":"IFERROR(VLOOKUP($C$4&\"_\"&$A27,school_wise,COLUMNS($A$5:I25),0),\"\")","v":""},{"$f":"IFERROR(VLOOKUP($C$4&\"_\"&$A27,school_wise,COLUMNS($A$5:J25),0),\"\")","v":""},{"$f":"IFERROR(VLOOKUP($C$4&\"_\"&$A27,school_wise,COLUMNS($A$5:K25),0),\"\")","v":""},{"$f":"IFERROR(VLOOKUP($C$4&\"_\"&$A27,school_wise,COLUMNS($A$5:L25),0),\"\")","v":""},{"$f":"IFERROR(VLOOKUP($C$4&\"_\"&$A27,school_wise,COLUMNS($A$5:M25),0),\"\")","v":""},{"$f":"IFERROR(VLOOKUP($C$4&\"_\"&$A27,school_wise,COLUMNS($A$5:N25),0),\"\")","v":""},{"$f":"IFERROR(VLOOKUP($C$4&\"_\"&$A27,school_wise,COLUMNS($A$5:O25),0),\"\")","v":""},{"$f":"IFERROR(VLOOKUP($C$4&\"_\"&$A27,school_wise,COLUMNS($A$5:P25),0),\"\")","v":""},{"$f":"IFERROR(VLOOKUP($C$4&\"_\"&$A27,school_wise,COLUMNS($A$5:Q25),0),\"\")","v":""},{"$f":"IFERROR(VLOOKUP($C$4&\"_\"&$A27,school_wise,COLUMNS($A$5:R25),0),\"\")","v":""},{"$f":"IFERROR(VLOOKUP($C$4&\"_\"&$A27,school_wise,COLUMNS($A$5:S25),0),\"\")","v":""},{"$f":"IFERROR(VLOOKUP($C$4&\"_\"&$A27,school_wise,COLUMNS($A$5:T25),0),\"\")","v":""},{"$f":"IFERROR(VLOOKUP($C$4&\"_\"&$A27,school_wise,COLUMNS($A$5:U25),0),\"\")","v":""},{"$f":"IFERROR(VLOOKUP($C$4&\"_\"&$A27,school_wise,COLUMNS($A$5:V25),0),\"\")","v":""},{"$f":"IFERROR(VLOOKUP($C$4&\"_\"&$A27,school_wise,COLUMNS($A$5:W25),0),\"\")","v":""},{"$f":"IFERROR(VLOOKUP($C$4&\"_\"&$A27,school_wise,COLUMNS($A$5:X25),0),\"\")","v":""},{"$f":"IFERROR(VLOOKUP($C$4&\"_\"&$A27,school_wise,COLUMNS($A$5:Y25),0),\"\")","v":""},{"$f":"IFERROR(VLOOKUP($C$4&\"_\"&$A27,school_wise,COLUMNS($A$5:Z25),0),\"\")","v":""},{"$f":"IFERROR(VLOOKUP($C$4&\"_\"&$A27,school_wise,COLUMNS($A$5:AA25),0),\"\")","v":""},{"$f":"IFERROR(VLOOKUP($C$4&\"_\"&$A27,school_wise,COLUMNS($A$5:AB25),0),\"\")","v":""},{"$f":"IFERROR(VLOOKUP($C$4&\"_\"&$A27,school_wise,COLUMNS($A$5:AC25),0),\"\")","v":""},{"$f":"IFERROR(VLOOKUP($C$4&\"_\"&$A27,school_wise,COLUMNS($A$5:AD25),0),\"\")","v":""},{"$f":"IFERROR(VLOOKUP($C$4&\"_\"&$A27,school_wise,COLUMNS($A$5:AE25),0),\"\")","v":""},{"$f":"IFERROR(VLOOKUP($C$4&\"_\"&$A27,school_wise,COLUMNS($A$5:AF25),0),\"\")","v":""},{"$f":"IFERROR(VLOOKUP($C$4&\"_\"&$A27,school_wise,COLUMNS($A$5:AG25),0),\"\")","v":""},{"$f":"IFERROR(VLOOKUP($C$4&\"_\"&$A27,school_wise,COLUMNS($A$5:AH25),0),\"\")","v":""},{"$f":"IFERROR(VLOOKUP($C$4&\"_\"&$A27,school_wise,COLUMNS($A$5:AI25),0),\"\")","v":""},{"$f":"IFERROR(VLOOKUP($C$4&\"_\"&$A27,school_wise,COLUMNS($A$5:AJ25),0),\"\")","v":""}]
[22,{"$f":"IFERROR(VLOOKUP($C$4&\"_\"&$A28,school_wise,COLUMNS($A$5:C26),0),\"\")","v":""},{"$f":"IFERROR(VLOOKUP($C$4&\"_\"&$A28,school_wise,COLUMNS($A$5:D26),0),\"\")","v":""},{"$f":"IFERROR(VLOOKUP($C$4&\"_\"&$A28,school_wise,COLUMNS($A$5:E26),0),\"\")","v":""},{"$f":"IFERROR(VLOOKUP($C$4&\"_\"&$A28,school_wise,COLUMNS($A$5:F26),0),\"\")","v":""},{"$f":"IFERROR(VLOOKUP($C$4&\"_\"&$A28,school_wise,COLUMNS($A$5:G26),0),\"\")","v":""},{"$f":"IFERROR(VLOOKUP($C$4&\"_\"&$A28,school_wise,COLUMNS($A$5:H26),0),\"\")","v":""},{"$f":"IFERROR(VLOOKUP($C$4&\"_\"&$A28,school_wise,COLUMNS($A$5:I26),0),\"\")","v":""},{"$f":"IFERROR(VLOOKUP($C$4&\"_\"&$A28,school_wise,COLUMNS($A$5:J26),0),\"\")","v":""},{"$f":"IFERROR(VLOOKUP($C$4&\"_\"&$A28,school_wise,COLUMNS($A$5:K26),0),\"\")","v":""},{"$f":"IFERROR(VLOOKUP($C$4&\"_\"&$A28,school_wise,COLUMNS($A$5:L26),0),\"\")","v":""},{"$f":"IFERROR(VLOOKUP($C$4&\"_\"&$A28,school_wise,COLUMNS($A$5:M26),0),\"\")","v":""},{"$f":"IFERROR(VLOOKUP($C$4&\"_\"&$A28,school_wise,COLUMNS($A$5:N26),0),\"\")","v":""},{"$f":"IFERROR(VLOOKUP($C$4&\"_\"&$A28,school_wise,COLUMNS($A$5:O26),0),\"\")","v":""},{"$f":"IFERROR(VLOOKUP($C$4&\"_\"&$A28,school_wise,COLUMNS($A$5:P26),0),\"\")","v":""},{"$f":"IFERROR(VLOOKUP($C$4&\"_\"&$A28,school_wise,COLUMNS($A$5:Q26),0),\"\")","v":""},{"$f":"IFERROR(VLOOKUP($C$4&\"_\"&$A28,school_wise,COLUMNS($A$5:R26),0),\"\")","v":""},{"$f":"IFERROR(VLOOKUP($C$4&\"_\"&$A28,school_wise,COLUMNS($A$5:S26),0),\"\")","v":""},{"$f":"IFERROR(VLOOKUP($C$4&\"_\"&$A28,school_wise,COLUMNS($A$5:T26),0),\"\")","v":""},{"$f":"IFERROR(VLOOKUP($C$4&\"_\"&$A28,school_wise,COLUMNS($A$5:U26),0),\"\")","v":""},{"$f":"IFERROR(VLOOKUP($C$4&\"_\"&$A28,school_wise,COLUMNS($A$5:V26),0),\"\")","v":""},{"$f":"IFERROR(VLOOKUP($C$4&\"_\"&$A28,school_wise,COLUMNS($A$5:W26),0),\"\")","v":""},{"$f":"IFERROR(VLOOKUP($C$4&\"_\"&$A28,school_wise,COLUMNS($A$5:X26),0),\"\")","v":""},{"$f":"IFERROR(VLOOKUP($C$4&\"_\"&$A28,school_wise,COLUMNS($A$5:Y26),0),\"\")","v":""},{"$f":"IFERROR(VLOOKUP($C$4&\"_\"&$A28,school_wise,COLUMNS($A$5:Z26),0),\"\")","v":""},{"$f":"IFERROR(VLOOKUP($C$4&\"_\"&$A28,school_wise,COLUMNS($A$5:AA26),0),\"\")","v":""},{"$f":"IFERROR(VLOOKUP($C$4&\"_\"&$A28,school_wise,COLUMNS($A$5:AB26),0),\"\")","v":""},{"$f":"IFERROR(VLOOKUP($C$4&\"_\"&$A28,school_wise,COLUMNS($A$5:AC26),0),\"\")","v":""},{"$f":"IFERROR(VLOOKUP($C$4&\"_\"&$A28,school_wise,COLUMNS($A$5:AD26),0),\"\")","v":""},{"$f":"IFERROR(VLOOKUP($C$4&\"_\"&$A28,school_wise,COLUMNS($A$5:AE26),0),\"\")","v":""},{"$f":"IFERROR(VLOOKUP($C$4&\"_\"&$A28,school_wise,COLUMNS($A$5:AF26),0),\"\")","v":""},{"$f":"IFERROR(VLOOKUP($C$4&\"_\"&$A28,school_wise,COLUMNS($A$5:AG26),0),\"\")","v":""},{"$f":"IFERROR(VLOOKUP($C$4&\"_\"&$A28,school_wise,COLUMNS($A$5:AH26),0),\"\")","v":""},{"$f":"IFERROR(VLOOKUP($C$4&\"_\"&$A28,school_wise,COLUMNS($A$5:AI26),0),\"\")","v":""},{"$f":"IFERROR(VLOOKUP($C$4&\"_\"&$A28,school_wise,COLUMNS($A$5:AJ26),0),\"\")","v":""}]
[23,{"$f":"IFERROR(VLOOKUP($C$4&\"_\"&$A29,school_wise,COLUMNS($A$5:C27),0),\"\")","v":""},{"$f":"IFERROR(VLOOKUP($C$4&\"_\"&$A29,school_wise,COLUMNS($A$5:D27),0),\"\")","v":""},{"$f":"IFERROR(VLOOKUP($C$4&\"_\"&$A29,school_wise,COLUMNS($A$5:E27),0),\"\")","v":""},{"$f":"IFERROR(VLOOKUP($C$4&\"_\"&$A29,school_wise,COLUMNS($A$5:F27),0),\"\")","v":""},{"$f":"IFERROR(VLOOKUP($C$4&\"_\"&$A29,school_wise,COLUMNS($A$5:G27),0),\"\")","v":""},{"$f":"IFERROR(VLOOKUP($C$4&\"_\"&$A29,school_wise,COLUMNS($A$5:H27),0),\"\")","v":""},{"$f":"IFERROR(VLOOKUP($C$4&\"_\"&$A29,school_wise,COLUMNS($A$5:I27),0),\"\")","v":""},{"$f":"IFERROR(VLOOKUP($C$4&\"_\"&$A29,school_wise,COLUMNS($A$5:J27),0),\"\")","v":""},{"$f":"IFERROR(VLOOKUP($C$4&\"_\"&$A29,school_wise,COLUMNS($A$5:K27),0),\"\")","v":""},{"$f":"IFERROR(VLOOKUP($C$4&\"_\"&$A29,school_wise,COLUMNS($A$5:L27),0),\"\")","v":""},{"$f":"IFERROR(VLOOKUP($C$4&\"_\"&$A29,school_wise,COLUMNS($A$5:M27),0),\"\")","v":""},{"$f":"IFERROR(VLOOKUP($C$4&\"_\"&$A29,school_wise,COLUMNS($A$5:N27),0),\"\")","v":""},{"$f":"IFERROR(VLOOKUP($C$4&\"_\"&$A29,school_wise,COLUMNS($A$5:O27),0),\"\")","v":""},{"$f":"IFERROR(VLOOKUP($C$4&\"_\"&$A29,school_wise,COLUMNS($A$5:P27),0),\"\")","v":""},{"$f":"IFERROR(VLOOKUP($C$4&\"_\"&$A29,school_wise,COLUMNS($A$5:Q27),0),\"\")","v":""},{"$f":"IFERROR(VLOOKUP($C$4&\"_\"&$A29,school_wise,COLUMNS($A$5:R27),0),\"\")","v":""},{"$f":"IFERROR(VLOOKUP($C$4&\"_\"&$A29,school_wise,COLUMNS($A$5:S27),0),\"\")","v":""},{"$f":"IFERROR(VLOOKUP($C$4&\"_\"&$A29,school_wise,COLUMNS($A$5:T27),0),\"\")","v":""},{"$f":"IFERROR(VLOOKUP($C$4&\"_\"&$A29,school_wise,COLUMNS($A$5:U27),0),\"\")","v":""},{"$f":"IFERROR(VLOOKUP($C$4&\"_\"&$A29,school_wise,COLUMNS($A$5:V27),0),\"\")","v":""},{"$f":"IFERROR(VLOOKUP($C$4&\"_\"&$A29,school_wise,COLUMNS($A$5:W27),0),\"\")","v":""},{"$f":"IFERROR(VLOOKUP($C$4&\"_\"&$A29,school_wise,COLUMNS($A$5:X27),0),\"\")","v":""},{"$f":"IFERROR(VLOOKUP($C$4&\"_\"&$A29,school_wise,COLUMNS($A$5:Y27),0),\"\")","v":""},{"$f":"IFERROR(VLOOKUP($C$4&\"_\"&$A29,school_wise,COLUMNS($A$5:Z27),0),\"\")","v":""},{"$f":"IFERROR(VLOOKUP($C$4&\"_\"&$A29,school_wise,COLUMNS($A$5:AA27),0),\"\")","v":""},{"$f":"IFERROR(VLOOKUP($C$4&\"_\"&$A29,school_wise,COLUMNS($A$5:AB27),0),\"\")","v":""},{"$f":"IFERROR(VLOOKUP($C$4&\"_\"&$A29,school_wise,COLUMNS($A$5:AC27),0),\"\")","v":""},{"$f":"IFERROR(VLOOKUP($C$4&\"_\"&$A29,school_wise,COLUMNS($A$5:AD27),0),\"\")","v":""},{"$f":"IFERROR(VLOOKUP($C$4&\"_\"&$A29,school_wise,COLUMNS($A$5:AE27),0),\"\")","v":""},{"$f":"IFERROR(VLOOKUP($C$4&\"_\"&$A29,school_wise,COLUMNS($A$5:AF27),0),\"\")","v":""},{"$f":"IFERROR(VLOOKUP($C$4&\"_\"&$A29,school_wise,COLUMNS($A$5:AG27),0),\"\")","v":""},{"$f":"IFERROR(VLOOKUP($C$4&\"_\"&$A29,school_wise,COLUMNS($A$5:AH27),0),\"\")","v":""},{"$f":"IFERROR(VLOOKUP($C$4&\"_\"&$A29,school_wise,COLUMNS($A$5:AI27),0),\"\")","v":""},{"$f":"IFERROR(VLOOKUP($C$4&\"_\"&$A29,school_wise,COLUMNS($A$5:AJ27),0),\"\")","v":""}]
[24,{"$f":"IFERROR(VLOOKUP($C$4&\"_\"&$A30,school_wise,COLUMNS($A$5:C28),0),\"\")","v":""},{"$f":"IFERROR(VLOOKUP($C$4&\"_\"&$A30,school_wise,COLUMNS($A$5:D28),0),\"\")","v":""},{"$f":"IFERROR(VLOOKUP($C$4&\"_\"&$A30,school_wise,COLUMNS($A$5:E28),0),\"\")","v":""},{"$f":"IFERROR(VLOOKUP($C$4&\"_\"&$A30,school_wise,COLUMNS($A$5:F28),0),\"\")","v":""},{"$f":"IFERROR(VLOOKUP($C$4&\"_\"&$A30,school_wise,COLUMNS($A$5:G28),0),\"\")","v":""},{"$f":"IFERROR(VLOOKUP($C$4&\"_\"&$A30,school_wise,COLUMNS($A$5:H28),0),\"\")","v":""},{"$f":"IFERROR(VLOOKUP($C$4&\"_\"&$A30,school_wise,COLUMNS($A$5:I28),0),\"\")","v":""},{"$f":"IFERROR(VLOOKUP($C$4&\"_\"&$A30,school_wise,COLUMNS($A$5:J28),0),\"\")","v":""},{"$f":"IFERROR(VLOOKUP($C$4&\"_\"&$A30,school_wise,COLUMNS($A$5:K28),0),\"\")","v":""},{"$f":"IFERROR(VLOOKUP($C$4&\"_\"&$A30,school_wise,COLUMNS($A$5:L28),0),\"\")","v":""},{"$f":"IFERROR(VLOOKUP($C$4&\"_\"&$A30,school_wise,COLUMNS($A$5:M28),0),\"\")","v":""},{"$f":"IFERROR(VLOOKUP($C$4&\"_\"&$A30,school_wise,COLUMNS($A$5:N28),0),\"\")","v":""},{"$f":"IFERROR(VLOOKUP($C$4&\"_\"&$A30,school_wise,COLUMNS($A$5:O28),0),\"\")","v":""},{"$f":"IFERROR(VLOOKUP($C$4&\"_\"&$A30,school_wise,COLUMNS($A$5:P28),0),\"\")","v":""},{"$f":"IFERROR(VLOOKUP($C$4&\"_\"&$A30,school_wise,COLUMNS($A$5:Q28),0),\"\")","v":""},{"$f":"IFERROR(VLOOKUP($C$4&\"_\"&$A30,school_wise,COLUMNS($A$5:R28),0),\"\")","v":""},{"$f":"IFERROR(VLOOKUP($C$4&\"_\"&$A30,school_wise,COLUMNS($A$5:S28),0),\"\")","v":""},{"$f":"IFERROR(VLOOKUP($C$4&\"_\"&$A30,school_wise,COLUMNS($A$5:T28),0),\"\")","v":""},{"$f":"IFERROR(VLOOKUP($C$4&\"_\"&$A30,school_wise,COLUMNS($A$5:U28),0),\"\")","v":""},{"$f":"IFERROR(VLOOKUP($C$4&\"_\"&$A30,school_wise,COLUMNS($A$5:V28),0),\"\")","v":""},{"$f":"IFERROR(VLOOKUP($C$4&\"_\"&$A30,school_wise,COLUMNS($A$5:W28),0),\"\")","v":""},{"$f":"IFERROR(VLOOKUP($C$4&\"_\"&$A30,school_wise,COLUMNS($A$5:X28),0),\"\")","v":""},{"$f":"IFERROR(VLOOKUP($C$4&\"_\"&$A30,school_wise,COLUMNS($A$5:Y28),0),\"\")","v":""},{"$f":"IFERROR(VLOOKUP($C$4&\"_\"&$A30,school_wise,COLUMNS($A$5:Z28),0),\"\")","v":""},{"$f":"IFERROR(VLOOKUP($C$4&\"_\"&$A30,school_wise,COLUMNS($A$5:AA28),0),\"\")","v":""},{"$f":"IFERROR(VLOOKUP($C$4&\"_\"&$A30,school_wise,COLUMNS($A$5:AB28),0),\"\")","v":""},{"$f":"IFERROR(VLOOKUP($C$4&\"_\"&$A30,school_wise,COLUMNS($A$5:AC28),0),\"\")","v":""},{"$f":"IFERROR(VLOOKUP($C$4&\"_\"&$A30,school_wise,COLUMNS($A$5:AD28),0),\"\")","v":""},{"$f":"IFERROR(VLOOKUP($C$4&\"_\"&$A30,school_wise,COLUMNS($A$5:AE28),0),\"\")","v":""},{"$f":"IFERROR(VLOOKUP($C$4&\"_\"&$A30,school_wise,COLUMNS($A$5:AF28),0),\"\")","v":""},{"$f":"IFERROR(VLOOKUP($C$4&\"_\"&$A30,school_wise,COLUMNS($A$5:AG28),0),\"\")","v":""},{"$f":"IFERROR(VLOOKUP($C$4&\"_\"&$A30,school_wise,COLUMNS($A$5:AH28),0),\"\")","v":""},{"$f":"IFERROR(VLOOKUP($C$4&\"_\"&$A30,school_wise,COLUMNS($A$5:AI28),0),\"\")","v":""},{"$f":"IFERROR(VLOOKUP($C$4&\"_\"&$A30,school_wise,COLUMNS($A$5:AJ28),0),\"\")","v":""}]
[25,{"$f":"IFERROR(VLOOKUP($C$4&\"_\"&$A31,school_wise,COLUMNS($A$5:C29),0),\"\")","v":""},{"$f":"IFERROR(VLOOKUP($C$4&\"_\"&$A31,school_wise,COLUMNS($A$5:D29),0),\"\")","v":""},{"$f":"IFERROR(VLOOKUP($C$4&\"_\"&$A31,school_wise,COLUMNS($A$5:E29),0),\"\")","v":""},{"$f":"IFERROR(VLOOKUP($C$4&\"_\"&$A31,school_wise,COLUMNS($A$5:F29),0),\"\")","v":""},{"$f":"IFERROR(VLOOKUP($C$4&\"_\"&$A31,school_wise,COLUMNS($A$5:G29),0),\"\")","v":""},{"$f":"IFERROR(VLOOKUP($C$4&\"_\"&$A31,school_wise,COLUMNS($A$5:H29),0),\"\")","v":""},{"$f":"IFERROR(VLOOKUP($C$4&\"_\"&$A31,school_wise,COLUMNS($A$5:I29),0),\"\")","v":""},{"$f":"IFERROR(VLOOKUP($C$4&\"_\"&$A31,school_wise,COLUMNS($A$5:J29),0),\"\")","v":""},{"$f":"IFERROR(VLOOKUP($C$4&\"_\"&$A31,school_wise,COLUMNS($A$5:K29),0),\"\")","v":""},{"$f":"IFERROR(VLOOKUP($C$4&\"_\"&$A31,school_wise,COLUMNS($A$5:L29),0),\"\")","v":""},{"$f":"IFERROR(VLOOKUP($C$4&\"_\"&$A31,school_wise,COLUMNS($A$5:M29),0),\"\")","v":""},{"$f":"IFERROR(VLOOKUP($C$4&\"_\"&$A31,school_wise,COLUMNS($A$5:N29),0),\"\")","v":""},{"$f":"IFERROR(VLOOKUP($C$4&\"_\"&$A31,school_wise,COLUMNS($A$5:O29),0),\"\")","v":""},{"$f":"IFERROR(VLOOKUP($C$4&\"_\"&$A31,school_wise,COLUMNS($A$5:P29),0),\"\")","v":""},{"$f":"IFERROR(VLOOKUP($C$4&\"_\"&$A31,school_wise,COLUMNS($A$5:Q29),0),\"\")","v":""},{"$f":"IFERROR(VLOOKUP($C$4&\"_\"&$A31,school_wise,COLUMNS($A$5:R29),0),\"\")","v":""},{"$f":"IFERROR(VLOOKUP($C$4&\"_\"&$A31,school_wise,COLUMNS($A$5:S29),0),\"\")","v":""},{"$f":"IFERROR(VLOOKUP($C$4&\"_\"&$A31,school_wise,COLUMNS($A$5:T29),0),\"\")","v":""},{"$f":"IFERROR(VLOOKUP($C$4&\"_\"&$A31,school_wise,COLUMNS($A$5:U29),0),\"\")","v":""},{"$f":"IFERROR(VLOOKUP($C$4&\"_\"&$A31,school_wise,COLUMNS($A$5:V29),0),\"\")","v":""},{"$f":"IFERROR(VLOOKUP($C$4&\"_\"&$A31,school_wise,COLUMNS($A$5:W29),0),\"\")","v":""},{"$f":"IFERROR(VLOOKUP($C$4&\"_\"&$A31,school_wise,COLUMNS($A$5:X29),0),\"\")","v":""},{"$f":"IFERROR(VLOOKUP($C$4&\"_\"&$A31,school_wise,COLUMNS($A$5:Y29),0),\"\")","v":""},{"$f":"IFERROR(VLOOKUP($C$4&\"_\"&$A31,school_wise,COLUMNS($A$5:Z29),0),\"\")","v":""},{"$f":"IFERROR(VLOOKUP($C$4&\"_\"&$A31,school_wise,COLUMNS($A$5:AA29),0),\"\")","v":""},{"$f":"IFERROR(VLOOKUP($C$4&\"_\"&$A31,school_wise,COLUMNS($A$5:AB29),0),\"\")","v":""},{"$f":"IFERROR(VLOOKUP($C$4&\"_\"&$A31,school_wise,COLUMNS($A$5:AC29),0),\"\")","v":""},{"$f":"IFERROR(VLOOKUP($C$4&\"_\"&$A31,school_wise,COLUMNS($A$5:AD29),0),\"\")","v":""},{"$f":"IFERROR(VLOOKUP($C$4&\"_\"&$A31,school_wise,COLUMNS($A$5:AE29),0),\"\")","v":""},{"$f":"IFERROR(VLOOKUP($C$4&\"_\"&$A31,school_wise,COLUMNS($A$5:AF29),0),\"\")","v":""},{"$f":"IFERROR(VLOOKUP($C$4&\"_\"&$A31,school_wise,COLUMNS($A$5:AG29),0),\"\")","v":""},{"$f":"IFERROR(VLOOKUP($C$4&\"_\"&$A31,school_wise,COLUMNS($A$5:AH29),0),\"\")","v":""},{"$f":"IFERROR(VLOOKUP($C$4&\"_\"&$A31,school_wise,COLUMNS($A$5:AI29),0),\"\")","v":""},{"$f":"IFERROR(VLOOKUP($C$4&\"_\"&$A31,school_wise,COLUMNS($A$5:AJ29),0),\"\")","v":""}]
[26,{"$f":"IFERROR(VLOOKUP($C$4&\"_\"&$A32,school_wise,COLUMNS($A$5:C30),0),\"\")","v":""},{"$f":"IFERROR(VLOOKUP($C$4&\"_\"&$A32,school_wise,COLUMNS($A$5:D30),0),\"\")","v":""},{"$f":"IFERROR(VLOOKUP($C$4&\"_\"&$A32,school_wise,COLUMNS($A$5:E30),0),\"\")","v":""},{"$f":"IFERROR(VLOOKUP($C$4&\"_\"&$A32,school_wise,COLUMNS($A$5:F30),0),\"\")","v":""},{"$f":"IFERROR(VLOOKUP($C$4&\"_\"&$A32,school_wise,COLUMNS($A$5:G30),0),\"\")","v":""},{"$f":"IFERROR(VLOOKUP($C$4&\"_\"&$A32,school_wise,COLUMNS($A$5:H30),0),\"\")","v":""},{"$f":"IFERROR(VLOOKUP($C$4&\"_\"&$A32,school_wise,COLUMNS($A$5:I30),0),\"\")","v":""},{"$f":"IFERROR(VLOOKUP($C$4&\"_\"&$A32,school_wise,COLUMNS($A$5:J30),0),\"\")","v":""},{"$f":"IFERROR(VLOOKUP($C$4&\"_\"&$A32,school_wise,COLUMNS($A$5:K30),0),\"\")","v":""},{"$f":"IFERROR(VLOOKUP($C$4&\"_\"&$A32,school_wise,COLUMNS($A$5:L30),0),\"\")","v":""},{"$f":"IFERROR(VLOOKUP($C$4&\"_\"&$A32,school_wise,COLUMNS($A$5:M30),0),\"\")","v":""},{"$f":"IFERROR(VLOOKUP($C$4&\"_\"&$A32,school_wise,COLUMNS($A$5:N30),0),\"\")","v":""},{"$f":"IFERROR(VLOOKUP($C$4&\"_\"&$A32,school_wise,COLUMNS($A$5:O30),0),\"\")","v":""},{"$f":"IFERROR(VLOOKUP($C$4&\"_\"&$A32,school_wise,COLUMNS($A$5:P30),0),\"\")","v":""},{"$f":"IFERROR(VLOOKUP($C$4&\"_\"&$A32,school_wise,COLUMNS($A$5:Q30),0),\"\")","v":""},{"$f":"IFERROR(VLOOKUP($C$4&\"_\"&$A32,school_wise,COLUMNS($A$5:R30),0),\"\")","v":""},{"$f":"IFERROR(VLOOKUP($C$4&\"_\"&$A32,school_wise,COLUMNS($A$5:S30),0),\"\")","v":""},{"$f":"IFERROR(VLOOKUP($C$4&\"_\"&$A32,school_wise,COLUMNS($A$5:T30),0),\"\")","v":""},{"$f":"IFERROR(VLOOKUP($C$4&\"_\"&$A32,school_wise,COLUMNS($A$5:U30),0),\"\")","v":""},{"$f":"IFERROR(VLOOKUP($C$4&\"_\"&$A32,school_wise,COLUMNS($A$5:V30),0),\"\")","v":""},{"$f":"IFERROR(VLOOKUP($C$4&\"_\"&$A32,school_wise,COLUMNS($A$5:W30),0),\"\")","v":""},{"$f":"IFERROR(VLOOKUP($C$4&\"_\"&$A32,school_wise,COLUMNS($A$5:X30),0),\"\")","v":""},{"$f":"IFERROR(VLOOKUP($C$4&\"_\"&$A32,school_wise,COLUMNS($A$5:Y30),0),\"\")","v":""},{"$f":"IFERROR(VLOOKUP($C$4&\"_\"&$A32,school_wise,COLUMNS($A$5:Z30),0),\"\")","v":""},{"$f":"IFERROR(VLOOKUP($C$4&\"_\"&$A32,school_wise,COLUMNS($A$5:AA30),0),\"\")","v":""},{"$f":"IFERROR(VLOOKUP($C$4&\"_\"&$A32,school_wise,COLUMNS($A$5:AB30),0),\"\")","v":""},{"$f":"IFERROR(VLOOKUP($C$4&\"_\"&$A32,school_wise,COLUMNS($A$5:AC30),0),\"\")","v":""},{"$f":"IFERROR(VLOOKUP($C$4&\"_\"&$A32,school_wise,COLUMNS($A$5:AD30),0),\"\")","v":""},{"$f":"IFERROR(VLOOKUP($C$4&\"_\"&$A32,school_wise,COLUMNS($A$5:AE30),0),\"\")","v":""},{"$f":"IFERROR(VLOOKUP($C$4&\"_\"&$A32,school_wise,COLUMNS($A$5:AF30),0),\"\")","v":""},{"$f":"IFERROR(VLOOKUP($C$4&\"_\"&$A32,school_wise,COLUMNS($A$5:AG30),0),\"\")","v":""},{"$f":"IFERROR(VLOOKUP($C$4&\"_\"&$A32,school_wise,COLUMNS($A$5:AH30),0),\"\")","v":""},{"$f":"IFERROR(VLOOKUP($C$4&\"_\"&$A32,school_wise,COLUMNS($A$5:AI30),0),\"\")","v":""},{"$f":"IFERROR(VLOOKUP($C$4&\"_\"&$A32,school_wise,COLUMNS($A$5:AJ30),0),\"\")","v":""}]
[27,{"$f":"IFERROR(VLOOKUP($C$4&\"_\"&$A33,school_wise,COLUMNS($A$5:C31),0),\"\")","v":""},{"$f":"IFERROR(VLOOKUP($C$4&\"_\"&$A33,school_wise,COLUMNS($A$5:D31),0),\"\")","v":""},{"$f":"IFERROR(VLOOKUP($C$4&\"_\"&$A33,school_wise,COLUMNS($A$5:E31),0),\"\")","v":""},{"$f":"IFERROR(VLOOKUP($C$4&\"_\"&$A33,school_wise,COLUMNS($A$5:F31),0),\"\")","v":""},{"$f":"IFERROR(VLOOKUP($C$4&\"_\"&$A33,school_wise,COLUMNS($A$5:G31),0),\"\")","v":""},{"$f":"IFERROR(VLOOKUP($C$4&\"_\"&$A33,school_wise,COLUMNS($A$5:H31),0),\"\")","v":""},{"$f":"IFERROR(VLOOKUP($C$4&\"_\"&$A33,school_wise,COLUMNS($A$5:I31),0),\"\")","v":""},{"$f":"IFERROR(VLOOKUP($C$4&\"_\"&$A33,school_wise,COLUMNS($A$5:J31),0),\"\")","v":""},{"$f":"IFERROR(VLOOKUP($C$4&\"_\"&$A33,school_wise,COLUMNS($A$5:K31),0),\"\")","v":""},{"$f":"IFERROR(VLOOKUP($C$4&\"_\"&$A33,school_wise,COLUMNS($A$5:L31),0),\"\")","v":""},{"$f":"IFERROR(VLOOKUP($C$4&\"_\"&$A33,school_wise,COLUMNS($A$5:M31),0),\"\")","v":""},{"$f":"IFERROR(VLOOKUP($C$4&\"_\"&$A33,school_wise,COLUMNS($A$5:N31),0),\"\")","v":""},{"$f":"IFERROR(VLOOKUP($C$4&\"_\"&$A33,school_wise,COLUMNS($A$5:O31),0),\"\")","v":""},{"$f":"IFERROR(VLOOKUP($C$4&\"_\"&$A33,school_wise,COLUMNS($A$5:P31),0),\"\")","v":""},{"$f":"IFERROR(VLOOKUP($C$4&\"_\"&$A33,school_wise,COLUMNS($A$5:Q31),0),\"\")","v":""},{"$f":"IFERROR(VLOOKUP($C$4&\"_\"&$A33,school_wise,COLUMNS($A$5:R31),0),\"\")","v":""},{"$f":"IFERROR(VLOOKUP($C$4&\"_\"&$A33,school_wise,COLUMNS($A$5:S31),0),\"\")","v":""},{"$f":"IFERROR(VLOOKUP($C$4&\"_\"&$A33,school_wise,COLUMNS($A$5:T31),0),\"\")","v":""},{"$f":"IFERROR(VLOOKUP($C$4&\"_\"&$A33,school_wise,COLUMNS($A$5:U31),0),\"\")","v":""},{"$f":"IFERROR(VLOOKUP($C$4&\"_\"&$A33,school_wise,COLUMNS($A$5:V31),0),\"\")","v":""},{"$f":"IFERROR(VLOOKUP($C$4&\"_\"&$A33,school_wise,COLUMNS($A$5:W31),0),\"\")","v":""},{"$f":"IFERROR(VLOOKUP($C$4&\"_\"&$A33,school_wise,COLUMNS($A$5:X31),0),\"\")","v":""},{"$f":"IFERROR(VLOOKUP($C$4&\"_\"&$A33,school_wise,COLUMNS($A$5:Y31),0),\"\")","v":""},{"$f":"IFERROR(VLOOKUP($C$4&\"_\"&$A33,school_wise,COLUMNS($A$5:Z31),0),\"\")","v":""},{"$f":"IFERROR(VLOOKUP($C$4&\"_\"&$A33,school_wise,COLUMNS($A$5:AA31),0),\"\")","v":""},{"$f":"IFERROR(VLOOKUP($C$4&\"_\"&$A33,school_wise,COLUMNS($A$5:AB31),0),\"\")","v":""},{"$f":"IFERROR(VLOOKUP($C$4&\"_\"&$A33,school_wise,COLUMNS($A$5:AC31),0),\"\")","v":""},{"$f":"IFERROR(VLOOKUP($C$4&\"_\"&$A33,school_wise,COLUMNS($A$5:AD31),0),\"\")","v":""},{"$f":"IFERROR(VLOOKUP($C$4&\"_\"&$A33,school_wise,COLUMNS($A$5:AE31),0),\"\")","v":""},{"$f":"IFERROR(VLOOKUP($C$4&\"_\"&$A33,school_wise,COLUMNS($A$5:AF31),0),\"\")","v":""},{"$f":"IFERROR(VLOOKUP($C$4&\"_\"&$A33,school_wise,COLUMNS($A$5:AG31),0),\"\")","v":""},{"$f":"IFERROR(VLOOKUP($C$4&\"_\"&$A33,school_wise,COLUMNS($A$5:AH31),0),\"\")","v":""},{"$f":"IFERROR(VLOOKUP($C$4&\"_\"&$A33,school_wise,COLUMNS($A$5:AI31),0),\"\")","v":""},{"$f":"IFERROR(VLOOKUP($C$4&\"_\"&$A33,school_wise,COLUMNS($A$5:AJ31),0),\"\")","v":""}]
[28,{"$f":"IFERROR(VLOOKUP($C$4&\"_\"&$A34,school_wise,COLUMNS($A$5:C32),0),\"\")","v":""},{"$f":"IFERROR(VLOOKUP($C$4&\"_\"&$A34,school_wise,COLUMNS($A$5:D32),0),\"\")","v":""},{"$f":"IFERROR(VLOOKUP($C$4&\"_\"&$A34,school_wise,COLUMNS($A$5:E32),0),\"\")","v":""},{"$f":"IFERROR(VLOOKUP($C$4&\"_\"&$A34,school_wise,COLUMNS($A$5:F32),0),\"\")","v":""},{"$f":"IFERROR(VLOOKUP($C$4&\"_\"&$A34,school_wise,COLUMNS($A$5:G32),0),\"\")","v":""},{"$f":"IFERROR(VLOOKUP($C$4&\"_\"&$A34,school_wise,COLUMNS($A$5:H32),0),\"\")","v":""},{"$f":"IFERROR(VLOOKUP($C$4&\"_\"&$A34,school_wise,COLUMNS($A$5:I32),0),\"\")","v":""},{"$f":"IFERROR(VLOOKUP($C$4&\"_\"&$A34,school_wise,COLUMNS($A$5:J32),0),\"\")","v":""},{"$f":"IFERROR(VLOOKUP($C$4&\"_\"&$A34,school_wise,COLUMNS($A$5:K32),0),\"\")","v":""},{"$f":"IFERROR(VLOOKUP($C$4&\"_\"&$A34,school_wise,COLUMNS($A$5:L32),0),\"\")","v":""},{"$f":"IFERROR(VLOOKUP($C$4&\"_\"&$A34,school_wise,COLUMNS($A$5:M32),0),\"\")","v":""},{"$f":"IFERROR(VLOOKUP($C$4&\"_\"&$A34,school_wise,COLUMNS($A$5:N32),0),\"\")","v":""},{"$f":"IFERROR(VLOOKUP($C$4&\"_\"&$A34,school_wise,COLUMNS($A$5:O32),0),\"\")","v":""},{"$f":"IFERROR(VLOOKUP($C$4&\"_\"&$A34,school_wise,COLUMNS($A$5:P32),0),\"\")","v":""},{"$f":"IFERROR(VLOOKUP($C$4&\"_\"&$A34,school_wise,COLUMNS($A$5:Q32),0),\"\")","v":""},{"$f":"IFERROR(VLOOKUP($C$4&\"_\"&$A34,school_wise,COLUMNS($A$5:R32),0),\"\")","v":""},{"$f":"IFERROR(VLOOKUP($C$4&\"_\"&$A34,school_wise,COLUMNS($A$5:S32),0),\"\")","v":""},{"$f":"IFERROR(VLOOKUP($C$4&\"_\"&$A34,school_wise,COLUMNS($A$5:T32),0),\"\")","v":""},{"$f":"IFERROR(VLOOKUP($C$4&\"_\"&$A34,school_wise,COLUMNS($A$5:U32),0),\"\")","v":""},{"$f":"IFERROR(VLOOKUP($C$4&\"_\"&$A34,school_wise,COLUMNS($A$5:V32),0),\"\")","v":""},{"$f":"IFERROR(VLOOKUP($C$4&\"_\"&$A34,school_wise,COLUMNS($A$5:W32),0),\"\")","v":""},{"$f":"IFERROR(VLOOKUP($C$4&\"_\"&$A34,school_wise,COLUMNS($A$5:X32),0),\"\")","v":""},{"$f":"IFERROR(VLOOKUP($C$4&\"_\"&$A34,school_wise,COLUMNS($A$5:Y32),0),\"\")","v":""},{"$f":"IFERROR(VLOOKUP($C$4&\"_\"&$A34,school_wise,COLUMNS($A$5:Z32),0),\"\")","v":""},{"$f":"IFERROR(VLOOKUP($C$4&\"_\"&$A34,school_wise,COLUMNS($A$5:AA32),0),\"\")","v":""},{"$f":"IFERROR(VLOOKUP($C$4&\"_\"&$A34,school_wise,COLUMNS($A$5:AB32),0),\"\")","v":""},{"$f":"IFERROR(VLOOKUP($C$4&\"_\"&$A34,school_wise,COLUMNS($A$5:AC32),0),\"\")","v":""},{"$f":"IFERROR(VLOOKUP($C$4&\"_\"&$A34,school_wise,COLUMNS($A$5:AD32),0),\"\")","v":""},{"$f":"IFERROR(VLOOKUP($C$4&\"_\"&$A34,school_wise,COLUMNS($A$5:AE32),0),\"\")","v":""},{"$f":"IFERROR(VLOOKUP($C$4&\"_\"&$A34,school_wise,COLUMNS($A$5:AF32),0),\"\")","v":""},{"$f":"IFERROR(VLOOKUP($C$4&\"_\"&$A34,school_wise,COLUMNS($A$5:AG32),0),\"\")","v":""},{"$f":"IFERROR(VLOOKUP($C$4&\"_\"&$A34,school_wise,COLUMNS($A$5:AH32),0),\"\")","v":""},{"$f":"IFERROR(VLOOKUP($C$4&\"_\"&$A34,school_wise,COLUMNS($A$5:AI32),0),\"\")","v":""},{"$f":"IFERROR(VLOOKUP($C$4&\"_\"&$A34,school_wise,COLUMNS($A$5:AJ32),0),\"\")","v":""}]
[29,{"$f":"IFERROR(VLOOKUP($C$4&\"_\"&$A35,school_wise,COLUMNS($A$5:C33),0),\"\")","v":""},{"$f":"IFERROR(VLOOKUP($C$4&\"_\"&$A35,school_wise,COLUMNS($A$5:D33),0),\"\")","v":""},{"$f":"IFERROR(VLOOKUP($C$4&\"_\"&$A35,school_wise,COLUMNS($A$5:E33),0),\"\")","v":""},{"$f":"IFERROR(VLOOKUP($C$4&\"_\"&$A35,school_wise,COLUMNS($A$5:F33),0),\"\")","v":""},{"$f":"IFERROR(VLOOKUP($C$4&\"_\"&$A35,school_wise,COLUMNS($A$5:G33),0),\"\")","v":""},{"$f":"IFERROR(VLOOKUP($C$4&\"_\"&$A35,school_wise,COLUMNS($A$5:H33),0),\"\")","v":""},{"$f":"IFERROR(VLOOKUP($C$4&\"_\"&$A35,school_wise,COLUMNS($A$5:I33),0),\"\")","v":""},{"$f":"IFERROR(VLOOKUP($C$4&\"_\"&$A35,school_wise,COLUMNS($A$5:J33),0),\"\")","v":""},{"$f":"IFERROR(VLOOKUP($C$4&\"_\"&$A35,school_wise,COLUMNS($A$5:K33),0),\"\")","v":""},{"$f":"IFERROR(VLOOKUP($C$4&\"_\"&$A35,school_wise,COLUMNS($A$5:L33),0),\"\")","v":""},{"$f":"IFERROR(VLOOKUP($C$4&\"_\"&$A35,school_wise,COLUMNS($A$5:M33),0),\"\")","v":""},{"$f":"IFERROR(VLOOKUP($C$4&\"_\"&$A35,school_wise,COLUMNS($A$5:N33),0),\"\")","v":""},{"$f":"IFERROR(VLOOKUP($C$4&\"_\"&$A35,school_wise,COLUMNS($A$5:O33),0),\"\")","v":""},{"$f":"IFERROR(VLOOKUP($C$4&\"_\"&$A35,school_wise,COLUMNS($A$5:P33),0),\"\")","v":""},{"$f":"IFERROR(VLOOKUP($C$4&\"_\"&$A35,school_wise,COLUMNS($A$5:Q33),0),\"\")","v":""},{"$f":"IFERROR(VLOOKUP($C$4&\"_\"&$A35,school_wise,COLUMNS($A$5:R33),0),\"\")","v":""},{"$f":"IFERROR(VLOOKUP($C$4&\"_\"&$A35,school_wise,COLUMNS($A$5:S33),0),\"\")","v":""},{"$f":"IFERROR(VLOOKUP($C$4&\"_\"&$A35,school_wise,COLUMNS($A$5:T33),0),\"\")","v":""},{"$f":"IFERROR(VLOOKUP($C$4&\"_\"&$A35,school_wise,COLUMNS($A$5:U33),0),\"\")","v":""},{"$f":"IFERROR(VLOOKUP($C$4&\"_\"&$A35,school_wise,COLUMNS($A$5:V33),0),\"\")","v":""},{"$f":"IFERROR(VLOOKUP($C$4&\"_\"&$A35,school_wise,COLUMNS($A$5:W33),0),\"\")","v":""},{"$f":"IFERROR(VLOOKUP($C$4&\"_\"&$A35,school_wise,COLUMNS($A$5:X33),0),\"\")","v":""},{"$f":"IFERROR(VLOOKUP($C$4&\"_\"&$A35,school_wise,COLUMNS($A$5:Y33),0),\"\")","v":""},{"$f":"IFERROR(VLOOKUP($C$4&\"_\"&$A35,school_wise,COLUMNS($A$5:Z33),0),\"\")","v":""},{"$f":"IFERROR(VLOOKUP($C$4&\"_\"&$A35,school_wise,COLUMNS($A$5:AA33),0),\"\")","v":""},{"$f":"IFERROR(VLOOKUP($C$4&\"_\"&$A35,school_wise,COLUMNS($A$5:AB33),0),\"\")","v":""},{"$f":"IFERROR(VLOOKUP($C$4&\"_\"&$A35,school_wise,COLUMNS($A$5:AC33),0),\"\")","v":""},{"$f":"IFERROR(VLOOKUP($C$4&\"_\"&$A35,school_wise,COLUMNS($A$5:AD33),0),\"\")","v":""},{"$f":"IFERROR(VLOOKUP($C$4&\"_\"&$A35,school_wise,COLUMNS($A$5:AE33),0),\"\")","v":""},{"$f":"IFERROR(VLOOKUP($C$4&\"_\"&$A35,school_wise,COLUMNS($A$5:AF33),0),\"\")","v":""},{"$f":"IFERROR(VLOOKUP($C$4&\"_\"&$A35,school_wise,COLUMNS($A$5:AG33),0),\"\")","v":""},{"$f":"IFERROR(VLOOKUP($C$4&\"_\"&$A35,school_wise,COLUMNS($A$5:AH33),0),\"\")","v":""},{"$f":"IFERROR(VLOOKUP($C$4&\"_\"&$A35,school_wise,COLUMNS($A$5:AI33),0),\"\")","v":""},{"$f":"IFERROR(VLOOKUP($C$4&\"_\"&$A35,school_wise,COLUMNS($A$5:AJ33),0),\"\")","v":""}]
[30,{"$f":"IFERROR(VLOOKUP($C$4&\"_\"&$A36,school_wise,COLUMNS($A$5:C34),0),\"\")","v":""},{"$f":"IFERROR(VLOOKUP($C$4&\"_\"&$A36,school_wise,COLUMNS($A$5:D34),0),\"\")","v":""},{"$f":"IFERROR(VLOOKUP($C$4&\"_\"&$A36,school_wise,COLUMNS($A$5:E34),0),\"\")","v":""},{"$f":"IFERROR(VLOOKUP($C$4&\"_\"&$A36,school_wise,COLUMNS($A$5:F34),0),\"\")","v":""},{"$f":"IFERROR(VLOOKUP($C$4&\"_\"&$A36,school_wise,COLUMNS($A$5:G34),0),\"\")","v":""},{"$f":"IFERROR(VLOOKUP($C$4&\"_\"&$A36,school_wise,COLUMNS($A$5:H34),0),\"\")","v":""},{"$f":"IFERROR(VLOOKUP($C$4&\"_\"&$A36,school_wise,COLUMNS($A$5:I34),0),\"\")","v":""},{"$f":"IFERROR(VLOOKUP($C$4&\"_\"&$A36,school_wise,COLUMNS($A$5:J34),0),\"\")","v":""},{"$f":"IFERROR(VLOOKUP($C$4&\"_\"&$A36,school_wise,COLUMNS($A$5:K34),0),\"\")","v":""},{"$f":"IFERROR(VLOOKUP($C$4&\"_\"&$A36,school_wise,COLUMNS($A$5:L34),0),\"\")","v":""},{"$f":"IFERROR(VLOOKUP($C$4&\"_\"&$A36,school_wise,COLUMNS($A$5:M34),0),\"\")","v":""},{"$f":"IFERROR(VLOOKUP($C$4&\"_\"&$A36,school_wise,COLUMNS($A$5:N34),0),\"\")","v":""},{"$f":"IFERROR(VLOOKUP($C$4&\"_\"&$A36,school_wise,COLUMNS($A$5:O34),0),\"\")","v":""},{"$f":"IFERROR(VLOOKUP($C$4&\"_\"&$A36,school_wise,COLUMNS($A$5:P34),0),\"\")","v":""},{"$f":"IFERROR(VLOOKUP($C$4&\"_\"&$A36,school_wise,COLUMNS($A$5:Q34),0),\"\")","v":""},{"$f":"IFERROR(VLOOKUP($C$4&\"_\"&$A36,school_wise,COLUMNS($A$5:R34),0),\"\")","v":""},{"$f":"IFERROR(VLOOKUP($C$4&\"_\"&$A36,school_wise,COLUMNS($A$5:S34),0),\"\")","v":""},{"$f":"IFERROR(VLOOKUP($C$4&\"_\"&$A36,school_wise,COLUMNS($A$5:T34),0),\"\")","v":""},{"$f":"IFERROR(VLOOKUP($C$4&\"_\"&$A36,school_wise,COLUMNS($A$5:U34),0),\"\")","v":""},{"$f":"IFERROR(VLOOKUP($C$4&\"_\"&$A36,school_wise,COLUMNS($A$5:V34),0),\"\")","v":""},{"$f":"IFERROR(VLOOKUP($C$4&\"_\"&$A36,school_wise,COLUMNS($A$5:W34),0),\"\")","v":""},{"$f":"IFERROR(VLOOKUP($C$4&\"_\"&$A36,school_wise,COLUMNS($A$5:X34),0),\"\")","v":""},{"$f":"IFERROR(VLOOKUP($C$4&\"_\"&$A36,school_wise,COLUMNS($A$5:Y34),0),\"\")","v":""},{"$f":"IFERROR(VLOOKUP($C$4&\"_\"&$A36,school_wise,COLUMNS($A$5:Z34),0),\"\")","v":""},{"$f":"IFERROR(VLOOKUP($C$4&\"_\"&$A36,school_wise,COLUMNS($A$5:AA34),0),\"\")","v":""},{"$f":"IFERROR(VLOOKUP($C$4&\"_\"&$A36,school_wise,COLUMNS($A$5:AB34),0),\"\")","v":""},{"$f":"IFERROR(VLOOKUP($C$4&\"_\"&$A36,school_wise,COLUMNS($A$5:AC34),0),\"\")","v":""},{"$f":"IFERROR(VLOOKUP($C$4&\"_\"&$A36,school_wise,COLUMNS($A$5:AD34),0),\"\")","v":""},{"$f":"IFERROR(VLOOKUP($C$4&\"_\"&$A36,school_wise,COLUMNS($A$5:AE34),0),\"\")","v":""},{"$f":"IFERROR(VLOOKUP($C$4&\"_\"&$A36,school_wise,COLUMNS($A$5:AF34),0),\"\")","v":""},{"$f":"IFERROR(VLOOKUP($C$4&\"_\"&$A36,school_wise,COLUMNS($A$5:AG34),0),\"\")","v":""},{"$f":"IFERROR(VLOOKUP($C$4&\"_\"&$A36,school_wise,COLUMNS($A$5:AH34),0),\"\")","v":""},{"$f":"IFERROR(VLOOKUP($C$4&\"_\"&$A36,school_wise,COLUMNS($A$5:AI34),0),\"\")","v":""},{"$f":"IFERROR(VLOOKUP($C$4&\"_\"&$A36,school_wise,COLUMNS($A$5:AJ34),0),\"\")","v":""}]
[31,{"$f":"IFERROR(VLOOKUP($C$4&\"_\"&$A37,school_wise,COLUMNS($A$5:C35),0),\"\")","v":""},{"$f":"IFERROR(VLOOKUP($C$4&\"_\"&$A37,school_wise,COLUMNS($A$5:D35),0),\"\")","v":""},{"$f":"IFERROR(VLOOKUP($C$4&\"_\"&$A37,school_wise,COLUMNS($A$5:E35),0),\"\")","v":""},{"$f":"IFERROR(VLOOKUP($C$4&\"_\"&$A37,school_wise,COLUMNS($A$5:F35),0),\"\")","v":""},{"$f":"IFERROR(VLOOKUP($C$4&\"_\"&$A37,school_wise,COLUMNS($A$5:G35),0),\"\")","v":""},{"$f":"IFERROR(VLOOKUP($C$4&\"_\"&$A37,school_wise,COLUMNS($A$5:H35),0),\"\")","v":""},{"$f":"IFERROR(VLOOKUP($C$4&\"_\"&$A37,school_wise,COLUMNS($A$5:I35),0),\"\")","v":""},{"$f":"IFERROR(VLOOKUP($C$4&\"_\"&$A37,school_wise,COLUMNS($A$5:J35),0),\"\")","v":""},{"$f":"IFERROR(VLOOKUP($C$4&\"_\"&$A37,school_wise,COLUMNS($A$5:K35),0),\"\")","v":""},{"$f":"IFERROR(VLOOKUP($C$4&\"_\"&$A37,school_wise,COLUMNS($A$5:L35),0),\"\")","v":""},{"$f":"IFERROR(VLOOKUP($C$4&\"_\"&$A37,school_wise,COLUMNS($A$5:M35),0),\"\")","v":""},{"$f":"IFERROR(VLOOKUP($C$4&\"_\"&$A37,school_wise,COLUMNS($A$5:N35),0),\"\")","v":""},{"$f":"IFERROR(VLOOKUP($C$4&\"_\"&$A37,school_wise,COLUMNS($A$5:O35),0),\"\")","v":""},{"$f":"IFERROR(VLOOKUP($C$4&\"_\"&$A37,school_wise,COLUMNS($A$5:P35),0),\"\")","v":""},{"$f":"IFERROR(VLOOKUP($C$4&\"_\"&$A37,school_wise,COLUMNS($A$5:Q35),0),\"\")","v":""},{"$f":"IFERROR(VLOOKUP($C$4&\"_\"&$A37,school_wise,COLUMNS($A$5:R35),0),\"\")","v":""},{"$f":"IFERROR(VLOOKUP($C$4&\"_\"&$A37,school_wise,COLUMNS($A$5:S35),0),\"\")","v":""},{"$f":"IFERROR(VLOOKUP($C$4&\"_\"&$A37,school_wise,COLUMNS($A$5:T35),0),\"\")","v":""},{"$f":"IFERROR(VLOOKUP($C$4&\"_\"&$A37,school_wise,COLUMNS($A$5:U35),0),\"\")","v":""},{"$f":"IFERROR(VLOOKUP($C$4&\"_\"&$A37,school_wise,COLUMNS($A$5:V35),0),\"\")","v":""},{"$f":"IFERROR(VLOOKUP($C$4&\"_\"&$A37,school_wise,COLUMNS($A$5:W35),0),\"\")","v":""},{"$f":"IFERROR(VLOOKUP($C$4&\"_\"&$A37,school_wise,COLUMNS($A$5:X35),0),\"\")","v":""},{"$f":"IFERROR(VLOOKUP($C$4&\"_\"&$A37,school_wise,COLUMNS($A$5:Y35),0),\"\")","v":""},{"$f":"IFERROR(VLOOKUP($C$4&\"_\"&$A37,school_wise,COLUMNS($A$5:Z35),0),\"\")","v":""},{"$f":"IFERROR(VLOOKUP($C$4&\"_\"&$A37,school_wise,COLUMNS($A$5:AA35),0),\"\")","v":""},{"$f":"IFERROR(VLOOKUP($C$4&\"_\"&$A37,school_wise,COLUMNS($A$5:AB35),0),\"\")","v":""},{"$f":"IFERROR(VLOOKUP($C$4&\"_\"&$A37,school_wise,COLUMNS($A$5:AC35),0),\"\")","v":""},{"$f":"IFERROR(VLOOKUP($C$4&\"_\"&$A37,school_wise,COLUMNS($A$5:AD35),0),\"\")","v":""},{"$f":"IFERROR(VLOOKUP($C$4&\"_\"&$A37,school_wise,COLUMNS($A$5:AE35),0),\"\")","v":""},{"$f":"IFERROR(VLOOKUP($C$4&\"_\"&$A37,school_wise,COLUMNS($A$5:AF35),0),\"\")","v":""},{"$f":"IFERROR(VLOOKUP($C$4&\"_\"&$A37,school_wise,COLUMNS($A$5:AG35),0),\"\")","v":""},{"$f":"IFERROR(VLOOKUP($C$4&\"_\"&$A37,school_wise,COLUMNS($A$5:AH35),0),\"\")","v":""},{"$f":"IFERROR(VLOOKUP($C$4&\"_\"&$A37,school_wise,COLUMNS($A$5:AI35),0),\"\")","v":""},{"$f":"IFERROR(VLOOKUP($C$4&\"_\"&$A37,school_wise,COLUMNS($A$5:AJ35),0),\"\")","v":""}]
[32,{"$f":"IFERROR(VLOOKUP($C$4&\"_\"&$A38,school_wise,COLUMNS($A$5:C36),0),\"\")","v":""},{"$f":"IFERROR(VLOOKUP($C$4&\"_\"&$A38,school_wise,COLUMNS($A$5:D36),0),\"\")","v":""},{"$f":"IFERROR(VLOOKUP($C$4&\"_\"&$A38,school_wise,COLUMNS($A$5:E36),0),\"\")","v":""},{"$f":"IFERROR(VLOOKUP($C$4&\"_\"&$A38,school_wise,COLUMNS($A$5:F36),0),\"\")","v":""},{"$f":"IFERROR(VLOOKUP($C$4&\"_\"&$A38,school_wise,COLUMNS($A$5:G36),0),\"\")","v":""},{"$f":"IFERROR(VLOOKUP($C$4&\"_\"&$A38,school_wise,COLUMNS($A$5:H36),0),\"\")","v":""},{"$f":"IFERROR(VLOOKUP($C$4&\"_\"&$A38,school_wise,COLUMNS($A$5:I36),0),\"\")","v":""},{"$f":"IFERROR(VLOOKUP($C$4&\"_\"&$A38,school_wise,COLUMNS($A$5:J36),0),\"\")","v":""},{"$f":"IFERROR(VLOOKUP($C$4&\"_\"&$A38,school_wise,COLUMNS($A$5:K36),0),\"\")","v":""},{"$f":"IFERROR(VLOOKUP($C$4&\"_\"&$A38,school_wise,COLUMNS($A$5:L36),0),\"\")","v":""},{"$f":"IFERROR(VLOOKUP($C$4&\"_\"&$A38,school_wise,COLUMNS($A$5:M36),0),\"\")","v":""},{"$f":"IFERROR(VLOOKUP($C$4&\"_\"&$A38,school_wise,COLUMNS($A$5:N36),0),\"\")","v":""},{"$f":"IFERROR(VLOOKUP($C$4&\"_\"&$A38,school_wise,COLUMNS($A$5:O36),0),\"\")","v":""},{"$f":"IFERROR(VLOOKUP($C$4&\"_\"&$A38,school_wise,COLUMNS($A$5:P36),0),\"\")","v":""},{"$f":"IFERROR(VLOOKUP($C$4&\"_\"&$A38,school_wise,COLUMNS($A$5:Q36),0),\"\")","v":""},{"$f":"IFERROR(VLOOKUP($C$4&\"_\"&$A38,school_wise,COLUMNS($A$5:R36),0),\"\")","v":""},{"$f":"IFERROR(VLOOKUP($C$4&\"_\"&$A38,school_wise,COLUMNS($A$5:S36),0),\"\")","v":""},{"$f":"IFERROR(VLOOKUP($C$4&\"_\"&$A38,school_wise,COLUMNS($A$5:T36),0),\"\")","v":""},{"$f":"IFERROR(VLOOKUP($C$4&\"_\"&$A38,school_wise,COLUMNS($A$5:U36),0),\"\")","v":""},{"$f":"IFERROR(VLOOKUP($C$4&\"_\"&$A38,school_wise,COLUMNS($A$5:V36),0),\"\")","v":""},{"$f":"IFERROR(VLOOKUP($C$4&\"_\"&$A38,school_wise,COLUMNS($A$5:W36),0),\"\")","v":""},{"$f":"IFERROR(VLOOKUP($C$4&\"_\"&$A38,school_wise,COLUMNS($A$5:X36),0),\"\")","v":""},{"$f":"IFERROR(VLOOKUP($C$4&\"_\"&$A38,school_wise,COLUMNS($A$5:Y36),0),\"\")","v":""},{"$f":"IFERROR(VLOOKUP($C$4&\"_\"&$A38,school_wise,COLUMNS($A$5:Z36),0),\"\")","v":""},{"$f":"IFERROR(VLOOKUP($C$4&\"_\"&$A38,school_wise,COLUMNS($A$5:AA36),0),\"\")","v":""},{"$f":"IFERROR(VLOOKUP($C$4&\"_\"&$A38,school_wise,COLUMNS($A$5:AB36),0),\"\")","v":""},{"$f":"IFERROR(VLOOKUP($C$4&\"_\"&$A38,school_wise,COLUMNS($A$5:AC36),0),\"\")","v":""},{"$f":"IFERROR(VLOOKUP($C$4&\"_\"&$A38,school_wise,COLUMNS($A$5:AD36),0),\"\")","v":""},{"$f":"IFERROR(VLOOKUP($C$4&\"_\"&$A38,school_wise,COLUMNS($A$5:AE36),0),\"\")","v":""},{"$f":"IFERROR(VLOOKUP($C$4&\"_\"&$A38,school_wise,COLUMNS($A$5:AF36),0),\"\")","v":""},{"$f":"IFERROR(VLOOKUP($C$4&\"_\"&$A38,school_wise,COLUMNS($A$5:AG36),0),\"\")","v":""},{"$f":"IFERROR(VLOOKUP($C$4&\"_\"&$A38,school_wise,COLUMNS($A$5:AH36),0),\"\")","v":""},{"$f":"IFERROR(VLOOKUP($C$4&\"_\"&$A38,school_wise,COLUMNS($A$5:AI36),0),\"\")","v":""},{"$f":"IFERROR(VLOOKUP($C$4&\"_\"&$A38,school_wise,COLUMNS($A$5:AJ36),0),\"\")","v":""}]
[33,{"$f":"IFERROR(VLOOKUP($C$4&\"_\"&$A39,school_wise,COLUMNS($A$5:C37),0),\"\")","v":""},{"$f":"IFERROR(VLOOKUP($C$4&\"_\"&$A39,school_wise,COLUMNS($A$5:D37),0),\"\")","v":""},{"$f":"IFERROR(VLOOKUP($C$4&\"_\"&$A39,school_wise,COLUMNS($A$5:E37),0),\"\")","v":""},{"$f":"IFERROR(VLOOKUP($C$4&\"_\"&$A39,school_wise,COLUMNS($A$5:F37),0),\"\")","v":""},{"$f":"IFERROR(VLOOKUP($C$4&\"_\"&$A39,school_wise,COLUMNS($A$5:G37),0),\"\")","v":""},{"$f":"IFERROR(VLOOKUP($C$4&\"_\"&$A39,school_wise,COLUMNS($A$5:H37),0),\"\")","v":""},{"$f":"IFERROR(VLOOKUP($C$4&\"_\"&$A39,school_wise,COLUMNS($A$5:I37),0),\"\")","v":""},{"$f":"IFERROR(VLOOKUP($C$4&\"_\"&$A39,school_wise,COLUMNS($A$5:J37),0),\"\")","v":""},{"$f":"IFERROR(VLOOKUP($C$4&\"_\"&$A39,school_wise,COLUMNS($A$5:K37),0),\"\")","v":""},{"$f":"IFERROR(VLOOKUP($C$4&\"_\"&$A39,school_wise,COLUMNS($A$5:L37),0),\"\")","v":""},{"$f":"IFERROR(VLOOKUP($C$4&\"_\"&$A39,school_wise,COLUMNS($A$5:M37),0),\"\")","v":""},{"$f":"IFERROR(VLOOKUP($C$4&\"_\"&$A39,school_wise,COLUMNS($A$5:N37),0),\"\")","v":""},{"$f":"IFERROR(VLOOKUP($C$4&\"_\"&$A39,school_wise,COLUMNS($A$5:O37),0),\"\")","v":""},{"$f":"IFERROR(VLOOKUP($C$4&\"_\"&$A39,school_wise,COLUMNS($A$5:P37),0),\"\")","v":""},{"$f":"IFERROR(VLOOKUP($C$4&\"_\"&$A39,school_wise,COLUMNS($A$5:Q37),0),\"\")","v":""},{"$f":"IFERROR(VLOOKUP($C$4&\"_\"&$A39,school_wise,COLUMNS($A$5:R37),0),\"\")","v":""},{"$f":"IFERROR(VLOOKUP($C$4&\"_\"&$A39,school_wise,COLUMNS($A$5:S37),0),\"\")","v":""},{"$f":"IFERROR(VLOOKUP($C$4&\"_\"&$A39,school_wise,COLUMNS($A$5:T37),0),\"\")","v":""},{"$f":"IFERROR(VLOOKUP($C$4&\"_\"&$A39,school_wise,COLUMNS($A$5:U37),0),\"\")","v":""},{"$f":"IFERROR(VLOOKUP($C$4&\"_\"&$A39,school_wise,COLUMNS($A$5:V37),0),\"\")","v":""},{"$f":"IFERROR(VLOOKUP($C$4&\"_\"&$A39,school_wise,COLUMNS($A$5:W37),0),\"\")","v":""},{"$f":"IFERROR(VLOOKUP($C$4&\"_\"&$A39,school_wise,COLUMNS($A$5:X37),0),\"\")","v":""},{"$f":"IFERROR(VLOOKUP($C$4&\"_\"&$A39,school_wise,COLUMNS($A$5:Y37),0),\"\")","v":""},{"$f":"IFERROR(VLOOKUP($C$4&\"_\"&$A39,school_wise,COLUMNS($A$5:Z37),0),\"\")","v":""},{"$f":"IFERROR(VLOOKUP($C$4&\"_\"&$A39,school_wise,COLUMNS($A$5:AA37),0),\"\")","v":""},{"$f":"IFERROR(VLOOKUP($C$4&\"_\"&$A39,school_wise,COLUMNS($A$5:AB37),0),\"\")","v":""},{"$f":"IFERROR(VLOOKUP($C$4&\"_\"&$A39,school_wise,COLUMNS($A$5:AC37),0),\"\")","v":""},{"$f":"IFERROR(VLOOKUP($C$4&\"_\"&$A39,school_wise,COLUMNS($A$5:AD37),0),\"\")","v":""},{"$f":"IFERROR(VLOOKUP($C$4&\"_\"&$A39,school_wise,COLUMNS($A$5:AE37),0),\"\")","v":""},{"$f":"IFERROR(VLOOKUP($C$4&\"_\"&$A39,school_wise,COLUMNS($A$5:AF37),0),\"\")","v":""},{"$f":"IFERROR(VLOOKUP($C$4&\"_\"&$A39,school_wise,COLUMNS($A$5:AG37),0),\"\")","v":""},{"$f":"IFERROR(VLOOKUP($C$4&\"_\"&$A39,school_wise,COLUMNS($A$5:AH37),0),\"\")","v":""},{"$f":"IFERROR(VLOOKUP($C$4&\"_\"&$A39,school_wise,COLUMNS($A$5:AI37),0),\"\")","v":""},{"$f":"IFERROR(VLOOKUP($C$4&\"_\"&$A39,school_wise,COLUMNS($A$5:AJ37),0),\"\")","v":""}]
[34,{"$f":"IFERROR(VLOOKUP($C$4&\"_\"&$A40,school_wise,COLUMNS($A$5:C38),0),\"\")","v":""},{"$f":"IFERROR(VLOOKUP($C$4&\"_\"&$A40,school_wise,COLUMNS($A$5:D38),0),\"\")","v":""},{"$f":"IFERROR(VLOOKUP($C$4&\"_\"&$A40,school_wise,COLUMNS($A$5:E38),0),\"\")","v":""},{"$f":"IFERROR(VLOOKUP($C$4&\"_\"&$A40,school_wise,COLUMNS($A$5:F38),0),\"\")","v":""},{"$f":"IFERROR(VLOOKUP($C$4&\"_\"&$A40,school_wise,COLUMNS($A$5:G38),0),\"\")","v":""},{"$f":"IFERROR(VLOOKUP($C$4&\"_\"&$A40,school_wise,COLUMNS($A$5:H38),0),\"\")","v":""},{"$f":"IFERROR(VLOOKUP($C$4&\"_\"&$A40,school_wise,COLUMNS($A$5:I38),0),\"\")","v":""},{"$f":"IFERROR(VLOOKUP($C$4&\"_\"&$A40,school_wise,COLUMNS($A$5:J38),0),\"\")","v":""},{"$f":"IFERROR(VLOOKUP($C$4&\"_\"&$A40,school_wise,COLUMNS($A$5:K38),0),\"\")","v":""},{"$f":"IFERROR(VLOOKUP($C$4&\"_\"&$A40,school_wise,COLUMNS($A$5:L38),0),\"\")","v":""},{"$f":"IFERROR(VLOOKUP($C$4&\"_\"&$A40,school_wise,COLUMNS($A$5:M38),0),\"\")","v":""},{"$f":"IFERROR(VLOOKUP($C$4&\"_\"&$A40,school_wise,COLUMNS($A$5:N38),0),\"\")","v":""},{"$f":"IFERROR(VLOOKUP($C$4&\"_\"&$A40,school_wise,COLUMNS($A$5:O38),0),\"\")","v":""},{"$f":"IFERROR(VLOOKUP($C$4&\"_\"&$A40,school_wise,COLUMNS($A$5:P38),0),\"\")","v":""},{"$f":"IFERROR(VLOOKUP($C$4&\"_\"&$A40,school_wise,COLUMNS($A$5:Q38),0),\"\")","v":""},{"$f":"IFERROR(VLOOKUP($C$4&\"_\"&$A40,school_wise,COLUMNS($A$5:R38),0),\"\")","v":""},{"$f":"IFERROR(VLOOKUP($C$4&\"_\"&$A40,school_wise,COLUMNS($A$5:S38),0),\"\")","v":""},{"$f":"IFERROR(VLOOKUP($C$4&\"_\"&$A40,school_wise,COLUMNS($A$5:T38),0),\"\")","v":""},{"$f":"IFERROR(VLOOKUP($C$4&\"_\"&$A40,school_wise,COLUMNS($A$5:U38),0),\"\")","v":""},{"$f":"IFERROR(VLOOKUP($C$4&\"_\"&$A40,school_wise,COLUMNS($A$5:V38),0),\"\")","v":""},{"$f":"IFERROR(VLOOKUP($C$4&\"_\"&$A40,school_wise,COLUMNS($A$5:W38),0),\"\")","v":""},{"$f":"IFERROR(VLOOKUP($C$4&\"_\"&$A40,school_wise,COLUMNS($A$5:X38),0),\"\")","v":""},{"$f":"IFERROR(VLOOKUP($C$4&\"_\"&$A40,school_wise,COLUMNS($A$5:Y38),0),\"\")","v":""},{"$f":"IFERROR(VLOOKUP($C$4&\"_\"&$A40,school_wise,COLUMNS($A$5:Z38),0),\"\")","v":""},{"$f":"IFERROR(VLOOKUP($C$4&\"_\"&$A40,school_wise,COLUMNS($A$5:AA38),0),\"\")","v":""},{"$f":"IFERROR(VLOOKUP($C$4&\"_\"&$A40,school_wise,COLUMNS($A$5:AB38),0),\"\")","v":""},{"$f":"IFERROR(VLOOKUP($C$4&\"_\"&$A40,school_wise,COLUMNS($A$5:AC38),0),\"\")","v":""},{"$f":"IFERROR(VLOOKUP($C$4&\"_\"&$A40,school_wise,COLUMNS($A$5:AD38),0),\"\")","v":""},{"$f":"IFERROR(VLOOKUP($C$4&\"_\"&$A40,school_wise,COLUMNS($A$5:AE38),0),\"\")","v":""},{"$f":"IFERROR(VLOOKUP($C$4&\"_\"&$A40,school_wise,COLUMNS($A$5:AF38),0),\"\")","v":""},{"$f":"IFERROR(VLOOKUP($C$4&\"_\"&$A40,school_wise,COLUMNS($A$5:AG38),0),\"\")","v":""},{"$f":"IFERROR(VLOOKUP($C$4&\"_\"&$A40,school_wise,COLUMNS($A$5:AH38),0),\"\")","v":""},{"$f":"IFERROR(VLOOKUP($C$4&\"_\"&$A40,school_wise,COLUMNS($A$5:AI38),0),\"\")","v":""},{"$f":"IFERROR(VLOOKUP($C$4&\"_\"&$A40,school_wise,COLUMNS($A$5:AJ38),0),\"\")","v":""}]
[35,{"$f":"IFERROR(VLOOKUP($C$4&\"_\"&$A41,school_wise,COLUMNS($A$5:C39),0),\"\")","v":""},{"$f":"IFERROR(VLOOKUP($C$4&\"_\"&$A41,school_wise,COLUMNS($A$5:D39),0),\"\")","v":""},{"$f":"IFERROR(VLOOKUP($C$4&\"_\"&$A41,school_wise,COLUMNS($A$5:E39),0),\"\")","v":""},{"$f":"IFERROR(VLOOKUP($C$4&\"_\"&$A41,school_wise,COLUMNS($A$5:F39),0),\"\")","v":""},{"$f":"IFERROR(VLOOKUP($C$4&\"_\"&$A41,school_wise,COLUMNS($A$5:G39),0),\"\")","v":""},{"$f":"IFERROR(VLOOKUP($C$4&\"_\"&$A41,school_wise,COLUMNS($A$5:H39),0),\"\")","v":""},{"$f":"IFERROR(VLOOKUP($C$4&\"_\"&$A41,school_wise,COLUMNS($A$5:I39),0),\"\")","v":""},{"$f":"IFERROR(VLOOKUP($C$4&\"_\"&$A41,school_wise,COLUMNS($A$5:J39),0),\"\")","v":""},{"$f":"IFERROR(VLOOKUP($C$4&\"_\"&$A41,school_wise,COLUMNS($A$5:K39),0),\"\")","v":""},{"$f":"IFERROR(VLOOKUP($C$4&\"_\"&$A41,school_wise,COLUMNS($A$5:L39),0),\"\")","v":""},{"$f":"IFERROR(VLOOKUP($C$4&\"_\"&$A41,school_wise,COLUMNS($A$5:M39),0),\"\")","v":""},{"$f":"IFERROR(VLOOKUP($C$4&\"_\"&$A41,school_wise,COLUMNS($A$5:N39),0),\"\")","v":""},{"$f":"IFERROR(VLOOKUP($C$4&\"_\"&$A41,school_wise,COLUMNS($A$5:O39),0),\"\")","v":""},{"$f":"IFERROR(VLOOKUP($C$4&\"_\"&$A41,school_wise,COLUMNS($A$5:P39),0),\"\")","v":""},{"$f":"IFERROR(VLOOKUP($C$4&\"_\"&$A41,school_wise,COLUMNS($A$5:Q39),0),\"\")","v":""},{"$f":"IFERROR(VLOOKUP($C$4&\"_\"&$A41,school_wise,COLUMNS($A$5:R39),0),\"\")","v":""},{"$f":"IFERROR(VLOOKUP($C$4&\"_\"&$A41,school_wise,COLUMNS($A$5:S39),0),\"\")","v":""},{"$f":"IFERROR(VLOOKUP($C$4&\"_\"&$A41,school_wise,COLUMNS($A$5:T39),0),\"\")","v":""},{"$f":"IFERROR(VLOOKUP($C$4&\"_\"&$A41,school_wise,COLUMNS($A$5:U39),0),\"\")","v":""},{"$f":"IFERROR(VLOOKUP($C$4&\"_\"&$A41,school_wise,COLUMNS($A$5:V39),0),\"\")","v":""},{"$f":"IFERROR(VLOOKUP($C$4&\"_\"&$A41,school_wise,COLUMNS($A$5:W39),0),\"\")","v":""},{"$f":"IFERROR(VLOOKUP($C$4&\"_\"&$A41,school_wise,COLUMNS($A$5:X39),0),\"\")","v":""},{"$f":"IFERROR(VLOOKUP($C$4&\"_\"&$A41,school_wise,COLUMNS($A$5:Y39),0),\"\")","v":""},{"$f":"IFERROR(VLOOKUP($C$4&\"_\"&$A41,school_wise,COLUMNS($A$5:Z39),0),\"\")","v":""},{"$f":"IFERROR(VLOOKUP($C$4&\"_\"&$A41,school_wise,COLUMNS($A$5:AA39),0),\"\")","v":""},{"$f":"IFERROR(VLOOKUP($C$4&\"_\"&$A41,school_wise,COLUMNS($A$5:AB39),0),\"\")","v":""},{"$f":"IFERROR(VLOOKUP($C$4&\"_\"&$A41,school_wise,COLUMNS($A$5:AC39),0),\"\")","v":""},{"$f":"IFERROR(VLOOKUP($C$4&\"_\"&$A41,school_wise,COLUMNS($A$5:AD39),0),\"\")","v":""},{"$f":"IFERROR(VLOOKUP($C$4&\"_\"&$A41,school_wise,COLUMNS($A$5:AE39),0),\"\")","v":""},{"$f":"IFERROR(VLOOKUP($C$4&\"_\"&$A41,school_wise,COLUMNS($A$5:AF39),0),\"\")","v":""},{"$f":"IFERROR(VLOOKUP($C$4&\"_\"&$A41,school_wise,COLUMNS($A$5:AG39),0),\"\")","v":""},{"$f":"IFERROR(VLOOKUP($C$4&\"_\"&$A41,school_wise,COLUMNS($A$5:AH39),0),\"\")","v":""},{"$f":"IFERROR(VLOOKUP($C$4&\"_\"&$A41,school_wise,COLUMNS($A$5:AI39),0),\"\")","v":""},{"$f":"IFERROR(VLOOKUP($C$4&\"_\"&$A41,school_wise,COLUMNS($A$5:AJ39),0),\"\")","v":""}]
[36,{"$f":"IFERROR(VLOOKUP($C$4&\"_\"&$A42,school_wise,COLUMNS($A$5:C40),0),\"\")","v":""},{"$f":"IFERROR(VLOOKUP($C$4&\"_\"&$A42,school_wise,COLUMNS($A$5:D40),0),\"\")","v":""},{"$f":"IFERROR(VLOOKUP($C$4&\"_\"&$A42,school_wise,COLUMNS($A$5:E40),0),\"\")","v":""},{"$f":"IFERROR(VLOOKUP($C$4&\"_\"&$A42,school_wise,COLUMNS($A$5:F40),0),\"\")","v":""},{"$f":"IFERROR(VLOOKUP($C$4&\"_\"&$A42,school_wise,COLUMNS($A$5:G40),0),\"\")","v":""},{"$f":"IFERROR(VLOOKUP($C$4&\"_\"&$A42,school_wise,COLUMNS($A$5:H40),0),\"\")","v":""},{"$f":"IFERROR(VLOOKUP($C$4&\"_\"&$A42,school_wise,COLUMNS($A$5:I40),0),\"\")","v":""},{"$f":"IFERROR(VLOOKUP($C$4&\"_\"&$A42,school_wise,COLUMNS($A$5:J40),0),\"\")","v":""},{"$f":"IFERROR(VLOOKUP($C$4&\"_\"&$A42,school_wise,COLUMNS($A$5:K40),0),\"\")","v":""},{"$f":"IFERROR(VLOOKUP($C$4&\"_\"&$A42,school_wise,COLUMNS($A$5:L40),0),\"\")","v":""},{"$f":"IFERROR(VLOOKUP($C$4&\"_\"&$A42,school_wise,COLUMNS($A$5:M40),0),\"\")","v":""},{"$f":"IFERROR(VLOOKUP($C$4&\"_\"&$A42,school_wise,COLUMNS($A$5:N40),0),\"\")","v":""},{"$f":"IFERROR(VLOOKUP($C$4&\"_\"&$A42,school_wise,COLUMNS($A$5:O40),0),\"\")","v":""},{"$f":"IFERROR(VLOOKUP($C$4&\"_\"&$A42,school_wise,COLUMNS($A$5:P40),0),\"\")","v":""},{"$f":"IFERROR(VLOOKUP($C$4&\"_\"&$A42,school_wise,COLUMNS($A$5:Q40),0),\"\")","v":""},{"$f":"IFERROR(VLOOKUP($C$4&\"_\"&$A42,school_wise,COLUMNS($A$5:R40),0),\"\")","v":""},{"$f":"IFERROR(VLOOKUP($C$4&\"_\"&$A42,school_wise,COLUMNS($A$5:S40),0),\"\")","v":""},{"$f":"IFERROR(VLOOKUP($C$4&\"_\"&$A42,school_wise,COLUMNS($A$5:T40),0),\"\")","v":""},{"$f":"IFERROR(VLOOKUP($C$4&\"_\"&$A42,school_wise,COLUMNS($A$5:U40),0),\"\")","v":""},{"$f":"IFERROR(VLOOKUP($C$4&\"_\"&$A42,school_wise,COLUMNS($A$5:V40),0),\"\")","v":""},{"$f":"IFERROR(VLOOKUP($C$4&\"_\"&$A42,school_wise,COLUMNS($A$5:W40),0),\"\")","v":""},{"$f":"IFERROR(VLOOKUP($C$4&\"_\"&$A42,school_wise,COLUMNS($A$5:X40),0),\"\")","v":""},{"$f":"IFERROR(VLOOKUP($C$4&\"_\"&$A42,school_wise,COLUMNS($A$5:Y40),0),\"\")","v":""},{"$f":"IFERROR(VLOOKUP($C$4&\"_\"&$A42,school_wise,COLUMNS($A$5:Z40),0),\"\")","v":""},{"$f":"IFERROR(VLOOKUP($C$4&\"_\"&$A42,school_wise,COLUMNS($A$5:AA40),0),\"\")","v":""},{"$f":"IFERROR(VLOOKUP($C$4&\"_\"&$A42,school_wise,COLUMNS($A$5:AB40),0),\"\")","v":""},{"$f":"IFERROR(VLOOKUP($C$4&\"_\"&$A42,school_wise,COLUMNS($A$5:AC40),0),\"\")","v":""},{"$f":"IFERROR(VLOOKUP($C$4&\"_\"&$A42,school_wise,COLUMNS($A$5:AD40),0),\"\")","v":""},{"$f":"IFERROR(VLOOKUP($C$4&\"_\"&$A42,school_wise,COLUMNS($A$5:AE40),0),\"\")","v":""},{"$f":"IFERROR(VLOOKUP($C$4&\"_\"&$A42,school_wise,COLUMNS($A$5:AF40),0),\"\")","v":""},{"$f":"IFERROR(VLOOKUP($C$4&\"_\"&$A42,school_wise,COLUMNS($A$5:AG40),0),\"\")","v":""},{"$f":"IFERROR(VLOOKUP($C$4&\"_\"&$A42,school_wise,COLUMNS($A$5:AH40),0),\"\")","v":""},{"$f":"IFERROR(VLOOKUP($C$4&\"_\"&$A42,school_wise,COLUMNS($A$5:AI40),0),\"\")","v":""},{"$f":"IFERROR(VLOOKUP($C$4&\"_\"&$A42,school_wise,COLUMNS($A$5:AJ40),0),\"\")","v":""}]
[37,{"$f":"IFERROR(VLOOKUP($C$4&\"_\"&$A43,school_wise,COLUMNS($A$5:C41),0),\"\")","v":""},{"$f":"IFERROR(VLOOKUP($C$4&\"_\"&$A43,school_wise,COLUMNS($A$5:D41),0),\"\")","v":""},{"$f":"IFERROR(VLOOKUP($C$4&\"_\"&$A43,school_wise,COLUMNS($A$5:E41),0),\"\")","v":""},{"$f":"IFERROR(VLOOKUP($C$4&\"_\"&$A43,school_wise,COLUMNS($A$5:F41),0),\"\")","v":""},{"$f":"IFERROR(VLOOKUP($C$4&\"_\"&$A43,school_wise,COLUMNS($A$5:G41),0),\"\")","v":""},{"$f":"IFERROR(VLOOKUP($C$4&\"_\"&$A43,school_wise,COLUMNS($A$5:H41),0),\"\")","v":""},{"$f":"IFERROR(VLOOKUP($C$4&\"_\"&$A43,school_wise,COLUMNS($A$5:I41),0),\"\")","v":""},{"$f":"IFERROR(VLOOKUP($C$4&\"_\"&$A43,school_wise,COLUMNS($A$5:J41),0),\"\")","v":""},{"$f":"IFERROR(VLOOKUP($C$4&\"_\"&$A43,school_wise,COLUMNS($A$5:K41),0),\"\")","v":""},{"$f":"IFERROR(VLOOKUP($C$4&\"_\"&$A43,school_wise,COLUMNS($A$5:L41),0),\"\")","v":""},{"$f":"IFERROR(VLOOKUP($C$4&\"_\"&$A43,school_wise,COLUMNS($A$5:M41),0),\"\")","v":""},{"$f":"IFERROR(VLOOKUP($C$4&\"_\"&$A43,school_wise,COLUMNS($A$5:N41),0),\"\")","v":""},{"$f":"IFERROR(VLOOKUP($C$4&\"_\"&$A43,school_wise,COLUMNS($A$5:O41),0),\"\")","v":""},{"$f":"IFERROR(VLOOKUP($C$4&\"_\"&$A43,school_wise,COLUMNS($A$5:P41),0),\"\")","v":""},{"$f":"IFERROR(VLOOKUP($C$4&\"_\"&$A43,school_wise,COLUMNS($A$5:Q41),0),\"\")","v":""},{"$f":"IFERROR(VLOOKUP($C$4&\"_\"&$A43,school_wise,COLUMNS($A$5:R41),0),\"\")","v":""},{"$f":"IFERROR(VLOOKUP($C$4&\"_\"&$A43,school_wise,COLUMNS($A$5:S41),0),\"\")","v":""},{"$f":"IFERROR(VLOOKUP($C$4&\"_\"&$A43,school_wise,COLUMNS($A$5:T41),0),\"\")","v":""},{"$f":"IFERROR(VLOOKUP($C$4&\"_\"&$A43,school_wise,COLUMNS($A$5:U41),0),\"\")","v":""},{"$f":"IFERROR(VLOOKUP($C$4&\"_\"&$A43,school_wise,COLUMNS($A$5:V41),0),\"\")","v":""},{"$f":"IFERROR(VLOOKUP($C$4&\"_\"&$A43,school_wise,COLUMNS($A$5:W41),0),\"\")","v":""},{"$f":"IFERROR(VLOOKUP($C$4&\"_\"&$A43,school_wise,COLUMNS($A$5:X41),0),\"\")","v":""},{"$f":"IFERROR(VLOOKUP($C$4&\"_\"&$A43,school_wise,COLUMNS($A$5:Y41),0),\"\")","v":""},{"$f":"IFERROR(VLOOKUP($C$4&\"_\"&$A43,school_wise,COLUMNS($A$5:Z41),0),\"\")","v":""},{"$f":"IFERROR(VLOOKUP($C$4&\"_\"&$A43,school_wise,COLUMNS($A$5:AA41),0),\"\")","v":""},{"$f":"IFERROR(VLOOKUP($C$4&\"_\"&$A43,school_wise,COLUMNS($A$5:AB41),0),\"\")","v":""},{"$f":"IFERROR(VLOOKUP($C$4&\"_\"&$A43,school_wise,COLUMNS($A$5:AC41),0),\"\")","v":""},{"$f":"IFERROR(VLOOKUP($C$4&\"_\"&$A43,school_wise,COLUMNS($A$5:AD41),0),\"\")","v":""},{"$f":"IFERROR(VLOOKUP($C$4&\"_\"&$A43,school_wise,COLUMNS($A$5:AE41),0),\"\")","v":""},{"$f":"IFERROR(VLOOKUP($C$4&\"_\"&$A43,school_wise,COLUMNS($A$5:AF41),0),\"\")","v":""},{"$f":"IFERROR(VLOOKUP($C$4&\"_\"&$A43,school_wise,COLUMNS($A$5:AG41),0),\"\")","v":""},{"$f":"IFERROR(VLOOKUP($C$4&\"_\"&$A43,school_wise,COLUMNS($A$5:AH41),0),\"\")","v":""},{"$f":"IFERROR(VLOOKUP($C$4&\"_\"&$A43,school_wise,COLUMNS($A$5:AI41),0),\"\")","v":""},{"$f":"IFERROR(VLOOKUP($C$4&\"_\"&$A43,school_wise,COLUMNS($A$5:AJ41),0),\"\")","v":""}]
[38,{"$f":"IFERROR(VLOOKUP($C$4&\"_\"&$A44,school_wise,COLUMNS($A$5:C42),0),\"\")","v":""},{"$f":"IFERROR(VLOOKUP($C$4&\"_\"&$A44,school_wise,COLUMNS($A$5:D42),0),\"\")","v":""},{"$f":"IFERROR(VLOOKUP($C$4&\"_\"&$A44,school_wise,COLUMNS($A$5:E42),0),\"\")","v":""},{"$f":"IFERROR(VLOOKUP($C$4&\"_\"&$A44,school_wise,COLUMNS($A$5:F42),0),\"\")","v":""},{"$f":"IFERROR(VLOOKUP($C$4&\"_\"&$A44,school_wise,COLUMNS($A$5:G42),0),\"\")","v":""},{"$f":"IFERROR(VLOOKUP($C$4&\"_\"&$A44,school_wise,COLUMNS($A$5:H42),0),\"\")","v":""},{"$f":"IFERROR(VLOOKUP($C$4&\"_\"&$A44,school_wise,COLUMNS($A$5:I42),0),\"\")","v":""},{"$f":"IFERROR(VLOOKUP($C$4&\"_\"&$A44,school_wise,COLUMNS($A$5:J42),0),\"\")","v":""},{"$f":"IFERROR(VLOOKUP($C$4&\"_\"&$A44,school_wise,COLUMNS($A$5:K42),0),\"\")","v":""},{"$f":"IFERROR(VLOOKUP($C$4&\"_\"&$A44,school_wise,COLUMNS($A$5:L42),0),\"\")","v":""},{"$f":"IFERROR(VLOOKUP($C$4&\"_\"&$A44,school_wise,COLUMNS($A$5:M42),0),\"\")","v":""},{"$f":"IFERROR(VLOOKUP($C$4&\"_\"&$A44,school_wise,COLUMNS($A$5:N42),0),\"\")","v":""},{"$f":"IFERROR(VLOOKUP($C$4&\"_\"&$A44,school_wise,COLUMNS($A$5:O42),0),\"\")","v":""},{"$f":"IFERROR(VLOOKUP($C$4&\"_\"&$A44,school_wise,COLUMNS($A$5:P42),0),\"\")","v":""},{"$f":"IFERROR(VLOOKUP($C$4&\"_\"&$A44,school_wise,COLUMNS($A$5:Q42),0),\"\")","v":""},{"$f":"IFERROR(VLOOKUP($C$4&\"_\"&$A44,school_wise,COLUMNS($A$5:R42),0),\"\")","v":""},{"$f":"IFERROR(VLOOKUP($C$4&\"_\"&$A44,school_wise,COLUMNS($A$5:S42),0),\"\")","v":""},{"$f":"IFERROR(VLOOKUP($C$4&\"_\"&$A44,school_wise,COLUMNS($A$5:T42),0),\"\")","v":""},{"$f":"IFERROR(VLOOKUP($C$4&\"_\"&$A44,school_wise,COLUMNS($A$5:U42),0),\"\")","v":""},{"$f":"IFERROR(VLOOKUP($C$4&\"_\"&$A44,school_wise,COLUMNS($A$5:V42),0),\"\")","v":""},{"$f":"IFERROR(VLOOKUP($C$4&\"_\"&$A44,school_wise,COLUMNS($A$5:W42),0),\"\")","v":""},{"$f":"IFERROR(VLOOKUP($C$4&\"_\"&$A44,school_wise,COLUMNS($A$5:X42),0),\"\")","v":""},{"$f":"IFERROR(VLOOKUP($C$4&\"_\"&$A44,school_wise,COLUMNS($A$5:Y42),0),\"\")","v":""},{"$f":"IFERROR(VLOOKUP($C$4&\"_\"&$A44,school_wise,COLUMNS($A$5:Z42),0),\"\")","v":""},{"$f":"IFERROR(VLOOKUP($C$4&\"_\"&$A44,school_wise,COLUMNS($A$5:AA42),0),\"\")","v":""},{"$f":"IFERROR(VLOOKUP($C$4&\"_\"&$A44,school_wise,COLUMNS($A$5:AB42),0),\"\")","v":""},{"$f":"IFERROR(VLOOKUP($C$4&\"_\"&$A44,school_wise,COLUMNS($A$5:AC42),0),\"\")","v":""},{"$f":"IFERROR(VLOOKUP($C$4&\"_\"&$A44,school_wise,COLUMNS($A$5:AD42),0),\"\")","v":""},{"$f":"IFERROR(VLOOKUP($C$4&\"_\"&$A44,school_wise,COLUMNS($A$5:AE42),0),\"\")","v":""},{"$f":"IFERROR(VLOOKUP($C$4&\"_\"&$A44,school_wise,COLUMNS($A$5:AF42),0),\"\")","v":""},{"$f":"IFERROR(VLOOKUP($C$4&\"_\"&$A44,school_wise,COLUMNS($A$5:AG42),0),\"\")","v":""},{"$f":"IFERROR(VLOOKUP($C$4&\"_\"&$A44,school_wise,COLUMNS($A$5:AH42),0),\"\")","v":""},{"$f":"IFERROR(VLOOKUP($C$4&\"_\"&$A44,school_wise,COLUMNS($A$5:AI42),0),\"\")","v":""},{"$f":"IFERROR(VLOOKUP($C$4&\"_\"&$A44,school_wise,COLUMNS($A$5:AJ42),0),\"\")","v":""}]
[39,{"$f":"IFERROR(VLOOKUP($C$4&\"_\"&$A45,school_wise,COLUMNS($A$5:C43),0),\"\")","v":""},{"$f":"IFERROR(VLOOKUP($C$4&\"_\"&$A45,school_wise,COLUMNS($A$5:D43),0),\"\")","v":""},{"$f":"IFERROR(VLOOKUP($C$4&\"_\"&$A45,school_wise,COLUMNS($A$5:E43),0),\"\")","v":""},{"$f":"IFERROR(VLOOKUP($C$4&\"_\"&$A45,school_wise,COLUMNS($A$5:F43),0),\"\")","v":""},{"$f":"IFERROR(VLOOKUP($C$4&\"_\"&$A45,school_wise,COLUMNS($A$5:G43),0),\"\")","v":""},{"$f":"IFERROR(VLOOKUP($C$4&\"_\"&$A45,school_wise,COLUMNS($A$5:H43),0),\"\")","v":""},{"$f":"IFERROR(VLOOKUP($C$4&\"_\"&$A45,school_wise,COLUMNS($A$5:I43),0),\"\")","v":""},{"$f":"IFERROR(VLOOKUP($C$4&\"_\"&$A45,school_wise,COLUMNS($A$5:J43),0),\"\")","v":""},{"$f":"IFERROR(VLOOKUP($C$4&\"_\"&$A45,school_wise,COLUMNS($A$5:K43),0),\"\")","v":""},{"$f":"IFERROR(VLOOKUP($C$4&\"_\"&$A45,school_wise,COLUMNS($A$5:L43),0),\"\")","v":""},{"$f":"IFERROR(VLOOKUP($C$4&\"_\"&$A45,school_wise,COLUMNS($A$5:M43),0),\"\")","v":""},{"$f":"IFERROR(VLOOKUP($C$4&\"_\"&$A45,school_wise,COLUMNS($A$5:N43),0),\"\")","v":""},{"$f":"IFERROR(VLOOKUP($C$4&\"_\"&$A45,school_wise,COLUMNS($A$5:O43),0),\"\")","v":""},{"$f":"IFERROR(VLOOKUP($C$4&\"_\"&$A45,school_wise,COLUMNS($A$5:P43),0),\"\")","v":""},{"$f":"IFERROR(VLOOKUP($C$4&\"_\"&$A45,school_wise,COLUMNS($A$5:Q43),0),\"\")","v":""},{"$f":"IFERROR(VLOOKUP($C$4&\"_\"&$A45,school_wise,COLUMNS($A$5:R43),0),\"\")","v":""},{"$f":"IFERROR(VLOOKUP($C$4&\"_\"&$A45,school_wise,COLUMNS($A$5:S43),0),\"\")","v":""},{"$f":"IFERROR(VLOOKUP($C$4&\"_\"&$A45,school_wise,COLUMNS($A$5:T43),0),\"\")","v":""},{"$f":"IFERROR(VLOOKUP($C$4&\"_\"&$A45,school_wise,COLUMNS($A$5:U43),0),\"\")","v":""},{"$f":"IFERROR(VLOOKUP($C$4&\"_\"&$A45,school_wise,COLUMNS($A$5:V43),0),\"\")","v":""},{"$f":"IFERROR(VLOOKUP($C$4&\"_\"&$A45,school_wise,COLUMNS($A$5:W43),0),\"\")","v":""},{"$f":"IFERROR(VLOOKUP($C$4&\"_\"&$A45,school_wise,COLUMNS($A$5:X43),0),\"\")","v":""},{"$f":"IFERROR(VLOOKUP($C$4&\"_\"&$A45,school_wise,COLUMNS($A$5:Y43),0),\"\")","v":""},{"$f":"IFERROR(VLOOKUP($C$4&\"_\"&$A45,school_wise,COLUMNS($A$5:Z43),0),\"\")","v":""},{"$f":"IFERROR(VLOOKUP($C$4&\"_\"&$A45,school_wise,COLUMNS($A$5:AA43),0),\"\")","v":""},{"$f":"IFERROR(VLOOKUP($C$4&\"_\"&$A45,school_wise,COLUMNS($A$5:AB43),0),\"\")","v":""},{"$f":"IFERROR(VLOOKUP($C$4&\"_\"&$A45,school_wise,COLUMNS($A$5:AC43),0),\"\")","v":""},{"$f":"IFERROR(VLOOKUP($C$4&\"_\"&$A45,school_wise,COLUMNS($A$5:AD43),0),\"\")","v":""},{"$f":"IFERROR(VLOOKUP($C$4&\"_\"&$A45,school_wise,COLUMNS($A$5:AE43),0),\"\")","v":""},{"$f":"IFERROR(VLOOKUP($C$4&\"_\"&$A45,school_wise,COLUMNS($A$5:AF43),0),\"\")","v":""},{"$f":"IFERROR(VLOOKUP($C$4&\"_\"&$A45,school_wise,COLUMNS($A$5:AG43),0),\"\")","v":""},{"$f":"IFERROR(VLOOKUP($C$4&\"_\"&$A45,school_wise,COLUMNS($A$5:AH43),0),\"\")","v":""},{"$f":"IFERROR(VLOOKUP($C$4&\"_\"&$A45,school_wise,COLUMNS($A$5:AI43),0),\"\")","v":""},{"$f":"IFERROR(VLOOKUP($C$4&\"_\"&$A45,school_wise,COLUMNS($A$5:AJ43),0),\"\")","v":""}]
[40,{"$f":"IFERROR(VLOOKUP($C$4&\"_\"&$A46,school_wise,COLUMNS($A$5:C44),0),\"\")","v":""},{"$f":"IFERROR(VLOOKUP($C$4&\"_\"&$A46,school_wise,COLUMNS($A$5:D44),0),\"\")","v":""},{"$f":"IFERROR(VLOOKUP($C$4&\"_\"&$A46,school_wise,COLUMNS($A$5:E44),0),\"\")","v":""},{"$f":"IFERROR(VLOOKUP($C$4&\"_\"&$A46,school_wise,COLUMNS($A$5:F44),0),\"\")","v":""},{"$f":"IFERROR(VLOOKUP($C$4&\"_\"&$A46,school_wise,COLUMNS($A$5:G44),0),\"\")","v":""},{"$f":"IFERROR(VLOOKUP($C$4&\"_\"&$A46,school_wise,COLUMNS($A$5:H44),0),\"\")","v":""},{"$f":"IFERROR(VLOOKUP($C$4&\"_\"&$A46,school_wise,COLUMNS($A$5:I44),0),\"\")","v":""},{"$f":"IFERROR(VLOOKUP($C$4&\"_\"&$A46,school_wise,COLUMNS($A$5:J44),0),\"\")","v":""},{"$f":"IFERROR(VLOOKUP($C$4&\"_\"&$A46,school_wise,COLUMNS($A$5:K44),0),\"\")","v":""},{"$f":"IFERROR(VLOOKUP($C$4&\"_\"&$A46,school_wise,COLUMNS($A$5:L44),0),\"\")","v":""},{"$f":"IFERROR(VLOOKUP($C$4&\"_\"&$A46,school_wise,COLUMNS($A$5:M44),0),\"\")","v":""},{"$f":"IFERROR(VLOOKUP($C$4&\"_\"&$A46,school_wise,COLUMNS($A$5:N44),0),\"\")","v":""},{"$f":"IFERROR(VLOOKUP($C$4&\"_\"&$A46,school_wise,COLUMNS($A$5:O44),0),\"\")","v":""},{"$f":"IFERROR(VLOOKUP($C$4&\"_\"&$A46,school_wise,COLUMNS($A$5:P44),0),\"\")","v":""},{"$f":"IFERROR(VLOOKUP($C$4&\"_\"&$A46,school_wise,COLUMNS($A$5:Q44),0),\"\")","v":""},{"$f":"IFERROR(VLOOKUP($C$4&\"_\"&$A46,school_wise,COLUMNS($A$5:R44),0),\"\")","v":""},{"$f":"IFERROR(VLOOKUP($C$4&\"_\"&$A46,school_wise,COLUMNS($A$5:S44),0),\"\")","v":""},{"$f":"IFERROR(VLOOKUP($C$4&\"_\"&$A46,school_wise,COLUMNS($A$5:T44),0),\"\")","v":""},{"$f":"IFERROR(VLOOKUP($C$4&\"_\"&$A46,school_wise,COLUMNS($A$5:U44),0),\"\")","v":""},{"$f":"IFERROR(VLOOKUP($C$4&\"_\"&$A46,school_wise,COLUMNS($A$5:V44),0),\"\")","v":""},{"$f":"IFERROR(VLOOKUP($C$4&\"_\"&$A46,school_wise,COLUMNS($A$5:W44),0),\"\")","v":""},{"$f":"IFERROR(VLOOKUP($C$4&\"_\"&$A46,school_wise,COLUMNS($A$5:X44),0),\"\")","v":""},{"$f":"IFERROR(VLOOKUP($C$4&\"_\"&$A46,school_wise,COLUMNS($A$5:Y44),0),\"\")","v":""},{"$f":"IFERROR(VLOOKUP($C$4&\"_\"&$A46,school_wise,COLUMNS($A$5:Z44),0),\"\")","v":""},{"$f":"IFERROR(VLOOKUP($C$4&\"_\"&$A46,school_wise,COLUMNS($A$5:AA44),0),\"\")","v":""},{"$f":"IFERROR(VLOOKUP($C$4&\"_\"&$A46,school_wise,COLUMNS($A$5:AB44),0),\"\")","v":""},{"$f":"IFERROR(VLOOKUP($C$4&\"_\"&$A46,school_wise,COLUMNS($A$5:AC44),0),\"\")","v":""},{"$f":"IFERROR(VLOOKUP($C$4&\"_\"&$A46,school_wise,COLUMNS($A$5:AD44),0),\"\")","v":""},{"$f":"IFERROR(VLOOKUP($C$4&\"_\"&$A46,school_wise,COLUMNS($A$5:AE44),0),\"\")","v":""},{"$f":"IFERROR(VLOOKUP($C$4&\"_\"&$A46,school_wise,COLUMNS($A$5:AF44),0),\"\")","v":""},{"$f":"IFERROR(VLOOKUP($C$4&\"_\"&$A46,school_wise,COLUMNS($A$5:AG44),0),\"\")","v":""},{"$f":"IFERROR(VLOOKUP($C$4&\"_\"&$A46,school_wise,COLUMNS($A$5:AH44),0),\"\")","v":""},{"$f":"IFERROR(VLOOKUP($C$4&\"_\"&$A46,school_wise,COLUMNS($A$5:AI44),0),\"\")","v":""},{"$f":"IFERROR(VLOOKUP($C$4&\"_\"&$A46,school_wise,COLUMNS($A$5:AJ44),0),\"\")","v":""}]
[41,{"$f":"IFERROR(VLOOKUP($C$4&\"_\"&$A47,school_wise,COLUMNS($A$5:C45),0),\"\")","v":""},{"$f":"IFERROR(VLOOKUP($C$4&\"_\"&$A47,school_wise,COLUMNS($A$5:D45),0),\"\")","v":""},{"$f":"IFERROR(VLOOKUP($C$4&\"_\"&$A47,school_wise,COLUMNS($A$5:E45),0),\"\")","v":""},{"$f":"IFERROR(VLOOKUP($C$4&\"_\"&$A47,school_wise,COLUMNS($A$5:F45),0),\"\")","v":""},{"$f":"IFERROR(VLOOKUP($C$4&\"_\"&$A47,school_wise,COLUMNS($A$5:G45),0),\"\")","v":""},{"$f":"IFERROR(VLOOKUP($C$4&\"_\"&$A47,school_wise,COLUMNS($A$5:H45),0),\"\")","v":""},{"$f":"IFERROR(VLOOKUP($C$4&\"_\"&$A47,school_wise,COLUMNS($A$5:I45),0),\"\")","v":""},{"$f":"IFERROR(VLOOKUP($C$4&\"_\"&$A47,school_wise,COLUMNS($A$5:J45),0),\"\")","v":""},{"$f":"IFERROR(VLOOKUP($C$4&\"_\"&$A47,school_wise,COLUMNS($A$5:K45),0),\"\")","v":""},{"$f":"IFERROR(VLOOKUP($C$4&\"_\"&$A47,school_wise,COLUMNS($A$5:L45),0),\"\")","v":""},{"$f":"IFERROR(VLOOKUP($C$4&\"_\"&$A47,school_wise,COLUMNS($A$5:M45),0),\"\")","v":""},{"$f":"IFERROR(VLOOKUP($C$4&\"_\"&$A47,school_wise,COLUMNS($A$5:N45),0),\"\")","v":""},{"$f":"IFERROR(VLOOKUP($C$4&\"_\"&$A47,school_wise,COLUMNS($A$5:O45),0),\"\")","v":""},{"$f":"IFERROR(VLOOKUP($C$4&\"_\"&$A47,school_wise,COLUMNS($A$5:P45),0),\"\")","v":""},{"$f":"IFERROR(VLOOKUP($C$4&\"_\"&$A47,school_wise,COLUMNS($A$5:Q45),0),\"\")","v":""},{"$f":"IFERROR(VLOOKUP($C$4&\"_\"&$A47,school_wise,COLUMNS($A$5:R45),0),\"\")","v":""},{"$f":"IFERROR(VLOOKUP($C$4&\"_\"&$A47,school_wise,COLUMNS($A$5:S45),0),\"\")","v":""},{"$f":"IFERROR(VLOOKUP($C$4&\"_\"&$A47,school_wise,COLUMNS($A$5:T45),0),\"\")","v":""},{"$f":"IFERROR(VLOOKUP($C$4&\"_\"&$A47,school_wise,COLUMNS($A$5:U45),0),\"\")","v":""},{"$f":"IFERROR(VLOOKUP($C$4&\"_\"&$A47,school_wise,COLUMNS($A$5:V45),0),\"\")","v":""},{"$f":"IFERROR(VLOOKUP($C$4&\"_\"&$A47,school_wise,COLUMNS($A$5:W45),0),\"\")","v":""},{"$f":"IFERROR(VLOOKUP($C$4&\"_\"&$A47,school_wise,COLUMNS($A$5:X45),0),\"\")","v":""},{"$f":"IFERROR(VLOOKUP($C$4&\"_\"&$A47,school_wise,COLUMNS($A$5:Y45),0),\"\")","v":""},{"$f":"IFERROR(VLOOKUP($C$4&\"_\"&$A47,school_wise,COLUMNS($A$5:Z45),0),\"\")","v":""},{"$f":"IFERROR(VLOOKUP($C$4&\"_\"&$A47,school_wise,COLUMNS($A$5:AA45),0),\"\")","v":""},{"$f":"IFERROR(VLOOKUP($C$4&\"_\"&$A47,school_wise,COLUMNS($A$5:AB45),0),\"\")","v":""},{"$f":"IFERROR(VLOOKUP($C$4&\"_\"&$A47,school_wise,COLUMNS($A$5:AC45),0),\"\")","v":""},{"$f":"IFERROR(VLOOKUP($C$4&\"_\"&$A47,school_wise,COLUMNS($A$5:AD45),0),\"\")","v":""},{"$f":"IFERROR(VLOOKUP($C$4&\"_\"&$A47,school_wise,COLUMNS($A$5:AE45),0),\"\")","v":""},{"$f":"IFERROR(VLOOKUP($C$4&\"_\"&$A47,school_wise,COLUMNS($A$5:AF45),0),\"\")","v":""},{"$f":"IFERROR(VLOOKUP($C$4&\"_\"&$A47,school_wise,COLUMNS($A$5:AG45),0),\"\")","v":""},{"$f":"IFERROR(VLOOKUP($C$4&\"_\"&$A47,school_wise,COLUMNS($A$5:AH45),0),\"\")","v":""},{"$f":"IFERROR(VLOOKUP($C$4&\"_\"&$A47,school_wise,COLUMNS($A$5:AI45),0),\"\")","v":""},{"$f":"IFERROR(VLOOKUP($C$4&\"_\"&$A47,school_wise,COLUMNS($A$5:AJ45),0),\"\")","v":""}]
[42,{"$f":"IFERROR(VLOOKUP($C$4&\"_\"&$A48,school_wise,COLUMNS($A$5:C46),0),\"\")","v":""},{"$f":"IFERROR(VLOOKUP($C$4&\"_\"&$A48,school_wise,COLUMNS($A$5:D46),0),\"\")","v":""},{"$f":"IFERROR(VLOOKUP($C$4&\"_\"&$A48,school_wise,COLUMNS($A$5:E46),0),\"\")","v":""},{"$f":"IFERROR(VLOOKUP($C$4&\"_\"&$A48,school_wise,COLUMNS($A$5:F46),0),\"\")","v":""},{"$f":"IFERROR(VLOOKUP($C$4&\"_\"&$A48,school_wise,COLUMNS($A$5:G46),0),\"\")","v":""},{"$f":"IFERROR(VLOOKUP($C$4&\"_\"&$A48,school_wise,COLUMNS($A$5:H46),0),\"\")","v":""},{"$f":"IFERROR(VLOOKUP($C$4&\"_\"&$A48,school_wise,COLUMNS($A$5:I46),0),\"\")","v":""},{"$f":"IFERROR(VLOOKUP($C$4&\"_\"&$A48,school_wise,COLUMNS($A$5:J46),0),\"\")","v":""},{"$f":"IFERROR(VLOOKUP($C$4&\"_\"&$A48,school_wise,COLUMNS($A$5:K46),0),\"\")","v":""},{"$f":"IFERROR(VLOOKUP($C$4&\"_\"&$A48,school_wise,COLUMNS($A$5:L46),0),\"\")","v":""},{"$f":"IFERROR(VLOOKUP($C$4&\"_\"&$A48,school_wise,COLUMNS($A$5:M46),0),\"\")","v":""},{"$f":"IFERROR(VLOOKUP($C$4&\"_\"&$A48,school_wise,COLUMNS($A$5:N46),0),\"\")","v":""},{"$f":"IFERROR(VLOOKUP($C$4&\"_\"&$A48,school_wise,COLUMNS($A$5:O46),0),\"\")","v":""},{"$f":"IFERROR(VLOOKUP($C$4&\"_\"&$A48,school_wise,COLUMNS($A$5:P46),0),\"\")","v":""},{"$f":"IFERROR(VLOOKUP($C$4&\"_\"&$A48,school_wise,COLUMNS($A$5:Q46),0),\"\")","v":""},{"$f":"IFERROR(VLOOKUP($C$4&\"_\"&$A48,school_wise,COLUMNS($A$5:R46),0),\"\")","v":""},{"$f":"IFERROR(VLOOKUP($C$4&\"_\"&$A48,school_wise,COLUMNS($A$5:S46),0),\"\")","v":""},{"$f":"IFERROR(VLOOKUP($C$4&\"_\"&$A48,school_wise,COLUMNS($A$5:T46),0),\"\")","v":""},{"$f":"IFERROR(VLOOKUP($C$4&\"_\"&$A48,school_wise,COLUMNS($A$5:U46),0),\"\")","v":""},{"$f":"IFERROR(VLOOKUP($C$4&\"_\"&$A48,school_wise,COLUMNS($A$5:V46),0),\"\")","v":""},{"$f":"IFERROR(VLOOKUP($C$4&\"_\"&$A48,school_wise,COLUMNS($A$5:W46),0),\"\")","v":""},{"$f":"IFERROR(VLOOKUP($C$4&\"_\"&$A48,school_wise,COLUMNS($A$5:X46),0),\"\")","v":""},{"$f":"IFERROR(VLOOKUP($C$4&\"_\"&$A48,school_wise,COLUMNS($A$5:Y46),0),\"\")","v":""},{"$f":"IFERROR(VLOOKUP($C$4&\"_\"&$A48,school_wise,COLUMNS($A$5:Z46),0),\"\")","v":""},{"$f":"IFERROR(VLOOKUP($C$4&\"_\"&$A48,school_wise,COLUMNS($A$5:AA46),0),\"\")","v":""},{"$f":"IFERROR(VLOOKUP($C$4&\"_\"&$A48,school_wise,COLUMNS($A$5:AB46),0),\"\")","v":""},{"$f":"IFERROR(VLOOKUP($C$4&\"_\"&$A48,school_wise,COLUMNS($A$5:AC46),0),\"\")","v":""},{"$f":"IFERROR(VLOOKUP($C$4&\"_\"&$A48,school_wise,COLUMNS($A$5:AD46),0),\"\")","v":""},{"$f":"IFERROR(VLOOKUP($C$4&\"_\"&$A48,school_wise,COLUMNS($A$5:AE46),0),\"\")","v":""},{"$f":"IFERROR(VLOOKUP($C$4&\"_\"&$A48,school_wise,COLUMNS($A$5:AF46),0),\"\")","v":""},{"$f":"IFERROR(VLOOKUP($C$4&\"_\"&$A48,school_wise,COLUMNS($A$5:AG46),0),\"\")","v":""},{"$f":"IFERROR(VLOOKUP($C$4&\"_\"&$A48,school_wise,COLUMNS($A$5:AH46),0),\"\")","v":""},{"$f":"IFERROR(VLOOKUP($C$4&\"_\"&$A48,school_wise,COLUMNS($A$5:AI46),0),\"\")","v":""},{"$f":"IFERROR(VLOOKUP($C$4&\"_\"&$A48,school_wise,COLUMNS($A$5:AJ46),0),\"\")","v":""}]