{"text_format":"3","workbook":"xlsx","n_sheets":11,"sheets":["Instruction","Master sheet","SD DATA Paste","Student DATA Entry","Marks Entry","Statement of Marks","Teacher & Cat. Wise Result","Result Aggregate","MARKSHEET in Eng","MARKSHEET in Hindi","Certificate"],"not_rendered":{"images":16,"external_links":1,"defined_names":12},"read":"whole","date_system":"1900"}

{"sheet":"Instruction","index":0,"n_rows":37,"n_cols":2,"rows_kept":37,"merged":[[0,0,0,3],[1,0,1,3],[2,0,2,3],[3,1,3,2],[4,1,4,2],[5,0,5,3],[6,0,6,3],[7,0,7,3],[8,0,8,3],[9,0,9,3],[10,0,10,3],[11,0,11,3],[12,0,12,3],[13,0,13,3],[14,0,14,3],[15,0,15,3],[16,0,16,3],[17,0,17,3],[18,0,18,3],[19,0,19,3],[20,0,20,3],[21,0,21,3],[22,0,22,3],[23,0,23,3],[24,0,24,3],[25,0,25,3],[26,0,26,3],[27,0,27,3],[28,0,28,3],[29,0,29,3],[30,0,30,3],[31,0,31,3],[32,0,32,3],[33,0,33,3],[34,0,34,3],[35,0,35,3],[36,0,36,3]]}
[";g ,Dly izksxzke esjs ije~ iwT; xq:nso Jh Jh 1008 oklqnso th egkjkt o esjs bZ\"V izHkq t;  ctjaxcyh o ikcwth egkjkt dks lefiZr gSaA esjs ekrk & firk o xq:tuksa ds vk'khokZn ls ;g ,Dly izksxzke f'k{kk foHkkx dh lsok esa lefiZr gSaA"]
[]
[";g ,Dly izksxzke vki  http://rajgyan.co.in/result  ,           https://rajteachers.com/forum/viewtopic.php?f=1&t=2                   https://www.rajsevak.com/heera-lal-jat-excel-sheet ,        https://shalasugam.com/download/  ls MkmuyksM dj ldrsa gSaA"]
["You Tube Channel Link :-","https://www.youtube.com/c/Heeralaljat"]
["Result Sheet -11 Video Link :-","https://youtu.be/WzwRGiFNgik"]
["&% bl ,Dly izksxzke ij dk;Z djusa gsrq fo'ks\"k funsZ'k %&"]
[";g ,Dly 'khV esa 100 fo|kfFkZ;ksa dks /;ku esa j[kdj cuk;h x;h gSaA ftllsa odZ djusa esa vkidks nqfo/kk u gksA ;fn vkids Ldwy esa fdlh Hkh d{kk esa fo|kFkhZ 100 lsa de gSa rks vfrfjDr dkye dks gkbM dj ysos vkSj ;fn 100 ls T;knk gSa rks vyx vyx lsD'ku dh odZcqd rS;kj dj ldrs gSaA ;k fQj vki uhpsa fn;s x;s bZesy ,M~zsl ij lsaM dj blds dkye c<ok ldrs gSaA"]
["bl ,Dly izksxzke dh flD;qfjVh ds fy, odZ'khV dh tks fjiksVZ lsD'ku gSa] ogka vuykWd gsrq class11 ikloMZ gSaA"]
["blds vfrfjDr fjtYV odZcqd esa ,UV~zh djrs le; vkusokyh lkekU; leL;k,¡ o lek/kku"]
["lcls igys 'khV dks vksiu djrs gh ekLVj 'khV ij dqN lkekU; tkudkjh tks fo|ky; ls lEcf/kr gsa] mls iw.kZ dj ysosA"]
["vki 'kkyk niZ.k ds fjtYV lsD'ku esa tkdj fjtYV fjiksVZ ls d{kk 11 ds LVqMsUV MkVk MkmuyksM djds lh/ks gh ,lMh MkVk isLV 'khV ij dkWih iwjh 'khV dks isLV dj ldrs gSaA tks fd gekjs ;w V;qc fofM;ksa esa iw.kZ fMVsy ds lkFk crk;k x;k gSa A"]
["mlds ckn LVqMsUV MkVk ,UV~zh 'khV ij tk;s vkSj dsoy ek= mifLFkfr ds dkye dh iwfrZ dj ysos A ckdh dke gks pqdk gSaA"]
["mlds ckn vki ekdZ ,UV~zh 'khV ij tk;s vkSj LVqMsUV ds l=okj vadksa dh fMVSy dks HkjsA buiqV ,UV~zh ;gk rd gh gSa] fQj vkids fy, vkmV iqV lsD'ku 'kq: gks tk;sxkA"]
["vkxs dh 'khV tks vkids fjiksZV lsD'ku gSaA ;g lHkh ,4 lkbZt ds isij ij O;ofFkr dh gqbZ gSaA ekdZ'khV okyh 'khV ij vki izR;sd Nk= dh jksy uaEcj ds vuqlkj ekdZ'khV tujsV dj ldrs gSaA"]
["rkjh[k dk FORMAT fdl izdkj j[kuk gSa"]
["vius dEI;wVj dk date format set djsa D;ksa fd by default ;g mm/dd/yy gksrk gS tc fd ges dd/mm/yy dh vko';drk gksrh gSA"]
["date format dks cnyus ds fy;s control panel esa regional language setting  esa date format mm/dd/yy ds LFkku ij dd/mm/yydjsaA"]
["Fonts ds ckjsa esa tkudkjh"]
["fjtYV odZcqd fgUnh o vaxzsth esa miyC/k gSaA viuh vko”;drkuqlkj iz;ksx djsaA Font Change u djsaA"]
["izR;sd odZcqd esa krutidev 10 fgUnh font o calibri & Cambria English font dk iz;ksx fd;k x;k gSA ;fn mDr font vkids computer esa installed u gksa rks website ls download dj save djus ds Ik”pkr fuEukuqlkj install djsaA"]
["start menu ls control pannel [kksysa"]
["control pannel esa fonts uke ds folder ij right click djsa vkSj paste djasA "]
["mifLFkfr o vuqifLFkfr ds Øe esa"]
["esfMdy ds fy, ML, vuqifLFkr ds fy, AB,vadksa ds LFkku ij fy[ksaA"]
["iwjd mRrh.kZ vFkok fdlh vU; dkj.k ls nsj ls izos”k ikus okys Nk=ksa ds ml fo’k; ds vadksa ds LFkku ij NA fy[ksaA"]
["fdlh Nk= dk uke fdlh Hkh dkj.k ls fo|ky; ls i`Fkd fd;k x;k gks rks student data Entry dh sheet esa mlds jksy ua- ds LFkku ij NSO fy[ksaA ,slk djus ij izfo\"V Nk=k la[;k ?kV tkrh gSA"]
["Master sheet & Student Data Entry & Marks Entry dh sheet esa fdlh Hkh cell dks delete ugh djsa  u gh cut  paste djsaA izfof’V;ksa dks delete djus ds fy, keyboard ds delete cVu dk iz;ksx djsa vFkok 'clear content' option dk iz;ksx djsaA"]
["izR;sd Nk= dh student data Entry dh sheet esa dqy ehfVax o mifLFkfr i`Fkd&i`Fkd MkVk ,UV~zh djsaA"]
["ekdZ ,UVzh o iw.kkZd dh djrs le; /;ku j[kh tkuh lko/kkuh"]
[" ;g odZcqDl d{kk 9 ds fy, mi;qDr gSaA  fo\"k; ls lEcfU/k vki Master sheet ij fdlh Hkh rjg dk ifjorZu dj ldrs gSaA vko';drk gksus ij dsoy ,sfPNd fo\"k;ksa ds izk;ksfxd o lS)kafrd iw.kkZad Hkh cny ldrs gSaA"]
["Hkwyo”k dksbZ errors mRiUu gksus ij dsoy Master sheet & Student Data Entry & Marks Entry sheet  esa lq/kkj djsa o rduhdh error vkus ij iqu% izfof’V;k¡ u djsa] ,d vU; odZcqd copy dj mldh izfof’V;ksa dks paste djsaA paste special (paste values) only."]
["rduhdh error vkus ij statement of marks o progress reports dscell esa####, frm, value?bl izdkj fn[kkbZ nsaxsA"]
["Column size NksVk gksusij #### fn[kkbZ nsxkA ,slh fLFfr esa Column size cM+k djsaA"]
["vU; egRoiw.kZ tkudkjh ¼fizUV djus ds fy,½"]
["Master sheet & Student Data Entry & Marks Entry sheet  dh sheet dks fiazV u djsaA ;g flQZ ,UV~zh ds fy, ,UV~zh QkweZ gSaA"]
["Statement of Marks, Teacher and cat. wise result,  Result Aggregate dks legal size / A4 size papers, landscape esa print djsa o pages dks xksan ls fpidk ldrs gSaA lkFk gh vktdy jksy ist ij Hkh fizUV gksrk gSA vkidh lqfo/kk o ctV ds vuqlkj fizUV djsaA fizaV ls igys vuqi;ksxh rows dks  hide djsaA Hide djus ds fy, vuqi;ksxh rows ds header dks select dj right click djsa o hide option ij click djsaA Ikzxfr i= dks print djus gsrq isij lkbTk+ A4 size  esa fizUV djsaA"]
["Marksheet (Hindi & English) &  Class Promoted certificate  dks A4 paper esa  isat lsV fd;k gqvk gSa vki vklkuh ls fiazV djsaA "]

{"sheet":"Master sheet","index":1,"n_rows":43,"n_cols":18,"rows_kept":43,"merged":[[4,1,4,2],[4,4,4,5],[5,4,19,5],[10,17,11,17],[31,1,32,2],[33,1,34,2],[35,1,36,2],[37,1,38,2],[39,1,40,2],[41,1,42,2]]}
[]
[]
[null,null,"School Profile"]
[{"$nulls":7},"Practical Optional Subject List","Code","Th.","Pract.",null,"Special Practical Optional Subject List","Code","Th.","Pract."]
[null," School Detail",null,null,"vko';d funsZ'k",null,null,"AGRICULTURE","P",70,30,null,"DANCE KATTHAK ","SP",30,70]
[null,"Faculty :-","Arts ",null,"vki bl fjtYV 'khV esa izR;sd ladk;okj vyx & vyx 'khV dks la/kkj.k dj ldrsa gSaA bl 'khV esa vf/kdre 100 fo|kfFkZ;ksa dk MkVk la/kkfjr gksxkA vf/kd la[;k gksus ij vki lasD'kuokj 'khV la/kkfjr dj ldrsa gSaA  oSdfYid fo\"k;ksa dh lwph lkeus ns j[kh gSaA blds vykok dksbZ fo\"k; gks rks vki uhps lQsn dkye esa ,M dj ldrsa gSaA d{kk o l= fy[kus ds fy, vkIlu ekdZ ,UV~zh 'khV ij ns j[kk gSaA 'kkyk niZ.k ls  fjtYV fjiksVZ ls d{kk 11 ds LVqMsUV dk MkVk  MkmuyksM  djusa ds ckn lEiw.kZ 'khV dksa ,d lkFk dkih djusa ds ckn vki bl izksxzke dh  SD Data Paste Sheet ij ek= isLV dj ldrs gSaA T;knk VkbZfiax dh t:jr ugh iMsxhA dke vklku dh fn;k x;k gSaA ckdh dgha ij le> esa u vkosa rks ;w V;wc fofM;ksa ns[k ldrsa gSaA",null,null,"AGRICULTURE BIOLOGY","P",70,30,null,"DRAWING","SP",30,70]
[null,"Section :-","A",{"$nulls":4},"AGRICULTURE CHEMISTRY","P",70,30,null,"MUSIC INSTR. DILRUBA","SP",30,70]
[null,"School Name :-","Governt Senior Secondary School INDERWARA",{"$nulls":4},"BIOLOGY","P",70,30,null,"MUSIC INSTR. FLUTE","SP",30,70]
[null,"School DISE Code :-",8200303101,{"$nulls":4},"CHEMISTRY","P",70,30,null,"MUSIC INSTR. FLUTE","SP",30,70]
[null,"fo|ky; dk uke fgUnh esa %&","jktdh; mPp ek/;fed fo|ky; bUnjokM+k] jkuh ¼ikyh",{"$nulls":4},"COMPUTER SCIENCE","P",70,30,null,"MUSIC INSTR. GUITAR","SP",30,70]
[null,"School Short Name :-","G.S.S.S. Inderwara, Rani",{"$nulls":4},"GEO SCIENCE","P",70,30,null,"MUSIC INSTR. PKHAAVAJ","SP",30,70,null,"t; xq:nso oklqnso th egkjkt"]
[null,"Date of result declaration:-","2020-04-10",{"$nulls":4},"GEOGRAPHY","P",70,30,null,"MUSIC INSTR. SAROD","SP",30,70]
[null,"School Semis Code :-",112233,{"$nulls":4},"HOME SCIENCE","P",70,30,null,"MUSIC INSTR. SITARA","SP",30,70]
[null,"Medium :-","Hindi ",{"$nulls":4},"INFORMATION PRACTICE","P",70,30,null,"MUSIC INSTR. TABLA","SP",30,70]
[null,"Class Teacher 11th :-","Bhagwan Singh",{"$nulls":4},"INFORMATION TECHNOLOGY AND PROCESSING 1","P",70,30,null,"MUSIC VOCAL ","SP",30,70]
[null,"Principal Name :-","MISHRILAL",{"$nulls":4},"MULTIMEDIA WEB TECH","P",70,30]
[null,"Principal's  Mobile No. :-",98269607409,{"$nulls":4},"PHYSICS","P",70,30]
[null,"Exam Incharge  :-","Mahendra Patel",{"$nulls":4},"PSYCHOLOGY","P",70,30]
[null,"Result Checker :-","Heeralal Jat",{"$nulls":9},"Othet Practical Optional Subject List","Code","Th.","Pract."]
[{"$nulls":12},"SHORT HAND (ENGLISH)","OPS",50,50]
[{"$nulls":12},"SHORT HAND (HINDI)","OPS",50,50]
[{"$nulls":7},"Thoery Optional Subject List","Code","Th.","Pract.",null,"TYPING","OPS",50,50]
[{"$nulls":7},"ACCOUNTANCY","T",100,0,null,"TYPING (ENGLISH)","OPS",50,50]
[{"$nulls":7},"BUSINESS STUDIES","T",100,0,null,"TYPING HINDI","OPS",50,50]
[{"$nulls":7},"ECONOMICS","T",100,0]
[{"$nulls":7},"ENGLISH LITERATURE","T",100,0]
[{"$nulls":7},"ENVIRONMENTAL STUDIES","T",100,0]
[{"$nulls":7},"FARSI LITERATURE","T",100,0]
[{"$nulls":7},"GUJRATI LITERATURE","T",100,0]
[{"$nulls":7},"HINDI LITERATURE","T",100,0,null,"Othet Practical Optional Subject List","Code","Th.","Pract.","Int Ass."]
[{"$nulls":7},"HISTORY","T",100,0,null,"AUTOMOBILE","VC",30,50,20]
[{"$nulls":7},"MATHEMATICS","T",100,0,null,"BEAUTY AND HEALTH","VC",30,50,20]
[{"$nulls":7},"PHILOSOPHY","T",100,0,null,"DRESS DESIGNING AND HOME DECORATION","VC",30,50,20]
[{"$nulls":7},"PHYSICAL EDUCATION","T",100,0,null,"ELECTRICALS AND ELECTRONICS","VC",30,50,20]
[{"$nulls":7},"POLITICAL SCIENCE","T",100,0,null,"HEALTH CARE","VC",30,50,20]
[{"$nulls":7},"PRAKRIT LITERATURE","T",100,0,null,"INFORMATION TECHNOLOGY Ites","VC",30,50,20]
[{"$nulls":7},"PUBLIC ADMINISTRATION","T",100,0,null,"MICRO IRRIGATION SYSTEM","VC",30,50,20]
[{"$nulls":7},"PUNJABI LITERATURE","T",100,0,null,"PERSONAL SECURITY","VC",30,50,20]
[{"$nulls":7},"RAJASTHANI LITERATURE","T",100,0,null,"RETAIL SALE","VC",30,50,20]
[{"$nulls":7},"SANSKRIT LITERATURE","T",100,0,null,"TOURISM AND TRAVEL","VC",30,50,20]
[{"$nulls":7},"SINDHI LITERATURE","T",100,0]
[{"$nulls":7},"SOCIOLOGY","T",100,0]
[{"$nulls":7},"URDU LITERATURE","T",100,0]

{"sheet":"SD DATA Paste","index":2,"n_rows":16,"n_cols":9,"rows_kept":16}
["S.No","Category","Gender","ROLL. NO.","SR. NO.","DATE OF BIRTH","Name of Student","Father's Name","Mother's Name"]
[1,"SC","Girl",1101,1,"10-04-2003","AARTI","MANGI LAL","BHAGAVATI DEVI"]
[2,"OBC","Girl",1102,107,"11-03-2005","ANJU CHOUDHARY","FUA RAM","CHAMPA DEVI"]
[3,"SBC","Boy",1103,457,"05-08-2004","ARUN DEWASI","SUJA RAM","KANIYA DEVI"]
[4,"GEN","Boy",1104,234,"08-05-2004","BHAVANI SINGH","HADMAT SINGH","KISHOR KANWAR"]
[5,"GEN","Girl",1105,356,"25-03-2003","BHAWANA KANWAR","DALPAT SINGH","SHYAM KANWAR"]
[6,"GEN","Boy",1106,434,"24-10-2003","DEEPENDRA SINGH","RAVAT VSINGH","KAILASH KANWAR"]
[7,"OBC","Girl",1107,439,"27-10-2003","LOHAR KAJAL","MITHA LAL","SAVITA"]
[8,"GEN","Girl",1108,438,"03-09-2003","MEENA KANWAR","CHHATAR SINGH","JANGAL KANWAR"]
[9,"SC","Boy",1109,429,"04-09-2003","NARESH KUMAR","DHALA RAM ","SARSVATI "]
[10,"SC","Boy",1110,428,"12-05-2003","PANKAJ KUMAR","KUKA RAM","FULI DEVI"]
[11,"SBC","Girl",1111,117,"07-04-2004","PAPIYA DEVI DEVASI","FUA RAM","DAGRI DEVI"]
[12,"SC","Boy",1112,463,"05-04-2004","PRAVIN KUMAR","RUPA RAM","PYARI DEVI"]
[13,"SC","Girl",1113,307,"04-05-2002","RINKU ANKIYA","PRAVEEN KUMAR","MANJU DEVI"]
[14,"GEN","Girl",1114,348,"18-01-2004","SUMAN KANWAR","DEVI SINGH","ANOP KANWAR"]
[15,"GEN","Boy",1115,466,"10-07-2004","YUVRAJ SINGH","GANPAT SINGH","MUNNA KANWAR"]

{"sheet":"Student DATA Entry","index":3,"n_rows":103,"n_cols":34,"rows_kept":103,"merged":[[0,0,0,9],[3,11,8,12]]}
[{"$f":"CONCATENATE(\"School Name :-\",\"  \",'Master sheet'!C8)","v":"School Name :-  Governt Senior Secondary School INDERWARA"}]
["ROLL NO","SRNO","Name","Father Name","Mother Name","Gender","Dob","Category","Total Meeting","Total Attendance"]
[{"$f":"IF(AND(AA3=\"\"),\"\",VALUE(AA3))","v":1101},{"$f":"IF(AND(AB3=\"\"),\"\",AB3)","v":1},{"$f":"IF(AND(AC3=\"\"),\"\",UPPER(AC3))","v":"AARTI"},{"$f":"IF(AND(AD3=\"\"),\"\",UPPER(AD3))","v":"MANGI LAL"},"BHAGAVATI DEVI","F","10-04-2003","SC",324,310,{"$nulls":16},{"$f":"IF(AND('SD DATA Paste'!D2=\"\"),\"\",'SD DATA Paste'!D2)","v":1101},{"$f":"IF(AND('SD DATA Paste'!E2=\"\"),\"\",'SD DATA Paste'!E2)","v":1},{"$f":"IF(AND('SD DATA Paste'!G2=\"\"),\"\",'SD DATA Paste'!G2)","v":"AARTI"},{"$f":"IF(AND('SD DATA Paste'!H2=\"\"),\"\",'SD DATA Paste'!H2)","v":"MANGI LAL"},{"$f":"IF(AND('SD DATA Paste'!I2=\"\"),\"\",'SD DATA Paste'!I2)","v":"BHAGAVATI DEVI"},{"$f":"IF(AND('SD DATA Paste'!C2=\"\"),\"\",IF(AND('SD DATA Paste'!C2=\"Girl\"),\"F\",IF(AND('SD DATA Paste'!C2=\"Boy\"),\"M\",\"\")))","v":"F"},{"$f":"IF(AND('SD DATA Paste'!F2=\"\"),\"\",'SD DATA Paste'!F2)","v":"10-04-2003"},{"$f":"IF(AND('SD DATA Paste'!B2=\"\"),\"\",'SD DATA Paste'!B2)","v":"SC"}]
[{"$f":"IF(AND(AA4=\"\"),\"\",VALUE(AA4))","v":1102},107,{"$f":"IF(AND(AC4=\"\"),\"\",UPPER(AC4))","v":"ANJU CHOUDHARY"},{"$f":"IF(AND(AD4=\"\"),\"\",UPPER(AD4))","v":"FUA RAM"},{"$f":"IF(AND(AE4=\"\"),\"\",UPPER(AE4))","v":"CHAMPA DEVI"},{"$f":"IF(AND(AF4=\"\"),\"\",AF4)","v":"F"},{"$f":"IF(AND(AG4=\"\"),\"\",AG4)","v":"11-03-2005"},{"$f":"IF(AND(AH4=\"\"),\"\",AH4)","v":"OBC"},324,315,null,"E  All Entries in this sheet have to be done by copy paste from the SHALA DARPAN.                                              You must visit shala darpan Download section and download student DATA. You can cut paste needed data    You fill Student attendance till 19 March Lock down Date. ",{"$nulls":14},{"$f":"IF(AND('SD DATA Paste'!D3=\"\"),\"\",'SD DATA Paste'!D3)","v":1102},{"$f":"IF(AND('SD DATA Paste'!E3=\"\"),\"\",'SD DATA Paste'!E3)","v":107},{"$f":"IF(AND('SD DATA Paste'!G3=\"\"),\"\",'SD DATA Paste'!G3)","v":"ANJU CHOUDHARY"},{"$f":"IF(AND('SD DATA Paste'!H3=\"\"),\"\",'SD DATA Paste'!H3)","v":"FUA RAM"},{"$f":"IF(AND('SD DATA Paste'!I3=\"\"),\"\",'SD DATA Paste'!I3)","v":"CHAMPA DEVI"},{"$f":"IF(AND('SD DATA Paste'!C3=\"\"),\"\",IF(AND('SD DATA Paste'!C3=\"Girl\"),\"F\",IF(AND('SD DATA Paste'!C3=\"Boy\"),\"M\",\"\")))","v":"F"},{"$f":"IF(AND('SD DATA Paste'!F3=\"\"),\"\",'SD DATA Paste'!F3)","v":"11-03-2005"},{"$f":"IF(AND('SD DATA Paste'!B3=\"\"),\"\",'SD DATA Paste'!B3)","v":"OBC"}]
[1103,457,"ARUN DEWASI","SUJA RAM","KANIYA DEVI","M","05-08-2004","SBC",324,312,{"$nulls":16},{"$f":"IF(AND('SD DATA Paste'!D4=\"\"),\"\",'SD DATA Paste'!D4)","v":1103},{"$f":"IF(AND('SD DATA Paste'!E4=\"\"),\"\",'SD DATA Paste'!E4)","v":457},{"$f":"IF(AND('SD DATA Paste'!G4=\"\"),\"\",'SD DATA Paste'!G4)","v":"ARUN DEWASI"},{"$f":"IF(AND('SD DATA Paste'!H4=\"\"),\"\",'SD DATA Paste'!H4)","v":"SUJA RAM"},{"$f":"IF(AND('SD DATA Paste'!I4=\"\"),\"\",'SD DATA Paste'!I4)","v":"KANIYA DEVI"},{"$f":"IF(AND('SD DATA Paste'!C4=\"\"),\"\",IF(AND('SD DATA Paste'!C4=\"Girl\"),\"F\",IF(AND('SD DATA Paste'!C4=\"Boy\"),\"M\",\"\")))","v":"M"},{"$f":"IF(AND('SD DATA Paste'!F4=\"\"),\"\",'SD DATA Paste'!F4)","v":"05-08-2004"},{"$f":"IF(AND('SD DATA Paste'!B4=\"\"),\"\",'SD DATA Paste'!B4)","v":"SBC"}]
[1104,234,"BHAVANI SINGH","HADMAT SINGH","KISHOR KANWAR","M","08-05-2004","GEN",290,285,{"$nulls":16},{"$f":"IF(AND('SD DATA Paste'!D5=\"\"),\"\",'SD DATA Paste'!D5)","v":1104},{"$f":"IF(AND('SD DATA Paste'!E5=\"\"),\"\",'SD DATA Paste'!E5)","v":234},{"$f":"IF(AND('SD DATA Paste'!G5=\"\"),\"\",'SD DATA Paste'!G5)","v":"BHAVANI SINGH"},{"$f":"IF(AND('SD DATA Paste'!H5=\"\"),\"\",'SD DATA Paste'!H5)","v":"HADMAT SINGH"},{"$f":"IF(AND('SD DATA Paste'!I5=\"\"),\"\",'SD DATA Paste'!I5)","v":"KISHOR KANWAR"},{"$f":"IF(AND('SD DATA Paste'!C5=\"\"),\"\",IF(AND('SD DATA Paste'!C5=\"Girl\"),\"F\",IF(AND('SD DATA Paste'!C5=\"Boy\"),\"M\",\"\")))","v":"M"},{"$f":"IF(AND('SD DATA Paste'!F5=\"\"),\"\",'SD DATA Paste'!F5)","v":"08-05-2004"},{"$f":"IF(AND('SD DATA Paste'!B5=\"\"),\"\",'SD DATA Paste'!B5)","v":"GEN"}]
[1105,356,"BHAWANA KANWAR","DALPAT SINGH","SHYAM KANWAR","F","25-03-2003","GEN",285,270,{"$nulls":16},{"$f":"IF(AND('SD DATA Paste'!D6=\"\"),\"\",'SD DATA Paste'!D6)","v":1105},{"$f":"IF(AND('SD DATA Paste'!E6=\"\"),\"\",'SD DATA Paste'!E6)","v":356},{"$f":"IF(AND('SD DATA Paste'!G6=\"\"),\"\",'SD DATA Paste'!G6)","v":"BHAWANA KANWAR"},{"$f":"IF(AND('SD DATA Paste'!H6=\"\"),\"\",'SD DATA Paste'!H6)","v":"DALPAT SINGH"},{"$f":"IF(AND('SD DATA Paste'!I6=\"\"),\"\",'SD DATA Paste'!I6)","v":"SHYAM KANWAR"},{"$f":"IF(AND('SD DATA Paste'!C6=\"\"),\"\",IF(AND('SD DATA Paste'!C6=\"Girl\"),\"F\",IF(AND('SD DATA Paste'!C6=\"Boy\"),\"M\",\"\")))","v":"F"},{"$f":"IF(AND('SD DATA Paste'!F6=\"\"),\"\",'SD DATA Paste'!F6)","v":"25-03-2003"},{"$f":"IF(AND('SD DATA Paste'!B6=\"\"),\"\",'SD DATA Paste'!B6)","v":"GEN"}]
[1106,434,"DEEPENDRA SINGH","RAVAT VSINGH","KAILASH KANWAR","M","24-10-2003","GEN",310,301,{"$nulls":16},{"$f":"IF(AND('SD DATA Paste'!D7=\"\"),\"\",'SD DATA Paste'!D7)","v":1106},{"$f":"IF(AND('SD DATA Paste'!E7=\"\"),\"\",'SD DATA Paste'!E7)","v":434},{"$f":"IF(AND('SD DATA Paste'!G7=\"\"),\"\",'SD DATA Paste'!G7)","v":"DEEPENDRA SINGH"},{"$f":"IF(AND('SD DATA Paste'!H7=\"\"),\"\",'SD DATA Paste'!H7)","v":"RAVAT VSINGH"},{"$f":"IF(AND('SD DATA Paste'!I7=\"\"),\"\",'SD DATA Paste'!I7)","v":"KAILASH KANWAR"},{"$f":"IF(AND('SD DATA Paste'!C7=\"\"),\"\",IF(AND('SD DATA Paste'!C7=\"Girl\"),\"F\",IF(AND('SD DATA Paste'!C7=\"Boy\"),\"M\",\"\")))","v":"M"},{"$f":"IF(AND('SD DATA Paste'!F7=\"\"),\"\",'SD DATA Paste'!F7)","v":"24-10-2003"},{"$f":"IF(AND('SD DATA Paste'!B7=\"\"),\"\",'SD DATA Paste'!B7)","v":"GEN"}]
[1107,439,"LOHAR KAJAL","MITHA LAL","SAVITA","F","27-10-2003","OBC",324,{"$nulls":17},{"$f":"IF(AND('SD DATA Paste'!D8=\"\"),\"\",'SD DATA Paste'!D8)","v":1107},{"$f":"IF(AND('SD DATA Paste'!E8=\"\"),\"\",'SD DATA Paste'!E8)","v":439},{"$f":"IF(AND('SD DATA Paste'!G8=\"\"),\"\",'SD DATA Paste'!G8)","v":"LOHAR KAJAL"},{"$f":"IF(AND('SD DATA Paste'!H8=\"\"),\"\",'SD DATA Paste'!H8)","v":"MITHA LAL"},{"$f":"IF(AND('SD DATA Paste'!I8=\"\"),\"\",'SD DATA Paste'!I8)","v":"SAVITA"},{"$f":"IF(AND('SD DATA Paste'!C8=\"\"),\"\",IF(AND('SD DATA Paste'!C8=\"Girl\"),\"F\",IF(AND('SD DATA Paste'!C8=\"Boy\"),\"M\",\"\")))","v":"F"},{"$f":"IF(AND('SD DATA Paste'!F8=\"\"),\"\",'SD DATA Paste'!F8)","v":"27-10-2003"},{"$f":"IF(AND('SD DATA Paste'!B8=\"\"),\"\",'SD DATA Paste'!B8)","v":"OBC"}]
[1108,438,"MEENA KANWAR","CHHATAR SINGH","JANGAL KANWAR","F","03-09-2003","GEN",{"$nulls":18},{"$f":"IF(AND('SD DATA Paste'!D9=\"\"),\"\",'SD DATA Paste'!D9)","v":1108},{"$f":"IF(AND('SD DATA Paste'!E9=\"\"),\"\",'SD DATA Paste'!E9)","v":438},{"$f":"IF(AND('SD DATA Paste'!G9=\"\"),\"\",'SD DATA Paste'!G9)","v":"MEENA KANWAR"},{"$f":"IF(AND('SD DATA Paste'!H9=\"\"),\"\",'SD DATA Paste'!H9)","v":"CHHATAR SINGH"},{"$f":"IF(AND('SD DATA Paste'!I9=\"\"),\"\",'SD DATA Paste'!I9)","v":"JANGAL KANWAR"},{"$f":"IF(AND('SD DATA Paste'!C9=\"\"),\"\",IF(AND('SD DATA Paste'!C9=\"Girl\"),\"F\",IF(AND('SD DATA Paste'!C9=\"Boy\"),\"M\",\"\")))","v":"F"},{"$f":"IF(AND('SD DATA Paste'!F9=\"\"),\"\",'SD DATA Paste'!F9)","v":"03-09-2003"},{"$f":"IF(AND('SD DATA Paste'!B9=\"\"),\"\",'SD DATA Paste'!B9)","v":"GEN"}]
[1109,429,"NARESH KUMAR","DHALA RAM ","SARSVATI ","M","04-09-2003","SC",{"$nulls":18},{"$f":"IF(AND('SD DATA Paste'!D10=\"\"),\"\",'SD DATA Paste'!D10)","v":1109},{"$f":"IF(AND('SD DATA Paste'!E10=\"\"),\"\",'SD DATA Paste'!E10)","v":429},{"$f":"IF(AND('SD DATA Paste'!G10=\"\"),\"\",'SD DATA Paste'!G10)","v":"NARESH KUMAR"},{"$f":"IF(AND('SD DATA Paste'!H10=\"\"),\"\",'SD DATA Paste'!H10)","v":"DHALA RAM "},{"$f":"IF(AND('SD DATA Paste'!I10=\"\"),\"\",'SD DATA Paste'!I10)","v":"SARSVATI "},{"$f":"IF(AND('SD DATA Paste'!C10=\"\"),\"\",IF(AND('SD DATA Paste'!C10=\"Girl\"),\"F\",IF(AND('SD DATA Paste'!C10=\"Boy\"),\"M\",\"\")))","v":"M"},{"$f":"IF(AND('SD DATA Paste'!F10=\"\"),\"\",'SD DATA Paste'!F10)","v":"04-09-2003"},{"$f":"IF(AND('SD DATA Paste'!B10=\"\"),\"\",'SD DATA Paste'!B10)","v":"SC"}]
[1110,428,"PANKAJ KUMAR","KUKA RAM","FULI DEVI","M","12-05-2003","SC",{"$nulls":18},{"$f":"IF(AND('SD DATA Paste'!D11=\"\"),\"\",'SD DATA Paste'!D11)","v":1110},{"$f":"IF(AND('SD DATA Paste'!E11=\"\"),\"\",'SD DATA Paste'!E11)","v":428},{"$f":"IF(AND('SD DATA Paste'!G11=\"\"),\"\",'SD DATA Paste'!G11)","v":"PANKAJ KUMAR"},{"$f":"IF(AND('SD DATA Paste'!H11=\"\"),\"\",'SD DATA Paste'!H11)","v":"KUKA RAM"},{"$f":"IF(AND('SD DATA Paste'!I11=\"\"),\"\",'SD DATA Paste'!I11)","v":"FULI DEVI"},{"$f":"IF(AND('SD DATA Paste'!C11=\"\"),\"\",IF(AND('SD DATA Paste'!C11=\"Girl\"),\"F\",IF(AND('SD DATA Paste'!C11=\"Boy\"),\"M\",\"\")))","v":"M"},{"$f":"IF(AND('SD DATA Paste'!F11=\"\"),\"\",'SD DATA Paste'!F11)","v":"12-05-2003"},{"$f":"IF(AND('SD DATA Paste'!B11=\"\"),\"\",'SD DATA Paste'!B11)","v":"SC"}]
[1111,117,"PAPIYA DEVI DEVASI","FUA RAM","DAGRI DEVI","F","07-04-2004","SBC",{"$nulls":18},{"$f":"IF(AND('SD DATA Paste'!D12=\"\"),\"\",'SD DATA Paste'!D12)","v":1111},{"$f":"IF(AND('SD DATA Paste'!E12=\"\"),\"\",'SD DATA Paste'!E12)","v":117},{"$f":"IF(AND('SD DATA Paste'!G12=\"\"),\"\",'SD DATA Paste'!G12)","v":"PAPIYA DEVI DEVASI"},{"$f":"IF(AND('SD DATA Paste'!H12=\"\"),\"\",'SD DATA Paste'!H12)","v":"FUA RAM"},{"$f":"IF(AND('SD DATA Paste'!I12=\"\"),\"\",'SD DATA Paste'!I12)","v":"DAGRI DEVI"},{"$f":"IF(AND('SD DATA Paste'!C12=\"\"),\"\",IF(AND('SD DATA Paste'!C12=\"Girl\"),\"F\",IF(AND('SD DATA Paste'!C12=\"Boy\"),\"M\",\"\")))","v":"F"},{"$f":"IF(AND('SD DATA Paste'!F12=\"\"),\"\",'SD DATA Paste'!F12)","v":"07-04-2004"},{"$f":"IF(AND('SD DATA Paste'!B12=\"\"),\"\",'SD DATA Paste'!B12)","v":"SBC"}]
[1112,463,"PRAVIN KUMAR","RUPA RAM","PYARI DEVI","M","05-04-2004","SC",{"$nulls":18},{"$f":"IF(AND('SD DATA Paste'!D13=\"\"),\"\",'SD DATA Paste'!D13)","v":1112},{"$f":"IF(AND('SD DATA Paste'!E13=\"\"),\"\",'SD DATA Paste'!E13)","v":463},{"$f":"IF(AND('SD DATA Paste'!G13=\"\"),\"\",'SD DATA Paste'!G13)","v":"PRAVIN KUMAR"},{"$f":"IF(AND('SD DATA Paste'!H13=\"\"),\"\",'SD DATA Paste'!H13)","v":"RUPA RAM"},{"$f":"IF(AND('SD DATA Paste'!I13=\"\"),\"\",'SD DATA Paste'!I13)","v":"PYARI DEVI"},{"$f":"IF(AND('SD DATA Paste'!C13=\"\"),\"\",IF(AND('SD DATA Paste'!C13=\"Girl\"),\"F\",IF(AND('SD DATA Paste'!C13=\"Boy\"),\"M\",\"\")))","v":"M"},{"$f":"IF(AND('SD DATA Paste'!F13=\"\"),\"\",'SD DATA Paste'!F13)","v":"05-04-2004"},{"$f":"IF(AND('SD DATA Paste'!B13=\"\"),\"\",'SD DATA Paste'!B13)","v":"SC"}]
[1113,307,"RINKU ANKIYA","PRAVEEN KUMAR","MANJU DEVI","F","04-05-2002","SC",{"$nulls":18},{"$f":"IF(AND('SD DATA Paste'!D14=\"\"),\"\",'SD DATA Paste'!D14)","v":1113},{"$f":"IF(AND('SD DATA Paste'!E14=\"\"),\"\",'SD DATA Paste'!E14)","v":307},{"$f":"IF(AND('SD DATA Paste'!G14=\"\"),\"\",'SD DATA Paste'!G14)","v":"RINKU ANKIYA"},{"$f":"IF(AND('SD DATA Paste'!H14=\"\"),\"\",'SD DATA Paste'!H14)","v":"PRAVEEN KUMAR"},{"$f":"IF(AND('SD DATA Paste'!I14=\"\"),\"\",'SD DATA Paste'!I14)","v":"MANJU DEVI"},{"$f":"IF(AND('SD DATA Paste'!C14=\"\"),\"\",IF(AND('SD DATA Paste'!C14=\"Girl\"),\"F\",IF(AND('SD DATA Paste'!C14=\"Boy\"),\"M\",\"\")))","v":"F"},{"$f":"IF(AND('SD DATA Paste'!F14=\"\"),\"\",'SD DATA Paste'!F14)","v":"04-05-2002"},{"$f":"IF(AND('SD DATA Paste'!B14=\"\"),\"\",'SD DATA Paste'!B14)","v":"SC"}]
[1114,348,"SUMAN KANWAR","DEVI SINGH","ANOP KANWAR","F","18-01-2004","GEN",{"$nulls":18},{"$f":"IF(AND('SD DATA Paste'!D15=\"\"),\"\",'SD DATA Paste'!D15)","v":1114},{"$f":"IF(AND('SD DATA Paste'!E15=\"\"),\"\",'SD DATA Paste'!E15)","v":348},{"$f":"IF(AND('SD DATA Paste'!G15=\"\"),\"\",'SD DATA Paste'!G15)","v":"SUMAN KANWAR"},{"$f":"IF(AND('SD DATA Paste'!H15=\"\"),\"\",'SD DATA Paste'!H15)","v":"DEVI SINGH"},{"$f":"IF(AND('SD DATA Paste'!I15=\"\"),\"\",'SD DATA Paste'!I15)","v":"ANOP KANWAR"},{"$f":"IF(AND('SD DATA Paste'!C15=\"\"),\"\",IF(AND('SD DATA Paste'!C15=\"Girl\"),\"F\",IF(AND('SD DATA Paste'!C15=\"Boy\"),\"M\",\"\")))","v":"F"},{"$f":"IF(AND('SD DATA Paste'!F15=\"\"),\"\",'SD DATA Paste'!F15)","v":"18-01-2004"},{"$f":"IF(AND('SD DATA Paste'!B15=\"\"),\"\",'SD DATA Paste'!B15)","v":"GEN"}]
[1115,466,"YUVRAJ SINGH","GANPAT SINGH","MUNNA KANWAR","M","10-07-2004","GEN",{"$nulls":18},{"$f":"IF(AND('SD DATA Paste'!D16=\"\"),\"\",'SD DATA Paste'!D16)","v":1115},{"$f":"IF(AND('SD DATA Paste'!E16=\"\"),\"\",'SD DATA Paste'!E16)","v":466},{"$f":"IF(AND('SD DATA Paste'!G16=\"\"),\"\",'SD DATA Paste'!G16)","v":"YUVRAJ SINGH"},{"$f":"IF(AND('SD DATA Paste'!H16=\"\"),\"\",'SD DATA Paste'!H16)","v":"GANPAT SINGH"},{"$f":"IF(AND('SD DATA Paste'!I16=\"\"),\"\",'SD DATA Paste'!I16)","v":"MUNNA KANWAR"},{"$f":"IF(AND('SD DATA Paste'!C16=\"\"),\"\",IF(AND('SD DATA Paste'!C16=\"Girl\"),\"F\",IF(AND('SD DATA Paste'!C16=\"Boy\"),\"M\",\"\")))","v":"M"},{"$f":"IF(AND('SD DATA Paste'!F16=\"\"),\"\",'SD DATA Paste'!F16)","v":"10-07-2004"},{"$f":"IF(AND('SD DATA Paste'!B16=\"\"),\"\",'SD DATA Paste'!B16)","v":"GEN"}]
["","","","","","","","",{"$nulls":18},{"$f":"IF(AND('SD DATA Paste'!D17=\"\"),\"\",'SD DATA Paste'!D17)","v":""},{"$f":"IF(AND('SD DATA Paste'!E17=\"\"),\"\",'SD DATA Paste'!E17)","v":""},{"$f":"IF(AND('SD DATA Paste'!G17=\"\"),\"\",'SD DATA Paste'!G17)","v":""},{"$f":"IF(AND('SD DATA Paste'!H17=\"\"),\"\",'SD DATA Paste'!H17)","v":""},{"$f":"IF(AND('SD DATA Paste'!I17=\"\"),\"\",'SD DATA Paste'!I17)","v":""},{"$f":"IF(AND('SD DATA Paste'!C17=\"\"),\"\",IF(AND('SD DATA Paste'!C17=\"Girl\"),\"F\",IF(AND('SD DATA Paste'!C17=\"Boy\"),\"M\",\"\")))","v":""},{"$f":"IF(AND('SD DATA Paste'!F17=\"\"),\"\",'SD DATA Paste'!F17)","v":""},{"$f":"IF(AND('SD DATA Paste'!B17=\"\"),\"\",'SD DATA Paste'!B17)","v":""}]
["",{"$f":"IF(AND(AB19=\"\"),\"\",AB19)","v":""},"","","","","","",{"$nulls":18},{"$f":"IF(AND('SD DATA Paste'!D18=\"\"),\"\",'SD DATA Paste'!D18)","v":""},{"$f":"IF(AND('SD DATA Paste'!E18=\"\"),\"\",'SD DATA Paste'!E18)","v":""},{"$f":"IF(AND('SD DATA Paste'!G18=\"\"),\"\",'SD DATA Paste'!G18)","v":""},{"$f":"IF(AND('SD DATA Paste'!H18=\"\"),\"\",'SD DATA Paste'!H18)","v":""},{"$f":"IF(AND('SD DATA Paste'!I18=\"\"),\"\",'SD DATA Paste'!I18)","v":""},{"$f":"IF(AND('SD DATA Paste'!C18=\"\"),\"\",IF(AND('SD DATA Paste'!C18=\"Girl\"),\"F\",IF(AND('SD DATA Paste'!C18=\"Boy\"),\"M\",\"\")))","v":""},{"$f":"IF(AND('SD DATA Paste'!F18=\"\"),\"\",'SD DATA Paste'!F18)","v":""},{"$f":"IF(AND('SD DATA Paste'!B18=\"\"),\"\",'SD DATA Paste'!B18)","v":""}]
["","","","","","","","",{"$nulls":18},{"$f":"IF(AND('SD DATA Paste'!D19=\"\"),\"\",'SD DATA Paste'!D19)","v":""},{"$f":"IF(AND('SD DATA Paste'!E19=\"\"),\"\",'SD DATA Paste'!E19)","v":""},{"$f":"IF(AND('SD DATA Paste'!G19=\"\"),\"\",'SD DATA Paste'!G19)","v":""},{"$f":"IF(AND('SD DATA Paste'!H19=\"\"),\"\",'SD DATA Paste'!H19)","v":""},{"$f":"IF(AND('SD DATA Paste'!I19=\"\"),\"\",'SD DATA Paste'!I19)","v":""},{"$f":"IF(AND('SD DATA Paste'!C19=\"\"),\"\",IF(AND('SD DATA Paste'!C19=\"Girl\"),\"F\",IF(AND('SD DATA Paste'!C19=\"Boy\"),\"M\",\"\")))","v":""},{"$f":"IF(AND('SD DATA Paste'!F19=\"\"),\"\",'SD DATA Paste'!F19)","v":""},{"$f":"IF(AND('SD DATA Paste'!B19=\"\"),\"\",'SD DATA Paste'!B19)","v":""}]
["","","","","","","","",{"$nulls":18},{"$f":"IF(AND('SD DATA Paste'!D20=\"\"),\"\",'SD DATA Paste'!D20)","v":""},{"$f":"IF(AND('SD DATA Paste'!E20=\"\"),\"\",'SD DATA Paste'!E20)","v":""},{"$f":"IF(AND('SD DATA Paste'!G20=\"\"),\"\",'SD DATA Paste'!G20)","v":""},{"$f":"IF(AND('SD DATA Paste'!H20=\"\"),\"\",'SD DATA Paste'!H20)","v":""},{"$f":"IF(AND('SD DATA Paste'!I20=\"\"),\"\",'SD DATA Paste'!I20)","v":""},{"$f":"IF(AND('SD DATA Paste'!C20=\"\"),\"\",IF(AND('SD DATA Paste'!C20=\"Girl\"),\"F\",IF(AND('SD DATA Paste'!C20=\"Boy\"),\"M\",\"\")))","v":""},{"$f":"IF(AND('SD DATA Paste'!F20=\"\"),\"\",'SD DATA Paste'!F20)","v":""},{"$f":"IF(AND('SD DATA Paste'!B20=\"\"),\"\",'SD DATA Paste'!B20)","v":""}]
["","","","","","","","",{"$nulls":18},{"$f":"IF(AND('SD DATA Paste'!D21=\"\"),\"\",'SD DATA Paste'!D21)","v":""},{"$f":"IF(AND('SD DATA Paste'!E21=\"\"),\"\",'SD DATA Paste'!E21)","v":""},{"$f":"IF(AND('SD DATA Paste'!G21=\"\"),\"\",'SD DATA Paste'!G21)","v":""},{"$f":"IF(AND('SD DATA Paste'!H21=\"\"),\"\",'SD DATA Paste'!H21)","v":""},{"$f":"IF(AND('SD DATA Paste'!I21=\"\"),\"\",'SD DATA Paste'!I21)","v":""},{"$f":"IF(AND('SD DATA Paste'!C21=\"\"),\"\",IF(AND('SD DATA Paste'!C21=\"Girl\"),\"F\",IF(AND('SD DATA Paste'!C21=\"Boy\"),\"M\",\"\")))","v":""},{"$f":"IF(AND('SD DATA Paste'!F21=\"\"),\"\",'SD DATA Paste'!F21)","v":""},{"$f":"IF(AND('SD DATA Paste'!B21=\"\"),\"\",'SD DATA Paste'!B21)","v":""}]
["","","","","","","","",{"$nulls":18},{"$f":"IF(AND('SD DATA Paste'!D22=\"\"),\"\",'SD DATA Paste'!D22)","v":""},{"$f":"IF(AND('SD DATA Paste'!E22=\"\"),\"\",'SD DATA Paste'!E22)","v":""},{"$f":"IF(AND('SD DATA Paste'!G22=\"\"),\"\",'SD DATA Paste'!G22)","v":""},{"$f":"IF(AND('SD DATA Paste'!H22=\"\"),\"\",'SD DATA Paste'!H22)","v":""},{"$f":"IF(AND('SD DATA Paste'!I22=\"\"),\"\",'SD DATA Paste'!I22)","v":""},{"$f":"IF(AND('SD DATA Paste'!C22=\"\"),\"\",IF(AND('SD DATA Paste'!C22=\"Girl\"),\"F\",IF(AND('SD DATA Paste'!C22=\"Boy\"),\"M\",\"\")))","v":""},{"$f":"IF(AND('SD DATA Paste'!F22=\"\"),\"\",'SD DATA Paste'!F22)","v":""},{"$f":"IF(AND('SD DATA Paste'!B22=\"\"),\"\",'SD DATA Paste'!B22)","v":""}]
["","","","","","","","",{"$nulls":18},{"$f":"IF(AND('SD DATA Paste'!D23=\"\"),\"\",'SD DATA Paste'!D23)","v":""},{"$f":"IF(AND('SD DATA Paste'!E23=\"\"),\"\",'SD DATA Paste'!E23)","v":""},{"$f":"IF(AND('SD DATA Paste'!G23=\"\"),\"\",'SD DATA Paste'!G23)","v":""},{"$f":"IF(AND('SD DATA Paste'!H23=\"\"),\"\",'SD DATA Paste'!H23)","v":""},{"$f":"IF(AND('SD DATA Paste'!I23=\"\"),\"\",'SD DATA Paste'!I23)","v":""},{"$f":"IF(AND('SD DATA Paste'!C23=\"\"),\"\",IF(AND('SD DATA Paste'!C23=\"Girl\"),\"F\",IF(AND('SD DATA Paste'!C23=\"Boy\"),\"M\",\"\")))","v":""},{"$f":"IF(AND('SD DATA Paste'!F23=\"\"),\"\",'SD DATA Paste'!F23)","v":""},{"$f":"IF(AND('SD DATA Paste'!B23=\"\"),\"\",'SD DATA Paste'!B23)","v":""}]
["","","","","","","","",{"$nulls":18},{"$f":"IF(AND('SD DATA Paste'!D24=\"\"),\"\",'SD DATA Paste'!D24)","v":""},{"$f":"IF(AND('SD DATA Paste'!E24=\"\"),\"\",'SD DATA Paste'!E24)","v":""},{"$f":"IF(AND('SD DATA Paste'!G24=\"\"),\"\",'SD DATA Paste'!G24)","v":""},{"$f":"IF(AND('SD DATA Paste'!H24=\"\"),\"\",'SD DATA Paste'!H24)","v":""},{"$f":"IF(AND('SD DATA Paste'!I24=\"\"),\"\",'SD DATA Paste'!I24)","v":""},{"$f":"IF(AND('SD DATA Paste'!C24=\"\"),\"\",IF(AND('SD DATA Paste'!C24=\"Girl\"),\"F\",IF(AND('SD DATA Paste'!C24=\"Boy\"),\"M\",\"\")))","v":""},{"$f":"IF(AND('SD DATA Paste'!F24=\"\"),\"\",'SD DATA Paste'!F24)","v":""},{"$f":"IF(AND('SD DATA Paste'!B24=\"\"),\"\",'SD DATA Paste'!B24)","v":""}]
["","","","","","","","",{"$nulls":18},{"$f":"IF(AND('SD DATA Paste'!D25=\"\"),\"\",'SD DATA Paste'!D25)","v":""},{"$f":"IF(AND('SD DATA Paste'!E25=\"\"),\"\",'SD DATA Paste'!E25)","v":""},{"$f":"IF(AND('SD DATA Paste'!G25=\"\"),\"\",'SD DATA Paste'!G25)","v":""},{"$f":"IF(AND('SD DATA Paste'!H25=\"\"),\"\",'SD DATA Paste'!H25)","v":""},{"$f":"IF(AND('SD DATA Paste'!I25=\"\"),\"\",'SD DATA Paste'!I25)","v":""},{"$f":"IF(AND('SD DATA Paste'!C25=\"\"),\"\",IF(AND('SD DATA Paste'!C25=\"Girl\"),\"F\",IF(AND('SD DATA Paste'!C25=\"Boy\"),\"M\",\"\")))","v":""},{"$f":"IF(AND('SD DATA Paste'!F25=\"\"),\"\",'SD DATA Paste'!F25)","v":""},{"$f":"IF(AND('SD DATA Paste'!B25=\"\"),\"\",'SD DATA Paste'!B25)","v":""}]
["","","","","","","","",{"$nulls":18},{"$f":"IF(AND('SD DATA Paste'!D26=\"\"),\"\",'SD DATA Paste'!D26)","v":""},{"$f":"IF(AND('SD DATA Paste'!E26=\"\"),\"\",'SD DATA Paste'!E26)","v":""},{"$f":"IF(AND('SD DATA Paste'!G26=\"\"),\"\",'SD DATA Paste'!G26)","v":""},{"$f":"IF(AND('SD DATA Paste'!H26=\"\"),\"\",'SD DATA Paste'!H26)","v":""},{"$f":"IF(AND('SD DATA Paste'!I26=\"\"),\"\",'SD DATA Paste'!I26)","v":""},{"$f":"IF(AND('SD DATA Paste'!C26=\"\"),\"\",IF(AND('SD DATA Paste'!C26=\"Girl\"),\"F\",IF(AND('SD DATA Paste'!C26=\"Boy\"),\"M\",\"\")))","v":""},{"$f":"IF(AND('SD DATA Paste'!F26=\"\"),\"\",'SD DATA Paste'!F26)","v":""},{"$f":"IF(AND('SD DATA Paste'!B26=\"\"),\"\",'SD DATA Paste'!B26)","v":""}]
["","","","","","","","",{"$nulls":18},{"$f":"IF(AND('SD DATA Paste'!D27=\"\"),\"\",'SD DATA Paste'!D27)","v":""},{"$f":"IF(AND('SD DATA Paste'!E27=\"\"),\"\",'SD DATA Paste'!E27)","v":""},{"$f":"IF(AND('SD DATA Paste'!G27=\"\"),\"\",'SD DATA Paste'!G27)","v":""},{"$f":"IF(AND('SD DATA Paste'!H27=\"\"),\"\",'SD DATA Paste'!H27)","v":""},{"$f":"IF(AND('SD DATA Paste'!I27=\"\"),\"\",'SD DATA Paste'!I27)","v":""},{"$f":"IF(AND('SD DATA Paste'!C27=\"\"),\"\",IF(AND('SD DATA Paste'!C27=\"Girl\"),\"F\",IF(AND('SD DATA Paste'!C27=\"Boy\"),\"M\",\"\")))","v":""},{"$f":"IF(AND('SD DATA Paste'!F27=\"\"),\"\",'SD DATA Paste'!F27)","v":""},{"$f":"IF(AND('SD DATA Paste'!B27=\"\"),\"\",'SD DATA Paste'!B27)","v":""}]
["","","","","","","","",{"$nulls":18},{"$f":"IF(AND('SD DATA Paste'!D28=\"\"),\"\",'SD DATA Paste'!D28)","v":""},{"$f":"IF(AND('SD DATA Paste'!E28=\"\"),\"\",'SD DATA Paste'!E28)","v":""},{"$f":"IF(AND('SD DATA Paste'!G28=\"\"),\"\",'SD DATA Paste'!G28)","v":""},{"$f":"IF(AND('SD DATA Paste'!H28=\"\"),\"\",'SD DATA Paste'!H28)","v":""},{"$f":"IF(AND('SD DATA Paste'!I28=\"\"),\"\",'SD DATA Paste'!I28)","v":""},{"$f":"IF(AND('SD DATA Paste'!C28=\"\"),\"\",IF(AND('SD DATA Paste'!C28=\"Girl\"),\"F\",IF(AND('SD DATA Paste'!C28=\"Boy\"),\"M\",\"\")))","v":""},{"$f":"IF(AND('SD DATA Paste'!F28=\"\"),\"\",'SD DATA Paste'!F28)","v":""},{"$f":"IF(AND('SD DATA Paste'!B28=\"\"),\"\",'SD DATA Paste'!B28)","v":""}]
["","","","","","","","",{"$nulls":18},{"$f":"IF(AND('SD DATA Paste'!D29=\"\"),\"\",'SD DATA Paste'!D29)","v":""},{"$f":"IF(AND('SD DATA Paste'!E29=\"\"),\"\",'SD DATA Paste'!E29)","v":""},{"$f":"IF(AND('SD DATA Paste'!G29=\"\"),\"\",'SD DATA Paste'!G29)","v":""},{"$f":"IF(AND('SD DATA Paste'!H29=\"\"),\"\",'SD DATA Paste'!H29)","v":""},{"$f":"IF(AND('SD DATA Paste'!I29=\"\"),\"\",'SD DATA Paste'!I29)","v":""},{"$f":"IF(AND('SD DATA Paste'!C29=\"\"),\"\",IF(AND('SD DATA Paste'!C29=\"Girl\"),\"F\",IF(AND('SD DATA Paste'!C29=\"Boy\"),\"M\",\"\")))","v":""},{"$f":"IF(AND('SD DATA Paste'!F29=\"\"),\"\",'SD DATA Paste'!F29)","v":""},{"$f":"IF(AND('SD DATA Paste'!B29=\"\"),\"\",'SD DATA Paste'!B29)","v":""}]
["","","","","","","","",{"$nulls":18},{"$f":"IF(AND('SD DATA Paste'!D30=\"\"),\"\",'SD DATA Paste'!D30)","v":""},{"$f":"IF(AND('SD DATA Paste'!E30=\"\"),\"\",'SD DATA Paste'!E30)","v":""},{"$f":"IF(AND('SD DATA Paste'!G30=\"\"),\"\",'SD DATA Paste'!G30)","v":""},{"$f":"IF(AND('SD DATA Paste'!H30=\"\"),\"\",'SD DATA Paste'!H30)","v":""},{"$f":"IF(AND('SD DATA Paste'!I30=\"\"),\"\",'SD DATA Paste'!I30)","v":""},{"$f":"IF(AND('SD DATA Paste'!C30=\"\"),\"\",IF(AND('SD DATA Paste'!C30=\"Girl\"),\"F\",IF(AND('SD DATA Paste'!C30=\"Boy\"),\"M\",\"\")))","v":""},{"$f":"IF(AND('SD DATA Paste'!F30=\"\"),\"\",'SD DATA Paste'!F30)","v":""},{"$f":"IF(AND('SD DATA Paste'!B30=\"\"),\"\",'SD DATA Paste'!B30)","v":""}]
["","","","","","","","",{"$nulls":18},{"$f":"IF(AND('SD DATA Paste'!D31=\"\"),\"\",'SD DATA Paste'!D31)","v":""},{"$f":"IF(AND('SD DATA Paste'!E31=\"\"),\"\",'SD DATA Paste'!E31)","v":""},{"$f":"IF(AND('SD DATA Paste'!G31=\"\"),\"\",'SD DATA Paste'!G31)","v":""},{"$f":"IF(AND('SD DATA Paste'!H31=\"\"),\"\",'SD DATA Paste'!H31)","v":""},{"$f":"IF(AND('SD DATA Paste'!I31=\"\"),\"\",'SD DATA Paste'!I31)","v":""},{"$f":"IF(AND('SD DATA Paste'!C31=\"\"),\"\",IF(AND('SD DATA Paste'!C31=\"Girl\"),\"F\",IF(AND('SD DATA Paste'!C31=\"Boy\"),\"M\",\"\")))","v":""},{"$f":"IF(AND('SD DATA Paste'!F31=\"\"),\"\",'SD DATA Paste'!F31)","v":""},{"$f":"IF(AND('SD DATA Paste'!B31=\"\"),\"\",'SD DATA Paste'!B31)","v":""}]
["","","","","","","","",{"$nulls":18},{"$f":"IF(AND('SD DATA Paste'!D32=\"\"),\"\",'SD DATA Paste'!D32)","v":""},{"$f":"IF(AND('SD DATA Paste'!E32=\"\"),\"\",'SD DATA Paste'!E32)","v":""},{"$f":"IF(AND('SD DATA Paste'!G32=\"\"),\"\",'SD DATA Paste'!G32)","v":""},{"$f":"IF(AND('SD DATA Paste'!H32=\"\"),\"\",'SD DATA Paste'!H32)","v":""},{"$f":"IF(AND('SD DATA Paste'!I32=\"\"),\"\",'SD DATA Paste'!I32)","v":""},{"$f":"IF(AND('SD DATA Paste'!C32=\"\"),\"\",IF(AND('SD DATA Paste'!C32=\"Girl\"),\"F\",IF(AND('SD DATA Paste'!C32=\"Boy\"),\"M\",\"\")))","v":""},{"$f":"IF(AND('SD DATA Paste'!F32=\"\"),\"\",'SD DATA Paste'!F32)","v":""},{"$f":"IF(AND('SD DATA Paste'!B32=\"\"),\"\",'SD DATA Paste'!B32)","v":""}]
["","","","","","","","",{"$nulls":18},{"$f":"IF(AND('SD DATA Paste'!D33=\"\"),\"\",'SD DATA Paste'!D33)","v":""},{"$f":"IF(AND('SD DATA Paste'!E33=\"\"),\"\",'SD DATA Paste'!E33)","v":""},{"$f":"IF(AND('SD DATA Paste'!G33=\"\"),\"\",'SD DATA Paste'!G33)","v":""},{"$f":"IF(AND('SD DATA Paste'!H33=\"\"),\"\",'SD DATA Paste'!H33)","v":""},{"$f":"IF(AND('SD DATA Paste'!I33=\"\"),\"\",'SD DATA Paste'!I33)","v":""},{"$f":"IF(AND('SD DATA Paste'!C33=\"\"),\"\",IF(AND('SD DATA Paste'!C33=\"Girl\"),\"F\",IF(AND('SD DATA Paste'!C33=\"Boy\"),\"M\",\"\")))","v":""},{"$f":"IF(AND('SD DATA Paste'!F33=\"\"),\"\",'SD DATA Paste'!F33)","v":""},{"$f":"IF(AND('SD DATA Paste'!B33=\"\"),\"\",'SD DATA Paste'!B33)","v":""}]
["","","","","","","","",{"$nulls":18},{"$f":"IF(AND('SD DATA Paste'!D34=\"\"),\"\",'SD DATA Paste'!D34)","v":""},{"$f":"IF(AND('SD DATA Paste'!E34=\"\"),\"\",'SD DATA Paste'!E34)","v":""},{"$f":"IF(AND('SD DATA Paste'!G34=\"\"),\"\",'SD DATA Paste'!G34)","v":""},{"$f":"IF(AND('SD DATA Paste'!H34=\"\"),\"\",'SD DATA Paste'!H34)","v":""},{"$f":"IF(AND('SD DATA Paste'!I34=\"\"),\"\",'SD DATA Paste'!I34)","v":""},{"$f":"IF(AND('SD DATA Paste'!C34=\"\"),\"\",IF(AND('SD DATA Paste'!C34=\"Girl\"),\"F\",IF(AND('SD DATA Paste'!C34=\"Boy\"),\"M\",\"\")))","v":""},{"$f":"IF(AND('SD DATA Paste'!F34=\"\"),\"\",'SD DATA Paste'!F34)","v":""},{"$f":"IF(AND('SD DATA Paste'!B34=\"\"),\"\",'SD DATA Paste'!B34)","v":""}]
["","","","","","","","",{"$nulls":18},{"$f":"IF(AND('SD DATA Paste'!D35=\"\"),\"\",'SD DATA Paste'!D35)","v":""},{"$f":"IF(AND('SD DATA Paste'!E35=\"\"),\"\",'SD DATA Paste'!E35)","v":""},{"$f":"IF(AND('SD DATA Paste'!G35=\"\"),\"\",'SD DATA Paste'!G35)","v":""},{"$f":"IF(AND('SD DATA Paste'!H35=\"\"),\"\",'SD DATA Paste'!H35)","v":""},{"$f":"IF(AND('SD DATA Paste'!I35=\"\"),\"\",'SD DATA Paste'!I35)","v":""},{"$f":"IF(AND('SD DATA Paste'!C35=\"\"),\"\",IF(AND('SD DATA Paste'!C35=\"Girl\"),\"F\",IF(AND('SD DATA Paste'!C35=\"Boy\"),\"M\",\"\")))","v":""},{"$f":"IF(AND('SD DATA Paste'!F35=\"\"),\"\",'SD DATA Paste'!F35)","v":""},{"$f":"IF(AND('SD DATA Paste'!B35=\"\"),\"\",'SD DATA Paste'!B35)","v":""}]
["","","","","","","","",{"$nulls":18},{"$f":"IF(AND('SD DATA Paste'!D36=\"\"),\"\",'SD DATA Paste'!D36)","v":""},{"$f":"IF(AND('SD DATA Paste'!E36=\"\"),\"\",'SD DATA Paste'!E36)","v":""},{"$f":"IF(AND('SD DATA Paste'!G36=\"\"),\"\",'SD DATA Paste'!G36)","v":""},{"$f":"IF(AND('SD DATA Paste'!H36=\"\"),\"\",'SD DATA Paste'!H36)","v":""},{"$f":"IF(AND('SD DATA Paste'!I36=\"\"),\"\",'SD DATA Paste'!I36)","v":""},{"$f":"IF(AND('SD DATA Paste'!C36=\"\"),\"\",IF(AND('SD DATA Paste'!C36=\"Girl\"),\"F\",IF(AND('SD DATA Paste'!C36=\"Boy\"),\"M\",\"\")))","v":""},{"$f":"IF(AND('SD DATA Paste'!F36=\"\"),\"\",'SD DATA Paste'!F36)","v":""},{"$f":"IF(AND('SD DATA Paste'!B36=\"\"),\"\",'SD DATA Paste'!B36)","v":""}]
["","","","","","","","",{"$nulls":18},{"$f":"IF(AND('SD DATA Paste'!D37=\"\"),\"\",'SD DATA Paste'!D37)","v":""},{"$f":"IF(AND('SD DATA Paste'!E37=\"\"),\"\",'SD DATA Paste'!E37)","v":""},{"$f":"IF(AND('SD DATA Paste'!G37=\"\"),\"\",'SD DATA Paste'!G37)","v":""},{"$f":"IF(AND('SD DATA Paste'!H37=\"\"),\"\",'SD DATA Paste'!H37)","v":""},{"$f":"IF(AND('SD DATA Paste'!I37=\"\"),\"\",'SD DATA Paste'!I37)","v":""},{"$f":"IF(AND('SD DATA Paste'!C37=\"\"),\"\",IF(AND('SD DATA Paste'!C37=\"Girl\"),\"F\",IF(AND('SD DATA Paste'!C37=\"Boy\"),\"M\",\"\")))","v":""},{"$f":"IF(AND('SD DATA Paste'!F37=\"\"),\"\",'SD DATA Paste'!F37)","v":""},{"$f":"IF(AND('SD DATA Paste'!B37=\"\"),\"\",'SD DATA Paste'!B37)","v":""}]
["","","","","","","","",{"$nulls":18},{"$f":"IF(AND('SD DATA Paste'!D38=\"\"),\"\",'SD DATA Paste'!D38)","v":""},{"$f":"IF(AND('SD DATA Paste'!E38=\"\"),\"\",'SD DATA Paste'!E38)","v":""},{"$f":"IF(AND('SD DATA Paste'!G38=\"\"),\"\",'SD DATA Paste'!G38)","v":""},{"$f":"IF(AND('SD DATA Paste'!H38=\"\"),\"\",'SD DATA Paste'!H38)","v":""},{"$f":"IF(AND('SD DATA Paste'!I38=\"\"),\"\",'SD DATA Paste'!I38)","v":""},{"$f":"IF(AND('SD DATA Paste'!C38=\"\"),\"\",IF(AND('SD DATA Paste'!C38=\"Girl\"),\"F\",IF(AND('SD DATA Paste'!C38=\"Boy\"),\"M\",\"\")))","v":""},{"$f":"IF(AND('SD DATA Paste'!F38=\"\"),\"\",'SD DATA Paste'!F38)","v":""},{"$f":"IF(AND('SD DATA Paste'!B38=\"\"),\"\",'SD DATA Paste'!B38)","v":""}]
["","","","","","","","",{"$nulls":18},{"$f":"IF(AND('SD DATA Paste'!D39=\"\"),\"\",'SD DATA Paste'!D39)","v":""},{"$f":"IF(AND('SD DATA Paste'!E39=\"\"),\"\",'SD DATA Paste'!E39)","v":""},{"$f":"IF(AND('SD DATA Paste'!G39=\"\"),\"\",'SD DATA Paste'!G39)","v":""},{"$f":"IF(AND('SD DATA Paste'!H39=\"\"),\"\",'SD DATA Paste'!H39)","v":""},{"$f":"IF(AND('SD DATA Paste'!I39=\"\"),\"\",'SD DATA Paste'!I39)","v":""},{"$f":"IF(AND('SD DATA Paste'!C39=\"\"),\"\",IF(AND('SD DATA Paste'!C39=\"Girl\"),\"F\",IF(AND('SD DATA Paste'!C39=\"Boy\"),\"M\",\"\")))","v":""},{"$f":"IF(AND('SD DATA Paste'!F39=\"\"),\"\",'SD DATA Paste'!F39)","v":""},{"$f":"IF(AND('SD DATA Paste'!B39=\"\"),\"\",'SD DATA Paste'!B39)","v":""}]
["","","","","","","","",{"$nulls":18},{"$f":"IF(AND('SD DATA Paste'!D40=\"\"),\"\",'SD DATA Paste'!D40)","v":""},{"$f":"IF(AND('SD DATA Paste'!E40=\"\"),\"\",'SD DATA Paste'!E40)","v":""},{"$f":"IF(AND('SD DATA Paste'!G40=\"\"),\"\",'SD DATA Paste'!G40)","v":""},{"$f":"IF(AND('SD DATA Paste'!H40=\"\"),\"\",'SD DATA Paste'!H40)","v":""},{"$f":"IF(AND('SD DATA Paste'!I40=\"\"),\"\",'SD DATA Paste'!I40)","v":""},{"$f":"IF(AND('SD DATA Paste'!C40=\"\"),\"\",IF(AND('SD DATA Paste'!C40=\"Girl\"),\"F\",IF(AND('SD DATA Paste'!C40=\"Boy\"),\"M\",\"\")))","v":""},{"$f":"IF(AND('SD DATA Paste'!F40=\"\"),\"\",'SD DATA Paste'!F40)","v":""},{"$f":"IF(AND('SD DATA Paste'!B40=\"\"),\"\",'SD DATA Paste'!B40)","v":""}]
["","","","","","","","",{"$nulls":18},{"$f":"IF(AND('SD DATA Paste'!D41=\"\"),\"\",'SD DATA Paste'!D41)","v":""},{"$f":"IF(AND('SD DATA Paste'!E41=\"\"),\"\",'SD DATA Paste'!E41)","v":""},{"$f":"IF(AND('SD DATA Paste'!G41=\"\"),\"\",'SD DATA Paste'!G41)","v":""},{"$f":"IF(AND('SD DATA Paste'!H41=\"\"),\"\",'SD DATA Paste'!H41)","v":""},{"$f":"IF(AND('SD DATA Paste'!I41=\"\"),\"\",'SD DATA Paste'!I41)","v":""},{"$f":"IF(AND('SD DATA Paste'!C41=\"\"),\"\",IF(AND('SD DATA Paste'!C41=\"Girl\"),\"F\",IF(AND('SD DATA Paste'!C41=\"Boy\"),\"M\",\"\")))","v":""},{"$f":"IF(AND('SD DATA Paste'!F41=\"\"),\"\",'SD DATA Paste'!F41)","v":""},{"$f":"IF(AND('SD DATA Paste'!B41=\"\"),\"\",'SD DATA Paste'!B41)","v":""}]
["","","","","","","","",{"$nulls":18},{"$f":"IF(AND('SD DATA Paste'!D42=\"\"),\"\",'SD DATA Paste'!D42)","v":""},{"$f":"IF(AND('SD DATA Paste'!E42=\"\"),\"\",'SD DATA Paste'!E42)","v":""},{"$f":"IF(AND('SD DATA Paste'!G42=\"\"),\"\",'SD DATA Paste'!G42)","v":""},{"$f":"IF(AND('SD DATA Paste'!H42=\"\"),\"\",'SD DATA Paste'!H42)","v":""},{"$f":"IF(AND('SD DATA Paste'!I42=\"\"),\"\",'SD DATA Paste'!I42)","v":""},{"$f":"IF(AND('SD DATA Paste'!C42=\"\"),\"\",IF(AND('SD DATA Paste'!C42=\"Girl\"),\"F\",IF(AND('SD DATA Paste'!C42=\"Boy\"),\"M\",\"\")))","v":""},{"$f":"IF(AND('SD DATA Paste'!F42=\"\"),\"\",'SD DATA Paste'!F42)","v":""},{"$f":"IF(AND('SD DATA Paste'!B42=\"\"),\"\",'SD DATA Paste'!B42)","v":""}]
["","","","","","","","",{"$nulls":18},{"$f":"IF(AND('SD DATA Paste'!D43=\"\"),\"\",'SD DATA Paste'!D43)","v":""},{"$f":"IF(AND('SD DATA Paste'!E43=\"\"),\"\",'SD DATA Paste'!E43)","v":""},{"$f":"IF(AND('SD DATA Paste'!G43=\"\"),\"\",'SD DATA Paste'!G43)","v":""},{"$f":"IF(AND('SD DATA Paste'!H43=\"\"),\"\",'SD DATA Paste'!H43)","v":""},{"$f":"IF(AND('SD DATA Paste'!I43=\"\"),\"\",'SD DATA Paste'!I43)","v":""},{"$f":"IF(AND('SD DATA Paste'!C43=\"\"),\"\",IF(AND('SD DATA Paste'!C43=\"Girl\"),\"F\",IF(AND('SD DATA Paste'!C43=\"Boy\"),\"M\",\"\")))","v":""},{"$f":"IF(AND('SD DATA Paste'!F43=\"\"),\"\",'SD DATA Paste'!F43)","v":""},{"$f":"IF(AND('SD DATA Paste'!B43=\"\"),\"\",'SD DATA Paste'!B43)","v":""}]
["","","","","","","","",{"$nulls":18},{"$f":"IF(AND('SD DATA Paste'!D44=\"\"),\"\",'SD DATA Paste'!D44)","v":""},{"$f":"IF(AND('SD DATA Paste'!E44=\"\"),\"\",'SD DATA Paste'!E44)","v":""},{"$f":"IF(AND('SD DATA Paste'!G44=\"\"),\"\",'SD DATA Paste'!G44)","v":""},{"$f":"IF(AND('SD DATA Paste'!H44=\"\"),\"\",'SD DATA Paste'!H44)","v":""},{"$f":"IF(AND('SD DATA Paste'!I44=\"\"),\"\",'SD DATA Paste'!I44)","v":""},{"$f":"IF(AND('SD DATA Paste'!C44=\"\"),\"\",IF(AND('SD DATA Paste'!C44=\"Girl\"),\"F\",IF(AND('SD DATA Paste'!C44=\"Boy\"),\"M\",\"\")))","v":""},{"$f":"IF(AND('SD DATA Paste'!F44=\"\"),\"\",'SD DATA Paste'!F44)","v":""},{"$f":"IF(AND('SD DATA Paste'!B44=\"\"),\"\",'SD DATA Paste'!B44)","v":""}]
["","","","","","","","",{"$nulls":18},{"$f":"IF(AND('SD DATA Paste'!D45=\"\"),\"\",'SD DATA Paste'!D45)","v":""},{"$f":"IF(AND('SD DATA Paste'!E45=\"\"),\"\",'SD DATA Paste'!E45)","v":""},{"$f":"IF(AND('SD DATA Paste'!G45=\"\"),\"\",'SD DATA Paste'!G45)","v":""},{"$f":"IF(AND('SD DATA Paste'!H45=\"\"),\"\",'SD DATA Paste'!H45)","v":""},{"$f":"IF(AND('SD DATA Paste'!I45=\"\"),\"\",'SD DATA Paste'!I45)","v":""},{"$f":"IF(AND('SD DATA Paste'!C45=\"\"),\"\",IF(AND('SD DATA Paste'!C45=\"Girl\"),\"F\",IF(AND('SD DATA Paste'!C45=\"Boy\"),\"M\",\"\")))","v":""},{"$f":"IF(AND('SD DATA Paste'!F45=\"\"),\"\",'SD DATA Paste'!F45)","v":""},{"$f":"IF(AND('SD DATA Paste'!B45=\"\"),\"\",'SD DATA Paste'!B45)","v":""}]
["","","","","","","","",{"$nulls":18},{"$f":"IF(AND('SD DATA Paste'!D46=\"\"),\"\",'SD DATA Paste'!D46)","v":""},{"$f":"IF(AND('SD DATA Paste'!E46=\"\"),\"\",'SD DATA Paste'!E46)","v":""},{"$f":"IF(AND('SD DATA Paste'!G46=\"\"),\"\",'SD DATA Paste'!G46)","v":""},{"$f":"IF(AND('SD DATA Paste'!H46=\"\"),\"\",'SD DATA Paste'!H46)","v":""},{"$f":"IF(AND('SD DATA Paste'!I46=\"\"),\"\",'SD DATA Paste'!I46)","v":""},{"$f":"IF(AND('SD DATA Paste'!C46=\"\"),\"\",IF(AND('SD DATA Paste'!C46=\"Girl\"),\"F\",IF(AND('SD DATA Paste'!C46=\"Boy\"),\"M\",\"\")))","v":""},{"$f":"IF(AND('SD DATA Paste'!F46=\"\"),\"\",'SD DATA Paste'!F46)","v":""},{"$f":"IF(AND('SD DATA Paste'!B46=\"\"),\"\",'SD DATA Paste'!B46)","v":""}]
["","","","","","","","",{"$nulls":18},{"$f":"IF(AND('SD DATA Paste'!D47=\"\"),\"\",'SD DATA Paste'!D47)","v":""},{"$f":"IF(AND('SD DATA Paste'!E47=\"\"),\"\",'SD DATA Paste'!E47)","v":""},{"$f":"IF(AND('SD DATA Paste'!G47=\"\"),\"\",'SD DATA Paste'!G47)","v":""},{"$f":"IF(AND('SD DATA Paste'!H47=\"\"),\"\",'SD DATA Paste'!H47)","v":""},{"$f":"IF(AND('SD DATA Paste'!I47=\"\"),\"\",'SD DATA Paste'!I47)","v":""},{"$f":"IF(AND('SD DATA Paste'!C47=\"\"),\"\",IF(AND('SD DATA Paste'!C47=\"Girl\"),\"F\",IF(AND('SD DATA Paste'!C47=\"Boy\"),\"M\",\"\")))","v":""},{"$f":"IF(AND('SD DATA Paste'!F47=\"\"),\"\",'SD DATA Paste'!F47)","v":""},{"$f":"IF(AND('SD DATA Paste'!B47=\"\"),\"\",'SD DATA Paste'!B47)","v":""}]
["","","","","","","","",{"$nulls":18},{"$f":"IF(AND('SD DATA Paste'!D48=\"\"),\"\",'SD DATA Paste'!D48)","v":""},{"$f":"IF(AND('SD DATA Paste'!E48=\"\"),\"\",'SD DATA Paste'!E48)","v":""},{"$f":"IF(AND('SD DATA Paste'!G48=\"\"),\"\",'SD DATA Paste'!G48)","v":""},{"$f":"IF(AND('SD DATA Paste'!H48=\"\"),\"\",'SD DATA Paste'!H48)","v":""},{"$f":"IF(AND('SD DATA Paste'!I48=\"\"),\"\",'SD DATA Paste'!I48)","v":""},{"$f":"IF(AND('SD DATA Paste'!C48=\"\"),\"\",IF(AND('SD DATA Paste'!C48=\"Girl\"),\"F\",IF(AND('SD DATA Paste'!C48=\"Boy\"),\"M\",\"\")))","v":""},{"$f":"IF(AND('SD DATA Paste'!F48=\"\"),\"\",'SD DATA Paste'!F48)","v":""},{"$f":"IF(AND('SD DATA Paste'!B48=\"\"),\"\",'SD DATA Paste'!B48)","v":""}]
["","","","","","","","",{"$nulls":18},{"$f":"IF(AND('SD DATA Paste'!D49=\"\"),\"\",'SD DATA Paste'!D49)","v":""},{"$f":"IF(AND('SD DATA Paste'!E49=\"\"),\"\",'SD DATA Paste'!E49)","v":""},{"$f":"IF(AND('SD DATA Paste'!G49=\"\"),\"\",'SD DATA Paste'!G49)","v":""},{"$f":"IF(AND('SD DATA Paste'!H49=\"\"),\"\",'SD DATA Paste'!H49)","v":""},{"$f":"IF(AND('SD DATA Paste'!I49=\"\"),\"\",'SD DATA Paste'!I49)","v":""},{"$f":"IF(AND('SD DATA Paste'!C49=\"\"),\"\",IF(AND('SD DATA Paste'!C49=\"Girl\"),\"F\",IF(AND('SD DATA Paste'!C49=\"Boy\"),\"M\",\"\")))","v":""},{"$f":"IF(AND('SD DATA Paste'!F49=\"\"),\"\",'SD DATA Paste'!F49)","v":""},{"$f":"IF(AND('SD DATA Paste'!B49=\"\"),\"\",'SD DATA Paste'!B49)","v":""}]
["","","","","","","","",{"$nulls":18},{"$f":"IF(AND('SD DATA Paste'!D50=\"\"),\"\",'SD DATA Paste'!D50)","v":""},{"$f":"IF(AND('SD DATA Paste'!E50=\"\"),\"\",'SD DATA Paste'!E50)","v":""},{"$f":"IF(AND('SD DATA Paste'!G50=\"\"),\"\",'SD DATA Paste'!G50)","v":""},{"$f":"IF(AND('SD DATA Paste'!H50=\"\"),\"\",'SD DATA Paste'!H50)","v":""},{"$f":"IF(AND('SD DATA Paste'!I50=\"\"),\"\",'SD DATA Paste'!I50)","v":""},{"$f":"IF(AND('SD DATA Paste'!C50=\"\"),\"\",IF(AND('SD DATA Paste'!C50=\"Girl\"),\"F\",IF(AND('SD DATA Paste'!C50=\"Boy\"),\"M\",\"\")))","v":""},{"$f":"IF(AND('SD DATA Paste'!F50=\"\"),\"\",'SD DATA Paste'!F50)","v":""},{"$f":"IF(AND('SD DATA Paste'!B50=\"\"),\"\",'SD DATA Paste'!B50)","v":""}]
["","","","","","","","",{"$nulls":18},{"$f":"IF(AND('SD DATA Paste'!D51=\"\"),\"\",'SD DATA Paste'!D51)","v":""},{"$f":"IF(AND('SD DATA Paste'!E51=\"\"),\"\",'SD DATA Paste'!E51)","v":""},{"$f":"IF(AND('SD DATA Paste'!G51=\"\"),\"\",'SD DATA Paste'!G51)","v":""},{"$f":"IF(AND('SD DATA Paste'!H51=\"\"),\"\",'SD DATA Paste'!H51)","v":""},{"$f":"IF(AND('SD DATA Paste'!I51=\"\"),\"\",'SD DATA Paste'!I51)","v":""},{"$f":"IF(AND('SD DATA Paste'!C51=\"\"),\"\",IF(AND('SD DATA Paste'!C51=\"Girl\"),\"F\",IF(AND('SD DATA Paste'!C51=\"Boy\"),\"M\",\"\")))","v":""},{"$f":"IF(AND('SD DATA Paste'!F51=\"\"),\"\",'SD DATA Paste'!F51)","v":""},{"$f":"IF(AND('SD DATA Paste'!B51=\"\"),\"\",'SD DATA Paste'!B51)","v":""}]
["","","","","","","","",{"$nulls":18},{"$f":"IF(AND('SD DATA Paste'!D52=\"\"),\"\",'SD DATA Paste'!D52)","v":""},{"$f":"IF(AND('SD DATA Paste'!E52=\"\"),\"\",'SD DATA Paste'!E52)","v":""},{"$f":"IF(AND('SD DATA Paste'!G52=\"\"),\"\",'SD DATA Paste'!G52)","v":""},{"$f":"IF(AND('SD DATA Paste'!H52=\"\"),\"\",'SD DATA Paste'!H52)","v":""},{"$f":"IF(AND('SD DATA Paste'!I52=\"\"),\"\",'SD DATA Paste'!I52)","v":""},{"$f":"IF(AND('SD DATA Paste'!C52=\"\"),\"\",IF(AND('SD DATA Paste'!C52=\"Girl\"),\"F\",IF(AND('SD DATA Paste'!C52=\"Boy\"),\"M\",\"\")))","v":""},{"$f":"IF(AND('SD DATA Paste'!F52=\"\"),\"\",'SD DATA Paste'!F52)","v":""},{"$f":"IF(AND('SD DATA Paste'!B52=\"\"),\"\",'SD DATA Paste'!B52)","v":""}]
["","","","","","","","",{"$nulls":18},{"$f":"IF(AND('SD DATA Paste'!D53=\"\"),\"\",'SD DATA Paste'!D53)","v":""},{"$f":"IF(AND('SD DATA Paste'!E53=\"\"),\"\",'SD DATA Paste'!E53)","v":""},{"$f":"IF(AND('SD DATA Paste'!G53=\"\"),\"\",'SD DATA Paste'!G53)","v":""},{"$f":"IF(AND('SD DATA Paste'!H53=\"\"),\"\",'SD DATA Paste'!H53)","v":""},{"$f":"IF(AND('SD DATA Paste'!I53=\"\"),\"\",'SD DATA Paste'!I53)","v":""},{"$f":"IF(AND('SD DATA Paste'!C53=\"\"),\"\",IF(AND('SD DATA Paste'!C53=\"Girl\"),\"F\",IF(AND('SD DATA Paste'!C53=\"Boy\"),\"M\",\"\")))","v":""},{"$f":"IF(AND('SD DATA Paste'!F53=\"\"),\"\",'SD DATA Paste'!F53)","v":""},{"$f":"IF(AND('SD DATA Paste'!B53=\"\"),\"\",'SD DATA Paste'!B53)","v":""}]
["","","","","","","","",{"$nulls":18},{"$f":"IF(AND('SD DATA Paste'!D54=\"\"),\"\",'SD DATA Paste'!D54)","v":""},{"$f":"IF(AND('SD DATA Paste'!E54=\"\"),\"\",'SD DATA Paste'!E54)","v":""},{"$f":"IF(AND('SD DATA Paste'!G54=\"\"),\"\",'SD DATA Paste'!G54)","v":""},{"$f":"IF(AND('SD DATA Paste'!H54=\"\"),\"\",'SD DATA Paste'!H54)","v":""},{"$f":"IF(AND('SD DATA Paste'!I54=\"\"),\"\",'SD DATA Paste'!I54)","v":""},{"$f":"IF(AND('SD DATA Paste'!C54=\"\"),\"\",IF(AND('SD DATA Paste'!C54=\"Girl\"),\"F\",IF(AND('SD DATA Paste'!C54=\"Boy\"),\"M\",\"\")))","v":""},{"$f":"IF(AND('SD DATA Paste'!F54=\"\"),\"\",'SD DATA Paste'!F54)","v":""},{"$f":"IF(AND('SD DATA Paste'!B54=\"\"),\"\",'SD DATA Paste'!B54)","v":""}]
["","","","","","","","",{"$nulls":18},{"$f":"IF(AND('SD DATA Paste'!D55=\"\"),\"\",'SD DATA Paste'!D55)","v":""},{"$f":"IF(AND('SD DATA Paste'!E55=\"\"),\"\",'SD DATA Paste'!E55)","v":""},{"$f":"IF(AND('SD DATA Paste'!G55=\"\"),\"\",'SD DATA Paste'!G55)","v":""},{"$f":"IF(AND('SD DATA Paste'!H55=\"\"),\"\",'SD DATA Paste'!H55)","v":""},{"$f":"IF(AND('SD DATA Paste'!I55=\"\"),\"\",'SD DATA Paste'!I55)","v":""},{"$f":"IF(AND('SD DATA Paste'!C55=\"\"),\"\",IF(AND('SD DATA Paste'!C55=\"Girl\"),\"F\",IF(AND('SD DATA Paste'!C55=\"Boy\"),\"M\",\"\")))","v":""},{"$f":"IF(AND('SD DATA Paste'!F55=\"\"),\"\",'SD DATA Paste'!F55)","v":""},{"$f":"IF(AND('SD DATA Paste'!B55=\"\"),\"\",'SD DATA Paste'!B55)","v":""}]
["","","","","","","","",{"$nulls":18},{"$f":"IF(AND('SD DATA Paste'!D56=\"\"),\"\",'SD DATA Paste'!D56)","v":""},{"$f":"IF(AND('SD DATA Paste'!E56=\"\"),\"\",'SD DATA Paste'!E56)","v":""},{"$f":"IF(AND('SD DATA Paste'!G56=\"\"),\"\",'SD DATA Paste'!G56)","v":""},{"$f":"IF(AND('SD DATA Paste'!H56=\"\"),\"\",'SD DATA Paste'!H56)","v":""},{"$f":"IF(AND('SD DATA Paste'!I56=\"\"),\"\",'SD DATA Paste'!I56)","v":""},{"$f":"IF(AND('SD DATA Paste'!C56=\"\"),\"\",IF(AND('SD DATA Paste'!C56=\"Girl\"),\"F\",IF(AND('SD DATA Paste'!C56=\"Boy\"),\"M\",\"\")))","v":""},{"$f":"IF(AND('SD DATA Paste'!F56=\"\"),\"\",'SD DATA Paste'!F56)","v":""},{"$f":"IF(AND('SD DATA Paste'!B56=\"\"),\"\",'SD DATA Paste'!B56)","v":""}]
["","","","","","","","",{"$nulls":18},{"$f":"IF(AND('SD DATA Paste'!D57=\"\"),\"\",'SD DATA Paste'!D57)","v":""},{"$f":"IF(AND('SD DATA Paste'!E57=\"\"),\"\",'SD DATA Paste'!E57)","v":""},{"$f":"IF(AND('SD DATA Paste'!G57=\"\"),\"\",'SD DATA Paste'!G57)","v":""},{"$f":"IF(AND('SD DATA Paste'!H57=\"\"),\"\",'SD DATA Paste'!H57)","v":""},{"$f":"IF(AND('SD DATA Paste'!I57=\"\"),\"\",'SD DATA Paste'!I57)","v":""},{"$f":"IF(AND('SD DATA Paste'!C57=\"\"),\"\",IF(AND('SD DATA Paste'!C57=\"Girl\"),\"F\",IF(AND('SD DATA Paste'!C57=\"Boy\"),\"M\",\"\")))","v":""},{"$f":"IF(AND('SD DATA Paste'!F57=\"\"),\"\",'SD DATA Paste'!F57)","v":""},{"$f":"IF(AND('SD DATA Paste'!B57=\"\"),\"\",'SD DATA Paste'!B57)","v":""}]
["","","","","","","","",{"$nulls":18},{"$f":"IF(AND('SD DATA Paste'!D58=\"\"),\"\",'SD DATA Paste'!D58)","v":""},{"$f":"IF(AND('SD DATA Paste'!E58=\"\"),\"\",'SD DATA Paste'!E58)","v":""},{"$f":"IF(AND('SD DATA Paste'!G58=\"\"),\"\",'SD DATA Paste'!G58)","v":""},{"$f":"IF(AND('SD DATA Paste'!H58=\"\"),\"\",'SD DATA Paste'!H58)","v":""},{"$f":"IF(AND('SD DATA Paste'!I58=\"\"),\"\",'SD DATA Paste'!I58)","v":""},{"$f":"IF(AND('SD DATA Paste'!C58=\"\"),\"\",IF(AND('SD DATA Paste'!C58=\"Girl\"),\"F\",IF(AND('SD DATA Paste'!C58=\"Boy\"),\"M\",\"\")))","v":""},{"$f":"IF(AND('SD DATA Paste'!F58=\"\"),\"\",'SD DATA Paste'!F58)","v":""},{"$f":"IF(AND('SD DATA Paste'!B58=\"\"),\"\",'SD DATA Paste'!B58)","v":""}]
["","","","","","","","",{"$nulls":18},{"$f":"IF(AND('SD DATA Paste'!D59=\"\"),\"\",'SD DATA Paste'!D59)","v":""},{"$f":"IF(AND('SD DATA Paste'!E59=\"\"),\"\",'SD DATA Paste'!E59)","v":""},{"$f":"IF(AND('SD DATA Paste'!G59=\"\"),\"\",'SD DATA Paste'!G59)","v":""},{"$f":"IF(AND('SD DATA Paste'!H59=\"\"),\"\",'SD DATA Paste'!H59)","v":""},{"$f":"IF(AND('SD DATA Paste'!I59=\"\"),\"\",'SD DATA Paste'!I59)","v":""},{"$f":"IF(AND('SD DATA Paste'!C59=\"\"),\"\",IF(AND('SD DATA Paste'!C59=\"Girl\"),\"F\",IF(AND('SD DATA Paste'!C59=\"Boy\"),\"M\",\"\")))","v":""},{"$f":"IF(AND('SD DATA Paste'!F59=\"\"),\"\",'SD DATA Paste'!F59)","v":""},{"$f":"IF(AND('SD DATA Paste'!B59=\"\"),\"\",'SD DATA Paste'!B59)","v":""}]
["","","","","","","","",{"$nulls":18},{"$f":"IF(AND('SD DATA Paste'!D60=\"\"),\"\",'SD DATA Paste'!D60)","v":""},{"$f":"IF(AND('SD DATA Paste'!E60=\"\"),\"\",'SD DATA Paste'!E60)","v":""},{"$f":"IF(AND('SD DATA Paste'!G60=\"\"),\"\",'SD DATA Paste'!G60)","v":""},{"$f":"IF(AND('SD DATA Paste'!H60=\"\"),\"\",'SD DATA Paste'!H60)","v":""},{"$f":"IF(AND('SD DATA Paste'!I60=\"\"),\"\",'SD DATA Paste'!I60)","v":""},{"$f":"IF(AND('SD DATA Paste'!C60=\"\"),\"\",IF(AND('SD DATA Paste'!C60=\"Girl\"),\"F\",IF(AND('SD DATA Paste'!C60=\"Boy\"),\"M\",\"\")))","v":""},{"$f":"IF(AND('SD DATA Paste'!F60=\"\"),\"\",'SD DATA Paste'!F60)","v":""},{"$f":"IF(AND('SD DATA Paste'!B60=\"\"),\"\",'SD DATA Paste'!B60)","v":""}]
["","","","","","","","",{"$nulls":18},{"$f":"IF(AND('SD DATA Paste'!D61=\"\"),\"\",'SD DATA Paste'!D61)","v":""},{"$f":"IF(AND('SD DATA Paste'!E61=\"\"),\"\",'SD DATA Paste'!E61)","v":""},{"$f":"IF(AND('SD DATA Paste'!G61=\"\"),\"\",'SD DATA Paste'!G61)","v":""},{"$f":"IF(AND('SD DATA Paste'!H61=\"\"),\"\",'SD DATA Paste'!H61)","v":""},{"$f":"IF(AND('SD DATA Paste'!I61=\"\"),\"\",'SD DATA Paste'!I61)","v":""},{"$f":"IF(AND('SD DATA Paste'!C61=\"\"),\"\",IF(AND('SD DATA Paste'!C61=\"Girl\"),\"F\",IF(AND('SD DATA Paste'!C61=\"Boy\"),\"M\",\"\")))","v":""},{"$f":"IF(AND('SD DATA Paste'!F61=\"\"),\"\",'SD DATA Paste'!F61)","v":""},{"$f":"IF(AND('SD DATA Paste'!B61=\"\"),\"\",'SD DATA Paste'!B61)","v":""}]
["","","","","","","","",{"$nulls":18},{"$f":"IF(AND('SD DATA Paste'!D62=\"\"),\"\",'SD DATA Paste'!D62)","v":""},{"$f":"IF(AND('SD DATA Paste'!E62=\"\"),\"\",'SD DATA Paste'!E62)","v":""},{"$f":"IF(AND('SD DATA Paste'!G62=\"\"),\"\",'SD DATA Paste'!G62)","v":""},{"$f":"IF(AND('SD DATA Paste'!H62=\"\"),\"\",'SD DATA Paste'!H62)","v":""},{"$f":"IF(AND('SD DATA Paste'!I62=\"\"),\"\",'SD DATA Paste'!I62)","v":""},{"$f":"IF(AND('SD DATA Paste'!C62=\"\"),\"\",IF(AND('SD DATA Paste'!C62=\"Girl\"),\"F\",IF(AND('SD DATA Paste'!C62=\"Boy\"),\"M\",\"\")))","v":""},{"$f":"IF(AND('SD DATA Paste'!F62=\"\"),\"\",'SD DATA Paste'!F62)","v":""},{"$f":"IF(AND('SD DATA Paste'!B62=\"\"),\"\",'SD DATA Paste'!B62)","v":""}]
["","","","","","","","",{"$nulls":18},{"$f":"IF(AND('SD DATA Paste'!D63=\"\"),\"\",'SD DATA Paste'!D63)","v":""},{"$f":"IF(AND('SD DATA Paste'!E63=\"\"),\"\",'SD DATA Paste'!E63)","v":""},{"$f":"IF(AND('SD DATA Paste'!G63=\"\"),\"\",'SD DATA Paste'!G63)","v":""},{"$f":"IF(AND('SD DATA Paste'!H63=\"\"),\"\",'SD DATA Paste'!H63)","v":""},{"$f":"IF(AND('SD DATA Paste'!I63=\"\"),\"\",'SD DATA Paste'!I63)","v":""},{"$f":"IF(AND('SD DATA Paste'!C63=\"\"),\"\",IF(AND('SD DATA Paste'!C63=\"Girl\"),\"F\",IF(AND('SD DATA Paste'!C63=\"Boy\"),\"M\",\"\")))","v":""},{"$f":"IF(AND('SD DATA Paste'!F63=\"\"),\"\",'SD DATA Paste'!F63)","v":""},{"$f":"IF(AND('SD DATA Paste'!B63=\"\"),\"\",'SD DATA Paste'!B63)","v":""}]
["","","","","","","","",{"$nulls":18},{"$f":"IF(AND('SD DATA Paste'!D64=\"\"),\"\",'SD DATA Paste'!D64)","v":""},{"$f":"IF(AND('SD DATA Paste'!E64=\"\"),\"\",'SD DATA Paste'!E64)","v":""},{"$f":"IF(AND('SD DATA Paste'!G64=\"\"),\"\",'SD DATA Paste'!G64)","v":""},{"$f":"IF(AND('SD DATA Paste'!H64=\"\"),\"\",'SD DATA Paste'!H64)","v":""},{"$f":"IF(AND('SD DATA Paste'!I64=\"\"),\"\",'SD DATA Paste'!I64)","v":""},{"$f":"IF(AND('SD DATA Paste'!C64=\"\"),\"\",IF(AND('SD DATA Paste'!C64=\"Girl\"),\"F\",IF(AND('SD DATA Paste'!C64=\"Boy\"),\"M\",\"\")))","v":""},{"$f":"IF(AND('SD DATA Paste'!F64=\"\"),\"\",'SD DATA Paste'!F64)","v":""},{"$f":"IF(AND('SD DATA Paste'!B64=\"\"),\"\",'SD DATA Paste'!B64)","v":""}]
["","","","","","","","",{"$nulls":18},{"$f":"IF(AND('SD DATA Paste'!D65=\"\"),\"\",'SD DATA Paste'!D65)","v":""},{"$f":"IF(AND('SD DATA Paste'!E65=\"\"),\"\",'SD DATA Paste'!E65)","v":""},{"$f":"IF(AND('SD DATA Paste'!G65=\"\"),\"\",'SD DATA Paste'!G65)","v":""},{"$f":"IF(AND('SD DATA Paste'!H65=\"\"),\"\",'SD DATA Paste'!H65)","v":""},{"$f":"IF(AND('SD DATA Paste'!I65=\"\"),\"\",'SD DATA Paste'!I65)","v":""},{"$f":"IF(AND('SD DATA Paste'!C65=\"\"),\"\",IF(AND('SD DATA Paste'!C65=\"Girl\"),\"F\",IF(AND('SD DATA Paste'!C65=\"Boy\"),\"M\",\"\")))","v":""},{"$f":"IF(AND('SD DATA Paste'!F65=\"\"),\"\",'SD DATA Paste'!F65)","v":""},{"$f":"IF(AND('SD DATA Paste'!B65=\"\"),\"\",'SD DATA Paste'!B65)","v":""}]
["","","","","","","","",{"$nulls":18},{"$f":"IF(AND('SD DATA Paste'!D66=\"\"),\"\",'SD DATA Paste'!D66)","v":""},{"$f":"IF(AND('SD DATA Paste'!E66=\"\"),\"\",'SD DATA Paste'!E66)","v":""},{"$f":"IF(AND('SD DATA Paste'!G66=\"\"),\"\",'SD DATA Paste'!G66)","v":""},{"$f":"IF(AND('SD DATA Paste'!H66=\"\"),\"\",'SD DATA Paste'!H66)","v":""},{"$f":"IF(AND('SD DATA Paste'!I66=\"\"),\"\",'SD DATA Paste'!I66)","v":""},{"$f":"IF(AND('SD DATA Paste'!C66=\"\"),\"\",IF(AND('SD DATA Paste'!C66=\"Girl\"),\"F\",IF(AND('SD DATA Paste'!C66=\"Boy\"),\"M\",\"\")))","v":""},{"$f":"IF(AND('SD DATA Paste'!F66=\"\"),\"\",'SD DATA Paste'!F66)","v":""},{"$f":"IF(AND('SD DATA Paste'!B66=\"\"),\"\",'SD DATA Paste'!B66)","v":""}]
[{"$f":"IF(AND(AA68=\"\"),\"\",VALUE(AA68))","v":""},"",{"$f":"IF(AND(AC68=\"\"),\"\",UPPER(AC68))","v":""},{"$f":"IF(AND(AD68=\"\"),\"\",UPPER(AD68))","v":""},{"$f":"IF(AND(AE68=\"\"),\"\",UPPER(AE68))","v":""},{"$f":"IF(AND(AF68=\"\"),\"\",AF68)","v":""},{"$f":"IF(AND(AG68=\"\"),\"\",AG68)","v":""},{"$f":"IF(AND(AH68=\"\"),\"\",AH68)","v":""},{"$nulls":18},{"$f":"IF(AND('SD DATA Paste'!D67=\"\"),\"\",'SD DATA Paste'!D67)","v":""},{"$f":"IF(AND('SD DATA Paste'!E67=\"\"),\"\",'SD DATA Paste'!E67)","v":""},{"$f":"IF(AND('SD DATA Paste'!G67=\"\"),\"\",'SD DATA Paste'!G67)","v":""},{"$f":"IF(AND('SD DATA Paste'!H67=\"\"),\"\",'SD DATA Paste'!H67)","v":""},{"$f":"IF(AND('SD DATA Paste'!I67=\"\"),\"\",'SD DATA Paste'!I67)","v":""},{"$f":"IF(AND('SD DATA Paste'!C67=\"\"),\"\",IF(AND('SD DATA Paste'!C67=\"Girl\"),\"F\",IF(AND('SD DATA Paste'!C67=\"Boy\"),\"M\",\"\")))","v":""},{"$f":"IF(AND('SD DATA Paste'!F67=\"\"),\"\",'SD DATA Paste'!F67)","v":""},{"$f":"IF(AND('SD DATA Paste'!B67=\"\"),\"\",'SD DATA Paste'!B67)","v":""}]
["","","","","","","","",{"$nulls":18},{"$f":"IF(AND('SD DATA Paste'!D68=\"\"),\"\",'SD DATA Paste'!D68)","v":""},{"$f":"IF(AND('SD DATA Paste'!E68=\"\"),\"\",'SD DATA Paste'!E68)","v":""},{"$f":"IF(AND('SD DATA Paste'!G68=\"\"),\"\",'SD DATA Paste'!G68)","v":""},{"$f":"IF(AND('SD DATA Paste'!H68=\"\"),\"\",'SD DATA Paste'!H68)","v":""},{"$f":"IF(AND('SD DATA Paste'!I68=\"\"),\"\",'SD DATA Paste'!I68)","v":""},{"$f":"IF(AND('SD DATA Paste'!C68=\"\"),\"\",IF(AND('SD DATA Paste'!C68=\"Girl\"),\"F\",IF(AND('SD DATA Paste'!C68=\"Boy\"),\"M\",\"\")))","v":""},{"$f":"IF(AND('SD DATA Paste'!F68=\"\"),\"\",'SD DATA Paste'!F68)","v":""},{"$f":"IF(AND('SD DATA Paste'!B68=\"\"),\"\",'SD DATA Paste'!B68)","v":""}]
["","","","","","","","",{"$nulls":18},{"$f":"IF(AND('SD DATA Paste'!D69=\"\"),\"\",'SD DATA Paste'!D69)","v":""},{"$f":"IF(AND('SD DATA Paste'!E69=\"\"),\"\",'SD DATA Paste'!E69)","v":""},{"$f":"IF(AND('SD DATA Paste'!G69=\"\"),\"\",'SD DATA Paste'!G69)","v":""},{"$f":"IF(AND('SD DATA Paste'!H69=\"\"),\"\",'SD DATA Paste'!H69)","v":""},{"$f":"IF(AND('SD DATA Paste'!I69=\"\"),\"\",'SD DATA Paste'!I69)","v":""},{"$f":"IF(AND('SD DATA Paste'!C69=\"\"),\"\",IF(AND('SD DATA Paste'!C69=\"Girl\"),\"F\",IF(AND('SD DATA Paste'!C69=\"Boy\"),\"M\",\"\")))","v":""},{"$f":"IF(AND('SD DATA Paste'!F69=\"\"),\"\",'SD DATA Paste'!F69)","v":""},{"$f":"IF(AND('SD DATA Paste'!B69=\"\"),\"\",'SD DATA Paste'!B69)","v":""}]
["",{"$f":"IF(AND(AB71=\"\"),\"\",AB71)","v":""},"","","","","","",{"$nulls":18},{"$f":"IF(AND('SD DATA Paste'!D70=\"\"),\"\",'SD DATA Paste'!D70)","v":""},{"$f":"IF(AND('SD DATA Paste'!E70=\"\"),\"\",'SD DATA Paste'!E70)","v":""},{"$f":"IF(AND('SD DATA Paste'!G70=\"\"),\"\",'SD DATA Paste'!G70)","v":""},{"$f":"IF(AND('SD DATA Paste'!H70=\"\"),\"\",'SD DATA Paste'!H70)","v":""},{"$f":"IF(AND('SD DATA Paste'!I70=\"\"),\"\",'SD DATA Paste'!I70)","v":""},{"$f":"IF(AND('SD DATA Paste'!C70=\"\"),\"\",IF(AND('SD DATA Paste'!C70=\"Girl\"),\"F\",IF(AND('SD DATA Paste'!C70=\"Boy\"),\"M\",\"\")))","v":""},{"$f":"IF(AND('SD DATA Paste'!F70=\"\"),\"\",'SD DATA Paste'!F70)","v":""},{"$f":"IF(AND('SD DATA Paste'!B70=\"\"),\"\",'SD DATA Paste'!B70)","v":""}]
["","","","","","","","",{"$nulls":18},{"$f":"IF(AND('SD DATA Paste'!D71=\"\"),\"\",'SD DATA Paste'!D71)","v":""},{"$f":"IF(AND('SD DATA Paste'!E71=\"\"),\"\",'SD DATA Paste'!E71)","v":""},{"$f":"IF(AND('SD DATA Paste'!G71=\"\"),\"\",'SD DATA Paste'!G71)","v":""},{"$f":"IF(AND('SD DATA Paste'!H71=\"\"),\"\",'SD DATA Paste'!H71)","v":""},{"$f":"IF(AND('SD DATA Paste'!I71=\"\"),\"\",'SD DATA Paste'!I71)","v":""},{"$f":"IF(AND('SD DATA Paste'!C71=\"\"),\"\",IF(AND('SD DATA Paste'!C71=\"Girl\"),\"F\",IF(AND('SD DATA Paste'!C71=\"Boy\"),\"M\",\"\")))","v":""},{"$f":"IF(AND('SD DATA Paste'!F71=\"\"),\"\",'SD DATA Paste'!F71)","v":""},{"$f":"IF(AND('SD DATA Paste'!B71=\"\"),\"\",'SD DATA Paste'!B71)","v":""}]
["","","","","","","","",{"$nulls":18},{"$f":"IF(AND('SD DATA Paste'!D72=\"\"),\"\",'SD DATA Paste'!D72)","v":""},{"$f":"IF(AND('SD DATA Paste'!E72=\"\"),\"\",'SD DATA Paste'!E72)","v":""},{"$f":"IF(AND('SD DATA Paste'!G72=\"\"),\"\",'SD DATA Paste'!G72)","v":""},{"$f":"IF(AND('SD DATA Paste'!H72=\"\"),\"\",'SD DATA Paste'!H72)","v":""},{"$f":"IF(AND('SD DATA Paste'!I72=\"\"),\"\",'SD DATA Paste'!I72)","v":""},{"$f":"IF(AND('SD DATA Paste'!C72=\"\"),\"\",IF(AND('SD DATA Paste'!C72=\"Girl\"),\"F\",IF(AND('SD DATA Paste'!C72=\"Boy\"),\"M\",\"\")))","v":""},{"$f":"IF(AND('SD DATA Paste'!F72=\"\"),\"\",'SD DATA Paste'!F72)","v":""},{"$f":"IF(AND('SD DATA Paste'!B72=\"\"),\"\",'SD DATA Paste'!B72)","v":""}]
["","","","","","","","",{"$nulls":18},{"$f":"IF(AND('SD DATA Paste'!D73=\"\"),\"\",'SD DATA Paste'!D73)","v":""},{"$f":"IF(AND('SD DATA Paste'!E73=\"\"),\"\",'SD DATA Paste'!E73)","v":""},{"$f":"IF(AND('SD DATA Paste'!G73=\"\"),\"\",'SD DATA Paste'!G73)","v":""},{"$f":"IF(AND('SD DATA Paste'!H73=\"\"),\"\",'SD DATA Paste'!H73)","v":""},{"$f":"IF(AND('SD DATA Paste'!I73=\"\"),\"\",'SD DATA Paste'!I73)","v":""},{"$f":"IF(AND('SD DATA Paste'!C73=\"\"),\"\",IF(AND('SD DATA Paste'!C73=\"Girl\"),\"F\",IF(AND('SD DATA Paste'!C73=\"Boy\"),\"M\",\"\")))","v":""},{"$f":"IF(AND('SD DATA Paste'!F73=\"\"),\"\",'SD DATA Paste'!F73)","v":""},{"$f":"IF(AND('SD DATA Paste'!B73=\"\"),\"\",'SD DATA Paste'!B73)","v":""}]
["","","","","","","","",{"$nulls":18},{"$f":"IF(AND('SD DATA Paste'!D74=\"\"),\"\",'SD DATA Paste'!D74)","v":""},{"$f":"IF(AND('SD DATA Paste'!E74=\"\"),\"\",'SD DATA Paste'!E74)","v":""},{"$f":"IF(AND('SD DATA Paste'!G74=\"\"),\"\",'SD DATA Paste'!G74)","v":""},{"$f":"IF(AND('SD DATA Paste'!H74=\"\"),\"\",'SD DATA Paste'!H74)","v":""},{"$f":"IF(AND('SD DATA Paste'!I74=\"\"),\"\",'SD DATA Paste'!I74)","v":""},{"$f":"IF(AND('SD DATA Paste'!C74=\"\"),\"\",IF(AND('SD DATA Paste'!C74=\"Girl\"),\"F\",IF(AND('SD DATA Paste'!C74=\"Boy\"),\"M\",\"\")))","v":""},{"$f":"IF(AND('SD DATA Paste'!F74=\"\"),\"\",'SD DATA Paste'!F74)","v":""},{"$f":"IF(AND('SD DATA Paste'!B74=\"\"),\"\",'SD DATA Paste'!B74)","v":""}]
["","","","","","","","",{"$nulls":18},{"$f":"IF(AND('SD DATA Paste'!D75=\"\"),\"\",'SD DATA Paste'!D75)","v":""},{"$f":"IF(AND('SD DATA Paste'!E75=\"\"),\"\",'SD DATA Paste'!E75)","v":""},{"$f":"IF(AND('SD DATA Paste'!G75=\"\"),\"\",'SD DATA Paste'!G75)","v":""},{"$f":"IF(AND('SD DATA Paste'!H75=\"\"),\"\",'SD DATA Paste'!H75)","v":""},{"$f":"IF(AND('SD DATA Paste'!I75=\"\"),\"\",'SD DATA Paste'!I75)","v":""},{"$f":"IF(AND('SD DATA Paste'!C75=\"\"),\"\",IF(AND('SD DATA Paste'!C75=\"Girl\"),\"F\",IF(AND('SD DATA Paste'!C75=\"Boy\"),\"M\",\"\")))","v":""},{"$f":"IF(AND('SD DATA Paste'!F75=\"\"),\"\",'SD DATA Paste'!F75)","v":""},{"$f":"IF(AND('SD DATA Paste'!B75=\"\"),\"\",'SD DATA Paste'!B75)","v":""}]
["","","","","","","","",{"$nulls":18},{"$f":"IF(AND('SD DATA Paste'!D76=\"\"),\"\",'SD DATA Paste'!D76)","v":""},{"$f":"IF(AND('SD DATA Paste'!E76=\"\"),\"\",'SD DATA Paste'!E76)","v":""},{"$f":"IF(AND('SD DATA Paste'!G76=\"\"),\"\",'SD DATA Paste'!G76)","v":""},{"$f":"IF(AND('SD DATA Paste'!H76=\"\"),\"\",'SD DATA Paste'!H76)","v":""},{"$f":"IF(AND('SD DATA Paste'!I76=\"\"),\"\",'SD DATA Paste'!I76)","v":""},{"$f":"IF(AND('SD DATA Paste'!C76=\"\"),\"\",IF(AND('SD DATA Paste'!C76=\"Girl\"),\"F\",IF(AND('SD DATA Paste'!C76=\"Boy\"),\"M\",\"\")))","v":""},{"$f":"IF(AND('SD DATA Paste'!F76=\"\"),\"\",'SD DATA Paste'!F76)","v":""},{"$f":"IF(AND('SD DATA Paste'!B76=\"\"),\"\",'SD DATA Paste'!B76)","v":""}]
["","","","","","","","",{"$nulls":18},{"$f":"IF(AND('SD DATA Paste'!D77=\"\"),\"\",'SD DATA Paste'!D77)","v":""},{"$f":"IF(AND('SD DATA Paste'!E77=\"\"),\"\",'SD DATA Paste'!E77)","v":""},{"$f":"IF(AND('SD DATA Paste'!G77=\"\"),\"\",'SD DATA Paste'!G77)","v":""},{"$f":"IF(AND('SD DATA Paste'!H77=\"\"),\"\",'SD DATA Paste'!H77)","v":""},{"$f":"IF(AND('SD DATA Paste'!I77=\"\"),\"\",'SD DATA Paste'!I77)","v":""},{"$f":"IF(AND('SD DATA Paste'!C77=\"\"),\"\",IF(AND('SD DATA Paste'!C77=\"Girl\"),\"F\",IF(AND('SD DATA Paste'!C77=\"Boy\"),\"M\",\"\")))","v":""},{"$f":"IF(AND('SD DATA Paste'!F77=\"\"),\"\",'SD DATA Paste'!F77)","v":""},{"$f":"IF(AND('SD DATA Paste'!B77=\"\"),\"\",'SD DATA Paste'!B77)","v":""}]
["","","","","","","","",{"$nulls":18},{"$f":"IF(AND('SD DATA Paste'!D78=\"\"),\"\",'SD DATA Paste'!D78)","v":""},{"$f":"IF(AND('SD DATA Paste'!E78=\"\"),\"\",'SD DATA Paste'!E78)","v":""},{"$f":"IF(AND('SD DATA Paste'!G78=\"\"),\"\",'SD DATA Paste'!G78)","v":""},{"$f":"IF(AND('SD DATA Paste'!H78=\"\"),\"\",'SD DATA Paste'!H78)","v":""},{"$f":"IF(AND('SD DATA Paste'!I78=\"\"),\"\",'SD DATA Paste'!I78)","v":""},{"$f":"IF(AND('SD DATA Paste'!C78=\"\"),\"\",IF(AND('SD DATA Paste'!C78=\"Girl\"),\"F\",IF(AND('SD DATA Paste'!C78=\"Boy\"),\"M\",\"\")))","v":""},{"$f":"IF(AND('SD DATA Paste'!F78=\"\"),\"\",'SD DATA Paste'!F78)","v":""},{"$f":"IF(AND('SD DATA Paste'!B78=\"\"),\"\",'SD DATA Paste'!B78)","v":""}]
["","","","","","","","",{"$nulls":18},{"$f":"IF(AND('SD DATA Paste'!D79=\"\"),\"\",'SD DATA Paste'!D79)","v":""},{"$f":"IF(AND('SD DATA Paste'!E79=\"\"),\"\",'SD DATA Paste'!E79)","v":""},{"$f":"IF(AND('SD DATA Paste'!G79=\"\"),\"\",'SD DATA Paste'!G79)","v":""},{"$f":"IF(AND('SD DATA Paste'!H79=\"\"),\"\",'SD DATA Paste'!H79)","v":""},{"$f":"IF(AND('SD DATA Paste'!I79=\"\"),\"\",'SD DATA Paste'!I79)","v":""},{"$f":"IF(AND('SD DATA Paste'!C79=\"\"),\"\",IF(AND('SD DATA Paste'!C79=\"Girl\"),\"F\",IF(AND('SD DATA Paste'!C79=\"Boy\"),\"M\",\"\")))","v":""},{"$f":"IF(AND('SD DATA Paste'!F79=\"\"),\"\",'SD DATA Paste'!F79)","v":""},{"$f":"IF(AND('SD DATA Paste'!B79=\"\"),\"\",'SD DATA Paste'!B79)","v":""}]
["","","","","","","","",{"$nulls":18},{"$f":"IF(AND('SD DATA Paste'!D80=\"\"),\"\",'SD DATA Paste'!D80)","v":""},{"$f":"IF(AND('SD DATA Paste'!E80=\"\"),\"\",'SD DATA Paste'!E80)","v":""},{"$f":"IF(AND('SD DATA Paste'!G80=\"\"),\"\",'SD DATA Paste'!G80)","v":""},{"$f":"IF(AND('SD DATA Paste'!H80=\"\"),\"\",'SD DATA Paste'!H80)","v":""},{"$f":"IF(AND('SD DATA Paste'!I80=\"\"),\"\",'SD DATA Paste'!I80)","v":""},{"$f":"IF(AND('SD DATA Paste'!C80=\"\"),\"\",IF(AND('SD DATA Paste'!C80=\"Girl\"),\"F\",IF(AND('SD DATA Paste'!C80=\"Boy\"),\"M\",\"\")))","v":""},{"$f":"IF(AND('SD DATA Paste'!F80=\"\"),\"\",'SD DATA Paste'!F80)","v":""},{"$f":"IF(AND('SD DATA Paste'!B80=\"\"),\"\",'SD DATA Paste'!B80)","v":""}]
["","","","","","","","",{"$nulls":18},{"$f":"IF(AND('SD DATA Paste'!D81=\"\"),\"\",'SD DATA Paste'!D81)","v":""},{"$f":"IF(AND('SD DATA Paste'!E81=\"\"),\"\",'SD DATA Paste'!E81)","v":""},{"$f":"IF(AND('SD DATA Paste'!G81=\"\"),\"\",'SD DATA Paste'!G81)","v":""},{"$f":"IF(AND('SD DATA Paste'!H81=\"\"),\"\",'SD DATA Paste'!H81)","v":""},{"$f":"IF(AND('SD DATA Paste'!I81=\"\"),\"\",'SD DATA Paste'!I81)","v":""},{"$f":"IF(AND('SD DATA Paste'!C81=\"\"),\"\",IF(AND('SD DATA Paste'!C81=\"Girl\"),\"F\",IF(AND('SD DATA Paste'!C81=\"Boy\"),\"M\",\"\")))","v":""},{"$f":"IF(AND('SD DATA Paste'!F81=\"\"),\"\",'SD DATA Paste'!F81)","v":""},{"$f":"IF(AND('SD DATA Paste'!B81=\"\"),\"\",'SD DATA Paste'!B81)","v":""}]
["","","","","","","","",{"$nulls":18},{"$f":"IF(AND('SD DATA Paste'!D82=\"\"),\"\",'SD DATA Paste'!D82)","v":""},{"$f":"IF(AND('SD DATA Paste'!E82=\"\"),\"\",'SD DATA Paste'!E82)","v":""},{"$f":"IF(AND('SD DATA Paste'!G82=\"\"),\"\",'SD DATA Paste'!G82)","v":""},{"$f":"IF(AND('SD DATA Paste'!H82=\"\"),\"\",'SD DATA Paste'!H82)","v":""},{"$f":"IF(AND('SD DATA Paste'!I82=\"\"),\"\",'SD DATA Paste'!I82)","v":""},{"$f":"IF(AND('SD DATA Paste'!C82=\"\"),\"\",IF(AND('SD DATA Paste'!C82=\"Girl\"),\"F\",IF(AND('SD DATA Paste'!C82=\"Boy\"),\"M\",\"\")))","v":""},{"$f":"IF(AND('SD DATA Paste'!F82=\"\"),\"\",'SD DATA Paste'!F82)","v":""},{"$f":"IF(AND('SD DATA Paste'!B82=\"\"),\"\",'SD DATA Paste'!B82)","v":""}]
["","","","","","","","",{"$nulls":18},{"$f":"IF(AND('SD DATA Paste'!D83=\"\"),\"\",'SD DATA Paste'!D83)","v":""},{"$f":"IF(AND('SD DATA Paste'!E83=\"\"),\"\",'SD DATA Paste'!E83)","v":""},{"$f":"IF(AND('SD DATA Paste'!G83=\"\"),\"\",'SD DATA Paste'!G83)","v":""},{"$f":"IF(AND('SD DATA Paste'!H83=\"\"),\"\",'SD DATA Paste'!H83)","v":""},{"$f":"IF(AND('SD DATA Paste'!I83=\"\"),\"\",'SD DATA Paste'!I83)","v":""},{"$f":"IF(AND('SD DATA Paste'!C83=\"\"),\"\",IF(AND('SD DATA Paste'!C83=\"Girl\"),\"F\",IF(AND('SD DATA Paste'!C83=\"Boy\"),\"M\",\"\")))","v":""},{"$f":"IF(AND('SD DATA Paste'!F83=\"\"),\"\",'SD DATA Paste'!F83)","v":""},{"$f":"IF(AND('SD DATA Paste'!B83=\"\"),\"\",'SD DATA Paste'!B83)","v":""}]
["","","","","","","","",{"$nulls":18},{"$f":"IF(AND('SD DATA Paste'!D84=\"\"),\"\",'SD DATA Paste'!D84)","v":""},{"$f":"IF(AND('SD DATA Paste'!E84=\"\"),\"\",'SD DATA Paste'!E84)","v":""},{"$f":"IF(AND('SD DATA Paste'!G84=\"\"),\"\",'SD DATA Paste'!G84)","v":""},{"$f":"IF(AND('SD DATA Paste'!H84=\"\"),\"\",'SD DATA Paste'!H84)","v":""},{"$f":"IF(AND('SD DATA Paste'!I84=\"\"),\"\",'SD DATA Paste'!I84)","v":""},{"$f":"IF(AND('SD DATA Paste'!C84=\"\"),\"\",IF(AND('SD DATA Paste'!C84=\"Girl\"),\"F\",IF(AND('SD DATA Paste'!C84=\"Boy\"),\"M\",\"\")))","v":""},{"$f":"IF(AND('SD DATA Paste'!F84=\"\"),\"\",'SD DATA Paste'!F84)","v":""},{"$f":"IF(AND('SD DATA Paste'!B84=\"\"),\"\",'SD DATA Paste'!B84)","v":""}]
["","","","","","","","",{"$nulls":18},{"$f":"IF(AND('SD DATA Paste'!D85=\"\"),\"\",'SD DATA Paste'!D85)","v":""},{"$f":"IF(AND('SD DATA Paste'!E85=\"\"),\"\",'SD DATA Paste'!E85)","v":""},{"$f":"IF(AND('SD DATA Paste'!G85=\"\"),\"\",'SD DATA Paste'!G85)","v":""},{"$f":"IF(AND('SD DATA Paste'!H85=\"\"),\"\",'SD DATA Paste'!H85)","v":""},{"$f":"IF(AND('SD DATA Paste'!I85=\"\"),\"\",'SD DATA Paste'!I85)","v":""},{"$f":"IF(AND('SD DATA Paste'!C85=\"\"),\"\",IF(AND('SD DATA Paste'!C85=\"Girl\"),\"F\",IF(AND('SD DATA Paste'!C85=\"Boy\"),\"M\",\"\")))","v":""},{"$f":"IF(AND('SD DATA Paste'!F85=\"\"),\"\",'SD DATA Paste'!F85)","v":""},{"$f":"IF(AND('SD DATA Paste'!B85=\"\"),\"\",'SD DATA Paste'!B85)","v":""}]
["","","","","","","","",{"$nulls":18},{"$f":"IF(AND('SD DATA Paste'!D86=\"\"),\"\",'SD DATA Paste'!D86)","v":""},{"$f":"IF(AND('SD DATA Paste'!E86=\"\"),\"\",'SD DATA Paste'!E86)","v":""},{"$f":"IF(AND('SD DATA Paste'!G86=\"\"),\"\",'SD DATA Paste'!G86)","v":""},{"$f":"IF(AND('SD DATA Paste'!H86=\"\"),\"\",'SD DATA Paste'!H86)","v":""},{"$f":"IF(AND('SD DATA Paste'!I86=\"\"),\"\",'SD DATA Paste'!I86)","v":""},{"$f":"IF(AND('SD DATA Paste'!C86=\"\"),\"\",IF(AND('SD DATA Paste'!C86=\"Girl\"),\"F\",IF(AND('SD DATA Paste'!C86=\"Boy\"),\"M\",\"\")))","v":""},{"$f":"IF(AND('SD DATA Paste'!F86=\"\"),\"\",'SD DATA Paste'!F86)","v":""},{"$f":"IF(AND('SD DATA Paste'!B86=\"\"),\"\",'SD DATA Paste'!B86)","v":""}]
["","","","","","","","",{"$nulls":18},{"$f":"IF(AND('SD DATA Paste'!D87=\"\"),\"\",'SD DATA Paste'!D87)","v":""},{"$f":"IF(AND('SD DATA Paste'!E87=\"\"),\"\",'SD DATA Paste'!E87)","v":""},{"$f":"IF(AND('SD DATA Paste'!G87=\"\"),\"\",'SD DATA Paste'!G87)","v":""},{"$f":"IF(AND('SD DATA Paste'!H87=\"\"),\"\",'SD DATA Paste'!H87)","v":""},{"$f":"IF(AND('SD DATA Paste'!I87=\"\"),\"\",'SD DATA Paste'!I87)","v":""},{"$f":"IF(AND('SD DATA Paste'!C87=\"\"),\"\",IF(AND('SD DATA Paste'!C87=\"Girl\"),\"F\",IF(AND('SD DATA Paste'!C87=\"Boy\"),\"M\",\"\")))","v":""},{"$f":"IF(AND('SD DATA Paste'!F87=\"\"),\"\",'SD DATA Paste'!F87)","v":""},{"$f":"IF(AND('SD DATA Paste'!B87=\"\"),\"\",'SD DATA Paste'!B87)","v":""}]
["","","","","","","","",{"$nulls":18},{"$f":"IF(AND('SD DATA Paste'!D88=\"\"),\"\",'SD DATA Paste'!D88)","v":""},{"$f":"IF(AND('SD DATA Paste'!E88=\"\"),\"\",'SD DATA Paste'!E88)","v":""},{"$f":"IF(AND('SD DATA Paste'!G88=\"\"),\"\",'SD DATA Paste'!G88)","v":""},{"$f":"IF(AND('SD DATA Paste'!H88=\"\"),\"\",'SD DATA Paste'!H88)","v":""},{"$f":"IF(AND('SD DATA Paste'!I88=\"\"),\"\",'SD DATA Paste'!I88)","v":""},{"$f":"IF(AND('SD DATA Paste'!C88=\"\"),\"\",IF(AND('SD DATA Paste'!C88=\"Girl\"),\"F\",IF(AND('SD DATA Paste'!C88=\"Boy\"),\"M\",\"\")))","v":""},{"$f":"IF(AND('SD DATA Paste'!F88=\"\"),\"\",'SD DATA Paste'!F88)","v":""},{"$f":"IF(AND('SD DATA Paste'!B88=\"\"),\"\",'SD DATA Paste'!B88)","v":""}]
["","","","","","","","",{"$nulls":18},{"$f":"IF(AND('SD DATA Paste'!D89=\"\"),\"\",'SD DATA Paste'!D89)","v":""},{"$f":"IF(AND('SD DATA Paste'!E89=\"\"),\"\",'SD DATA Paste'!E89)","v":""},{"$f":"IF(AND('SD DATA Paste'!G89=\"\"),\"\",'SD DATA Paste'!G89)","v":""},{"$f":"IF(AND('SD DATA Paste'!H89=\"\"),\"\",'SD DATA Paste'!H89)","v":""},{"$f":"IF(AND('SD DATA Paste'!I89=\"\"),\"\",'SD DATA Paste'!I89)","v":""},{"$f":"IF(AND('SD DATA Paste'!C89=\"\"),\"\",IF(AND('SD DATA Paste'!C89=\"Girl\"),\"F\",IF(AND('SD DATA Paste'!C89=\"Boy\"),\"M\",\"\")))","v":""},{"$f":"IF(AND('SD DATA Paste'!F89=\"\"),\"\",'SD DATA Paste'!F89)","v":""},{"$f":"IF(AND('SD DATA Paste'!B89=\"\"),\"\",'SD DATA Paste'!B89)","v":""}]
["","","","","","","","",{"$nulls":18},{"$f":"IF(AND('SD DATA Paste'!D90=\"\"),\"\",'SD DATA Paste'!D90)","v":""},{"$f":"IF(AND('SD DATA Paste'!E90=\"\"),\"\",'SD DATA Paste'!E90)","v":""},{"$f":"IF(AND('SD DATA Paste'!G90=\"\"),\"\",'SD DATA Paste'!G90)","v":""},{"$f":"IF(AND('SD DATA Paste'!H90=\"\"),\"\",'SD DATA Paste'!H90)","v":""},{"$f":"IF(AND('SD DATA Paste'!I90=\"\"),\"\",'SD DATA Paste'!I90)","v":""},{"$f":"IF(AND('SD DATA Paste'!C90=\"\"),\"\",IF(AND('SD DATA Paste'!C90=\"Girl\"),\"F\",IF(AND('SD DATA Paste'!C90=\"Boy\"),\"M\",\"\")))","v":""},{"$f":"IF(AND('SD DATA Paste'!F90=\"\"),\"\",'SD DATA Paste'!F90)","v":""},{"$f":"IF(AND('SD DATA Paste'!B90=\"\"),\"\",'SD DATA Paste'!B90)","v":""}]
["","","","","","","","",{"$nulls":18},{"$f":"IF(AND('SD DATA Paste'!D91=\"\"),\"\",'SD DATA Paste'!D91)","v":""},{"$f":"IF(AND('SD DATA Paste'!E91=\"\"),\"\",'SD DATA Paste'!E91)","v":""},{"$f":"IF(AND('SD DATA Paste'!G91=\"\"),\"\",'SD DATA Paste'!G91)","v":""},{"$f":"IF(AND('SD DATA Paste'!H91=\"\"),\"\",'SD DATA Paste'!H91)","v":""},{"$f":"IF(AND('SD DATA Paste'!I91=\"\"),\"\",'SD DATA Paste'!I91)","v":""},{"$f":"IF(AND('SD DATA Paste'!C91=\"\"),\"\",IF(AND('SD DATA Paste'!C91=\"Girl\"),\"F\",IF(AND('SD DATA Paste'!C91=\"Boy\"),\"M\",\"\")))","v":""},{"$f":"IF(AND('SD DATA Paste'!F91=\"\"),\"\",'SD DATA Paste'!F91)","v":""},{"$f":"IF(AND('SD DATA Paste'!B91=\"\"),\"\",'SD DATA Paste'!B91)","v":""}]
["","","","","","","","",{"$nulls":18},{"$f":"IF(AND('SD DATA Paste'!D92=\"\"),\"\",'SD DATA Paste'!D92)","v":""},{"$f":"IF(AND('SD DATA Paste'!E92=\"\"),\"\",'SD DATA Paste'!E92)","v":""},{"$f":"IF(AND('SD DATA Paste'!G92=\"\"),\"\",'SD DATA Paste'!G92)","v":""},{"$f":"IF(AND('SD DATA Paste'!H92=\"\"),\"\",'SD DATA Paste'!H92)","v":""},{"$f":"IF(AND('SD DATA Paste'!I92=\"\"),\"\",'SD DATA Paste'!I92)","v":""},{"$f":"IF(AND('SD DATA Paste'!C92=\"\"),\"\",IF(AND('SD DATA Paste'!C92=\"Girl\"),\"F\",IF(AND('SD DATA Paste'!C92=\"Boy\"),\"M\",\"\")))","v":""},{"$f":"IF(AND('SD DATA Paste'!F92=\"\"),\"\",'SD DATA Paste'!F92)","v":""},{"$f":"IF(AND('SD DATA Paste'!B92=\"\"),\"\",'SD DATA Paste'!B92)","v":""}]
["","","","","","","","",{"$nulls":18},{"$f":"IF(AND('SD DATA Paste'!D93=\"\"),\"\",'SD DATA Paste'!D93)","v":""},{"$f":"IF(AND('SD DATA Paste'!E93=\"\"),\"\",'SD DATA Paste'!E93)","v":""},{"$f":"IF(AND('SD DATA Paste'!G93=\"\"),\"\",'SD DATA Paste'!G93)","v":""},{"$f":"IF(AND('SD DATA Paste'!H93=\"\"),\"\",'SD DATA Paste'!H93)","v":""},{"$f":"IF(AND('SD DATA Paste'!I93=\"\"),\"\",'SD DATA Paste'!I93)","v":""},{"$f":"IF(AND('SD DATA Paste'!C93=\"\"),\"\",IF(AND('SD DATA Paste'!C93=\"Girl\"),\"F\",IF(AND('SD DATA Paste'!C93=\"Boy\"),\"M\",\"\")))","v":""},{"$f":"IF(AND('SD DATA Paste'!F93=\"\"),\"\",'SD DATA Paste'!F93)","v":""},{"$f":"IF(AND('SD DATA Paste'!B93=\"\"),\"\",'SD DATA Paste'!B93)","v":""}]
["","","","","","","","",{"$nulls":18},{"$f":"IF(AND('SD DATA Paste'!D94=\"\"),\"\",'SD DATA Paste'!D94)","v":""},{"$f":"IF(AND('SD DATA Paste'!E94=\"\"),\"\",'SD DATA Paste'!E94)","v":""},{"$f":"IF(AND('SD DATA Paste'!G94=\"\"),\"\",'SD DATA Paste'!G94)","v":""},{"$f":"IF(AND('SD DATA Paste'!H94=\"\"),\"\",'SD DATA Paste'!H94)","v":""},{"$f":"IF(AND('SD DATA Paste'!I94=\"\"),\"\",'SD DATA Paste'!I94)","v":""},{"$f":"IF(AND('SD DATA Paste'!C94=\"\"),\"\",IF(AND('SD DATA Paste'!C94=\"Girl\"),\"F\",IF(AND('SD DATA Paste'!C94=\"Boy\"),\"M\",\"\")))","v":""},{"$f":"IF(AND('SD DATA Paste'!F94=\"\"),\"\",'SD DATA Paste'!F94)","v":""},{"$f":"IF(AND('SD DATA Paste'!B94=\"\"),\"\",'SD DATA Paste'!B94)","v":""}]
["","","","","","","","",{"$nulls":18},{"$f":"IF(AND('SD DATA Paste'!D95=\"\"),\"\",'SD DATA Paste'!D95)","v":""},{"$f":"IF(AND('SD DATA Paste'!E95=\"\"),\"\",'SD DATA Paste'!E95)","v":""},{"$f":"IF(AND('SD DATA Paste'!G95=\"\"),\"\",'SD DATA Paste'!G95)","v":""},{"$f":"IF(AND('SD DATA Paste'!H95=\"\"),\"\",'SD DATA Paste'!H95)","v":""},{"$f":"IF(AND('SD DATA Paste'!I95=\"\"),\"\",'SD DATA Paste'!I95)","v":""},{"$f":"IF(AND('SD DATA Paste'!C95=\"\"),\"\",IF(AND('SD DATA Paste'!C95=\"Girl\"),\"F\",IF(AND('SD DATA Paste'!C95=\"Boy\"),\"M\",\"\")))","v":""},{"$f":"IF(AND('SD DATA Paste'!F95=\"\"),\"\",'SD DATA Paste'!F95)","v":""},{"$f":"IF(AND('SD DATA Paste'!B95=\"\"),\"\",'SD DATA Paste'!B95)","v":""}]
["","","","","","","","",{"$nulls":18},{"$f":"IF(AND('SD DATA Paste'!D96=\"\"),\"\",'SD DATA Paste'!D96)","v":""},{"$f":"IF(AND('SD DATA Paste'!E96=\"\"),\"\",'SD DATA Paste'!E96)","v":""},{"$f":"IF(AND('SD DATA Paste'!G96=\"\"),\"\",'SD DATA Paste'!G96)","v":""},{"$f":"IF(AND('SD DATA Paste'!H96=\"\"),\"\",'SD DATA Paste'!H96)","v":""},{"$f":"IF(AND('SD DATA Paste'!I96=\"\"),\"\",'SD DATA Paste'!I96)","v":""},{"$f":"IF(AND('SD DATA Paste'!C96=\"\"),\"\",IF(AND('SD DATA Paste'!C96=\"Girl\"),\"F\",IF(AND('SD DATA Paste'!C96=\"Boy\"),\"M\",\"\")))","v":""},{"$f":"IF(AND('SD DATA Paste'!F96=\"\"),\"\",'SD DATA Paste'!F96)","v":""},{"$f":"IF(AND('SD DATA Paste'!B96=\"\"),\"\",'SD DATA Paste'!B96)","v":""}]
["","","","","","","","",{"$nulls":18},{"$f":"IF(AND('SD DATA Paste'!D97=\"\"),\"\",'SD DATA Paste'!D97)","v":""},{"$f":"IF(AND('SD DATA Paste'!E97=\"\"),\"\",'SD DATA Paste'!E97)","v":""},{"$f":"IF(AND('SD DATA Paste'!G97=\"\"),\"\",'SD DATA Paste'!G97)","v":""},{"$f":"IF(AND('SD DATA Paste'!H97=\"\"),\"\",'SD DATA Paste'!H97)","v":""},{"$f":"IF(AND('SD DATA Paste'!I97=\"\"),\"\",'SD DATA Paste'!I97)","v":""},{"$f":"IF(AND('SD DATA Paste'!C97=\"\"),\"\",IF(AND('SD DATA Paste'!C97=\"Girl\"),\"F\",IF(AND('SD DATA Paste'!C97=\"Boy\"),\"M\",\"\")))","v":""},{"$f":"IF(AND('SD DATA Paste'!F97=\"\"),\"\",'SD DATA Paste'!F97)","v":""},{"$f":"IF(AND('SD DATA Paste'!B97=\"\"),\"\",'SD DATA Paste'!B97)","v":""}]
["","","","","","","","",{"$nulls":18},{"$f":"IF(AND('SD DATA Paste'!D98=\"\"),\"\",'SD DATA Paste'!D98)","v":""},{"$f":"IF(AND('SD DATA Paste'!E98=\"\"),\"\",'SD DATA Paste'!E98)","v":""},{"$f":"IF(AND('SD DATA Paste'!G98=\"\"),\"\",'SD DATA Paste'!G98)","v":""},{"$f":"IF(AND('SD DATA Paste'!H98=\"\"),\"\",'SD DATA Paste'!H98)","v":""},{"$f":"IF(AND('SD DATA Paste'!I98=\"\"),\"\",'SD DATA Paste'!I98)","v":""},{"$f":"IF(AND('SD DATA Paste'!C98=\"\"),\"\",IF(AND('SD DATA Paste'!C98=\"Girl\"),\"F\",IF(AND('SD DATA Paste'!C98=\"Boy\"),\"M\",\"\")))","v":""},{"$f":"IF(AND('SD DATA Paste'!F98=\"\"),\"\",'SD DATA Paste'!F98)","v":""},{"$f":"IF(AND('SD DATA Paste'!B98=\"\"),\"\",'SD DATA Paste'!B98)","v":""}]
["","","","","","","","",{"$nulls":18},{"$f":"IF(AND('SD DATA Paste'!D99=\"\"),\"\",'SD DATA Paste'!D99)","v":""},{"$f":"IF(AND('SD DATA Paste'!E99=\"\"),\"\",'SD DATA Paste'!E99)","v":""},{"$f":"IF(AND('SD DATA Paste'!G99=\"\"),\"\",'SD DATA Paste'!G99)","v":""},{"$f":"IF(AND('SD DATA Paste'!H99=\"\"),\"\",'SD DATA Paste'!H99)","v":""},{"$f":"IF(AND('SD DATA Paste'!I99=\"\"),\"\",'SD DATA Paste'!I99)","v":""},{"$f":"IF(AND('SD DATA Paste'!C99=\"\"),\"\",IF(AND('SD DATA Paste'!C99=\"Girl\"),\"F\",IF(AND('SD DATA Paste'!C99=\"Boy\"),\"M\",\"\")))","v":""},{"$f":"IF(AND('SD DATA Paste'!F99=\"\"),\"\",'SD DATA Paste'!F99)","v":""},{"$f":"IF(AND('SD DATA Paste'!B99=\"\"),\"\",'SD DATA Paste'!B99)","v":""}]
["","","","","","","","",{"$nulls":18},{"$f":"IF(AND('SD DATA Paste'!D100=\"\"),\"\",'SD DATA Paste'!D100)","v":""},{"$f":"IF(AND('SD DATA Paste'!E100=\"\"),\"\",'SD DATA Paste'!E100)","v":""},{"$f":"IF(AND('SD DATA Paste'!G100=\"\"),\"\",'SD DATA Paste'!G100)","v":""},{"$f":"IF(AND('SD DATA Paste'!H100=\"\"),\"\",'SD DATA Paste'!H100)","v":""},{"$f":"IF(AND('SD DATA Paste'!I100=\"\"),\"\",'SD DATA Paste'!I100)","v":""},{"$f":"IF(AND('SD DATA Paste'!C100=\"\"),\"\",IF(AND('SD DATA Paste'!C100=\"Girl\"),\"F\",IF(AND('SD DATA Paste'!C100=\"Boy\"),\"M\",\"\")))","v":""},{"$f":"IF(AND('SD DATA Paste'!F100=\"\"),\"\",'SD DATA Paste'!F100)","v":""},{"$f":"IF(AND('SD DATA Paste'!B100=\"\"),\"\",'SD DATA Paste'!B100)","v":""}]
["","","","","","","","",{"$nulls":18},{"$f":"IF(AND('SD DATA Paste'!D101=\"\"),\"\",'SD DATA Paste'!D101)","v":""},{"$f":"IF(AND('SD DATA Paste'!E101=\"\"),\"\",'SD DATA Paste'!E101)","v":""},{"$f":"IF(AND('SD DATA Paste'!G101=\"\"),\"\",'SD DATA Paste'!G101)","v":""},{"$f":"IF(AND('SD DATA Paste'!H101=\"\"),\"\",'SD DATA Paste'!H101)","v":""},{"$f":"IF(AND('SD DATA Paste'!I101=\"\"),\"\",'SD DATA Paste'!I101)","v":""},{"$f":"IF(AND('SD DATA Paste'!C101=\"\"),\"\",IF(AND('SD DATA Paste'!C101=\"Girl\"),\"F\",IF(AND('SD DATA Paste'!C101=\"Boy\"),\"M\",\"\")))","v":""},{"$f":"IF(AND('SD DATA Paste'!F101=\"\"),\"\",'SD DATA Paste'!F101)","v":""},{"$f":"IF(AND('SD DATA Paste'!B101=\"\"),\"\",'SD DATA Paste'!B101)","v":""}]
[{"$nulls":26},{"$f":"IF(AND('SD DATA Paste'!D102=\"\"),\"\",'SD DATA Paste'!D102)","v":""},{"$f":"IF(AND('SD DATA Paste'!E102=\"\"),\"\",'SD DATA Paste'!E102)","v":""},{"$f":"IF(AND('SD DATA Paste'!G102=\"\"),\"\",'SD DATA Paste'!G102)","v":""},{"$f":"IF(AND('SD DATA Paste'!H102=\"\"),\"\",'SD DATA Paste'!H102)","v":""},{"$f":"IF(AND('SD DATA Paste'!I102=\"\"),\"\",'SD DATA Paste'!I102)","v":""},{"$f":"IF(AND('SD DATA Paste'!C102=\"\"),\"\",IF(AND('SD DATA Paste'!C102=\"Girl\"),\"F\",IF(AND('SD DATA Paste'!C102=\"Boy\"),\"M\",\"\")))","v":""},{"$f":"IF(AND('SD DATA Paste'!F102=\"\"),\"\",'SD DATA Paste'!F102)","v":""},{"$f":"IF(AND('SD DATA Paste'!B102=\"\"),\"\",'SD DATA Paste'!B102)","v":""}]

{"sheet":"Marks Entry","index":4,"n_rows":107,"n_cols":88,"rows_kept":107,"merged":[[0,0,1,4],[0,7,1,8],[0,9,1,13],[0,14,1,18],[0,55,2,57],[1,19,1,20],[1,21,1,23],[1,24,1,27],[1,28,1,29],[1,30,1,32],[1,33,1,36],[1,37,1,38],[1,39,1,41],[1,42,1,45],[1,46,1,47],[1,48,1,50],[1,51,1,54],[2,0,6,0],[2,1,6,1],[2,2,6,2],[2,3,6,3],[2,4,3,6],[2,7,6,7],[2,8,6,8],[2,9,2,13],[2,14,2,18],[2,19,2,20],[2,21,2,23],[2,24,2,27],[2,28,2,29],[2,30,2,32],[2,33,2,36],[2,37,2,38],[2,39,2,41],[2,42,2,45],[2,46,2,47],[2,48,2,50],[2,51,2,54],[3,9,3,11],[3,12,5,12],[3,13,5,13],[3,14,3,16],[3,17,5,17],[3,18,5,18],[3,19,5,19],[3,20,5,20],[3,21,3,23],[3,24,4,24],[3,25,4,25],[3,26,4,27],[3,28,5,28],[3,29,5,29],[3,30,3,32],[3,33,4,33],[3,34,4,34],[3,35,4,36],[3,37,5,37],[3,38,5,38],[3,39,3,41],[3,42,4,42],[3,43,4,43],[3,44,4,45],[3,46,5,46],[3,47,5,47],[3,48,3,50],[3,51,4,51],[3,52,4,52],[3,53,4,54],[3,55,3,57],[4,4,6,4],[4,5,6,5],[4,6,6,6],[4,9,5,9],[4,10,5,10],[4,11,5,11],[4,14,5,14],[4,15,5,15],[4,16,5,16],[4,21,5,21],[4,22,5,22],[4,23,5,23],[4,30,5,30],[4,31,5,31],[4,32,5,32],[4,39,5,39],[4,40,5,40],[4,41,5,41],[4,48,5,48],[4,49,5,49],[4,50,5,50],[4,55,5,55],[4,56,5,56],[4,57,5,57],[6,24,6,25],[6,33,6,34],[6,42,6,43],[6,51,6,52]]}
[{"$f":"CONCATENATE(\"School Name :-\",\"  \",'Master sheet'!C8)","v":"School Name :-  Governt Senior Secondary School INDERWARA"},{"$nulls":4},"Session","Class",null,null,"Com. Hindi",{"$nulls":4},"Com. English",{"$nulls":4},"P",null,null,"P",null,null,"P",null,null,"T",null,null,"T",null,null,"T",null,null,"P",null,null,"P",null,null,"SP",null,null,"T",null,null,"VC",null,null,"VC",null,null,"JEEVAN KAUSHAL"]
[{"$nulls":5},"2019-20",{"$f":"CONCATENATE(11,\"'\",'Master sheet'!C7,\"'\")","v":"11'A'"},{"$nulls":12},"POLITICAL SCIENCE",{"$nulls":4},"BIOLOGY",{"$nulls":3},"HISTORY",{"$nulls":8},"GEOGRAPHY",null,"HINDI LITERATURE",{"$nulls":6},"MATHEMATICS",null,"BEAUTY AND HEALTH",null,null,"ELECTRICALS AND ELECTRONICS"]
["S. N.","Roll No.","Student Sr. No.","Date of Birth","RESULT ENTRY SHEET",null,null,"Category","Gender","Mangilal Rangi",{"$nulls":4},"Mishri lal",{"$nulls":4},"Heera lal jat",{"$nulls":4},"Kamlesh",{"$nulls":3},"Bhagwan singh",{"$nulls":8},"Kalyan Singh",null,"Rajiv",{"$nulls":6},"Manhendra patel",null,"mangi lal rangi",null,null,"Bhalaram "]
[{"$nulls":9},"Seasonal Exam",null,null,"Half yearly","Achieved for Overall performance of the student in academic activities","Seasonal Exam",null,null,"Half yearly","Achieved for Overall performance of the student in academic activities",null,"OPTIONAL 1","Seasonal Exam",null,null,"Half yearly TH.","Half yearly Prac.","Achieved for Overall performance of the student in academic activities",null,null,"OPTIONAL 2","Seasonal Exam",null,null,"Half yearly TH.","Half yearly Prac.","Achieved for Overall performance of the student in academic activities",null,null,"OPTIONAL 3","Seasonal Exam",null,null,"Half yearly TH.","Half yearly Prac.","Achieved for Overall performance of the student in academic activities",null,"Additional","OPTIONAL 4","Seasonal Exam",null,null,"Half yearly TH.","Half yearly Prac.","Achieved for Overall performance of the student in academic activities",null,"Bhagwan singh"]
[{"$nulls":4},"Student Name","Father Name","Mother Name",null,null,"1st Test","2nd Test","3rd Test",null,null,"1st Test","2nd Test","3rd Test",{"$nulls":4},"1st Test","2nd Test","3rd Test",{"$nulls":6},"1st Test","2nd Test","3rd Test",{"$nulls":6},"1st Test","2nd Test","3rd Test",{"$nulls":6},"1st Test","2nd Test","3rd Test",{"$nulls":4},"CONT. ASSMNT.","CONT. ASSMNT.","Overall performance of the student"]
[{"$nulls":24},50,20,70,30,{"$nulls":5},50,20,70,30,{"$nulls":5},50,20,70,30,{"$nulls":5},50,20,70,30]
[{"$nulls":9},10,10,10,70,100,10,10,10,70,100,"CODE","Subject",10,10,10,70,null,100,null,"CODE","Subject",10,10,10,70,null,100,null,"CODE","Subject",10,10,10,70,null,100,null,"CODE","Subject",10,10,10,70,null,100,null,30,30,40]
[1,{"$f":"IF('Student DATA Entry'!A3=\"\",\"\",'Student DATA Entry'!A3)","v":1101},{"$f":"IF('Student DATA Entry'!B3=\"\",\"\",'Student DATA Entry'!B3)","v":1},{"$f":"IF('Student DATA Entry'!G3=\"\",\"\",'Student DATA Entry'!G3)","v":"10-04-2003"},{"$f":"IF('Student DATA Entry'!C3=\"\",\"\",'Student DATA Entry'!C3)","v":"AARTI"},{"$f":"IF('Student DATA Entry'!D3=\"\",\"\",'Student DATA Entry'!D3)","v":"MANGI LAL"},{"$f":"IF('Student DATA Entry'!E3=\"\",\"\",'Student DATA Entry'!E3)","v":"BHAGAVATI DEVI"},{"$f":"IF('Student DATA Entry'!H3=\"\",\"\",'Student DATA Entry'!H3)","v":"SC"},{"$f":"IF('Student DATA Entry'!F3=\"\",\"\",'Student DATA Entry'!F3)","v":"F"},10,9,10,63,90,4,7,8,51,27,1,{"$f":"IFERROR(IF(AND($T$2=\"\",$V$2=\"\",$Y$2=\"\"),\"\",IF(T8=\"\",\"\",IF(T8=1,T$2,IF(T8=2,V$2,IF(T8=3,Y$2,\"\"))))),\"\")","v":"POLITICAL SCIENCE"},8,7,8,36,20,100,null,1,{"$f":"IFERROR(IF(AND($T$2=\"\",$V$2=\"\",$Y$2=\"\"),\"\",IF(AC8=\"\",\"\",IF(AC8=1,AC$2,IF(AC8=2,AE$2,IF(AC8=3,AH$2,\"\"))))),\"\")","v":"HISTORY"},8,9,10,46,20,100,null,1,{"$f":"IFERROR(IF(AND($T$2=\"\",$V$2=\"\",$Y$2=\"\"),\"\",IF(AL8=\"\",\"\",IF(AL8=1,AL$2,IF(AL8=2,AN$2,IF(AL8=3,AQ$2,\"\"))))),\"\")","v":"GEOGRAPHY"},4,4,6,45,20,100,null,1,{"$f":"IFERROR(IF(AND($T$2=\"\",$V$2=\"\",$Y$2=\"\"),\"\",IF(AU8=\"\",\"\",IF(AU8=1,AU$2,IF(AU8=2,AW$2,IF(AU8=3,AZ$2,\"\"))))),\"\")","v":"MATHEMATICS"},9,7,9,70,null,100,null,21,21,21]
[2,{"$f":"IF('Student DATA Entry'!A4=\"\",\"\",'Student DATA Entry'!A4)","v":1102},{"$f":"IF('Student DATA Entry'!B4=\"\",\"\",'Student DATA Entry'!B4)","v":107},{"$f":"IF('Student DATA Entry'!G4=\"\",\"\",'Student DATA Entry'!G4)","v":"11-03-2005"},{"$f":"IF('Student DATA Entry'!C4=\"\",\"\",'Student DATA Entry'!C4)","v":"ANJU CHOUDHARY"},{"$f":"IF('Student DATA Entry'!D4=\"\",\"\",'Student DATA Entry'!D4)","v":"FUA RAM"},{"$f":"IF('Student DATA Entry'!E4=\"\",\"\",'Student DATA Entry'!E4)","v":"CHAMPA DEVI"},{"$f":"IF('Student DATA Entry'!H4=\"\",\"\",'Student DATA Entry'!H4)","v":"OBC"},{"$f":"IF('Student DATA Entry'!F4=\"\",\"\",'Student DATA Entry'!F4)","v":"F"},8,9,10,64,80,8,9,10,45,24,1,{"$f":"IFERROR(IF(AND($T$2=\"\",$V$2=\"\",$Y$2=\"\"),\"\",IF(T9=\"\",\"\",IF(T9=1,T$2,IF(T9=2,V$2,IF(T9=3,Y$2,\"\"))))),\"\")","v":"POLITICAL SCIENCE"},8,9,10,40,19,100,null,1,{"$f":"IFERROR(IF(AND($T$2=\"\",$V$2=\"\",$Y$2=\"\"),\"\",IF(AC9=\"\",\"\",IF(AC9=1,AC$2,IF(AC9=2,AE$2,IF(AC9=3,AH$2,\"\"))))),\"\")","v":"HISTORY"},8,9,10,42,19,100,null,2,{"$f":"IFERROR(IF(AND($T$2=\"\",$V$2=\"\",$Y$2=\"\"),\"\",IF(AL9=\"\",\"\",IF(AL9=1,AL$2,IF(AL9=2,AN$2,IF(AL9=3,AQ$2,\"\"))))),\"\")","v":"HINDI LITERATURE"},8,9,10,41,19,100,null,1,{"$f":"IFERROR(IF(AND($T$2=\"\",$V$2=\"\",$Y$2=\"\"),\"\",IF(AU9=\"\",\"\",IF(AU9=1,AU$2,IF(AU9=2,AW$2,IF(AU9=3,AZ$2,\"\"))))),\"\")","v":"MATHEMATICS"},8,9,10,40,19,100,null,29,22,23]
[3,{"$f":"IF('Student DATA Entry'!A5=\"\",\"\",'Student DATA Entry'!A5)","v":1103},{"$f":"IF('Student DATA Entry'!B5=\"\",\"\",'Student DATA Entry'!B5)","v":457},{"$f":"IF('Student DATA Entry'!G5=\"\",\"\",'Student DATA Entry'!G5)","v":"05-08-2004"},{"$f":"IF('Student DATA Entry'!C5=\"\",\"\",'Student DATA Entry'!C5)","v":"ARUN DEWASI"},{"$f":"IF('Student DATA Entry'!D5=\"\",\"\",'Student DATA Entry'!D5)","v":"SUJA RAM"},{"$f":"IF('Student DATA Entry'!E5=\"\",\"\",'Student DATA Entry'!E5)","v":"KANIYA DEVI"},{"$f":"IF('Student DATA Entry'!H5=\"\",\"\",'Student DATA Entry'!H5)","v":"SBC"},{"$f":"IF('Student DATA Entry'!F5=\"\",\"\",'Student DATA Entry'!F5)","v":"M"},9,9,10,63,70,9,9,10,49,27,1,"POLITICAL SCIENCE",9,9,10,45,null,100,null,1,"HISTORY",9,9,10,54,null,100,null,1,"GEOGRAPHY",9,9,10,54,null,100,null,2,{"$f":"IFERROR(IF(AND($T$2=\"\",$V$2=\"\",$Y$2=\"\"),\"\",IF(AU10=\"\",\"\",IF(AU10=1,AU$2,IF(AU10=2,AW$2,IF(AU10=3,AZ$2,\"\"))))),\"\")","v":"BEAUTY AND HEALTH"},9,9,10,54,null,69,30,30,22,23]
[4,{"$f":"IF('Student DATA Entry'!A6=\"\",\"\",'Student DATA Entry'!A6)","v":1104},{"$f":"IF('Student DATA Entry'!B6=\"\",\"\",'Student DATA Entry'!B6)","v":234},{"$f":"IF('Student DATA Entry'!G6=\"\",\"\",'Student DATA Entry'!G6)","v":"08-05-2004"},{"$f":"IF('Student DATA Entry'!C6=\"\",\"\",'Student DATA Entry'!C6)","v":"BHAVANI SINGH"},{"$f":"IF('Student DATA Entry'!D6=\"\",\"\",'Student DATA Entry'!D6)","v":"HADMAT SINGH"},{"$f":"IF('Student DATA Entry'!E6=\"\",\"\",'Student DATA Entry'!E6)","v":"KISHOR KANWAR"},{"$f":"IF('Student DATA Entry'!H6=\"\",\"\",'Student DATA Entry'!H6)","v":"GEN"},{"$f":"IF('Student DATA Entry'!F6=\"\",\"\",'Student DATA Entry'!F6)","v":"M"},5,7,8,56,60,5,7,8,32,19,1,"POLITICAL SCIENCE",5,7,8,32,20,100,null,1,"HISTORY",5,7,8,32,null,100,null,1,"GEOGRAPHY",5,7,8,32,null,100,null,2,"BEAUTY AND HEALTH",5,7,8,32,null,60,30,29,22,23]
[5,{"$f":"IF('Student DATA Entry'!A7=\"\",\"\",'Student DATA Entry'!A7)","v":1105},{"$f":"IF('Student DATA Entry'!B7=\"\",\"\",'Student DATA Entry'!B7)","v":356},{"$f":"IF('Student DATA Entry'!G7=\"\",\"\",'Student DATA Entry'!G7)","v":"25-03-2003"},{"$f":"IF('Student DATA Entry'!C7=\"\",\"\",'Student DATA Entry'!C7)","v":"BHAWANA KANWAR"},{"$f":"IF('Student DATA Entry'!D7=\"\",\"\",'Student DATA Entry'!D7)","v":"DALPAT SINGH"},{"$f":"IF('Student DATA Entry'!E7=\"\",\"\",'Student DATA Entry'!E7)","v":"SHYAM KANWAR"},{"$f":"IF('Student DATA Entry'!H7=\"\",\"\",'Student DATA Entry'!H7)","v":"GEN"},{"$f":"IF('Student DATA Entry'!F7=\"\",\"\",'Student DATA Entry'!F7)","v":"F"},"NA","NA",10,36,10,7,9,10,36,30,1,"POLITICAL SCIENCE",7,9,10,36,null,100,null,1,"HISTORY",7,3,10,"ab","ab",100,null,1,"GEOGRAPHY",7,9,10,36,null,100,null,3,"ELECTRICALS AND ELECTRONICS",7,9,10,36,null,57,30,30,22,23,{"$nulls":24},"CODE","P","T","SP","OPS","VC"]
[6,{"$f":"IF('Student DATA Entry'!A8=\"\",\"\",'Student DATA Entry'!A8)","v":1106},{"$f":"IF('Student DATA Entry'!B8=\"\",\"\",'Student DATA Entry'!B8)","v":434},{"$f":"IF('Student DATA Entry'!G8=\"\",\"\",'Student DATA Entry'!G8)","v":"24-10-2003"},{"$f":"IF('Student DATA Entry'!C8=\"\",\"\",'Student DATA Entry'!C8)","v":"DEEPENDRA SINGH"},{"$f":"IF('Student DATA Entry'!D8=\"\",\"\",'Student DATA Entry'!D8)","v":"RAVAT VSINGH"},{"$f":"IF('Student DATA Entry'!E8=\"\",\"\",'Student DATA Entry'!E8)","v":"KAILASH KANWAR"},{"$f":"IF('Student DATA Entry'!H8=\"\",\"\",'Student DATA Entry'!H8)","v":"GEN"},{"$f":"IF('Student DATA Entry'!F8=\"\",\"\",'Student DATA Entry'!F8)","v":"M"},10,9,10,63,"ab",10,9,10,63,"ab",1,"POLITICAL SCIENCE",10,9,10,63,null,100,null,1,"HISTORY",10,9,10,63,null,100,null,1,"GEOGRAPHY",10,9,10,63,null,100,null,3,"ELECTRICALS AND ELECTRONICS",10,9,10,63,null,60,30,28,22,23,{"$nulls":24},"P",{"$f":"IF(AND('Master sheet'!H5=\"\"),\"\",'Master sheet'!H5)","v":"AGRICULTURE"},{"$f":"IF(AND('Master sheet'!H23=\"\"),\"\",'Master sheet'!H23)","v":"ACCOUNTANCY"},{"$f":"IF(AND('Master sheet'!M5=\"\"),\"\",'Master sheet'!M5)","v":"DANCE KATTHAK "},{"$f":"IF(AND('Master sheet'!M20=\"\"),\"\",'Master sheet'!M20)","v":"SHORT HAND (ENGLISH)"},{"$f":"IF(AND('Master sheet'!M31=\"\"),\"\",'Master sheet'!M31)","v":"AUTOMOBILE"}]
[7,{"$f":"IF('Student DATA Entry'!A9=\"\",\"\",'Student DATA Entry'!A9)","v":1107},{"$f":"IF('Student DATA Entry'!B9=\"\",\"\",'Student DATA Entry'!B9)","v":439},{"$f":"IF('Student DATA Entry'!G9=\"\",\"\",'Student DATA Entry'!G9)","v":"27-10-2003"},{"$f":"IF('Student DATA Entry'!C9=\"\",\"\",'Student DATA Entry'!C9)","v":"LOHAR KAJAL"},{"$f":"IF('Student DATA Entry'!D9=\"\",\"\",'Student DATA Entry'!D9)","v":"MITHA LAL"},{"$f":"IF('Student DATA Entry'!E9=\"\",\"\",'Student DATA Entry'!E9)","v":"SAVITA"},{"$f":"IF('Student DATA Entry'!H9=\"\",\"\",'Student DATA Entry'!H9)","v":"OBC"},{"$f":"IF('Student DATA Entry'!F9=\"\",\"\",'Student DATA Entry'!F9)","v":"F"},3,"AB","ML",5,10,7,9,9,57,20,1,"POLITICAL SCIENCE",7,9,9,57,null,100,null,1,"HISTORY",7,9,9,57,null,100,null,2,"HINDI LITERATURE",7,9,9,57,null,100,null,null,{"$f":"IFERROR(IF(AND($T$2=\"\",$V$2=\"\",$Y$2=\"\"),\"\",IF(AU14=\"\",\"\",IF(AU14=1,AU$2,IF(AU14=2,AW$2,IF(AU14=3,AZ$2,\"\"))))),\"\")","v":""},7,9,9,57,null,55,30,28,22,23,{"$nulls":24},"T",{"$f":"IF(AND('Master sheet'!H6=\"\"),\"\",'Master sheet'!H6)","v":"AGRICULTURE BIOLOGY"},{"$f":"IF(AND('Master sheet'!H24=\"\"),\"\",'Master sheet'!H24)","v":"BUSINESS STUDIES"},{"$f":"IF(AND('Master sheet'!M6=\"\"),\"\",'Master sheet'!M6)","v":"DRAWING"},{"$f":"IF(AND('Master sheet'!M21=\"\"),\"\",'Master sheet'!M21)","v":"SHORT HAND (HINDI)"},{"$f":"IF(AND('Master sheet'!M32=\"\"),\"\",'Master sheet'!M32)","v":"BEAUTY AND HEALTH"}]
[8,{"$f":"IF('Student DATA Entry'!A10=\"\",\"\",'Student DATA Entry'!A10)","v":1108},{"$f":"IF('Student DATA Entry'!B10=\"\",\"\",'Student DATA Entry'!B10)","v":438},{"$f":"IF('Student DATA Entry'!G10=\"\",\"\",'Student DATA Entry'!G10)","v":"03-09-2003"},{"$f":"IF('Student DATA Entry'!C10=\"\",\"\",'Student DATA Entry'!C10)","v":"MEENA KANWAR"},{"$f":"IF('Student DATA Entry'!D10=\"\",\"\",'Student DATA Entry'!D10)","v":"CHHATAR SINGH"},{"$f":"IF('Student DATA Entry'!E10=\"\",\"\",'Student DATA Entry'!E10)","v":"JANGAL KANWAR"},{"$f":"IF('Student DATA Entry'!H10=\"\",\"\",'Student DATA Entry'!H10)","v":"GEN"},{"$f":"IF('Student DATA Entry'!F10=\"\",\"\",'Student DATA Entry'!F10)","v":"F"},1,2,3,5,5,2,2,2,5,10,1,"POLITICAL SCIENCE",3,3,3,70,null,100,null,1,"HISTORY",5,5,5,10,null,100,null,2,"HINDI LITERATURE",4,4,4,14,null,100,null,null,"",6,6,6,6,null,58,30,28,22,23,{"$nulls":24},"SP",{"$f":"IF(AND('Master sheet'!H7=\"\"),\"\",'Master sheet'!H7)","v":"AGRICULTURE CHEMISTRY"},{"$f":"IF(AND('Master sheet'!H25=\"\"),\"\",'Master sheet'!H25)","v":"ECONOMICS"},{"$f":"IF(AND('Master sheet'!M7=\"\"),\"\",'Master sheet'!M7)","v":"MUSIC INSTR. DILRUBA"},{"$f":"IF(AND('Master sheet'!M22=\"\"),\"\",'Master sheet'!M22)","v":"TYPING"},{"$f":"IF(AND('Master sheet'!M33=\"\"),\"\",'Master sheet'!M33)","v":"DRESS DESIGNING AND HOME DECORATION"}]
[9,{"$f":"IF('Student DATA Entry'!A11=\"\",\"\",'Student DATA Entry'!A11)","v":1109},{"$f":"IF('Student DATA Entry'!B11=\"\",\"\",'Student DATA Entry'!B11)","v":429},{"$f":"IF('Student DATA Entry'!G11=\"\",\"\",'Student DATA Entry'!G11)","v":"04-09-2003"},{"$f":"IF('Student DATA Entry'!C11=\"\",\"\",'Student DATA Entry'!C11)","v":"NARESH KUMAR"},{"$f":"IF('Student DATA Entry'!D11=\"\",\"\",'Student DATA Entry'!D11)","v":"DHALA RAM "},{"$f":"IF('Student DATA Entry'!E11=\"\",\"\",'Student DATA Entry'!E11)","v":"SARSVATI "},{"$f":"IF('Student DATA Entry'!H11=\"\",\"\",'Student DATA Entry'!H11)","v":"SC"},{"$f":"IF('Student DATA Entry'!F11=\"\",\"\",'Student DATA Entry'!F11)","v":"M"},"AB","AB","AB","AB",14,9,9,9,37,"ab",1,"POLITICAL SCIENCE",9,9,9,37,null,100,null,1,"HISTORY",9,9,9,37,null,100,null,2,"HINDI LITERATURE",9,9,9,37,null,100,null,null,"",9,9,9,37,null,100,null,27,22,23,{"$nulls":24},"OPS",{"$f":"IF(AND('Master sheet'!H8=\"\"),\"\",'Master sheet'!H8)","v":"BIOLOGY"},{"$f":"IF(AND('Master sheet'!H26=\"\"),\"\",'Master sheet'!H26)","v":"ENGLISH LITERATURE"},{"$f":"IF(AND('Master sheet'!M8=\"\"),\"\",'Master sheet'!M8)","v":"MUSIC INSTR. FLUTE"},{"$f":"IF(AND('Master sheet'!M23=\"\"),\"\",'Master sheet'!M23)","v":"TYPING (ENGLISH)"},{"$f":"IF(AND('Master sheet'!M34=\"\"),\"\",'Master sheet'!M34)","v":"ELECTRICALS AND ELECTRONICS"}]
[10,{"$f":"IF('Student DATA Entry'!A12=\"\",\"\",'Student DATA Entry'!A12)","v":1110},{"$f":"IF('Student DATA Entry'!B12=\"\",\"\",'Student DATA Entry'!B12)","v":428},{"$f":"IF('Student DATA Entry'!G12=\"\",\"\",'Student DATA Entry'!G12)","v":"12-05-2003"},{"$f":"IF('Student DATA Entry'!C12=\"\",\"\",'Student DATA Entry'!C12)","v":"PANKAJ KUMAR"},{"$f":"IF('Student DATA Entry'!D12=\"\",\"\",'Student DATA Entry'!D12)","v":"KUKA RAM"},{"$f":"IF('Student DATA Entry'!E12=\"\",\"\",'Student DATA Entry'!E12)","v":"FULI DEVI"},{"$f":"IF('Student DATA Entry'!H12=\"\",\"\",'Student DATA Entry'!H12)","v":"SC"},{"$f":"IF('Student DATA Entry'!F12=\"\",\"\",'Student DATA Entry'!F12)","v":"M"},"AB","AB",8,44,10,7,10,8,44,"ab",1,"POLITICAL SCIENCE",7,10,8,"ab",15,100,null,1,"HISTORY",7,10,8,70,null,100,null,1,"GEOGRAPHY",7,10,8,44,null,100,null,null,"",7,10,8,44,null,100,null,30,30,40,{"$nulls":24},"VC",{"$f":"IF(AND('Master sheet'!H9=\"\"),\"\",'Master sheet'!H9)","v":"CHEMISTRY"},{"$f":"IF(AND('Master sheet'!H27=\"\"),\"\",'Master sheet'!H27)","v":"ENVIRONMENTAL STUDIES"},{"$f":"IF(AND('Master sheet'!M9=\"\"),\"\",'Master sheet'!M9)","v":"MUSIC INSTR. FLUTE"},{"$f":"IF(AND('Master sheet'!M24=\"\"),\"\",'Master sheet'!M24)","v":"TYPING HINDI"},{"$f":"IF(AND('Master sheet'!M35=\"\"),\"\",'Master sheet'!M35)","v":"HEALTH CARE"}]
[11,{"$f":"IF('Student DATA Entry'!A13=\"\",\"\",'Student DATA Entry'!A13)","v":1111},{"$f":"IF('Student DATA Entry'!B13=\"\",\"\",'Student DATA Entry'!B13)","v":117},{"$f":"IF('Student DATA Entry'!G13=\"\",\"\",'Student DATA Entry'!G13)","v":"07-04-2004"},{"$f":"IF('Student DATA Entry'!C13=\"\",\"\",'Student DATA Entry'!C13)","v":"PAPIYA DEVI DEVASI"},{"$f":"IF('Student DATA Entry'!D13=\"\",\"\",'Student DATA Entry'!D13)","v":"FUA RAM"},{"$f":"IF('Student DATA Entry'!E13=\"\",\"\",'Student DATA Entry'!E13)","v":"DAGRI DEVI"},{"$f":"IF('Student DATA Entry'!H13=\"\",\"\",'Student DATA Entry'!H13)","v":"SBC"},{"$f":"IF('Student DATA Entry'!F13=\"\",\"\",'Student DATA Entry'!F13)","v":"F"},"AB","AB",8,"ab",11,4,7,8,30,30,1,"POLITICAL SCIENCE",4,7,8,30,"ab",100,null,1,"HISTORY",4,7,8,30,null,100,null,1,"GEOGRAPHY",4,7,8,30,null,100,null,null,"",4,7,8,30,null,100,null,26,30,40,{"$nulls":25},{"$f":"IF(AND('Master sheet'!H10=\"\"),\"\",'Master sheet'!H10)","v":"COMPUTER SCIENCE"},{"$f":"IF(AND('Master sheet'!H28=\"\"),\"\",'Master sheet'!H28)","v":"FARSI LITERATURE"},{"$f":"IF(AND('Master sheet'!M10=\"\"),\"\",'Master sheet'!M10)","v":"MUSIC INSTR. GUITAR"},{"$f":"IF(AND('Master sheet'!M25=\"\"),\"\",'Master sheet'!M25)","v":""},{"$f":"IF(AND('Master sheet'!M36=\"\"),\"\",'Master sheet'!M36)","v":"INFORMATION TECHNOLOGY Ites"}]
[12,{"$f":"IF('Student DATA Entry'!A14=\"\",\"\",'Student DATA Entry'!A14)","v":1112},{"$f":"IF('Student DATA Entry'!B14=\"\",\"\",'Student DATA Entry'!B14)","v":463},{"$f":"IF('Student DATA Entry'!G14=\"\",\"\",'Student DATA Entry'!G14)","v":"05-04-2004"},{"$f":"IF('Student DATA Entry'!C14=\"\",\"\",'Student DATA Entry'!C14)","v":"PRAVIN KUMAR"},{"$f":"IF('Student DATA Entry'!D14=\"\",\"\",'Student DATA Entry'!D14)","v":"RUPA RAM"},{"$f":"IF('Student DATA Entry'!E14=\"\",\"\",'Student DATA Entry'!E14)","v":"PYARI DEVI"},{"$f":"IF('Student DATA Entry'!H14=\"\",\"\",'Student DATA Entry'!H14)","v":"SC"},{"$f":"IF('Student DATA Entry'!F14=\"\",\"\",'Student DATA Entry'!F14)","v":"M"},6,8,10,43,12,6,8,10,43,"ab",1,"POLITICAL SCIENCE",6,8,10,43,null,100,null,1,"HISTORY",6,8,10,43,null,100,null,1,"GEOGRAPHY",6,8,10,43,null,100,null,null,"",6,8,10,43,null,100,null,27,30,40,{"$nulls":25},{"$f":"IF(AND('Master sheet'!H11=\"\"),\"\",'Master sheet'!H11)","v":"GEO SCIENCE"},{"$f":"IF(AND('Master sheet'!H29=\"\"),\"\",'Master sheet'!H29)","v":"GUJRATI LITERATURE"},{"$f":"IF(AND('Master sheet'!M11=\"\"),\"\",'Master sheet'!M11)","v":"MUSIC INSTR. PKHAAVAJ"},{"$f":"IF(AND('Master sheet'!M26=\"\"),\"\",'Master sheet'!M26)","v":""},{"$f":"IF(AND('Master sheet'!M37=\"\"),\"\",'Master sheet'!M37)","v":"MICRO IRRIGATION SYSTEM"}]
[13,{"$f":"IF('Student DATA Entry'!A15=\"\",\"\",'Student DATA Entry'!A15)","v":1113},{"$f":"IF('Student DATA Entry'!B15=\"\",\"\",'Student DATA Entry'!B15)","v":307},{"$f":"IF('Student DATA Entry'!G15=\"\",\"\",'Student DATA Entry'!G15)","v":"04-05-2002"},{"$f":"IF('Student DATA Entry'!C15=\"\",\"\",'Student DATA Entry'!C15)","v":"RINKU ANKIYA"},{"$f":"IF('Student DATA Entry'!D15=\"\",\"\",'Student DATA Entry'!D15)","v":"PRAVEEN KUMAR"},{"$f":"IF('Student DATA Entry'!E15=\"\",\"\",'Student DATA Entry'!E15)","v":"MANJU DEVI"},{"$f":"IF('Student DATA Entry'!H15=\"\",\"\",'Student DATA Entry'!H15)","v":"SC"},{"$f":"IF('Student DATA Entry'!F15=\"\",\"\",'Student DATA Entry'!F15)","v":"F"},6,8,"AB","AB","ab",6,8,9,47,50,1,"POLITICAL SCIENCE",6,8,9,47,null,100,null,1,"HISTORY",6,8,9,47,null,100,null,1,"GEOGRAPHY",6,8,9,47,null,100,null,null,"",6,8,9,47,null,100,null,28,30,40,{"$nulls":25},{"$f":"IF(AND('Master sheet'!H12=\"\"),\"\",'Master sheet'!H12)","v":"GEOGRAPHY"},{"$f":"IF(AND('Master sheet'!H30=\"\"),\"\",'Master sheet'!H30)","v":"HINDI LITERATURE"},{"$f":"IF(AND('Master sheet'!M12=\"\"),\"\",'Master sheet'!M12)","v":"MUSIC INSTR. SAROD"},{"$f":"IF(AND('Master sheet'!M27=\"\"),\"\",'Master sheet'!M27)","v":""},{"$f":"IF(AND('Master sheet'!M38=\"\"),\"\",'Master sheet'!M38)","v":"PERSONAL SECURITY"}]
[14,{"$f":"IF('Student DATA Entry'!A16=\"\",\"\",'Student DATA Entry'!A16)","v":1114},{"$f":"IF('Student DATA Entry'!B16=\"\",\"\",'Student DATA Entry'!B16)","v":348},{"$f":"IF('Student DATA Entry'!G16=\"\",\"\",'Student DATA Entry'!G16)","v":"18-01-2004"},{"$f":"IF('Student DATA Entry'!C16=\"\",\"\",'Student DATA Entry'!C16)","v":"SUMAN KANWAR"},{"$f":"IF('Student DATA Entry'!D16=\"\",\"\",'Student DATA Entry'!D16)","v":"DEVI SINGH"},{"$f":"IF('Student DATA Entry'!E16=\"\",\"\",'Student DATA Entry'!E16)","v":"ANOP KANWAR"},{"$f":"IF('Student DATA Entry'!H16=\"\",\"\",'Student DATA Entry'!H16)","v":"GEN"},{"$f":"IF('Student DATA Entry'!F16=\"\",\"\",'Student DATA Entry'!F16)","v":"F"},6,6,7,"ab",16,6,6,"AB",35,40,1,"POLITICAL SCIENCE",6,8,9,47,null,100,null,1,"HISTORY",6,8,"AB",35,null,100,null,1,"GEOGRAPHY",6,6,"AB",35,null,100,null,null,"",6,6,"AB",35,null,100,null,29,30,40,{"$nulls":25},{"$f":"IF(AND('Master sheet'!H13=\"\"),\"\",'Master sheet'!H13)","v":"HOME SCIENCE"},{"$f":"IF(AND('Master sheet'!H31=\"\"),\"\",'Master sheet'!H31)","v":"HISTORY"},{"$f":"IF(AND('Master sheet'!M13=\"\"),\"\",'Master sheet'!M13)","v":"MUSIC INSTR. SITARA"},{"$f":"IF(AND('Master sheet'!M28=\"\"),\"\",'Master sheet'!M28)","v":""},{"$f":"IF(AND('Master sheet'!M39=\"\"),\"\",'Master sheet'!M39)","v":"RETAIL SALE"}]
[15,{"$f":"IF('Student DATA Entry'!A17=\"\",\"\",'Student DATA Entry'!A17)","v":1115},{"$f":"IF('Student DATA Entry'!B17=\"\",\"\",'Student DATA Entry'!B17)","v":466},{"$f":"IF('Student DATA Entry'!G17=\"\",\"\",'Student DATA Entry'!G17)","v":"10-07-2004"},{"$f":"IF('Student DATA Entry'!C17=\"\",\"\",'Student DATA Entry'!C17)","v":"YUVRAJ SINGH"},{"$f":"IF('Student DATA Entry'!D17=\"\",\"\",'Student DATA Entry'!D17)","v":"GANPAT SINGH"},{"$f":"IF('Student DATA Entry'!E17=\"\",\"\",'Student DATA Entry'!E17)","v":"MUNNA KANWAR"},{"$f":"IF('Student DATA Entry'!H17=\"\",\"\",'Student DATA Entry'!H17)","v":"GEN"},{"$f":"IF('Student DATA Entry'!F17=\"\",\"\",'Student DATA Entry'!F17)","v":"M"},10,10,10,57,50,10,10,10,57,60,1,"POLITICAL SCIENCE",10,8,9,47,null,100,null,1,"HISTORY",6,8,10,57,null,100,null,1,"GEOGRAPHY",10,10,10,57,null,100,null,null,"",10,10,10,57,null,100,null,30,28,30,{"$nulls":25},{"$f":"IF(AND('Master sheet'!H14=\"\"),\"\",'Master sheet'!H14)","v":"INFORMATION PRACTICE"},{"$f":"IF(AND('Master sheet'!H32=\"\"),\"\",'Master sheet'!H32)","v":"MATHEMATICS"},{"$f":"IF(AND('Master sheet'!M14=\"\"),\"\",'Master sheet'!M14)","v":"MUSIC INSTR. TABLA"},{"$f":"IF(AND('Master sheet'!M29=\"\"),\"\",'Master sheet'!M29)","v":""},{"$f":"IF(AND('Master sheet'!M40=\"\"),\"\",'Master sheet'!M40)","v":"TOURISM AND TRAVEL"}]
[16,{"$f":"IF('Student DATA Entry'!A18=\"\",\"\",'Student DATA Entry'!A18)","v":""},{"$f":"IF('Student DATA Entry'!B18=\"\",\"\",'Student DATA Entry'!B18)","v":""},{"$f":"IF('Student DATA Entry'!G18=\"\",\"\",'Student DATA Entry'!G18)","v":""},{"$f":"IF('Student DATA Entry'!C18=\"\",\"\",'Student DATA Entry'!C18)","v":""},{"$f":"IF('Student DATA Entry'!D18=\"\",\"\",'Student DATA Entry'!D18)","v":""},{"$f":"IF('Student DATA Entry'!E18=\"\",\"\",'Student DATA Entry'!E18)","v":""},{"$f":"IF('Student DATA Entry'!H18=\"\",\"\",'Student DATA Entry'!H18)","v":""},{"$f":"IF('Student DATA Entry'!F18=\"\",\"\",'Student DATA Entry'!F18)","v":""},{"$nulls":74},{"$f":"IF(AND('Master sheet'!H15=\"\"),\"\",'Master sheet'!H15)","v":"INFORMATION TECHNOLOGY AND PROCESSING 1"},{"$f":"IF(AND('Master sheet'!H33=\"\"),\"\",'Master sheet'!H33)","v":"PHILOSOPHY"},{"$f":"IF(AND('Master sheet'!M15=\"\"),\"\",'Master sheet'!M15)","v":"MUSIC VOCAL "},null,{"$f":"IF(AND('Master sheet'!M41=\"\"),\"\",'Master sheet'!M41)","v":""}]
[17,{"$f":"IF('Student DATA Entry'!A19=\"\",\"\",'Student DATA Entry'!A19)","v":""},{"$f":"IF('Student DATA Entry'!B19=\"\",\"\",'Student DATA Entry'!B19)","v":""},{"$f":"IF('Student DATA Entry'!G19=\"\",\"\",'Student DATA Entry'!G19)","v":""},{"$f":"IF('Student DATA Entry'!C19=\"\",\"\",'Student DATA Entry'!C19)","v":""},{"$f":"IF('Student DATA Entry'!D19=\"\",\"\",'Student DATA Entry'!D19)","v":""},{"$f":"IF('Student DATA Entry'!E19=\"\",\"\",'Student DATA Entry'!E19)","v":""},{"$f":"IF('Student DATA Entry'!H19=\"\",\"\",'Student DATA Entry'!H19)","v":""},{"$f":"IF('Student DATA Entry'!F19=\"\",\"\",'Student DATA Entry'!F19)","v":""},{"$nulls":74},{"$f":"IF(AND('Master sheet'!H16=\"\"),\"\",'Master sheet'!H16)","v":"MULTIMEDIA WEB TECH"},{"$f":"IF(AND('Master sheet'!H34=\"\"),\"\",'Master sheet'!H34)","v":"PHYSICAL EDUCATION"},{"$f":"IF(AND('Master sheet'!M16=\"\"),\"\",'Master sheet'!M16)","v":""},null,{"$f":"IF(AND('Master sheet'!M42=\"\"),\"\",'Master sheet'!M42)","v":""}]
[18,{"$f":"IF('Student DATA Entry'!A20=\"\",\"\",'Student DATA Entry'!A20)","v":""},{"$f":"IF('Student DATA Entry'!B20=\"\",\"\",'Student DATA Entry'!B20)","v":""},{"$f":"IF('Student DATA Entry'!G20=\"\",\"\",'Student DATA Entry'!G20)","v":""},{"$f":"IF('Student DATA Entry'!C20=\"\",\"\",'Student DATA Entry'!C20)","v":""},{"$f":"IF('Student DATA Entry'!D20=\"\",\"\",'Student DATA Entry'!D20)","v":""},{"$f":"IF('Student DATA Entry'!E20=\"\",\"\",'Student DATA Entry'!E20)","v":""},{"$f":"IF('Student DATA Entry'!H20=\"\",\"\",'Student DATA Entry'!H20)","v":""},{"$f":"IF('Student DATA Entry'!F20=\"\",\"\",'Student DATA Entry'!F20)","v":""},{"$nulls":74},{"$f":"IF(AND('Master sheet'!H17=\"\"),\"\",'Master sheet'!H17)","v":"PHYSICS"},{"$f":"IF(AND('Master sheet'!H35=\"\"),\"\",'Master sheet'!H35)","v":"POLITICAL SCIENCE"},{"$f":"IF(AND('Master sheet'!M17=\"\"),\"\",'Master sheet'!M17)","v":""},null,{"$f":"IF(AND('Master sheet'!M43=\"\"),\"\",'Master sheet'!M43)","v":""}]
[19,{"$f":"IF('Student DATA Entry'!A21=\"\",\"\",'Student DATA Entry'!A21)","v":""},{"$f":"IF('Student DATA Entry'!B21=\"\",\"\",'Student DATA Entry'!B21)","v":""},{"$f":"IF('Student DATA Entry'!G21=\"\",\"\",'Student DATA Entry'!G21)","v":""},{"$f":"IF('Student DATA Entry'!C21=\"\",\"\",'Student DATA Entry'!C21)","v":""},{"$f":"IF('Student DATA Entry'!D21=\"\",\"\",'Student DATA Entry'!D21)","v":""},{"$f":"IF('Student DATA Entry'!E21=\"\",\"\",'Student DATA Entry'!E21)","v":""},{"$f":"IF('Student DATA Entry'!H21=\"\",\"\",'Student DATA Entry'!H21)","v":""},{"$f":"IF('Student DATA Entry'!F21=\"\",\"\",'Student DATA Entry'!F21)","v":""},{"$nulls":11},"",{"$nulls":8},"",{"$nulls":8},"",{"$nulls":8},"",{"$nulls":35},{"$f":"IF(AND('Master sheet'!H18=\"\"),\"\",'Master sheet'!H18)","v":"PSYCHOLOGY"},{"$f":"IF(AND('Master sheet'!H36=\"\"),\"\",'Master sheet'!H36)","v":"PRAKRIT LITERATURE"},{"$f":"IF(AND('Master sheet'!M18=\"\"),\"\",'Master sheet'!M18)","v":""},null,{"$f":"IF(AND('Master sheet'!M44=\"\"),\"\",'Master sheet'!M44)","v":""}]
[20,{"$f":"IF('Student DATA Entry'!A22=\"\",\"\",'Student DATA Entry'!A22)","v":""},{"$f":"IF('Student DATA Entry'!B22=\"\",\"\",'Student DATA Entry'!B22)","v":""},{"$f":"IF('Student DATA Entry'!G22=\"\",\"\",'Student DATA Entry'!G22)","v":""},{"$f":"IF('Student DATA Entry'!C22=\"\",\"\",'Student DATA Entry'!C22)","v":""},{"$f":"IF('Student DATA Entry'!D22=\"\",\"\",'Student DATA Entry'!D22)","v":""},{"$f":"IF('Student DATA Entry'!E22=\"\",\"\",'Student DATA Entry'!E22)","v":""},{"$f":"IF('Student DATA Entry'!H22=\"\",\"\",'Student DATA Entry'!H22)","v":""},{"$f":"IF('Student DATA Entry'!F22=\"\",\"\",'Student DATA Entry'!F22)","v":""},{"$nulls":11},"",{"$nulls":8},"",{"$nulls":8},"",{"$nulls":8},"",{"$nulls":35},{"$f":"IF(AND('Master sheet'!H19=\"\"),\"\",'Master sheet'!H19)","v":""},{"$f":"IF(AND('Master sheet'!H37=\"\"),\"\",'Master sheet'!H37)","v":"PUBLIC ADMINISTRATION"},null,null,{"$f":"IF(AND('Master sheet'!M45=\"\"),\"\",'Master sheet'!M45)","v":""}]
[21,{"$f":"IF('Student DATA Entry'!A23=\"\",\"\",'Student DATA Entry'!A23)","v":""},{"$f":"IF('Student DATA Entry'!B23=\"\",\"\",'Student DATA Entry'!B23)","v":""},{"$f":"IF('Student DATA Entry'!G23=\"\",\"\",'Student DATA Entry'!G23)","v":""},{"$f":"IF('Student DATA Entry'!C23=\"\",\"\",'Student DATA Entry'!C23)","v":""},{"$f":"IF('Student DATA Entry'!D23=\"\",\"\",'Student DATA Entry'!D23)","v":""},{"$f":"IF('Student DATA Entry'!E23=\"\",\"\",'Student DATA Entry'!E23)","v":""},{"$f":"IF('Student DATA Entry'!H23=\"\",\"\",'Student DATA Entry'!H23)","v":""},{"$f":"IF('Student DATA Entry'!F23=\"\",\"\",'Student DATA Entry'!F23)","v":""},{"$nulls":11},"",{"$nulls":8},"",{"$nulls":8},"",{"$nulls":8},"",{"$nulls":35},{"$f":"IF(AND('Master sheet'!H20=\"\"),\"\",'Master sheet'!H20)","v":""},{"$f":"IF(AND('Master sheet'!H38=\"\"),\"\",'Master sheet'!H38)","v":"PUNJABI LITERATURE"}]
[22,{"$f":"IF('Student DATA Entry'!A24=\"\",\"\",'Student DATA Entry'!A24)","v":""},{"$f":"IF('Student DATA Entry'!B24=\"\",\"\",'Student DATA Entry'!B24)","v":""},{"$f":"IF('Student DATA Entry'!G24=\"\",\"\",'Student DATA Entry'!G24)","v":""},{"$f":"IF('Student DATA Entry'!C24=\"\",\"\",'Student DATA Entry'!C24)","v":""},{"$f":"IF('Student DATA Entry'!D24=\"\",\"\",'Student DATA Entry'!D24)","v":""},{"$f":"IF('Student DATA Entry'!E24=\"\",\"\",'Student DATA Entry'!E24)","v":""},{"$f":"IF('Student DATA Entry'!H24=\"\",\"\",'Student DATA Entry'!H24)","v":""},{"$f":"IF('Student DATA Entry'!F24=\"\",\"\",'Student DATA Entry'!F24)","v":""},{"$nulls":11},"",{"$nulls":8},"",{"$nulls":8},"",{"$nulls":8},"",{"$nulls":35},{"$f":"IF(AND('Master sheet'!H21=\"\"),\"\",'Master sheet'!H21)","v":""},{"$f":"IF(AND('Master sheet'!H39=\"\"),\"\",'Master sheet'!H39)","v":"RAJASTHANI LITERATURE"}]
[23,{"$f":"IF('Student DATA Entry'!A25=\"\",\"\",'Student DATA Entry'!A25)","v":""},{"$f":"IF('Student DATA Entry'!B25=\"\",\"\",'Student DATA Entry'!B25)","v":""},{"$f":"IF('Student DATA Entry'!G25=\"\",\"\",'Student DATA Entry'!G25)","v":""},{"$f":"IF('Student DATA Entry'!C25=\"\",\"\",'Student DATA Entry'!C25)","v":""},{"$f":"IF('Student DATA Entry'!D25=\"\",\"\",'Student DATA Entry'!D25)","v":""},{"$f":"IF('Student DATA Entry'!E25=\"\",\"\",'Student DATA Entry'!E25)","v":""},{"$f":"IF('Student DATA Entry'!H25=\"\",\"\",'Student DATA Entry'!H25)","v":""},{"$f":"IF('Student DATA Entry'!F25=\"\",\"\",'Student DATA Entry'!F25)","v":""},{"$nulls":11},"",{"$nulls":8},"",{"$nulls":8},"",{"$nulls":8},"",{"$nulls":36},{"$f":"IF(AND('Master sheet'!H40=\"\"),\"\",'Master sheet'!H40)","v":"SANSKRIT LITERATURE"}]
[24,{"$f":"IF('Student DATA Entry'!A26=\"\",\"\",'Student DATA Entry'!A26)","v":""},{"$f":"IF('Student DATA Entry'!B26=\"\",\"\",'Student DATA Entry'!B26)","v":""},{"$f":"IF('Student DATA Entry'!G26=\"\",\"\",'Student DATA Entry'!G26)","v":""},{"$f":"IF('Student DATA Entry'!C26=\"\",\"\",'Student DATA Entry'!C26)","v":""},{"$f":"IF('Student DATA Entry'!D26=\"\",\"\",'Student DATA Entry'!D26)","v":""},{"$f":"IF('Student DATA Entry'!E26=\"\",\"\",'Student DATA Entry'!E26)","v":""},{"$f":"IF('Student DATA Entry'!H26=\"\",\"\",'Student DATA Entry'!H26)","v":""},{"$f":"IF('Student DATA Entry'!F26=\"\",\"\",'Student DATA Entry'!F26)","v":""},{"$nulls":11},"",{"$nulls":8},"",{"$nulls":8},"",{"$nulls":8},"",{"$nulls":36},{"$f":"IF(AND('Master sheet'!H41=\"\"),\"\",'Master sheet'!H41)","v":"SINDHI LITERATURE"}]
[25,{"$f":"IF('Student DATA Entry'!A27=\"\",\"\",'Student DATA Entry'!A27)","v":""},{"$f":"IF('Student DATA Entry'!B27=\"\",\"\",'Student DATA Entry'!B27)","v":""},{"$f":"IF('Student DATA Entry'!G27=\"\",\"\",'Student DATA Entry'!G27)","v":""},{"$f":"IF('Student DATA Entry'!C27=\"\",\"\",'Student DATA Entry'!C27)","v":""},{"$f":"IF('Student DATA Entry'!D27=\"\",\"\",'Student DATA Entry'!D27)","v":""},{"$f":"IF('Student DATA Entry'!E27=\"\",\"\",'Student DATA Entry'!E27)","v":""},{"$f":"IF('Student DATA Entry'!H27=\"\",\"\",'Student DATA Entry'!H27)","v":""},{"$f":"IF('Student DATA Entry'!F27=\"\",\"\",'Student DATA Entry'!F27)","v":""},{"$nulls":11},"",{"$nulls":8},"",{"$nulls":8},"",{"$nulls":8},"",{"$nulls":36},{"$f":"IF(AND('Master sheet'!H42=\"\"),\"\",'Master sheet'!H42)","v":"SOCIOLOGY"}]
[26,{"$f":"IF('Student DATA Entry'!A28=\"\",\"\",'Student DATA Entry'!A28)","v":""},{"$f":"IF('Student DATA Entry'!B28=\"\",\"\",'Student DATA Entry'!B28)","v":""},{"$f":"IF('Student DATA Entry'!G28=\"\",\"\",'Student DATA Entry'!G28)","v":""},{"$f":"IF('Student DATA Entry'!C28=\"\",\"\",'Student DATA Entry'!C28)","v":""},{"$f":"IF('Student DATA Entry'!D28=\"\",\"\",'Student DATA Entry'!D28)","v":""},{"$f":"IF('Student DATA Entry'!E28=\"\",\"\",'Student DATA Entry'!E28)","v":""},{"$f":"IF('Student DATA Entry'!H28=\"\",\"\",'Student DATA Entry'!H28)","v":""},{"$f":"IF('Student DATA Entry'!F28=\"\",\"\",'Student DATA Entry'!F28)","v":""},{"$nulls":11},"",{"$nulls":8},"",{"$nulls":8},"",{"$nulls":8},"",{"$nulls":36},{"$f":"IF(AND('Master sheet'!H43=\"\"),\"\",'Master sheet'!H43)","v":"URDU LITERATURE"}]
[27,{"$f":"IF('Student DATA Entry'!A29=\"\",\"\",'Student DATA Entry'!A29)","v":""},{"$f":"IF('Student DATA Entry'!B29=\"\",\"\",'Student DATA Entry'!B29)","v":""},{"$f":"IF('Student DATA Entry'!G29=\"\",\"\",'Student DATA Entry'!G29)","v":""},{"$f":"IF('Student DATA Entry'!C29=\"\",\"\",'Student DATA Entry'!C29)","v":""},{"$f":"IF('Student DATA Entry'!D29=\"\",\"\",'Student DATA Entry'!D29)","v":""},{"$f":"IF('Student DATA Entry'!E29=\"\",\"\",'Student DATA Entry'!E29)","v":""},{"$f":"IF('Student DATA Entry'!H29=\"\",\"\",'Student DATA Entry'!H29)","v":""},{"$f":"IF('Student DATA Entry'!F29=\"\",\"\",'Student DATA Entry'!F29)","v":""},{"$nulls":11},"",{"$nulls":8},"",{"$nulls":8},"",{"$nulls":8},"",{"$nulls":36},{"$f":"IF(AND('Master sheet'!H44=\"\"),\"\",'Master sheet'!H44)","v":""}]
[28,{"$f":"IF('Student DATA Entry'!A30=\"\",\"\",'Student DATA Entry'!A30)","v":""},{"$f":"IF('Student DATA Entry'!B30=\"\",\"\",'Student DATA Entry'!B30)","v":""},{"$f":"IF('Student DATA Entry'!G30=\"\",\"\",'Student DATA Entry'!G30)","v":""},{"$f":"IF('Student DATA Entry'!C30=\"\",\"\",'Student DATA Entry'!C30)","v":""},{"$f":"IF('Student DATA Entry'!D30=\"\",\"\",'Student DATA Entry'!D30)","v":""},{"$f":"IF('Student DATA Entry'!E30=\"\",\"\",'Student DATA Entry'!E30)","v":""},{"$f":"IF('Student DATA Entry'!H30=\"\",\"\",'Student DATA Entry'!H30)","v":""},{"$f":"IF('Student DATA Entry'!F30=\"\",\"\",'Student DATA Entry'!F30)","v":""},{"$nulls":11},"",{"$nulls":8},"",{"$nulls":8},"",{"$nulls":8},"",{"$nulls":36},{"$f":"IF(AND('Master sheet'!H45=\"\"),\"\",'Master sheet'!H45)","v":""}]
[29,{"$f":"IF('Student DATA Entry'!A31=\"\",\"\",'Student DATA Entry'!A31)","v":""},{"$f":"IF('Student DATA Entry'!B31=\"\",\"\",'Student DATA Entry'!B31)","v":""},{"$f":"IF('Student DATA Entry'!G31=\"\",\"\",'Student DATA Entry'!G31)","v":""},{"$f":"IF('Student DATA Entry'!C31=\"\",\"\",'Student DATA Entry'!C31)","v":""},{"$f":"IF('Student DATA Entry'!D31=\"\",\"\",'Student DATA Entry'!D31)","v":""},{"$f":"IF('Student DATA Entry'!E31=\"\",\"\",'Student DATA Entry'!E31)","v":""},{"$f":"IF('Student DATA Entry'!H31=\"\",\"\",'Student DATA Entry'!H31)","v":""},{"$f":"IF('Student DATA Entry'!F31=\"\",\"\",'Student DATA Entry'!F31)","v":""},{"$nulls":11},"",{"$nulls":8},"",{"$nulls":8},"",{"$nulls":8},"",{"$nulls":36},{"$f":"IF(AND('Master sheet'!H46=\"\"),\"\",'Master sheet'!H46)","v":""}]
[30,{"$f":"IF('Student DATA Entry'!A32=\"\",\"\",'Student DATA Entry'!A32)","v":""},{"$f":"IF('Student DATA Entry'!B32=\"\",\"\",'Student DATA Entry'!B32)","v":""},{"$f":"IF('Student DATA Entry'!G32=\"\",\"\",'Student DATA Entry'!G32)","v":""},{"$f":"IF('Student DATA Entry'!C32=\"\",\"\",'Student DATA Entry'!C32)","v":""},{"$f":"IF('Student DATA Entry'!D32=\"\",\"\",'Student DATA Entry'!D32)","v":""},{"$f":"IF('Student DATA Entry'!E32=\"\",\"\",'Student DATA Entry'!E32)","v":""},{"$f":"IF('Student DATA Entry'!H32=\"\",\"\",'Student DATA Entry'!H32)","v":""},{"$f":"IF('Student DATA Entry'!F32=\"\",\"\",'Student DATA Entry'!F32)","v":""},{"$nulls":11},"",{"$nulls":8},"",{"$nulls":8},"",{"$nulls":8},"",{"$nulls":36},{"$f":"IF(AND('Master sheet'!H47=\"\"),\"\",'Master sheet'!H47)","v":""}]
[31,{"$f":"IF('Student DATA Entry'!A33=\"\",\"\",'Student DATA Entry'!A33)","v":""},{"$f":"IF('Student DATA Entry'!B33=\"\",\"\",'Student DATA Entry'!B33)","v":""},{"$f":"IF('Student DATA Entry'!G33=\"\",\"\",'Student DATA Entry'!G33)","v":""},{"$f":"IF('Student DATA Entry'!C33=\"\",\"\",'Student DATA Entry'!C33)","v":""},{"$f":"IF('Student DATA Entry'!D33=\"\",\"\",'Student DATA Entry'!D33)","v":""},{"$f":"IF('Student DATA Entry'!E33=\"\",\"\",'Student DATA Entry'!E33)","v":""},{"$f":"IF('Student DATA Entry'!H33=\"\",\"\",'Student DATA Entry'!H33)","v":""},{"$f":"IF('Student DATA Entry'!F33=\"\",\"\",'Student DATA Entry'!F33)","v":""},{"$nulls":11},"",{"$nulls":8},"",{"$nulls":8},"",{"$nulls":8},""]
[32,{"$f":"IF('Student DATA Entry'!A34=\"\",\"\",'Student DATA Entry'!A34)","v":""},{"$f":"IF('Student DATA Entry'!B34=\"\",\"\",'Student DATA Entry'!B34)","v":""},{"$f":"IF('Student DATA Entry'!G34=\"\",\"\",'Student DATA Entry'!G34)","v":""},{"$f":"IF('Student DATA Entry'!C34=\"\",\"\",'Student DATA Entry'!C34)","v":""},{"$f":"IF('Student DATA Entry'!D34=\"\",\"\",'Student DATA Entry'!D34)","v":""},{"$f":"IF('Student DATA Entry'!E34=\"\",\"\",'Student DATA Entry'!E34)","v":""},{"$f":"IF('Student DATA Entry'!H34=\"\",\"\",'Student DATA Entry'!H34)","v":""},{"$f":"IF('Student DATA Entry'!F34=\"\",\"\",'Student DATA Entry'!F34)","v":""},{"$nulls":11},"",{"$nulls":8},"",{"$nulls":8},"",{"$nulls":8},""]
[33,{"$f":"IF('Student DATA Entry'!A35=\"\",\"\",'Student DATA Entry'!A35)","v":""},{"$f":"IF('Student DATA Entry'!B35=\"\",\"\",'Student DATA Entry'!B35)","v":""},{"$f":"IF('Student DATA Entry'!G35=\"\",\"\",'Student DATA Entry'!G35)","v":""},{"$f":"IF('Student DATA Entry'!C35=\"\",\"\",'Student DATA Entry'!C35)","v":""},{"$f":"IF('Student DATA Entry'!D35=\"\",\"\",'Student DATA Entry'!D35)","v":""},{"$f":"IF('Student DATA Entry'!E35=\"\",\"\",'Student DATA Entry'!E35)","v":""},{"$f":"IF('Student DATA Entry'!H35=\"\",\"\",'Student DATA Entry'!H35)","v":""},{"$f":"IF('Student DATA Entry'!F35=\"\",\"\",'Student DATA Entry'!F35)","v":""},{"$nulls":11},"",{"$nulls":8},"",{"$nulls":8},"",{"$nulls":8},""]
[34,{"$f":"IF('Student DATA Entry'!A36=\"\",\"\",'Student DATA Entry'!A36)","v":""},{"$f":"IF('Student DATA Entry'!B36=\"\",\"\",'Student DATA Entry'!B36)","v":""},{"$f":"IF('Student DATA Entry'!G36=\"\",\"\",'Student DATA Entry'!G36)","v":""},{"$f":"IF('Student DATA Entry'!C36=\"\",\"\",'Student DATA Entry'!C36)","v":""},{"$f":"IF('Student DATA Entry'!D36=\"\",\"\",'Student DATA Entry'!D36)","v":""},{"$f":"IF('Student DATA Entry'!E36=\"\",\"\",'Student DATA Entry'!E36)","v":""},{"$f":"IF('Student DATA Entry'!H36=\"\",\"\",'Student DATA Entry'!H36)","v":""},{"$f":"IF('Student DATA Entry'!F36=\"\",\"\",'Student DATA Entry'!F36)","v":""},{"$nulls":11},"",{"$nulls":8},"",{"$nulls":8},"",{"$nulls":8},""]
[35,{"$f":"IF('Student DATA Entry'!A37=\"\",\"\",'Student DATA Entry'!A37)","v":""},{"$f":"IF('Student DATA Entry'!B37=\"\",\"\",'Student DATA Entry'!B37)","v":""},{"$f":"IF('Student DATA Entry'!G37=\"\",\"\",'Student DATA Entry'!G37)","v":""},{"$f":"IF('Student DATA Entry'!C37=\"\",\"\",'Student DATA Entry'!C37)","v":""},{"$f":"IF('Student DATA Entry'!D37=\"\",\"\",'Student DATA Entry'!D37)","v":""},{"$f":"IF('Student DATA Entry'!E37=\"\",\"\",'Student DATA Entry'!E37)","v":""},{"$f":"IF('Student DATA Entry'!H37=\"\",\"\",'Student DATA Entry'!H37)","v":""},{"$f":"IF('Student DATA Entry'!F37=\"\",\"\",'Student DATA Entry'!F37)","v":""},{"$nulls":11},"",{"$nulls":8},"",{"$nulls":8},"",{"$nulls":8},""]
[36,{"$f":"IF('Student DATA Entry'!A38=\"\",\"\",'Student DATA Entry'!A38)","v":""},{"$f":"IF('Student DATA Entry'!B38=\"\",\"\",'Student DATA Entry'!B38)","v":""},{"$f":"IF('Student DATA Entry'!G38=\"\",\"\",'Student DATA Entry'!G38)","v":""},{"$f":"IF('Student DATA Entry'!C38=\"\",\"\",'Student DATA Entry'!C38)","v":""},{"$f":"IF('Student DATA Entry'!D38=\"\",\"\",'Student DATA Entry'!D38)","v":""},{"$f":"IF('Student DATA Entry'!E38=\"\",\"\",'Student DATA Entry'!E38)","v":""},{"$f":"IF('Student DATA Entry'!H38=\"\",\"\",'Student DATA Entry'!H38)","v":""},{"$f":"IF('Student DATA Entry'!F38=\"\",\"\",'Student DATA Entry'!F38)","v":""},{"$nulls":11},"",{"$nulls":8},"",{"$nulls":8},"",{"$nulls":8},""]
[37,{"$f":"IF('Student DATA Entry'!A39=\"\",\"\",'Student DATA Entry'!A39)","v":""},{"$f":"IF('Student DATA Entry'!B39=\"\",\"\",'Student DATA Entry'!B39)","v":""},{"$f":"IF('Student DATA Entry'!G39=\"\",\"\",'Student DATA Entry'!G39)","v":""},{"$f":"IF('Student DATA Entry'!C39=\"\",\"\",'Student DATA Entry'!C39)","v":""},{"$f":"IF('Student DATA Entry'!D39=\"\",\"\",'Student DATA Entry'!D39)","v":""},{"$f":"IF('Student DATA Entry'!E39=\"\",\"\",'Student DATA Entry'!E39)","v":""},{"$f":"IF('Student DATA Entry'!H39=\"\",\"\",'Student DATA Entry'!H39)","v":""},{"$f":"IF('Student DATA Entry'!F39=\"\",\"\",'Student DATA Entry'!F39)","v":""},{"$nulls":11},"",{"$nulls":8},"",{"$nulls":8},"",{"$nulls":8},""]
[38,{"$f":"IF('Student DATA Entry'!A40=\"\",\"\",'Student DATA Entry'!A40)","v":""},{"$f":"IF('Student DATA Entry'!B40=\"\",\"\",'Student DATA Entry'!B40)","v":""},{"$f":"IF('Student DATA Entry'!G40=\"\",\"\",'Student DATA Entry'!G40)","v":""},{"$f":"IF('Student DATA Entry'!C40=\"\",\"\",'Student DATA Entry'!C40)","v":""},{"$f":"IF('Student DATA Entry'!D40=\"\",\"\",'Student DATA Entry'!D40)","v":""},{"$f":"IF('Student DATA Entry'!E40=\"\",\"\",'Student DATA Entry'!E40)","v":""},{"$f":"IF('Student DATA Entry'!H40=\"\",\"\",'Student DATA Entry'!H40)","v":""},{"$f":"IF('Student DATA Entry'!F40=\"\",\"\",'Student DATA Entry'!F40)","v":""},{"$nulls":11},"",{"$nulls":8},"",{"$nulls":8},"",{"$nulls":8},""]
[39,{"$f":"IF('Student DATA Entry'!A41=\"\",\"\",'Student DATA Entry'!A41)","v":""},{"$f":"IF('Student DATA Entry'!B41=\"\",\"\",'Student DATA Entry'!B41)","v":""},{"$f":"IF('Student DATA Entry'!G41=\"\",\"\",'Student DATA Entry'!G41)","v":""},{"$f":"IF('Student DATA Entry'!C41=\"\",\"\",'Student DATA Entry'!C41)","v":""},{"$f":"IF('Student DATA Entry'!D41=\"\",\"\",'Student DATA Entry'!D41)","v":""},{"$f":"IF('Student DATA Entry'!E41=\"\",\"\",'Student DATA Entry'!E41)","v":""},{"$f":"IF('Student DATA Entry'!H41=\"\",\"\",'Student DATA Entry'!H41)","v":""},{"$f":"IF('Student DATA Entry'!F41=\"\",\"\",'Student DATA Entry'!F41)","v":""},{"$nulls":11},"",{"$nulls":8},"",{"$nulls":8},"",{"$nulls":8},""]
[40,{"$f":"IF('Student DATA Entry'!A42=\"\",\"\",'Student DATA Entry'!A42)","v":""},{"$f":"IF('Student DATA Entry'!B42=\"\",\"\",'Student DATA Entry'!B42)","v":""},{"$f":"IF('Student DATA Entry'!G42=\"\",\"\",'Student DATA Entry'!G42)","v":""},{"$f":"IF('Student DATA Entry'!C42=\"\",\"\",'Student DATA Entry'!C42)","v":""},{"$f":"IF('Student DATA Entry'!D42=\"\",\"\",'Student DATA Entry'!D42)","v":""},{"$f":"IF('Student DATA Entry'!E42=\"\",\"\",'Student DATA Entry'!E42)","v":""},{"$f":"IF('Student DATA Entry'!H42=\"\",\"\",'Student DATA Entry'!H42)","v":""},{"$f":"IF('Student DATA Entry'!F42=\"\",\"\",'Student DATA Entry'!F42)","v":""},{"$nulls":11},"",{"$nulls":8},"",{"$nulls":8},"",{"$nulls":8},""]
[41,{"$f":"IF('Student DATA Entry'!A43=\"\",\"\",'Student DATA Entry'!A43)","v":""},{"$f":"IF('Student DATA Entry'!B43=\"\",\"\",'Student DATA Entry'!B43)","v":""},{"$f":"IF('Student DATA Entry'!G43=\"\",\"\",'Student DATA Entry'!G43)","v":""},{"$f":"IF('Student DATA Entry'!C43=\"\",\"\",'Student DATA Entry'!C43)","v":""},{"$f":"IF('Student DATA Entry'!D43=\"\",\"\",'Student DATA Entry'!D43)","v":""},{"$f":"IF('Student DATA Entry'!E43=\"\",\"\",'Student DATA Entry'!E43)","v":""},{"$f":"IF('Student DATA Entry'!H43=\"\",\"\",'Student DATA Entry'!H43)","v":""},{"$f":"IF('Student DATA Entry'!F43=\"\",\"\",'Student DATA Entry'!F43)","v":""},{"$nulls":11},"",{"$nulls":8},"",{"$nulls":8},"",{"$nulls":8},""]
[42,{"$f":"IF('Student DATA Entry'!A44=\"\",\"\",'Student DATA Entry'!A44)","v":""},{"$f":"IF('Student DATA Entry'!B44=\"\",\"\",'Student DATA Entry'!B44)","v":""},{"$f":"IF('Student DATA Entry'!G44=\"\",\"\",'Student DATA Entry'!G44)","v":""},{"$f":"IF('Student DATA Entry'!C44=\"\",\"\",'Student DATA Entry'!C44)","v":""},{"$f":"IF('Student DATA Entry'!D44=\"\",\"\",'Student DATA Entry'!D44)","v":""},{"$f":"IF('Student DATA Entry'!E44=\"\",\"\",'Student DATA Entry'!E44)","v":""},{"$f":"IF('Student DATA Entry'!H44=\"\",\"\",'Student DATA Entry'!H44)","v":""},{"$f":"IF('Student DATA Entry'!F44=\"\",\"\",'Student DATA Entry'!F44)","v":""},{"$nulls":11},"",{"$nulls":8},"",{"$nulls":8},"",{"$nulls":8},""]
[43,{"$f":"IF('Student DATA Entry'!A45=\"\",\"\",'Student DATA Entry'!A45)","v":""},{"$f":"IF('Student DATA Entry'!B45=\"\",\"\",'Student DATA Entry'!B45)","v":""},{"$f":"IF('Student DATA Entry'!G45=\"\",\"\",'Student DATA Entry'!G45)","v":""},{"$f":"IF('Student DATA Entry'!C45=\"\",\"\",'Student DATA Entry'!C45)","v":""},{"$f":"IF('Student DATA Entry'!D45=\"\",\"\",'Student DATA Entry'!D45)","v":""},{"$f":"IF('Student DATA Entry'!E45=\"\",\"\",'Student DATA Entry'!E45)","v":""},{"$f":"IF('Student DATA Entry'!H45=\"\",\"\",'Student DATA Entry'!H45)","v":""},{"$f":"IF('Student DATA Entry'!F45=\"\",\"\",'Student DATA Entry'!F45)","v":""},{"$nulls":11},"",{"$nulls":8},"",{"$nulls":8},"",{"$nulls":8},""]
[44,{"$f":"IF('Student DATA Entry'!A46=\"\",\"\",'Student DATA Entry'!A46)","v":""},{"$f":"IF('Student DATA Entry'!B46=\"\",\"\",'Student DATA Entry'!B46)","v":""},{"$f":"IF('Student DATA Entry'!G46=\"\",\"\",'Student DATA Entry'!G46)","v":""},{"$f":"IF('Student DATA Entry'!C46=\"\",\"\",'Student DATA Entry'!C46)","v":""},{"$f":"IF('Student DATA Entry'!D46=\"\",\"\",'Student DATA Entry'!D46)","v":""},{"$f":"IF('Student DATA Entry'!E46=\"\",\"\",'Student DATA Entry'!E46)","v":""},{"$f":"IF('Student DATA Entry'!H46=\"\",\"\",'Student DATA Entry'!H46)","v":""},{"$f":"IF('Student DATA Entry'!F46=\"\",\"\",'Student DATA Entry'!F46)","v":""},{"$nulls":11},"",{"$nulls":8},"",{"$nulls":8},"",{"$nulls":8},""]
[45,{"$f":"IF('Student DATA Entry'!A47=\"\",\"\",'Student DATA Entry'!A47)","v":""},{"$f":"IF('Student DATA Entry'!B47=\"\",\"\",'Student DATA Entry'!B47)","v":""},{"$f":"IF('Student DATA Entry'!G47=\"\",\"\",'Student DATA Entry'!G47)","v":""},{"$f":"IF('Student DATA Entry'!C47=\"\",\"\",'Student DATA Entry'!C47)","v":""},{"$f":"IF('Student DATA Entry'!D47=\"\",\"\",'Student DATA Entry'!D47)","v":""},{"$f":"IF('Student DATA Entry'!E47=\"\",\"\",'Student DATA Entry'!E47)","v":""},{"$f":"IF('Student DATA Entry'!H47=\"\",\"\",'Student DATA Entry'!H47)","v":""},{"$f":"IF('Student DATA Entry'!F47=\"\",\"\",'Student DATA Entry'!F47)","v":""},{"$nulls":11},"",{"$nulls":8},"",{"$nulls":8},"",{"$nulls":8},""]
[46,{"$f":"IF('Student DATA Entry'!A48=\"\",\"\",'Student DATA Entry'!A48)","v":""},{"$f":"IF('Student DATA Entry'!B48=\"\",\"\",'Student DATA Entry'!B48)","v":""},{"$f":"IF('Student DATA Entry'!G48=\"\",\"\",'Student DATA Entry'!G48)","v":""},{"$f":"IF('Student DATA Entry'!C48=\"\",\"\",'Student DATA Entry'!C48)","v":""},{"$f":"IF('Student DATA Entry'!D48=\"\",\"\",'Student DATA Entry'!D48)","v":""},{"$f":"IF('Student DATA Entry'!E48=\"\",\"\",'Student DATA Entry'!E48)","v":""},{"$f":"IF('Student DATA Entry'!H48=\"\",\"\",'Student DATA Entry'!H48)","v":""},{"$f":"IF('Student DATA Entry'!F48=\"\",\"\",'Student DATA Entry'!F48)","v":""},{"$nulls":11},"",{"$nulls":8},"",{"$nulls":8},"",{"$nulls":8},""]
[47,{"$f":"IF('Student DATA Entry'!A49=\"\",\"\",'Student DATA Entry'!A49)","v":""},{"$f":"IF('Student DATA Entry'!B49=\"\",\"\",'Student DATA Entry'!B49)","v":""},{"$f":"IF('Student DATA Entry'!G49=\"\",\"\",'Student DATA Entry'!G49)","v":""},{"$f":"IF('Student DATA Entry'!C49=\"\",\"\",'Student DATA Entry'!C49)","v":""},{"$f":"IF('Student DATA Entry'!D49=\"\",\"\",'Student DATA Entry'!D49)","v":""},{"$f":"IF('Student DATA Entry'!E49=\"\",\"\",'Student DATA Entry'!E49)","v":""},{"$f":"IF('Student DATA Entry'!H49=\"\",\"\",'Student DATA Entry'!H49)","v":""},{"$f":"IF('Student DATA Entry'!F49=\"\",\"\",'Student DATA Entry'!F49)","v":""},{"$nulls":11},"",{"$nulls":8},"",{"$nulls":8},"",{"$nulls":8},""]
[48,{"$f":"IF('Student DATA Entry'!A50=\"\",\"\",'Student DATA Entry'!A50)","v":""},{"$f":"IF('Student DATA Entry'!B50=\"\",\"\",'Student DATA Entry'!B50)","v":""},{"$f":"IF('Student DATA Entry'!G50=\"\",\"\",'Student DATA Entry'!G50)","v":""},{"$f":"IF('Student DATA Entry'!C50=\"\",\"\",'Student DATA Entry'!C50)","v":""},{"$f":"IF('Student DATA Entry'!D50=\"\",\"\",'Student DATA Entry'!D50)","v":""},{"$f":"IF('Student DATA Entry'!E50=\"\",\"\",'Student DATA Entry'!E50)","v":""},{"$f":"IF('Student DATA Entry'!H50=\"\",\"\",'Student DATA Entry'!H50)","v":""},{"$f":"IF('Student DATA Entry'!F50=\"\",\"\",'Student DATA Entry'!F50)","v":""},{"$nulls":11},"",{"$nulls":8},"",{"$nulls":8},"",{"$nulls":8},""]
[49,{"$f":"IF('Student DATA Entry'!A51=\"\",\"\",'Student DATA Entry'!A51)","v":""},{"$f":"IF('Student DATA Entry'!B51=\"\",\"\",'Student DATA Entry'!B51)","v":""},{"$f":"IF('Student DATA Entry'!G51=\"\",\"\",'Student DATA Entry'!G51)","v":""},{"$f":"IF('Student DATA Entry'!C51=\"\",\"\",'Student DATA Entry'!C51)","v":""},{"$f":"IF('Student DATA Entry'!D51=\"\",\"\",'Student DATA Entry'!D51)","v":""},{"$f":"IF('Student DATA Entry'!E51=\"\",\"\",'Student DATA Entry'!E51)","v":""},{"$f":"IF('Student DATA Entry'!H51=\"\",\"\",'Student DATA Entry'!H51)","v":""},{"$f":"IF('Student DATA Entry'!F51=\"\",\"\",'Student DATA Entry'!F51)","v":""},{"$nulls":11},"",{"$nulls":8},"",{"$nulls":8},"",{"$nulls":8},""]
[50,{"$f":"IF('Student DATA Entry'!A52=\"\",\"\",'Student DATA Entry'!A52)","v":""},{"$f":"IF('Student DATA Entry'!B52=\"\",\"\",'Student DATA Entry'!B52)","v":""},{"$f":"IF('Student DATA Entry'!G52=\"\",\"\",'Student DATA Entry'!G52)","v":""},{"$f":"IF('Student DATA Entry'!C52=\"\",\"\",'Student DATA Entry'!C52)","v":""},{"$f":"IF('Student DATA Entry'!D52=\"\",\"\",'Student DATA Entry'!D52)","v":""},{"$f":"IF('Student DATA Entry'!E52=\"\",\"\",'Student DATA Entry'!E52)","v":""},{"$f":"IF('Student DATA Entry'!H52=\"\",\"\",'Student DATA Entry'!H52)","v":""},{"$f":"IF('Student DATA Entry'!F52=\"\",\"\",'Student DATA Entry'!F52)","v":""},{"$nulls":11},"",{"$nulls":8},"",{"$nulls":8},"",{"$nulls":8},""]
[51,{"$f":"IF('Student DATA Entry'!A53=\"\",\"\",'Student DATA Entry'!A53)","v":""},{"$f":"IF('Student DATA Entry'!B53=\"\",\"\",'Student DATA Entry'!B53)","v":""},{"$f":"IF('Student DATA Entry'!G53=\"\",\"\",'Student DATA Entry'!G53)","v":""},{"$f":"IF('Student DATA Entry'!C53=\"\",\"\",'Student DATA Entry'!C53)","v":""},{"$f":"IF('Student DATA Entry'!D53=\"\",\"\",'Student DATA Entry'!D53)","v":""},{"$f":"IF('Student DATA Entry'!E53=\"\",\"\",'Student DATA Entry'!E53)","v":""},{"$f":"IF('Student DATA Entry'!H53=\"\",\"\",'Student DATA Entry'!H53)","v":""},{"$f":"IF('Student DATA Entry'!F53=\"\",\"\",'Student DATA Entry'!F53)","v":""},{"$nulls":11},"",{"$nulls":8},"",{"$nulls":8},"",{"$nulls":8},""]
[52,{"$f":"IF('Student DATA Entry'!A54=\"\",\"\",'Student DATA Entry'!A54)","v":""},{"$f":"IF('Student DATA Entry'!B54=\"\",\"\",'Student DATA Entry'!B54)","v":""},{"$f":"IF('Student DATA Entry'!G54=\"\",\"\",'Student DATA Entry'!G54)","v":""},{"$f":"IF('Student DATA Entry'!C54=\"\",\"\",'Student DATA Entry'!C54)","v":""},{"$f":"IF('Student DATA Entry'!D54=\"\",\"\",'Student DATA Entry'!D54)","v":""},{"$f":"IF('Student DATA Entry'!E54=\"\",\"\",'Student DATA Entry'!E54)","v":""},{"$f":"IF('Student DATA Entry'!H54=\"\",\"\",'Student DATA Entry'!H54)","v":""},{"$f":"IF('Student DATA Entry'!F54=\"\",\"\",'Student DATA Entry'!F54)","v":""},{"$nulls":11},"",{"$nulls":8},"",{"$nulls":8},"",{"$nulls":8},""]
[53,{"$f":"IF('Student DATA Entry'!A55=\"\",\"\",'Student DATA Entry'!A55)","v":""},{"$f":"IF('Student DATA Entry'!B55=\"\",\"\",'Student DATA Entry'!B55)","v":""},{"$f":"IF('Student DATA Entry'!G55=\"\",\"\",'Student DATA Entry'!G55)","v":""},{"$f":"IF('Student DATA Entry'!C55=\"\",\"\",'Student DATA Entry'!C55)","v":""},{"$f":"IF('Student DATA Entry'!D55=\"\",\"\",'Student DATA Entry'!D55)","v":""},{"$f":"IF('Student DATA Entry'!E55=\"\",\"\",'Student DATA Entry'!E55)","v":""},{"$f":"IF('Student DATA Entry'!H55=\"\",\"\",'Student DATA Entry'!H55)","v":""},{"$f":"IF('Student DATA Entry'!F55=\"\",\"\",'Student DATA Entry'!F55)","v":""},{"$nulls":11},"",{"$nulls":8},"",{"$nulls":8},"",{"$nulls":8},""]
[54,{"$f":"IF('Student DATA Entry'!A56=\"\",\"\",'Student DATA Entry'!A56)","v":""},{"$f":"IF('Student DATA Entry'!B56=\"\",\"\",'Student DATA Entry'!B56)","v":""},{"$f":"IF('Student DATA Entry'!G56=\"\",\"\",'Student DATA Entry'!G56)","v":""},{"$f":"IF('Student DATA Entry'!C56=\"\",\"\",'Student DATA Entry'!C56)","v":""},{"$f":"IF('Student DATA Entry'!D56=\"\",\"\",'Student DATA Entry'!D56)","v":""},{"$f":"IF('Student DATA Entry'!E56=\"\",\"\",'Student DATA Entry'!E56)","v":""},{"$f":"IF('Student DATA Entry'!H56=\"\",\"\",'Student DATA Entry'!H56)","v":""},{"$f":"IF('Student DATA Entry'!F56=\"\",\"\",'Student DATA Entry'!F56)","v":""},{"$nulls":11},"",{"$nulls":8},"",{"$nulls":8},"",{"$nulls":8},""]
[55,{"$f":"IF('Student DATA Entry'!A57=\"\",\"\",'Student DATA Entry'!A57)","v":""},{"$f":"IF('Student DATA Entry'!B57=\"\",\"\",'Student DATA Entry'!B57)","v":""},{"$f":"IF('Student DATA Entry'!G57=\"\",\"\",'Student DATA Entry'!G57)","v":""},{"$f":"IF('Student DATA Entry'!C57=\"\",\"\",'Student DATA Entry'!C57)","v":""},{"$f":"IF('Student DATA Entry'!D57=\"\",\"\",'Student DATA Entry'!D57)","v":""},{"$f":"IF('Student DATA Entry'!E57=\"\",\"\",'Student DATA Entry'!E57)","v":""},{"$f":"IF('Student DATA Entry'!H57=\"\",\"\",'Student DATA Entry'!H57)","v":""},{"$f":"IF('Student DATA Entry'!F57=\"\",\"\",'Student DATA Entry'!F57)","v":""},{"$nulls":11},"",{"$nulls":8},"",{"$nulls":8},"",{"$nulls":8},""]
[56,{"$f":"IF('Student DATA Entry'!A58=\"\",\"\",'Student DATA Entry'!A58)","v":""},{"$f":"IF('Student DATA Entry'!B58=\"\",\"\",'Student DATA Entry'!B58)","v":""},{"$f":"IF('Student DATA Entry'!G58=\"\",\"\",'Student DATA Entry'!G58)","v":""},{"$f":"IF('Student DATA Entry'!C58=\"\",\"\",'Student DATA Entry'!C58)","v":""},{"$f":"IF('Student DATA Entry'!D58=\"\",\"\",'Student DATA Entry'!D58)","v":""},{"$f":"IF('Student DATA Entry'!E58=\"\",\"\",'Student DATA Entry'!E58)","v":""},{"$f":"IF('Student DATA Entry'!H58=\"\",\"\",'Student DATA Entry'!H58)","v":""},{"$f":"IF('Student DATA Entry'!F58=\"\",\"\",'Student DATA Entry'!F58)","v":""},{"$nulls":11},"",{"$nulls":8},"",{"$nulls":8},"",{"$nulls":8},""]
[57,{"$f":"IF('Student DATA Entry'!A59=\"\",\"\",'Student DATA Entry'!A59)","v":""},{"$f":"IF('Student DATA Entry'!B59=\"\",\"\",'Student DATA Entry'!B59)","v":""},{"$f":"IF('Student DATA Entry'!G59=\"\",\"\",'Student DATA Entry'!G59)","v":""},{"$f":"IF('Student DATA Entry'!C59=\"\",\"\",'Student DATA Entry'!C59)","v":""},{"$f":"IF('Student DATA Entry'!D59=\"\",\"\",'Student DATA Entry'!D59)","v":""},{"$f":"IF('Student DATA Entry'!E59=\"\",\"\",'Student DATA Entry'!E59)","v":""},{"$f":"IF('Student DATA Entry'!H59=\"\",\"\",'Student DATA Entry'!H59)","v":""},{"$f":"IF('Student DATA Entry'!F59=\"\",\"\",'Student DATA Entry'!F59)","v":""},{"$nulls":11},"",{"$nulls":8},"",{"$nulls":8},"",{"$nulls":8},""]
[58,{"$f":"IF('Student DATA Entry'!A60=\"\",\"\",'Student DATA Entry'!A60)","v":""},{"$f":"IF('Student DATA Entry'!B60=\"\",\"\",'Student DATA Entry'!B60)","v":""},{"$f":"IF('Student DATA Entry'!G60=\"\",\"\",'Student DATA Entry'!G60)","v":""},{"$f":"IF('Student DATA Entry'!C60=\"\",\"\",'Student DATA Entry'!C60)","v":""},{"$f":"IF('Student DATA Entry'!D60=\"\",\"\",'Student DATA Entry'!D60)","v":""},{"$f":"IF('Student DATA Entry'!E60=\"\",\"\",'Student DATA Entry'!E60)","v":""},{"$f":"IF('Student DATA Entry'!H60=\"\",\"\",'Student DATA Entry'!H60)","v":""},{"$f":"IF('Student DATA Entry'!F60=\"\",\"\",'Student DATA Entry'!F60)","v":""},{"$nulls":11},"",{"$nulls":8},"",{"$nulls":8},"",{"$nulls":8},""]
[59,{"$f":"IF('Student DATA Entry'!A61=\"\",\"\",'Student DATA Entry'!A61)","v":""},{"$f":"IF('Student DATA Entry'!B61=\"\",\"\",'Student DATA Entry'!B61)","v":""},{"$f":"IF('Student DATA Entry'!G61=\"\",\"\",'Student DATA Entry'!G61)","v":""},{"$f":"IF('Student DATA Entry'!C61=\"\",\"\",'Student DATA Entry'!C61)","v":""},{"$f":"IF('Student DATA Entry'!D61=\"\",\"\",'Student DATA Entry'!D61)","v":""},{"$f":"IF('Student DATA Entry'!E61=\"\",\"\",'Student DATA Entry'!E61)","v":""},{"$f":"IF('Student DATA Entry'!H61=\"\",\"\",'Student DATA Entry'!H61)","v":""},{"$f":"IF('Student DATA Entry'!F61=\"\",\"\",'Student DATA Entry'!F61)","v":""},{"$nulls":11},"",{"$nulls":8},"",{"$nulls":8},"",{"$nulls":8},""]
[60,{"$f":"IF('Student DATA Entry'!A62=\"\",\"\",'Student DATA Entry'!A62)","v":""},{"$f":"IF('Student DATA Entry'!B62=\"\",\"\",'Student DATA Entry'!B62)","v":""},{"$f":"IF('Student DATA Entry'!G62=\"\",\"\",'Student DATA Entry'!G62)","v":""},{"$f":"IF('Student DATA Entry'!C62=\"\",\"\",'Student DATA Entry'!C62)","v":""},{"$f":"IF('Student DATA Entry'!D62=\"\",\"\",'Student DATA Entry'!D62)","v":""},{"$f":"IF('Student DATA Entry'!E62=\"\",\"\",'Student DATA Entry'!E62)","v":""},{"$f":"IF('Student DATA Entry'!H62=\"\",\"\",'Student DATA Entry'!H62)","v":""},{"$f":"IF('Student DATA Entry'!F62=\"\",\"\",'Student DATA Entry'!F62)","v":""},{"$nulls":11},"",{"$nulls":8},"",{"$nulls":8},"",{"$nulls":8},""]
[61,{"$f":"IF('Student DATA Entry'!A63=\"\",\"\",'Student DATA Entry'!A63)","v":""},{"$f":"IF('Student DATA Entry'!B63=\"\",\"\",'Student DATA Entry'!B63)","v":""},{"$f":"IF('Student DATA Entry'!G63=\"\",\"\",'Student DATA Entry'!G63)","v":""},{"$f":"IF('Student DATA Entry'!C63=\"\",\"\",'Student DATA Entry'!C63)","v":""},{"$f":"IF('Student DATA Entry'!D63=\"\",\"\",'Student DATA Entry'!D63)","v":""},{"$f":"IF('Student DATA Entry'!E63=\"\",\"\",'Student DATA Entry'!E63)","v":""},{"$f":"IF('Student DATA Entry'!H63=\"\",\"\",'Student DATA Entry'!H63)","v":""},{"$f":"IF('Student DATA Entry'!F63=\"\",\"\",'Student DATA Entry'!F63)","v":""},{"$nulls":11},"",{"$nulls":8},"",{"$nulls":8},"",{"$nulls":8},""]
[62,{"$f":"IF('Student DATA Entry'!A64=\"\",\"\",'Student DATA Entry'!A64)","v":""},{"$f":"IF('Student DATA Entry'!B64=\"\",\"\",'Student DATA Entry'!B64)","v":""},{"$f":"IF('Student DATA Entry'!G64=\"\",\"\",'Student DATA Entry'!G64)","v":""},{"$f":"IF('Student DATA Entry'!C64=\"\",\"\",'Student DATA Entry'!C64)","v":""},{"$f":"IF('Student DATA Entry'!D64=\"\",\"\",'Student DATA Entry'!D64)","v":""},{"$f":"IF('Student DATA Entry'!E64=\"\",\"\",'Student DATA Entry'!E64)","v":""},{"$f":"IF('Student DATA Entry'!H64=\"\",\"\",'Student DATA Entry'!H64)","v":""},{"$f":"IF('Student DATA Entry'!F64=\"\",\"\",'Student DATA Entry'!F64)","v":""},{"$nulls":11},"",{"$nulls":8},"",{"$nulls":8},"",{"$nulls":8},""]
[63,{"$f":"IF('Student DATA Entry'!A65=\"\",\"\",'Student DATA Entry'!A65)","v":""},{"$f":"IF('Student DATA Entry'!B65=\"\",\"\",'Student DATA Entry'!B65)","v":""},{"$f":"IF('Student DATA Entry'!G65=\"\",\"\",'Student DATA Entry'!G65)","v":""},{"$f":"IF('Student DATA Entry'!C65=\"\",\"\",'Student DATA Entry'!C65)","v":""},{"$f":"IF('Student DATA Entry'!D65=\"\",\"\",'Student DATA Entry'!D65)","v":""},{"$f":"IF('Student DATA Entry'!E65=\"\",\"\",'Student DATA Entry'!E65)","v":""},{"$f":"IF('Student DATA Entry'!H65=\"\",\"\",'Student DATA Entry'!H65)","v":""},{"$f":"IF('Student DATA Entry'!F65=\"\",\"\",'Student DATA Entry'!F65)","v":""},{"$nulls":11},"",{"$nulls":8},"",{"$nulls":8},"",{"$nulls":8},""]
[64,{"$f":"IF('Student DATA Entry'!A66=\"\",\"\",'Student DATA Entry'!A66)","v":""},{"$f":"IF('Student DATA Entry'!B66=\"\",\"\",'Student DATA Entry'!B66)","v":""},{"$f":"IF('Student DATA Entry'!G66=\"\",\"\",'Student DATA Entry'!G66)","v":""},{"$f":"IF('Student DATA Entry'!C66=\"\",\"\",'Student DATA Entry'!C66)","v":""},{"$f":"IF('Student DATA Entry'!D66=\"\",\"\",'Student DATA Entry'!D66)","v":""},{"$f":"IF('Student DATA Entry'!E66=\"\",\"\",'Student DATA Entry'!E66)","v":""},{"$f":"IF('Student DATA Entry'!H66=\"\",\"\",'Student DATA Entry'!H66)","v":""},{"$f":"IF('Student DATA Entry'!F66=\"\",\"\",'Student DATA Entry'!F66)","v":""},{"$nulls":11},"",{"$nulls":8},"",{"$nulls":8},"",{"$nulls":8},""]
[65,{"$f":"IF('Student DATA Entry'!A67=\"\",\"\",'Student DATA Entry'!A67)","v":""},{"$f":"IF('Student DATA Entry'!B67=\"\",\"\",'Student DATA Entry'!B67)","v":""},{"$f":"IF('Student DATA Entry'!G67=\"\",\"\",'Student DATA Entry'!G67)","v":""},{"$f":"IF('Student DATA Entry'!C67=\"\",\"\",'Student DATA Entry'!C67)","v":""},{"$f":"IF('Student DATA Entry'!D67=\"\",\"\",'Student DATA Entry'!D67)","v":""},{"$f":"IF('Student DATA Entry'!E67=\"\",\"\",'Student DATA Entry'!E67)","v":""},{"$f":"IF('Student DATA Entry'!H67=\"\",\"\",'Student DATA Entry'!H67)","v":""},{"$f":"IF('Student DATA Entry'!F67=\"\",\"\",'Student DATA Entry'!F67)","v":""},{"$nulls":11},"",{"$nulls":8},"",{"$nulls":8},"",{"$nulls":8},""]
[66,{"$f":"IF('Student DATA Entry'!A68=\"\",\"\",'Student DATA Entry'!A68)","v":""},{"$f":"IF('Student DATA Entry'!B68=\"\",\"\",'Student DATA Entry'!B68)","v":""},{"$f":"IF('Student DATA Entry'!G68=\"\",\"\",'Student DATA Entry'!G68)","v":""},{"$f":"IF('Student DATA Entry'!C68=\"\",\"\",'Student DATA Entry'!C68)","v":""},{"$f":"IF('Student DATA Entry'!D68=\"\",\"\",'Student DATA Entry'!D68)","v":""},{"$f":"IF('Student DATA Entry'!E68=\"\",\"\",'Student DATA Entry'!E68)","v":""},{"$f":"IF('Student DATA Entry'!H68=\"\",\"\",'Student DATA Entry'!H68)","v":""},{"$f":"IF('Student DATA Entry'!F68=\"\",\"\",'Student DATA Entry'!F68)","v":""},{"$nulls":11},{"$f":"IFERROR(IF(AND($T$2=\"\",$V$2=\"\",$Y$2=\"\"),\"\",IF(T73=\"\",\"\",IF(T73=1,T$2,IF(T73=2,V$2,IF(T73=3,Y$2,\"\"))))),\"\")","v":""},{"$nulls":8},{"$f":"IFERROR(IF(AND($T$2=\"\",$V$2=\"\",$Y$2=\"\"),\"\",IF(AC73=\"\",\"\",IF(AC73=1,AC$2,IF(AC73=2,AE$2,IF(AC73=3,AH$2,\"\"))))),\"\")","v":""},{"$nulls":8},{"$f":"IFERROR(IF(AND($T$2=\"\",$V$2=\"\",$Y$2=\"\"),\"\",IF(AL73=\"\",\"\",IF(AL73=1,AL$2,IF(AL73=2,AN$2,IF(AL73=3,AQ$2,\"\"))))),\"\")","v":""},{"$nulls":8},""]
[67,{"$f":"IF('Student DATA Entry'!A69=\"\",\"\",'Student DATA Entry'!A69)","v":""},{"$f":"IF('Student DATA Entry'!B69=\"\",\"\",'Student DATA Entry'!B69)","v":""},{"$f":"IF('Student DATA Entry'!G69=\"\",\"\",'Student DATA Entry'!G69)","v":""},{"$f":"IF('Student DATA Entry'!C69=\"\",\"\",'Student DATA Entry'!C69)","v":""},{"$f":"IF('Student DATA Entry'!D69=\"\",\"\",'Student DATA Entry'!D69)","v":""},{"$f":"IF('Student DATA Entry'!E69=\"\",\"\",'Student DATA Entry'!E69)","v":""},{"$f":"IF('Student DATA Entry'!H69=\"\",\"\",'Student DATA Entry'!H69)","v":""},{"$f":"IF('Student DATA Entry'!F69=\"\",\"\",'Student DATA Entry'!F69)","v":""},{"$nulls":11},"",{"$nulls":8},"",{"$nulls":8},"",{"$nulls":8},{"$f":"IFERROR(IF(AND($T$2=\"\",$V$2=\"\",$Y$2=\"\"),\"\",IF(AU74=\"\",\"\",IF(AU74=1,AU$2,IF(AU74=2,AW$2,IF(AU74=3,AZ$2,\"\"))))),\"\")","v":""}]
[68,{"$f":"IF('Student DATA Entry'!A70=\"\",\"\",'Student DATA Entry'!A70)","v":""},{"$f":"IF('Student DATA Entry'!B70=\"\",\"\",'Student DATA Entry'!B70)","v":""},{"$f":"IF('Student DATA Entry'!G70=\"\",\"\",'Student DATA Entry'!G70)","v":""},{"$f":"IF('Student DATA Entry'!C70=\"\",\"\",'Student DATA Entry'!C70)","v":""},{"$f":"IF('Student DATA Entry'!D70=\"\",\"\",'Student DATA Entry'!D70)","v":""},{"$f":"IF('Student DATA Entry'!E70=\"\",\"\",'Student DATA Entry'!E70)","v":""},{"$f":"IF('Student DATA Entry'!H70=\"\",\"\",'Student DATA Entry'!H70)","v":""},{"$f":"IF('Student DATA Entry'!F70=\"\",\"\",'Student DATA Entry'!F70)","v":""},{"$nulls":11},"",{"$nulls":8},"",{"$nulls":8},"",{"$nulls":8},""]
[69,{"$f":"IF('Student DATA Entry'!A71=\"\",\"\",'Student DATA Entry'!A71)","v":""},{"$f":"IF('Student DATA Entry'!B71=\"\",\"\",'Student DATA Entry'!B71)","v":""},{"$f":"IF('Student DATA Entry'!G71=\"\",\"\",'Student DATA Entry'!G71)","v":""},{"$f":"IF('Student DATA Entry'!C71=\"\",\"\",'Student DATA Entry'!C71)","v":""},{"$f":"IF('Student DATA Entry'!D71=\"\",\"\",'Student DATA Entry'!D71)","v":""},{"$f":"IF('Student DATA Entry'!E71=\"\",\"\",'Student DATA Entry'!E71)","v":""},{"$f":"IF('Student DATA Entry'!H71=\"\",\"\",'Student DATA Entry'!H71)","v":""},{"$f":"IF('Student DATA Entry'!F71=\"\",\"\",'Student DATA Entry'!F71)","v":""},{"$nulls":11},"",{"$nulls":8},"",{"$nulls":8},"",{"$nulls":8},""]
[70,{"$f":"IF('Student DATA Entry'!A72=\"\",\"\",'Student DATA Entry'!A72)","v":""},{"$f":"IF('Student DATA Entry'!B72=\"\",\"\",'Student DATA Entry'!B72)","v":""},{"$f":"IF('Student DATA Entry'!G72=\"\",\"\",'Student DATA Entry'!G72)","v":""},{"$f":"IF('Student DATA Entry'!C72=\"\",\"\",'Student DATA Entry'!C72)","v":""},{"$f":"IF('Student DATA Entry'!D72=\"\",\"\",'Student DATA Entry'!D72)","v":""},{"$f":"IF('Student DATA Entry'!E72=\"\",\"\",'Student DATA Entry'!E72)","v":""},{"$f":"IF('Student DATA Entry'!H72=\"\",\"\",'Student DATA Entry'!H72)","v":""},{"$f":"IF('Student DATA Entry'!F72=\"\",\"\",'Student DATA Entry'!F72)","v":""},{"$nulls":11},"",{"$nulls":8},"",{"$nulls":8},"",{"$nulls":8},""]
[71,{"$f":"IF('Student DATA Entry'!A73=\"\",\"\",'Student DATA Entry'!A73)","v":""},{"$f":"IF('Student DATA Entry'!B73=\"\",\"\",'Student DATA Entry'!B73)","v":""},{"$f":"IF('Student DATA Entry'!G73=\"\",\"\",'Student DATA Entry'!G73)","v":""},{"$f":"IF('Student DATA Entry'!C73=\"\",\"\",'Student DATA Entry'!C73)","v":""},{"$f":"IF('Student DATA Entry'!D73=\"\",\"\",'Student DATA Entry'!D73)","v":""},{"$f":"IF('Student DATA Entry'!E73=\"\",\"\",'Student DATA Entry'!E73)","v":""},{"$f":"IF('Student DATA Entry'!H73=\"\",\"\",'Student DATA Entry'!H73)","v":""},{"$f":"IF('Student DATA Entry'!F73=\"\",\"\",'Student DATA Entry'!F73)","v":""},{"$nulls":11},"",{"$nulls":8},"",{"$nulls":8},"",{"$nulls":8},""]
[72,{"$f":"IF('Student DATA Entry'!A74=\"\",\"\",'Student DATA Entry'!A74)","v":""},{"$f":"IF('Student DATA Entry'!B74=\"\",\"\",'Student DATA Entry'!B74)","v":""},{"$f":"IF('Student DATA Entry'!G74=\"\",\"\",'Student DATA Entry'!G74)","v":""},{"$f":"IF('Student DATA Entry'!C74=\"\",\"\",'Student DATA Entry'!C74)","v":""},{"$f":"IF('Student DATA Entry'!D74=\"\",\"\",'Student DATA Entry'!D74)","v":""},{"$f":"IF('Student DATA Entry'!E74=\"\",\"\",'Student DATA Entry'!E74)","v":""},{"$f":"IF('Student DATA Entry'!H74=\"\",\"\",'Student DATA Entry'!H74)","v":""},{"$f":"IF('Student DATA Entry'!F74=\"\",\"\",'Student DATA Entry'!F74)","v":""},{"$nulls":11},"",{"$nulls":8},"",{"$nulls":8},"",{"$nulls":8},""]
[73,{"$f":"IF('Student DATA Entry'!A75=\"\",\"\",'Student DATA Entry'!A75)","v":""},{"$f":"IF('Student DATA Entry'!B75=\"\",\"\",'Student DATA Entry'!B75)","v":""},{"$f":"IF('Student DATA Entry'!G75=\"\",\"\",'Student DATA Entry'!G75)","v":""},{"$f":"IF('Student DATA Entry'!C75=\"\",\"\",'Student DATA Entry'!C75)","v":""},{"$f":"IF('Student DATA Entry'!D75=\"\",\"\",'Student DATA Entry'!D75)","v":""},{"$f":"IF('Student DATA Entry'!E75=\"\",\"\",'Student DATA Entry'!E75)","v":""},{"$f":"IF('Student DATA Entry'!H75=\"\",\"\",'Student DATA Entry'!H75)","v":""},{"$f":"IF('Student DATA Entry'!F75=\"\",\"\",'Student DATA Entry'!F75)","v":""},{"$nulls":11},"",{"$nulls":8},"",{"$nulls":8},"",{"$nulls":8},""]
[74,{"$f":"IF('Student DATA Entry'!A76=\"\",\"\",'Student DATA Entry'!A76)","v":""},{"$f":"IF('Student DATA Entry'!B76=\"\",\"\",'Student DATA Entry'!B76)","v":""},{"$f":"IF('Student DATA Entry'!G76=\"\",\"\",'Student DATA Entry'!G76)","v":""},{"$f":"IF('Student DATA Entry'!C76=\"\",\"\",'Student DATA Entry'!C76)","v":""},{"$f":"IF('Student DATA Entry'!D76=\"\",\"\",'Student DATA Entry'!D76)","v":""},{"$f":"IF('Student DATA Entry'!E76=\"\",\"\",'Student DATA Entry'!E76)","v":""},{"$f":"IF('Student DATA Entry'!H76=\"\",\"\",'Student DATA Entry'!H76)","v":""},{"$f":"IF('Student DATA Entry'!F76=\"\",\"\",'Student DATA Entry'!F76)","v":""},{"$nulls":11},"",{"$nulls":8},"",{"$nulls":8},"",{"$nulls":8},""]
[75,{"$f":"IF('Student DATA Entry'!A77=\"\",\"\",'Student DATA Entry'!A77)","v":""},{"$f":"IF('Student DATA Entry'!B77=\"\",\"\",'Student DATA Entry'!B77)","v":""},{"$f":"IF('Student DATA Entry'!G77=\"\",\"\",'Student DATA Entry'!G77)","v":""},{"$f":"IF('Student DATA Entry'!C77=\"\",\"\",'Student DATA Entry'!C77)","v":""},{"$f":"IF('Student DATA Entry'!D77=\"\",\"\",'Student DATA Entry'!D77)","v":""},{"$f":"IF('Student DATA Entry'!E77=\"\",\"\",'Student DATA Entry'!E77)","v":""},{"$f":"IF('Student DATA Entry'!H77=\"\",\"\",'Student DATA Entry'!H77)","v":""},{"$f":"IF('Student DATA Entry'!F77=\"\",\"\",'Student DATA Entry'!F77)","v":""},{"$nulls":11},"",{"$nulls":8},"",{"$nulls":8},"",{"$nulls":8},""]
[76,{"$f":"IF('Student DATA Entry'!A78=\"\",\"\",'Student DATA Entry'!A78)","v":""},{"$f":"IF('Student DATA Entry'!B78=\"\",\"\",'Student DATA Entry'!B78)","v":""},{"$f":"IF('Student DATA Entry'!G78=\"\",\"\",'Student DATA Entry'!G78)","v":""},{"$f":"IF('Student DATA Entry'!C78=\"\",\"\",'Student DATA Entry'!C78)","v":""},{"$f":"IF('Student DATA Entry'!D78=\"\",\"\",'Student DATA Entry'!D78)","v":""},{"$f":"IF('Student DATA Entry'!E78=\"\",\"\",'Student DATA Entry'!E78)","v":""},{"$f":"IF('Student DATA Entry'!H78=\"\",\"\",'Student DATA Entry'!H78)","v":""},{"$f":"IF('Student DATA Entry'!F78=\"\",\"\",'Student DATA Entry'!F78)","v":""},{"$nulls":11},"",{"$nulls":8},"",{"$nulls":8},"",{"$nulls":8},""]
[77,{"$f":"IF('Student DATA Entry'!A79=\"\",\"\",'Student DATA Entry'!A79)","v":""},{"$f":"IF('Student DATA Entry'!B79=\"\",\"\",'Student DATA Entry'!B79)","v":""},{"$f":"IF('Student DATA Entry'!G79=\"\",\"\",'Student DATA Entry'!G79)","v":""},{"$f":"IF('Student DATA Entry'!C79=\"\",\"\",'Student DATA Entry'!C79)","v":""},{"$f":"IF('Student DATA Entry'!D79=\"\",\"\",'Student DATA Entry'!D79)","v":""},{"$f":"IF('Student DATA Entry'!E79=\"\",\"\",'Student DATA Entry'!E79)","v":""},{"$f":"IF('Student DATA Entry'!H79=\"\",\"\",'Student DATA Entry'!H79)","v":""},{"$f":"IF('Student DATA Entry'!F79=\"\",\"\",'Student DATA Entry'!F79)","v":""},{"$nulls":11},"",{"$nulls":8},"",{"$nulls":8},"",{"$nulls":8},""]
[78,{"$f":"IF('Student DATA Entry'!A80=\"\",\"\",'Student DATA Entry'!A80)","v":""},{"$f":"IF('Student DATA Entry'!B80=\"\",\"\",'Student DATA Entry'!B80)","v":""},{"$f":"IF('Student DATA Entry'!G80=\"\",\"\",'Student DATA Entry'!G80)","v":""},{"$f":"IF('Student DATA Entry'!C80=\"\",\"\",'Student DATA Entry'!C80)","v":""},{"$f":"IF('Student DATA Entry'!D80=\"\",\"\",'Student DATA Entry'!D80)","v":""},{"$f":"IF('Student DATA Entry'!E80=\"\",\"\",'Student DATA Entry'!E80)","v":""},{"$f":"IF('Student DATA Entry'!H80=\"\",\"\",'Student DATA Entry'!H80)","v":""},{"$f":"IF('Student DATA Entry'!F80=\"\",\"\",'Student DATA Entry'!F80)","v":""},{"$nulls":11},"",{"$nulls":8},"",{"$nulls":8},"",{"$nulls":8},""]
[79,{"$f":"IF('Student DATA Entry'!A81=\"\",\"\",'Student DATA Entry'!A81)","v":""},{"$f":"IF('Student DATA Entry'!B81=\"\",\"\",'Student DATA Entry'!B81)","v":""},{"$f":"IF('Student DATA Entry'!G81=\"\",\"\",'Student DATA Entry'!G81)","v":""},{"$f":"IF('Student DATA Entry'!C81=\"\",\"\",'Student DATA Entry'!C81)","v":""},{"$f":"IF('Student DATA Entry'!D81=\"\",\"\",'Student DATA Entry'!D81)","v":""},{"$f":"IF('Student DATA Entry'!E81=\"\",\"\",'Student DATA Entry'!E81)","v":""},{"$f":"IF('Student DATA Entry'!H81=\"\",\"\",'Student DATA Entry'!H81)","v":""},{"$f":"IF('Student DATA Entry'!F81=\"\",\"\",'Student DATA Entry'!F81)","v":""},{"$nulls":11},"",{"$nulls":8},"",{"$nulls":8},"",{"$nulls":8},""]
[80,{"$f":"IF('Student DATA Entry'!A82=\"\",\"\",'Student DATA Entry'!A82)","v":""},{"$f":"IF('Student DATA Entry'!B82=\"\",\"\",'Student DATA Entry'!B82)","v":""},{"$f":"IF('Student DATA Entry'!G82=\"\",\"\",'Student DATA Entry'!G82)","v":""},{"$f":"IF('Student DATA Entry'!C82=\"\",\"\",'Student DATA Entry'!C82)","v":""},{"$f":"IF('Student DATA Entry'!D82=\"\",\"\",'Student DATA Entry'!D82)","v":""},{"$f":"IF('Student DATA Entry'!E82=\"\",\"\",'Student DATA Entry'!E82)","v":""},{"$f":"IF('Student DATA Entry'!H82=\"\",\"\",'Student DATA Entry'!H82)","v":""},{"$f":"IF('Student DATA Entry'!F82=\"\",\"\",'Student DATA Entry'!F82)","v":""},{"$nulls":11},"",{"$nulls":8},"",{"$nulls":8},"",{"$nulls":8},""]
[81,{"$f":"IF('Student DATA Entry'!A83=\"\",\"\",'Student DATA Entry'!A83)","v":""},{"$f":"IF('Student DATA Entry'!B83=\"\",\"\",'Student DATA Entry'!B83)","v":""},{"$f":"IF('Student DATA Entry'!G83=\"\",\"\",'Student DATA Entry'!G83)","v":""},{"$f":"IF('Student DATA Entry'!C83=\"\",\"\",'Student DATA Entry'!C83)","v":""},{"$f":"IF('Student DATA Entry'!D83=\"\",\"\",'Student DATA Entry'!D83)","v":""},{"$f":"IF('Student DATA Entry'!E83=\"\",\"\",'Student DATA Entry'!E83)","v":""},{"$f":"IF('Student DATA Entry'!H83=\"\",\"\",'Student DATA Entry'!H83)","v":""},{"$f":"IF('Student DATA Entry'!F83=\"\",\"\",'Student DATA Entry'!F83)","v":""},{"$nulls":11},"",{"$nulls":8},"",{"$nulls":8},"",{"$nulls":8},""]
[82,{"$f":"IF('Student DATA Entry'!A84=\"\",\"\",'Student DATA Entry'!A84)","v":""},{"$f":"IF('Student DATA Entry'!B84=\"\",\"\",'Student DATA Entry'!B84)","v":""},{"$f":"IF('Student DATA Entry'!G84=\"\",\"\",'Student DATA Entry'!G84)","v":""},{"$f":"IF('Student DATA Entry'!C84=\"\",\"\",'Student DATA Entry'!C84)","v":""},{"$f":"IF('Student DATA Entry'!D84=\"\",\"\",'Student DATA Entry'!D84)","v":""},{"$f":"IF('Student DATA Entry'!E84=\"\",\"\",'Student DATA Entry'!E84)","v":""},{"$f":"IF('Student DATA Entry'!H84=\"\",\"\",'Student DATA Entry'!H84)","v":""},{"$f":"IF('Student DATA Entry'!F84=\"\",\"\",'Student DATA Entry'!F84)","v":""},{"$nulls":11},"",{"$nulls":8},"",{"$nulls":8},"",{"$nulls":8},""]
[83,{"$f":"IF('Student DATA Entry'!A85=\"\",\"\",'Student DATA Entry'!A85)","v":""},{"$f":"IF('Student DATA Entry'!B85=\"\",\"\",'Student DATA Entry'!B85)","v":""},{"$f":"IF('Student DATA Entry'!G85=\"\",\"\",'Student DATA Entry'!G85)","v":""},{"$f":"IF('Student DATA Entry'!C85=\"\",\"\",'Student DATA Entry'!C85)","v":""},{"$f":"IF('Student DATA Entry'!D85=\"\",\"\",'Student DATA Entry'!D85)","v":""},{"$f":"IF('Student DATA Entry'!E85=\"\",\"\",'Student DATA Entry'!E85)","v":""},{"$f":"IF('Student DATA Entry'!H85=\"\",\"\",'Student DATA Entry'!H85)","v":""},{"$f":"IF('Student DATA Entry'!F85=\"\",\"\",'Student DATA Entry'!F85)","v":""},{"$nulls":11},"",{"$nulls":8},"",{"$nulls":8},"",{"$nulls":8},""]
[84,{"$f":"IF('Student DATA Entry'!A86=\"\",\"\",'Student DATA Entry'!A86)","v":""},{"$f":"IF('Student DATA Entry'!B86=\"\",\"\",'Student DATA Entry'!B86)","v":""},{"$f":"IF('Student DATA Entry'!G86=\"\",\"\",'Student DATA Entry'!G86)","v":""},{"$f":"IF('Student DATA Entry'!C86=\"\",\"\",'Student DATA Entry'!C86)","v":""},{"$f":"IF('Student DATA Entry'!D86=\"\",\"\",'Student DATA Entry'!D86)","v":""},{"$f":"IF('Student DATA Entry'!E86=\"\",\"\",'Student DATA Entry'!E86)","v":""},{"$f":"IF('Student DATA Entry'!H86=\"\",\"\",'Student DATA Entry'!H86)","v":""},{"$f":"IF('Student DATA Entry'!F86=\"\",\"\",'Student DATA Entry'!F86)","v":""},{"$nulls":11},"",{"$nulls":8},"",{"$nulls":8},"",{"$nulls":8},""]
[85,{"$f":"IF('Student DATA Entry'!A87=\"\",\"\",'Student DATA Entry'!A87)","v":""},{"$f":"IF('Student DATA Entry'!B87=\"\",\"\",'Student DATA Entry'!B87)","v":""},{"$f":"IF('Student DATA Entry'!G87=\"\",\"\",'Student DATA Entry'!G87)","v":""},{"$f":"IF('Student DATA Entry'!C87=\"\",\"\",'Student DATA Entry'!C87)","v":""},{"$f":"IF('Student DATA Entry'!D87=\"\",\"\",'Student DATA Entry'!D87)","v":""},{"$f":"IF('Student DATA Entry'!E87=\"\",\"\",'Student DATA Entry'!E87)","v":""},{"$f":"IF('Student DATA Entry'!H87=\"\",\"\",'Student DATA Entry'!H87)","v":""},{"$f":"IF('Student DATA Entry'!F87=\"\",\"\",'Student DATA Entry'!F87)","v":""},{"$nulls":11},"",{"$nulls":8},"",{"$nulls":8},"",{"$nulls":8},""]
[86,{"$f":"IF('Student DATA Entry'!A88=\"\",\"\",'Student DATA Entry'!A88)","v":""},{"$f":"IF('Student DATA Entry'!B88=\"\",\"\",'Student DATA Entry'!B88)","v":""},{"$f":"IF('Student DATA Entry'!G88=\"\",\"\",'Student DATA Entry'!G88)","v":""},{"$f":"IF('Student DATA Entry'!C88=\"\",\"\",'Student DATA Entry'!C88)","v":""},{"$f":"IF('Student DATA Entry'!D88=\"\",\"\",'Student DATA Entry'!D88)","v":""},{"$f":"IF('Student DATA Entry'!E88=\"\",\"\",'Student DATA Entry'!E88)","v":""},{"$f":"IF('Student DATA Entry'!H88=\"\",\"\",'Student DATA Entry'!H88)","v":""},{"$f":"IF('Student DATA Entry'!F88=\"\",\"\",'Student DATA Entry'!F88)","v":""},{"$nulls":11},"",{"$nulls":8},"",{"$nulls":8},"",{"$nulls":8},""]
[87,{"$f":"IF('Student DATA Entry'!A89=\"\",\"\",'Student DATA Entry'!A89)","v":""},{"$f":"IF('Student DATA Entry'!B89=\"\",\"\",'Student DATA Entry'!B89)","v":""},{"$f":"IF('Student DATA Entry'!G89=\"\",\"\",'Student DATA Entry'!G89)","v":""},{"$f":"IF('Student DATA Entry'!C89=\"\",\"\",'Student DATA Entry'!C89)","v":""},{"$f":"IF('Student DATA Entry'!D89=\"\",\"\",'Student DATA Entry'!D89)","v":""},{"$f":"IF('Student DATA Entry'!E89=\"\",\"\",'Student DATA Entry'!E89)","v":""},{"$f":"IF('Student DATA Entry'!H89=\"\",\"\",'Student DATA Entry'!H89)","v":""},{"$f":"IF('Student DATA Entry'!F89=\"\",\"\",'Student DATA Entry'!F89)","v":""},{"$nulls":11},"",{"$nulls":8},"",{"$nulls":8},"",{"$nulls":8},""]
[88,{"$f":"IF('Student DATA Entry'!A90=\"\",\"\",'Student DATA Entry'!A90)","v":""},{"$f":"IF('Student DATA Entry'!B90=\"\",\"\",'Student DATA Entry'!B90)","v":""},{"$f":"IF('Student DATA Entry'!G90=\"\",\"\",'Student DATA Entry'!G90)","v":""},{"$f":"IF('Student DATA Entry'!C90=\"\",\"\",'Student DATA Entry'!C90)","v":""},{"$f":"IF('Student DATA Entry'!D90=\"\",\"\",'Student DATA Entry'!D90)","v":""},{"$f":"IF('Student DATA Entry'!E90=\"\",\"\",'Student DATA Entry'!E90)","v":""},{"$f":"IF('Student DATA Entry'!H90=\"\",\"\",'Student DATA Entry'!H90)","v":""},{"$f":"IF('Student DATA Entry'!F90=\"\",\"\",'Student DATA Entry'!F90)","v":""},{"$nulls":11},"",{"$nulls":8},"",{"$nulls":8},"",{"$nulls":8},""]
[89,{"$f":"IF('Student DATA Entry'!A91=\"\",\"\",'Student DATA Entry'!A91)","v":""},{"$f":"IF('Student DATA Entry'!B91=\"\",\"\",'Student DATA Entry'!B91)","v":""},{"$f":"IF('Student DATA Entry'!G91=\"\",\"\",'Student DATA Entry'!G91)","v":""},{"$f":"IF('Student DATA Entry'!C91=\"\",\"\",'Student DATA Entry'!C91)","v":""},{"$f":"IF('Student DATA Entry'!D91=\"\",\"\",'Student DATA Entry'!D91)","v":""},{"$f":"IF('Student DATA Entry'!E91=\"\",\"\",'Student DATA Entry'!E91)","v":""},{"$f":"IF('Student DATA Entry'!H91=\"\",\"\",'Student DATA Entry'!H91)","v":""},{"$f":"IF('Student DATA Entry'!F91=\"\",\"\",'Student DATA Entry'!F91)","v":""},{"$nulls":11},"",{"$nulls":8},"",{"$nulls":8},"",{"$nulls":8},""]
[90,{"$f":"IF('Student DATA Entry'!A92=\"\",\"\",'Student DATA Entry'!A92)","v":""},{"$f":"IF('Student DATA Entry'!B92=\"\",\"\",'Student DATA Entry'!B92)","v":""},{"$f":"IF('Student DATA Entry'!G92=\"\",\"\",'Student DATA Entry'!G92)","v":""},{"$f":"IF('Student DATA Entry'!C92=\"\",\"\",'Student DATA Entry'!C92)","v":""},{"$f":"IF('Student DATA Entry'!D92=\"\",\"\",'Student DATA Entry'!D92)","v":""},{"$f":"IF('Student DATA Entry'!E92=\"\",\"\",'Student DATA Entry'!E92)","v":""},{"$f":"IF('Student DATA Entry'!H92=\"\",\"\",'Student DATA Entry'!H92)","v":""},{"$f":"IF('Student DATA Entry'!F92=\"\",\"\",'Student DATA Entry'!F92)","v":""},{"$nulls":11},"",{"$nulls":8},"",{"$nulls":8},"",{"$nulls":8},""]
[91,{"$f":"IF('Student DATA Entry'!A93=\"\",\"\",'Student DATA Entry'!A93)","v":""},{"$f":"IF('Student DATA Entry'!B93=\"\",\"\",'Student DATA Entry'!B93)","v":""},{"$f":"IF('Student DATA Entry'!G93=\"\",\"\",'Student DATA Entry'!G93)","v":""},{"$f":"IF('Student DATA Entry'!C93=\"\",\"\",'Student DATA Entry'!C93)","v":""},{"$f":"IF('Student DATA Entry'!D93=\"\",\"\",'Student DATA Entry'!D93)","v":""},{"$f":"IF('Student DATA Entry'!E93=\"\",\"\",'Student DATA Entry'!E93)","v":""},{"$f":"IF('Student DATA Entry'!H93=\"\",\"\",'Student DATA Entry'!H93)","v":""},{"$f":"IF('Student DATA Entry'!F93=\"\",\"\",'Student DATA Entry'!F93)","v":""},{"$nulls":11},"",{"$nulls":8},"",{"$nulls":8},"",{"$nulls":8},""]
[92,{"$f":"IF('Student DATA Entry'!A94=\"\",\"\",'Student DATA Entry'!A94)","v":""},{"$f":"IF('Student DATA Entry'!B94=\"\",\"\",'Student DATA Entry'!B94)","v":""},{"$f":"IF('Student DATA Entry'!G94=\"\",\"\",'Student DATA Entry'!G94)","v":""},{"$f":"IF('Student DATA Entry'!C94=\"\",\"\",'Student DATA Entry'!C94)","v":""},{"$f":"IF('Student DATA Entry'!D94=\"\",\"\",'Student DATA Entry'!D94)","v":""},{"$f":"IF('Student DATA Entry'!E94=\"\",\"\",'Student DATA Entry'!E94)","v":""},{"$f":"IF('Student DATA Entry'!H94=\"\",\"\",'Student DATA Entry'!H94)","v":""},{"$f":"IF('Student DATA Entry'!F94=\"\",\"\",'Student DATA Entry'!F94)","v":""},{"$nulls":11},"",{"$nulls":8},"",{"$nulls":8},"",{"$nulls":8},""]
[93,{"$f":"IF('Student DATA Entry'!A95=\"\",\"\",'Student DATA Entry'!A95)","v":""},{"$f":"IF('Student DATA Entry'!B95=\"\",\"\",'Student DATA Entry'!B95)","v":""},{"$f":"IF('Student DATA Entry'!G95=\"\",\"\",'Student DATA Entry'!G95)","v":""},{"$f":"IF('Student DATA Entry'!C95=\"\",\"\",'Student DATA Entry'!C95)","v":""},{"$f":"IF('Student DATA Entry'!D95=\"\",\"\",'Student DATA Entry'!D95)","v":""},{"$f":"IF('Student DATA Entry'!E95=\"\",\"\",'Student DATA Entry'!E95)","v":""},{"$f":"IF('Student DATA Entry'!H95=\"\",\"\",'Student DATA Entry'!H95)","v":""},{"$f":"IF('Student DATA Entry'!F95=\"\",\"\",'Student DATA Entry'!F95)","v":""},{"$nulls":11},"",{"$nulls":8},"",{"$nulls":8},"",{"$nulls":8},""]
[94,{"$f":"IF('Student DATA Entry'!A96=\"\",\"\",'Student DATA Entry'!A96)","v":""},{"$f":"IF('Student DATA Entry'!B96=\"\",\"\",'Student DATA Entry'!B96)","v":""},{"$f":"IF('Student DATA Entry'!G96=\"\",\"\",'Student DATA Entry'!G96)","v":""},{"$f":"IF('Student DATA Entry'!C96=\"\",\"\",'Student DATA Entry'!C96)","v":""},{"$f":"IF('Student DATA Entry'!D96=\"\",\"\",'Student DATA Entry'!D96)","v":""},{"$f":"IF('Student DATA Entry'!E96=\"\",\"\",'Student DATA Entry'!E96)","v":""},{"$f":"IF('Student DATA Entry'!H96=\"\",\"\",'Student DATA Entry'!H96)","v":""},{"$f":"IF('Student DATA Entry'!F96=\"\",\"\",'Student DATA Entry'!F96)","v":""},{"$nulls":11},"",{"$nulls":8},"",{"$nulls":8},"",{"$nulls":8},""]
[95,{"$f":"IF('Student DATA Entry'!A97=\"\",\"\",'Student DATA Entry'!A97)","v":""},{"$f":"IF('Student DATA Entry'!B97=\"\",\"\",'Student DATA Entry'!B97)","v":""},{"$f":"IF('Student DATA Entry'!G97=\"\",\"\",'Student DATA Entry'!G97)","v":""},{"$f":"IF('Student DATA Entry'!C97=\"\",\"\",'Student DATA Entry'!C97)","v":""},{"$f":"IF('Student DATA Entry'!D97=\"\",\"\",'Student DATA Entry'!D97)","v":""},{"$f":"IF('Student DATA Entry'!E97=\"\",\"\",'Student DATA Entry'!E97)","v":""},{"$f":"IF('Student DATA Entry'!H97=\"\",\"\",'Student DATA Entry'!H97)","v":""},{"$f":"IF('Student DATA Entry'!F97=\"\",\"\",'Student DATA Entry'!F97)","v":""},{"$nulls":11},"",{"$nulls":8},"",{"$nulls":8},"",{"$nulls":8},""]
[96,{"$f":"IF('Student DATA Entry'!A98=\"\",\"\",'Student DATA Entry'!A98)","v":""},{"$f":"IF('Student DATA Entry'!B98=\"\",\"\",'Student DATA Entry'!B98)","v":""},{"$f":"IF('Student DATA Entry'!G98=\"\",\"\",'Student DATA Entry'!G98)","v":""},{"$f":"IF('Student DATA Entry'!C98=\"\",\"\",'Student DATA Entry'!C98)","v":""},{"$f":"IF('Student DATA Entry'!D98=\"\",\"\",'Student DATA Entry'!D98)","v":""},{"$f":"IF('Student DATA Entry'!E98=\"\",\"\",'Student DATA Entry'!E98)","v":""},{"$f":"IF('Student DATA Entry'!H98=\"\",\"\",'Student DATA Entry'!H98)","v":""},{"$f":"IF('Student DATA Entry'!F98=\"\",\"\",'Student DATA Entry'!F98)","v":""},{"$nulls":11},"",{"$nulls":8},"",{"$nulls":8},"",{"$nulls":8},""]
[97,{"$f":"IF('Student DATA Entry'!A99=\"\",\"\",'Student DATA Entry'!A99)","v":""},{"$f":"IF('Student DATA Entry'!B99=\"\",\"\",'Student DATA Entry'!B99)","v":""},{"$f":"IF('Student DATA Entry'!G99=\"\",\"\",'Student DATA Entry'!G99)","v":""},{"$f":"IF('Student DATA Entry'!C99=\"\",\"\",'Student DATA Entry'!C99)","v":""},{"$f":"IF('Student DATA Entry'!D99=\"\",\"\",'Student DATA Entry'!D99)","v":""},{"$f":"IF('Student DATA Entry'!E99=\"\",\"\",'Student DATA Entry'!E99)","v":""},{"$f":"IF('Student DATA Entry'!H99=\"\",\"\",'Student DATA Entry'!H99)","v":""},{"$f":"IF('Student DATA Entry'!F99=\"\",\"\",'Student DATA Entry'!F99)","v":""},{"$nulls":11},"",{"$nulls":8},"",{"$nulls":8},"",{"$nulls":8},""]
[98,{"$f":"IF('Student DATA Entry'!A100=\"\",\"\",'Student DATA Entry'!A100)","v":""},{"$f":"IF('Student DATA Entry'!B100=\"\",\"\",'Student DATA Entry'!B100)","v":""},{"$f":"IF('Student DATA Entry'!G100=\"\",\"\",'Student DATA Entry'!G100)","v":""},{"$f":"IF('Student DATA Entry'!C100=\"\",\"\",'Student DATA Entry'!C100)","v":""},{"$f":"IF('Student DATA Entry'!D100=\"\",\"\",'Student DATA Entry'!D100)","v":""},{"$f":"IF('Student DATA Entry'!E100=\"\",\"\",'Student DATA Entry'!E100)","v":""},{"$f":"IF('Student DATA Entry'!H100=\"\",\"\",'Student DATA Entry'!H100)","v":""},{"$f":"IF('Student DATA Entry'!F100=\"\",\"\",'Student DATA Entry'!F100)","v":""},{"$nulls":11},"",{"$nulls":8},"",{"$nulls":8},"",{"$nulls":8},""]
[99,{"$f":"IF('Student DATA Entry'!A101=\"\",\"\",'Student DATA Entry'!A101)","v":""},{"$f":"IF('Student DATA Entry'!B101=\"\",\"\",'Student DATA Entry'!B101)","v":""},{"$f":"IF('Student DATA Entry'!G101=\"\",\"\",'Student DATA Entry'!G101)","v":""},{"$f":"IF('Student DATA Entry'!C101=\"\",\"\",'Student DATA Entry'!C101)","v":""},{"$f":"IF('Student DATA Entry'!D101=\"\",\"\",'Student DATA Entry'!D101)","v":""},{"$f":"IF('Student DATA Entry'!E101=\"\",\"\",'Student DATA Entry'!E101)","v":""},{"$f":"IF('Student DATA Entry'!H101=\"\",\"\",'Student DATA Entry'!H101)","v":""},{"$f":"IF('Student DATA Entry'!F101=\"\",\"\",'Student DATA Entry'!F101)","v":""},{"$nulls":11},"",{"$nulls":8},"",{"$nulls":8},"",{"$nulls":8},""]
[100,{"$f":"IF('Student DATA Entry'!A102=\"\",\"\",'Student DATA Entry'!A102)","v":""},{"$f":"IF('Student DATA Entry'!B102=\"\",\"\",'Student DATA Entry'!B102)","v":""},{"$f":"IF('Student DATA Entry'!G102=\"\",\"\",'Student DATA Entry'!G102)","v":""},{"$f":"IF('Student DATA Entry'!C102=\"\",\"\",'Student DATA Entry'!C102)","v":""},{"$f":"IF('Student DATA Entry'!D102=\"\",\"\",'Student DATA Entry'!D102)","v":""},{"$f":"IF('Student DATA Entry'!E102=\"\",\"\",'Student DATA Entry'!E102)","v":""},{"$f":"IF('Student DATA Entry'!H102=\"\",\"\",'Student DATA Entry'!H102)","v":""},{"$f":"IF('Student DATA Entry'!F102=\"\",\"\",'Student DATA Entry'!F102)","v":""},{"$nulls":11},"",{"$nulls":8},"",{"$nulls":8},"",{"$nulls":8},""]

{"sheet":"Statement of Marks","index":5,"n_rows":122,"n_cols":165,"rows_kept":122,"merged":[[0,0,0,8],[0,9,0,17],[0,24,0,38],[0,39,3,39],[0,40,0,43],[0,44,0,47],[0,48,0,50],[0,57,3,57],[0,58,0,61],[0,62,0,65],[0,66,0,68],[0,75,3,75],[0,76,0,79],[0,80,0,83],[0,84,0,86],[0,93,3,93],[0,94,0,97],[0,98,0,101],[0,102,0,104],[0,124,0,127],[0,128,1,152],[0,153,2,154],[0,155,1,158],[0,159,1,163],[0,164,1,164],[1,0,1,1],[1,3,1,4],[1,5,1,8],[1,9,1,23],[1,24,1,38],[1,40,1,43],[1,44,1,47],[1,48,1,50],[1,58,1,61],[1,62,1,65],[1,66,1,68],[1,76,1,79],[1,80,1,83],[1,84,1,86],[1,94,1,97],[1,98,1,101],[1,102,1,104],[1,112,3,117],[1,118,3,118],[1,119,3,119],[1,120,3,120],[1,121,3,121],[1,122,3,122],[1,124,1,127],[2,0,4,0],[2,1,4,1],[2,2,4,2],[2,3,4,3],[2,4,4,4],[2,5,4,5],[2,6,4,6],[2,7,4,7],[2,8,4,8],[2,9,2,12],[2,13,3,13],[2,14,3,14],[2,15,3,15],[2,16,3,16],[2,17,3,17],[2,18,3,18],[2,19,3,19],[2,20,3,20],[2,21,3,21],[2,22,3,22],[2,23,3,23],[2,24,2,27],[2,28,3,28],[2,29,3,29],[2,30,3,30],[2,31,3,31],[2,32,3,32],[2,33,3,33],[2,34,3,34],[2,35,3,35],[2,36,3,36],[2,37,3,37],[2,38,3,38],[2,40,2,43],[2,44,3,44],[2,45,3,45],[2,46,3,46],[2,47,3,47],[2,48,3,48],[2,49,3,49],[2,50,3,50],[2,51,3,51],[2,52,3,52],[2,53,3,53],[2,54,3,54],[2,55,3,55],[2,56,3,56],[2,58,2,61],[2,62,3,62],[2,63,3,63],[2,64,3,64],[2,65,3,65],[2,66,3,66],[2,67,3,67],[2,68,3,68],[2,69,3,69],[2,70,3,70],[2,71,3,71],[2,72,3,72],[2,73,3,73],[2,74,3,74],[2,76,2,79],[2,80,3,80],[2,81,3,81],[2,82,3,82],[2,83,3,83],[2,84,3,84],[2,85,3,85],[2,86,3,86],[2,87,3,87],[2,88,3,88],[2,89,3,89],[2,90,3,90],[2,91,3,91],[2,92,3,92],[2,94,2,97],[2,98,3,98],[2,99,3,99],[2,100,3,100],[2,101,3,101],[2,102,3,102],[2,103,3,103],[2,104,3,104],[2,105,3,105],[2,106,3,106],[2,107,3,107],[2,108,3,108],[2,109,3,109],[2,110,3,110],[2,111,3,111],[2,123,4,123],[2,124,2,127],[2,128,2,129],[2,130,2,131],[2,132,2,136],[2,137,2,141],[2,142,2,146],[2,147,2,151],[2,152,3,152],[2,155,4,155],[2,156,4,156],[2,157,4,157],[2,158,4,158],[2,159,4,159],[2,160,3,160],[2,162,3,162],[2,163,4,163],[2,164,4,164],[3,128,4,128],[3,129,4,129],[3,130,4,130],[3,131,4,131],[3,132,4,132],[3,136,4,136],[3,137,4,137],[3,141,4,141],[3,142,4,142],[3,146,4,146],[3,147,4,147],[3,151,4,151],[105,0,105,164],[106,0,106,4],[106,5,106,6],[106,7,106,8],[106,9,106,23],[106,24,106,38],[106,39,119,39],[106,40,106,41],[106,42,106,44],[106,45,106,47],[106,48,106,50],[106,58,106,59],[106,60,106,62],[106,63,106,65],[106,66,106,68],[106,75,119,75],[106,76,106,77],[106,78,106,80],[106,81,106,83],[106,84,106,86],[106,93,119,93],[106,94,106,95],[106,96,106,98],[106,99,106,101],[106,102,106,104],[106,124,119,124],[106,125,107,129],[106,156,106,157],[106,159,106,161],[106,162,106,163],[107,0,107,4],[107,5,107,6],[107,7,107,8],[107,9,107,23],[107,24,107,38],[107,40,107,41],[107,42,107,44],[107,45,107,47],[107,48,107,50],[107,58,107,59],[107,60,107,62],[107,63,107,65],[107,66,107,68],[107,76,107,77],[107,78,107,80],[107,81,107,83],[107,84,107,86],[107,94,107,95],[107,96,107,98],[107,99,107,101],[107,102,107,104],[107,156,108,157],[107,158,108,158],[107,159,107,160],[107,162,107,163],[108,5,108,6],[108,7,108,8],[108,9,108,23],[108,24,108,38],[108,40,108,41],[108,42,108,44],[108,45,108,47],[108,48,108,50],[108,58,108,59],[108,60,108,62],[108,63,108,65],[108,66,108,68],[108,76,108,77],[108,78,108,80],[108,81,108,83],[108,84,108,86],[108,94,108,95],[108,96,108,98],[108,99,108,101],[108,102,108,104],[108,125,108,126],[108,127,108,129],[108,159,108,160],[108,162,108,163],[109,5,109,6],[109,7,109,8],[109,9,109,17],[109,18,109,22],[109,24,109,32],[109,33,109,37],[109,40,109,41],[109,42,109,44],[109,45,109,47],[109,48,109,50],[109,58,109,59],[109,60,109,62],[109,63,109,65],[109,66,109,68],[109,76,109,77],[109,78,109,80],[109,81,109,83],[109,84,109,86],[109,94,109,95],[109,96,109,98],[109,99,109,101],[109,102,109,104],[109,125,109,126],[109,127,109,129],[109,156,110,157],[109,158,110,158],[109,159,109,160],[109,162,109,163],[110,0,110,3],[110,5,110,6],[110,7,110,8],[110,9,110,17],[110,18,110,22],[110,24,110,32],[110,33,110,37],[110,40,110,41],[110,42,110,44],[110,45,110,47],[110,48,110,50],[110,58,110,59],[110,60,110,62],[110,63,110,65],[110,66,110,68],[110,76,110,77],[110,78,110,80],[110,81,110,83],[110,84,110,86],[110,94,110,95],[110,96,110,98],[110,99,110,101],[110,102,110,104],[110,125,110,126],[110,127,110,129],[110,159,110,160],[110,162,110,163],[111,0,111,3],[111,5,111,6],[111,7,111,8],[111,9,111,23],[111,24,111,38],[111,40,111,41],[111,42,111,44],[111,45,111,47],[111,48,111,50],[111,58,111,59],[111,60,111,62],[111,63,111,65],[111,66,111,68],[111,76,111,77],[111,78,111,80],[111,81,111,83],[111,84,111,86],[111,94,111,95],[111,96,111,98],[111,99,111,101],[111,102,111,104],[111,125,111,126],[111,127,111,129],[111,156,112,157],[111,158,112,158],[111,159,111,160],[111,162,111,163],[112,0,112,3],[112,5,112,6],[112,7,112,8],[112,9,112,23],[112,24,112,38],[112,40,112,41],[112,42,112,44],[112,45,112,47],[112,48,112,50],[112,58,112,59],[112,60,112,62],[112,63,112,65],[112,66,112,68],[112,76,112,77],[112,78,112,80],[112,81,112,83],[112,84,112,86],[112,94,112,95],[112,96,112,98],[112,99,112,101],[112,102,112,104],[112,125,112,126],[112,127,112,129],[112,159,112,160],[112,162,112,163],[113,0,113,3],[113,5,113,6],[113,7,113,8],[113,9,113,23],[113,24,113,38],[113,40,113,41],[113,42,113,44],[113,45,113,47],[113,48,113,50],[113,58,113,59],[113,60,113,62],[113,63,113,65],[113,66,113,68],[113,76,113,77],[113,78,113,80],[113,81,113,83],[113,84,113,86],[113,94,113,95],[113,96,113,98],[113,99,113,101],[113,102,113,104],[113,125,113,126],[113,127,113,129],[113,156,116,157],[113,158,116,158],[113,159,113,161],[113,162,113,163],[114,0,114,3],[114,5,114,6],[114,7,114,8],[114,9,114,17],[114,24,114,32],[114,40,114,41],[114,42,114,44],[114,45,114,47],[114,48,114,50],[114,58,114,59],[114,60,114,62],[114,63,114,65],[114,66,114,68],[114,76,114,77],[114,78,114,80],[114,81,114,83],[114,84,114,86],[114,94,114,95],[114,96,114,98],[114,99,114,101],[114,102,114,104],[114,125,114,126],[114,127,114,129],[114,159,114,161],[114,162,114,163],[115,0,115,3],[115,5,115,6],[115,7,115,8],[115,9,115,17],[115,24,115,32],[115,40,115,41],[115,42,115,44],[115,45,115,47],[115,48,115,50],[115,58,115,59],[115,60,115,62],[115,63,115,65],[115,66,115,68],[115,76,115,77],[115,78,115,80],[115,81,115,83],[115,84,115,86],[115,94,115,95],[115,96,115,98],[115,99,115,101],[115,102,115,104],[115,125,115,126],[115,127,115,129],[115,159,115,161],[115,162,115,163],[116,0,116,3],[116,5,116,6],[116,7,116,8],[116,9,116,17],[116,24,116,32],[116,40,116,41],[116,42,116,44],[116,45,116,47],[116,48,116,50],[116,58,116,59],[116,60,116,62],[116,63,116,65],[116,66,116,68],[116,76,116,77],[116,78,116,80],[116,81,116,83],[116,84,116,86],[116,94,116,95],[116,96,116,98],[116,99,116,101],[116,102,116,104],[116,125,116,126],[116,127,116,129],[116,159,116,161],[116,162,116,163],[117,0,117,3],[117,5,117,6],[117,7,117,8],[117,9,117,23],[117,24,117,38],[117,40,117,41],[117,42,117,44],[117,45,117,47],[117,48,117,50],[117,58,117,59],[117,60,117,62],[117,63,117,65],[117,66,117,68],[117,76,117,77],[117,78,117,80],[117,81,117,83],[117,84,117,86],[117,94,117,95],[117,96,117,98],[117,99,117,101],[117,102,117,104],[117,125,117,126],[117,127,117,129],[117,156,119,157],[117,158,119,164],[118,0,118,3],[118,5,118,6],[118,7,118,8],[118,9,118,23],[118,24,118,38],[118,40,118,41],[118,42,118,44],[118,45,118,47],[118,48,118,50],[118,58,118,59],[118,60,118,62],[118,63,118,65],[118,66,118,68],[118,76,118,77],[118,78,118,80],[118,81,118,83],[118,84,118,86],[118,94,118,95],[118,96,118,98],[118,99,118,101],[118,102,118,104],[118,125,118,126],[118,127,118,129],[119,0,119,4],[119,5,119,6],[119,7,119,8],[119,9,119,23],[119,24,119,38],[119,40,119,41],[119,42,119,44],[119,45,119,47],[119,48,119,50],[119,58,119,59],[119,60,119,62],[119,63,119,65],[119,66,119,68],[119,76,119,77],[119,78,119,80],[119,81,119,83],[119,84,119,86],[119,94,119,95],[119,96,119,98],[119,99,119,101],[119,102,119,104],[119,125,119,126],[119,127,119,129],[121,4,121,7]]}
[{"$f":"CONCATENATE(\"School Name :-\",\"  \",'Master sheet'!C8)","v":"School Name :-  Governt Senior Secondary School INDERWARA"},{"$nulls":8},{"$f":"'Marks Entry'!J1","v":"Com. Hindi"},{"$nulls":14},{"$f":"'Marks Entry'!O1","v":"Com. English"},{"$nulls":14},"Subject Code",{"$f":"IF('Marks Entry'!T2=\"\",\"\",'Marks Entry'!T2)","v":"POLITICAL SCIENCE"},{"$nulls":3},{"$f":"IF('Marks Entry'!V2=\"\",\"\",'Marks Entry'!V2)","v":""},{"$nulls":3},{"$f":"IF('Marks Entry'!Y2=\"\",\"\",'Marks Entry'!Y2)","v":"BIOLOGY"},{"$nulls":8},"Subject Code",{"$f":"IF('Marks Entry'!AC2=\"\",\"\",'Marks Entry'!AC2)","v":"HISTORY"},{"$nulls":3},{"$f":"IF('Marks Entry'!AE2=\"\",\"\",'Marks Entry'!AE2)","v":""},{"$nulls":3},{"$f":"IF('Marks Entry'!AH2=\"\",\"\",'Marks Entry'!AH2)","v":""},{"$nulls":8},"Subject Code",{"$f":"IF('Marks Entry'!AL2=\"\",\"\",'Marks Entry'!AL2)","v":"GEOGRAPHY"},{"$nulls":3},{"$f":"IF('Marks Entry'!AN2=\"\",\"\",'Marks Entry'!AN2)","v":"HINDI LITERATURE"},{"$nulls":3},{"$f":"IF('Marks Entry'!AQ2=\"\",\"\",'Marks Entry'!AQ2)","v":""},{"$nulls":8},"Subject Code",{"$f":"IF('Marks Entry'!AU2=\"\",\"\",'Marks Entry'!AU2)","v":"MATHEMATICS"},{"$nulls":3},{"$f":"IF('Marks Entry'!AW2=\"\",\"\",'Marks Entry'!AW2)","v":"BEAUTY AND HEALTH"},{"$nulls":3},{"$f":"IF('Marks Entry'!AZ2=\"\",\"\",'Marks Entry'!AZ2)","v":"ELECTRICALS AND ELECTRONICS"},{"$nulls":21},"Co-educational activity",{"$nulls":3},"Result",{"$nulls":24}," Students Attendance Detail ",null,"Specifications",{"$nulls":3},"Main Exam. Result"]
["CLASS :-",null,{"$f":"'Marks Entry'!G2","v":"11'A'"},{"$f":"CONCATENATE(\"Session :\",\"  \",'Marks Entry'!F2)","v":"Session :  2019-20"},null,"GO TO THE LAST ROW",{"$nulls":3},{"$f":"IF('Marks Entry'!J3=\"\",\"\",'Marks Entry'!J3)","v":"Mangilal Rangi"},{"$nulls":14},{"$f":"IF('Marks Entry'!O3=\"\",\"\",'Marks Entry'!O3)","v":"Mishri lal"},{"$nulls":15},{"$f":"IF('Marks Entry'!T3=\"\",\"\",'Marks Entry'!T3)","v":"Heera lal jat"},{"$nulls":3},{"$f":"IF('Marks Entry'!V3=\"\",\"\",'Marks Entry'!V3)","v":""},{"$nulls":3},{"$f":"IF('Marks Entry'!Y3=\"\",\"\",'Marks Entry'!Y3)","v":"Kamlesh"},{"$nulls":9},{"$f":"IF('Marks Entry'!AC3=\"\",\"\",'Marks Entry'!AC3)","v":"Bhagwan singh"},{"$nulls":3},{"$f":"IF('Marks Entry'!AE3=\"\",\"\",'Marks Entry'!AE3)","v":""},{"$nulls":3},{"$f":"IF('Marks Entry'!AH3=\"\",\"\",'Marks Entry'!AH3)","v":""},{"$nulls":9},{"$f":"IF('Marks Entry'!AL3=\"\",\"\",'Marks Entry'!AL3)","v":"Kalyan Singh"},{"$nulls":3},{"$f":"IF('Marks Entry'!AN3=\"\",\"\",'Marks Entry'!AN3)","v":"Rajiv"},{"$nulls":3},{"$f":"IF('Marks Entry'!AQ3=\"\",\"\",'Marks Entry'!AQ3)","v":""},{"$nulls":9},{"$f":"IF('Marks Entry'!AU3=\"\",\"\",'Marks Entry'!AU3)","v":"Manhendra patel"},{"$nulls":3},{"$f":"IF('Marks Entry'!AW3=\"\",\"\",'Marks Entry'!AW3)","v":"mangi lal rangi"},{"$nulls":3},{"$f":"IF('Marks Entry'!AZ3=\"\",\"\",'Marks Entry'!AZ3)","v":"Bhalaram "},{"$nulls":9},"fo\"k; okj ifj.kke",{"$nulls":5},"vuqRrkh.kZ  ;ksX; fo\"k;","iwjd ;ksX; fo\"k;","1 d`ikad  ;ksX; fo\"k;","2 d`ikad  ;ksX; fo\"k;","iqu% ijh{kk  ;ksX; fo\"k;",null,{"$f":"IF('Marks Entry'!BD1=\"\",\"\",'Marks Entry'!BD1)","v":"JEEVAN KAUSHAL"}]
[{"$f":"'Marks Entry'!A3:A8","v":"S. N."},{"$f":"'Marks Entry'!B3:B8","v":"Roll No."},{"$f":"'Marks Entry'!C3:C8","v":"Student Sr. No."},{"$f":"'Marks Entry'!D3:D8","v":"Date of Birth"},{"$f":"'Marks Entry'!E5","v":"Student Name"},{"$f":"'Marks Entry'!F5","v":"Father Name"},{"$f":"'Marks Entry'!G5","v":"Mother Name"},{"$f":"'Marks Entry'!H3:H8","v":"Category"},{"$f":"'Marks Entry'!I3:I8","v":"Gender"},"Seasonal Exam",{"$nulls":3},"Weightage of Test","Half Yearly ","Weightage of H.Y.","Achieved for Overall performance of the student in academic activities","Sub. Total","EXEMPTION","EXEMPTION","fo\"k; iw.kkZad","2T+E OR 2E+T","fo\"k; ifj.kke","fo\"k; Js.kh","Seasonal Exam",{"$nulls":3},"Weightage of Test","Half Yearly ","Weightage of H.Y.","Achieved for Overall performance of the student in academic activities","Sub. Total","EXEMPTION","EXEMPTION","fo\"k; iw.kkZad","2T+E OR 2E+T","fo\"k; ifj.kke","fo\"k; Js.kh",null,"Seasonal Exam",{"$nulls":3},"Weightage of Test","Half yearly TH.","Half yearly Prac.","Total Half Yearly ","Weightage of H.Y.","Achieved for Overall performance of the student in academic activities","Sub. Total","EXEMPTION","EXEMPTION","fo\"k; iw.kkZad","2T+E OR 2E+T","fo\"k; ifj.kke","fo\"k; Js.kh",null,"Seasonal Exam",{"$nulls":3},"Weightage of Test","Half yearly TH.","Half yearly Prac.","Total Half Yearly ","Weightage of H.Y.","Achieved for Overall performance of the student in academic activities","Sub. Total","EXEMPTION","EXEMPTION","fo\"k; iw.kkZad","2T+E OR 2E+T","fo\"k; ifj.kke","fo\"k; Js.kh",null,"Seasonal Exam",{"$nulls":3},"Weightage of Test","Half yearly TH.","Half yearly Prac.","Total Half Yearly ","Weightage of H.Y.","Achieved for Overall performance of the student in academic activities","Sub. Total","EXEMPTION","EXEMPTION","fo\"k; iw.kkZad","2T+E OR 2E+T","fo\"k; ifj.kke","fo\"k; Js.kh",null,"Seasonal Exam",{"$nulls":3},"Weightage of Test","Half yearly TH.","Half yearly Prac.","Total Half Yearly ","Weightage of H.Y.","Achieved for Overall performance of the student in academic activities","Sub. Total","EXEMPTION","EXEMPTION","fo\"k; iw.kkZad","2T+E OR 2E+T","fo\"k; ifj.kke","fo\"k; Js.kh","TOTAL EXEMPTION",{"$nulls":11},"mRrh.kZ@    lkuqxzg mRrh.kZ@ vuqRrh.kZ@ iwjd@ vuqifLFkr",{"$f":"IF('Marks Entry'!BD4=\"\",\"\",'Marks Entry'!BD4)","v":"Bhagwan singh"},{"$nulls":3},"Hindi",null,"English",null,"option - 1",{"$nulls":4},"option - 2",{"$nulls":4},"option - 3",{"$nulls":4},"option - 4",{"$nulls":4},"JEEVAN KAUSHAL",null,null,"Failed Subject","Supp. Subject","By Grace Subject","Distinction Subject","Pass/ By grace Pass/ Supp. / Failed","Grand Total ","Percent","Div.","Position in Class","Specifications"]
[{"$nulls":9},"1st Test","2nd Test","3rd Test","Total",{"$nulls":11},"1st Test","2nd Test","3rd Test","Total",{"$nulls":12},"1st Test","2nd Test","3rd Test","Total",{"$nulls":14},"1st Test","2nd Test","3rd Test","Total",{"$nulls":14},"1st Test","2nd Test","3rd Test","Total",{"$nulls":14},"1st Test","2nd Test","3rd Test","Total",{"$nulls":26},"CONT. ASSMNT.","CONT. ASSMNT.","Overall performance of the student","Sub. Total","HINDI","Grace","ENGLISH","Grace","Sub. Grade",{"$f":"AO1","v":"POLITICAL SCIENCE"},{"$f":"AS1","v":""},{"$f":"AW1","v":"BIOLOGY"},"Grace","Sub. Grade",{"$f":"BG1","v":"HISTORY"},{"$f":"BK1","v":""},{"$f":"BO1","v":""},"Grace","Sub. Grade",{"$f":"BY1","v":"GEOGRAPHY"},{"$f":"CC1","v":"HINDI LITERATURE"},{"$f":"CG1","v":""},"Grace","Sub. Grade",{"$f":"CQ1","v":"MATHEMATICS"},{"$f":"CU1","v":"BEAUTY AND HEALTH"},{"$f":"CY1","v":"ELECTRICALS AND ELECTRONICS"},"Grace",null,"Total Meeting","Total Attendance",{"$nulls":6},"izfr'kr"]
[{"$nulls":9},10,10,10,{"$f":"IF(AND(J5=\"\",K5=\"\",L5=\"\"),\"\",SUM(J5:L5))","v":30},20,70,50,30,{"$f":"IF(AND(N5=\"\",P5=\"\",Q5=\"\"),\"\",SUM(N5,P5,Q5))","v":100},{"$f":"COUNTIF(J5:L5,\"NA\")*10","v":0},{"$f":"(COUNTIF(J5:L5,\"ML\")*10)+(COUNTIF(O5,\"ML\")*70)+(COUNTIF(Q5,\"ML\")*100)","v":0},{"$f":"IF(OR($B5=\"NSO\",$B5=0),\"\",IF(AND(J5=\"\",K5=\"\",L5=\"\",O5=\"\",Q5=\"\"),\"\",IF(AND(K5=\"\",L5=\"\",O5=\"\",Q5=\"\"),10-S5-T5,IF(AND(L5=\"\",O5=\"\",Q5=\"\"),20-S5-T5,IF(AND(L5=\"\",Q5=\"\"),90-S5-T5,IF(Q5=\"\",100-S5-T5,200-S5-T5))))))","v":""},{"$f":"IF(AND(OR(J5=\"ab\",J5=\"ml\"),OR(K5=\"ab\",K5=\"ml\"),OR(L5=\"ab\",L5=\"ml\")),\"AB\",IF(AND(OR(J5=\"ab\",J5=\"ml\"),OR(K5=\"ab\",K5=\"ml\"),OR(O5=\"ab\",O5=\"ml\")),\"AB\",IF(AND(OR(J5=\"ab\",J5=\"ml\"),OR(O5=\"ab\",O5=\"ml\"),OR(L5=\"ab\",L5=\"ml\")),\"AB\",IF(AND(OR(O5=\"ab\",O5=\"ml\"),OR(K5=\"ab\",K5=\"ml\"),OR(L5=\"ab\",L5=\"ml\")),\"AB\",\"\"))))","v":""},{"$f":"IF(OR($B5=\"NSO\",$B5=\"\",Q5=\"\"),\"\",IF(OR(V5=\"AB\",Q5=\"ab\"),\"AB\",IF(Q5=\"ML\",\"RE\",IF(AND(R5>=36%*U5,Q5>=20),\"P\",IF(AND(R5>=34%*U5,T5=0,Q5>=20),\"G2\",IF(AND(R5>=31%*U5,T5=0,Q5>=20),\"G1\",IF(R5>=25%*U5,\"S\",\"F\")))))))","v":""},{"$f":"IF(OR(W5=\"\",W5=0,W5=\"S\",W5=\"RE\",W5=\"F\",W5=\"AB\"),W5,IF(R5>=75%*U5,\"D\",IF(R5>=60%*U5,\"I\",IF(R5>=48%*U5,\"II\",IF(R5>=36%*U5,\"III\",W5)))))","v":""},10,10,10,{"$f":"IF(AND(Y5=\"\",Z5=\"\",AA5=\"\"),\"\",SUM(Y5:AA5))","v":30},20,70,50,30,{"$f":"IF(AND(AC5=\"\",AE5=\"\",AF5=\"\"),\"\",SUM(AC5,AE5,AF5))","v":100},{"$f":"COUNTIF(Y5:AA5,\"NA\")*10","v":0},{"$f":"(COUNTIF(Y5:AA5,\"ML\")*10)+(COUNTIF(AD5,\"ML\")*70)+(COUNTIF(AF5,\"ML\")*100)","v":0},{"$f":"IF(OR($B5=\"NSO\",$B5=0),\"\",IF(AND(Y5=\"\",Z5=\"\",AA5=\"\",AD5=\"\",AF5=\"\"),\"\",IF(AND(Z5=\"\",AA5=\"\",AD5=\"\",AF5=\"\"),10-AH5-AI5,IF(AND(AA5=\"\",AD5=\"\",AF5=\"\"),20-AH5-AI5,IF(AND(AA5=\"\",AF5=\"\"),90-AH5-AI5,IF(AF5=\"\",100-AH5-AI5,200-AH5-AI5))))))","v":""},{"$f":"IF(AND(OR(Y5=\"ab\",Y5=\"ml\"),OR(Z5=\"ab\",Z5=\"ml\"),OR(AA5=\"ab\",AA5=\"ml\")),\"AB\",IF(AND(OR(Y5=\"ab\",Y5=\"ml\"),OR(Z5=\"ab\",Z5=\"ml\"),OR(AD5=\"ab\",AD5=\"ml\")),\"AB\",IF(AND(OR(Y5=\"ab\",Y5=\"ml\"),OR(AD5=\"ab\",AD5=\"ml\"),OR(AA5=\"ab\",AA5=\"ml\")),\"AB\",IF(AND(OR(AD5=\"ab\",AD5=\"ml\"),OR(Z5=\"ab\",Z5=\"ml\"),OR(AA5=\"ab\",AA5=\"ml\")),\"AB\",\"\"))))","v":""},{"$f":"IF(OR($B5=\"NSO\",$B5=\"\",AF5=\"\"),\"\",IF(OR(AK5=\"AB\",AF5=\"ab\"),\"AB\",IF(AF5=\"ML\",\"RE\",IF(AND(AG5>=36%*AJ5,AF5>=20),\"P\",IF(AND(AG5>=34%*AJ5,AI5=0,AF5>=20),\"G2\",IF(AND(AG5>=31%*AJ5,AI5=0,AF5>=20),\"G1\",IF(AG5>=25%*AJ5,\"S\",\"F\")))))))","v":""},{"$f":"IF(OR(AL5=\"\",AL5=0,AL5=\"S\",AL5=\"RE\",AL5=\"F\",AL5=\"AB\"),AL5,IF(AG5>=75%*AJ5,\"D\",IF(AG5>=60%*AJ5,\"I\",IF(AG5>=48%*AJ5,\"II\",IF(AG5>=36%*AJ5,\"III\",AL5)))))","v":""},null,10,10,10,{"$f":"IF(AND(AO5=\"\",AP5=\"\",AQ5=\"\"),\"\",SUM(AO5:AQ5))","v":30},20,null,null,70,50,30,{"$f":"IF(AND(AS5=\"\",AW5=\"\",AX5=\"\"),\"\",SUM(AS5,AW5,AX5))","v":100},{"$f":"COUNTIF(AO5:AQ5,\"NA\")*10","v":0},{"$f":"(COUNTIF(AO5:AQ5,\"ML\")*10)+(COUNTIF(AT5,\"ML\")*70)+(COUNTIF(AX5,\"ML\")*100)","v":0},{"$f":"IF(OR($B5=\"NSO\",$B5=0),\"\",IF(AND(AO5=\"\",AP5=\"\",AQ5=\"\",AT5=\"\",AX5=\"\"),\"\",IF(AND(AP5=\"\",AQ5=\"\",AT5=\"\",AX5=\"\"),10-AZ5-BA5,IF(AND(AQ5=\"\",AT5=\"\",AX5=\"\"),20-AZ5-BA5,IF(AND(AQ5=\"\",AX5=\"\"),90-AZ5-BA5,IF(AX5=\"\",100-AZ5-BA5,200-AZ5-BA5))))))","v":""},{"$f":"IF(AND(OR(AO5=\"ab\",AO5=\"ml\"),OR(AP5=\"ab\",AP5=\"ml\"),OR(AQ5=\"ab\",AQ5=\"ml\")),\"AB\",IF(AND(OR(AO5=\"ab\",AO5=\"ml\"),OR(AP5=\"ab\",AP5=\"ml\"),OR(AT5=\"ab\",AT5=\"ml\")),\"AB\",IF(AND(OR(AO5=\"ab\",AO5=\"ml\"),OR(AT5=\"ab\",AT5=\"ml\"),OR(AQ5=\"ab\",AQ5=\"ml\")),\"AB\",IF(AND(OR(AT5=\"ab\",AT5=\"ml\"),OR(AP5=\"ab\",AP5=\"ml\"),OR(AQ5=\"ab\",AQ5=\"ml\")),\"AB\",\"\"))))","v":""},{"$f":"IF(OR($B5=\"NSO\",$B5=\"\",AX5=\"\"),\"\",IF(OR(BC5=\"AB\",AX5=\"ab\"),\"AB\",IF(AX5=\"ML\",\"RE\",IF(AND(AY5>=36%*BB5,AX5>=20),\"P\",IF(AND(AY5>=34%*BB5,BA5=0,AX5>=20),\"G2\",IF(AND(AY5>=31%*BB5,BA5=0,AX5>=20),\"G1\",IF(AY5>=25%*BB5,\"S\",\"F\")))))))","v":""},{"$f":"IF(OR(BD5=\"\",BD5=0,BD5=\"S\",BD5=\"RE\",BD5=\"F\",BD5=\"AB\"),BD5,IF(AY5>=75%*BB5,\"D\",IF(AY5>=60%*BB5,\"I\",IF(AY5>=48%*BB5,\"II\",IF(AY5>=36%*BB5,\"III\",BD5)))))","v":""},null,10,10,10,{"$f":"IF(AND(BG5=\"\",BH5=\"\",BI5=\"\"),\"\",SUM(BG5:BI5))","v":30},20,null,null,70,50,30,{"$f":"IF(AND(BK5=\"\",BO5=\"\",BP5=\"\"),\"\",SUM(BK5,BO5,BP5))","v":100},{"$f":"COUNTIF(BG5:BI5,\"NA\")*10","v":0},{"$f":"(COUNTIF(BG5:BI5,\"ML\")*10)+(COUNTIF(BL5,\"ML\")*70)+(COUNTIF(BP5,\"ML\")*100)","v":0},{"$f":"IF(OR($B5=\"NSO\",$B5=0),\"\",IF(AND(BG5=\"\",BH5=\"\",BI5=\"\",BL5=\"\",BP5=\"\"),\"\",IF(AND(BH5=\"\",BI5=\"\",BL5=\"\",BP5=\"\"),10-BR5-BS5,IF(AND(BI5=\"\",BL5=\"\",BP5=\"\"),20-BR5-BS5,IF(AND(BI5=\"\",BP5=\"\"),90-BR5-BS5,IF(BP5=\"\",100-BR5-BS5,200-BR5-BS5))))))","v":""},{"$f":"IF(AND(OR(BG5=\"ab\",BG5=\"ml\"),OR(BH5=\"ab\",BH5=\"ml\"),OR(BI5=\"ab\",BI5=\"ml\")),\"AB\",IF(AND(OR(BG5=\"ab\",BG5=\"ml\"),OR(BH5=\"ab\",BH5=\"ml\"),OR(BL5=\"ab\",BL5=\"ml\")),\"AB\",IF(AND(OR(BG5=\"ab\",BG5=\"ml\"),OR(BL5=\"ab\",BL5=\"ml\"),OR(BI5=\"ab\",BI5=\"ml\")),\"AB\",IF(AND(OR(BL5=\"ab\",BL5=\"ml\"),OR(BH5=\"ab\",BH5=\"ml\"),OR(BI5=\"ab\",BI5=\"ml\")),\"AB\",\"\"))))","v":""},{"$f":"IF(OR($B5=\"NSO\",$B5=\"\",BP5=\"\"),\"\",IF(OR(BU5=\"AB\",BP5=\"ab\"),\"AB\",IF(BP5=\"ML\",\"RE\",IF(AND(BQ5>=36%*BT5,BP5>=20),\"P\",IF(AND(BQ5>=34%*BT5,BS5=0,BP5>=20),\"G2\",IF(AND(BQ5>=31%*BT5,BS5=0,BP5>=20),\"G1\",IF(BQ5>=25%*BT5,\"S\",\"F\")))))))","v":""},{"$f":"IF(OR(BV5=\"\",BV5=0,BV5=\"S\",BV5=\"RE\",BV5=\"F\",BV5=\"AB\"),BV5,IF(BQ5>=75%*BT5,\"D\",IF(BQ5>=60%*BT5,\"I\",IF(BQ5>=48%*BT5,\"II\",IF(BQ5>=36%*BT5,\"III\",BV5)))))","v":""},null,10,10,10,{"$f":"IF(AND(BY5=\"\",BZ5=\"\",CA5=\"\"),\"\",SUM(BY5:CA5))","v":30},20,null,null,70,50,30,{"$f":"IF(AND(CC5=\"\",CG5=\"\",CH5=\"\"),\"\",SUM(CC5,CG5,CH5))","v":100},{"$f":"COUNTIF(BY5:CA5,\"NA\")*10","v":0},{"$f":"(COUNTIF(BY5:CA5,\"ML\")*10)+(COUNTIF(CD5,\"ML\")*70)+(COUNTIF(CH5,\"ML\")*100)","v":0},{"$f":"IF(OR($B5=\"NSO\",$B5=0),\"\",IF(AND(BY5=\"\",BZ5=\"\",CA5=\"\",CD5=\"\",CH5=\"\"),\"\",IF(AND(BZ5=\"\",CA5=\"\",CD5=\"\",CH5=\"\"),10-CJ5-CK5,IF(AND(CA5=\"\",CD5=\"\",CH5=\"\"),20-CJ5-CK5,IF(AND(CA5=\"\",CH5=\"\"),90-CJ5-CK5,IF(CH5=\"\",100-CJ5-CK5,200-CJ5-CK5))))))","v":""},{"$f":"IF(AND(OR(BY5=\"ab\",BY5=\"ml\"),OR(BZ5=\"ab\",BZ5=\"ml\"),OR(CA5=\"ab\",CA5=\"ml\")),\"AB\",IF(AND(OR(BY5=\"ab\",BY5=\"ml\"),OR(BZ5=\"ab\",BZ5=\"ml\"),OR(CD5=\"ab\",CD5=\"ml\")),\"AB\",IF(AND(OR(BY5=\"ab\",BY5=\"ml\"),OR(CD5=\"ab\",CD5=\"ml\"),OR(CA5=\"ab\",CA5=\"ml\")),\"AB\",IF(AND(OR(CD5=\"ab\",CD5=\"ml\"),OR(BZ5=\"ab\",BZ5=\"ml\"),OR(CA5=\"ab\",CA5=\"ml\")),\"AB\",\"\"))))","v":""},{"$f":"IF(OR($B5=\"NSO\",$B5=\"\",CH5=\"\"),\"\",IF(OR(CM5=\"AB\",CH5=\"ab\"),\"AB\",IF(CH5=\"ML\",\"RE\",IF(AND(CI5>=36%*CL5,CH5>=20),\"P\",IF(AND(CI5>=34%*CL5,CK5=0,CH5>=20),\"G2\",IF(AND(CI5>=31%*CL5,CK5=0,CH5>=20),\"G1\",IF(CI5>=25%*CL5,\"S\",\"F\")))))))","v":""},{"$f":"IF(OR(CN5=\"\",CN5=0,CN5=\"S\",CN5=\"RE\",CN5=\"F\",CN5=\"AB\"),CN5,IF(CI5>=75%*CL5,\"D\",IF(CI5>=60%*CL5,\"I\",IF(CI5>=48%*CL5,\"II\",IF(CI5>=36%*CL5,\"III\",CN5)))))","v":""},null,10,10,10,{"$f":"IF(AND(CQ5=\"\",CR5=\"\",CS5=\"\"),\"\",SUM(CQ5:CS5))","v":30},20,null,null,70,50,30,{"$f":"IF(AND(CU5=\"\",CY5=\"\",CZ5=\"\"),\"\",SUM(CU5,CY5,CZ5))","v":100},{"$f":"COUNTIF(CQ5:CS5,\"NA\")*10","v":0},{"$f":"(COUNTIF(CQ5:CS5,\"ML\")*10)+(COUNTIF(CV5,\"ML\")*70)+(COUNTIF(CZ5,\"ML\")*100)","v":0},{"$f":"IF(OR($B5=\"NSO\",$B5=0),\"\",IF(AND(CQ5=\"\",CR5=\"\",CS5=\"\",CV5=\"\",CZ5=\"\"),\"\",IF(AND(CR5=\"\",CS5=\"\",CV5=\"\",CZ5=\"\"),10-DB5-DC5,IF(AND(CS5=\"\",CV5=\"\",CZ5=\"\"),20-DB5-DC5,IF(AND(CS5=\"\",CZ5=\"\"),90-DB5-DC5,IF(CZ5=\"\",100-DB5-DC5,200-DB5-DC5))))))","v":""},{"$f":"IF(AND(OR(CQ5=\"ab\",CQ5=\"ml\"),OR(CR5=\"ab\",CR5=\"ml\"),OR(CS5=\"ab\",CS5=\"ml\")),\"AB\",IF(AND(OR(CQ5=\"ab\",CQ5=\"ml\"),OR(CR5=\"ab\",CR5=\"ml\"),OR(CV5=\"ab\",CV5=\"ml\")),\"AB\",IF(AND(OR(CQ5=\"ab\",CQ5=\"ml\"),OR(CV5=\"ab\",CV5=\"ml\"),OR(CS5=\"ab\",CS5=\"ml\")),\"AB\",IF(AND(OR(CV5=\"ab\",CV5=\"ml\"),OR(CR5=\"ab\",CR5=\"ml\"),OR(CS5=\"ab\",CS5=\"ml\")),\"AB\",\"\"))))","v":""},{"$f":"IF(OR($B5=\"NSO\",$B5=\"\",CZ5=\"\"),\"\",IF(OR(DE5=\"AB\",CZ5=\"ab\"),\"AB\",IF(CZ5=\"ML\",\"RE\",IF(AND(DA5>=36%*DD5,CZ5>=20),\"P\",IF(AND(DA5>=34%*DD5,DC5=0,CZ5>=20),\"G2\",IF(AND(DA5>=31%*DD5,DC5=0,CZ5>=20),\"G1\",IF(DA5>=25%*DD5,\"S\",\"F\")))))))","v":""},{"$f":"IF(OR(DF5=\"\",DF5=0,DF5=\"S\",DF5=\"RE\",DF5=\"F\",DF5=\"AB\"),DF5,IF(DA5>=75%*DD5,\"D\",IF(DA5>=60%*DD5,\"I\",IF(DA5>=48%*DD5,\"II\",IF(DA5>=36%*DD5,\"III\",DF5)))))","v":""},{"$f":"SUM(T5,S5,AH5,AI5,AZ5,BA5,BR5,BS5,CJ5,CK5,DB5,DC5)","v":0},"fg","va","oS-1","oS-2","oS-3","oS-4","F","S","G1","G2","RE",null,{"$f":"IF('Marks Entry'!BD7=\"\",\"\",'Marks Entry'!BD7)","v":30},{"$f":"IF('Marks Entry'!BE7=\"\",\"\",'Marks Entry'!BE7)","v":30},{"$f":"IF('Marks Entry'!BF7=\"\",\"\",'Marks Entry'!BF7)","v":40},{"$f":"SUM(DU5:DW5)","v":100},{"$nulls":5},1,2,3,null,null,1,2,3,null,null,1,2,3,null,null,1,2,3,null,null,324,310,{"$nulls":5},{"$f":"SUM(R5,AG5,AY5,BQ5,CI5)","v":500},{"$f":"FE5*100/(500-DH5)","v":100}]
[1,{"$f":"IF('Marks Entry'!B8=\"\",\"\",VALUE('Marks Entry'!B8))","v":1101},{"$f":"IF('Marks Entry'!C8=\"\",\"\",'Marks Entry'!C8)","v":1},{"$f":"IF('Marks Entry'!D8=\"\",\"\",'Marks Entry'!D8)","v":"10-04-2003"},{"$f":"IF('Marks Entry'!E8=\"\",\"\",'Marks Entry'!E8)","v":"AARTI"},{"$f":"IF('Marks Entry'!F8=\"\",\"\",'Marks Entry'!F8)","v":"MANGI LAL"},{"$f":"IF('Marks Entry'!G8=\"\",\"\",'Marks Entry'!G8)","v":"BHAGAVATI DEVI"},{"$f":"IF('Marks Entry'!H8=\"\",\"\",'Marks Entry'!H8)","v":"SC"},{"$f":"IF('Marks Entry'!I8=\"\",\"\",'Marks Entry'!I8)","v":"F"},{"$f":"IF('Marks Entry'!J8=\"\",\"\",'Marks Entry'!J8)","v":10},{"$f":"IF('Marks Entry'!K8=\"\",\"\",'Marks Entry'!K8)","v":9},{"$f":"IF('Marks Entry'!L8=\"\",\"\",'Marks Entry'!L8)","v":10},{"$f":"IF(AND(J6=\"\",K6=\"\",L6=\"\"),\"\",SUM(J6:L6))","v":29},{"$f":"IF(AND($B6=\"NSO\",$E6=\"\"),\"\",IF(AND(M6=\"AB\"),\"AB\",IF(AND(M6=\"ML\"),\"RE\",IF(AND(M6=\"\"),\"\",ROUNDUP(M6*20/30,0)))))","v":20},{"$f":"IF('Marks Entry'!M8=\"\",\"\",'Marks Entry'!M8)","v":63},{"$f":"IF(AND($B6=\"NSO\",$E6=\"\",O6=\"\"),\"\",IF(AND(O6=\"AB\"),\"AB\",IF(AND(O6=\"ML\"),\"RE\",IF(AND(O6=\"\"),\"\",ROUNDUP(O6*50/70,0)))))","v":45},{"$f":"IF(AND($B6=\"NSO\",$E6=\"\",O6=\"\"),\"\",IF(AND('Marks Entry'!N8=\"AB\"),\"AB\",IF(AND('Marks Entry'!N8=\"ML\"),\"RE\",IF('Marks Entry'!N8=\"\",\"\",ROUNDUP('Marks Entry'!N8*30/100,0)))))","v":27},{"$f":"IF(AND(N6=\"\",P6=\"\",Q6=\"\"),\"\",SUM(N6,P6,Q6))","v":92},{"$f":"COUNTIF(J6:L6,\"NA\")*10","v":0},0,{"$f":"IF(AND($B6=\"NSO\"),\"nso\",IF(AND(J6=\"\",K6=\"\",L6=\"\",O6=\"\",Q6=\"\"),\"\",IF(AND(K6=\"\",L6=\"\",O6=\"\",Q6=\"\"),10-S6-T6,IF(AND(L6=\"\",O6=\"\",Q6=\"\"),20-S6-T6,IF(AND(L6=\"\",Q6=\"\"),90-S6-T6,IF(Q6=\"\",100-S6-T6,100-S6-T6))))))","v":100},{"$f":"IF(AND(OR(J6=\"ab\",J6=\"ml\"),OR(K6=\"ab\",K6=\"ml\"),OR(L6=\"ab\",L6=\"ml\")),\"AB\",IF(AND(OR(J6=\"ab\",J6=\"ml\"),OR(K6=\"ab\",K6=\"ml\"),OR(O6=\"ab\",O6=\"ml\")),\"AB\",IF(AND(OR(J6=\"ab\",J6=\"ml\"),OR(O6=\"ab\",O6=\"ml\"),OR(L6=\"ab\",L6=\"ml\")),\"AB\",IF(AND(OR(O6=\"ab\",O6=\"ml\"),OR(K6=\"ab\",K6=\"ml\"),OR(L6=\"ab\",L6=\"ml\")),\"AB\",\"\"))))","v":""},{"$f":"IF(OR($B6=\"NSO\",$E6=\"\",Q6=\"\"),\"\",IF(AND(P6=\"AB\",Q6=\"ab\"),\"AB\",IF(Q6=\"ML\",\"RE\",IF(AND(R6>=36%*U6),\"P\",IF(AND(R6>=34%*U6,T6=0),\"G2\",IF(AND(R6>=31%*U6,T6=0),\"G1\",IF(R6<=30%*U6,\"F\",\"\")))))))","v":"P"},{"$f":"IF(OR(W6=\"\",W6=0,W6=\"S\",W6=\"RE\",W6=\"AB\"),W6,IF(R6>=75%*U6,\"D\",IF(R6>=60%*U6,\"I\",IF(R6>=48%*U6,\"II\",IF(R6>=36%*U6,\"III\",IF(R6>=0%*U6,\"P\",W6))))))","v":"D"},{"$f":"IF('Marks Entry'!O8=\"\",\"\",'Marks Entry'!O8)","v":4},{"$f":"IF('Marks Entry'!P8=\"\",\"\",'Marks Entry'!P8)","v":7},{"$f":"IF('Marks Entry'!Q8=\"\",\"\",'Marks Entry'!Q8)","v":8},{"$f":"IF(AND(Y6=\"\",Z6=\"\",AA6=\"\"),\"\",SUM(Y6:AA6))","v":19},{"$f":"IF(AND($B6=\"NSO\",$E6=\"\",AB6=\"\"),\"\",IF(AND(AB6=\"AB\"),\"AB\",IF(AND(AB6=\"ML\"),\"RE\",IF(AND(AB6=\"\"),\"\",ROUNDUP(AB6*20/30,0)))))","v":13},{"$f":"IF('Marks Entry'!R8=\"\",\"\",'Marks Entry'!R8)","v":51},{"$f":"IF(AND($B6=\"NSO\",$E6=\"\",AD6=\"\"),\"\",IF(AND(AD6=\"AB\"),\"AB\",IF(AND(AD6=\"ML\"),\"RE\",IF(AND(AD6=\"\"),\"\",ROUNDUP(AD6*50/70,0)))))","v":37},{"$f":"IF(AND($B6=\"NSO\",$E6=\"\"),\"\",IF(AND('Marks Entry'!S8=\"AB\"),\"AB\",IF(AND('Marks Entry'!S8=\"ML\"),\"RE\",IF('Marks Entry'!S8=\"\",\"\",ROUNDUP('Marks Entry'!S8*30/100,0)))))","v":9},{"$f":"IF(AND(AC6=\"\",AE6=\"\",AF6=\"\"),\"\",SUM(AC6,AE6,AF6))","v":59},{"$f":"COUNTIF(Y6:AA6,\"NA\")*10","v":0},0,{"$f":"IF(AND($B6=\"NSO\"),\"nso\",IF(AND(Y6=\"\",Z6=\"\",AA6=\"\",AD6=\"\",AF6=\"\"),\"\",IF(AND(Z6=\"\",AA6=\"\",AD6=\"\",AF6=\"\"),10-AH6-AI6,IF(AND(AA6=\"\",AD6=\"\",AF6=\"\"),20-AH6-AI6,IF(AND(AA6=\"\",AF6=\"\"),90-AH6-AI6,IF(AF6=\"\",100-AH6-AI6,100-AH6-AI6))))))","v":100},{"$f":"IF(AND(OR(Y6=\"ab\",Y6=\"ml\"),OR(Z6=\"ab\",Z6=\"ml\"),OR(AA6=\"ab\",AA6=\"ml\")),\"AB\",IF(AND(OR(Y6=\"ab\",Y6=\"ml\"),OR(Z6=\"ab\",Z6=\"ml\"),OR(AD6=\"ab\",AD6=\"ml\")),\"AB\",IF(AND(OR(Y6=\"ab\",Y6=\"ml\"),OR(AD6=\"ab\",AD6=\"ml\"),OR(AA6=\"ab\",AA6=\"ml\")),\"AB\",IF(AND(OR(AD6=\"ab\",AD6=\"ml\"),OR(Z6=\"ab\",Z6=\"ml\"),OR(AA6=\"ab\",AA6=\"ml\")),\"AB\",\"\"))))","v":""},{"$f":"IF(OR($B6=\"NSO\",$E6=\"\",AF6=\"\"),\"\",IF(AND(AE6=\"AB\",AF6=\"ab\"),\"AB\",IF(AF6=\"ML\",\"RE\",IF(AND(AG6>=36%*AJ6),\"P\",IF(AND(AG6>=34%*AJ6,AI6=0),\"G2\",IF(AND(AG6>=31%*AJ6,AI6=0),\"G1\",IF(AG6<=30%*AJ6,\"F\",\"\")))))))","v":"P"},{"$f":"IF(OR(AL6=\"\",AL6=0,AL6=\"S\",AL6=\"RE\",AL6=\"AB\"),AL6,IF(AG6>=75%*AJ6,\"D\",IF(AG6>=60%*AJ6,\"I\",IF(AG6>=48%*AJ6,\"II\",IF(AG6>=36%*AJ6,\"III\",IF(AG6>=0%*AJ6,\"P\",AL6))))))","v":"II"},{"$f":"IF('Marks Entry'!T8=\"\",\"\",'Marks Entry'!T8)","v":1},{"$f":"IF('Marks Entry'!V8=\"\",\"\",'Marks Entry'!V8)","v":8},{"$f":"IF('Marks Entry'!W8=\"\",\"\",'Marks Entry'!W8)","v":7},{"$f":"IF('Marks Entry'!X8=\"\",\"\",'Marks Entry'!X8)","v":8},{"$f":"IF(AND(AO6=\"\",AP6=\"\",AQ6=\"\"),\"\",SUM(AO6:AQ6))","v":23},{"$f":"IF(AND($B6=\"NSO\",$E6=\"\",AR6=\"\"),\"\",IF(AND(AR6=\"AB\"),\"AB\",IF(AND(AR6=\"ML\"),\"RE\",IF(AND(AR6=\"\"),\"\",ROUNDUP(AR6*20/30,0)))))","v":16},{"$f":"IF('Marks Entry'!Y8=\"\",\"\",'Marks Entry'!Y8)","v":36},{"$f":"IF('Marks Entry'!Z8=\"\",\"\",'Marks Entry'!Z8)","v":20},{"$f":"IF(AND(AT6=\"\",AU6=\"\"),\"\",IF(AND(AT6=\"AB\",AU6=\"AB\"),\"AB\",IF(AND(AT6=\"ML\",AU6=\"ML\"),\"RE\",SUM(AT6,AU6))))","v":56},{"$f":"IF(AND($B6=\"NSO\",$E6=\"\",AV6=\"\"),\"\",IF(AND(AV6=\"AB\"),\"AB\",IF(AND(AV6=\"ML\"),\"RE\",IF(AND(AV6=\"\"),\"\",ROUNDUP(AV6*50/70,0)))))","v":40},{"$f":"IF(AND($B6=\"NSO\",$E6=\"\"),\"\",IF(AND('Marks Entry'!AA8=\"AB\",'Marks Entry'!AB8=\"AB\"),\"AB\",IF(AND('Marks Entry'!AA8=\"ML\",'Marks Entry'!AB8=\"ML\"),\"RE\",IF('Marks Entry'!AA8=\"\",\"\",ROUNDUP(('Marks Entry'!AA8+'Marks Entry'!AB8)*30/100,0)))))","v":30},{"$f":"IF(AND(AS6=\"\",AW6=\"\",AX6=\"\"),\"\",SUM(AS6,AW6,AX6))","v":86},{"$f":"COUNTIF(AO6:AQ6,\"NA\")*10","v":0},0,{"$f":"IF(OR($B6=\"NSO\",$B6=0),\"\",IF(AND(AO6=\"\",AP6=\"\",AQ6=\"\",AT6=\"\",AX6=\"\"),\"\",IF(AND(AP6=\"\",AQ6=\"\",AT6=\"\",AX6=\"\"),10-AZ6-BA6,IF(AND(AQ6=\"\",AT6=\"\",AX6=\"\"),20-AZ6-BA6,IF(AND(AQ6=\"\",AX6=\"\"),90-AZ6-BA6,IF(AX6=\"\",100-AZ6-BA6,100-AZ6-BA6))))))","v":100},{"$f":"IF(AND(OR(AO6=\"ab\",AO6=\"ml\"),OR(AP6=\"ab\",AP6=\"ml\"),OR(AQ6=\"ab\",AQ6=\"ml\")),\"AB\",IF(AND(OR(AO6=\"ab\",AO6=\"ml\"),OR(AP6=\"ab\",AP6=\"ml\"),OR(AT6=\"ab\",AT6=\"ml\")),\"AB\",IF(AND(OR(AO6=\"ab\",AO6=\"ml\"),OR(AT6=\"ab\",AT6=\"ml\"),OR(AQ6=\"ab\",AQ6=\"ml\")),\"AB\",IF(AND(OR(AT6=\"ab\",AT6=\"ml\"),OR(AP6=\"ab\",AP6=\"ml\"),OR(AQ6=\"ab\",AQ6=\"ml\")),\"AB\",\"\"))))","v":""},{"$f":"IF(OR($B6=\"NSO\",$E6=\"\",AX6=\"\"),\"\",IF(AND(AW6=\"AB\",AX6=\"ab\"),\"AB\",IF(AX6=\"ML\",\"RE\",IF(AND(AY6>=36%*BB6),\"P\",IF(AND(AY6>=34%*BB6,BA6=0),\"G2\",IF(AND(AY6>=31%*BB6,BA6=0),\"G1\",IF(AY6<=30%*BB6,\"F\",\"\")))))))","v":"P"},{"$f":"IF(OR(BD6=\"\",BD6=0,BD6=\"S\",BD6=\"RE\",BD6=\"AB\"),BD6,IF(AY6>=75%*BB6,\"D\",IF(AY6>=60%*BB6,\"I\",IF(AY6>=48%*BB6,\"II\",IF(AY6>=36%*BB6,\"III\",IF(AY6>=0%*BB6,\"P\",BD6))))))","v":"D"},{"$f":"IF('Marks Entry'!AC8=\"\",\"\",'Marks Entry'!AC8)","v":1},{"$f":"IF('Marks Entry'!AE8=\"\",\"\",'Marks Entry'!AE8)","v":8},{"$f":"IF('Marks Entry'!AF8=\"\",\"\",'Marks Entry'!AF8)","v":9},{"$f":"IF('Marks Entry'!AG8=\"\",\"\",'Marks Entry'!AG8)","v":10},{"$f":"IF(AND(BG6=\"\",BH6=\"\",BI6=\"\"),\"\",SUM(BG6:BI6))","v":27},{"$f":"IF(AND($E6=\"NSO\",$E6=\"\",BJ6=\"\"),\"\",IF(AND(BJ6=\"AB\"),\"AB\",IF(AND(BJ6=\"ML\"),\"RE\",IF(AND(BJ6=\"\"),\"\",ROUNDUP(BJ6*20/30,0)))))","v":18},{"$f":"IF('Marks Entry'!AH8=\"\",\"\",'Marks Entry'!AH8)","v":46},{"$f":"IF('Marks Entry'!AI8=\"\",\"\",'Marks Entry'!AI8)","v":20},{"$f":"IF(AND(BL6=\"\",BM6=\"\"),\"\",IF(AND(BL6=\"AB\",BM6=\"AB\"),\"AB\",IF(AND(BL6=\"ML\",BM6=\"ML\"),\"RE\",SUM(BL6,BM6))))","v":66},{"$f":"IF(AND($E6=\"NSO\",$E6=\"\",BN6=\"\"),\"\",IF(AND(BN6=\"AB\"),\"AB\",IF(AND(BN6=\"ML\"),\"RE\",IF(AND(BN6=\"\"),\"\",ROUNDUP(BN6*50/70,0)))))","v":48},{"$f":"IF(AND($B6=\"NSO\",$E6=\"\"),\"\",IF(AND('Marks Entry'!AJ8=\"AB\",'Marks Entry'!AK8=\"AB\"),\"AB\",IF(AND('Marks Entry'!AJ8=\"ML\",'Marks Entry'!AK8=\"ML\"),\"RE\",IF('Marks Entry'!AJ8=\"\",\"\",ROUNDUP(('Marks Entry'!AJ8+'Marks Entry'!AK8)*30/100,0)))))","v":30},{"$f":"IF(AND(BK6=\"\",BO6=\"\",BP6=\"\"),\"\",SUM(BK6,BO6,BP6))","v":96},{"$f":"COUNTIF(BG6:BI6,\"NA\")*10","v":0},0,{"$f":"IF(OR($B6=\"NSO\",$B6=0),\"\",IF(AND(BG6=\"\",BH6=\"\",BI6=\"\",BL6=\"\",BP6=\"\"),\"\",IF(AND(BH6=\"\",BI6=\"\",BL6=\"\",BP6=\"\"),10-BR6-BS6,IF(AND(BI6=\"\",BL6=\"\",BP6=\"\"),20-BR6-BS6,IF(AND(BI6=\"\",BP6=\"\"),90-BR6-BS6,IF(BP6=\"\",100-BR6-BS6,100-BR6-BS6))))))","v":100},{"$f":"IF(AND(OR(BG6=\"ab\",BG6=\"ml\"),OR(BH6=\"ab\",BH6=\"ml\"),OR(BI6=\"ab\",BI6=\"ml\")),\"AB\",IF(AND(OR(BG6=\"ab\",BG6=\"ml\"),OR(BH6=\"ab\",BH6=\"ml\"),OR(BL6=\"ab\",BL6=\"ml\")),\"AB\",IF(AND(OR(BG6=\"ab\",BG6=\"ml\"),OR(BL6=\"ab\",BL6=\"ml\"),OR(BI6=\"ab\",BI6=\"ml\")),\"AB\",IF(AND(OR(BL6=\"ab\",BL6=\"ml\"),OR(BH6=\"ab\",BH6=\"ml\"),OR(BI6=\"ab\",BI6=\"ml\")),\"AB\",\"\"))))","v":""},{"$f":"IF(OR($B6=\"NSO\",$E6=\"\",BP6=\"\"),\"\",IF(AND(BO6=\"AB\",BP6=\"ab\"),\"AB\",IF(BP6=\"ML\",\"RE\",IF(AND(BQ6>=36%*BT6),\"P\",IF(AND(BQ6>=34%*BT6,BS6=0),\"G2\",IF(AND(BQ6>=31%*BT6,BS6=0),\"G1\",IF(BQ6<=30%*BT6,\"F\",\"\")))))))","v":"P"},{"$f":"IF(OR(BV6=\"\",BV6=0,BV6=\"S\",BV6=\"RE\",BV6=\"AB\"),BV6,IF(BQ6>=75%*BT6,\"D\",IF(BQ6>=60%*BT6,\"I\",IF(BQ6>=48%*BT6,\"II\",IF(BQ6>=36%*BT6,\"III\",IF(BQ6>=0%*BT6,\"P\",BV6))))))","v":"D"},{"$f":"IF('Marks Entry'!AL8=\"\",\"\",'Marks Entry'!AL8)","v":1},{"$f":"IF('Marks Entry'!AN8=\"\",\"\",'Marks Entry'!AN8)","v":4},{"$f":"IF('Marks Entry'!AO8=\"\",\"\",'Marks Entry'!AO8)","v":4},{"$f":"IF('Marks Entry'!AP8=\"\",\"\",'Marks Entry'!AP8)","v":6},{"$f":"IF(AND(BY6=\"\",BZ6=\"\",CA6=\"\"),\"\",SUM(BY6:CA6))","v":14},{"$f":"IF(AND($E6=\"NSO\",$E6=\"\",CB6=\"\"),\"\",IF(AND(CB6=\"AB\"),\"AB\",IF(AND(CB6=\"ML\"),\"RE\",IF(AND(CB6=\"\"),\"\",ROUNDUP(CB6*20/30,0)))))","v":10},{"$f":"IF('Marks Entry'!AQ8=\"\",\"\",'Marks Entry'!AQ8)","v":45},{"$f":"IF('Marks Entry'!AR8=\"\",\"\",'Marks Entry'!AR8)","v":20},{"$f":"IF(AND(CD6=\"\",CE6=\"\"),\"\",IF(AND(CD6=\"AB\",CE6=\"AB\"),\"AB\",IF(AND(CD6=\"ML\",CE6=\"ML\"),\"RE\",SUM(CD6,CE6))))","v":65},{"$f":"IF(AND($E6=\"NSO\",$E6=\"\",CF6=\"\"),\"\",IF(AND(CF6=\"AB\"),\"AB\",IF(AND(CF6=\"ML\"),\"RE\",IF(AND(CF6=\"\"),\"\",ROUNDUP(CF6*50/70,0)))))","v":47},{"$f":"IF(AND($B6=\"NSO\",$E6=\"\"),\"\",IF(AND('Marks Entry'!AS8=\"AB\",'Marks Entry'!AT8=\"AB\"),\"AB\",IF(AND('Marks Entry'!AS8=\"ML\",'Marks Entry'!AT8=\"ML\"),\"RE\",IF('Marks Entry'!AS8=\"\",\"\",ROUNDUP(('Marks Entry'!AS8+'Marks Entry'!AT8)*30/100,0)))))","v":30},{"$f":"IF(AND(CC6=\"\",CG6=\"\",CH6=\"\"),\"\",SUM(CC6,CG6,CH6))","v":87},{"$f":"COUNTIF(BY6:CA6,\"NA\")*10","v":0},0,{"$f":"IF(OR($B6=\"NSO\",$B6=0),\"\",IF(AND(BY6=\"\",BZ6=\"\",CA6=\"\",CD6=\"\",CH6=\"\"),\"\",IF(AND(BZ6=\"\",CA6=\"\",CD6=\"\",CH6=\"\"),10-CJ6-CK6,IF(AND(CA6=\"\",CD6=\"\",CH6=\"\"),20-CJ6-CK6,IF(AND(CA6=\"\",CH6=\"\"),90-CJ6-CK6,IF(CH6=\"\",100-CJ6-CK6,100-CJ6-CK6))))))","v":100},{"$f":"IF(AND(OR(BY6=\"ab\",BY6=\"ml\"),OR(BZ6=\"ab\",BZ6=\"ml\"),OR(CA6=\"ab\",CA6=\"ml\")),\"AB\",IF(AND(OR(BY6=\"ab\",BY6=\"ml\"),OR(BZ6=\"ab\",BZ6=\"ml\"),OR(CD6=\"ab\",CD6=\"ml\")),\"AB\",IF(AND(OR(BY6=\"ab\",BY6=\"ml\"),OR(CD6=\"ab\",CD6=\"ml\"),OR(CA6=\"ab\",CA6=\"ml\")),\"AB\",IF(AND(OR(CD6=\"ab\",CD6=\"ml\"),OR(BZ6=\"ab\",BZ6=\"ml\"),OR(CA6=\"ab\",CA6=\"ml\")),\"AB\",\"\"))))","v":""},{"$f":"IF(OR($B6=\"NSO\",$E6=\"\",CH6=\"\"),\"\",IF(AND(CG6=\"AB\",CH6=\"ab\"),\"AB\",IF(CH6=\"ML\",\"RE\",IF(AND(CI6>=36%*CL6),\"P\",IF(AND(CI6>=34%*CL6,CK6=0),\"G2\",IF(AND(CI6>=31%*CL6,CK6=0),\"G1\",IF(CI6<=30%*CL6,\"F\",\"\")))))))","v":"P"},{"$f":"IF(OR(CN6=\"\",CN6=0,CN6=\"S\",CN6=\"RE\",CN6=\"AB\"),CN6,IF(CI6>=75%*CL6,\"D\",IF(CI6>=60%*CL6,\"I\",IF(CI6>=48%*CL6,\"II\",IF(CI6>=36%*CL6,\"III\",IF(CI6>=0%*CL6,\"P\",CN6))))))","v":"D"},{"$f":"IF('Marks Entry'!AU8=\"\",\"\",'Marks Entry'!AU8)","v":1},{"$f":"IF('Marks Entry'!AW8=\"\",\"\",'Marks Entry'!AW8)","v":9},{"$f":"IF('Marks Entry'!AX8=\"\",\"\",'Marks Entry'!AX8)","v":7},{"$f":"IF('Marks Entry'!AY8=\"\",\"\",'Marks Entry'!AY8)","v":9},{"$f":"IF(AND(CQ6=\"\",CR6=\"\",CS6=\"\"),\"\",SUM(CQ6:CS6))","v":25},{"$f":"IF(AND($E6=\"NSO\",$E6=\"\",CT6=\"\"),\"\",IF(AND(CT6=\"AB\"),\"AB\",IF(AND(CT6=\"ML\"),\"RE\",IF(AND(CT6=\"\"),\"\",ROUNDUP(CT6*20/30,0)))))","v":17},{"$f":"IF('Marks Entry'!AZ8=\"\",\"\",'Marks Entry'!AZ8)","v":70},{"$f":"IF('Marks Entry'!BA8=\"\",\"\",'Marks Entry'!BA8)","v":""},{"$f":"IF(AND(CV6=\"\",CW6=\"\"),\"\",IF(AND(CV6=\"AB\",CW6=\"AB\"),\"AB\",IF(AND(CV6=\"ML\",CW6=\"ML\"),\"RE\",SUM(CV6,CW6))))","v":70},{"$f":"IF(AND($E6=\"NSO\",$E6=\"\",CX6=\"\"),\"\",IF(AND(CX6=\"AB\"),\"AB\",IF(AND(CX6=\"ML\"),\"RE\",IF(AND(CX6=\"\"),\"\",ROUNDUP(CX6*50/70,0)))))","v":50},{"$f":"IF(AND($B6=\"NSO\",$E6=\"\"),\"\",IF(AND('Marks Entry'!BB8=\"AB\",'Marks Entry'!BC8=\"AB\"),\"AB\",IF(AND('Marks Entry'!BB8=\"ML\",'Marks Entry'!BC8=\"ML\"),\"RE\",IF('Marks Entry'!BB8=\"\",\"\",ROUNDUP(('Marks Entry'!BB8+'Marks Entry'!BC8)*30/100,0)))))","v":30},{"$f":"IF(AND(CU6=\"\",CY6=\"\",CZ6=\"\"),\"\",SUM(CU6,CY6,CZ6))","v":97},{"$f":"COUNTIF(CQ6:CS6,\"NA\")*10","v":0},0,{"$f":"IF(OR($B6=\"NSO\",$B6=0),\"\",IF(AND(CQ6=\"\",CR6=\"\",CS6=\"\",CV6=\"\",CZ6=\"\"),\"\",IF(AND(CR6=\"\",CS6=\"\",CV6=\"\",CZ6=\"\"),10-DB6-DC6,IF(AND(CS6=\"\",CV6=\"\",CZ6=\"\"),20-DB6-DC6,IF(AND(CS6=\"\",CZ6=\"\"),90-DB6-DC6,IF(CZ6=\"\",100-DB6-DC6,100-DB6-DC6))))))","v":100},{"$f":"IF(AND(OR(CQ6=\"ab\",CQ6=\"ml\"),OR(CR6=\"ab\",CR6=\"ml\"),OR(CS6=\"ab\",CS6=\"ml\")),\"AB\",IF(AND(OR(CQ6=\"ab\",CQ6=\"ml\"),OR(CR6=\"ab\",CR6=\"ml\"),OR(CV6=\"ab\",CV6=\"ml\")),\"AB\",IF(AND(OR(CQ6=\"ab\",CQ6=\"ml\"),OR(CV6=\"ab\",CV6=\"ml\"),OR(CS6=\"ab\",CS6=\"ml\")),\"AB\",IF(AND(OR(CV6=\"ab\",CV6=\"ml\"),OR(CR6=\"ab\",CR6=\"ml\"),OR(CS6=\"ab\",CS6=\"ml\")),\"AB\",\"\"))))","v":""},{"$f":"IF(OR($B6=\"NSO\",$E6=\"\",CZ6=\"\"),\"\",IF(AND(CY6=\"AB\",CZ6=\"ab\"),\"AB\",IF(CZ6=\"ML\",\"RE\",IF(AND(DA6>=36%*DD6),\"P\",IF(AND(DA6>=34%*DD6,DC6=0),\"G2\",IF(AND(DA6>=31%*DD6,DC6=0),\"G1\",IF(DA6<=30%*DD6,\"F\",\"\")))))))","v":"P"},{"$f":"IF(OR(DF6=\"\",DF6=0,DF6=\"S\",DF6=\"RE\",DF6=\"AB\"),DF6,IF(DA6>=75%*DD6,\"D\",IF(DA6>=60%*DD6,\"I\",IF(DA6>=48%*DD6,\"II\",IF(DA6>=36%*DD6,\"III\",IF(DA6>=0%*DD6,\"P\",DF6))))))","v":"D"},{"$f":"SUM(T6,S6,AH6,AI6,AZ6,BA6,BR6,BS6,CJ6,CK6,DB6,DC6)","v":0},{"$f":"X6","v":"D"},{"$f":"AM6","v":"II"},{"$f":"BE6","v":"D"},{"$f":"BW6","v":"D"},{"$f":"CO6","v":"D"},{"$f":"DG6","v":"D"},{"$f":"COUNTIF(DI6:DN6,\"F\")","v":0},{"$f":"COUNTIF(DI6:DN6,\"S\")","v":0},{"$f":"COUNTIF(DI6:DN6,\"G1\")","v":0},{"$f":"COUNTIF(DI6:DN6,\"G2\")","v":0},{"$f":"COUNTIF(DI6:DN6,\"RE\")+COUNTIF(DI6:DN6,\"REP\")+COUNTIF(DI6:DN6,\"AB\")","v":0},{"$f":"IF(B6=\"NSO\",\"NSO\",IF(OR(E6=\"\",E6=0,Q6=\"\",AF6=\"\",AX6=\"\",BP6=\"\",CH6=\"\"),\"\",IF(OR(DO6>0,(DP6+DQ6+DR6)>2),\"FAIL\",IF(DS6>0,\"RE-EXAM.\",IF(OR(DP6>0,DQ6>1),\"RE-EXAM.\",IF(AND(DQ6>0,DR6>0),\"SUPPL.\",IF((DQ6+DR6)>0,\"PASS BY GRACE\",\"PASS\")))))))","v":"PASS"},{"$f":"IF('Marks Entry'!BD8=\"\",\"\",'Marks Entry'!BD8)","v":21},{"$f":"IF('Marks Entry'!BE8=\"\",\"\",'Marks Entry'!BE8)","v":21},{"$f":"IF('Marks Entry'!BF8=\"\",\"\",'Marks Entry'!BF8)","v":21},{"$f":"IF(AND(DU6=\"\",DV6=\"\",DW6=\"\"),\"\",SUM(DU6:DW6))","v":63},{"$f":"IF(AND(DT6=\"FAIL\",(OR(DI6=\"G1\",DI6=\"G2\",DI6=\"S\",DI6=\"RE\"))),\"F\",IF(AND(DT6=\"RE-EXAM.\",(OR(DI6=\"G1\",DI6=\"G2\",DI6=\"S\"))),\"S\",IF(AND(DT6=\"SUPPL.\",(OR(DI6=\"G1\",DI6=\"G2\"))),\"S\",IF(AND(DT6=\"PASS BY GRACE\",(OR(DI6=\"G1\",DI6=\"G2\"))),\"G\",DI6))))","v":"D"},{"$f":"IF(DY6=\"G\",ROUNDUP(36%*U6-R6,0),\"\")","v":""},{"$f":"IF(AND(DT6=\"FAIL\",(OR(DJ6=\"G1\",DJ6=\"G2\",DJ6=\"S\",DJ6=\"RE\"))),\"F\",IF(AND(DT6=\"RE-EXAM.\",(OR(DJ6=\"G1\",DJ6=\"G2\",DJ6=\"S\"))),\"S\",IF(AND(DT6=\"SUPPL.\",(OR(DJ6=\"G1\",DJ6=\"G2\"))),\"S\",IF(AND(DT6=\"PASS BY GRACE\",(OR(DJ6=\"G1\",DJ6=\"G2\"))),\"G\",DJ6))))","v":"II"},{"$f":"IF(EA6=\"G\",ROUNDUP(36%*AK6-AH6,0),\"\")","v":""},{"$f":"IF(AND(DT6=\"FAIL\",(OR(DK6=\"G1\",DK6=\"G2\",DK6=\"S\",DK6=\"RE\"))),\"F\",IF(AND(DT6=\"RE-EXAM.\",(OR(DK6=\"G1\",DK6=\"G2\",DK6=\"S\"))),\"S\",IF(AND(DT6=\"SUPPL.\",(OR(DK6=\"G1\",DK6=\"G2\"))),\"S\",IF(AND(DT6=\"PASS BY GRACE\",(OR(DK6=\"G1\",DK6=\"G2\"))),\"G\",DK6))))","v":"D"},{"$f":"IF(AN6=1,EC6,\"\")","v":"D"},{"$f":"IF(AN6=2,EC6,\"\")","v":""},{"$f":"IF(AN6=3,EC6,\"\")","v":""},{"$f":"IF(EC6=\"G\",ROUNDUP(36%*AO6-AK6,0),\"\")","v":""},{"$f":"IF(AND(DT6=\"FAIL\",(OR(DL6=\"G1\",DL6=\"G2\",DL6=\"S\",DL6=\"RE\"))),\"F\",IF(AND(DT6=\"RE-EXAM.\",(OR(DL6=\"G1\",DL6=\"G2\",DL6=\"S\"))),\"S\",IF(AND(DT6=\"SUPPL.\",(OR(DL6=\"G1\",DL6=\"G2\"))),\"S\",IF(AND(DT6=\"PASS BY GRACE\",(OR(DL6=\"G1\",DL6=\"G2\"))),\"G\",DL6))))","v":"D"},{"$f":"IF(BF6=1,EH6,\"\")","v":"D"},{"$f":"IF(BF6=2,EH6,\"\")","v":""},{"$f":"IF(BF6=3,EH6,\"\")","v":""},{"$f":"IF(EH6=\"G\",ROUNDUP(36%*AR6-AO6,0),\"\")","v":""},{"$f":"IF(AND(DT6=\"FAIL\",(OR(DM6=\"G1\",DM6=\"G2\",DM6=\"S\",DM6=\"RE\"))),\"F\",IF(AND(DT6=\"RE-EXAM.\",(OR(DM6=\"G1\",DM6=\"G2\",DM6=\"S\"))),\"S\",IF(AND(DT6=\"SUPPL.\",(OR(DM6=\"G1\",DM6=\"G2\"))),\"S\",IF(AND(DT6=\"PASS BY GRACE\",(OR(DM6=\"G1\",DM6=\"G2\"))),\"G\",DM6))))","v":"D"},{"$f":"IF(BX6=1,EM6,\"\")","v":"D"},{"$f":"IF(BX6=2,EM6,\"\")","v":""},{"$f":"IF(BX6=3,EM6,\"\")","v":""},{"$f":"IF(EM6=\"G\",ROUNDUP(36%*AW6-AR6,0),\"\")","v":""},{"$f":"IF(AND(DT6=\"FAIL\",(OR(DN6=\"G1\",DN6=\"G2\",DN6=\"S\",DN6=\"RE\"))),\"F\",IF(AND(DT6=\"RE-EXAM.\",(OR(DN6=\"G1\",DN6=\"G2\",DN6=\"S\"))),\"S\",IF(AND(DT6=\"SUPPL.\",(OR(DN6=\"G1\",DN6=\"G2\"))),\"S\",IF(AND(DT6=\"PASS BY GRACE\",(OR(DN6=\"G1\",DN6=\"G2\"))),\"G\",DN6))))","v":"D"},{"$f":"IF(CP6=1,ER6,\"\")","v":"D"},{"$f":"IF(CP6=2,ER6,\"\")","v":""},{"$f":"IF(CP6=3,ER6,\"\")","v":""},{"$f":"IF(ER6=\"G\",ROUNDUP(36%*AZ6-AW6,0),\"\")","v":""},{"$f":"IF(OR(DX6=\"\",DX6=0,DX6=\"S\",DX6=\"RE\",DX6=\"AB\"),\"\",IF(DX6>=75%*$DX$5,\"D\",IF(DX6>=60%*$DX$5,\"I\",IF(DX6>=48%*$DX$5,\"II\",IF(DX6>=36%*$DX$5,\"III\",IF(DX6>=0%*$DX$5,\"P\",\"\"))))))","v":"I"},{"$f":"IF('Student DATA Entry'!I3=\"\",\"\",'Student DATA Entry'!I3)","v":324},{"$f":"IF('Student DATA Entry'!J3=\"\",\"\",'Student DATA Entry'!J3)","v":310},{"$f":"CONCATENATE(IF(DY6=\"F\",$DY$4,\"\"),\" \",IF(EA6=\"F\",$EA$4,\"\"),\" \",IF(EC6=\"F\",$EC$4,\"\"),\" \",IF(EH6=\"F\",$EH$4,\"\"),\" \",IF(EM6=\"F\",$EM$4,\"\"),\" \",IF(ER6=\"F\",$ER$4,\"\"),\" \")","v":"      "},{"$f":"CONCATENATE(IF(DY6=\"S\",$DY$4,\"\"),\" \",IF(EA6=\"S\",$EA$4,\"\"),\" \",IF(EC6=\"S\",$EC$4,\"\"),\" \",IF(EH6=\"S\",$EH$4,\"\"),\" \",IF(EM6=\"S\",$EM$4,\"\"),\" \",IF(ER6=\"S\",$ER$4,\"\"),\" \")","v":"      "},{"$f":"CONCATENATE(IF(DY6=\"G\",$DY$4,\"\"),\" \",IF(EA6=\"G\",$EA$4,\"\"),\" \",IF(EC6=\"G\",$EC$4,\"\"),\" \",IF(EH6=\"G\",$EH$4,\"\"),\" \",IF(EM6=\"G\",$EM$4,\"\"),\" \",IF(ER6=\"G\",$ER$4,\"\"),\" \")","v":"      "},{"$f":"CONCATENATE(IF(DY6=\"D\",$DY$4,\"\"),\" \",IF(EA6=\"D\",$EA$4,\"\"),\" \",IF(ED6=\"D\",$ED$4,\"\"),\" \",IF(EE6=\"D\",$EE$4,\"\"),\" \",IF(EF6=\"D\",$EF$4,\"\"),\" \",IF(EI6=\"D\",$EI$4,\"\"),\" \",IF(EJ6=\"D\",$EJ$4,\"\"),\" \",IF(EK6=\"D\",$EK$4,\"\"),\" \",IF(EN6=\"D\",$EN$4,\"\"),\" \",IF(EO6=\"D\",$EO$4,\"\"),\" \",IF(EP6=\"D\",$EP$4,\"\"),\" \",IF(ET6=\"D\",$ET$4,\"\"),\" \",IF(EU6=\"D\",$EU$4,\"\"),\" \",IF(ES6=\"D\",$ES$4,\"\"),\" \")","v":"HINDI  POLITICAL SCIENCE   HISTORY   GEOGRAPHY     MATHEMATICS "},{"$f":"IF(E6=\"\",\" \",IF(OR(B6=\"\",B6=\"NSO\"),\" \",\"Promoted to Class 12th\"))","v":"Promoted to Class 12th"},{"$f":"IF(AND(FD6=\"\"),\"\",IF(AND(R6=\"\",AG6=\"\",AY6=\"\",BQ6=\"\",CI6=\"\"),\"\",SUM(R6,AG6,AY6,BQ6,CI6)))","v":420},{"$f":"IF(FE6=\"\",\"\",FE6*100/($FE$5-DH6))","v":{"v":84,"d":"84.00"}},{"$f":"IF(B6=\"NSO\",\"NSO\",IF(FF6=\"\",\"\",IF(AND(FF6>=60,(FD6=\"Promoted to Class 12th\")),\"I\",IF(AND(FF6>=60,(FD6=\"Promoted to Class 12th\")),\"I\",IF(AND(FF6>=48,(FD6=\"Promoted to Class 12th\")),\"II\",IF(AND(FF6>=48,(FD6=\"Promoted to Class 12th\")),\"II\",IF(AND(FF6>=36,(FD6=\"Promoted to Class 12th\")),\"III\",IF(AND(FF6>=0,(FD6=\"Promoted to Class 12th\")),\"P\",\"\"))))))))","v":"I"},{"$f":"IF(FF6=\"\",\"\",SUMPRODUCT((FF6<FF$6:FF$105)/COUNTIF(FF$6:FF$105,FF$6:FF$105)))","v":1.9999999999999964},{"$f":"IF(FG6=\"P\",\"Promoted\",\"\")","v":""}]
[2,{"$f":"IF('Marks Entry'!B9=\"\",\"\",VALUE('Marks Entry'!B9))","v":1102},{"$f":"IF('Marks Entry'!C9=\"\",\"\",'Marks Entry'!C9)","v":107},{"$f":"IF('Marks Entry'!D9=\"\",\"\",'Marks Entry'!D9)","v":"11-03-2005"},{"$f":"IF('Marks Entry'!E9=\"\",\"\",'Marks Entry'!E9)","v":"ANJU CHOUDHARY"},{"$f":"IF('Marks Entry'!F9=\"\",\"\",'Marks Entry'!F9)","v":"FUA RAM"},{"$f":"IF('Marks Entry'!G9=\"\",\"\",'Marks Entry'!G9)","v":"CHAMPA DEVI"},{"$f":"IF('Marks Entry'!H9=\"\",\"\",'Marks Entry'!H9)","v":"OBC"},{"$f":"IF('Marks Entry'!I9=\"\",\"\",'Marks Entry'!I9)","v":"F"},{"$f":"IF('Marks Entry'!J9=\"\",\"\",'Marks Entry'!J9)","v":8},{"$f":"IF('Marks Entry'!K9=\"\",\"\",'Marks Entry'!K9)","v":9},{"$f":"IF('Marks Entry'!L9=\"\",\"\",'Marks Entry'!L9)","v":10},{"$f":"IF(AND(J7=\"\",K7=\"\",L7=\"\"),\"\",SUM(J7:L7))","v":27},{"$f":"IF(AND($B7=\"NSO\",$E7=\"\"),\"\",IF(AND(M7=\"AB\"),\"AB\",IF(AND(M7=\"ML\"),\"RE\",IF(AND(M7=\"\"),\"\",ROUNDUP(M7*20/30,0)))))","v":18},{"$f":"IF('Marks Entry'!M9=\"\",\"\",'Marks Entry'!M9)","v":64},{"$f":"IF(AND($B7=\"NSO\",$E7=\"\",O7=\"\"),\"\",IF(AND(O7=\"AB\"),\"AB\",IF(AND(O7=\"ML\"),\"RE\",IF(AND(O7=\"\"),\"\",ROUNDUP(O7*50/70,0)))))","v":46},{"$f":"IF(AND($B7=\"NSO\",$E7=\"\",O7=\"\"),\"\",IF(AND('Marks Entry'!N9=\"AB\"),\"AB\",IF(AND('Marks Entry'!N9=\"ML\"),\"RE\",IF('Marks Entry'!N9=\"\",\"\",ROUNDUP('Marks Entry'!N9*30/100,0)))))","v":24},{"$f":"IF(AND(N7=\"\",P7=\"\",Q7=\"\"),\"\",SUM(N7,P7,Q7))","v":88},{"$f":"COUNTIF(J7:L7,\"NA\")*10","v":0},{"$f":"(COUNTIF(J7:L7,\"ML\")*10)+(COUNTIF(O7,\"ML\")*70)+(COUNTIF(Q7,\"ML\")*100)","v":0},{"$f":"IF(AND($B7=\"NSO\"),\"nso\",IF(AND(J7=\"\",K7=\"\",L7=\"\",O7=\"\",Q7=\"\"),\"\",IF(AND(K7=\"\",L7=\"\",O7=\"\",Q7=\"\"),10-S7-T7,IF(AND(L7=\"\",O7=\"\",Q7=\"\"),20-S7-T7,IF(AND(L7=\"\",Q7=\"\"),90-S7-T7,IF(Q7=\"\",100-S7-T7,100-S7-T7))))))","v":100},{"$f":"IF(AND(OR(J7=\"ab\",J7=\"ml\"),OR(K7=\"ab\",K7=\"ml\"),OR(L7=\"ab\",L7=\"ml\")),\"AB\",IF(AND(OR(J7=\"ab\",J7=\"ml\"),OR(K7=\"ab\",K7=\"ml\"),OR(O7=\"ab\",O7=\"ml\")),\"AB\",IF(AND(OR(J7=\"ab\",J7=\"ml\"),OR(O7=\"ab\",O7=\"ml\"),OR(L7=\"ab\",L7=\"ml\")),\"AB\",IF(AND(OR(O7=\"ab\",O7=\"ml\"),OR(K7=\"ab\",K7=\"ml\"),OR(L7=\"ab\",L7=\"ml\")),\"AB\",\"\"))))","v":""},{"$f":"IF(OR($B7=\"NSO\",$E7=\"\",Q7=\"\"),\"\",IF(AND(P7=\"AB\",Q7=\"ab\"),\"AB\",IF(Q7=\"ML\",\"RE\",IF(AND(R7>=36%*U7),\"P\",IF(AND(R7>=34%*U7,T7=0),\"G2\",IF(AND(R7>=31%*U7,T7=0),\"G1\",IF(R7<=30%*U7,\"F\",\"\")))))))","v":"P"},{"$f":"IF(OR(W7=\"\",W7=0,W7=\"S\",W7=\"RE\",W7=\"AB\"),W7,IF(R7>=75%*U7,\"D\",IF(R7>=60%*U7,\"I\",IF(R7>=48%*U7,\"II\",IF(R7>=36%*U7,\"III\",IF(R7>=0%*U7,\"P\",W7))))))","v":"D"},{"$f":"IF('Marks Entry'!O9=\"\",\"\",'Marks Entry'!O9)","v":8},{"$f":"IF('Marks Entry'!P9=\"\",\"\",'Marks Entry'!P9)","v":9},{"$f":"IF('Marks Entry'!Q9=\"\",\"\",'Marks Entry'!Q9)","v":10},{"$f":"IF(AND(Y7=\"\",Z7=\"\",AA7=\"\"),\"\",SUM(Y7:AA7))","v":27},{"$f":"IF(AND($B7=\"NSO\",$E7=\"\",AB7=\"\"),\"\",IF(AND(AB7=\"AB\"),\"AB\",IF(AND(AB7=\"ML\"),\"RE\",IF(AND(AB7=\"\"),\"\",ROUNDUP(AB7*20/30,0)))))","v":18},{"$f":"IF('Marks Entry'!R9=\"\",\"\",'Marks Entry'!R9)","v":45},{"$f":"IF(AND($B7=\"NSO\",$E7=\"\",AD7=\"\"),\"\",IF(AND(AD7=\"AB\"),\"AB\",IF(AND(AD7=\"ML\"),\"RE\",IF(AND(AD7=\"\"),\"\",ROUNDUP(AD7*50/70,0)))))","v":33},{"$f":"IF(AND($B7=\"NSO\",$E7=\"\"),\"\",IF(AND('Marks Entry'!S9=\"AB\"),\"AB\",IF(AND('Marks Entry'!S9=\"ML\"),\"RE\",IF('Marks Entry'!S9=\"\",\"\",ROUNDUP('Marks Entry'!S9*30/100,0)))))","v":8},{"$f":"IF(AND(AC7=\"\",AE7=\"\",AF7=\"\"),\"\",SUM(AC7,AE7,AF7))","v":59},{"$f":"COUNTIF(Y7:AA7,\"NA\")*10","v":0},{"$f":"(COUNTIF(Y7:AA7,\"ML\")*10)+(COUNTIF(AD7,\"ML\")*70)+(COUNTIF(AF7,\"ML\")*100)","v":0},{"$f":"IF(AND($B7=\"NSO\"),\"nso\",IF(AND(Y7=\"\",Z7=\"\",AA7=\"\",AD7=\"\",AF7=\"\"),\"\",IF(AND(Z7=\"\",AA7=\"\",AD7=\"\",AF7=\"\"),10-AH7-AI7,IF(AND(AA7=\"\",AD7=\"\",AF7=\"\"),20-AH7-AI7,IF(AND(AA7=\"\",AF7=\"\"),90-AH7-AI7,IF(AF7=\"\",100-AH7-AI7,100-AH7-AI7))))))","v":100},{"$f":"IF(AND(OR(Y7=\"ab\",Y7=\"ml\"),OR(Z7=\"ab\",Z7=\"ml\"),OR(AA7=\"ab\",AA7=\"ml\")),\"AB\",IF(AND(OR(Y7=\"ab\",Y7=\"ml\"),OR(Z7=\"ab\",Z7=\"ml\"),OR(AD7=\"ab\",AD7=\"ml\")),\"AB\",IF(AND(OR(Y7=\"ab\",Y7=\"ml\"),OR(AD7=\"ab\",AD7=\"ml\"),OR(AA7=\"ab\",AA7=\"ml\")),\"AB\",IF(AND(OR(AD7=\"ab\",AD7=\"ml\"),OR(Z7=\"ab\",Z7=\"ml\"),OR(AA7=\"ab\",AA7=\"ml\")),\"AB\",\"\"))))","v":""},{"$f":"IF(OR($B7=\"NSO\",$E7=\"\",AF7=\"\"),\"\",IF(AND(AE7=\"AB\",AF7=\"ab\"),\"AB\",IF(AF7=\"ML\",\"RE\",IF(AND(AG7>=36%*AJ7),\"P\",IF(AND(AG7>=34%*AJ7,AI7=0),\"G2\",IF(AND(AG7>=31%*AJ7,AI7=0),\"G1\",IF(AG7<=30%*AJ7,\"F\",\"\")))))))","v":"P"},{"$f":"IF(OR(AL7=\"\",AL7=0,AL7=\"S\",AL7=\"RE\",AL7=\"AB\"),AL7,IF(AG7>=75%*AJ7,\"D\",IF(AG7>=60%*AJ7,\"I\",IF(AG7>=48%*AJ7,\"II\",IF(AG7>=36%*AJ7,\"III\",IF(AG7>=0%*AJ7,\"P\",AL7))))))","v":"II"},{"$f":"IF('Marks Entry'!T9=\"\",\"\",'Marks Entry'!T9)","v":1},{"$f":"IF('Marks Entry'!V9=\"\",\"\",'Marks Entry'!V9)","v":8},{"$f":"IF('Marks Entry'!W9=\"\",\"\",'Marks Entry'!W9)","v":9},{"$f":"IF('Marks Entry'!X9=\"\",\"\",'Marks Entry'!X9)","v":10},{"$f":"IF(AND(AO7=\"\",AP7=\"\",AQ7=\"\"),\"\",SUM(AO7:AQ7))","v":27},{"$f":"IF(AND($B7=\"NSO\",$E7=\"\",AR7=\"\"),\"\",IF(AND(AR7=\"AB\"),\"AB\",IF(AND(AR7=\"ML\"),\"RE\",IF(AND(AR7=\"\"),\"\",ROUNDUP(AR7*20/30,0)))))","v":18},{"$f":"IF('Marks Entry'!Y9=\"\",\"\",'Marks Entry'!Y9)","v":40},{"$f":"IF('Marks Entry'!Z9=\"\",\"\",'Marks Entry'!Z9)","v":19},{"$f":"IF(AND(AT7=\"\",AU7=\"\"),\"\",IF(AND(AT7=\"AB\",AU7=\"AB\"),\"AB\",IF(AND(AT7=\"ML\",AU7=\"ML\"),\"RE\",SUM(AT7,AU7))))","v":59},{"$f":"IF(AND($B7=\"NSO\",$E7=\"\",AV7=\"\"),\"\",IF(AND(AV7=\"AB\"),\"AB\",IF(AND(AV7=\"ML\"),\"RE\",IF(AND(AV7=\"\"),\"\",ROUNDUP(AV7*50/70,0)))))","v":43},{"$f":"IF(AND($B7=\"NSO\",$E7=\"\"),\"\",IF(AND('Marks Entry'!AA9=\"AB\",'Marks Entry'!AB9=\"AB\"),\"AB\",IF(AND('Marks Entry'!AA9=\"ML\",'Marks Entry'!AB9=\"ML\"),\"RE\",IF('Marks Entry'!AA9=\"\",\"\",ROUNDUP(('Marks Entry'!AA9+'Marks Entry'!AB9)*30/100,0)))))","v":30},{"$f":"IF(AND(AS7=\"\",AW7=\"\",AX7=\"\"),\"\",SUM(AS7,AW7,AX7))","v":91},{"$f":"COUNTIF(AO7:AQ7,\"NA\")*10","v":0},{"$f":"(COUNTIF(AO7:AQ7,\"ML\")*10)+(COUNTIF(AT7,\"ML\")*70)+(COUNTIF(AX7,\"ML\")*100)","v":0},{"$f":"IF(OR($B7=\"NSO\",$B7=0),\"\",IF(AND(AO7=\"\",AP7=\"\",AQ7=\"\",AT7=\"\",AX7=\"\"),\"\",IF(AND(AP7=\"\",AQ7=\"\",AT7=\"\",AX7=\"\"),10-AZ7-BA7,IF(AND(AQ7=\"\",AT7=\"\",AX7=\"\"),20-AZ7-BA7,IF(AND(AQ7=\"\",AX7=\"\"),90-AZ7-BA7,IF(AX7=\"\",100-AZ7-BA7,100-AZ7-BA7))))))","v":100},{"$f":"IF(AND(OR(AO7=\"ab\",AO7=\"ml\"),OR(AP7=\"ab\",AP7=\"ml\"),OR(AQ7=\"ab\",AQ7=\"ml\")),\"AB\",IF(AND(OR(AO7=\"ab\",AO7=\"ml\"),OR(AP7=\"ab\",AP7=\"ml\"),OR(AT7=\"ab\",AT7=\"ml\")),\"AB\",IF(AND(OR(AO7=\"ab\",AO7=\"ml\"),OR(AT7=\"ab\",AT7=\"ml\"),OR(AQ7=\"ab\",AQ7=\"ml\")),\"AB\",IF(AND(OR(AT7=\"ab\",AT7=\"ml\"),OR(AP7=\"ab\",AP7=\"ml\"),OR(AQ7=\"ab\",AQ7=\"ml\")),\"AB\",\"\"))))","v":""},{"$f":"IF(OR($B7=\"NSO\",$E7=\"\",AX7=\"\"),\"\",IF(AND(AW7=\"AB\",AX7=\"ab\"),\"AB\",IF(AX7=\"ML\",\"RE\",IF(AND(AY7>=36%*BB7),\"P\",IF(AND(AY7>=34%*BB7,BA7=0),\"G2\",IF(AND(AY7>=31%*BB7,BA7=0),\"G1\",IF(AY7<=30%*BB7,\"F\",\"\")))))))","v":"P"},{"$f":"IF(OR(BD7=\"\",BD7=0,BD7=\"S\",BD7=\"RE\",BD7=\"AB\"),BD7,IF(AY7>=75%*BB7,\"D\",IF(AY7>=60%*BB7,\"I\",IF(AY7>=48%*BB7,\"II\",IF(AY7>=36%*BB7,\"III\",IF(AY7>=0%*BB7,\"P\",BD7))))))","v":"D"},{"$f":"IF('Marks Entry'!AC9=\"\",\"\",'Marks Entry'!AC9)","v":1},{"$f":"IF('Marks Entry'!AE9=\"\",\"\",'Marks Entry'!AE9)","v":8},{"$f":"IF('Marks Entry'!AF9=\"\",\"\",'Marks Entry'!AF9)","v":9},{"$f":"IF('Marks Entry'!AG9=\"\",\"\",'Marks Entry'!AG9)","v":10},{"$f":"IF(AND(BG7=\"\",BH7=\"\",BI7=\"\"),\"\",SUM(BG7:BI7))","v":27},{"$f":"IF(AND($E7=\"NSO\",$E7=\"\",BJ7=\"\"),\"\",IF(AND(BJ7=\"AB\"),\"AB\",IF(AND(BJ7=\"ML\"),\"RE\",IF(AND(BJ7=\"\"),\"\",ROUNDUP(BJ7*20/30,0)))))","v":18},{"$f":"IF('Marks Entry'!AH9=\"\",\"\",'Marks Entry'!AH9)","v":42},{"$f":"IF('Marks Entry'!AI9=\"\",\"\",'Marks Entry'!AI9)","v":19},{"$f":"IF(AND(BL7=\"\",BM7=\"\"),\"\",IF(AND(BL7=\"AB\",BM7=\"AB\"),\"AB\",IF(AND(BL7=\"ML\",BM7=\"ML\"),\"RE\",SUM(BL7,BM7))))","v":61},{"$f":"IF(AND($E7=\"NSO\",$E7=\"\",BN7=\"\"),\"\",IF(AND(BN7=\"AB\"),\"AB\",IF(AND(BN7=\"ML\"),\"RE\",IF(AND(BN7=\"\"),\"\",ROUNDUP(BN7*50/70,0)))))","v":44},{"$f":"IF(AND($B7=\"NSO\",$E7=\"\"),\"\",IF(AND('Marks Entry'!AJ9=\"AB\",'Marks Entry'!AK9=\"AB\"),\"AB\",IF(AND('Marks Entry'!AJ9=\"ML\",'Marks Entry'!AK9=\"ML\"),\"RE\",IF('Marks Entry'!AJ9=\"\",\"\",ROUNDUP(('Marks Entry'!AJ9+'Marks Entry'!AK9)*30/100,0)))))","v":30},{"$f":"IF(AND(BK7=\"\",BO7=\"\",BP7=\"\"),\"\",SUM(BK7,BO7,BP7))","v":92},{"$f":"COUNTIF(BG7:BI7,\"NA\")*10","v":0},{"$f":"(COUNTIF(BG7:BI7,\"ML\")*10)+(COUNTIF(BL7,\"ML\")*70)+(COUNTIF(BP7,\"ML\")*100)","v":0},{"$f":"IF(OR($B7=\"NSO\",$B7=0),\"\",IF(AND(BG7=\"\",BH7=\"\",BI7=\"\",BL7=\"\",BP7=\"\"),\"\",IF(AND(BH7=\"\",BI7=\"\",BL7=\"\",BP7=\"\"),10-BR7-BS7,IF(AND(BI7=\"\",BL7=\"\",BP7=\"\"),20-BR7-BS7,IF(AND(BI7=\"\",BP7=\"\"),90-BR7-BS7,IF(BP7=\"\",100-BR7-BS7,100-BR7-BS7))))))","v":100},{"$f":"IF(AND(OR(BG7=\"ab\",BG7=\"ml\"),OR(BH7=\"ab\",BH7=\"ml\"),OR(BI7=\"ab\",BI7=\"ml\")),\"AB\",IF(AND(OR(BG7=\"ab\",BG7=\"ml\"),OR(BH7=\"ab\",BH7=\"ml\"),OR(BL7=\"ab\",BL7=\"ml\")),\"AB\",IF(AND(OR(BG7=\"ab\",BG7=\"ml\"),OR(BL7=\"ab\",BL7=\"ml\"),OR(BI7=\"ab\",BI7=\"ml\")),\"AB\",IF(AND(OR(BL7=\"ab\",BL7=\"ml\"),OR(BH7=\"ab\",BH7=\"ml\"),OR(BI7=\"ab\",BI7=\"ml\")),\"AB\",\"\"))))","v":""},{"$f":"IF(OR($B7=\"NSO\",$E7=\"\",BP7=\"\"),\"\",IF(AND(BO7=\"AB\",BP7=\"ab\"),\"AB\",IF(BP7=\"ML\",\"RE\",IF(AND(BQ7>=36%*BT7),\"P\",IF(AND(BQ7>=34%*BT7,BS7=0),\"G2\",IF(AND(BQ7>=31%*BT7,BS7=0),\"G1\",IF(BQ7<=30%*BT7,\"F\",\"\")))))))","v":"P"},{"$f":"IF(OR(BV7=\"\",BV7=0,BV7=\"S\",BV7=\"RE\",BV7=\"AB\"),BV7,IF(BQ7>=75%*BT7,\"D\",IF(BQ7>=60%*BT7,\"I\",IF(BQ7>=48%*BT7,\"II\",IF(BQ7>=36%*BT7,\"III\",IF(BQ7>=0%*BT7,\"P\",BV7))))))","v":"D"},{"$f":"IF('Marks Entry'!AL9=\"\",\"\",'Marks Entry'!AL9)","v":2},{"$f":"IF('Marks Entry'!AN9=\"\",\"\",'Marks Entry'!AN9)","v":8},{"$f":"IF('Marks Entry'!AO9=\"\",\"\",'Marks Entry'!AO9)","v":9},{"$f":"IF('Marks Entry'!AP9=\"\",\"\",'Marks Entry'!AP9)","v":10},{"$f":"IF(AND(BY7=\"\",BZ7=\"\",CA7=\"\"),\"\",SUM(BY7:CA7))","v":27},{"$f":"IF(AND($E7=\"NSO\",$E7=\"\",CB7=\"\"),\"\",IF(AND(CB7=\"AB\"),\"AB\",IF(AND(CB7=\"ML\"),\"RE\",IF(AND(CB7=\"\"),\"\",ROUNDUP(CB7*20/30,0)))))","v":18},{"$f":"IF('Marks Entry'!AQ9=\"\",\"\",'Marks Entry'!AQ9)","v":41},{"$f":"IF('Marks Entry'!AR9=\"\",\"\",'Marks Entry'!AR9)","v":19},{"$f":"IF(AND(CD7=\"\",CE7=\"\"),\"\",IF(AND(CD7=\"AB\",CE7=\"AB\"),\"AB\",IF(AND(CD7=\"ML\",CE7=\"ML\"),\"RE\",SUM(CD7,CE7))))","v":60},{"$f":"IF(AND($E7=\"NSO\",$E7=\"\",CF7=\"\"),\"\",IF(AND(CF7=\"AB\"),\"AB\",IF(AND(CF7=\"ML\"),\"RE\",IF(AND(CF7=\"\"),\"\",ROUNDUP(CF7*50/70,0)))))","v":43},{"$f":"IF(AND($B7=\"NSO\",$E7=\"\"),\"\",IF(AND('Marks Entry'!AS9=\"AB\",'Marks Entry'!AT9=\"AB\"),\"AB\",IF(AND('Marks Entry'!AS9=\"ML\",'Marks Entry'!AT9=\"ML\"),\"RE\",IF('Marks Entry'!AS9=\"\",\"\",ROUNDUP(('Marks Entry'!AS9+'Marks Entry'!AT9)*30/100,0)))))","v":30},{"$f":"IF(AND(CC7=\"\",CG7=\"\",CH7=\"\"),\"\",SUM(CC7,CG7,CH7))","v":91},{"$f":"COUNTIF(BY7:CA7,\"NA\")*10","v":0},{"$f":"(COUNTIF(BY7:CA7,\"ML\")*10)+(COUNTIF(CD7,\"ML\")*70)+(COUNTIF(CH7,\"ML\")*100)","v":0},{"$f":"IF(OR($B7=\"NSO\",$B7=0),\"\",IF(AND(BY7=\"\",BZ7=\"\",CA7=\"\",CD7=\"\",CH7=\"\"),\"\",IF(AND(BZ7=\"\",CA7=\"\",CD7=\"\",CH7=\"\"),10-CJ7-CK7,IF(AND(CA7=\"\",CD7=\"\",CH7=\"\"),20-CJ7-CK7,IF(AND(CA7=\"\",CH7=\"\"),90-CJ7-CK7,IF(CH7=\"\",100-CJ7-CK7,100-CJ7-CK7))))))","v":100},{"$f":"IF(AND(OR(BY7=\"ab\",BY7=\"ml\"),OR(BZ7=\"ab\",BZ7=\"ml\"),OR(CA7=\"ab\",CA7=\"ml\")),\"AB\",IF(AND(OR(BY7=\"ab\",BY7=\"ml\"),OR(BZ7=\"ab\",BZ7=\"ml\"),OR(CD7=\"ab\",CD7=\"ml\")),\"AB\",IF(AND(OR(BY7=\"ab\",BY7=\"ml\"),OR(CD7=\"ab\",CD7=\"ml\"),OR(CA7=\"ab\",CA7=\"ml\")),\"AB\",IF(AND(OR(CD7=\"ab\",CD7=\"ml\"),OR(BZ7=\"ab\",BZ7=\"ml\"),OR(CA7=\"ab\",CA7=\"ml\")),\"AB\",\"\"))))","v":""},{"$f":"IF(OR($B7=\"NSO\",$E7=\"\",CH7=\"\"),\"\",IF(AND(CG7=\"AB\",CH7=\"ab\"),\"AB\",IF(CH7=\"ML\",\"RE\",IF(AND(CI7>=36%*CL7),\"P\",IF(AND(CI7>=34%*CL7,CK7=0),\"G2\",IF(AND(CI7>=31%*CL7,CK7=0),\"G1\",IF(CI7<=30%*CL7,\"F\",\"\")))))))","v":"P"},{"$f":"IF(OR(CN7=\"\",CN7=0,CN7=\"S\",CN7=\"RE\",CN7=\"AB\"),CN7,IF(CI7>=75%*CL7,\"D\",IF(CI7>=60%*CL7,\"I\",IF(CI7>=48%*CL7,\"II\",IF(CI7>=36%*CL7,\"III\",IF(CI7>=0%*CL7,\"P\",CN7))))))","v":"D"},{"$f":"IF('Marks Entry'!AU9=\"\",\"\",'Marks Entry'!AU9)","v":1},{"$f":"IF('Marks Entry'!AW9=\"\",\"\",'Marks Entry'!AW9)","v":8},{"$f":"IF('Marks Entry'!AX9=\"\",\"\",'Marks Entry'!AX9)","v":9},{"$f":"IF('Marks Entry'!AY9=\"\",\"\",'Marks Entry'!AY9)","v":10},{"$f":"IF(AND(CQ7=\"\",CR7=\"\",CS7=\"\"),\"\",SUM(CQ7:CS7))","v":27},{"$f":"IF(AND($E7=\"NSO\",$E7=\"\",CT7=\"\"),\"\",IF(AND(CT7=\"AB\"),\"AB\",IF(AND(CT7=\"ML\"),\"RE\",IF(AND(CT7=\"\"),\"\",ROUNDUP(CT7*20/30,0)))))","v":18},{"$f":"IF('Marks Entry'!AZ9=\"\",\"\",'Marks Entry'!AZ9)","v":40},{"$f":"IF('Marks Entry'!BA9=\"\",\"\",'Marks Entry'!BA9)","v":19},{"$f":"IF(AND(CV7=\"\",CW7=\"\"),\"\",IF(AND(CV7=\"AB\",CW7=\"AB\"),\"AB\",IF(AND(CV7=\"ML\",CW7=\"ML\"),\"RE\",SUM(CV7,CW7))))","v":59},{"$f":"IF(AND($E7=\"NSO\",$E7=\"\",CX7=\"\"),\"\",IF(AND(CX7=\"AB\"),\"AB\",IF(AND(CX7=\"ML\"),\"RE\",IF(AND(CX7=\"\"),\"\",ROUNDUP(CX7*50/70,0)))))","v":43},{"$f":"IF(AND($B7=\"NSO\",$E7=\"\"),\"\",IF(AND('Marks Entry'!BB9=\"AB\",'Marks Entry'!BC9=\"AB\"),\"AB\",IF(AND('Marks Entry'!BB9=\"ML\",'Marks Entry'!BC9=\"ML\"),\"RE\",IF('Marks Entry'!BB9=\"\",\"\",ROUNDUP(('Marks Entry'!BB9+'Marks Entry'!BC9)*30/100,0)))))","v":30},{"$f":"IF(AND(CU7=\"\",CY7=\"\",CZ7=\"\"),\"\",SUM(CU7,CY7,CZ7))","v":91},{"$f":"COUNTIF(CQ7:CS7,\"NA\")*10","v":0},{"$f":"(COUNTIF(CQ7:CS7,\"ML\")*10)+(COUNTIF(CV7,\"ML\")*70)+(COUNTIF(CZ7,\"ML\")*100)","v":0},{"$f":"IF(OR($B7=\"NSO\",$B7=0),\"\",IF(AND(CQ7=\"\",CR7=\"\",CS7=\"\",CV7=\"\",CZ7=\"\"),\"\",IF(AND(CR7=\"\",CS7=\"\",CV7=\"\",CZ7=\"\"),10-DB7-DC7,IF(AND(CS7=\"\",CV7=\"\",CZ7=\"\"),20-DB7-DC7,IF(AND(CS7=\"\",CZ7=\"\"),90-DB7-DC7,IF(CZ7=\"\",100-DB7-DC7,100-DB7-DC7))))))","v":100},{"$f":"IF(AND(OR(CQ7=\"ab\",CQ7=\"ml\"),OR(CR7=\"ab\",CR7=\"ml\"),OR(CS7=\"ab\",CS7=\"ml\")),\"AB\",IF(AND(OR(CQ7=\"ab\",CQ7=\"ml\"),OR(CR7=\"ab\",CR7=\"ml\"),OR(CV7=\"ab\",CV7=\"ml\")),\"AB\",IF(AND(OR(CQ7=\"ab\",CQ7=\"ml\"),OR(CV7=\"ab\",CV7=\"ml\"),OR(CS7=\"ab\",CS7=\"ml\")),\"AB\",IF(AND(OR(CV7=\"ab\",CV7=\"ml\"),OR(CR7=\"ab\",CR7=\"ml\"),OR(CS7=\"ab\",CS7=\"ml\")),\"AB\",\"\"))))","v":""},{"$f":"IF(OR($B7=\"NSO\",$E7=\"\",CZ7=\"\"),\"\",IF(AND(CY7=\"AB\",CZ7=\"ab\"),\"AB\",IF(CZ7=\"ML\",\"RE\",IF(AND(DA7>=36%*DD7),\"P\",IF(AND(DA7>=34%*DD7,DC7=0),\"G2\",IF(AND(DA7>=31%*DD7,DC7=0),\"G1\",IF(DA7<=30%*DD7,\"F\",\"\")))))))","v":"P"},{"$f":"IF(OR(DF7=\"\",DF7=0,DF7=\"S\",DF7=\"RE\",DF7=\"AB\"),DF7,IF(DA7>=75%*DD7,\"D\",IF(DA7>=60%*DD7,\"I\",IF(DA7>=48%*DD7,\"II\",IF(DA7>=36%*DD7,\"III\",IF(DA7>=0%*DD7,\"P\",DF7))))))","v":"D"},{"$f":"SUM(T7,S7,AH7,AI7,AZ7,BA7,BR7,BS7,CJ7,CK7,DB7,DC7)","v":0},{"$f":"X7","v":"D"},{"$f":"AM7","v":"II"},{"$f":"BE7","v":"D"},{"$f":"BW7","v":"D"},{"$f":"CO7","v":"D"},{"$f":"DG7","v":"D"},{"$f":"COUNTIF(DI7:DN7,\"F\")","v":0},{"$f":"COUNTIF(DI7:DN7,\"S\")","v":0},{"$f":"COUNTIF(DI7:DN7,\"G1\")","v":0},{"$f":"COUNTIF(DI7:DN7,\"G2\")","v":0},{"$f":"COUNTIF(DI7:DN7,\"RE\")+COUNTIF(DI7:DN7,\"REP\")+COUNTIF(DI7:DN7,\"AB\")","v":0},{"$f":"IF(B7=\"NSO\",\"NSO\",IF(OR(E7=\"\",E7=0,Q7=\"\",AF7=\"\",AX7=\"\",BP7=\"\",CH7=\"\"),\"\",IF(OR(DO7>0,(DP7+DQ7+DR7)>2),\"FAIL\",IF(DS7>0,\"RE-EXAM.\",IF(OR(DP7>0,DQ7>1),\"RE-EXAM.\",IF(AND(DQ7>0,DR7>0),\"SUPPL.\",IF((DQ7+DR7)>0,\"PASS BY GRACE\",\"PASS\")))))))","v":"PASS"},{"$f":"IF('Marks Entry'!BD9=\"\",\"\",'Marks Entry'!BD9)","v":29},{"$f":"IF('Marks Entry'!BE9=\"\",\"\",'Marks Entry'!BE9)","v":22},{"$f":"IF('Marks Entry'!BF9=\"\",\"\",'Marks Entry'!BF9)","v":23},{"$f":"IF(AND(DU7=\"\",DV7=\"\",DW7=\"\"),\"\",SUM(DU7:DW7))","v":74},{"$f":"IF(AND(DT7=\"FAIL\",(OR(DI7=\"G1\",DI7=\"G2\",DI7=\"S\",DI7=\"RE\"))),\"F\",IF(AND(DT7=\"RE-EXAM.\",(OR(DI7=\"G1\",DI7=\"G2\",DI7=\"S\"))),\"S\",IF(AND(DT7=\"SUPPL.\",(OR(DI7=\"G1\",DI7=\"G2\"))),\"S\",IF(AND(DT7=\"PASS BY GRACE\",(OR(DI7=\"G1\",DI7=\"G2\"))),\"G\",DI7))))","v":"D"},{"$f":"IF(DY7=\"G\",ROUNDUP(36%*U7-R7,0),\"\")","v":""},{"$f":"IF(AND(DT7=\"FAIL\",(OR(DJ7=\"G1\",DJ7=\"G2\",DJ7=\"S\",DJ7=\"RE\"))),\"F\",IF(AND(DT7=\"RE-EXAM.\",(OR(DJ7=\"G1\",DJ7=\"G2\",DJ7=\"S\"))),\"S\",IF(AND(DT7=\"SUPPL.\",(OR(DJ7=\"G1\",DJ7=\"G2\"))),\"S\",IF(AND(DT7=\"PASS BY GRACE\",(OR(DJ7=\"G1\",DJ7=\"G2\"))),\"G\",DJ7))))","v":"II"},{"$f":"IF(EA7=\"G\",ROUNDUP(36%*AK7-AH7,0),\"\")","v":""},{"$f":"IF(AND(DT7=\"FAIL\",(OR(DK7=\"G1\",DK7=\"G2\",DK7=\"S\",DK7=\"RE\"))),\"F\",IF(AND(DT7=\"RE-EXAM.\",(OR(DK7=\"G1\",DK7=\"G2\",DK7=\"S\"))),\"S\",IF(AND(DT7=\"SUPPL.\",(OR(DK7=\"G1\",DK7=\"G2\"))),\"S\",IF(AND(DT7=\"PASS BY GRACE\",(OR(DK7=\"G1\",DK7=\"G2\"))),\"G\",DK7))))","v":"D"},{"$f":"IF(AN7=1,EC7,\"\")","v":"D"},{"$f":"IF(AN7=2,EC7,\"\")","v":""},{"$f":"IF(AN7=3,EC7,\"\")","v":""},{"$f":"IF(EC7=\"G\",ROUNDUP(36%*AO7-AK7,0),\"\")","v":""},{"$f":"IF(AND(DT7=\"FAIL\",(OR(DL7=\"G1\",DL7=\"G2\",DL7=\"S\",DL7=\"RE\"))),\"F\",IF(AND(DT7=\"RE-EXAM.\",(OR(DL7=\"G1\",DL7=\"G2\",DL7=\"S\"))),\"S\",IF(AND(DT7=\"SUPPL.\",(OR(DL7=\"G1\",DL7=\"G2\"))),\"S\",IF(AND(DT7=\"PASS BY GRACE\",(OR(DL7=\"G1\",DL7=\"G2\"))),\"G\",DL7))))","v":"D"},{"$f":"IF(BF7=1,EH7,\"\")","v":"D"},{"$f":"IF(BF7=2,EH7,\"\")","v":""},{"$f":"IF(BF7=3,EH7,\"\")","v":""},{"$f":"IF(EH7=\"G\",ROUNDUP(36%*AR7-AO7,0),\"\")","v":""},{"$f":"IF(AND(DT7=\"FAIL\",(OR(DM7=\"G1\",DM7=\"G2\",DM7=\"S\",DM7=\"RE\"))),\"F\",IF(AND(DT7=\"RE-EXAM.\",(OR(DM7=\"G1\",DM7=\"G2\",DM7=\"S\"))),\"S\",IF(AND(DT7=\"SUPPL.\",(OR(DM7=\"G1\",DM7=\"G2\"))),\"S\",IF(AND(DT7=\"PASS BY GRACE\",(OR(DM7=\"G1\",DM7=\"G2\"))),\"G\",DM7))))","v":"D"},{"$f":"IF(BX7=1,EM7,\"\")","v":""},{"$f":"IF(BX7=2,EM7,\"\")","v":"D"},{"$f":"IF(BX7=3,EM7,\"\")","v":""},{"$f":"IF(EM7=\"G\",ROUNDUP(36%*AW7-AR7,0),\"\")","v":""},{"$f":"IF(AND(DT7=\"FAIL\",(OR(DN7=\"G1\",DN7=\"G2\",DN7=\"S\",DN7=\"RE\"))),\"F\",IF(AND(DT7=\"RE-EXAM.\",(OR(DN7=\"G1\",DN7=\"G2\",DN7=\"S\"))),\"S\",IF(AND(DT7=\"SUPPL.\",(OR(DN7=\"G1\",DN7=\"G2\"))),\"S\",IF(AND(DT7=\"PASS BY GRACE\",(OR(DN7=\"G1\",DN7=\"G2\"))),\"G\",DN7))))","v":"D"},{"$f":"IF(CP7=1,ER7,\"\")","v":"D"},{"$f":"IF(CP7=2,ER7,\"\")","v":""},{"$f":"IF(CP7=3,ER7,\"\")","v":""},{"$f":"IF(ER7=\"G\",ROUNDUP(36%*AZ7-AW7,0),\"\")","v":""},{"$f":"IF(OR(DX7=\"\",DX7=0,DX7=\"S\",DX7=\"RE\",DX7=\"AB\"),\"\",IF(DX7>=75%*$DX$5,\"D\",IF(DX7>=60%*$DX$5,\"I\",IF(DX7>=48%*$DX$5,\"II\",IF(DX7>=36%*$DX$5,\"III\",IF(DX7>=0%*$DX$5,\"P\",\"\"))))))","v":"I"},{"$f":"IF('Student DATA Entry'!I4=\"\",\"\",'Student DATA Entry'!I4)","v":324},{"$f":"IF('Student DATA Entry'!J4=\"\",\"\",'Student DATA Entry'!J4)","v":315},{"$f":"CONCATENATE(IF(DY7=\"F\",$DY$4,\"\"),\" \",IF(EA7=\"F\",$EA$4,\"\"),\" \",IF(EC7=\"F\",$EC$4,\"\"),\" \",IF(EH7=\"F\",$EH$4,\"\"),\" \",IF(EM7=\"F\",$EM$4,\"\"),\" \",IF(ER7=\"F\",$ER$4,\"\"),\" \")","v":"      "},{"$f":"CONCATENATE(IF(DY7=\"S\",$DY$4,\"\"),\" \",IF(EA7=\"S\",$EA$4,\"\"),\" \",IF(EC7=\"S\",$EC$4,\"\"),\" \",IF(EH7=\"S\",$EH$4,\"\"),\" \",IF(EM7=\"S\",$EM$4,\"\"),\" \",IF(ER7=\"S\",$ER$4,\"\"),\" \")","v":"      "},{"$f":"CONCATENATE(IF(DY7=\"G\",$DY$4,\"\"),\" \",IF(EA7=\"G\",$EA$4,\"\"),\" \",IF(EC7=\"G\",$EC$4,\"\"),\" \",IF(EH7=\"G\",$EH$4,\"\"),\" \",IF(EM7=\"G\",$EM$4,\"\"),\" \",IF(ER7=\"G\",$ER$4,\"\"),\" \")","v":"      "},{"$f":"CONCATENATE(IF(DY7=\"D\",$DY$4,\"\"),\" \",IF(EA7=\"D\",$EA$4,\"\"),\" \",IF(ED7=\"D\",$ED$4,\"\"),\" \",IF(EE7=\"D\",$EE$4,\"\"),\" \",IF(EF7=\"D\",$EF$4,\"\"),\" \",IF(EI7=\"D\",$EI$4,\"\"),\" \",IF(EJ7=\"D\",$EJ$4,\"\"),\" \",IF(EK7=\"D\",$EK$4,\"\"),\" \",IF(EN7=\"D\",$EN$4,\"\"),\" \",IF(EO7=\"D\",$EO$4,\"\"),\" \",IF(EP7=\"D\",$EP$4,\"\"),\" \",IF(ET7=\"D\",$ET$4,\"\"),\" \",IF(EU7=\"D\",$EU$4,\"\"),\" \",IF(ES7=\"D\",$ES$4,\"\"),\" \")","v":"HINDI  POLITICAL SCIENCE   HISTORY    HINDI LITERATURE    MATHEMATICS "},{"$f":"IF(E7=\"\",\" \",IF(OR(B7=\"\",B7=\"NSO\"),\" \",\"Promoted to Class 12th\"))","v":"Promoted to Class 12th"},{"$f":"IF(AND(FD7=\"\"),\"\",IF(AND(R7=\"\",AG7=\"\",AY7=\"\",BQ7=\"\",CI7=\"\"),\"\",SUM(R7,AG7,AY7,BQ7,CI7)))","v":421},{"$f":"IF(FE7=\"\",\"\",FE7*100/($FE$5-DH7))","v":{"v":84.2,"d":"84.20"}},{"$f":"IF(B7=\"NSO\",\"NSO\",IF(FF7=\"\",\"\",IF(AND(FF7>=60,(FD7=\"Promoted to Class 12th\")),\"I\",IF(AND(FF7>=60,(FD7=\"Promoted to Class 12th\")),\"I\",IF(AND(FF7>=48,(FD7=\"Promoted to Class 12th\")),\"II\",IF(AND(FF7>=48,(FD7=\"Promoted to Class 12th\")),\"II\",IF(AND(FF7>=36,(FD7=\"Promoted to Class 12th\")),\"III\",IF(AND(FF7>=0,(FD7=\"Promoted to Class 12th\")),\"P\",\"\"))))))))","v":"I"},{"$f":"IF(FF7=\"\",\"\",SUMPRODUCT((FF7<FF$6:FF$105)/COUNTIF(FF$6:FF$105,FF$6:FF$105)))","v":0.9999999999999987},{"$f":"IF(FG7=\"P\",\"Promoted\",\"\")","v":""}]
[3,{"$f":"IF('Marks Entry'!B10=\"\",\"\",VALUE('Marks Entry'!B10))","v":1103},{"$f":"IF('Marks Entry'!C10=\"\",\"\",'Marks Entry'!C10)","v":457},{"$f":"IF('Marks Entry'!D10=\"\",\"\",'Marks Entry'!D10)","v":"05-08-2004"},{"$f":"IF('Marks Entry'!E10=\"\",\"\",'Marks Entry'!E10)","v":"ARUN DEWASI"},{"$f":"IF('Marks Entry'!F10=\"\",\"\",'Marks Entry'!F10)","v":"SUJA RAM"},{"$f":"IF('Marks Entry'!G10=\"\",\"\",'Marks Entry'!G10)","v":"KANIYA DEVI"},{"$f":"IF('Marks Entry'!H10=\"\",\"\",'Marks Entry'!H10)","v":"SBC"},{"$f":"IF('Marks Entry'!I10=\"\",\"\",'Marks Entry'!I10)","v":"M"},{"$f":"IF('Marks Entry'!J10=\"\",\"\",'Marks Entry'!J10)","v":9},{"$f":"IF('Marks Entry'!K10=\"\",\"\",'Marks Entry'!K10)","v":9},{"$f":"IF('Marks Entry'!L10=\"\",\"\",'Marks Entry'!L10)","v":10},28,19,{"$f":"IF('Marks Entry'!M10=\"\",\"\",'Marks Entry'!M10)","v":63},45,{"$f":"IF(AND($B8=\"NSO\",$E8=\"\",O8=\"\"),\"\",IF(AND('Marks Entry'!N10=\"AB\"),\"AB\",IF(AND('Marks Entry'!N10=\"ML\"),\"RE\",IF('Marks Entry'!N10=\"\",\"\",ROUNDUP('Marks Entry'!N10*30/100,0)))))","v":21},85,0,0,100,"","P","D",{"$f":"IF('Marks Entry'!O10=\"\",\"\",'Marks Entry'!O10)","v":9},{"$f":"IF('Marks Entry'!P10=\"\",\"\",'Marks Entry'!P10)","v":9},{"$f":"IF('Marks Entry'!Q10=\"\",\"\",'Marks Entry'!Q10)","v":10},28,19,{"$f":"IF('Marks Entry'!R10=\"\",\"\",'Marks Entry'!R10)","v":49},35,{"$f":"IF(AND($B8=\"NSO\",$E8=\"\"),\"\",IF(AND('Marks Entry'!S10=\"AB\"),\"AB\",IF(AND('Marks Entry'!S10=\"ML\"),\"RE\",IF('Marks Entry'!S10=\"\",\"\",ROUNDUP('Marks Entry'!S10*30/100,0)))))","v":9},63,0,0,100,"","P","I",{"$f":"IF('Marks Entry'!T10=\"\",\"\",'Marks Entry'!T10)","v":1},{"$f":"IF('Marks Entry'!V10=\"\",\"\",'Marks Entry'!V10)","v":9},{"$f":"IF('Marks Entry'!W10=\"\",\"\",'Marks Entry'!W10)","v":9},{"$f":"IF('Marks Entry'!X10=\"\",\"\",'Marks Entry'!X10)","v":10},28,19,{"$f":"IF('Marks Entry'!Y10=\"\",\"\",'Marks Entry'!Y10)","v":45},{"$f":"IF('Marks Entry'!Z10=\"\",\"\",'Marks Entry'!Z10)","v":""},45,33,{"$f":"IF(AND($B8=\"NSO\",$E8=\"\"),\"\",IF(AND('Marks Entry'!AA10=\"AB\",'Marks Entry'!AB10=\"AB\"),\"AB\",IF(AND('Marks Entry'!AA10=\"ML\",'Marks Entry'!AB10=\"ML\"),\"RE\",IF('Marks Entry'!AA10=\"\",\"\",ROUNDUP(('Marks Entry'!AA10+'Marks Entry'!AB10)*30/100,0)))))","v":30},82,0,0,100,"","P","D",{"$f":"IF('Marks Entry'!AC10=\"\",\"\",'Marks Entry'!AC10)","v":1},{"$f":"IF('Marks Entry'!AE10=\"\",\"\",'Marks Entry'!AE10)","v":9},{"$f":"IF('Marks Entry'!AF10=\"\",\"\",'Marks Entry'!AF10)","v":9},{"$f":"IF('Marks Entry'!AG10=\"\",\"\",'Marks Entry'!AG10)","v":10},28,19,{"$f":"IF('Marks Entry'!AH10=\"\",\"\",'Marks Entry'!AH10)","v":54},{"$f":"IF('Marks Entry'!AI10=\"\",\"\",'Marks Entry'!AI10)","v":""},54,39,{"$f":"IF(AND($B8=\"NSO\",$E8=\"\"),\"\",IF(AND('Marks Entry'!AJ10=\"AB\",'Marks Entry'!AK10=\"AB\"),\"AB\",IF(AND('Marks Entry'!AJ10=\"ML\",'Marks Entry'!AK10=\"ML\"),\"RE\",IF('Marks Entry'!AJ10=\"\",\"\",ROUNDUP(('Marks Entry'!AJ10+'Marks Entry'!AK10)*30/100,0)))))","v":30},88,0,0,100,"","P","D",{"$f":"IF('Marks Entry'!AL10=\"\",\"\",'Marks Entry'!AL10)","v":1},{"$f":"IF('Marks Entry'!AN10=\"\",\"\",'Marks Entry'!AN10)","v":9},{"$f":"IF('Marks Entry'!AO10=\"\",\"\",'Marks Entry'!AO10)","v":9},{"$f":"IF('Marks Entry'!AP10=\"\",\"\",'Marks Entry'!AP10)","v":10},28,19,{"$f":"IF('Marks Entry'!AQ10=\"\",\"\",'Marks Entry'!AQ10)","v":54},{"$f":"IF('Marks Entry'!AR10=\"\",\"\",'Marks Entry'!AR10)","v":""},54,39,{"$f":"IF(AND($B8=\"NSO\",$E8=\"\"),\"\",IF(AND('Marks Entry'!AS10=\"AB\",'Marks Entry'!AT10=\"AB\"),\"AB\",IF(AND('Marks Entry'!AS10=\"ML\",'Marks Entry'!AT10=\"ML\"),\"RE\",IF('Marks Entry'!AS10=\"\",\"\",ROUNDUP(('Marks Entry'!AS10+'Marks Entry'!AT10)*30/100,0)))))","v":30},88,0,0,100,"","P","D",{"$f":"IF('Marks Entry'!AU10=\"\",\"\",'Marks Entry'!AU10)","v":2},{"$f":"IF('Marks Entry'!AW10=\"\",\"\",'Marks Entry'!AW10)","v":9},{"$f":"IF('Marks Entry'!AX10=\"\",\"\",'Marks Entry'!AX10)","v":9},{"$f":"IF('Marks Entry'!AY10=\"\",\"\",'Marks Entry'!AY10)","v":10},28,19,{"$f":"IF('Marks Entry'!AZ10=\"\",\"\",'Marks Entry'!AZ10)","v":54},{"$f":"IF('Marks Entry'!BA10=\"\",\"\",'Marks Entry'!BA10)","v":""},54,39,{"$f":"IF(AND($B8=\"NSO\",$E8=\"\"),\"\",IF(AND('Marks Entry'!BB10=\"AB\",'Marks Entry'!BC10=\"AB\"),\"AB\",IF(AND('Marks Entry'!BB10=\"ML\",'Marks Entry'!BC10=\"ML\"),\"RE\",IF('Marks Entry'!BB10=\"\",\"\",ROUNDUP(('Marks Entry'!BB10+'Marks Entry'!BC10)*30/100,0)))))","v":30},88,0,0,100,"","P","D",0,"D","I","D","D","D","D",0,0,0,0,0,"PASS",{"$f":"IF('Marks Entry'!BD10=\"\",\"\",'Marks Entry'!BD10)","v":30},{"$f":"IF('Marks Entry'!BE10=\"\",\"\",'Marks Entry'!BE10)","v":22},{"$f":"IF('Marks Entry'!BF10=\"\",\"\",'Marks Entry'!BF10)","v":23},75,"D","","I","","D","D","","","","D","D","","","","D","D","","","","D","","D","","","D",{"$f":"IF('Student DATA Entry'!I5=\"\",\"\",'Student DATA Entry'!I5)","v":324},{"$f":"IF('Student DATA Entry'!J5=\"\",\"\",'Student DATA Entry'!J5)","v":312},"      ","      ","      ","HINDI  POLITICAL SCIENCE   HISTORY   GEOGRAPHY   BEAUTY AND HEALTH   ","Promoted to Class 12th",406,{"v":81.2,"d":"81.20"},"I",3.9999999999999964,""]
[4,{"$f":"IF('Marks Entry'!B11=\"\",\"\",VALUE('Marks Entry'!B11))","v":1104},{"$f":"IF('Marks Entry'!C11=\"\",\"\",'Marks Entry'!C11)","v":234},{"$f":"IF('Marks Entry'!D11=\"\",\"\",'Marks Entry'!D11)","v":"08-05-2004"},{"$f":"IF('Marks Entry'!E11=\"\",\"\",'Marks Entry'!E11)","v":"BHAVANI SINGH"},{"$f":"IF('Marks Entry'!F11=\"\",\"\",'Marks Entry'!F11)","v":"HADMAT SINGH"},{"$f":"IF('Marks Entry'!G11=\"\",\"\",'Marks Entry'!G11)","v":"KISHOR KANWAR"},{"$f":"IF('Marks Entry'!H11=\"\",\"\",'Marks Entry'!H11)","v":"GEN"},{"$f":"IF('Marks Entry'!I11=\"\",\"\",'Marks Entry'!I11)","v":"M"},{"$f":"IF('Marks Entry'!J11=\"\",\"\",'Marks Entry'!J11)","v":5},{"$f":"IF('Marks Entry'!K11=\"\",\"\",'Marks Entry'!K11)","v":7},{"$f":"IF('Marks Entry'!L11=\"\",\"\",'Marks Entry'!L11)","v":8},20,14,{"$f":"IF('Marks Entry'!M11=\"\",\"\",'Marks Entry'!M11)","v":56},40,{"$f":"IF(AND($B9=\"NSO\",$E9=\"\",O9=\"\"),\"\",IF(AND('Marks Entry'!N11=\"AB\"),\"AB\",IF(AND('Marks Entry'!N11=\"ML\"),\"RE\",IF('Marks Entry'!N11=\"\",\"\",ROUNDUP('Marks Entry'!N11*30/100,0)))))","v":18},72,0,0,100,"","P","I",{"$f":"IF('Marks Entry'!O11=\"\",\"\",'Marks Entry'!O11)","v":5},{"$f":"IF('Marks Entry'!P11=\"\",\"\",'Marks Entry'!P11)","v":7},{"$f":"IF('Marks Entry'!Q11=\"\",\"\",'Marks Entry'!Q11)","v":8},20,14,{"$f":"IF('Marks Entry'!R11=\"\",\"\",'Marks Entry'!R11)","v":32},23,{"$f":"IF(AND($B9=\"NSO\",$E9=\"\"),\"\",IF(AND('Marks Entry'!S11=\"AB\"),\"AB\",IF(AND('Marks Entry'!S11=\"ML\"),\"RE\",IF('Marks Entry'!S11=\"\",\"\",ROUNDUP('Marks Entry'!S11*30/100,0)))))","v":6},43,0,0,100,"","P","III",{"$f":"IF('Marks Entry'!T11=\"\",\"\",'Marks Entry'!T11)","v":1},{"$f":"IF('Marks Entry'!V11=\"\",\"\",'Marks Entry'!V11)","v":5},{"$f":"IF('Marks Entry'!W11=\"\",\"\",'Marks Entry'!W11)","v":7},{"$f":"IF('Marks Entry'!X11=\"\",\"\",'Marks Entry'!X11)","v":8},20,14,{"$f":"IF('Marks Entry'!Y11=\"\",\"\",'Marks Entry'!Y11)","v":32},{"$f":"IF('Marks Entry'!Z11=\"\",\"\",'Marks Entry'!Z11)","v":20},52,38,{"$f":"IF(AND($B9=\"NSO\",$E9=\"\"),\"\",IF(AND('Marks Entry'!AA11=\"AB\",'Marks Entry'!AB11=\"AB\"),\"AB\",IF(AND('Marks Entry'!AA11=\"ML\",'Marks Entry'!AB11=\"ML\"),\"RE\",IF('Marks Entry'!AA11=\"\",\"\",ROUNDUP(('Marks Entry'!AA11+'Marks Entry'!AB11)*30/100,0)))))","v":30},82,0,0,100,"","P","D",{"$f":"IF('Marks Entry'!AC11=\"\",\"\",'Marks Entry'!AC11)","v":1},{"$f":"IF('Marks Entry'!AE11=\"\",\"\",'Marks Entry'!AE11)","v":5},{"$f":"IF('Marks Entry'!AF11=\"\",\"\",'Marks Entry'!AF11)","v":7},{"$f":"IF('Marks Entry'!AG11=\"\",\"\",'Marks Entry'!AG11)","v":8},20,14,{"$f":"IF('Marks Entry'!AH11=\"\",\"\",'Marks Entry'!AH11)","v":32},{"$f":"IF('Marks Entry'!AI11=\"\",\"\",'Marks Entry'!AI11)","v":""},32,23,{"$f":"IF(AND($B9=\"NSO\",$E9=\"\"),\"\",IF(AND('Marks Entry'!AJ11=\"AB\",'Marks Entry'!AK11=\"AB\"),\"AB\",IF(AND('Marks Entry'!AJ11=\"ML\",'Marks Entry'!AK11=\"ML\"),\"RE\",IF('Marks Entry'!AJ11=\"\",\"\",ROUNDUP(('Marks Entry'!AJ11+'Marks Entry'!AK11)*30/100,0)))))","v":30},67,0,0,100,"","P","I",{"$f":"IF('Marks Entry'!AL11=\"\",\"\",'Marks Entry'!AL11)","v":1},{"$f":"IF('Marks Entry'!AN11=\"\",\"\",'Marks Entry'!AN11)","v":5},{"$f":"IF('Marks Entry'!AO11=\"\",\"\",'Marks Entry'!AO11)","v":7},{"$f":"IF('Marks Entry'!AP11=\"\",\"\",'Marks Entry'!AP11)","v":8},20,14,{"$f":"IF('Marks Entry'!AQ11=\"\",\"\",'Marks Entry'!AQ11)","v":32},{"$f":"IF('Marks Entry'!AR11=\"\",\"\",'Marks Entry'!AR11)","v":""},32,23,{"$f":"IF(AND($B9=\"NSO\",$E9=\"\"),\"\",IF(AND('Marks Entry'!AS11=\"AB\",'Marks Entry'!AT11=\"AB\"),\"AB\",IF(AND('Marks Entry'!AS11=\"ML\",'Marks Entry'!AT11=\"ML\"),\"RE\",IF('Marks Entry'!AS11=\"\",\"\",ROUNDUP(('Marks Entry'!AS11+'Marks Entry'!AT11)*30/100,0)))))","v":30},67,0,0,100,"","P","I",{"$f":"IF('Marks Entry'!AU11=\"\",\"\",'Marks Entry'!AU11)","v":2},{"$f":"IF('Marks Entry'!AW11=\"\",\"\",'Marks Entry'!AW11)","v":5},{"$f":"IF('Marks Entry'!AX11=\"\",\"\",'Marks Entry'!AX11)","v":7},{"$f":"IF('Marks Entry'!AY11=\"\",\"\",'Marks Entry'!AY11)","v":8},20,14,{"$f":"IF('Marks Entry'!AZ11=\"\",\"\",'Marks Entry'!AZ11)","v":32},{"$f":"IF('Marks Entry'!BA11=\"\",\"\",'Marks Entry'!BA11)","v":""},32,23,{"$f":"IF(AND($B9=\"NSO\",$E9=\"\"),\"\",IF(AND('Marks Entry'!BB11=\"AB\",'Marks Entry'!BC11=\"AB\"),\"AB\",IF(AND('Marks Entry'!BB11=\"ML\",'Marks Entry'!BC11=\"ML\"),\"RE\",IF('Marks Entry'!BB11=\"\",\"\",ROUNDUP(('Marks Entry'!BB11+'Marks Entry'!BC11)*30/100,0)))))","v":27},64,0,0,100,"","P","I",0,"I","III","D","I","I","I",0,0,0,0,0,"PASS",{"$f":"IF('Marks Entry'!BD11=\"\",\"\",'Marks Entry'!BD11)","v":29},{"$f":"IF('Marks Entry'!BE11=\"\",\"\",'Marks Entry'!BE11)","v":22},{"$f":"IF('Marks Entry'!BF11=\"\",\"\",'Marks Entry'!BF11)","v":23},74,"I","","III","","D","D","","","","I","I","","","","I","I","","","","I","","I","","","I",{"$f":"IF('Student DATA Entry'!I6=\"\",\"\",'Student DATA Entry'!I6)","v":290},{"$f":"IF('Student DATA Entry'!J6=\"\",\"\",'Student DATA Entry'!J6)","v":285},"      ","      ","      ","  POLITICAL SCIENCE            ","Promoted to Class 12th",331,{"v":66.2,"d":"66.20"},"I",5.9999999999999964,""]
[5,{"$f":"IF('Marks Entry'!B12=\"\",\"\",VALUE('Marks Entry'!B12))","v":1105},{"$f":"IF('Marks Entry'!C12=\"\",\"\",'Marks Entry'!C12)","v":356},{"$f":"IF('Marks Entry'!D12=\"\",\"\",'Marks Entry'!D12)","v":"25-03-2003"},{"$f":"IF('Marks Entry'!E12=\"\",\"\",'Marks Entry'!E12)","v":"BHAWANA KANWAR"},{"$f":"IF('Marks Entry'!F12=\"\",\"\",'Marks Entry'!F12)","v":"DALPAT SINGH"},{"$f":"IF('Marks Entry'!G12=\"\",\"\",'Marks Entry'!G12)","v":"SHYAM KANWAR"},{"$f":"IF('Marks Entry'!H12=\"\",\"\",'Marks Entry'!H12)","v":"GEN"},{"$f":"IF('Marks Entry'!I12=\"\",\"\",'Marks Entry'!I12)","v":"F"},{"$f":"IF('Marks Entry'!J12=\"\",\"\",'Marks Entry'!J12)","v":"NA"},{"$f":"IF('Marks Entry'!K12=\"\",\"\",'Marks Entry'!K12)","v":"NA"},{"$f":"IF('Marks Entry'!L12=\"\",\"\",'Marks Entry'!L12)","v":10},10,7,{"$f":"IF('Marks Entry'!M12=\"\",\"\",'Marks Entry'!M12)","v":36},26,{"$f":"IF(AND($B10=\"NSO\",$E10=\"\",O10=\"\"),\"\",IF(AND('Marks Entry'!N12=\"AB\"),\"AB\",IF(AND('Marks Entry'!N12=\"ML\"),\"RE\",IF('Marks Entry'!N12=\"\",\"\",ROUNDUP('Marks Entry'!N12*30/100,0)))))","v":3},36,20,0,80,"","P","III",{"$f":"IF('Marks Entry'!O12=\"\",\"\",'Marks Entry'!O12)","v":7},{"$f":"IF('Marks Entry'!P12=\"\",\"\",'Marks Entry'!P12)","v":9},{"$f":"IF('Marks Entry'!Q12=\"\",\"\",'Marks Entry'!Q12)","v":10},26,18,{"$f":"IF('Marks Entry'!R12=\"\",\"\",'Marks Entry'!R12)","v":36},26,{"$f":"IF(AND($B10=\"NSO\",$E10=\"\"),\"\",IF(AND('Marks Entry'!S12=\"AB\"),\"AB\",IF(AND('Marks Entry'!S12=\"ML\"),\"RE\",IF('Marks Entry'!S12=\"\",\"\",ROUNDUP('Marks Entry'!S12*30/100,0)))))","v":9},53,0,0,100,"","P","II",{"$f":"IF('Marks Entry'!T12=\"\",\"\",'Marks Entry'!T12)","v":1},{"$f":"IF('Marks Entry'!V12=\"\",\"\",'Marks Entry'!V12)","v":7},{"$f":"IF('Marks Entry'!W12=\"\",\"\",'Marks Entry'!W12)","v":9},{"$f":"IF('Marks Entry'!X12=\"\",\"\",'Marks Entry'!X12)","v":10},26,18,{"$f":"IF('Marks Entry'!Y12=\"\",\"\",'Marks Entry'!Y12)","v":36},{"$f":"IF('Marks Entry'!Z12=\"\",\"\",'Marks Entry'!Z12)","v":""},36,26,{"$f":"IF(AND($B10=\"NSO\",$E10=\"\"),\"\",IF(AND('Marks Entry'!AA12=\"AB\",'Marks Entry'!AB12=\"AB\"),\"AB\",IF(AND('Marks Entry'!AA12=\"ML\",'Marks Entry'!AB12=\"ML\"),\"RE\",IF('Marks Entry'!AA12=\"\",\"\",ROUNDUP(('Marks Entry'!AA12+'Marks Entry'!AB12)*30/100,0)))))","v":30},74,0,0,100,"","P","I",{"$f":"IF('Marks Entry'!AC12=\"\",\"\",'Marks Entry'!AC12)","v":1},{"$f":"IF('Marks Entry'!AE12=\"\",\"\",'Marks Entry'!AE12)","v":7},{"$f":"IF('Marks Entry'!AF12=\"\",\"\",'Marks Entry'!AF12)","v":3},{"$f":"IF('Marks Entry'!AG12=\"\",\"\",'Marks Entry'!AG12)","v":10},20,14,{"$f":"IF('Marks Entry'!AH12=\"\",\"\",'Marks Entry'!AH12)","v":"ab"},{"$f":"IF('Marks Entry'!AI12=\"\",\"\",'Marks Entry'!AI12)","v":"ab"},"AB","AB",{"$f":"IF(AND($B10=\"NSO\",$E10=\"\"),\"\",IF(AND('Marks Entry'!AJ12=\"AB\",'Marks Entry'!AK12=\"AB\"),\"AB\",IF(AND('Marks Entry'!AJ12=\"ML\",'Marks Entry'!AK12=\"ML\"),\"RE\",IF('Marks Entry'!AJ12=\"\",\"\",ROUNDUP(('Marks Entry'!AJ12+'Marks Entry'!AK12)*30/100,0)))))","v":30},44,0,0,100,"","P","III",{"$f":"IF('Marks Entry'!AL12=\"\",\"\",'Marks Entry'!AL12)","v":1},{"$f":"IF('Marks Entry'!AN12=\"\",\"\",'Marks Entry'!AN12)","v":7},{"$f":"IF('Marks Entry'!AO12=\"\",\"\",'Marks Entry'!AO12)","v":9},{"$f":"IF('Marks Entry'!AP12=\"\",\"\",'Marks Entry'!AP12)","v":10},26,18,{"$f":"IF('Marks Entry'!AQ12=\"\",\"\",'Marks Entry'!AQ12)","v":36},{"$f":"IF('Marks Entry'!AR12=\"\",\"\",'Marks Entry'!AR12)","v":""},36,26,{"$f":"IF(AND($B10=\"NSO\",$E10=\"\"),\"\",IF(AND('Marks Entry'!AS12=\"AB\",'Marks Entry'!AT12=\"AB\"),\"AB\",IF(AND('Marks Entry'!AS12=\"ML\",'Marks Entry'!AT12=\"ML\"),\"RE\",IF('Marks Entry'!AS12=\"\",\"\",ROUNDUP(('Marks Entry'!AS12+'Marks Entry'!AT12)*30/100,0)))))","v":30},74,0,0,100,"","P","I",{"$f":"IF('Marks Entry'!AU12=\"\",\"\",'Marks Entry'!AU12)","v":3},{"$f":"IF('Marks Entry'!AW12=\"\",\"\",'Marks Entry'!AW12)","v":7},{"$f":"IF('Marks Entry'!AX12=\"\",\"\",'Marks Entry'!AX12)","v":9},{"$f":"IF('Marks Entry'!AY12=\"\",\"\",'Marks Entry'!AY12)","v":10},26,18,{"$f":"IF('Marks Entry'!AZ12=\"\",\"\",'Marks Entry'!AZ12)","v":36},{"$f":"IF('Marks Entry'!BA12=\"\",\"\",'Marks Entry'!BA12)","v":""},36,26,{"$f":"IF(AND($B10=\"NSO\",$E10=\"\"),\"\",IF(AND('Marks Entry'!BB12=\"AB\",'Marks Entry'!BC12=\"AB\"),\"AB\",IF(AND('Marks Entry'!BB12=\"ML\",'Marks Entry'!BC12=\"ML\"),\"RE\",IF('Marks Entry'!BB12=\"\",\"\",ROUNDUP(('Marks Entry'!BB12+'Marks Entry'!BC12)*30/100,0)))))","v":27},71,0,0,100,"","P","I",20,"III","II","I","III","I","I",0,0,0,0,0,"PASS",{"$f":"IF('Marks Entry'!BD12=\"\",\"\",'Marks Entry'!BD12)","v":30},{"$f":"IF('Marks Entry'!BE12=\"\",\"\",'Marks Entry'!BE12)","v":22},{"$f":"IF('Marks Entry'!BF12=\"\",\"\",'Marks Entry'!BF12)","v":23},75,"III","","II","","I","I","","","","III","III","","","","I","I","","","","I","","","I","","D",{"$f":"IF('Student DATA Entry'!I7=\"\",\"\",'Student DATA Entry'!I7)","v":285},{"$f":"IF('Student DATA Entry'!J7=\"\",\"\",'Student DATA Entry'!J7)","v":270},"      ","      ","      ","              ","Promoted to Class 12th",281,{"v":58.541666666666664,"d":"58.54"},"II",9.999999999999996,""]
[6,{"$f":"IF('Marks Entry'!B13=\"\",\"\",VALUE('Marks Entry'!B13))","v":1106},{"$f":"IF('Marks Entry'!C13=\"\",\"\",'Marks Entry'!C13)","v":434},{"$f":"IF('Marks Entry'!D13=\"\",\"\",'Marks Entry'!D13)","v":"24-10-2003"},{"$f":"IF('Marks Entry'!E13=\"\",\"\",'Marks Entry'!E13)","v":"DEEPENDRA SINGH"},{"$f":"IF('Marks Entry'!F13=\"\",\"\",'Marks Entry'!F13)","v":"RAVAT VSINGH"},{"$f":"IF('Marks Entry'!G13=\"\",\"\",'Marks Entry'!G13)","v":"KAILASH KANWAR"},{"$f":"IF('Marks Entry'!H13=\"\",\"\",'Marks Entry'!H13)","v":"GEN"},{"$f":"IF('Marks Entry'!I13=\"\",\"\",'Marks Entry'!I13)","v":"M"},{"$f":"IF('Marks Entry'!J13=\"\",\"\",'Marks Entry'!J13)","v":10},{"$f":"IF('Marks Entry'!K13=\"\",\"\",'Marks Entry'!K13)","v":9},{"$f":"IF('Marks Entry'!L13=\"\",\"\",'Marks Entry'!L13)","v":10},29,20,{"$f":"IF('Marks Entry'!M13=\"\",\"\",'Marks Entry'!M13)","v":63},45,{"$f":"IF(AND($B11=\"NSO\",$E11=\"\",O11=\"\"),\"\",IF(AND('Marks Entry'!N13=\"AB\"),\"AB\",IF(AND('Marks Entry'!N13=\"ML\"),\"RE\",IF('Marks Entry'!N13=\"\",\"\",ROUNDUP('Marks Entry'!N13*30/100,0)))))","v":"AB"},65,0,0,100,"","P","I",{"$f":"IF('Marks Entry'!O13=\"\",\"\",'Marks Entry'!O13)","v":10},{"$f":"IF('Marks Entry'!P13=\"\",\"\",'Marks Entry'!P13)","v":9},{"$f":"IF('Marks Entry'!Q13=\"\",\"\",'Marks Entry'!Q13)","v":10},29,20,{"$f":"IF('Marks Entry'!R13=\"\",\"\",'Marks Entry'!R13)","v":63},45,{"$f":"IF(AND($B11=\"NSO\",$E11=\"\"),\"\",IF(AND('Marks Entry'!S13=\"AB\"),\"AB\",IF(AND('Marks Entry'!S13=\"ML\"),\"RE\",IF('Marks Entry'!S13=\"\",\"\",ROUNDUP('Marks Entry'!S13*30/100,0)))))","v":"AB"},65,0,0,100,"","P","I",{"$f":"IF('Marks Entry'!T13=\"\",\"\",'Marks Entry'!T13)","v":1},{"$f":"IF('Marks Entry'!V13=\"\",\"\",'Marks Entry'!V13)","v":10},{"$f":"IF('Marks Entry'!W13=\"\",\"\",'Marks Entry'!W13)","v":9},{"$f":"IF('Marks Entry'!X13=\"\",\"\",'Marks Entry'!X13)","v":10},29,20,{"$f":"IF('Marks Entry'!Y13=\"\",\"\",'Marks Entry'!Y13)","v":63},{"$f":"IF('Marks Entry'!Z13=\"\",\"\",'Marks Entry'!Z13)","v":""},63,45,{"$f":"IF(AND($B11=\"NSO\",$E11=\"\"),\"\",IF(AND('Marks Entry'!AA13=\"AB\",'Marks Entry'!AB13=\"AB\"),\"AB\",IF(AND('Marks Entry'!AA13=\"ML\",'Marks Entry'!AB13=\"ML\"),\"RE\",IF('Marks Entry'!AA13=\"\",\"\",ROUNDUP(('Marks Entry'!AA13+'Marks Entry'!AB13)*30/100,0)))))","v":30},95,0,0,100,"","P","D",{"$f":"IF('Marks Entry'!AC13=\"\",\"\",'Marks Entry'!AC13)","v":1},{"$f":"IF('Marks Entry'!AE13=\"\",\"\",'Marks Entry'!AE13)","v":10},{"$f":"IF('Marks Entry'!AF13=\"\",\"\",'Marks Entry'!AF13)","v":9},{"$f":"IF('Marks Entry'!AG13=\"\",\"\",'Marks Entry'!AG13)","v":10},29,20,{"$f":"IF('Marks Entry'!AH13=\"\",\"\",'Marks Entry'!AH13)","v":63},{"$f":"IF('Marks Entry'!AI13=\"\",\"\",'Marks Entry'!AI13)","v":""},63,45,{"$f":"IF(AND($B11=\"NSO\",$E11=\"\"),\"\",IF(AND('Marks Entry'!AJ13=\"AB\",'Marks Entry'!AK13=\"AB\"),\"AB\",IF(AND('Marks Entry'!AJ13=\"ML\",'Marks Entry'!AK13=\"ML\"),\"RE\",IF('Marks Entry'!AJ13=\"\",\"\",ROUNDUP(('Marks Entry'!AJ13+'Marks Entry'!AK13)*30/100,0)))))","v":30},95,0,0,100,"","P","D",{"$f":"IF('Marks Entry'!AL13=\"\",\"\",'Marks Entry'!AL13)","v":1},{"$f":"IF('Marks Entry'!AN13=\"\",\"\",'Marks Entry'!AN13)","v":10},{"$f":"IF('Marks Entry'!AO13=\"\",\"\",'Marks Entry'!AO13)","v":9},{"$f":"IF('Marks Entry'!AP13=\"\",\"\",'Marks Entry'!AP13)","v":10},29,20,{"$f":"IF('Marks Entry'!AQ13=\"\",\"\",'Marks Entry'!AQ13)","v":63},{"$f":"IF('Marks Entry'!AR13=\"\",\"\",'Marks Entry'!AR13)","v":""},63,45,{"$f":"IF(AND($B11=\"NSO\",$E11=\"\"),\"\",IF(AND('Marks Entry'!AS13=\"AB\",'Marks Entry'!AT13=\"AB\"),\"AB\",IF(AND('Marks Entry'!AS13=\"ML\",'Marks Entry'!AT13=\"ML\"),\"RE\",IF('Marks Entry'!AS13=\"\",\"\",ROUNDUP(('Marks Entry'!AS13+'Marks Entry'!AT13)*30/100,0)))))","v":30},95,0,0,100,"","P","D",{"$f":"IF('Marks Entry'!AU13=\"\",\"\",'Marks Entry'!AU13)","v":3},{"$f":"IF('Marks Entry'!AW13=\"\",\"\",'Marks Entry'!AW13)","v":10},{"$f":"IF('Marks Entry'!AX13=\"\",\"\",'Marks Entry'!AX13)","v":9},{"$f":"IF('Marks Entry'!AY13=\"\",\"\",'Marks Entry'!AY13)","v":10},29,20,{"$f":"IF('Marks Entry'!AZ13=\"\",\"\",'Marks Entry'!AZ13)","v":63},{"$f":"IF('Marks Entry'!BA13=\"\",\"\",'Marks Entry'!BA13)","v":""},63,45,{"$f":"IF(AND($B11=\"NSO\",$E11=\"\"),\"\",IF(AND('Marks Entry'!BB13=\"AB\",'Marks Entry'!BC13=\"AB\"),\"AB\",IF(AND('Marks Entry'!BB13=\"ML\",'Marks Entry'!BC13=\"ML\"),\"RE\",IF('Marks Entry'!BB13=\"\",\"\",ROUNDUP(('Marks Entry'!BB13+'Marks Entry'!BC13)*30/100,0)))))","v":27},92,0,0,100,"","P","D",0,"I","I","D","D","D","D",0,0,0,0,0,"PASS",{"$f":"IF('Marks Entry'!BD13=\"\",\"\",'Marks Entry'!BD13)","v":28},{"$f":"IF('Marks Entry'!BE13=\"\",\"\",'Marks Entry'!BE13)","v":22},{"$f":"IF('Marks Entry'!BF13=\"\",\"\",'Marks Entry'!BF13)","v":23},73,"I","","I","","D","D","","","","D","D","","","","D","D","","","","D","","","D","","I",{"$f":"IF('Student DATA Entry'!I8=\"\",\"\",'Student DATA Entry'!I8)","v":310},{"$f":"IF('Student DATA Entry'!J8=\"\",\"\",'Student DATA Entry'!J8)","v":301},"      ","      ","      ","  POLITICAL SCIENCE   HISTORY   GEOGRAPHY    ELECTRICALS AND ELECTRONICS  ","Promoted to Class 12th",415,{"v":83,"d":"83.00"},"I",2.9999999999999964,""]
[7,{"$f":"IF('Marks Entry'!B14=\"\",\"\",VALUE('Marks Entry'!B14))","v":1107},{"$f":"IF('Marks Entry'!C14=\"\",\"\",'Marks Entry'!C14)","v":439},{"$f":"IF('Marks Entry'!D14=\"\",\"\",'Marks Entry'!D14)","v":"27-10-2003"},{"$f":"IF('Marks Entry'!E14=\"\",\"\",'Marks Entry'!E14)","v":"LOHAR KAJAL"},{"$f":"IF('Marks Entry'!F14=\"\",\"\",'Marks Entry'!F14)","v":"MITHA LAL"},{"$f":"IF('Marks Entry'!G14=\"\",\"\",'Marks Entry'!G14)","v":"SAVITA"},{"$f":"IF('Marks Entry'!H14=\"\",\"\",'Marks Entry'!H14)","v":"OBC"},{"$f":"IF('Marks Entry'!I14=\"\",\"\",'Marks Entry'!I14)","v":"F"},{"$f":"IF('Marks Entry'!J14=\"\",\"\",'Marks Entry'!J14)","v":3},{"$f":"IF('Marks Entry'!K14=\"\",\"\",'Marks Entry'!K14)","v":"AB"},{"$f":"IF('Marks Entry'!L14=\"\",\"\",'Marks Entry'!L14)","v":"ML"},3,2,{"$f":"IF('Marks Entry'!M14=\"\",\"\",'Marks Entry'!M14)","v":5},4,{"$f":"IF(AND($B12=\"NSO\",$E12=\"\",O12=\"\"),\"\",IF(AND('Marks Entry'!N14=\"AB\"),\"AB\",IF(AND('Marks Entry'!N14=\"ML\"),\"RE\",IF('Marks Entry'!N14=\"\",\"\",ROUNDUP('Marks Entry'!N14*30/100,0)))))","v":3},9,0,10,90,"","F","P",{"$f":"IF('Marks Entry'!O14=\"\",\"\",'Marks Entry'!O14)","v":7},{"$f":"IF('Marks Entry'!P14=\"\",\"\",'Marks Entry'!P14)","v":9},{"$f":"IF('Marks Entry'!Q14=\"\",\"\",'Marks Entry'!Q14)","v":9},25,17,{"$f":"IF('Marks Entry'!R14=\"\",\"\",'Marks Entry'!R14)","v":57},41,{"$f":"IF(AND($B12=\"NSO\",$E12=\"\"),\"\",IF(AND('Marks Entry'!S14=\"AB\"),\"AB\",IF(AND('Marks Entry'!S14=\"ML\"),\"RE\",IF('Marks Entry'!S14=\"\",\"\",ROUNDUP('Marks Entry'!S14*30/100,0)))))","v":6},64,0,0,100,"","P","I",{"$f":"IF('Marks Entry'!T14=\"\",\"\",'Marks Entry'!T14)","v":1},{"$f":"IF('Marks Entry'!V14=\"\",\"\",'Marks Entry'!V14)","v":7},{"$f":"IF('Marks Entry'!W14=\"\",\"\",'Marks Entry'!W14)","v":9},{"$f":"IF('Marks Entry'!X14=\"\",\"\",'Marks Entry'!X14)","v":9},25,17,{"$f":"IF('Marks Entry'!Y14=\"\",\"\",'Marks Entry'!Y14)","v":57},{"$f":"IF('Marks Entry'!Z14=\"\",\"\",'Marks Entry'!Z14)","v":""},57,41,{"$f":"IF(AND($B12=\"NSO\",$E12=\"\"),\"\",IF(AND('Marks Entry'!AA14=\"AB\",'Marks Entry'!AB14=\"AB\"),\"AB\",IF(AND('Marks Entry'!AA14=\"ML\",'Marks Entry'!AB14=\"ML\"),\"RE\",IF('Marks Entry'!AA14=\"\",\"\",ROUNDUP(('Marks Entry'!AA14+'Marks Entry'!AB14)*30/100,0)))))","v":30},88,0,0,100,"","P","D",{"$f":"IF('Marks Entry'!AC14=\"\",\"\",'Marks Entry'!AC14)","v":1},{"$f":"IF('Marks Entry'!AE14=\"\",\"\",'Marks Entry'!AE14)","v":7},{"$f":"IF('Marks Entry'!AF14=\"\",\"\",'Marks Entry'!AF14)","v":9},{"$f":"IF('Marks Entry'!AG14=\"\",\"\",'Marks Entry'!AG14)","v":9},25,17,{"$f":"IF('Marks Entry'!AH14=\"\",\"\",'Marks Entry'!AH14)","v":57},{"$f":"IF('Marks Entry'!AI14=\"\",\"\",'Marks Entry'!AI14)","v":""},57,41,{"$f":"IF(AND($B12=\"NSO\",$E12=\"\"),\"\",IF(AND('Marks Entry'!AJ14=\"AB\",'Marks Entry'!AK14=\"AB\"),\"AB\",IF(AND('Marks Entry'!AJ14=\"ML\",'Marks Entry'!AK14=\"ML\"),\"RE\",IF('Marks Entry'!AJ14=\"\",\"\",ROUNDUP(('Marks Entry'!AJ14+'Marks Entry'!AK14)*30/100,0)))))","v":30},88,0,0,100,"","P","D",{"$f":"IF('Marks Entry'!AL14=\"\",\"\",'Marks Entry'!AL14)","v":2},{"$f":"IF('Marks Entry'!AN14=\"\",\"\",'Marks Entry'!AN14)","v":7},{"$f":"IF('Marks Entry'!AO14=\"\",\"\",'Marks Entry'!AO14)","v":9},{"$f":"IF('Marks Entry'!AP14=\"\",\"\",'Marks Entry'!AP14)","v":9},25,17,{"$f":"IF('Marks Entry'!AQ14=\"\",\"\",'Marks Entry'!AQ14)","v":57},{"$f":"IF('Marks Entry'!AR14=\"\",\"\",'Marks Entry'!AR14)","v":""},57,41,{"$f":"IF(AND($B12=\"NSO\",$E12=\"\"),\"\",IF(AND('Marks Entry'!AS14=\"AB\",'Marks Entry'!AT14=\"AB\"),\"AB\",IF(AND('Marks Entry'!AS14=\"ML\",'Marks Entry'!AT14=\"ML\"),\"RE\",IF('Marks Entry'!AS14=\"\",\"\",ROUNDUP(('Marks Entry'!AS14+'Marks Entry'!AT14)*30/100,0)))))","v":30},88,0,0,100,"","P","D",{"$f":"IF('Marks Entry'!AU14=\"\",\"\",'Marks Entry'!AU14)","v":""},{"$f":"IF('Marks Entry'!AW14=\"\",\"\",'Marks Entry'!AW14)","v":7},{"$f":"IF('Marks Entry'!AX14=\"\",\"\",'Marks Entry'!AX14)","v":9},{"$f":"IF('Marks Entry'!AY14=\"\",\"\",'Marks Entry'!AY14)","v":9},25,17,{"$f":"IF('Marks Entry'!AZ14=\"\",\"\",'Marks Entry'!AZ14)","v":57},{"$f":"IF('Marks Entry'!BA14=\"\",\"\",'Marks Entry'!BA14)","v":""},57,41,{"$f":"IF(AND($B12=\"NSO\",$E12=\"\"),\"\",IF(AND('Marks Entry'!BB14=\"AB\",'Marks Entry'!BC14=\"AB\"),\"AB\",IF(AND('Marks Entry'!BB14=\"ML\",'Marks Entry'!BC14=\"ML\"),\"RE\",IF('Marks Entry'!BB14=\"\",\"\",ROUNDUP(('Marks Entry'!BB14+'Marks Entry'!BC14)*30/100,0)))))","v":26},84,0,0,100,"","P","D",10,"P","I","D","D","D","D",0,0,0,0,0,"PASS",{"$f":"IF('Marks Entry'!BD14=\"\",\"\",'Marks Entry'!BD14)","v":28},{"$f":"IF('Marks Entry'!BE14=\"\",\"\",'Marks Entry'!BE14)","v":22},{"$f":"IF('Marks Entry'!BF14=\"\",\"\",'Marks Entry'!BF14)","v":23},73,"P","","I","","D","D","","","","D","D","","","","D","","D","","","D","","","","","I",{"$f":"IF('Student DATA Entry'!I9=\"\",\"\",'Student DATA Entry'!I9)","v":324},{"$f":"IF('Student DATA Entry'!J9=\"\",\"\",'Student DATA Entry'!J9)","v":""},"      ","      ","      ","  POLITICAL SCIENCE   HISTORY    HINDI LITERATURE     ","Promoted to Class 12th",337,{"v":68.77551020408163,"d":"68.78"},"I",4.9999999999999964,""]
[8,{"$f":"IF('Marks Entry'!B15=\"\",\"\",VALUE('Marks Entry'!B15))","v":1108},{"$f":"IF('Marks Entry'!C15=\"\",\"\",'Marks Entry'!C15)","v":438},{"$f":"IF('Marks Entry'!D15=\"\",\"\",'Marks Entry'!D15)","v":"03-09-2003"},{"$f":"IF('Marks Entry'!E15=\"\",\"\",'Marks Entry'!E15)","v":"MEENA KANWAR"},{"$f":"IF('Marks Entry'!F15=\"\",\"\",'Marks Entry'!F15)","v":"CHHATAR SINGH"},{"$f":"IF('Marks Entry'!G15=\"\",\"\",'Marks Entry'!G15)","v":"JANGAL KANWAR"},{"$f":"IF('Marks Entry'!H15=\"\",\"\",'Marks Entry'!H15)","v":"GEN"},{"$f":"IF('Marks Entry'!I15=\"\",\"\",'Marks Entry'!I15)","v":"F"},{"$f":"IF('Marks Entry'!J15=\"\",\"\",'Marks Entry'!J15)","v":1},{"$f":"IF('Marks Entry'!K15=\"\",\"\",'Marks Entry'!K15)","v":2},{"$f":"IF('Marks Entry'!L15=\"\",\"\",'Marks Entry'!L15)","v":3},6,4,{"$f":"IF('Marks Entry'!M15=\"\",\"\",'Marks Entry'!M15)","v":5},4,{"$f":"IF(AND($B13=\"NSO\",$E13=\"\",O13=\"\"),\"\",IF(AND('Marks Entry'!N15=\"AB\"),\"AB\",IF(AND('Marks Entry'!N15=\"ML\"),\"RE\",IF('Marks Entry'!N15=\"\",\"\",ROUNDUP('Marks Entry'!N15*30/100,0)))))","v":2},10,0,0,100,"","F","P",{"$f":"IF('Marks Entry'!O15=\"\",\"\",'Marks Entry'!O15)","v":2},{"$f":"IF('Marks Entry'!P15=\"\",\"\",'Marks Entry'!P15)","v":2},{"$f":"IF('Marks Entry'!Q15=\"\",\"\",'Marks Entry'!Q15)","v":2},6,4,{"$f":"IF('Marks Entry'!R15=\"\",\"\",'Marks Entry'!R15)","v":5},4,{"$f":"IF(AND($B13=\"NSO\",$E13=\"\"),\"\",IF(AND('Marks Entry'!S15=\"AB\"),\"AB\",IF(AND('Marks Entry'!S15=\"ML\"),\"RE\",IF('Marks Entry'!S15=\"\",\"\",ROUNDUP('Marks Entry'!S15*30/100,0)))))","v":3},11,0,0,100,"","F","P",{"$f":"IF('Marks Entry'!T15=\"\",\"\",'Marks Entry'!T15)","v":1},{"$f":"IF('Marks Entry'!V15=\"\",\"\",'Marks Entry'!V15)","v":3},{"$f":"IF('Marks Entry'!W15=\"\",\"\",'Marks Entry'!W15)","v":3},{"$f":"IF('Marks Entry'!X15=\"\",\"\",'Marks Entry'!X15)","v":3},9,6,{"$f":"IF('Marks Entry'!Y15=\"\",\"\",'Marks Entry'!Y15)","v":70},{"$f":"IF('Marks Entry'!Z15=\"\",\"\",'Marks Entry'!Z15)","v":""},70,50,{"$f":"IF(AND($B13=\"NSO\",$E13=\"\"),\"\",IF(AND('Marks Entry'!AA15=\"AB\",'Marks Entry'!AB15=\"AB\"),\"AB\",IF(AND('Marks Entry'!AA15=\"ML\",'Marks Entry'!AB15=\"ML\"),\"RE\",IF('Marks Entry'!AA15=\"\",\"\",ROUNDUP(('Marks Entry'!AA15+'Marks Entry'!AB15)*30/100,0)))))","v":30},86,0,0,100,"","P","D",{"$f":"IF('Marks Entry'!AC15=\"\",\"\",'Marks Entry'!AC15)","v":1},{"$f":"IF('Marks Entry'!AE15=\"\",\"\",'Marks Entry'!AE15)","v":5},{"$f":"IF('Marks Entry'!AF15=\"\",\"\",'Marks Entry'!AF15)","v":5},{"$f":"IF('Marks Entry'!AG15=\"\",\"\",'Marks Entry'!AG15)","v":5},15,10,{"$f":"IF('Marks Entry'!AH15=\"\",\"\",'Marks Entry'!AH15)","v":10},{"$f":"IF('Marks Entry'!AI15=\"\",\"\",'Marks Entry'!AI15)","v":""},10,8,{"$f":"IF(AND($B13=\"NSO\",$E13=\"\"),\"\",IF(AND('Marks Entry'!AJ15=\"AB\",'Marks Entry'!AK15=\"AB\"),\"AB\",IF(AND('Marks Entry'!AJ15=\"ML\",'Marks Entry'!AK15=\"ML\"),\"RE\",IF('Marks Entry'!AJ15=\"\",\"\",ROUNDUP(('Marks Entry'!AJ15+'Marks Entry'!AK15)*30/100,0)))))","v":30},48,0,0,100,"","P","II",{"$f":"IF('Marks Entry'!AL15=\"\",\"\",'Marks Entry'!AL15)","v":2},{"$f":"IF('Marks Entry'!AN15=\"\",\"\",'Marks Entry'!AN15)","v":4},{"$f":"IF('Marks Entry'!AO15=\"\",\"\",'Marks Entry'!AO15)","v":4},{"$f":"IF('Marks Entry'!AP15=\"\",\"\",'Marks Entry'!AP15)","v":4},12,8,{"$f":"IF('Marks Entry'!AQ15=\"\",\"\",'Marks Entry'!AQ15)","v":14},{"$f":"IF('Marks Entry'!AR15=\"\",\"\",'Marks Entry'!AR15)","v":""},14,10,{"$f":"IF(AND($B13=\"NSO\",$E13=\"\"),\"\",IF(AND('Marks Entry'!AS15=\"AB\",'Marks Entry'!AT15=\"AB\"),\"AB\",IF(AND('Marks Entry'!AS15=\"ML\",'Marks Entry'!AT15=\"ML\"),\"RE\",IF('Marks Entry'!AS15=\"\",\"\",ROUNDUP(('Marks Entry'!AS15+'Marks Entry'!AT15)*30/100,0)))))","v":30},48,0,0,100,"","P","II",{"$f":"IF('Marks Entry'!AU15=\"\",\"\",'Marks Entry'!AU15)","v":""},{"$f":"IF('Marks Entry'!AW15=\"\",\"\",'Marks Entry'!AW15)","v":6},{"$f":"IF('Marks Entry'!AX15=\"\",\"\",'Marks Entry'!AX15)","v":6},{"$f":"IF('Marks Entry'!AY15=\"\",\"\",'Marks Entry'!AY15)","v":6},18,12,{"$f":"IF('Marks Entry'!AZ15=\"\",\"\",'Marks Entry'!AZ15)","v":6},{"$f":"IF('Marks Entry'!BA15=\"\",\"\",'Marks Entry'!BA15)","v":""},6,5,{"$f":"IF(AND($B13=\"NSO\",$E13=\"\"),\"\",IF(AND('Marks Entry'!BB15=\"AB\",'Marks Entry'!BC15=\"AB\"),\"AB\",IF(AND('Marks Entry'!BB15=\"ML\",'Marks Entry'!BC15=\"ML\"),\"RE\",IF('Marks Entry'!BB15=\"\",\"\",ROUNDUP(('Marks Entry'!BB15+'Marks Entry'!BC15)*30/100,0)))))","v":27},44,0,0,100,"","P","III",0,"P","P","D","II","II","III",0,0,0,0,0,"PASS",{"$f":"IF('Marks Entry'!BD15=\"\",\"\",'Marks Entry'!BD15)","v":28},{"$f":"IF('Marks Entry'!BE15=\"\",\"\",'Marks Entry'!BE15)","v":22},{"$f":"IF('Marks Entry'!BF15=\"\",\"\",'Marks Entry'!BF15)","v":23},73,"P","","P","","D","D","","","","II","II","","","","II","","II","","","III","","","","","I",{"$f":"IF('Student DATA Entry'!I10=\"\",\"\",'Student DATA Entry'!I10)","v":""},{"$f":"IF('Student DATA Entry'!J10=\"\",\"\",'Student DATA Entry'!J10)","v":""},"      ","      ","      ","  POLITICAL SCIENCE            ","Promoted to Class 12th",203,{"v":40.6,"d":"40.60"},"III",13.999999999999996,""]
[9,{"$f":"IF('Marks Entry'!B16=\"\",\"\",VALUE('Marks Entry'!B16))","v":1109},{"$f":"IF('Marks Entry'!C16=\"\",\"\",'Marks Entry'!C16)","v":429},{"$f":"IF('Marks Entry'!D16=\"\",\"\",'Marks Entry'!D16)","v":"04-09-2003"},{"$f":"IF('Marks Entry'!E16=\"\",\"\",'Marks Entry'!E16)","v":"NARESH KUMAR"},{"$f":"IF('Marks Entry'!F16=\"\",\"\",'Marks Entry'!F16)","v":"DHALA RAM "},{"$f":"IF('Marks Entry'!G16=\"\",\"\",'Marks Entry'!G16)","v":"SARSVATI "},{"$f":"IF('Marks Entry'!H16=\"\",\"\",'Marks Entry'!H16)","v":"SC"},{"$f":"IF('Marks Entry'!I16=\"\",\"\",'Marks Entry'!I16)","v":"M"},{"$f":"IF('Marks Entry'!J16=\"\",\"\",'Marks Entry'!J16)","v":"AB"},{"$f":"IF('Marks Entry'!K16=\"\",\"\",'Marks Entry'!K16)","v":"AB"},{"$f":"IF('Marks Entry'!L16=\"\",\"\",'Marks Entry'!L16)","v":"AB"},0,0,{"$f":"IF('Marks Entry'!M16=\"\",\"\",'Marks Entry'!M16)","v":"AB"},"AB",{"$f":"IF(AND($B14=\"NSO\",$E14=\"\",O14=\"\"),\"\",IF(AND('Marks Entry'!N16=\"AB\"),\"AB\",IF(AND('Marks Entry'!N16=\"ML\"),\"RE\",IF('Marks Entry'!N16=\"\",\"\",ROUNDUP('Marks Entry'!N16*30/100,0)))))","v":5},5,0,0,100,"AB","F","P",{"$f":"IF('Marks Entry'!O16=\"\",\"\",'Marks Entry'!O16)","v":9},{"$f":"IF('Marks Entry'!P16=\"\",\"\",'Marks Entry'!P16)","v":9},{"$f":"IF('Marks Entry'!Q16=\"\",\"\",'Marks Entry'!Q16)","v":9},27,18,{"$f":"IF('Marks Entry'!R16=\"\",\"\",'Marks Entry'!R16)","v":37},27,{"$f":"IF(AND($B14=\"NSO\",$E14=\"\"),\"\",IF(AND('Marks Entry'!S16=\"AB\"),\"AB\",IF(AND('Marks Entry'!S16=\"ML\"),\"RE\",IF('Marks Entry'!S16=\"\",\"\",ROUNDUP('Marks Entry'!S16*30/100,0)))))","v":"AB"},45,0,0,100,"","P","III",{"$f":"IF('Marks Entry'!T16=\"\",\"\",'Marks Entry'!T16)","v":1},{"$f":"IF('Marks Entry'!V16=\"\",\"\",'Marks Entry'!V16)","v":9},{"$f":"IF('Marks Entry'!W16=\"\",\"\",'Marks Entry'!W16)","v":9},{"$f":"IF('Marks Entry'!X16=\"\",\"\",'Marks Entry'!X16)","v":9},27,18,{"$f":"IF('Marks Entry'!Y16=\"\",\"\",'Marks Entry'!Y16)","v":37},{"$f":"IF('Marks Entry'!Z16=\"\",\"\",'Marks Entry'!Z16)","v":""},37,27,{"$f":"IF(AND($B14=\"NSO\",$E14=\"\"),\"\",IF(AND('Marks Entry'!AA16=\"AB\",'Marks Entry'!AB16=\"AB\"),\"AB\",IF(AND('Marks Entry'!AA16=\"ML\",'Marks Entry'!AB16=\"ML\"),\"RE\",IF('Marks Entry'!AA16=\"\",\"\",ROUNDUP(('Marks Entry'!AA16+'Marks Entry'!AB16)*30/100,0)))))","v":30},75,0,0,100,"","P","D",{"$f":"IF('Marks Entry'!AC16=\"\",\"\",'Marks Entry'!AC16)","v":1},{"$f":"IF('Marks Entry'!AE16=\"\",\"\",'Marks Entry'!AE16)","v":9},{"$f":"IF('Marks Entry'!AF16=\"\",\"\",'Marks Entry'!AF16)","v":9},{"$f":"IF('Marks Entry'!AG16=\"\",\"\",'Marks Entry'!AG16)","v":9},27,18,{"$f":"IF('Marks Entry'!AH16=\"\",\"\",'Marks Entry'!AH16)","v":37},{"$f":"IF('Marks Entry'!AI16=\"\",\"\",'Marks Entry'!AI16)","v":""},37,27,{"$f":"IF(AND($B14=\"NSO\",$E14=\"\"),\"\",IF(AND('Marks Entry'!AJ16=\"AB\",'Marks Entry'!AK16=\"AB\"),\"AB\",IF(AND('Marks Entry'!AJ16=\"ML\",'Marks Entry'!AK16=\"ML\"),\"RE\",IF('Marks Entry'!AJ16=\"\",\"\",ROUNDUP(('Marks Entry'!AJ16+'Marks Entry'!AK16)*30/100,0)))))","v":30},75,0,0,100,"","P","D",{"$f":"IF('Marks Entry'!AL16=\"\",\"\",'Marks Entry'!AL16)","v":2},{"$f":"IF('Marks Entry'!AN16=\"\",\"\",'Marks Entry'!AN16)","v":9},{"$f":"IF('Marks Entry'!AO16=\"\",\"\",'Marks Entry'!AO16)","v":9},{"$f":"IF('Marks Entry'!AP16=\"\",\"\",'Marks Entry'!AP16)","v":9},27,18,{"$f":"IF('Marks Entry'!AQ16=\"\",\"\",'Marks Entry'!AQ16)","v":37},{"$f":"IF('Marks Entry'!AR16=\"\",\"\",'Marks Entry'!AR16)","v":""},37,27,{"$f":"IF(AND($B14=\"NSO\",$E14=\"\"),\"\",IF(AND('Marks Entry'!AS16=\"AB\",'Marks Entry'!AT16=\"AB\"),\"AB\",IF(AND('Marks Entry'!AS16=\"ML\",'Marks Entry'!AT16=\"ML\"),\"RE\",IF('Marks Entry'!AS16=\"\",\"\",ROUNDUP(('Marks Entry'!AS16+'Marks Entry'!AT16)*30/100,0)))))","v":30},75,0,0,100,"","P","D",{"$f":"IF('Marks Entry'!AU16=\"\",\"\",'Marks Entry'!AU16)","v":""},{"$f":"IF('Marks Entry'!AW16=\"\",\"\",'Marks Entry'!AW16)","v":9},{"$f":"IF('Marks Entry'!AX16=\"\",\"\",'Marks Entry'!AX16)","v":9},{"$f":"IF('Marks Entry'!AY16=\"\",\"\",'Marks Entry'!AY16)","v":9},27,18,{"$f":"IF('Marks Entry'!AZ16=\"\",\"\",'Marks Entry'!AZ16)","v":37},{"$f":"IF('Marks Entry'!BA16=\"\",\"\",'Marks Entry'!BA16)","v":""},37,27,{"$f":"IF(AND($B14=\"NSO\",$E14=\"\"),\"\",IF(AND('Marks Entry'!BB16=\"AB\",'Marks Entry'!BC16=\"AB\"),\"AB\",IF(AND('Marks Entry'!BB16=\"ML\",'Marks Entry'!BC16=\"ML\"),\"RE\",IF('Marks Entry'!BB16=\"\",\"\",ROUNDUP(('Marks Entry'!BB16+'Marks Entry'!BC16)*30/100,0)))))","v":30},75,0,0,100,"","P","D",0,"P","III","D","D","D","D",0,0,0,0,0,"PASS",{"$f":"IF('Marks Entry'!BD16=\"\",\"\",'Marks Entry'!BD16)","v":27},{"$f":"IF('Marks Entry'!BE16=\"\",\"\",'Marks Entry'!BE16)","v":22},{"$f":"IF('Marks Entry'!BF16=\"\",\"\",'Marks Entry'!BF16)","v":23},72,"P","","III","","D","D","","","","D","D","","","","D","","D","","","D","","","","","I",{"$f":"IF('Student DATA Entry'!I11=\"\",\"\",'Student DATA Entry'!I11)","v":""},{"$f":"IF('Student DATA Entry'!J11=\"\",\"\",'Student DATA Entry'!J11)","v":""},"      ","      ","      ","  POLITICAL SCIENCE   HISTORY    HINDI LITERATURE     ","Promoted to Class 12th",275,{"v":55,"d":"55.00"},"II",10.999999999999996,""]
[10,{"$f":"IF('Marks Entry'!B17=\"\",\"\",VALUE('Marks Entry'!B17))","v":1110},{"$f":"IF('Marks Entry'!C17=\"\",\"\",'Marks Entry'!C17)","v":428},{"$f":"IF('Marks Entry'!D17=\"\",\"\",'Marks Entry'!D17)","v":"12-05-2003"},{"$f":"IF('Marks Entry'!E17=\"\",\"\",'Marks Entry'!E17)","v":"PANKAJ KUMAR"},{"$f":"IF('Marks Entry'!F17=\"\",\"\",'Marks Entry'!F17)","v":"KUKA RAM"},{"$f":"IF('Marks Entry'!G17=\"\",\"\",'Marks Entry'!G17)","v":"FULI DEVI"},{"$f":"IF('Marks Entry'!H17=\"\",\"\",'Marks Entry'!H17)","v":"SC"},{"$f":"IF('Marks Entry'!I17=\"\",\"\",'Marks Entry'!I17)","v":"M"},{"$f":"IF('Marks Entry'!J17=\"\",\"\",'Marks Entry'!J17)","v":"AB"},{"$f":"IF('Marks Entry'!K17=\"\",\"\",'Marks Entry'!K17)","v":"AB"},{"$f":"IF('Marks Entry'!L17=\"\",\"\",'Marks Entry'!L17)","v":8},8,6,{"$f":"IF('Marks Entry'!M17=\"\",\"\",'Marks Entry'!M17)","v":44},32,{"$f":"IF(AND($B15=\"NSO\",$E15=\"\",O15=\"\"),\"\",IF(AND('Marks Entry'!N17=\"AB\"),\"AB\",IF(AND('Marks Entry'!N17=\"ML\"),\"RE\",IF('Marks Entry'!N17=\"\",\"\",ROUNDUP('Marks Entry'!N17*30/100,0)))))","v":3},41,0,0,100,"","P","III",{"$f":"IF('Marks Entry'!O17=\"\",\"\",'Marks Entry'!O17)","v":7},{"$f":"IF('Marks Entry'!P17=\"\",\"\",'Marks Entry'!P17)","v":10},{"$f":"IF('Marks Entry'!Q17=\"\",\"\",'Marks Entry'!Q17)","v":8},25,17,{"$f":"IF('Marks Entry'!R17=\"\",\"\",'Marks Entry'!R17)","v":44},32,{"$f":"IF(AND($B15=\"NSO\",$E15=\"\"),\"\",IF(AND('Marks Entry'!S17=\"AB\"),\"AB\",IF(AND('Marks Entry'!S17=\"ML\"),\"RE\",IF('Marks Entry'!S17=\"\",\"\",ROUNDUP('Marks Entry'!S17*30/100,0)))))","v":"AB"},49,0,0,100,"","P","II",{"$f":"IF('Marks Entry'!T17=\"\",\"\",'Marks Entry'!T17)","v":1},{"$f":"IF('Marks Entry'!V17=\"\",\"\",'Marks Entry'!V17)","v":7},{"$f":"IF('Marks Entry'!W17=\"\",\"\",'Marks Entry'!W17)","v":10},{"$f":"IF('Marks Entry'!X17=\"\",\"\",'Marks Entry'!X17)","v":8},25,17,{"$f":"IF('Marks Entry'!Y17=\"\",\"\",'Marks Entry'!Y17)","v":"ab"},{"$f":"IF('Marks Entry'!Z17=\"\",\"\",'Marks Entry'!Z17)","v":15},15,11,{"$f":"IF(AND($B15=\"NSO\",$E15=\"\"),\"\",IF(AND('Marks Entry'!AA17=\"AB\",'Marks Entry'!AB17=\"AB\"),\"AB\",IF(AND('Marks Entry'!AA17=\"ML\",'Marks Entry'!AB17=\"ML\"),\"RE\",IF('Marks Entry'!AA17=\"\",\"\",ROUNDUP(('Marks Entry'!AA17+'Marks Entry'!AB17)*30/100,0)))))","v":30},58,0,0,100,"","P","II",{"$f":"IF('Marks Entry'!AC17=\"\",\"\",'Marks Entry'!AC17)","v":1},{"$f":"IF('Marks Entry'!AE17=\"\",\"\",'Marks Entry'!AE17)","v":7},{"$f":"IF('Marks Entry'!AF17=\"\",\"\",'Marks Entry'!AF17)","v":10},{"$f":"IF('Marks Entry'!AG17=\"\",\"\",'Marks Entry'!AG17)","v":8},25,17,{"$f":"IF('Marks Entry'!AH17=\"\",\"\",'Marks Entry'!AH17)","v":70},{"$f":"IF('Marks Entry'!AI17=\"\",\"\",'Marks Entry'!AI17)","v":""},70,50,{"$f":"IF(AND($B15=\"NSO\",$E15=\"\"),\"\",IF(AND('Marks Entry'!AJ17=\"AB\",'Marks Entry'!AK17=\"AB\"),\"AB\",IF(AND('Marks Entry'!AJ17=\"ML\",'Marks Entry'!AK17=\"ML\"),\"RE\",IF('Marks Entry'!AJ17=\"\",\"\",ROUNDUP(('Marks Entry'!AJ17+'Marks Entry'!AK17)*30/100,0)))))","v":30},97,0,0,100,"","P","D",{"$f":"IF('Marks Entry'!AL17=\"\",\"\",'Marks Entry'!AL17)","v":1},{"$f":"IF('Marks Entry'!AN17=\"\",\"\",'Marks Entry'!AN17)","v":7},{"$f":"IF('Marks Entry'!AO17=\"\",\"\",'Marks Entry'!AO17)","v":10},{"$f":"IF('Marks Entry'!AP17=\"\",\"\",'Marks Entry'!AP17)","v":8},25,17,{"$f":"IF('Marks Entry'!AQ17=\"\",\"\",'Marks Entry'!AQ17)","v":44},{"$f":"IF('Marks Entry'!AR17=\"\",\"\",'Marks Entry'!AR17)","v":""},44,32,{"$f":"IF(AND($B15=\"NSO\",$E15=\"\"),\"\",IF(AND('Marks Entry'!AS17=\"AB\",'Marks Entry'!AT17=\"AB\"),\"AB\",IF(AND('Marks Entry'!AS17=\"ML\",'Marks Entry'!AT17=\"ML\"),\"RE\",IF('Marks Entry'!AS17=\"\",\"\",ROUNDUP(('Marks Entry'!AS17+'Marks Entry'!AT17)*30/100,0)))))","v":30},79,0,0,100,"","P","D",{"$f":"IF('Marks Entry'!AU17=\"\",\"\",'Marks Entry'!AU17)","v":""},{"$f":"IF('Marks Entry'!AW17=\"\",\"\",'Marks Entry'!AW17)","v":7},{"$f":"IF('Marks Entry'!AX17=\"\",\"\",'Marks Entry'!AX17)","v":10},{"$f":"IF('Marks Entry'!AY17=\"\",\"\",'Marks Entry'!AY17)","v":8},25,17,{"$f":"IF('Marks Entry'!AZ17=\"\",\"\",'Marks Entry'!AZ17)","v":44},{"$f":"IF('Marks Entry'!BA17=\"\",\"\",'Marks Entry'!BA17)","v":""},44,32,{"$f":"IF(AND($B15=\"NSO\",$E15=\"\"),\"\",IF(AND('Marks Entry'!BB17=\"AB\",'Marks Entry'!BC17=\"AB\"),\"AB\",IF(AND('Marks Entry'!BB17=\"ML\",'Marks Entry'!BC17=\"ML\"),\"RE\",IF('Marks Entry'!BB17=\"\",\"\",ROUNDUP(('Marks Entry'!BB17+'Marks Entry'!BC17)*30/100,0)))))","v":30},79,0,0,100,"","P","D",0,"III","II","II","D","D","D",0,0,0,0,0,"PASS",{"$f":"IF('Marks Entry'!BD17=\"\",\"\",'Marks Entry'!BD17)","v":30},{"$f":"IF('Marks Entry'!BE17=\"\",\"\",'Marks Entry'!BE17)","v":30},{"$f":"IF('Marks Entry'!BF17=\"\",\"\",'Marks Entry'!BF17)","v":40},100,"III","","II","","II","II","","","","D","D","","","","D","D","","","","D","","","","","D",{"$f":"IF('Student DATA Entry'!I12=\"\",\"\",'Student DATA Entry'!I12)","v":""},{"$f":"IF('Student DATA Entry'!J12=\"\",\"\",'Student DATA Entry'!J12)","v":""},"      ","      ","      ","     HISTORY   GEOGRAPHY      ","Promoted to Class 12th",324,{"v":64.8,"d":"64.80"},"I",7.9999999999999964,""]
[11,{"$f":"IF('Marks Entry'!B18=\"\",\"\",VALUE('Marks Entry'!B18))","v":1111},{"$f":"IF('Marks Entry'!C18=\"\",\"\",'Marks Entry'!C18)","v":117},{"$f":"IF('Marks Entry'!D18=\"\",\"\",'Marks Entry'!D18)","v":"07-04-2004"},{"$f":"IF('Marks Entry'!E18=\"\",\"\",'Marks Entry'!E18)","v":"PAPIYA DEVI DEVASI"},{"$f":"IF('Marks Entry'!F18=\"\",\"\",'Marks Entry'!F18)","v":"FUA RAM"},{"$f":"IF('Marks Entry'!G18=\"\",\"\",'Marks Entry'!G18)","v":"DAGRI DEVI"},{"$f":"IF('Marks Entry'!H18=\"\",\"\",'Marks Entry'!H18)","v":"SBC"},{"$f":"IF('Marks Entry'!I18=\"\",\"\",'Marks Entry'!I18)","v":"F"},{"$f":"IF('Marks Entry'!J18=\"\",\"\",'Marks Entry'!J18)","v":"AB"},{"$f":"IF('Marks Entry'!K18=\"\",\"\",'Marks Entry'!K18)","v":"AB"},{"$f":"IF('Marks Entry'!L18=\"\",\"\",'Marks Entry'!L18)","v":8},8,6,{"$f":"IF('Marks Entry'!M18=\"\",\"\",'Marks Entry'!M18)","v":"ab"},"AB",{"$f":"IF(AND($B16=\"NSO\",$E16=\"\",O16=\"\"),\"\",IF(AND('Marks Entry'!N18=\"AB\"),\"AB\",IF(AND('Marks Entry'!N18=\"ML\"),\"RE\",IF('Marks Entry'!N18=\"\",\"\",ROUNDUP('Marks Entry'!N18*30/100,0)))))","v":4},10,0,0,100,"AB","F","P",{"$f":"IF('Marks Entry'!O18=\"\",\"\",'Marks Entry'!O18)","v":4},{"$f":"IF('Marks Entry'!P18=\"\",\"\",'Marks Entry'!P18)","v":7},{"$f":"IF('Marks Entry'!Q18=\"\",\"\",'Marks Entry'!Q18)","v":8},19,13,{"$f":"IF('Marks Entry'!R18=\"\",\"\",'Marks Entry'!R18)","v":30},22,{"$f":"IF(AND($B16=\"NSO\",$E16=\"\"),\"\",IF(AND('Marks Entry'!S18=\"AB\"),\"AB\",IF(AND('Marks Entry'!S18=\"ML\"),\"RE\",IF('Marks Entry'!S18=\"\",\"\",ROUNDUP('Marks Entry'!S18*30/100,0)))))","v":9},44,0,0,100,"","P","III",{"$f":"IF('Marks Entry'!T18=\"\",\"\",'Marks Entry'!T18)","v":1},{"$f":"IF('Marks Entry'!V18=\"\",\"\",'Marks Entry'!V18)","v":4},{"$f":"IF('Marks Entry'!W18=\"\",\"\",'Marks Entry'!W18)","v":7},{"$f":"IF('Marks Entry'!X18=\"\",\"\",'Marks Entry'!X18)","v":8},19,13,{"$f":"IF('Marks Entry'!Y18=\"\",\"\",'Marks Entry'!Y18)","v":30},{"$f":"IF('Marks Entry'!Z18=\"\",\"\",'Marks Entry'!Z18)","v":"ab"},30,22,{"$f":"IF(AND($B16=\"NSO\",$E16=\"\"),\"\",IF(AND('Marks Entry'!AA18=\"AB\",'Marks Entry'!AB18=\"AB\"),\"AB\",IF(AND('Marks Entry'!AA18=\"ML\",'Marks Entry'!AB18=\"ML\"),\"RE\",IF('Marks Entry'!AA18=\"\",\"\",ROUNDUP(('Marks Entry'!AA18+'Marks Entry'!AB18)*30/100,0)))))","v":30},65,0,0,100,"","P","I",{"$f":"IF('Marks Entry'!AC18=\"\",\"\",'Marks Entry'!AC18)","v":1},{"$f":"IF('Marks Entry'!AE18=\"\",\"\",'Marks Entry'!AE18)","v":4},{"$f":"IF('Marks Entry'!AF18=\"\",\"\",'Marks Entry'!AF18)","v":7},{"$f":"IF('Marks Entry'!AG18=\"\",\"\",'Marks Entry'!AG18)","v":8},19,13,{"$f":"IF('Marks Entry'!AH18=\"\",\"\",'Marks Entry'!AH18)","v":30},{"$f":"IF('Marks Entry'!AI18=\"\",\"\",'Marks Entry'!AI18)","v":""},30,22,{"$f":"IF(AND($B16=\"NSO\",$E16=\"\"),\"\",IF(AND('Marks Entry'!AJ18=\"AB\",'Marks Entry'!AK18=\"AB\"),\"AB\",IF(AND('Marks Entry'!AJ18=\"ML\",'Marks Entry'!AK18=\"ML\"),\"RE\",IF('Marks Entry'!AJ18=\"\",\"\",ROUNDUP(('Marks Entry'!AJ18+'Marks Entry'!AK18)*30/100,0)))))","v":30},65,0,0,100,"","P","I",{"$f":"IF('Marks Entry'!AL18=\"\",\"\",'Marks Entry'!AL18)","v":1},{"$f":"IF('Marks Entry'!AN18=\"\",\"\",'Marks Entry'!AN18)","v":4},{"$f":"IF('Marks Entry'!AO18=\"\",\"\",'Marks Entry'!AO18)","v":7},{"$f":"IF('Marks Entry'!AP18=\"\",\"\",'Marks Entry'!AP18)","v":8},19,13,{"$f":"IF('Marks Entry'!AQ18=\"\",\"\",'Marks Entry'!AQ18)","v":30},{"$f":"IF('Marks Entry'!AR18=\"\",\"\",'Marks Entry'!AR18)","v":""},30,22,{"$f":"IF(AND($B16=\"NSO\",$E16=\"\"),\"\",IF(AND('Marks Entry'!AS18=\"AB\",'Marks Entry'!AT18=\"AB\"),\"AB\",IF(AND('Marks Entry'!AS18=\"ML\",'Marks Entry'!AT18=\"ML\"),\"RE\",IF('Marks Entry'!AS18=\"\",\"\",ROUNDUP(('Marks Entry'!AS18+'Marks Entry'!AT18)*30/100,0)))))","v":30},65,0,0,100,"","P","I",{"$f":"IF('Marks Entry'!AU18=\"\",\"\",'Marks Entry'!AU18)","v":""},{"$f":"IF('Marks Entry'!AW18=\"\",\"\",'Marks Entry'!AW18)","v":4},{"$f":"IF('Marks Entry'!AX18=\"\",\"\",'Marks Entry'!AX18)","v":7},{"$f":"IF('Marks Entry'!AY18=\"\",\"\",'Marks Entry'!AY18)","v":8},19,13,{"$f":"IF('Marks Entry'!AZ18=\"\",\"\",'Marks Entry'!AZ18)","v":30},{"$f":"IF('Marks Entry'!BA18=\"\",\"\",'Marks Entry'!BA18)","v":""},30,22,{"$f":"IF(AND($B16=\"NSO\",$E16=\"\"),\"\",IF(AND('Marks Entry'!BB18=\"AB\",'Marks Entry'!BC18=\"AB\"),\"AB\",IF(AND('Marks Entry'!BB18=\"ML\",'Marks Entry'!BC18=\"ML\"),\"RE\",IF('Marks Entry'!BB18=\"\",\"\",ROUNDUP(('Marks Entry'!BB18+'Marks Entry'!BC18)*30/100,0)))))","v":30},65,0,0,100,"","P","I",0,"P","III","I","I","I","I",0,0,0,0,0,"PASS",{"$f":"IF('Marks Entry'!BD18=\"\",\"\",'Marks Entry'!BD18)","v":26},{"$f":"IF('Marks Entry'!BE18=\"\",\"\",'Marks Entry'!BE18)","v":30},{"$f":"IF('Marks Entry'!BF18=\"\",\"\",'Marks Entry'!BF18)","v":40},96,"P","","III","","I","I","","","","I","I","","","","I","I","","","","I","","","","","D",{"$f":"IF('Student DATA Entry'!I13=\"\",\"\",'Student DATA Entry'!I13)","v":""},{"$f":"IF('Student DATA Entry'!J13=\"\",\"\",'Student DATA Entry'!J13)","v":""},"      ","      ","      ","              ","Promoted to Class 12th",249,{"v":49.8,"d":"49.80"},"II",12.999999999999996,""]
[12,{"$f":"IF('Marks Entry'!B19=\"\",\"\",VALUE('Marks Entry'!B19))","v":1112},{"$f":"IF('Marks Entry'!C19=\"\",\"\",'Marks Entry'!C19)","v":463},{"$f":"IF('Marks Entry'!D19=\"\",\"\",'Marks Entry'!D19)","v":"05-04-2004"},{"$f":"IF('Marks Entry'!E19=\"\",\"\",'Marks Entry'!E19)","v":"PRAVIN KUMAR"},{"$f":"IF('Marks Entry'!F19=\"\",\"\",'Marks Entry'!F19)","v":"RUPA RAM"},{"$f":"IF('Marks Entry'!G19=\"\",\"\",'Marks Entry'!G19)","v":"PYARI DEVI"},{"$f":"IF('Marks Entry'!H19=\"\",\"\",'Marks Entry'!H19)","v":"SC"},{"$f":"IF('Marks Entry'!I19=\"\",\"\",'Marks Entry'!I19)","v":"M"},{"$f":"IF('Marks Entry'!J19=\"\",\"\",'Marks Entry'!J19)","v":6},{"$f":"IF('Marks Entry'!K19=\"\",\"\",'Marks Entry'!K19)","v":8},{"$f":"IF('Marks Entry'!L19=\"\",\"\",'Marks Entry'!L19)","v":10},24,16,{"$f":"IF('Marks Entry'!M19=\"\",\"\",'Marks Entry'!M19)","v":43},31,{"$f":"IF(AND($B17=\"NSO\",$E17=\"\",O17=\"\"),\"\",IF(AND('Marks Entry'!N19=\"AB\"),\"AB\",IF(AND('Marks Entry'!N19=\"ML\"),\"RE\",IF('Marks Entry'!N19=\"\",\"\",ROUNDUP('Marks Entry'!N19*30/100,0)))))","v":4},51,0,0,100,"","P","II",{"$f":"IF('Marks Entry'!O19=\"\",\"\",'Marks Entry'!O19)","v":6},{"$f":"IF('Marks Entry'!P19=\"\",\"\",'Marks Entry'!P19)","v":8},{"$f":"IF('Marks Entry'!Q19=\"\",\"\",'Marks Entry'!Q19)","v":10},24,16,{"$f":"IF('Marks Entry'!R19=\"\",\"\",'Marks Entry'!R19)","v":43},31,{"$f":"IF(AND($B17=\"NSO\",$E17=\"\"),\"\",IF(AND('Marks Entry'!S19=\"AB\"),\"AB\",IF(AND('Marks Entry'!S19=\"ML\"),\"RE\",IF('Marks Entry'!S19=\"\",\"\",ROUNDUP('Marks Entry'!S19*30/100,0)))))","v":"AB"},47,0,0,100,"","P","III",{"$f":"IF('Marks Entry'!T19=\"\",\"\",'Marks Entry'!T19)","v":1},{"$f":"IF('Marks Entry'!V19=\"\",\"\",'Marks Entry'!V19)","v":6},{"$f":"IF('Marks Entry'!W19=\"\",\"\",'Marks Entry'!W19)","v":8},{"$f":"IF('Marks Entry'!X19=\"\",\"\",'Marks Entry'!X19)","v":10},24,16,{"$f":"IF('Marks Entry'!Y19=\"\",\"\",'Marks Entry'!Y19)","v":43},{"$f":"IF('Marks Entry'!Z19=\"\",\"\",'Marks Entry'!Z19)","v":""},43,31,{"$f":"IF(AND($B17=\"NSO\",$E17=\"\"),\"\",IF(AND('Marks Entry'!AA19=\"AB\",'Marks Entry'!AB19=\"AB\"),\"AB\",IF(AND('Marks Entry'!AA19=\"ML\",'Marks Entry'!AB19=\"ML\"),\"RE\",IF('Marks Entry'!AA19=\"\",\"\",ROUNDUP(('Marks Entry'!AA19+'Marks Entry'!AB19)*30/100,0)))))","v":30},77,0,0,100,"","P","D",{"$f":"IF('Marks Entry'!AC19=\"\",\"\",'Marks Entry'!AC19)","v":1},{"$f":"IF('Marks Entry'!AE19=\"\",\"\",'Marks Entry'!AE19)","v":6},{"$f":"IF('Marks Entry'!AF19=\"\",\"\",'Marks Entry'!AF19)","v":8},{"$f":"IF('Marks Entry'!AG19=\"\",\"\",'Marks Entry'!AG19)","v":10},24,16,{"$f":"IF('Marks Entry'!AH19=\"\",\"\",'Marks Entry'!AH19)","v":43},{"$f":"IF('Marks Entry'!AI19=\"\",\"\",'Marks Entry'!AI19)","v":""},43,31,{"$f":"IF(AND($B17=\"NSO\",$E17=\"\"),\"\",IF(AND('Marks Entry'!AJ19=\"AB\",'Marks Entry'!AK19=\"AB\"),\"AB\",IF(AND('Marks Entry'!AJ19=\"ML\",'Marks Entry'!AK19=\"ML\"),\"RE\",IF('Marks Entry'!AJ19=\"\",\"\",ROUNDUP(('Marks Entry'!AJ19+'Marks Entry'!AK19)*30/100,0)))))","v":30},77,0,0,100,"","P","D",{"$f":"IF('Marks Entry'!AL19=\"\",\"\",'Marks Entry'!AL19)","v":1},{"$f":"IF('Marks Entry'!AN19=\"\",\"\",'Marks Entry'!AN19)","v":6},{"$f":"IF('Marks Entry'!AO19=\"\",\"\",'Marks Entry'!AO19)","v":8},{"$f":"IF('Marks Entry'!AP19=\"\",\"\",'Marks Entry'!AP19)","v":10},24,16,{"$f":"IF('Marks Entry'!AQ19=\"\",\"\",'Marks Entry'!AQ19)","v":43},{"$f":"IF('Marks Entry'!AR19=\"\",\"\",'Marks Entry'!AR19)","v":""},43,31,{"$f":"IF(AND($B17=\"NSO\",$E17=\"\"),\"\",IF(AND('Marks Entry'!AS19=\"AB\",'Marks Entry'!AT19=\"AB\"),\"AB\",IF(AND('Marks Entry'!AS19=\"ML\",'Marks Entry'!AT19=\"ML\"),\"RE\",IF('Marks Entry'!AS19=\"\",\"\",ROUNDUP(('Marks Entry'!AS19+'Marks Entry'!AT19)*30/100,0)))))","v":30},77,0,0,100,"","P","D",{"$f":"IF('Marks Entry'!AU19=\"\",\"\",'Marks Entry'!AU19)","v":""},{"$f":"IF('Marks Entry'!AW19=\"\",\"\",'Marks Entry'!AW19)","v":6},{"$f":"IF('Marks Entry'!AX19=\"\",\"\",'Marks Entry'!AX19)","v":8},{"$f":"IF('Marks Entry'!AY19=\"\",\"\",'Marks Entry'!AY19)","v":10},24,16,{"$f":"IF('Marks Entry'!AZ19=\"\",\"\",'Marks Entry'!AZ19)","v":43},{"$f":"IF('Marks Entry'!BA19=\"\",\"\",'Marks Entry'!BA19)","v":""},43,31,{"$f":"IF(AND($B17=\"NSO\",$E17=\"\"),\"\",IF(AND('Marks Entry'!BB19=\"AB\",'Marks Entry'!BC19=\"AB\"),\"AB\",IF(AND('Marks Entry'!BB19=\"ML\",'Marks Entry'!BC19=\"ML\"),\"RE\",IF('Marks Entry'!BB19=\"\",\"\",ROUNDUP(('Marks Entry'!BB19+'Marks Entry'!BC19)*30/100,0)))))","v":30},77,0,0,100,"","P","D",0,"II","III","D","D","D","D",0,0,0,0,0,"PASS",{"$f":"IF('Marks Entry'!BD19=\"\",\"\",'Marks Entry'!BD19)","v":27},{"$f":"IF('Marks Entry'!BE19=\"\",\"\",'Marks Entry'!BE19)","v":30},{"$f":"IF('Marks Entry'!BF19=\"\",\"\",'Marks Entry'!BF19)","v":40},97,"II","","III","","D","D","","","","D","D","","","","D","D","","","","D","","","","","D",{"$f":"IF('Student DATA Entry'!I14=\"\",\"\",'Student DATA Entry'!I14)","v":""},{"$f":"IF('Student DATA Entry'!J14=\"\",\"\",'Student DATA Entry'!J14)","v":""},"      ","      ","      ","  POLITICAL SCIENCE   HISTORY   GEOGRAPHY      ","Promoted to Class 12th",329,{"v":65.8,"d":"65.80"},{"$f":"IF(B17=\"NSO\",\"NSO\",IF(FF17=\"\",\"\",IF(AND(FF17>=60,(FD17=\"Promoted to Class 12th\")),\"I\",IF(AND(FF17>=60,(FD17=\"Promoted to Class 12th\")),\"I\",IF(AND(FF17>=48,(FD17=\"Promoted to Class 12th\")),\"II\",IF(AND(FF17>=48,(FD17=\"Promoted to Class 12th\")),\"II\",IF(AND(FF17>=36,(FD17=\"Promoted to Class 12th\")),\"III\",IF(AND(FF17>=0,(FD17=\"Promoted to Class 12th\")),\"P\",\"\"))))))))","v":"I"},6.9999999999999964,""]
[13,{"$f":"IF('Marks Entry'!B20=\"\",\"\",VALUE('Marks Entry'!B20))","v":1113},{"$f":"IF('Marks Entry'!C20=\"\",\"\",'Marks Entry'!C20)","v":307},{"$f":"IF('Marks Entry'!D20=\"\",\"\",'Marks Entry'!D20)","v":"04-05-2002"},{"$f":"IF('Marks Entry'!E20=\"\",\"\",'Marks Entry'!E20)","v":"RINKU ANKIYA"},{"$f":"IF('Marks Entry'!F20=\"\",\"\",'Marks Entry'!F20)","v":"PRAVEEN KUMAR"},{"$f":"IF('Marks Entry'!G20=\"\",\"\",'Marks Entry'!G20)","v":"MANJU DEVI"},{"$f":"IF('Marks Entry'!H20=\"\",\"\",'Marks Entry'!H20)","v":"SC"},{"$f":"IF('Marks Entry'!I20=\"\",\"\",'Marks Entry'!I20)","v":"F"},{"$f":"IF('Marks Entry'!J20=\"\",\"\",'Marks Entry'!J20)","v":6},{"$f":"IF('Marks Entry'!K20=\"\",\"\",'Marks Entry'!K20)","v":8},{"$f":"IF('Marks Entry'!L20=\"\",\"\",'Marks Entry'!L20)","v":"AB"},14,10,{"$f":"IF('Marks Entry'!M20=\"\",\"\",'Marks Entry'!M20)","v":"AB"},"AB",{"$f":"IF(AND($B18=\"NSO\",$E18=\"\",O18=\"\"),\"\",IF(AND('Marks Entry'!N20=\"AB\"),\"AB\",IF(AND('Marks Entry'!N20=\"ML\"),\"RE\",IF('Marks Entry'!N20=\"\",\"\",ROUNDUP('Marks Entry'!N20*30/100,0)))))","v":"AB"},10,0,0,100,"","AB","AB",{"$f":"IF('Marks Entry'!O20=\"\",\"\",'Marks Entry'!O20)","v":6},{"$f":"IF('Marks Entry'!P20=\"\",\"\",'Marks Entry'!P20)","v":8},{"$f":"IF('Marks Entry'!Q20=\"\",\"\",'Marks Entry'!Q20)","v":9},23,16,{"$f":"IF('Marks Entry'!R20=\"\",\"\",'Marks Entry'!R20)","v":47},34,{"$f":"IF(AND($B18=\"NSO\",$E18=\"\"),\"\",IF(AND('Marks Entry'!S20=\"AB\"),\"AB\",IF(AND('Marks Entry'!S20=\"ML\"),\"RE\",IF('Marks Entry'!S20=\"\",\"\",ROUNDUP('Marks Entry'!S20*30/100,0)))))","v":15},65,0,0,100,"","P","I",{"$f":"IF('Marks Entry'!T20=\"\",\"\",'Marks Entry'!T20)","v":1},{"$f":"IF('Marks Entry'!V20=\"\",\"\",'Marks Entry'!V20)","v":6},{"$f":"IF('Marks Entry'!W20=\"\",\"\",'Marks Entry'!W20)","v":8},{"$f":"IF('Marks Entry'!X20=\"\",\"\",'Marks Entry'!X20)","v":9},23,16,{"$f":"IF('Marks Entry'!Y20=\"\",\"\",'Marks Entry'!Y20)","v":47},{"$f":"IF('Marks Entry'!Z20=\"\",\"\",'Marks Entry'!Z20)","v":""},47,34,{"$f":"IF(AND($B18=\"NSO\",$E18=\"\"),\"\",IF(AND('Marks Entry'!AA20=\"AB\",'Marks Entry'!AB20=\"AB\"),\"AB\",IF(AND('Marks Entry'!AA20=\"ML\",'Marks Entry'!AB20=\"ML\"),\"RE\",IF('Marks Entry'!AA20=\"\",\"\",ROUNDUP(('Marks Entry'!AA20+'Marks Entry'!AB20)*30/100,0)))))","v":30},80,0,0,100,"","P","D",{"$f":"IF('Marks Entry'!AC20=\"\",\"\",'Marks Entry'!AC20)","v":1},{"$f":"IF('Marks Entry'!AE20=\"\",\"\",'Marks Entry'!AE20)","v":6},{"$f":"IF('Marks Entry'!AF20=\"\",\"\",'Marks Entry'!AF20)","v":8},{"$f":"IF('Marks Entry'!AG20=\"\",\"\",'Marks Entry'!AG20)","v":9},23,16,{"$f":"IF('Marks Entry'!AH20=\"\",\"\",'Marks Entry'!AH20)","v":47},{"$f":"IF('Marks Entry'!AI20=\"\",\"\",'Marks Entry'!AI20)","v":""},47,34,{"$f":"IF(AND($B18=\"NSO\",$E18=\"\"),\"\",IF(AND('Marks Entry'!AJ20=\"AB\",'Marks Entry'!AK20=\"AB\"),\"AB\",IF(AND('Marks Entry'!AJ20=\"ML\",'Marks Entry'!AK20=\"ML\"),\"RE\",IF('Marks Entry'!AJ20=\"\",\"\",ROUNDUP(('Marks Entry'!AJ20+'Marks Entry'!AK20)*30/100,0)))))","v":30},80,0,0,100,"","P","D",{"$f":"IF('Marks Entry'!AL20=\"\",\"\",'Marks Entry'!AL20)","v":1},{"$f":"IF('Marks Entry'!AN20=\"\",\"\",'Marks Entry'!AN20)","v":6},{"$f":"IF('Marks Entry'!AO20=\"\",\"\",'Marks Entry'!AO20)","v":8},{"$f":"IF('Marks Entry'!AP20=\"\",\"\",'Marks Entry'!AP20)","v":9},23,16,{"$f":"IF('Marks Entry'!AQ20=\"\",\"\",'Marks Entry'!AQ20)","v":47},{"$f":"IF('Marks Entry'!AR20=\"\",\"\",'Marks Entry'!AR20)","v":""},47,34,{"$f":"IF(AND($B18=\"NSO\",$E18=\"\"),\"\",IF(AND('Marks Entry'!AS20=\"AB\",'Marks Entry'!AT20=\"AB\"),\"AB\",IF(AND('Marks Entry'!AS20=\"ML\",'Marks Entry'!AT20=\"ML\"),\"RE\",IF('Marks Entry'!AS20=\"\",\"\",ROUNDUP(('Marks Entry'!AS20+'Marks Entry'!AT20)*30/100,0)))))","v":30},80,0,0,100,"","P","D",{"$f":"IF('Marks Entry'!AU20=\"\",\"\",'Marks Entry'!AU20)","v":""},{"$f":"IF('Marks Entry'!AW20=\"\",\"\",'Marks Entry'!AW20)","v":6},{"$f":"IF('Marks Entry'!AX20=\"\",\"\",'Marks Entry'!AX20)","v":8},{"$f":"IF('Marks Entry'!AY20=\"\",\"\",'Marks Entry'!AY20)","v":9},23,16,{"$f":"IF('Marks Entry'!AZ20=\"\",\"\",'Marks Entry'!AZ20)","v":47},{"$f":"IF('Marks Entry'!BA20=\"\",\"\",'Marks Entry'!BA20)","v":""},47,34,{"$f":"IF(AND($B18=\"NSO\",$E18=\"\"),\"\",IF(AND('Marks Entry'!BB20=\"AB\",'Marks Entry'!BC20=\"AB\"),\"AB\",IF(AND('Marks Entry'!BB20=\"ML\",'Marks Entry'!BC20=\"ML\"),\"RE\",IF('Marks Entry'!BB20=\"\",\"\",ROUNDUP(('Marks Entry'!BB20+'Marks Entry'!BC20)*30/100,0)))))","v":30},80,0,0,100,"","P","D",0,"AB","I","D","D","D","D",0,0,0,0,1,"RE-EXAM.",{"$f":"IF('Marks Entry'!BD20=\"\",\"\",'Marks Entry'!BD20)","v":28},{"$f":"IF('Marks Entry'!BE20=\"\",\"\",'Marks Entry'!BE20)","v":30},{"$f":"IF('Marks Entry'!BF20=\"\",\"\",'Marks Entry'!BF20)","v":40},98,"AB","","I","","D","D","","","","D","D","","","","D","D","","","","D","","","","","D",{"$f":"IF('Student DATA Entry'!I15=\"\",\"\",'Student DATA Entry'!I15)","v":""},{"$f":"IF('Student DATA Entry'!J15=\"\",\"\",'Student DATA Entry'!J15)","v":""},"      ","      ","      ","  POLITICAL SCIENCE   HISTORY   GEOGRAPHY      ","Promoted to Class 12th",315,{"v":63,"d":"63.00"},"I",8.999999999999996,""]
[14,{"$f":"IF('Marks Entry'!B21=\"\",\"\",VALUE('Marks Entry'!B21))","v":1114},{"$f":"IF('Marks Entry'!C21=\"\",\"\",'Marks Entry'!C21)","v":348},{"$f":"IF('Marks Entry'!D21=\"\",\"\",'Marks Entry'!D21)","v":"18-01-2004"},{"$f":"IF('Marks Entry'!E21=\"\",\"\",'Marks Entry'!E21)","v":"SUMAN KANWAR"},{"$f":"IF('Marks Entry'!F21=\"\",\"\",'Marks Entry'!F21)","v":"DEVI SINGH"},{"$f":"IF('Marks Entry'!G21=\"\",\"\",'Marks Entry'!G21)","v":"ANOP KANWAR"},{"$f":"IF('Marks Entry'!H21=\"\",\"\",'Marks Entry'!H21)","v":"GEN"},{"$f":"IF('Marks Entry'!I21=\"\",\"\",'Marks Entry'!I21)","v":"F"},{"$f":"IF('Marks Entry'!J21=\"\",\"\",'Marks Entry'!J21)","v":6},{"$f":"IF('Marks Entry'!K21=\"\",\"\",'Marks Entry'!K21)","v":6},{"$f":"IF('Marks Entry'!L21=\"\",\"\",'Marks Entry'!L21)","v":7},19,13,{"$f":"IF('Marks Entry'!M21=\"\",\"\",'Marks Entry'!M21)","v":"ab"},"AB",{"$f":"IF(AND($B19=\"NSO\",$E19=\"\",O19=\"\"),\"\",IF(AND('Marks Entry'!N21=\"AB\"),\"AB\",IF(AND('Marks Entry'!N21=\"ML\"),\"RE\",IF('Marks Entry'!N21=\"\",\"\",ROUNDUP('Marks Entry'!N21*30/100,0)))))","v":5},18,0,0,100,"","F","P",{"$f":"IF('Marks Entry'!O21=\"\",\"\",'Marks Entry'!O21)","v":6},{"$f":"IF('Marks Entry'!P21=\"\",\"\",'Marks Entry'!P21)","v":6},{"$f":"IF('Marks Entry'!Q21=\"\",\"\",'Marks Entry'!Q21)","v":"AB"},12,8,{"$f":"IF('Marks Entry'!R21=\"\",\"\",'Marks Entry'!R21)","v":35},25,{"$f":"IF(AND($B19=\"NSO\",$E19=\"\"),\"\",IF(AND('Marks Entry'!S21=\"AB\"),\"AB\",IF(AND('Marks Entry'!S21=\"ML\"),\"RE\",IF('Marks Entry'!S21=\"\",\"\",ROUNDUP('Marks Entry'!S21*30/100,0)))))","v":12},45,0,0,100,"","P","III",{"$f":"IF('Marks Entry'!T21=\"\",\"\",'Marks Entry'!T21)","v":1},{"$f":"IF('Marks Entry'!V21=\"\",\"\",'Marks Entry'!V21)","v":6},{"$f":"IF('Marks Entry'!W21=\"\",\"\",'Marks Entry'!W21)","v":8},{"$f":"IF('Marks Entry'!X21=\"\",\"\",'Marks Entry'!X21)","v":9},23,16,{"$f":"IF('Marks Entry'!Y21=\"\",\"\",'Marks Entry'!Y21)","v":47},{"$f":"IF('Marks Entry'!Z21=\"\",\"\",'Marks Entry'!Z21)","v":""},47,34,{"$f":"IF(AND($B19=\"NSO\",$E19=\"\"),\"\",IF(AND('Marks Entry'!AA21=\"AB\",'Marks Entry'!AB21=\"AB\"),\"AB\",IF(AND('Marks Entry'!AA21=\"ML\",'Marks Entry'!AB21=\"ML\"),\"RE\",IF('Marks Entry'!AA21=\"\",\"\",ROUNDUP(('Marks Entry'!AA21+'Marks Entry'!AB21)*30/100,0)))))","v":30},80,0,0,100,"","P","D",{"$f":"IF('Marks Entry'!AC21=\"\",\"\",'Marks Entry'!AC21)","v":1},{"$f":"IF('Marks Entry'!AE21=\"\",\"\",'Marks Entry'!AE21)","v":6},{"$f":"IF('Marks Entry'!AF21=\"\",\"\",'Marks Entry'!AF21)","v":8},{"$f":"IF('Marks Entry'!AG21=\"\",\"\",'Marks Entry'!AG21)","v":"AB"},14,10,{"$f":"IF('Marks Entry'!AH21=\"\",\"\",'Marks Entry'!AH21)","v":35},{"$f":"IF('Marks Entry'!AI21=\"\",\"\",'Marks Entry'!AI21)","v":""},35,25,{"$f":"IF(AND($B19=\"NSO\",$E19=\"\"),\"\",IF(AND('Marks Entry'!AJ21=\"AB\",'Marks Entry'!AK21=\"AB\"),\"AB\",IF(AND('Marks Entry'!AJ21=\"ML\",'Marks Entry'!AK21=\"ML\"),\"RE\",IF('Marks Entry'!AJ21=\"\",\"\",ROUNDUP(('Marks Entry'!AJ21+'Marks Entry'!AK21)*30/100,0)))))","v":30},65,0,0,100,"","P","I",{"$f":"IF('Marks Entry'!AL21=\"\",\"\",'Marks Entry'!AL21)","v":1},{"$f":"IF('Marks Entry'!AN21=\"\",\"\",'Marks Entry'!AN21)","v":6},{"$f":"IF('Marks Entry'!AO21=\"\",\"\",'Marks Entry'!AO21)","v":6},{"$f":"IF('Marks Entry'!AP21=\"\",\"\",'Marks Entry'!AP21)","v":"AB"},12,8,{"$f":"IF('Marks Entry'!AQ21=\"\",\"\",'Marks Entry'!AQ21)","v":35},{"$f":"IF('Marks Entry'!AR21=\"\",\"\",'Marks Entry'!AR21)","v":""},35,25,{"$f":"IF(AND($B19=\"NSO\",$E19=\"\"),\"\",IF(AND('Marks Entry'!AS21=\"AB\",'Marks Entry'!AT21=\"AB\"),\"AB\",IF(AND('Marks Entry'!AS21=\"ML\",'Marks Entry'!AT21=\"ML\"),\"RE\",IF('Marks Entry'!AS21=\"\",\"\",ROUNDUP(('Marks Entry'!AS21+'Marks Entry'!AT21)*30/100,0)))))","v":30},63,0,0,100,"","P","I",{"$f":"IF('Marks Entry'!AU21=\"\",\"\",'Marks Entry'!AU21)","v":""},{"$f":"IF('Marks Entry'!AW21=\"\",\"\",'Marks Entry'!AW21)","v":6},{"$f":"IF('Marks Entry'!AX21=\"\",\"\",'Marks Entry'!AX21)","v":6},{"$f":"IF('Marks Entry'!AY21=\"\",\"\",'Marks Entry'!AY21)","v":"AB"},12,8,{"$f":"IF('Marks Entry'!AZ21=\"\",\"\",'Marks Entry'!AZ21)","v":35},{"$f":"IF('Marks Entry'!BA21=\"\",\"\",'Marks Entry'!BA21)","v":""},35,25,{"$f":"IF(AND($B19=\"NSO\",$E19=\"\"),\"\",IF(AND('Marks Entry'!BB21=\"AB\",'Marks Entry'!BC21=\"AB\"),\"AB\",IF(AND('Marks Entry'!BB21=\"ML\",'Marks Entry'!BC21=\"ML\"),\"RE\",IF('Marks Entry'!BB21=\"\",\"\",ROUNDUP(('Marks Entry'!BB21+'Marks Entry'!BC21)*30/100,0)))))","v":30},63,0,0,100,"","P","I",0,"P","III","D","I","I","I",0,0,0,0,0,"PASS",{"$f":"IF('Marks Entry'!BD21=\"\",\"\",'Marks Entry'!BD21)","v":29},{"$f":"IF('Marks Entry'!BE21=\"\",\"\",'Marks Entry'!BE21)","v":30},{"$f":"IF('Marks Entry'!BF21=\"\",\"\",'Marks Entry'!BF21)","v":40},99,"P","","III","","D","D","","","","I","I","","","","I","I","","","","I","","","","","D",{"$f":"IF('Student DATA Entry'!I16=\"\",\"\",'Student DATA Entry'!I16)","v":""},{"$f":"IF('Student DATA Entry'!J16=\"\",\"\",'Student DATA Entry'!J16)","v":""},"      ","      ","      ","  POLITICAL SCIENCE            ","Promoted to Class 12th",271,{"v":54.2,"d":"54.20"},"II",11.999999999999996,""]
[15,{"$f":"IF('Marks Entry'!B22=\"\",\"\",VALUE('Marks Entry'!B22))","v":1115},{"$f":"IF('Marks Entry'!C22=\"\",\"\",'Marks Entry'!C22)","v":466},{"$f":"IF('Marks Entry'!D22=\"\",\"\",'Marks Entry'!D22)","v":"10-07-2004"},{"$f":"IF('Marks Entry'!E22=\"\",\"\",'Marks Entry'!E22)","v":"YUVRAJ SINGH"},{"$f":"IF('Marks Entry'!F22=\"\",\"\",'Marks Entry'!F22)","v":"GANPAT SINGH"},{"$f":"IF('Marks Entry'!G22=\"\",\"\",'Marks Entry'!G22)","v":"MUNNA KANWAR"},{"$f":"IF('Marks Entry'!H22=\"\",\"\",'Marks Entry'!H22)","v":"GEN"},{"$f":"IF('Marks Entry'!I22=\"\",\"\",'Marks Entry'!I22)","v":"M"},{"$f":"IF('Marks Entry'!J22=\"\",\"\",'Marks Entry'!J22)","v":10},{"$f":"IF('Marks Entry'!K22=\"\",\"\",'Marks Entry'!K22)","v":10},{"$f":"IF('Marks Entry'!L22=\"\",\"\",'Marks Entry'!L22)","v":10},30,20,{"$f":"IF('Marks Entry'!M22=\"\",\"\",'Marks Entry'!M22)","v":57},41,{"$f":"IF(AND($B20=\"NSO\",$E20=\"\",O20=\"\"),\"\",IF(AND('Marks Entry'!N22=\"AB\"),\"AB\",IF(AND('Marks Entry'!N22=\"ML\"),\"RE\",IF('Marks Entry'!N22=\"\",\"\",ROUNDUP('Marks Entry'!N22*30/100,0)))))","v":15},76,0,0,100,"","P","D",{"$f":"IF('Marks Entry'!O22=\"\",\"\",'Marks Entry'!O22)","v":10},{"$f":"IF('Marks Entry'!P22=\"\",\"\",'Marks Entry'!P22)","v":10},{"$f":"IF('Marks Entry'!Q22=\"\",\"\",'Marks Entry'!Q22)","v":10},30,20,{"$f":"IF('Marks Entry'!R22=\"\",\"\",'Marks Entry'!R22)","v":57},41,{"$f":"IF(AND($B20=\"NSO\",$E20=\"\"),\"\",IF(AND('Marks Entry'!S22=\"AB\"),\"AB\",IF(AND('Marks Entry'!S22=\"ML\"),\"RE\",IF('Marks Entry'!S22=\"\",\"\",ROUNDUP('Marks Entry'!S22*30/100,0)))))","v":18},79,0,0,100,"","P","D",{"$f":"IF('Marks Entry'!T22=\"\",\"\",'Marks Entry'!T22)","v":1},{"$f":"IF('Marks Entry'!V22=\"\",\"\",'Marks Entry'!V22)","v":10},{"$f":"IF('Marks Entry'!W22=\"\",\"\",'Marks Entry'!W22)","v":8},{"$f":"IF('Marks Entry'!X22=\"\",\"\",'Marks Entry'!X22)","v":9},27,18,{"$f":"IF('Marks Entry'!Y22=\"\",\"\",'Marks Entry'!Y22)","v":47},{"$f":"IF('Marks Entry'!Z22=\"\",\"\",'Marks Entry'!Z22)","v":""},47,34,{"$f":"IF(AND($B20=\"NSO\",$E20=\"\"),\"\",IF(AND('Marks Entry'!AA22=\"AB\",'Marks Entry'!AB22=\"AB\"),\"AB\",IF(AND('Marks Entry'!AA22=\"ML\",'Marks Entry'!AB22=\"ML\"),\"RE\",IF('Marks Entry'!AA22=\"\",\"\",ROUNDUP(('Marks Entry'!AA22+'Marks Entry'!AB22)*30/100,0)))))","v":30},82,0,0,100,"","P","D",{"$f":"IF('Marks Entry'!AC22=\"\",\"\",'Marks Entry'!AC22)","v":1},{"$f":"IF('Marks Entry'!AE22=\"\",\"\",'Marks Entry'!AE22)","v":6},{"$f":"IF('Marks Entry'!AF22=\"\",\"\",'Marks Entry'!AF22)","v":8},{"$f":"IF('Marks Entry'!AG22=\"\",\"\",'Marks Entry'!AG22)","v":10},24,16,{"$f":"IF('Marks Entry'!AH22=\"\",\"\",'Marks Entry'!AH22)","v":57},{"$f":"IF('Marks Entry'!AI22=\"\",\"\",'Marks Entry'!AI22)","v":""},57,41,{"$f":"IF(AND($B20=\"NSO\",$E20=\"\"),\"\",IF(AND('Marks Entry'!AJ22=\"AB\",'Marks Entry'!AK22=\"AB\"),\"AB\",IF(AND('Marks Entry'!AJ22=\"ML\",'Marks Entry'!AK22=\"ML\"),\"RE\",IF('Marks Entry'!AJ22=\"\",\"\",ROUNDUP(('Marks Entry'!AJ22+'Marks Entry'!AK22)*30/100,0)))))","v":30},87,0,0,100,"","P","D",{"$f":"IF('Marks Entry'!AL22=\"\",\"\",'Marks Entry'!AL22)","v":1},{"$f":"IF('Marks Entry'!AN22=\"\",\"\",'Marks Entry'!AN22)","v":10},{"$f":"IF('Marks Entry'!AO22=\"\",\"\",'Marks Entry'!AO22)","v":10},{"$f":"IF('Marks Entry'!AP22=\"\",\"\",'Marks Entry'!AP22)","v":10},30,20,{"$f":"IF('Marks Entry'!AQ22=\"\",\"\",'Marks Entry'!AQ22)","v":57},{"$f":"IF('Marks Entry'!AR22=\"\",\"\",'Marks Entry'!AR22)","v":""},57,41,{"$f":"IF(AND($B20=\"NSO\",$E20=\"\"),\"\",IF(AND('Marks Entry'!AS22=\"AB\",'Marks Entry'!AT22=\"AB\"),\"AB\",IF(AND('Marks Entry'!AS22=\"ML\",'Marks Entry'!AT22=\"ML\"),\"RE\",IF('Marks Entry'!AS22=\"\",\"\",ROUNDUP(('Marks Entry'!AS22+'Marks Entry'!AT22)*30/100,0)))))","v":30},91,0,0,100,"","P","D",{"$f":"IF('Marks Entry'!AU22=\"\",\"\",'Marks Entry'!AU22)","v":""},{"$f":"IF('Marks Entry'!AW22=\"\",\"\",'Marks Entry'!AW22)","v":10},{"$f":"IF('Marks Entry'!AX22=\"\",\"\",'Marks Entry'!AX22)","v":10},{"$f":"IF('Marks Entry'!AY22=\"\",\"\",'Marks Entry'!AY22)","v":10},30,20,{"$f":"IF('Marks Entry'!AZ22=\"\",\"\",'Marks Entry'!AZ22)","v":57},{"$f":"IF('Marks Entry'!BA22=\"\",\"\",'Marks Entry'!BA22)","v":""},57,41,{"$f":"IF(AND($B20=\"NSO\",$E20=\"\"),\"\",IF(AND('Marks Entry'!BB22=\"AB\",'Marks Entry'!BC22=\"AB\"),\"AB\",IF(AND('Marks Entry'!BB22=\"ML\",'Marks Entry'!BC22=\"ML\"),\"RE\",IF('Marks Entry'!BB22=\"\",\"\",ROUNDUP(('Marks Entry'!BB22+'Marks Entry'!BC22)*30/100,0)))))","v":30},91,0,0,100,"","P","D",0,"D","D","D","D","D","D",0,0,0,0,0,"PASS",{"$f":"IF('Marks Entry'!BD22=\"\",\"\",'Marks Entry'!BD22)","v":30},{"$f":"IF('Marks Entry'!BE22=\"\",\"\",'Marks Entry'!BE22)","v":28},{"$f":"IF('Marks Entry'!BF22=\"\",\"\",'Marks Entry'!BF22)","v":30},88,"D","","D","","D","D","","","","D","D","","","","D","D","","","","D","","","","","D",{"$f":"IF('Student DATA Entry'!I17=\"\",\"\",'Student DATA Entry'!I17)","v":""},{"$f":"IF('Student DATA Entry'!J17=\"\",\"\",'Student DATA Entry'!J17)","v":""},"      ","      ","      ","HINDI ENGLISH POLITICAL SCIENCE   HISTORY   GEOGRAPHY      ","Promoted to Class 12th",415,{"v":83,"d":"83.00"},"I",2.9999999999999964,""]
[16,{"$f":"IF('Marks Entry'!B23=\"\",\"\",VALUE('Marks Entry'!B23))","v":""},{"$f":"IF('Marks Entry'!C23=\"\",\"\",'Marks Entry'!C23)","v":""},{"$f":"IF('Marks Entry'!D23=\"\",\"\",'Marks Entry'!D23)","v":""},{"$f":"IF('Marks Entry'!E23=\"\",\"\",'Marks Entry'!E23)","v":""},{"$f":"IF('Marks Entry'!F23=\"\",\"\",'Marks Entry'!F23)","v":""},{"$f":"IF('Marks Entry'!G23=\"\",\"\",'Marks Entry'!G23)","v":""},{"$f":"IF('Marks Entry'!H23=\"\",\"\",'Marks Entry'!H23)","v":""},{"$f":"IF('Marks Entry'!I23=\"\",\"\",'Marks Entry'!I23)","v":""},{"$f":"IF('Marks Entry'!J23=\"\",\"\",'Marks Entry'!J23)","v":""},{"$f":"IF('Marks Entry'!K23=\"\",\"\",'Marks Entry'!K23)","v":""},{"$f":"IF('Marks Entry'!L23=\"\",\"\",'Marks Entry'!L23)","v":""},"","",{"$f":"IF('Marks Entry'!M23=\"\",\"\",'Marks Entry'!M23)","v":""},"",{"$f":"IF(AND($B21=\"NSO\",$E21=\"\",O21=\"\"),\"\",IF(AND('Marks Entry'!N23=\"AB\"),\"AB\",IF(AND('Marks Entry'!N23=\"ML\"),\"RE\",IF('Marks Entry'!N23=\"\",\"\",ROUNDUP('Marks Entry'!N23*30/100,0)))))","v":""},"",0,0,"","","","",{"$f":"IF('Marks Entry'!O23=\"\",\"\",'Marks Entry'!O23)","v":""},{"$f":"IF('Marks Entry'!P23=\"\",\"\",'Marks Entry'!P23)","v":""},{"$f":"IF('Marks Entry'!Q23=\"\",\"\",'Marks Entry'!Q23)","v":""},"","",{"$f":"IF('Marks Entry'!R23=\"\",\"\",'Marks Entry'!R23)","v":""},"",{"$f":"IF(AND($B21=\"NSO\",$E21=\"\"),\"\",IF(AND('Marks Entry'!S23=\"AB\"),\"AB\",IF(AND('Marks Entry'!S23=\"ML\"),\"RE\",IF('Marks Entry'!S23=\"\",\"\",ROUNDUP('Marks Entry'!S23*30/100,0)))))","v":""},"",0,0,"","","","",{"$f":"IF('Marks Entry'!T23=\"\",\"\",'Marks Entry'!T23)","v":""},{"$f":"IF('Marks Entry'!V23=\"\",\"\",'Marks Entry'!V23)","v":""},{"$f":"IF('Marks Entry'!W23=\"\",\"\",'Marks Entry'!W23)","v":""},{"$f":"IF('Marks Entry'!X23=\"\",\"\",'Marks Entry'!X23)","v":""},"","",{"$f":"IF('Marks Entry'!Y23=\"\",\"\",'Marks Entry'!Y23)","v":""},{"$f":"IF('Marks Entry'!Z23=\"\",\"\",'Marks Entry'!Z23)","v":""},"","",{"$f":"IF(AND($B21=\"NSO\",$E21=\"\"),\"\",IF(AND('Marks Entry'!AA23=\"AB\",'Marks Entry'!AB23=\"AB\"),\"AB\",IF(AND('Marks Entry'!AA23=\"ML\",'Marks Entry'!AB23=\"ML\"),\"RE\",IF('Marks Entry'!AA23=\"\",\"\",ROUNDUP(('Marks Entry'!AA23+'Marks Entry'!AB23)*30/100,0)))))","v":""},"",0,0,"","","","",{"$f":"IF('Marks Entry'!AC23=\"\",\"\",'Marks Entry'!AC23)","v":""},{"$f":"IF('Marks Entry'!AE23=\"\",\"\",'Marks Entry'!AE23)","v":""},{"$f":"IF('Marks Entry'!AF23=\"\",\"\",'Marks Entry'!AF23)","v":""},{"$f":"IF('Marks Entry'!AG23=\"\",\"\",'Marks Entry'!AG23)","v":""},"","",{"$f":"IF('Marks Entry'!AH23=\"\",\"\",'Marks Entry'!AH23)","v":""},{"$f":"IF('Marks Entry'!AI23=\"\",\"\",'Marks Entry'!AI23)","v":""},"","",{"$f":"IF(AND($B21=\"NSO\",$E21=\"\"),\"\",IF(AND('Marks Entry'!AJ23=\"AB\",'Marks Entry'!AK23=\"AB\"),\"AB\",IF(AND('Marks Entry'!AJ23=\"ML\",'Marks Entry'!AK23=\"ML\"),\"RE\",IF('Marks Entry'!AJ23=\"\",\"\",ROUNDUP(('Marks Entry'!AJ23+'Marks Entry'!AK23)*30/100,0)))))","v":""},"",0,0,"","","","",{"$f":"IF('Marks Entry'!AL23=\"\",\"\",'Marks Entry'!AL23)","v":""},{"$f":"IF('Marks Entry'!AN23=\"\",\"\",'Marks Entry'!AN23)","v":""},{"$f":"IF('Marks Entry'!AO23=\"\",\"\",'Marks Entry'!AO23)","v":""},{"$f":"IF('Marks Entry'!AP23=\"\",\"\",'Marks Entry'!AP23)","v":""},"","",{"$f":"IF('Marks Entry'!AQ23=\"\",\"\",'Marks Entry'!AQ23)","v":""},{"$f":"IF('Marks Entry'!AR23=\"\",\"\",'Marks Entry'!AR23)","v":""},"","",{"$f":"IF(AND($B21=\"NSO\",$E21=\"\"),\"\",IF(AND('Marks Entry'!AS23=\"AB\",'Marks Entry'!AT23=\"AB\"),\"AB\",IF(AND('Marks Entry'!AS23=\"ML\",'Marks Entry'!AT23=\"ML\"),\"RE\",IF('Marks Entry'!AS23=\"\",\"\",ROUNDUP(('Marks Entry'!AS23+'Marks Entry'!AT23)*30/100,0)))))","v":""},"",0,0,"","","","",{"$f":"IF('Marks Entry'!AU23=\"\",\"\",'Marks Entry'!AU23)","v":""},{"$f":"IF('Marks Entry'!AW23=\"\",\"\",'Marks Entry'!AW23)","v":""},{"$f":"IF('Marks Entry'!AX23=\"\",\"\",'Marks Entry'!AX23)","v":""},{"$f":"IF('Marks Entry'!AY23=\"\",\"\",'Marks Entry'!AY23)","v":""},"","",{"$f":"IF('Marks Entry'!AZ23=\"\",\"\",'Marks Entry'!AZ23)","v":""},{"$f":"IF('Marks Entry'!BA23=\"\",\"\",'Marks Entry'!BA23)","v":""},"","",{"$f":"IF(AND($B21=\"NSO\",$E21=\"\"),\"\",IF(AND('Marks Entry'!BB23=\"AB\",'Marks Entry'!BC23=\"AB\"),\"AB\",IF(AND('Marks Entry'!BB23=\"ML\",'Marks Entry'!BC23=\"ML\"),\"RE\",IF('Marks Entry'!BB23=\"\",\"\",ROUNDUP(('Marks Entry'!BB23+'Marks Entry'!BC23)*30/100,0)))))","v":""},"",0,0,"","","","",0,"","","","","","",0,0,0,0,0,"",{"$f":"IF('Marks Entry'!BD23=\"\",\"\",'Marks Entry'!BD23)","v":""},{"$f":"IF('Marks Entry'!BE23=\"\",\"\",'Marks Entry'!BE23)","v":""},{"$f":"IF('Marks Entry'!BF23=\"\",\"\",'Marks Entry'!BF23)","v":""},"","","","","","","","","","","","","","","","","","","","","","","","","","",{"$f":"IF('Student DATA Entry'!I18=\"\",\"\",'Student DATA Entry'!I18)","v":""},{"$f":"IF('Student DATA Entry'!J18=\"\",\"\",'Student DATA Entry'!J18)","v":""},"      ","      ","      ","              "," ","","","","",""]
[17,{"$f":"IF('Marks Entry'!B24=\"\",\"\",VALUE('Marks Entry'!B24))","v":""},{"$f":"IF('Marks Entry'!C24=\"\",\"\",'Marks Entry'!C24)","v":""},{"$f":"IF('Marks Entry'!D24=\"\",\"\",'Marks Entry'!D24)","v":""},{"$f":"IF('Marks Entry'!E24=\"\",\"\",'Marks Entry'!E24)","v":""},{"$f":"IF('Marks Entry'!F24=\"\",\"\",'Marks Entry'!F24)","v":""},{"$f":"IF('Marks Entry'!G24=\"\",\"\",'Marks Entry'!G24)","v":""},{"$f":"IF('Marks Entry'!H24=\"\",\"\",'Marks Entry'!H24)","v":""},{"$f":"IF('Marks Entry'!I24=\"\",\"\",'Marks Entry'!I24)","v":""},{"$f":"IF('Marks Entry'!J24=\"\",\"\",'Marks Entry'!J24)","v":""},{"$f":"IF('Marks Entry'!K24=\"\",\"\",'Marks Entry'!K24)","v":""},{"$f":"IF('Marks Entry'!L24=\"\",\"\",'Marks Entry'!L24)","v":""},"","",{"$f":"IF('Marks Entry'!M24=\"\",\"\",'Marks Entry'!M24)","v":""},"",{"$f":"IF(AND($B22=\"NSO\",$E22=\"\",O22=\"\"),\"\",IF(AND('Marks Entry'!N24=\"AB\"),\"AB\",IF(AND('Marks Entry'!N24=\"ML\"),\"RE\",IF('Marks Entry'!N24=\"\",\"\",ROUNDUP('Marks Entry'!N24*30/100,0)))))","v":""},"",0,0,"","","","",{"$f":"IF('Marks Entry'!O24=\"\",\"\",'Marks Entry'!O24)","v":""},{"$f":"IF('Marks Entry'!P24=\"\",\"\",'Marks Entry'!P24)","v":""},{"$f":"IF('Marks Entry'!Q24=\"\",\"\",'Marks Entry'!Q24)","v":""},"","",{"$f":"IF('Marks Entry'!R24=\"\",\"\",'Marks Entry'!R24)","v":""},"",{"$f":"IF(AND($B22=\"NSO\",$E22=\"\"),\"\",IF(AND('Marks Entry'!S24=\"AB\"),\"AB\",IF(AND('Marks Entry'!S24=\"ML\"),\"RE\",IF('Marks Entry'!S24=\"\",\"\",ROUNDUP('Marks Entry'!S24*30/100,0)))))","v":""},"",0,0,"","","","",{"$f":"IF('Marks Entry'!T24=\"\",\"\",'Marks Entry'!T24)","v":""},{"$f":"IF('Marks Entry'!V24=\"\",\"\",'Marks Entry'!V24)","v":""},{"$f":"IF('Marks Entry'!W24=\"\",\"\",'Marks Entry'!W24)","v":""},{"$f":"IF('Marks Entry'!X24=\"\",\"\",'Marks Entry'!X24)","v":""},"","",{"$f":"IF('Marks Entry'!Y24=\"\",\"\",'Marks Entry'!Y24)","v":""},{"$f":"IF('Marks Entry'!Z24=\"\",\"\",'Marks Entry'!Z24)","v":""},"","",{"$f":"IF(AND($B22=\"NSO\",$E22=\"\"),\"\",IF(AND('Marks Entry'!AA24=\"AB\",'Marks Entry'!AB24=\"AB\"),\"AB\",IF(AND('Marks Entry'!AA24=\"ML\",'Marks Entry'!AB24=\"ML\"),\"RE\",IF('Marks Entry'!AA24=\"\",\"\",ROUNDUP(('Marks Entry'!AA24+'Marks Entry'!AB24)*30/100,0)))))","v":""},"",0,0,"","","","",{"$f":"IF('Marks Entry'!AC24=\"\",\"\",'Marks Entry'!AC24)","v":""},{"$f":"IF('Marks Entry'!AE24=\"\",\"\",'Marks Entry'!AE24)","v":""},{"$f":"IF('Marks Entry'!AF24=\"\",\"\",'Marks Entry'!AF24)","v":""},{"$f":"IF('Marks Entry'!AG24=\"\",\"\",'Marks Entry'!AG24)","v":""},"","",{"$f":"IF('Marks Entry'!AH24=\"\",\"\",'Marks Entry'!AH24)","v":""},{"$f":"IF('Marks Entry'!AI24=\"\",\"\",'Marks Entry'!AI24)","v":""},"","",{"$f":"IF(AND($B22=\"NSO\",$E22=\"\"),\"\",IF(AND('Marks Entry'!AJ24=\"AB\",'Marks Entry'!AK24=\"AB\"),\"AB\",IF(AND('Marks Entry'!AJ24=\"ML\",'Marks Entry'!AK24=\"ML\"),\"RE\",IF('Marks Entry'!AJ24=\"\",\"\",ROUNDUP(('Marks Entry'!AJ24+'Marks Entry'!AK24)*30/100,0)))))","v":""},"",0,0,"","","","",{"$f":"IF('Marks Entry'!AL24=\"\",\"\",'Marks Entry'!AL24)","v":""},{"$f":"IF('Marks Entry'!AN24=\"\",\"\",'Marks Entry'!AN24)","v":""},{"$f":"IF('Marks Entry'!AO24=\"\",\"\",'Marks Entry'!AO24)","v":""},{"$f":"IF('Marks Entry'!AP24=\"\",\"\",'Marks Entry'!AP24)","v":""},"","",{"$f":"IF('Marks Entry'!AQ24=\"\",\"\",'Marks Entry'!AQ24)","v":""},{"$f":"IF('Marks Entry'!AR24=\"\",\"\",'Marks Entry'!AR24)","v":""},"","",{"$f":"IF(AND($B22=\"NSO\",$E22=\"\"),\"\",IF(AND('Marks Entry'!AS24=\"AB\",'Marks Entry'!AT24=\"AB\"),\"AB\",IF(AND('Marks Entry'!AS24=\"ML\",'Marks Entry'!AT24=\"ML\"),\"RE\",IF('Marks Entry'!AS24=\"\",\"\",ROUNDUP(('Marks Entry'!AS24+'Marks Entry'!AT24)*30/100,0)))))","v":""},"",0,0,"","","","",{"$f":"IF('Marks Entry'!AU24=\"\",\"\",'Marks Entry'!AU24)","v":""},{"$f":"IF('Marks Entry'!AW24=\"\",\"\",'Marks Entry'!AW24)","v":""},{"$f":"IF('Marks Entry'!AX24=\"\",\"\",'Marks Entry'!AX24)","v":""},{"$f":"IF('Marks Entry'!AY24=\"\",\"\",'Marks Entry'!AY24)","v":""},"","",{"$f":"IF('Marks Entry'!AZ24=\"\",\"\",'Marks Entry'!AZ24)","v":""},{"$f":"IF('Marks Entry'!BA24=\"\",\"\",'Marks Entry'!BA24)","v":""},"","",{"$f":"IF(AND($B22=\"NSO\",$E22=\"\"),\"\",IF(AND('Marks Entry'!BB24=\"AB\",'Marks Entry'!BC24=\"AB\"),\"AB\",IF(AND('Marks Entry'!BB24=\"ML\",'Marks Entry'!BC24=\"ML\"),\"RE\",IF('Marks Entry'!BB24=\"\",\"\",ROUNDUP(('Marks Entry'!BB24+'Marks Entry'!BC24)*30/100,0)))))","v":""},"",0,0,"","","","",0,"","","","","","",0,0,0,0,0,"",{"$f":"IF('Marks Entry'!BD24=\"\",\"\",'Marks Entry'!BD24)","v":""},{"$f":"IF('Marks Entry'!BE24=\"\",\"\",'Marks Entry'!BE24)","v":""},{"$f":"IF('Marks Entry'!BF24=\"\",\"\",'Marks Entry'!BF24)","v":""},"","","","","","","","","","","","","","","","","","","","","","","","","","",{"$f":"IF('Student DATA Entry'!I19=\"\",\"\",'Student DATA Entry'!I19)","v":""},{"$f":"IF('Student DATA Entry'!J19=\"\",\"\",'Student DATA Entry'!J19)","v":""},"      ","      ","      ","              "," ","","","","",""]
[18,{"$f":"IF('Marks Entry'!B25=\"\",\"\",VALUE('Marks Entry'!B25))","v":""},{"$f":"IF('Marks Entry'!C25=\"\",\"\",'Marks Entry'!C25)","v":""},{"$f":"IF('Marks Entry'!D25=\"\",\"\",'Marks Entry'!D25)","v":""},{"$f":"IF('Marks Entry'!E25=\"\",\"\",'Marks Entry'!E25)","v":""},{"$f":"IF('Marks Entry'!F25=\"\",\"\",'Marks Entry'!F25)","v":""},{"$f":"IF('Marks Entry'!G25=\"\",\"\",'Marks Entry'!G25)","v":""},{"$f":"IF('Marks Entry'!H25=\"\",\"\",'Marks Entry'!H25)","v":""},{"$f":"IF('Marks Entry'!I25=\"\",\"\",'Marks Entry'!I25)","v":""},{"$f":"IF('Marks Entry'!J25=\"\",\"\",'Marks Entry'!J25)","v":""},{"$f":"IF('Marks Entry'!K25=\"\",\"\",'Marks Entry'!K25)","v":""},{"$f":"IF('Marks Entry'!L25=\"\",\"\",'Marks Entry'!L25)","v":""},"","",{"$f":"IF('Marks Entry'!M25=\"\",\"\",'Marks Entry'!M25)","v":""},"",{"$f":"IF(AND($B23=\"NSO\",$E23=\"\",O23=\"\"),\"\",IF(AND('Marks Entry'!N25=\"AB\"),\"AB\",IF(AND('Marks Entry'!N25=\"ML\"),\"RE\",IF('Marks Entry'!N25=\"\",\"\",ROUNDUP('Marks Entry'!N25*30/100,0)))))","v":""},"",0,0,"","","","",{"$f":"IF('Marks Entry'!O25=\"\",\"\",'Marks Entry'!O25)","v":""},{"$f":"IF('Marks Entry'!P25=\"\",\"\",'Marks Entry'!P25)","v":""},{"$f":"IF('Marks Entry'!Q25=\"\",\"\",'Marks Entry'!Q25)","v":""},"","",{"$f":"IF('Marks Entry'!R25=\"\",\"\",'Marks Entry'!R25)","v":""},"",{"$f":"IF(AND($B23=\"NSO\",$E23=\"\"),\"\",IF(AND('Marks Entry'!S25=\"AB\"),\"AB\",IF(AND('Marks Entry'!S25=\"ML\"),\"RE\",IF('Marks Entry'!S25=\"\",\"\",ROUNDUP('Marks Entry'!S25*30/100,0)))))","v":""},"",0,0,"","","","",{"$f":"IF('Marks Entry'!T25=\"\",\"\",'Marks Entry'!T25)","v":""},{"$f":"IF('Marks Entry'!V25=\"\",\"\",'Marks Entry'!V25)","v":""},{"$f":"IF('Marks Entry'!W25=\"\",\"\",'Marks Entry'!W25)","v":""},{"$f":"IF('Marks Entry'!X25=\"\",\"\",'Marks Entry'!X25)","v":""},"","",{"$f":"IF('Marks Entry'!Y25=\"\",\"\",'Marks Entry'!Y25)","v":""},{"$f":"IF('Marks Entry'!Z25=\"\",\"\",'Marks Entry'!Z25)","v":""},"","",{"$f":"IF(AND($B23=\"NSO\",$E23=\"\"),\"\",IF(AND('Marks Entry'!AA25=\"AB\",'Marks Entry'!AB25=\"AB\"),\"AB\",IF(AND('Marks Entry'!AA25=\"ML\",'Marks Entry'!AB25=\"ML\"),\"RE\",IF('Marks Entry'!AA25=\"\",\"\",ROUNDUP(('Marks Entry'!AA25+'Marks Entry'!AB25)*30/100,0)))))","v":""},"",0,0,"","","","",{"$f":"IF('Marks Entry'!AC25=\"\",\"\",'Marks Entry'!AC25)","v":""},{"$f":"IF('Marks Entry'!AE25=\"\",\"\",'Marks Entry'!AE25)","v":""},{"$f":"IF('Marks Entry'!AF25=\"\",\"\",'Marks Entry'!AF25)","v":""},{"$f":"IF('Marks Entry'!AG25=\"\",\"\",'Marks Entry'!AG25)","v":""},"","",{"$f":"IF('Marks Entry'!AH25=\"\",\"\",'Marks Entry'!AH25)","v":""},{"$f":"IF('Marks Entry'!AI25=\"\",\"\",'Marks Entry'!AI25)","v":""},"","",{"$f":"IF(AND($B23=\"NSO\",$E23=\"\"),\"\",IF(AND('Marks Entry'!AJ25=\"AB\",'Marks Entry'!AK25=\"AB\"),\"AB\",IF(AND('Marks Entry'!AJ25=\"ML\",'Marks Entry'!AK25=\"ML\"),\"RE\",IF('Marks Entry'!AJ25=\"\",\"\",ROUNDUP(('Marks Entry'!AJ25+'Marks Entry'!AK25)*30/100,0)))))","v":""},"",0,0,"","","","",{"$f":"IF('Marks Entry'!AL25=\"\",\"\",'Marks Entry'!AL25)","v":""},{"$f":"IF('Marks Entry'!AN25=\"\",\"\",'Marks Entry'!AN25)","v":""},{"$f":"IF('Marks Entry'!AO25=\"\",\"\",'Marks Entry'!AO25)","v":""},{"$f":"IF('Marks Entry'!AP25=\"\",\"\",'Marks Entry'!AP25)","v":""},"","",{"$f":"IF('Marks Entry'!AQ25=\"\",\"\",'Marks Entry'!AQ25)","v":""},{"$f":"IF('Marks Entry'!AR25=\"\",\"\",'Marks Entry'!AR25)","v":""},"","",{"$f":"IF(AND($B23=\"NSO\",$E23=\"\"),\"\",IF(AND('Marks Entry'!AS25=\"AB\",'Marks Entry'!AT25=\"AB\"),\"AB\",IF(AND('Marks Entry'!AS25=\"ML\",'Marks Entry'!AT25=\"ML\"),\"RE\",IF('Marks Entry'!AS25=\"\",\"\",ROUNDUP(('Marks Entry'!AS25+'Marks Entry'!AT25)*30/100,0)))))","v":""},"",0,0,"","","","",{"$f":"IF('Marks Entry'!AU25=\"\",\"\",'Marks Entry'!AU25)","v":""},{"$f":"IF('Marks Entry'!AW25=\"\",\"\",'Marks Entry'!AW25)","v":""},{"$f":"IF('Marks Entry'!AX25=\"\",\"\",'Marks Entry'!AX25)","v":""},{"$f":"IF('Marks Entry'!AY25=\"\",\"\",'Marks Entry'!AY25)","v":""},"","",{"$f":"IF('Marks Entry'!AZ25=\"\",\"\",'Marks Entry'!AZ25)","v":""},{"$f":"IF('Marks Entry'!BA25=\"\",\"\",'Marks Entry'!BA25)","v":""},"","",{"$f":"IF(AND($B23=\"NSO\",$E23=\"\"),\"\",IF(AND('Marks Entry'!BB25=\"AB\",'Marks Entry'!BC25=\"AB\"),\"AB\",IF(AND('Marks Entry'!BB25=\"ML\",'Marks Entry'!BC25=\"ML\"),\"RE\",IF('Marks Entry'!BB25=\"\",\"\",ROUNDUP(('Marks Entry'!BB25+'Marks Entry'!BC25)*30/100,0)))))","v":""},"",0,0,"","","","",0,"","","","","","",0,0,0,0,0,"",{"$f":"IF('Marks Entry'!BD25=\"\",\"\",'Marks Entry'!BD25)","v":""},{"$f":"IF('Marks Entry'!BE25=\"\",\"\",'Marks Entry'!BE25)","v":""},{"$f":"IF('Marks Entry'!BF25=\"\",\"\",'Marks Entry'!BF25)","v":""},"","","","","","","","","","","","","","","","","","","","","","","","","","",{"$f":"IF('Student DATA Entry'!I20=\"\",\"\",'Student DATA Entry'!I20)","v":""},{"$f":"IF('Student DATA Entry'!J20=\"\",\"\",'Student DATA Entry'!J20)","v":""},"      ","      ","      ","              "," ","","","","",""]
[19,{"$f":"IF('Marks Entry'!B26=\"\",\"\",VALUE('Marks Entry'!B26))","v":""},{"$f":"IF('Marks Entry'!C26=\"\",\"\",'Marks Entry'!C26)","v":""},{"$f":"IF('Marks Entry'!D26=\"\",\"\",'Marks Entry'!D26)","v":""},{"$f":"IF('Marks Entry'!E26=\"\",\"\",'Marks Entry'!E26)","v":""},{"$f":"IF('Marks Entry'!F26=\"\",\"\",'Marks Entry'!F26)","v":""},{"$f":"IF('Marks Entry'!G26=\"\",\"\",'Marks Entry'!G26)","v":""},{"$f":"IF('Marks Entry'!H26=\"\",\"\",'Marks Entry'!H26)","v":""},{"$f":"IF('Marks Entry'!I26=\"\",\"\",'Marks Entry'!I26)","v":""},{"$f":"IF('Marks Entry'!J26=\"\",\"\",'Marks Entry'!J26)","v":""},{"$f":"IF('Marks Entry'!K26=\"\",\"\",'Marks Entry'!K26)","v":""},{"$f":"IF('Marks Entry'!L26=\"\",\"\",'Marks Entry'!L26)","v":""},"","",{"$f":"IF('Marks Entry'!M26=\"\",\"\",'Marks Entry'!M26)","v":""},"",{"$f":"IF(AND($B24=\"NSO\",$E24=\"\",O24=\"\"),\"\",IF(AND('Marks Entry'!N26=\"AB\"),\"AB\",IF(AND('Marks Entry'!N26=\"ML\"),\"RE\",IF('Marks Entry'!N26=\"\",\"\",ROUNDUP('Marks Entry'!N26*30/100,0)))))","v":""},"",0,0,"","","","",{"$f":"IF('Marks Entry'!O26=\"\",\"\",'Marks Entry'!O26)","v":""},{"$f":"IF('Marks Entry'!P26=\"\",\"\",'Marks Entry'!P26)","v":""},{"$f":"IF('Marks Entry'!Q26=\"\",\"\",'Marks Entry'!Q26)","v":""},"","",{"$f":"IF('Marks Entry'!R26=\"\",\"\",'Marks Entry'!R26)","v":""},"",{"$f":"IF(AND($B24=\"NSO\",$E24=\"\"),\"\",IF(AND('Marks Entry'!S26=\"AB\"),\"AB\",IF(AND('Marks Entry'!S26=\"ML\"),\"RE\",IF('Marks Entry'!S26=\"\",\"\",ROUNDUP('Marks Entry'!S26*30/100,0)))))","v":""},"",0,0,"","","","",{"$f":"IF('Marks Entry'!T26=\"\",\"\",'Marks Entry'!T26)","v":""},{"$f":"IF('Marks Entry'!V26=\"\",\"\",'Marks Entry'!V26)","v":""},{"$f":"IF('Marks Entry'!W26=\"\",\"\",'Marks Entry'!W26)","v":""},{"$f":"IF('Marks Entry'!X26=\"\",\"\",'Marks Entry'!X26)","v":""},"","",{"$f":"IF('Marks Entry'!Y26=\"\",\"\",'Marks Entry'!Y26)","v":""},{"$f":"IF('Marks Entry'!Z26=\"\",\"\",'Marks Entry'!Z26)","v":""},"","",{"$f":"IF(AND($B24=\"NSO\",$E24=\"\"),\"\",IF(AND('Marks Entry'!AA26=\"AB\",'Marks Entry'!AB26=\"AB\"),\"AB\",IF(AND('Marks Entry'!AA26=\"ML\",'Marks Entry'!AB26=\"ML\"),\"RE\",IF('Marks Entry'!AA26=\"\",\"\",ROUNDUP(('Marks Entry'!AA26+'Marks Entry'!AB26)*30/100,0)))))","v":""},"",0,0,"","","","",{"$f":"IF('Marks Entry'!AC26=\"\",\"\",'Marks Entry'!AC26)","v":""},{"$f":"IF('Marks Entry'!AE26=\"\",\"\",'Marks Entry'!AE26)","v":""},{"$f":"IF('Marks Entry'!AF26=\"\",\"\",'Marks Entry'!AF26)","v":""},{"$f":"IF('Marks Entry'!AG26=\"\",\"\",'Marks Entry'!AG26)","v":""},"","",{"$f":"IF('Marks Entry'!AH26=\"\",\"\",'Marks Entry'!AH26)","v":""},{"$f":"IF('Marks Entry'!AI26=\"\",\"\",'Marks Entry'!AI26)","v":""},"","",{"$f":"IF(AND($B24=\"NSO\",$E24=\"\"),\"\",IF(AND('Marks Entry'!AJ26=\"AB\",'Marks Entry'!AK26=\"AB\"),\"AB\",IF(AND('Marks Entry'!AJ26=\"ML\",'Marks Entry'!AK26=\"ML\"),\"RE\",IF('Marks Entry'!AJ26=\"\",\"\",ROUNDUP(('Marks Entry'!AJ26+'Marks Entry'!AK26)*30/100,0)))))","v":""},"",0,0,"","","","",{"$f":"IF('Marks Entry'!AL26=\"\",\"\",'Marks Entry'!AL26)","v":""},{"$f":"IF('Marks Entry'!AN26=\"\",\"\",'Marks Entry'!AN26)","v":""},{"$f":"IF('Marks Entry'!AO26=\"\",\"\",'Marks Entry'!AO26)","v":""},{"$f":"IF('Marks Entry'!AP26=\"\",\"\",'Marks Entry'!AP26)","v":""},"","",{"$f":"IF('Marks Entry'!AQ26=\"\",\"\",'Marks Entry'!AQ26)","v":""},{"$f":"IF('Marks Entry'!AR26=\"\",\"\",'Marks Entry'!AR26)","v":""},"","",{"$f":"IF(AND($B24=\"NSO\",$E24=\"\"),\"\",IF(AND('Marks Entry'!AS26=\"AB\",'Marks Entry'!AT26=\"AB\"),\"AB\",IF(AND('Marks Entry'!AS26=\"ML\",'Marks Entry'!AT26=\"ML\"),\"RE\",IF('Marks Entry'!AS26=\"\",\"\",ROUNDUP(('Marks Entry'!AS26+'Marks Entry'!AT26)*30/100,0)))))","v":""},"",0,0,"","","","",{"$f":"IF('Marks Entry'!AU26=\"\",\"\",'Marks Entry'!AU26)","v":""},{"$f":"IF('Marks Entry'!AW26=\"\",\"\",'Marks Entry'!AW26)","v":""},{"$f":"IF('Marks Entry'!AX26=\"\",\"\",'Marks Entry'!AX26)","v":""},{"$f":"IF('Marks Entry'!AY26=\"\",\"\",'Marks Entry'!AY26)","v":""},"","",{"$f":"IF('Marks Entry'!AZ26=\"\",\"\",'Marks Entry'!AZ26)","v":""},{"$f":"IF('Marks Entry'!BA26=\"\",\"\",'Marks Entry'!BA26)","v":""},"","",{"$f":"IF(AND($B24=\"NSO\",$E24=\"\"),\"\",IF(AND('Marks Entry'!BB26=\"AB\",'Marks Entry'!BC26=\"AB\"),\"AB\",IF(AND('Marks Entry'!BB26=\"ML\",'Marks Entry'!BC26=\"ML\"),\"RE\",IF('Marks Entry'!BB26=\"\",\"\",ROUNDUP(('Marks Entry'!BB26+'Marks Entry'!BC26)*30/100,0)))))","v":""},"",0,0,"","","","",0,"","","","","","",0,0,0,0,0,"",{"$f":"IF('Marks Entry'!BD26=\"\",\"\",'Marks Entry'!BD26)","v":""},{"$f":"IF('Marks Entry'!BE26=\"\",\"\",'Marks Entry'!BE26)","v":""},{"$f":"IF('Marks Entry'!BF26=\"\",\"\",'Marks Entry'!BF26)","v":""},"","","","","","","","","","","","","","","","","","","","","","","","","","",{"$f":"IF('Student DATA Entry'!I21=\"\",\"\",'Student DATA Entry'!I21)","v":""},{"$f":"IF('Student DATA Entry'!J21=\"\",\"\",'Student DATA Entry'!J21)","v":""},"      ","      ","      ","              "," ","","","","",""]
[20,{"$f":"IF('Marks Entry'!B27=\"\",\"\",VALUE('Marks Entry'!B27))","v":""},{"$f":"IF('Marks Entry'!C27=\"\",\"\",'Marks Entry'!C27)","v":""},{"$f":"IF('Marks Entry'!D27=\"\",\"\",'Marks Entry'!D27)","v":""},{"$f":"IF('Marks Entry'!E27=\"\",\"\",'Marks Entry'!E27)","v":""},{"$f":"IF('Marks Entry'!F27=\"\",\"\",'Marks Entry'!F27)","v":""},{"$f":"IF('Marks Entry'!G27=\"\",\"\",'Marks Entry'!G27)","v":""},{"$f":"IF('Marks Entry'!H27=\"\",\"\",'Marks Entry'!H27)","v":""},{"$f":"IF('Marks Entry'!I27=\"\",\"\",'Marks Entry'!I27)","v":""},{"$f":"IF('Marks Entry'!J27=\"\",\"\",'Marks Entry'!J27)","v":""},{"$f":"IF('Marks Entry'!K27=\"\",\"\",'Marks Entry'!K27)","v":""},{"$f":"IF('Marks Entry'!L27=\"\",\"\",'Marks Entry'!L27)","v":""},"","",{"$f":"IF('Marks Entry'!M27=\"\",\"\",'Marks Entry'!M27)","v":""},"",{"$f":"IF(AND($B25=\"NSO\",$E25=\"\",O25=\"\"),\"\",IF(AND('Marks Entry'!N27=\"AB\"),\"AB\",IF(AND('Marks Entry'!N27=\"ML\"),\"RE\",IF('Marks Entry'!N27=\"\",\"\",ROUNDUP('Marks Entry'!N27*30/100,0)))))","v":""},"",0,0,"","","","",{"$f":"IF('Marks Entry'!O27=\"\",\"\",'Marks Entry'!O27)","v":""},{"$f":"IF('Marks Entry'!P27=\"\",\"\",'Marks Entry'!P27)","v":""},{"$f":"IF('Marks Entry'!Q27=\"\",\"\",'Marks Entry'!Q27)","v":""},"","",{"$f":"IF('Marks Entry'!R27=\"\",\"\",'Marks Entry'!R27)","v":""},"",{"$f":"IF(AND($B25=\"NSO\",$E25=\"\"),\"\",IF(AND('Marks Entry'!S27=\"AB\"),\"AB\",IF(AND('Marks Entry'!S27=\"ML\"),\"RE\",IF('Marks Entry'!S27=\"\",\"\",ROUNDUP('Marks Entry'!S27*30/100,0)))))","v":""},"",0,0,"","","","",{"$f":"IF('Marks Entry'!T27=\"\",\"\",'Marks Entry'!T27)","v":""},{"$f":"IF('Marks Entry'!V27=\"\",\"\",'Marks Entry'!V27)","v":""},{"$f":"IF('Marks Entry'!W27=\"\",\"\",'Marks Entry'!W27)","v":""},{"$f":"IF('Marks Entry'!X27=\"\",\"\",'Marks Entry'!X27)","v":""},"","",{"$f":"IF('Marks Entry'!Y27=\"\",\"\",'Marks Entry'!Y27)","v":""},{"$f":"IF('Marks Entry'!Z27=\"\",\"\",'Marks Entry'!Z27)","v":""},"","",{"$f":"IF(AND($B25=\"NSO\",$E25=\"\"),\"\",IF(AND('Marks Entry'!AA27=\"AB\",'Marks Entry'!AB27=\"AB\"),\"AB\",IF(AND('Marks Entry'!AA27=\"ML\",'Marks Entry'!AB27=\"ML\"),\"RE\",IF('Marks Entry'!AA27=\"\",\"\",ROUNDUP(('Marks Entry'!AA27+'Marks Entry'!AB27)*30/100,0)))))","v":""},"",0,0,"","","","",{"$f":"IF('Marks Entry'!AC27=\"\",\"\",'Marks Entry'!AC27)","v":""},{"$f":"IF('Marks Entry'!AE27=\"\",\"\",'Marks Entry'!AE27)","v":""},{"$f":"IF('Marks Entry'!AF27=\"\",\"\",'Marks Entry'!AF27)","v":""},{"$f":"IF('Marks Entry'!AG27=\"\",\"\",'Marks Entry'!AG27)","v":""},"","",{"$f":"IF('Marks Entry'!AH27=\"\",\"\",'Marks Entry'!AH27)","v":""},{"$f":"IF('Marks Entry'!AI27=\"\",\"\",'Marks Entry'!AI27)","v":""},"","",{"$f":"IF(AND($B25=\"NSO\",$E25=\"\"),\"\",IF(AND('Marks Entry'!AJ27=\"AB\",'Marks Entry'!AK27=\"AB\"),\"AB\",IF(AND('Marks Entry'!AJ27=\"ML\",'Marks Entry'!AK27=\"ML\"),\"RE\",IF('Marks Entry'!AJ27=\"\",\"\",ROUNDUP(('Marks Entry'!AJ27+'Marks Entry'!AK27)*30/100,0)))))","v":""},"",0,0,"","","","",{"$f":"IF('Marks Entry'!AL27=\"\",\"\",'Marks Entry'!AL27)","v":""},{"$f":"IF('Marks Entry'!AN27=\"\",\"\",'Marks Entry'!AN27)","v":""},{"$f":"IF('Marks Entry'!AO27=\"\",\"\",'Marks Entry'!AO27)","v":""},{"$f":"IF('Marks Entry'!AP27=\"\",\"\",'Marks Entry'!AP27)","v":""},"","",{"$f":"IF('Marks Entry'!AQ27=\"\",\"\",'Marks Entry'!AQ27)","v":""},{"$f":"IF('Marks Entry'!AR27=\"\",\"\",'Marks Entry'!AR27)","v":""},"","",{"$f":"IF(AND($B25=\"NSO\",$E25=\"\"),\"\",IF(AND('Marks Entry'!AS27=\"AB\",'Marks Entry'!AT27=\"AB\"),\"AB\",IF(AND('Marks Entry'!AS27=\"ML\",'Marks Entry'!AT27=\"ML\"),\"RE\",IF('Marks Entry'!AS27=\"\",\"\",ROUNDUP(('Marks Entry'!AS27+'Marks Entry'!AT27)*30/100,0)))))","v":""},"",0,0,"","","","",{"$f":"IF('Marks Entry'!AU27=\"\",\"\",'Marks Entry'!AU27)","v":""},{"$f":"IF('Marks Entry'!AW27=\"\",\"\",'Marks Entry'!AW27)","v":""},{"$f":"IF('Marks Entry'!AX27=\"\",\"\",'Marks Entry'!AX27)","v":""},{"$f":"IF('Marks Entry'!AY27=\"\",\"\",'Marks Entry'!AY27)","v":""},"","",{"$f":"IF('Marks Entry'!AZ27=\"\",\"\",'Marks Entry'!AZ27)","v":""},{"$f":"IF('Marks Entry'!BA27=\"\",\"\",'Marks Entry'!BA27)","v":""},"","",{"$f":"IF(AND($B25=\"NSO\",$E25=\"\"),\"\",IF(AND('Marks Entry'!BB27=\"AB\",'Marks Entry'!BC27=\"AB\"),\"AB\",IF(AND('Marks Entry'!BB27=\"ML\",'Marks Entry'!BC27=\"ML\"),\"RE\",IF('Marks Entry'!BB27=\"\",\"\",ROUNDUP(('Marks Entry'!BB27+'Marks Entry'!BC27)*30/100,0)))))","v":""},"",0,0,"","","","",0,"","","","","","",0,0,0,0,0,"",{"$f":"IF('Marks Entry'!BD27=\"\",\"\",'Marks Entry'!BD27)","v":""},{"$f":"IF('Marks Entry'!BE27=\"\",\"\",'Marks Entry'!BE27)","v":""},{"$f":"IF('Marks Entry'!BF27=\"\",\"\",'Marks Entry'!BF27)","v":""},"","","","","","","","","","","","","","","","","","","","","","","","","","",{"$f":"IF('Student DATA Entry'!I22=\"\",\"\",'Student DATA Entry'!I22)","v":""},{"$f":"IF('Student DATA Entry'!J22=\"\",\"\",'Student DATA Entry'!J22)","v":""},"      ","      ","      ","              "," ","","","","",""]
[21,{"$f":"IF('Marks Entry'!B28=\"\",\"\",VALUE('Marks Entry'!B28))","v":""},{"$f":"IF('Marks Entry'!C28=\"\",\"\",'Marks Entry'!C28)","v":""},{"$f":"IF('Marks Entry'!D28=\"\",\"\",'Marks Entry'!D28)","v":""},{"$f":"IF('Marks Entry'!E28=\"\",\"\",'Marks Entry'!E28)","v":""},{"$f":"IF('Marks Entry'!F28=\"\",\"\",'Marks Entry'!F28)","v":""},{"$f":"IF('Marks Entry'!G28=\"\",\"\",'Marks Entry'!G28)","v":""},{"$f":"IF('Marks Entry'!H28=\"\",\"\",'Marks Entry'!H28)","v":""},{"$f":"IF('Marks Entry'!I28=\"\",\"\",'Marks Entry'!I28)","v":""},{"$f":"IF('Marks Entry'!J28=\"\",\"\",'Marks Entry'!J28)","v":""},{"$f":"IF('Marks Entry'!K28=\"\",\"\",'Marks Entry'!K28)","v":""},{"$f":"IF('Marks Entry'!L28=\"\",\"\",'Marks Entry'!L28)","v":""},"","",{"$f":"IF('Marks Entry'!M28=\"\",\"\",'Marks Entry'!M28)","v":""},"",{"$f":"IF(AND($B26=\"NSO\",$E26=\"\",O26=\"\"),\"\",IF(AND('Marks Entry'!N28=\"AB\"),\"AB\",IF(AND('Marks Entry'!N28=\"ML\"),\"RE\",IF('Marks Entry'!N28=\"\",\"\",ROUNDUP('Marks Entry'!N28*30/100,0)))))","v":""},"",0,0,"","","","",{"$f":"IF('Marks Entry'!O28=\"\",\"\",'Marks Entry'!O28)","v":""},{"$f":"IF('Marks Entry'!P28=\"\",\"\",'Marks Entry'!P28)","v":""},{"$f":"IF('Marks Entry'!Q28=\"\",\"\",'Marks Entry'!Q28)","v":""},"","",{"$f":"IF('Marks Entry'!R28=\"\",\"\",'Marks Entry'!R28)","v":""},"",{"$f":"IF(AND($B26=\"NSO\",$E26=\"\"),\"\",IF(AND('Marks Entry'!S28=\"AB\"),\"AB\",IF(AND('Marks Entry'!S28=\"ML\"),\"RE\",IF('Marks Entry'!S28=\"\",\"\",ROUNDUP('Marks Entry'!S28*30/100,0)))))","v":""},"",0,0,"","","","",{"$f":"IF('Marks Entry'!T28=\"\",\"\",'Marks Entry'!T28)","v":""},{"$f":"IF('Marks Entry'!V28=\"\",\"\",'Marks Entry'!V28)","v":""},{"$f":"IF('Marks Entry'!W28=\"\",\"\",'Marks Entry'!W28)","v":""},{"$f":"IF('Marks Entry'!X28=\"\",\"\",'Marks Entry'!X28)","v":""},"","",{"$f":"IF('Marks Entry'!Y28=\"\",\"\",'Marks Entry'!Y28)","v":""},{"$f":"IF('Marks Entry'!Z28=\"\",\"\",'Marks Entry'!Z28)","v":""},"","",{"$f":"IF(AND($B26=\"NSO\",$E26=\"\"),\"\",IF(AND('Marks Entry'!AA28=\"AB\",'Marks Entry'!AB28=\"AB\"),\"AB\",IF(AND('Marks Entry'!AA28=\"ML\",'Marks Entry'!AB28=\"ML\"),\"RE\",IF('Marks Entry'!AA28=\"\",\"\",ROUNDUP(('Marks Entry'!AA28+'Marks Entry'!AB28)*30/100,0)))))","v":""},"",0,0,"","","","",{"$f":"IF('Marks Entry'!AC28=\"\",\"\",'Marks Entry'!AC28)","v":""},{"$f":"IF('Marks Entry'!AE28=\"\",\"\",'Marks Entry'!AE28)","v":""},{"$f":"IF('Marks Entry'!AF28=\"\",\"\",'Marks Entry'!AF28)","v":""},{"$f":"IF('Marks Entry'!AG28=\"\",\"\",'Marks Entry'!AG28)","v":""},"","",{"$f":"IF('Marks Entry'!AH28=\"\",\"\",'Marks Entry'!AH28)","v":""},{"$f":"IF('Marks Entry'!AI28=\"\",\"\",'Marks Entry'!AI28)","v":""},"","",{"$f":"IF(AND($B26=\"NSO\",$E26=\"\"),\"\",IF(AND('Marks Entry'!AJ28=\"AB\",'Marks Entry'!AK28=\"AB\"),\"AB\",IF(AND('Marks Entry'!AJ28=\"ML\",'Marks Entry'!AK28=\"ML\"),\"RE\",IF('Marks Entry'!AJ28=\"\",\"\",ROUNDUP(('Marks Entry'!AJ28+'Marks Entry'!AK28)*30/100,0)))))","v":""},"",0,0,"","","","",{"$f":"IF('Marks Entry'!AL28=\"\",\"\",'Marks Entry'!AL28)","v":""},{"$f":"IF('Marks Entry'!AN28=\"\",\"\",'Marks Entry'!AN28)","v":""},{"$f":"IF('Marks Entry'!AO28=\"\",\"\",'Marks Entry'!AO28)","v":""},{"$f":"IF('Marks Entry'!AP28=\"\",\"\",'Marks Entry'!AP28)","v":""},"","",{"$f":"IF('Marks Entry'!AQ28=\"\",\"\",'Marks Entry'!AQ28)","v":""},{"$f":"IF('Marks Entry'!AR28=\"\",\"\",'Marks Entry'!AR28)","v":""},"","",{"$f":"IF(AND($B26=\"NSO\",$E26=\"\"),\"\",IF(AND('Marks Entry'!AS28=\"AB\",'Marks Entry'!AT28=\"AB\"),\"AB\",IF(AND('Marks Entry'!AS28=\"ML\",'Marks Entry'!AT28=\"ML\"),\"RE\",IF('Marks Entry'!AS28=\"\",\"\",ROUNDUP(('Marks Entry'!AS28+'Marks Entry'!AT28)*30/100,0)))))","v":""},"",0,0,"","","","",{"$f":"IF('Marks Entry'!AU28=\"\",\"\",'Marks Entry'!AU28)","v":""},{"$f":"IF('Marks Entry'!AW28=\"\",\"\",'Marks Entry'!AW28)","v":""},{"$f":"IF('Marks Entry'!AX28=\"\",\"\",'Marks Entry'!AX28)","v":""},{"$f":"IF('Marks Entry'!AY28=\"\",\"\",'Marks Entry'!AY28)","v":""},"","",{"$f":"IF('Marks Entry'!AZ28=\"\",\"\",'Marks Entry'!AZ28)","v":""},{"$f":"IF('Marks Entry'!BA28=\"\",\"\",'Marks Entry'!BA28)","v":""},"","",{"$f":"IF(AND($B26=\"NSO\",$E26=\"\"),\"\",IF(AND('Marks Entry'!BB28=\"AB\",'Marks Entry'!BC28=\"AB\"),\"AB\",IF(AND('Marks Entry'!BB28=\"ML\",'Marks Entry'!BC28=\"ML\"),\"RE\",IF('Marks Entry'!BB28=\"\",\"\",ROUNDUP(('Marks Entry'!BB28+'Marks Entry'!BC28)*30/100,0)))))","v":""},"",0,0,"","","","",0,"","","","","","",0,0,0,0,0,"",{"$f":"IF('Marks Entry'!BD28=\"\",\"\",'Marks Entry'!BD28)","v":""},{"$f":"IF('Marks Entry'!BE28=\"\",\"\",'Marks Entry'!BE28)","v":""},{"$f":"IF('Marks Entry'!BF28=\"\",\"\",'Marks Entry'!BF28)","v":""},"","","","","","","","","","","","","","","","","","","","","","","","","","",{"$f":"IF('Student DATA Entry'!I23=\"\",\"\",'Student DATA Entry'!I23)","v":""},{"$f":"IF('Student DATA Entry'!J23=\"\",\"\",'Student DATA Entry'!J23)","v":""},"      ","      ","      ","              "," ","","","","",""]
[22,{"$f":"IF('Marks Entry'!B29=\"\",\"\",VALUE('Marks Entry'!B29))","v":""},{"$f":"IF('Marks Entry'!C29=\"\",\"\",'Marks Entry'!C29)","v":""},{"$f":"IF('Marks Entry'!D29=\"\",\"\",'Marks Entry'!D29)","v":""},{"$f":"IF('Marks Entry'!E29=\"\",\"\",'Marks Entry'!E29)","v":""},{"$f":"IF('Marks Entry'!F29=\"\",\"\",'Marks Entry'!F29)","v":""},{"$f":"IF('Marks Entry'!G29=\"\",\"\",'Marks Entry'!G29)","v":""},{"$f":"IF('Marks Entry'!H29=\"\",\"\",'Marks Entry'!H29)","v":""},{"$f":"IF('Marks Entry'!I29=\"\",\"\",'Marks Entry'!I29)","v":""},{"$f":"IF('Marks Entry'!J29=\"\",\"\",'Marks Entry'!J29)","v":""},{"$f":"IF('Marks Entry'!K29=\"\",\"\",'Marks Entry'!K29)","v":""},{"$f":"IF('Marks Entry'!L29=\"\",\"\",'Marks Entry'!L29)","v":""},"","",{"$f":"IF('Marks Entry'!M29=\"\",\"\",'Marks Entry'!M29)","v":""},"",{"$f":"IF(AND($B27=\"NSO\",$E27=\"\",O27=\"\"),\"\",IF(AND('Marks Entry'!N29=\"AB\"),\"AB\",IF(AND('Marks Entry'!N29=\"ML\"),\"RE\",IF('Marks Entry'!N29=\"\",\"\",ROUNDUP('Marks Entry'!N29*30/100,0)))))","v":""},"",0,0,"","","","",{"$f":"IF('Marks Entry'!O29=\"\",\"\",'Marks Entry'!O29)","v":""},{"$f":"IF('Marks Entry'!P29=\"\",\"\",'Marks Entry'!P29)","v":""},{"$f":"IF('Marks Entry'!Q29=\"\",\"\",'Marks Entry'!Q29)","v":""},"","",{"$f":"IF('Marks Entry'!R29=\"\",\"\",'Marks Entry'!R29)","v":""},"",{"$f":"IF(AND($B27=\"NSO\",$E27=\"\"),\"\",IF(AND('Marks Entry'!S29=\"AB\"),\"AB\",IF(AND('Marks Entry'!S29=\"ML\"),\"RE\",IF('Marks Entry'!S29=\"\",\"\",ROUNDUP('Marks Entry'!S29*30/100,0)))))","v":""},"",0,0,"","","","",{"$f":"IF('Marks Entry'!T29=\"\",\"\",'Marks Entry'!T29)","v":""},{"$f":"IF('Marks Entry'!V29=\"\",\"\",'Marks Entry'!V29)","v":""},{"$f":"IF('Marks Entry'!W29=\"\",\"\",'Marks Entry'!W29)","v":""},{"$f":"IF('Marks Entry'!X29=\"\",\"\",'Marks Entry'!X29)","v":""},"","",{"$f":"IF('Marks Entry'!Y29=\"\",\"\",'Marks Entry'!Y29)","v":""},{"$f":"IF('Marks Entry'!Z29=\"\",\"\",'Marks Entry'!Z29)","v":""},"","",{"$f":"IF(AND($B27=\"NSO\",$E27=\"\"),\"\",IF(AND('Marks Entry'!AA29=\"AB\",'Marks Entry'!AB29=\"AB\"),\"AB\",IF(AND('Marks Entry'!AA29=\"ML\",'Marks Entry'!AB29=\"ML\"),\"RE\",IF('Marks Entry'!AA29=\"\",\"\",ROUNDUP(('Marks Entry'!AA29+'Marks Entry'!AB29)*30/100,0)))))","v":""},"",0,0,"","","","",{"$f":"IF('Marks Entry'!AC29=\"\",\"\",'Marks Entry'!AC29)","v":""},{"$f":"IF('Marks Entry'!AE29=\"\",\"\",'Marks Entry'!AE29)","v":""},{"$f":"IF('Marks Entry'!AF29=\"\",\"\",'Marks Entry'!AF29)","v":""},{"$f":"IF('Marks Entry'!AG29=\"\",\"\",'Marks Entry'!AG29)","v":""},"","",{"$f":"IF('Marks Entry'!AH29=\"\",\"\",'Marks Entry'!AH29)","v":""},{"$f":"IF('Marks Entry'!AI29=\"\",\"\",'Marks Entry'!AI29)","v":""},"","",{"$f":"IF(AND($B27=\"NSO\",$E27=\"\"),\"\",IF(AND('Marks Entry'!AJ29=\"AB\",'Marks Entry'!AK29=\"AB\"),\"AB\",IF(AND('Marks Entry'!AJ29=\"ML\",'Marks Entry'!AK29=\"ML\"),\"RE\",IF('Marks Entry'!AJ29=\"\",\"\",ROUNDUP(('Marks Entry'!AJ29+'Marks Entry'!AK29)*30/100,0)))))","v":""},"",0,0,"","","","",{"$f":"IF('Marks Entry'!AL29=\"\",\"\",'Marks Entry'!AL29)","v":""},{"$f":"IF('Marks Entry'!AN29=\"\",\"\",'Marks Entry'!AN29)","v":""},{"$f":"IF('Marks Entry'!AO29=\"\",\"\",'Marks Entry'!AO29)","v":""},{"$f":"IF('Marks Entry'!AP29=\"\",\"\",'Marks Entry'!AP29)","v":""},"","",{"$f":"IF('Marks Entry'!AQ29=\"\",\"\",'Marks Entry'!AQ29)","v":""},{"$f":"IF('Marks Entry'!AR29=\"\",\"\",'Marks Entry'!AR29)","v":""},"","",{"$f":"IF(AND($B27=\"NSO\",$E27=\"\"),\"\",IF(AND('Marks Entry'!AS29=\"AB\",'Marks Entry'!AT29=\"AB\"),\"AB\",IF(AND('Marks Entry'!AS29=\"ML\",'Marks Entry'!AT29=\"ML\"),\"RE\",IF('Marks Entry'!AS29=\"\",\"\",ROUNDUP(('Marks Entry'!AS29+'Marks Entry'!AT29)*30/100,0)))))","v":""},"",0,0,"","","","",{"$f":"IF('Marks Entry'!AU29=\"\",\"\",'Marks Entry'!AU29)","v":""},{"$f":"IF('Marks Entry'!AW29=\"\",\"\",'Marks Entry'!AW29)","v":""},{"$f":"IF('Marks Entry'!AX29=\"\",\"\",'Marks Entry'!AX29)","v":""},{"$f":"IF('Marks Entry'!AY29=\"\",\"\",'Marks Entry'!AY29)","v":""},"","",{"$f":"IF('Marks Entry'!AZ29=\"\",\"\",'Marks Entry'!AZ29)","v":""},{"$f":"IF('Marks Entry'!BA29=\"\",\"\",'Marks Entry'!BA29)","v":""},"","",{"$f":"IF(AND($B27=\"NSO\",$E27=\"\"),\"\",IF(AND('Marks Entry'!BB29=\"AB\",'Marks Entry'!BC29=\"AB\"),\"AB\",IF(AND('Marks Entry'!BB29=\"ML\",'Marks Entry'!BC29=\"ML\"),\"RE\",IF('Marks Entry'!BB29=\"\",\"\",ROUNDUP(('Marks Entry'!BB29+'Marks Entry'!BC29)*30/100,0)))))","v":""},"",0,0,"","","","",0,"","","","","","",0,0,0,0,0,"",{"$f":"IF('Marks Entry'!BD29=\"\",\"\",'Marks Entry'!BD29)","v":""},{"$f":"IF('Marks Entry'!BE29=\"\",\"\",'Marks Entry'!BE29)","v":""},{"$f":"IF('Marks Entry'!BF29=\"\",\"\",'Marks Entry'!BF29)","v":""},"","","","","","","","","","","","","","","","","","","","","","","","","","",{"$f":"IF('Student DATA Entry'!I24=\"\",\"\",'Student DATA Entry'!I24)","v":""},{"$f":"IF('Student DATA Entry'!J24=\"\",\"\",'Student DATA Entry'!J24)","v":""},"      ","      ","      ","              "," ","","","","",""]
[23,{"$f":"IF('Marks Entry'!B30=\"\",\"\",VALUE('Marks Entry'!B30))","v":""},{"$f":"IF('Marks Entry'!C30=\"\",\"\",'Marks Entry'!C30)","v":""},{"$f":"IF('Marks Entry'!D30=\"\",\"\",'Marks Entry'!D30)","v":""},{"$f":"IF('Marks Entry'!E30=\"\",\"\",'Marks Entry'!E30)","v":""},{"$f":"IF('Marks Entry'!F30=\"\",\"\",'Marks Entry'!F30)","v":""},{"$f":"IF('Marks Entry'!G30=\"\",\"\",'Marks Entry'!G30)","v":""},{"$f":"IF('Marks Entry'!H30=\"\",\"\",'Marks Entry'!H30)","v":""},{"$f":"IF('Marks Entry'!I30=\"\",\"\",'Marks Entry'!I30)","v":""},{"$f":"IF('Marks Entry'!J30=\"\",\"\",'Marks Entry'!J30)","v":""},{"$f":"IF('Marks Entry'!K30=\"\",\"\",'Marks Entry'!K30)","v":""},{"$f":"IF('Marks Entry'!L30=\"\",\"\",'Marks Entry'!L30)","v":""},"","",{"$f":"IF('Marks Entry'!M30=\"\",\"\",'Marks Entry'!M30)","v":""},"",{"$f":"IF(AND($B28=\"NSO\",$E28=\"\",O28=\"\"),\"\",IF(AND('Marks Entry'!N30=\"AB\"),\"AB\",IF(AND('Marks Entry'!N30=\"ML\"),\"RE\",IF('Marks Entry'!N30=\"\",\"\",ROUNDUP('Marks Entry'!N30*30/100,0)))))","v":""},"",0,0,"","","","",{"$f":"IF('Marks Entry'!O30=\"\",\"\",'Marks Entry'!O30)","v":""},{"$f":"IF('Marks Entry'!P30=\"\",\"\",'Marks Entry'!P30)","v":""},{"$f":"IF('Marks Entry'!Q30=\"\",\"\",'Marks Entry'!Q30)","v":""},"","",{"$f":"IF('Marks Entry'!R30=\"\",\"\",'Marks Entry'!R30)","v":""},"",{"$f":"IF(AND($B28=\"NSO\",$E28=\"\"),\"\",IF(AND('Marks Entry'!S30=\"AB\"),\"AB\",IF(AND('Marks Entry'!S30=\"ML\"),\"RE\",IF('Marks Entry'!S30=\"\",\"\",ROUNDUP('Marks Entry'!S30*30/100,0)))))","v":""},"",0,0,"","","","",{"$f":"IF('Marks Entry'!T30=\"\",\"\",'Marks Entry'!T30)","v":""},{"$f":"IF('Marks Entry'!V30=\"\",\"\",'Marks Entry'!V30)","v":""},{"$f":"IF('Marks Entry'!W30=\"\",\"\",'Marks Entry'!W30)","v":""},{"$f":"IF('Marks Entry'!X30=\"\",\"\",'Marks Entry'!X30)","v":""},"","",{"$f":"IF('Marks Entry'!Y30=\"\",\"\",'Marks Entry'!Y30)","v":""},{"$f":"IF('Marks Entry'!Z30=\"\",\"\",'Marks Entry'!Z30)","v":""},"","",{"$f":"IF(AND($B28=\"NSO\",$E28=\"\"),\"\",IF(AND('Marks Entry'!AA30=\"AB\",'Marks Entry'!AB30=\"AB\"),\"AB\",IF(AND('Marks Entry'!AA30=\"ML\",'Marks Entry'!AB30=\"ML\"),\"RE\",IF('Marks Entry'!AA30=\"\",\"\",ROUNDUP(('Marks Entry'!AA30+'Marks Entry'!AB30)*30/100,0)))))","v":""},"",0,0,"","","","",{"$f":"IF('Marks Entry'!AC30=\"\",\"\",'Marks Entry'!AC30)","v":""},{"$f":"IF('Marks Entry'!AE30=\"\",\"\",'Marks Entry'!AE30)","v":""},{"$f":"IF('Marks Entry'!AF30=\"\",\"\",'Marks Entry'!AF30)","v":""},{"$f":"IF('Marks Entry'!AG30=\"\",\"\",'Marks Entry'!AG30)","v":""},"","",{"$f":"IF('Marks Entry'!AH30=\"\",\"\",'Marks Entry'!AH30)","v":""},{"$f":"IF('Marks Entry'!AI30=\"\",\"\",'Marks Entry'!AI30)","v":""},"","",{"$f":"IF(AND($B28=\"NSO\",$E28=\"\"),\"\",IF(AND('Marks Entry'!AJ30=\"AB\",'Marks Entry'!AK30=\"AB\"),\"AB\",IF(AND('Marks Entry'!AJ30=\"ML\",'Marks Entry'!AK30=\"ML\"),\"RE\",IF('Marks Entry'!AJ30=\"\",\"\",ROUNDUP(('Marks Entry'!AJ30+'Marks Entry'!AK30)*30/100,0)))))","v":""},"",0,0,"","","","",{"$f":"IF('Marks Entry'!AL30=\"\",\"\",'Marks Entry'!AL30)","v":""},{"$f":"IF('Marks Entry'!AN30=\"\",\"\",'Marks Entry'!AN30)","v":""},{"$f":"IF('Marks Entry'!AO30=\"\",\"\",'Marks Entry'!AO30)","v":""},{"$f":"IF('Marks Entry'!AP30=\"\",\"\",'Marks Entry'!AP30)","v":""},"","",{"$f":"IF('Marks Entry'!AQ30=\"\",\"\",'Marks Entry'!AQ30)","v":""},{"$f":"IF('Marks Entry'!AR30=\"\",\"\",'Marks Entry'!AR30)","v":""},"","",{"$f":"IF(AND($B28=\"NSO\",$E28=\"\"),\"\",IF(AND('Marks Entry'!AS30=\"AB\",'Marks Entry'!AT30=\"AB\"),\"AB\",IF(AND('Marks Entry'!AS30=\"ML\",'Marks Entry'!AT30=\"ML\"),\"RE\",IF('Marks Entry'!AS30=\"\",\"\",ROUNDUP(('Marks Entry'!AS30+'Marks Entry'!AT30)*30/100,0)))))","v":""},"",0,0,"","","","",{"$f":"IF('Marks Entry'!AU30=\"\",\"\",'Marks Entry'!AU30)","v":""},{"$f":"IF('Marks Entry'!AW30=\"\",\"\",'Marks Entry'!AW30)","v":""},{"$f":"IF('Marks Entry'!AX30=\"\",\"\",'Marks Entry'!AX30)","v":""},{"$f":"IF('Marks Entry'!AY30=\"\",\"\",'Marks Entry'!AY30)","v":""},"","",{"$f":"IF('Marks Entry'!AZ30=\"\",\"\",'Marks Entry'!AZ30)","v":""},{"$f":"IF('Marks Entry'!BA30=\"\",\"\",'Marks Entry'!BA30)","v":""},"","",{"$f":"IF(AND($B28=\"NSO\",$E28=\"\"),\"\",IF(AND('Marks Entry'!BB30=\"AB\",'Marks Entry'!BC30=\"AB\"),\"AB\",IF(AND('Marks Entry'!BB30=\"ML\",'Marks Entry'!BC30=\"ML\"),\"RE\",IF('Marks Entry'!BB30=\"\",\"\",ROUNDUP(('Marks Entry'!BB30+'Marks Entry'!BC30)*30/100,0)))))","v":""},"",0,0,"","","","",0,"","","","","","",0,0,0,0,0,"",{"$f":"IF('Marks Entry'!BD30=\"\",\"\",'Marks Entry'!BD30)","v":""},{"$f":"IF('Marks Entry'!BE30=\"\",\"\",'Marks Entry'!BE30)","v":""},{"$f":"IF('Marks Entry'!BF30=\"\",\"\",'Marks Entry'!BF30)","v":""},"","","","","","","","","","","","","","","","","","","","","","","","","","",{"$f":"IF('Student DATA Entry'!I25=\"\",\"\",'Student DATA Entry'!I25)","v":""},{"$f":"IF('Student DATA Entry'!J25=\"\",\"\",'Student DATA Entry'!J25)","v":""},"      ","      ","      ","              "," ","","","","",""]
[24,{"$f":"IF('Marks Entry'!B31=\"\",\"\",VALUE('Marks Entry'!B31))","v":""},{"$f":"IF('Marks Entry'!C31=\"\",\"\",'Marks Entry'!C31)","v":""},{"$f":"IF('Marks Entry'!D31=\"\",\"\",'Marks Entry'!D31)","v":""},{"$f":"IF('Marks Entry'!E31=\"\",\"\",'Marks Entry'!E31)","v":""},{"$f":"IF('Marks Entry'!F31=\"\",\"\",'Marks Entry'!F31)","v":""},{"$f":"IF('Marks Entry'!G31=\"\",\"\",'Marks Entry'!G31)","v":""},{"$f":"IF('Marks Entry'!H31=\"\",\"\",'Marks Entry'!H31)","v":""},{"$f":"IF('Marks Entry'!I31=\"\",\"\",'Marks Entry'!I31)","v":""},{"$f":"IF('Marks Entry'!J31=\"\",\"\",'Marks Entry'!J31)","v":""},{"$f":"IF('Marks Entry'!K31=\"\",\"\",'Marks Entry'!K31)","v":""},{"$f":"IF('Marks Entry'!L31=\"\",\"\",'Marks Entry'!L31)","v":""},"","",{"$f":"IF('Marks Entry'!M31=\"\",\"\",'Marks Entry'!M31)","v":""},"",{"$f":"IF(AND($B29=\"NSO\",$E29=\"\",O29=\"\"),\"\",IF(AND('Marks Entry'!N31=\"AB\"),\"AB\",IF(AND('Marks Entry'!N31=\"ML\"),\"RE\",IF('Marks Entry'!N31=\"\",\"\",ROUNDUP('Marks Entry'!N31*30/100,0)))))","v":""},"",0,0,"","","","",{"$f":"IF('Marks Entry'!O31=\"\",\"\",'Marks Entry'!O31)","v":""},{"$f":"IF('Marks Entry'!P31=\"\",\"\",'Marks Entry'!P31)","v":""},{"$f":"IF('Marks Entry'!Q31=\"\",\"\",'Marks Entry'!Q31)","v":""},"","",{"$f":"IF('Marks Entry'!R31=\"\",\"\",'Marks Entry'!R31)","v":""},"",{"$f":"IF(AND($B29=\"NSO\",$E29=\"\"),\"\",IF(AND('Marks Entry'!S31=\"AB\"),\"AB\",IF(AND('Marks Entry'!S31=\"ML\"),\"RE\",IF('Marks Entry'!S31=\"\",\"\",ROUNDUP('Marks Entry'!S31*30/100,0)))))","v":""},"",0,0,"","","","",{"$f":"IF('Marks Entry'!T31=\"\",\"\",'Marks Entry'!T31)","v":""},{"$f":"IF('Marks Entry'!V31=\"\",\"\",'Marks Entry'!V31)","v":""},{"$f":"IF('Marks Entry'!W31=\"\",\"\",'Marks Entry'!W31)","v":""},{"$f":"IF('Marks Entry'!X31=\"\",\"\",'Marks Entry'!X31)","v":""},"","",{"$f":"IF('Marks Entry'!Y31=\"\",\"\",'Marks Entry'!Y31)","v":""},{"$f":"IF('Marks Entry'!Z31=\"\",\"\",'Marks Entry'!Z31)","v":""},"","",{"$f":"IF(AND($B29=\"NSO\",$E29=\"\"),\"\",IF(AND('Marks Entry'!AA31=\"AB\",'Marks Entry'!AB31=\"AB\"),\"AB\",IF(AND('Marks Entry'!AA31=\"ML\",'Marks Entry'!AB31=\"ML\"),\"RE\",IF('Marks Entry'!AA31=\"\",\"\",ROUNDUP(('Marks Entry'!AA31+'Marks Entry'!AB31)*30/100,0)))))","v":""},"",0,0,"","","","",{"$f":"IF('Marks Entry'!AC31=\"\",\"\",'Marks Entry'!AC31)","v":""},{"$f":"IF('Marks Entry'!AE31=\"\",\"\",'Marks Entry'!AE31)","v":""},{"$f":"IF('Marks Entry'!AF31=\"\",\"\",'Marks Entry'!AF31)","v":""},{"$f":"IF('Marks Entry'!AG31=\"\",\"\",'Marks Entry'!AG31)","v":""},"","",{"$f":"IF('Marks Entry'!AH31=\"\",\"\",'Marks Entry'!AH31)","v":""},{"$f":"IF('Marks Entry'!AI31=\"\",\"\",'Marks Entry'!AI31)","v":""},"","",{"$f":"IF(AND($B29=\"NSO\",$E29=\"\"),\"\",IF(AND('Marks Entry'!AJ31=\"AB\",'Marks Entry'!AK31=\"AB\"),\"AB\",IF(AND('Marks Entry'!AJ31=\"ML\",'Marks Entry'!AK31=\"ML\"),\"RE\",IF('Marks Entry'!AJ31=\"\",\"\",ROUNDUP(('Marks Entry'!AJ31+'Marks Entry'!AK31)*30/100,0)))))","v":""},"",0,0,"","","","",{"$f":"IF('Marks Entry'!AL31=\"\",\"\",'Marks Entry'!AL31)","v":""},{"$f":"IF('Marks Entry'!AN31=\"\",\"\",'Marks Entry'!AN31)","v":""},{"$f":"IF('Marks Entry'!AO31=\"\",\"\",'Marks Entry'!AO31)","v":""},{"$f":"IF('Marks Entry'!AP31=\"\",\"\",'Marks Entry'!AP31)","v":""},"","",{"$f":"IF('Marks Entry'!AQ31=\"\",\"\",'Marks Entry'!AQ31)","v":""},{"$f":"IF('Marks Entry'!AR31=\"\",\"\",'Marks Entry'!AR31)","v":""},"","",{"$f":"IF(AND($B29=\"NSO\",$E29=\"\"),\"\",IF(AND('Marks Entry'!AS31=\"AB\",'Marks Entry'!AT31=\"AB\"),\"AB\",IF(AND('Marks Entry'!AS31=\"ML\",'Marks Entry'!AT31=\"ML\"),\"RE\",IF('Marks Entry'!AS31=\"\",\"\",ROUNDUP(('Marks Entry'!AS31+'Marks Entry'!AT31)*30/100,0)))))","v":""},"",0,0,"","","","",{"$f":"IF('Marks Entry'!AU31=\"\",\"\",'Marks Entry'!AU31)","v":""},{"$f":"IF('Marks Entry'!AW31=\"\",\"\",'Marks Entry'!AW31)","v":""},{"$f":"IF('Marks Entry'!AX31=\"\",\"\",'Marks Entry'!AX31)","v":""},{"$f":"IF('Marks Entry'!AY31=\"\",\"\",'Marks Entry'!AY31)","v":""},"","",{"$f":"IF('Marks Entry'!AZ31=\"\",\"\",'Marks Entry'!AZ31)","v":""},{"$f":"IF('Marks Entry'!BA31=\"\",\"\",'Marks Entry'!BA31)","v":""},"","",{"$f":"IF(AND($B29=\"NSO\",$E29=\"\"),\"\",IF(AND('Marks Entry'!BB31=\"AB\",'Marks Entry'!BC31=\"AB\"),\"AB\",IF(AND('Marks Entry'!BB31=\"ML\",'Marks Entry'!BC31=\"ML\"),\"RE\",IF('Marks Entry'!BB31=\"\",\"\",ROUNDUP(('Marks Entry'!BB31+'Marks Entry'!BC31)*30/100,0)))))","v":""},"",0,0,"","","","",0,"","","","","","",0,0,0,0,0,"",{"$f":"IF('Marks Entry'!BD31=\"\",\"\",'Marks Entry'!BD31)","v":""},{"$f":"IF('Marks Entry'!BE31=\"\",\"\",'Marks Entry'!BE31)","v":""},{"$f":"IF('Marks Entry'!BF31=\"\",\"\",'Marks Entry'!BF31)","v":""},"","","","","","","","","","","","","","","","","","","","","","","","","","",{"$f":"IF('Student DATA Entry'!I26=\"\",\"\",'Student DATA Entry'!I26)","v":""},{"$f":"IF('Student DATA Entry'!J26=\"\",\"\",'Student DATA Entry'!J26)","v":""},"      ","      ","      ","              "," ","","","","",""]
[25,{"$f":"IF('Marks Entry'!B32=\"\",\"\",VALUE('Marks Entry'!B32))","v":""},{"$f":"IF('Marks Entry'!C32=\"\",\"\",'Marks Entry'!C32)","v":""},{"$f":"IF('Marks Entry'!D32=\"\",\"\",'Marks Entry'!D32)","v":""},{"$f":"IF('Marks Entry'!E32=\"\",\"\",'Marks Entry'!E32)","v":""},{"$f":"IF('Marks Entry'!F32=\"\",\"\",'Marks Entry'!F32)","v":""},{"$f":"IF('Marks Entry'!G32=\"\",\"\",'Marks Entry'!G32)","v":""},{"$f":"IF('Marks Entry'!H32=\"\",\"\",'Marks Entry'!H32)","v":""},{"$f":"IF('Marks Entry'!I32=\"\",\"\",'Marks Entry'!I32)","v":""},{"$f":"IF('Marks Entry'!J32=\"\",\"\",'Marks Entry'!J32)","v":""},{"$f":"IF('Marks Entry'!K32=\"\",\"\",'Marks Entry'!K32)","v":""},{"$f":"IF('Marks Entry'!L32=\"\",\"\",'Marks Entry'!L32)","v":""},"","",{"$f":"IF('Marks Entry'!M32=\"\",\"\",'Marks Entry'!M32)","v":""},"",{"$f":"IF(AND($B30=\"NSO\",$E30=\"\",O30=\"\"),\"\",IF(AND('Marks Entry'!N32=\"AB\"),\"AB\",IF(AND('Marks Entry'!N32=\"ML\"),\"RE\",IF('Marks Entry'!N32=\"\",\"\",ROUNDUP('Marks Entry'!N32*30/100,0)))))","v":""},"",0,0,"","","","",{"$f":"IF('Marks Entry'!O32=\"\",\"\",'Marks Entry'!O32)","v":""},{"$f":"IF('Marks Entry'!P32=\"\",\"\",'Marks Entry'!P32)","v":""},{"$f":"IF('Marks Entry'!Q32=\"\",\"\",'Marks Entry'!Q32)","v":""},"","",{"$f":"IF('Marks Entry'!R32=\"\",\"\",'Marks Entry'!R32)","v":""},"",{"$f":"IF(AND($B30=\"NSO\",$E30=\"\"),\"\",IF(AND('Marks Entry'!S32=\"AB\"),\"AB\",IF(AND('Marks Entry'!S32=\"ML\"),\"RE\",IF('Marks Entry'!S32=\"\",\"\",ROUNDUP('Marks Entry'!S32*30/100,0)))))","v":""},"",0,0,"","","","",{"$f":"IF('Marks Entry'!T32=\"\",\"\",'Marks Entry'!T32)","v":""},{"$f":"IF('Marks Entry'!V32=\"\",\"\",'Marks Entry'!V32)","v":""},{"$f":"IF('Marks Entry'!W32=\"\",\"\",'Marks Entry'!W32)","v":""},{"$f":"IF('Marks Entry'!X32=\"\",\"\",'Marks Entry'!X32)","v":""},"","",{"$f":"IF('Marks Entry'!Y32=\"\",\"\",'Marks Entry'!Y32)","v":""},{"$f":"IF('Marks Entry'!Z32=\"\",\"\",'Marks Entry'!Z32)","v":""},"","",{"$f":"IF(AND($B30=\"NSO\",$E30=\"\"),\"\",IF(AND('Marks Entry'!AA32=\"AB\",'Marks Entry'!AB32=\"AB\"),\"AB\",IF(AND('Marks Entry'!AA32=\"ML\",'Marks Entry'!AB32=\"ML\"),\"RE\",IF('Marks Entry'!AA32=\"\",\"\",ROUNDUP(('Marks Entry'!AA32+'Marks Entry'!AB32)*30/100,0)))))","v":""},"",0,0,"","","","",{"$f":"IF('Marks Entry'!AC32=\"\",\"\",'Marks Entry'!AC32)","v":""},{"$f":"IF('Marks Entry'!AE32=\"\",\"\",'Marks Entry'!AE32)","v":""},{"$f":"IF('Marks Entry'!AF32=\"\",\"\",'Marks Entry'!AF32)","v":""},{"$f":"IF('Marks Entry'!AG32=\"\",\"\",'Marks Entry'!AG32)","v":""},"","",{"$f":"IF('Marks Entry'!AH32=\"\",\"\",'Marks Entry'!AH32)","v":""},{"$f":"IF('Marks Entry'!AI32=\"\",\"\",'Marks Entry'!AI32)","v":""},"","",{"$f":"IF(AND($B30=\"NSO\",$E30=\"\"),\"\",IF(AND('Marks Entry'!AJ32=\"AB\",'Marks Entry'!AK32=\"AB\"),\"AB\",IF(AND('Marks Entry'!AJ32=\"ML\",'Marks Entry'!AK32=\"ML\"),\"RE\",IF('Marks Entry'!AJ32=\"\",\"\",ROUNDUP(('Marks Entry'!AJ32+'Marks Entry'!AK32)*30/100,0)))))","v":""},"",0,0,"","","","",{"$f":"IF('Marks Entry'!AL32=\"\",\"\",'Marks Entry'!AL32)","v":""},{"$f":"IF('Marks Entry'!AN32=\"\",\"\",'Marks Entry'!AN32)","v":""},{"$f":"IF('Marks Entry'!AO32=\"\",\"\",'Marks Entry'!AO32)","v":""},{"$f":"IF('Marks Entry'!AP32=\"\",\"\",'Marks Entry'!AP32)","v":""},"","",{"$f":"IF('Marks Entry'!AQ32=\"\",\"\",'Marks Entry'!AQ32)","v":""},{"$f":"IF('Marks Entry'!AR32=\"\",\"\",'Marks Entry'!AR32)","v":""},"","",{"$f":"IF(AND($B30=\"NSO\",$E30=\"\"),\"\",IF(AND('Marks Entry'!AS32=\"AB\",'Marks Entry'!AT32=\"AB\"),\"AB\",IF(AND('Marks Entry'!AS32=\"ML\",'Marks Entry'!AT32=\"ML\"),\"RE\",IF('Marks Entry'!AS32=\"\",\"\",ROUNDUP(('Marks Entry'!AS32+'Marks Entry'!AT32)*30/100,0)))))","v":""},"",0,0,"","","","",{"$f":"IF('Marks Entry'!AU32=\"\",\"\",'Marks Entry'!AU32)","v":""},{"$f":"IF('Marks Entry'!AW32=\"\",\"\",'Marks Entry'!AW32)","v":""},{"$f":"IF('Marks Entry'!AX32=\"\",\"\",'Marks Entry'!AX32)","v":""},{"$f":"IF('Marks Entry'!AY32=\"\",\"\",'Marks Entry'!AY32)","v":""},"","",{"$f":"IF('Marks Entry'!AZ32=\"\",\"\",'Marks Entry'!AZ32)","v":""},{"$f":"IF('Marks Entry'!BA32=\"\",\"\",'Marks Entry'!BA32)","v":""},"","",{"$f":"IF(AND($B30=\"NSO\",$E30=\"\"),\"\",IF(AND('Marks Entry'!BB32=\"AB\",'Marks Entry'!BC32=\"AB\"),\"AB\",IF(AND('Marks Entry'!BB32=\"ML\",'Marks Entry'!BC32=\"ML\"),\"RE\",IF('Marks Entry'!BB32=\"\",\"\",ROUNDUP(('Marks Entry'!BB32+'Marks Entry'!BC32)*30/100,0)))))","v":""},"",0,0,"","","","",0,"","","","","","",0,0,0,0,0,"",{"$f":"IF('Marks Entry'!BD32=\"\",\"\",'Marks Entry'!BD32)","v":""},{"$f":"IF('Marks Entry'!BE32=\"\",\"\",'Marks Entry'!BE32)","v":""},{"$f":"IF('Marks Entry'!BF32=\"\",\"\",'Marks Entry'!BF32)","v":""},"","","","","","","","","","","","","","","","","","","","","","","","","","",{"$f":"IF('Student DATA Entry'!I27=\"\",\"\",'Student DATA Entry'!I27)","v":""},{"$f":"IF('Student DATA Entry'!J27=\"\",\"\",'Student DATA Entry'!J27)","v":""},"      ","      ","      ","              "," ","","","","",""]
[26,{"$f":"IF('Marks Entry'!B33=\"\",\"\",VALUE('Marks Entry'!B33))","v":""},{"$f":"IF('Marks Entry'!C33=\"\",\"\",'Marks Entry'!C33)","v":""},{"$f":"IF('Marks Entry'!D33=\"\",\"\",'Marks Entry'!D33)","v":""},{"$f":"IF('Marks Entry'!E33=\"\",\"\",'Marks Entry'!E33)","v":""},{"$f":"IF('Marks Entry'!F33=\"\",\"\",'Marks Entry'!F33)","v":""},{"$f":"IF('Marks Entry'!G33=\"\",\"\",'Marks Entry'!G33)","v":""},{"$f":"IF('Marks Entry'!H33=\"\",\"\",'Marks Entry'!H33)","v":""},{"$f":"IF('Marks Entry'!I33=\"\",\"\",'Marks Entry'!I33)","v":""},{"$f":"IF('Marks Entry'!J33=\"\",\"\",'Marks Entry'!J33)","v":""},{"$f":"IF('Marks Entry'!K33=\"\",\"\",'Marks Entry'!K33)","v":""},{"$f":"IF('Marks Entry'!L33=\"\",\"\",'Marks Entry'!L33)","v":""},"","",{"$f":"IF('Marks Entry'!M33=\"\",\"\",'Marks Entry'!M33)","v":""},"",{"$f":"IF(AND($B31=\"NSO\",$E31=\"\",O31=\"\"),\"\",IF(AND('Marks Entry'!N33=\"AB\"),\"AB\",IF(AND('Marks Entry'!N33=\"ML\"),\"RE\",IF('Marks Entry'!N33=\"\",\"\",ROUNDUP('Marks Entry'!N33*30/100,0)))))","v":""},"",0,0,"","","","",{"$f":"IF('Marks Entry'!O33=\"\",\"\",'Marks Entry'!O33)","v":""},{"$f":"IF('Marks Entry'!P33=\"\",\"\",'Marks Entry'!P33)","v":""},{"$f":"IF('Marks Entry'!Q33=\"\",\"\",'Marks Entry'!Q33)","v":""},"","",{"$f":"IF('Marks Entry'!R33=\"\",\"\",'Marks Entry'!R33)","v":""},"",{"$f":"IF(AND($B31=\"NSO\",$E31=\"\"),\"\",IF(AND('Marks Entry'!S33=\"AB\"),\"AB\",IF(AND('Marks Entry'!S33=\"ML\"),\"RE\",IF('Marks Entry'!S33=\"\",\"\",ROUNDUP('Marks Entry'!S33*30/100,0)))))","v":""},"",0,0,"","","","",{"$f":"IF('Marks Entry'!T33=\"\",\"\",'Marks Entry'!T33)","v":""},{"$f":"IF('Marks Entry'!V33=\"\",\"\",'Marks Entry'!V33)","v":""},{"$f":"IF('Marks Entry'!W33=\"\",\"\",'Marks Entry'!W33)","v":""},{"$f":"IF('Marks Entry'!X33=\"\",\"\",'Marks Entry'!X33)","v":""},"","",{"$f":"IF('Marks Entry'!Y33=\"\",\"\",'Marks Entry'!Y33)","v":""},{"$f":"IF('Marks Entry'!Z33=\"\",\"\",'Marks Entry'!Z33)","v":""},"","",{"$f":"IF(AND($B31=\"NSO\",$E31=\"\"),\"\",IF(AND('Marks Entry'!AA33=\"AB\",'Marks Entry'!AB33=\"AB\"),\"AB\",IF(AND('Marks Entry'!AA33=\"ML\",'Marks Entry'!AB33=\"ML\"),\"RE\",IF('Marks Entry'!AA33=\"\",\"\",ROUNDUP(('Marks Entry'!AA33+'Marks Entry'!AB33)*30/100,0)))))","v":""},"",0,0,"","","","",{"$f":"IF('Marks Entry'!AC33=\"\",\"\",'Marks Entry'!AC33)","v":""},{"$f":"IF('Marks Entry'!AE33=\"\",\"\",'Marks Entry'!AE33)","v":""},{"$f":"IF('Marks Entry'!AF33=\"\",\"\",'Marks Entry'!AF33)","v":""},{"$f":"IF('Marks Entry'!AG33=\"\",\"\",'Marks Entry'!AG33)","v":""},"","",{"$f":"IF('Marks Entry'!AH33=\"\",\"\",'Marks Entry'!AH33)","v":""},{"$f":"IF('Marks Entry'!AI33=\"\",\"\",'Marks Entry'!AI33)","v":""},"","",{"$f":"IF(AND($B31=\"NSO\",$E31=\"\"),\"\",IF(AND('Marks Entry'!AJ33=\"AB\",'Marks Entry'!AK33=\"AB\"),\"AB\",IF(AND('Marks Entry'!AJ33=\"ML\",'Marks Entry'!AK33=\"ML\"),\"RE\",IF('Marks Entry'!AJ33=\"\",\"\",ROUNDUP(('Marks Entry'!AJ33+'Marks Entry'!AK33)*30/100,0)))))","v":""},"",0,0,"","","","",{"$f":"IF('Marks Entry'!AL33=\"\",\"\",'Marks Entry'!AL33)","v":""},{"$f":"IF('Marks Entry'!AN33=\"\",\"\",'Marks Entry'!AN33)","v":""},{"$f":"IF('Marks Entry'!AO33=\"\",\"\",'Marks Entry'!AO33)","v":""},{"$f":"IF('Marks Entry'!AP33=\"\",\"\",'Marks Entry'!AP33)","v":""},"","",{"$f":"IF('Marks Entry'!AQ33=\"\",\"\",'Marks Entry'!AQ33)","v":""},{"$f":"IF('Marks Entry'!AR33=\"\",\"\",'Marks Entry'!AR33)","v":""},"","",{"$f":"IF(AND($B31=\"NSO\",$E31=\"\"),\"\",IF(AND('Marks Entry'!AS33=\"AB\",'Marks Entry'!AT33=\"AB\"),\"AB\",IF(AND('Marks Entry'!AS33=\"ML\",'Marks Entry'!AT33=\"ML\"),\"RE\",IF('Marks Entry'!AS33=\"\",\"\",ROUNDUP(('Marks Entry'!AS33+'Marks Entry'!AT33)*30/100,0)))))","v":""},"",0,0,"","","","",{"$f":"IF('Marks Entry'!AU33=\"\",\"\",'Marks Entry'!AU33)","v":""},{"$f":"IF('Marks Entry'!AW33=\"\",\"\",'Marks Entry'!AW33)","v":""},{"$f":"IF('Marks Entry'!AX33=\"\",\"\",'Marks Entry'!AX33)","v":""},{"$f":"IF('Marks Entry'!AY33=\"\",\"\",'Marks Entry'!AY33)","v":""},"","",{"$f":"IF('Marks Entry'!AZ33=\"\",\"\",'Marks Entry'!AZ33)","v":""},{"$f":"IF('Marks Entry'!BA33=\"\",\"\",'Marks Entry'!BA33)","v":""},"","",{"$f":"IF(AND($B31=\"NSO\",$E31=\"\"),\"\",IF(AND('Marks Entry'!BB33=\"AB\",'Marks Entry'!BC33=\"AB\"),\"AB\",IF(AND('Marks Entry'!BB33=\"ML\",'Marks Entry'!BC33=\"ML\"),\"RE\",IF('Marks Entry'!BB33=\"\",\"\",ROUNDUP(('Marks Entry'!BB33+'Marks Entry'!BC33)*30/100,0)))))","v":""},"",0,0,"","","","",0,"","","","","","",0,0,0,0,0,"",{"$f":"IF('Marks Entry'!BD33=\"\",\"\",'Marks Entry'!BD33)","v":""},{"$f":"IF('Marks Entry'!BE33=\"\",\"\",'Marks Entry'!BE33)","v":""},{"$f":"IF('Marks Entry'!BF33=\"\",\"\",'Marks Entry'!BF33)","v":""},"","","","","","","","","","","","","","","","","","","","","","","","","","",{"$f":"IF('Student DATA Entry'!I28=\"\",\"\",'Student DATA Entry'!I28)","v":""},{"$f":"IF('Student DATA Entry'!J28=\"\",\"\",'Student DATA Entry'!J28)","v":""},"      ","      ","      ","              "," ","","","","",""]
[27,{"$f":"IF('Marks Entry'!B34=\"\",\"\",VALUE('Marks Entry'!B34))","v":""},{"$f":"IF('Marks Entry'!C34=\"\",\"\",'Marks Entry'!C34)","v":""},{"$f":"IF('Marks Entry'!D34=\"\",\"\",'Marks Entry'!D34)","v":""},{"$f":"IF('Marks Entry'!E34=\"\",\"\",'Marks Entry'!E34)","v":""},{"$f":"IF('Marks Entry'!F34=\"\",\"\",'Marks Entry'!F34)","v":""},{"$f":"IF('Marks Entry'!G34=\"\",\"\",'Marks Entry'!G34)","v":""},{"$f":"IF('Marks Entry'!H34=\"\",\"\",'Marks Entry'!H34)","v":""},{"$f":"IF('Marks Entry'!I34=\"\",\"\",'Marks Entry'!I34)","v":""},{"$f":"IF('Marks Entry'!J34=\"\",\"\",'Marks Entry'!J34)","v":""},{"$f":"IF('Marks Entry'!K34=\"\",\"\",'Marks Entry'!K34)","v":""},{"$f":"IF('Marks Entry'!L34=\"\",\"\",'Marks Entry'!L34)","v":""},"","",{"$f":"IF('Marks Entry'!M34=\"\",\"\",'Marks Entry'!M34)","v":""},"",{"$f":"IF(AND($B32=\"NSO\",$E32=\"\",O32=\"\"),\"\",IF(AND('Marks Entry'!N34=\"AB\"),\"AB\",IF(AND('Marks Entry'!N34=\"ML\"),\"RE\",IF('Marks Entry'!N34=\"\",\"\",ROUNDUP('Marks Entry'!N34*30/100,0)))))","v":""},"",0,0,"","","","",{"$f":"IF('Marks Entry'!O34=\"\",\"\",'Marks Entry'!O34)","v":""},{"$f":"IF('Marks Entry'!P34=\"\",\"\",'Marks Entry'!P34)","v":""},{"$f":"IF('Marks Entry'!Q34=\"\",\"\",'Marks Entry'!Q34)","v":""},"","",{"$f":"IF('Marks Entry'!R34=\"\",\"\",'Marks Entry'!R34)","v":""},"",{"$f":"IF(AND($B32=\"NSO\",$E32=\"\"),\"\",IF(AND('Marks Entry'!S34=\"AB\"),\"AB\",IF(AND('Marks Entry'!S34=\"ML\"),\"RE\",IF('Marks Entry'!S34=\"\",\"\",ROUNDUP('Marks Entry'!S34*30/100,0)))))","v":""},"",0,0,"","","","",{"$f":"IF('Marks Entry'!T34=\"\",\"\",'Marks Entry'!T34)","v":""},{"$f":"IF('Marks Entry'!V34=\"\",\"\",'Marks Entry'!V34)","v":""},{"$f":"IF('Marks Entry'!W34=\"\",\"\",'Marks Entry'!W34)","v":""},{"$f":"IF('Marks Entry'!X34=\"\",\"\",'Marks Entry'!X34)","v":""},"","",{"$f":"IF('Marks Entry'!Y34=\"\",\"\",'Marks Entry'!Y34)","v":""},{"$f":"IF('Marks Entry'!Z34=\"\",\"\",'Marks Entry'!Z34)","v":""},"","",{"$f":"IF(AND($B32=\"NSO\",$E32=\"\"),\"\",IF(AND('Marks Entry'!AA34=\"AB\",'Marks Entry'!AB34=\"AB\"),\"AB\",IF(AND('Marks Entry'!AA34=\"ML\",'Marks Entry'!AB34=\"ML\"),\"RE\",IF('Marks Entry'!AA34=\"\",\"\",ROUNDUP(('Marks Entry'!AA34+'Marks Entry'!AB34)*30/100,0)))))","v":""},"",0,0,"","","","",{"$f":"IF('Marks Entry'!AC34=\"\",\"\",'Marks Entry'!AC34)","v":""},{"$f":"IF('Marks Entry'!AE34=\"\",\"\",'Marks Entry'!AE34)","v":""},{"$f":"IF('Marks Entry'!AF34=\"\",\"\",'Marks Entry'!AF34)","v":""},{"$f":"IF('Marks Entry'!AG34=\"\",\"\",'Marks Entry'!AG34)","v":""},"","",{"$f":"IF('Marks Entry'!AH34=\"\",\"\",'Marks Entry'!AH34)","v":""},{"$f":"IF('Marks Entry'!AI34=\"\",\"\",'Marks Entry'!AI34)","v":""},"","",{"$f":"IF(AND($B32=\"NSO\",$E32=\"\"),\"\",IF(AND('Marks Entry'!AJ34=\"AB\",'Marks Entry'!AK34=\"AB\"),\"AB\",IF(AND('Marks Entry'!AJ34=\"ML\",'Marks Entry'!AK34=\"ML\"),\"RE\",IF('Marks Entry'!AJ34=\"\",\"\",ROUNDUP(('Marks Entry'!AJ34+'Marks Entry'!AK34)*30/100,0)))))","v":""},"",0,0,"","","","",{"$f":"IF('Marks Entry'!AL34=\"\",\"\",'Marks Entry'!AL34)","v":""},{"$f":"IF('Marks Entry'!AN34=\"\",\"\",'Marks Entry'!AN34)","v":""},{"$f":"IF('Marks Entry'!AO34=\"\",\"\",'Marks Entry'!AO34)","v":""},{"$f":"IF('Marks Entry'!AP34=\"\",\"\",'Marks Entry'!AP34)","v":""},"","",{"$f":"IF('Marks Entry'!AQ34=\"\",\"\",'Marks Entry'!AQ34)","v":""},{"$f":"IF('Marks Entry'!AR34=\"\",\"\",'Marks Entry'!AR34)","v":""},"","",{"$f":"IF(AND($B32=\"NSO\",$E32=\"\"),\"\",IF(AND('Marks Entry'!AS34=\"AB\",'Marks Entry'!AT34=\"AB\"),\"AB\",IF(AND('Marks Entry'!AS34=\"ML\",'Marks Entry'!AT34=\"ML\"),\"RE\",IF('Marks Entry'!AS34=\"\",\"\",ROUNDUP(('Marks Entry'!AS34+'Marks Entry'!AT34)*30/100,0)))))","v":""},"",0,0,"","","","",{"$f":"IF('Marks Entry'!AU34=\"\",\"\",'Marks Entry'!AU34)","v":""},{"$f":"IF('Marks Entry'!AW34=\"\",\"\",'Marks Entry'!AW34)","v":""},{"$f":"IF('Marks Entry'!AX34=\"\",\"\",'Marks Entry'!AX34)","v":""},{"$f":"IF('Marks Entry'!AY34=\"\",\"\",'Marks Entry'!AY34)","v":""},"","",{"$f":"IF('Marks Entry'!AZ34=\"\",\"\",'Marks Entry'!AZ34)","v":""},{"$f":"IF('Marks Entry'!BA34=\"\",\"\",'Marks Entry'!BA34)","v":""},"","",{"$f":"IF(AND($B32=\"NSO\",$E32=\"\"),\"\",IF(AND('Marks Entry'!BB34=\"AB\",'Marks Entry'!BC34=\"AB\"),\"AB\",IF(AND('Marks Entry'!BB34=\"ML\",'Marks Entry'!BC34=\"ML\"),\"RE\",IF('Marks Entry'!BB34=\"\",\"\",ROUNDUP(('Marks Entry'!BB34+'Marks Entry'!BC34)*30/100,0)))))","v":""},"",0,0,"","","","",0,"","","","","","",0,0,0,0,0,"",{"$f":"IF('Marks Entry'!BD34=\"\",\"\",'Marks Entry'!BD34)","v":""},{"$f":"IF('Marks Entry'!BE34=\"\",\"\",'Marks Entry'!BE34)","v":""},{"$f":"IF('Marks Entry'!BF34=\"\",\"\",'Marks Entry'!BF34)","v":""},"","","","","","","","","","","","","","","","","","","","","","","","","","",{"$f":"IF('Student DATA Entry'!I29=\"\",\"\",'Student DATA Entry'!I29)","v":""},{"$f":"IF('Student DATA Entry'!J29=\"\",\"\",'Student DATA Entry'!J29)","v":""},"      ","      ","      ","              "," ","","","","",""]
[28,{"$f":"IF('Marks Entry'!B35=\"\",\"\",VALUE('Marks Entry'!B35))","v":""},{"$f":"IF('Marks Entry'!C35=\"\",\"\",'Marks Entry'!C35)","v":""},{"$f":"IF('Marks Entry'!D35=\"\",\"\",'Marks Entry'!D35)","v":""},{"$f":"IF('Marks Entry'!E35=\"\",\"\",'Marks Entry'!E35)","v":""},{"$f":"IF('Marks Entry'!F35=\"\",\"\",'Marks Entry'!F35)","v":""},{"$f":"IF('Marks Entry'!G35=\"\",\"\",'Marks Entry'!G35)","v":""},{"$f":"IF('Marks Entry'!H35=\"\",\"\",'Marks Entry'!H35)","v":""},{"$f":"IF('Marks Entry'!I35=\"\",\"\",'Marks Entry'!I35)","v":""},{"$f":"IF('Marks Entry'!J35=\"\",\"\",'Marks Entry'!J35)","v":""},{"$f":"IF('Marks Entry'!K35=\"\",\"\",'Marks Entry'!K35)","v":""},{"$f":"IF('Marks Entry'!L35=\"\",\"\",'Marks Entry'!L35)","v":""},"","",{"$f":"IF('Marks Entry'!M35=\"\",\"\",'Marks Entry'!M35)","v":""},"",{"$f":"IF(AND($B33=\"NSO\",$E33=\"\",O33=\"\"),\"\",IF(AND('Marks Entry'!N35=\"AB\"),\"AB\",IF(AND('Marks Entry'!N35=\"ML\"),\"RE\",IF('Marks Entry'!N35=\"\",\"\",ROUNDUP('Marks Entry'!N35*30/100,0)))))","v":""},"",0,0,"","","","",{"$f":"IF('Marks Entry'!O35=\"\",\"\",'Marks Entry'!O35)","v":""},{"$f":"IF('Marks Entry'!P35=\"\",\"\",'Marks Entry'!P35)","v":""},{"$f":"IF('Marks Entry'!Q35=\"\",\"\",'Marks Entry'!Q35)","v":""},"","",{"$f":"IF('Marks Entry'!R35=\"\",\"\",'Marks Entry'!R35)","v":""},"",{"$f":"IF(AND($B33=\"NSO\",$E33=\"\"),\"\",IF(AND('Marks Entry'!S35=\"AB\"),\"AB\",IF(AND('Marks Entry'!S35=\"ML\"),\"RE\",IF('Marks Entry'!S35=\"\",\"\",ROUNDUP('Marks Entry'!S35*30/100,0)))))","v":""},"",0,0,"","","","",{"$f":"IF('Marks Entry'!T35=\"\",\"\",'Marks Entry'!T35)","v":""},{"$f":"IF('Marks Entry'!V35=\"\",\"\",'Marks Entry'!V35)","v":""},{"$f":"IF('Marks Entry'!W35=\"\",\"\",'Marks Entry'!W35)","v":""},{"$f":"IF('Marks Entry'!X35=\"\",\"\",'Marks Entry'!X35)","v":""},"","",{"$f":"IF('Marks Entry'!Y35=\"\",\"\",'Marks Entry'!Y35)","v":""},{"$f":"IF('Marks Entry'!Z35=\"\",\"\",'Marks Entry'!Z35)","v":""},"","",{"$f":"IF(AND($B33=\"NSO\",$E33=\"\"),\"\",IF(AND('Marks Entry'!AA35=\"AB\",'Marks Entry'!AB35=\"AB\"),\"AB\",IF(AND('Marks Entry'!AA35=\"ML\",'Marks Entry'!AB35=\"ML\"),\"RE\",IF('Marks Entry'!AA35=\"\",\"\",ROUNDUP(('Marks Entry'!AA35+'Marks Entry'!AB35)*30/100,0)))))","v":""},"",0,0,"","","","",{"$f":"IF('Marks Entry'!AC35=\"\",\"\",'Marks Entry'!AC35)","v":""},{"$f":"IF('Marks Entry'!AE35=\"\",\"\",'Marks Entry'!AE35)","v":""},{"$f":"IF('Marks Entry'!AF35=\"\",\"\",'Marks Entry'!AF35)","v":""},{"$f":"IF('Marks Entry'!AG35=\"\",\"\",'Marks Entry'!AG35)","v":""},"","",{"$f":"IF('Marks Entry'!AH35=\"\",\"\",'Marks Entry'!AH35)","v":""},{"$f":"IF('Marks Entry'!AI35=\"\",\"\",'Marks Entry'!AI35)","v":""},"","",{"$f":"IF(AND($B33=\"NSO\",$E33=\"\"),\"\",IF(AND('Marks Entry'!AJ35=\"AB\",'Marks Entry'!AK35=\"AB\"),\"AB\",IF(AND('Marks Entry'!AJ35=\"ML\",'Marks Entry'!AK35=\"ML\"),\"RE\",IF('Marks Entry'!AJ35=\"\",\"\",ROUNDUP(('Marks Entry'!AJ35+'Marks Entry'!AK35)*30/100,0)))))","v":""},"",0,0,"","","","",{"$f":"IF('Marks Entry'!AL35=\"\",\"\",'Marks Entry'!AL35)","v":""},{"$f":"IF('Marks Entry'!AN35=\"\",\"\",'Marks Entry'!AN35)","v":""},{"$f":"IF('Marks Entry'!AO35=\"\",\"\",'Marks Entry'!AO35)","v":""},{"$f":"IF('Marks Entry'!AP35=\"\",\"\",'Marks Entry'!AP35)","v":""},"","",{"$f":"IF('Marks Entry'!AQ35=\"\",\"\",'Marks Entry'!AQ35)","v":""},{"$f":"IF('Marks Entry'!AR35=\"\",\"\",'Marks Entry'!AR35)","v":""},"","",{"$f":"IF(AND($B33=\"NSO\",$E33=\"\"),\"\",IF(AND('Marks Entry'!AS35=\"AB\",'Marks Entry'!AT35=\"AB\"),\"AB\",IF(AND('Marks Entry'!AS35=\"ML\",'Marks Entry'!AT35=\"ML\"),\"RE\",IF('Marks Entry'!AS35=\"\",\"\",ROUNDUP(('Marks Entry'!AS35+'Marks Entry'!AT35)*30/100,0)))))","v":""},"",0,0,"","","","",{"$f":"IF('Marks Entry'!AU35=\"\",\"\",'Marks Entry'!AU35)","v":""},{"$f":"IF('Marks Entry'!AW35=\"\",\"\",'Marks Entry'!AW35)","v":""},{"$f":"IF('Marks Entry'!AX35=\"\",\"\",'Marks Entry'!AX35)","v":""},{"$f":"IF('Marks Entry'!AY35=\"\",\"\",'Marks Entry'!AY35)","v":""},"","",{"$f":"IF('Marks Entry'!AZ35=\"\",\"\",'Marks Entry'!AZ35)","v":""},{"$f":"IF('Marks Entry'!BA35=\"\",\"\",'Marks Entry'!BA35)","v":""},"","",{"$f":"IF(AND($B33=\"NSO\",$E33=\"\"),\"\",IF(AND('Marks Entry'!BB35=\"AB\",'Marks Entry'!BC35=\"AB\"),\"AB\",IF(AND('Marks Entry'!BB35=\"ML\",'Marks Entry'!BC35=\"ML\"),\"RE\",IF('Marks Entry'!BB35=\"\",\"\",ROUNDUP(('Marks Entry'!BB35+'Marks Entry'!BC35)*30/100,0)))))","v":""},"",0,0,"","","","",0,"","","","","","",0,0,0,0,0,"",{"$f":"IF('Marks Entry'!BD35=\"\",\"\",'Marks Entry'!BD35)","v":""},{"$f":"IF('Marks Entry'!BE35=\"\",\"\",'Marks Entry'!BE35)","v":""},{"$f":"IF('Marks Entry'!BF35=\"\",\"\",'Marks Entry'!BF35)","v":""},"","","","","","","","","","","","","","","","","","","","","","","","","","",{"$f":"IF('Student DATA Entry'!I30=\"\",\"\",'Student DATA Entry'!I30)","v":""},{"$f":"IF('Student DATA Entry'!J30=\"\",\"\",'Student DATA Entry'!J30)","v":""},"      ","      ","      ","              "," ","","","","",""]
[29,{"$f":"IF('Marks Entry'!B36=\"\",\"\",VALUE('Marks Entry'!B36))","v":""},{"$f":"IF('Marks Entry'!C36=\"\",\"\",'Marks Entry'!C36)","v":""},{"$f":"IF('Marks Entry'!D36=\"\",\"\",'Marks Entry'!D36)","v":""},{"$f":"IF('Marks Entry'!E36=\"\",\"\",'Marks Entry'!E36)","v":""},{"$f":"IF('Marks Entry'!F36=\"\",\"\",'Marks Entry'!F36)","v":""},{"$f":"IF('Marks Entry'!G36=\"\",\"\",'Marks Entry'!G36)","v":""},{"$f":"IF('Marks Entry'!H36=\"\",\"\",'Marks Entry'!H36)","v":""},{"$f":"IF('Marks Entry'!I36=\"\",\"\",'Marks Entry'!I36)","v":""},{"$f":"IF('Marks Entry'!J36=\"\",\"\",'Marks Entry'!J36)","v":""},{"$f":"IF('Marks Entry'!K36=\"\",\"\",'Marks Entry'!K36)","v":""},{"$f":"IF('Marks Entry'!L36=\"\",\"\",'Marks Entry'!L36)","v":""},"","",{"$f":"IF('Marks Entry'!M36=\"\",\"\",'Marks Entry'!M36)","v":""},"",{"$f":"IF(AND($B34=\"NSO\",$E34=\"\",O34=\"\"),\"\",IF(AND('Marks Entry'!N36=\"AB\"),\"AB\",IF(AND('Marks Entry'!N36=\"ML\"),\"RE\",IF('Marks Entry'!N36=\"\",\"\",ROUNDUP('Marks Entry'!N36*30/100,0)))))","v":""},"",0,0,"","","","",{"$f":"IF('Marks Entry'!O36=\"\",\"\",'Marks Entry'!O36)","v":""},{"$f":"IF('Marks Entry'!P36=\"\",\"\",'Marks Entry'!P36)","v":""},{"$f":"IF('Marks Entry'!Q36=\"\",\"\",'Marks Entry'!Q36)","v":""},"","",{"$f":"IF('Marks Entry'!R36=\"\",\"\",'Marks Entry'!R36)","v":""},"",{"$f":"IF(AND($B34=\"NSO\",$E34=\"\"),\"\",IF(AND('Marks Entry'!S36=\"AB\"),\"AB\",IF(AND('Marks Entry'!S36=\"ML\"),\"RE\",IF('Marks Entry'!S36=\"\",\"\",ROUNDUP('Marks Entry'!S36*30/100,0)))))","v":""},"",0,0,"","","","",{"$f":"IF('Marks Entry'!T36=\"\",\"\",'Marks Entry'!T36)","v":""},{"$f":"IF('Marks Entry'!V36=\"\",\"\",'Marks Entry'!V36)","v":""},{"$f":"IF('Marks Entry'!W36=\"\",\"\",'Marks Entry'!W36)","v":""},{"$f":"IF('Marks Entry'!X36=\"\",\"\",'Marks Entry'!X36)","v":""},"","",{"$f":"IF('Marks Entry'!Y36=\"\",\"\",'Marks Entry'!Y36)","v":""},{"$f":"IF('Marks Entry'!Z36=\"\",\"\",'Marks Entry'!Z36)","v":""},"","",{"$f":"IF(AND($B34=\"NSO\",$E34=\"\"),\"\",IF(AND('Marks Entry'!AA36=\"AB\",'Marks Entry'!AB36=\"AB\"),\"AB\",IF(AND('Marks Entry'!AA36=\"ML\",'Marks Entry'!AB36=\"ML\"),\"RE\",IF('Marks Entry'!AA36=\"\",\"\",ROUNDUP(('Marks Entry'!AA36+'Marks Entry'!AB36)*30/100,0)))))","v":""},"",0,0,"","","","",{"$f":"IF('Marks Entry'!AC36=\"\",\"\",'Marks Entry'!AC36)","v":""},{"$f":"IF('Marks Entry'!AE36=\"\",\"\",'Marks Entry'!AE36)","v":""},{"$f":"IF('Marks Entry'!AF36=\"\",\"\",'Marks Entry'!AF36)","v":""},{"$f":"IF('Marks Entry'!AG36=\"\",\"\",'Marks Entry'!AG36)","v":""},"","",{"$f":"IF('Marks Entry'!AH36=\"\",\"\",'Marks Entry'!AH36)","v":""},{"$f":"IF('Marks Entry'!AI36=\"\",\"\",'Marks Entry'!AI36)","v":""},"","",{"$f":"IF(AND($B34=\"NSO\",$E34=\"\"),\"\",IF(AND('Marks Entry'!AJ36=\"AB\",'Marks Entry'!AK36=\"AB\"),\"AB\",IF(AND('Marks Entry'!AJ36=\"ML\",'Marks Entry'!AK36=\"ML\"),\"RE\",IF('Marks Entry'!AJ36=\"\",\"\",ROUNDUP(('Marks Entry'!AJ36+'Marks Entry'!AK36)*30/100,0)))))","v":""},"",0,0,"","","","",{"$f":"IF('Marks Entry'!AL36=\"\",\"\",'Marks Entry'!AL36)","v":""},{"$f":"IF('Marks Entry'!AN36=\"\",\"\",'Marks Entry'!AN36)","v":""},{"$f":"IF('Marks Entry'!AO36=\"\",\"\",'Marks Entry'!AO36)","v":""},{"$f":"IF('Marks Entry'!AP36=\"\",\"\",'Marks Entry'!AP36)","v":""},"","",{"$f":"IF('Marks Entry'!AQ36=\"\",\"\",'Marks Entry'!AQ36)","v":""},{"$f":"IF('Marks Entry'!AR36=\"\",\"\",'Marks Entry'!AR36)","v":""},"","",{"$f":"IF(AND($B34=\"NSO\",$E34=\"\"),\"\",IF(AND('Marks Entry'!AS36=\"AB\",'Marks Entry'!AT36=\"AB\"),\"AB\",IF(AND('Marks Entry'!AS36=\"ML\",'Marks Entry'!AT36=\"ML\"),\"RE\",IF('Marks Entry'!AS36=\"\",\"\",ROUNDUP(('Marks Entry'!AS36+'Marks Entry'!AT36)*30/100,0)))))","v":""},"",0,0,"","","","",{"$f":"IF('Marks Entry'!AU36=\"\",\"\",'Marks Entry'!AU36)","v":""},{"$f":"IF('Marks Entry'!AW36=\"\",\"\",'Marks Entry'!AW36)","v":""},{"$f":"IF('Marks Entry'!AX36=\"\",\"\",'Marks Entry'!AX36)","v":""},{"$f":"IF('Marks Entry'!AY36=\"\",\"\",'Marks Entry'!AY36)","v":""},"","",{"$f":"IF('Marks Entry'!AZ36=\"\",\"\",'Marks Entry'!AZ36)","v":""},{"$f":"IF('Marks Entry'!BA36=\"\",\"\",'Marks Entry'!BA36)","v":""},"","",{"$f":"IF(AND($B34=\"NSO\",$E34=\"\"),\"\",IF(AND('Marks Entry'!BB36=\"AB\",'Marks Entry'!BC36=\"AB\"),\"AB\",IF(AND('Marks Entry'!BB36=\"ML\",'Marks Entry'!BC36=\"ML\"),\"RE\",IF('Marks Entry'!BB36=\"\",\"\",ROUNDUP(('Marks Entry'!BB36+'Marks Entry'!BC36)*30/100,0)))))","v":""},"",0,0,"","","","",0,"","","","","","",0,0,0,0,0,"",{"$f":"IF('Marks Entry'!BD36=\"\",\"\",'Marks Entry'!BD36)","v":""},{"$f":"IF('Marks Entry'!BE36=\"\",\"\",'Marks Entry'!BE36)","v":""},{"$f":"IF('Marks Entry'!BF36=\"\",\"\",'Marks Entry'!BF36)","v":""},"","","","","","","","","","","","","","","","","","","","","","","","","","",{"$f":"IF('Student DATA Entry'!I31=\"\",\"\",'Student DATA Entry'!I31)","v":""},{"$f":"IF('Student DATA Entry'!J31=\"\",\"\",'Student DATA Entry'!J31)","v":""},"      ","      ","      ","              "," ","","","","",""]
[30,{"$f":"IF('Marks Entry'!B37=\"\",\"\",VALUE('Marks Entry'!B37))","v":""},{"$f":"IF('Marks Entry'!C37=\"\",\"\",'Marks Entry'!C37)","v":""},{"$f":"IF('Marks Entry'!D37=\"\",\"\",'Marks Entry'!D37)","v":""},{"$f":"IF('Marks Entry'!E37=\"\",\"\",'Marks Entry'!E37)","v":""},{"$f":"IF('Marks Entry'!F37=\"\",\"\",'Marks Entry'!F37)","v":""},{"$f":"IF('Marks Entry'!G37=\"\",\"\",'Marks Entry'!G37)","v":""},{"$f":"IF('Marks Entry'!H37=\"\",\"\",'Marks Entry'!H37)","v":""},{"$f":"IF('Marks Entry'!I37=\"\",\"\",'Marks Entry'!I37)","v":""},{"$f":"IF('Marks Entry'!J37=\"\",\"\",'Marks Entry'!J37)","v":""},{"$f":"IF('Marks Entry'!K37=\"\",\"\",'Marks Entry'!K37)","v":""},{"$f":"IF('Marks Entry'!L37=\"\",\"\",'Marks Entry'!L37)","v":""},"","",{"$f":"IF('Marks Entry'!M37=\"\",\"\",'Marks Entry'!M37)","v":""},"",{"$f":"IF(AND($B35=\"NSO\",$E35=\"\",O35=\"\"),\"\",IF(AND('Marks Entry'!N37=\"AB\"),\"AB\",IF(AND('Marks Entry'!N37=\"ML\"),\"RE\",IF('Marks Entry'!N37=\"\",\"\",ROUNDUP('Marks Entry'!N37*30/100,0)))))","v":""},"",0,0,"","","","",{"$f":"IF('Marks Entry'!O37=\"\",\"\",'Marks Entry'!O37)","v":""},{"$f":"IF('Marks Entry'!P37=\"\",\"\",'Marks Entry'!P37)","v":""},{"$f":"IF('Marks Entry'!Q37=\"\",\"\",'Marks Entry'!Q37)","v":""},"","",{"$f":"IF('Marks Entry'!R37=\"\",\"\",'Marks Entry'!R37)","v":""},"",{"$f":"IF(AND($B35=\"NSO\",$E35=\"\"),\"\",IF(AND('Marks Entry'!S37=\"AB\"),\"AB\",IF(AND('Marks Entry'!S37=\"ML\"),\"RE\",IF('Marks Entry'!S37=\"\",\"\",ROUNDUP('Marks Entry'!S37*30/100,0)))))","v":""},"",0,0,"","","","",{"$f":"IF('Marks Entry'!T37=\"\",\"\",'Marks Entry'!T37)","v":""},{"$f":"IF('Marks Entry'!V37=\"\",\"\",'Marks Entry'!V37)","v":""},{"$f":"IF('Marks Entry'!W37=\"\",\"\",'Marks Entry'!W37)","v":""},{"$f":"IF('Marks Entry'!X37=\"\",\"\",'Marks Entry'!X37)","v":""},"","",{"$f":"IF('Marks Entry'!Y37=\"\",\"\",'Marks Entry'!Y37)","v":""},{"$f":"IF('Marks Entry'!Z37=\"\",\"\",'Marks Entry'!Z37)","v":""},"","",{"$f":"IF(AND($B35=\"NSO\",$E35=\"\"),\"\",IF(AND('Marks Entry'!AA37=\"AB\",'Marks Entry'!AB37=\"AB\"),\"AB\",IF(AND('Marks Entry'!AA37=\"ML\",'Marks Entry'!AB37=\"ML\"),\"RE\",IF('Marks Entry'!AA37=\"\",\"\",ROUNDUP(('Marks Entry'!AA37+'Marks Entry'!AB37)*30/100,0)))))","v":""},"",0,0,"","","","",{"$f":"IF('Marks Entry'!AC37=\"\",\"\",'Marks Entry'!AC37)","v":""},{"$f":"IF('Marks Entry'!AE37=\"\",\"\",'Marks Entry'!AE37)","v":""},{"$f":"IF('Marks Entry'!AF37=\"\",\"\",'Marks Entry'!AF37)","v":""},{"$f":"IF('Marks Entry'!AG37=\"\",\"\",'Marks Entry'!AG37)","v":""},"","",{"$f":"IF('Marks Entry'!AH37=\"\",\"\",'Marks Entry'!AH37)","v":""},{"$f":"IF('Marks Entry'!AI37=\"\",\"\",'Marks Entry'!AI37)","v":""},"","",{"$f":"IF(AND($B35=\"NSO\",$E35=\"\"),\"\",IF(AND('Marks Entry'!AJ37=\"AB\",'Marks Entry'!AK37=\"AB\"),\"AB\",IF(AND('Marks Entry'!AJ37=\"ML\",'Marks Entry'!AK37=\"ML\"),\"RE\",IF('Marks Entry'!AJ37=\"\",\"\",ROUNDUP(('Marks Entry'!AJ37+'Marks Entry'!AK37)*30/100,0)))))","v":""},"",0,0,"","","","",{"$f":"IF('Marks Entry'!AL37=\"\",\"\",'Marks Entry'!AL37)","v":""},{"$f":"IF('Marks Entry'!AN37=\"\",\"\",'Marks Entry'!AN37)","v":""},{"$f":"IF('Marks Entry'!AO37=\"\",\"\",'Marks Entry'!AO37)","v":""},{"$f":"IF('Marks Entry'!AP37=\"\",\"\",'Marks Entry'!AP37)","v":""},"","",{"$f":"IF('Marks Entry'!AQ37=\"\",\"\",'Marks Entry'!AQ37)","v":""},{"$f":"IF('Marks Entry'!AR37=\"\",\"\",'Marks Entry'!AR37)","v":""},"","",{"$f":"IF(AND($B35=\"NSO\",$E35=\"\"),\"\",IF(AND('Marks Entry'!AS37=\"AB\",'Marks Entry'!AT37=\"AB\"),\"AB\",IF(AND('Marks Entry'!AS37=\"ML\",'Marks Entry'!AT37=\"ML\"),\"RE\",IF('Marks Entry'!AS37=\"\",\"\",ROUNDUP(('Marks Entry'!AS37+'Marks Entry'!AT37)*30/100,0)))))","v":""},"",0,0,"","","","",{"$f":"IF('Marks Entry'!AU37=\"\",\"\",'Marks Entry'!AU37)","v":""},{"$f":"IF('Marks Entry'!AW37=\"\",\"\",'Marks Entry'!AW37)","v":""},{"$f":"IF('Marks Entry'!AX37=\"\",\"\",'Marks Entry'!AX37)","v":""},{"$f":"IF('Marks Entry'!AY37=\"\",\"\",'Marks Entry'!AY37)","v":""},"","",{"$f":"IF('Marks Entry'!AZ37=\"\",\"\",'Marks Entry'!AZ37)","v":""},{"$f":"IF('Marks Entry'!BA37=\"\",\"\",'Marks Entry'!BA37)","v":""},"","",{"$f":"IF(AND($B35=\"NSO\",$E35=\"\"),\"\",IF(AND('Marks Entry'!BB37=\"AB\",'Marks Entry'!BC37=\"AB\"),\"AB\",IF(AND('Marks Entry'!BB37=\"ML\",'Marks Entry'!BC37=\"ML\"),\"RE\",IF('Marks Entry'!BB37=\"\",\"\",ROUNDUP(('Marks Entry'!BB37+'Marks Entry'!BC37)*30/100,0)))))","v":""},"",0,0,"","","","",0,"","","","","","",0,0,0,0,0,"",{"$f":"IF('Marks Entry'!BD37=\"\",\"\",'Marks Entry'!BD37)","v":""},{"$f":"IF('Marks Entry'!BE37=\"\",\"\",'Marks Entry'!BE37)","v":""},{"$f":"IF('Marks Entry'!BF37=\"\",\"\",'Marks Entry'!BF37)","v":""},"","","","","","","","","","","","","","","","","","","","","","","","","","",{"$f":"IF('Student DATA Entry'!I32=\"\",\"\",'Student DATA Entry'!I32)","v":""},{"$f":"IF('Student DATA Entry'!J32=\"\",\"\",'Student DATA Entry'!J32)","v":""},"      ","      ","      ","              "," ","","","","",""]
[31,{"$f":"IF('Marks Entry'!B38=\"\",\"\",VALUE('Marks Entry'!B38))","v":""},{"$f":"IF('Marks Entry'!C38=\"\",\"\",'Marks Entry'!C38)","v":""},{"$f":"IF('Marks Entry'!D38=\"\",\"\",'Marks Entry'!D38)","v":""},{"$f":"IF('Marks Entry'!E38=\"\",\"\",'Marks Entry'!E38)","v":""},{"$f":"IF('Marks Entry'!F38=\"\",\"\",'Marks Entry'!F38)","v":""},{"$f":"IF('Marks Entry'!G38=\"\",\"\",'Marks Entry'!G38)","v":""},{"$f":"IF('Marks Entry'!H38=\"\",\"\",'Marks Entry'!H38)","v":""},{"$f":"IF('Marks Entry'!I38=\"\",\"\",'Marks Entry'!I38)","v":""},{"$f":"IF('Marks Entry'!J38=\"\",\"\",'Marks Entry'!J38)","v":""},{"$f":"IF('Marks Entry'!K38=\"\",\"\",'Marks Entry'!K38)","v":""},{"$f":"IF('Marks Entry'!L38=\"\",\"\",'Marks Entry'!L38)","v":""},"","",{"$f":"IF('Marks Entry'!M38=\"\",\"\",'Marks Entry'!M38)","v":""},"",{"$f":"IF(AND($B36=\"NSO\",$E36=\"\",O36=\"\"),\"\",IF(AND('Marks Entry'!N38=\"AB\"),\"AB\",IF(AND('Marks Entry'!N38=\"ML\"),\"RE\",IF('Marks Entry'!N38=\"\",\"\",ROUNDUP('Marks Entry'!N38*30/100,0)))))","v":""},"",0,0,"","","","",{"$f":"IF('Marks Entry'!O38=\"\",\"\",'Marks Entry'!O38)","v":""},{"$f":"IF('Marks Entry'!P38=\"\",\"\",'Marks Entry'!P38)","v":""},{"$f":"IF('Marks Entry'!Q38=\"\",\"\",'Marks Entry'!Q38)","v":""},"","",{"$f":"IF('Marks Entry'!R38=\"\",\"\",'Marks Entry'!R38)","v":""},"",{"$f":"IF(AND($B36=\"NSO\",$E36=\"\"),\"\",IF(AND('Marks Entry'!S38=\"AB\"),\"AB\",IF(AND('Marks Entry'!S38=\"ML\"),\"RE\",IF('Marks Entry'!S38=\"\",\"\",ROUNDUP('Marks Entry'!S38*30/100,0)))))","v":""},"",0,0,"","","","",{"$f":"IF('Marks Entry'!T38=\"\",\"\",'Marks Entry'!T38)","v":""},{"$f":"IF('Marks Entry'!V38=\"\",\"\",'Marks Entry'!V38)","v":""},{"$f":"IF('Marks Entry'!W38=\"\",\"\",'Marks Entry'!W38)","v":""},{"$f":"IF('Marks Entry'!X38=\"\",\"\",'Marks Entry'!X38)","v":""},"","",{"$f":"IF('Marks Entry'!Y38=\"\",\"\",'Marks Entry'!Y38)","v":""},{"$f":"IF('Marks Entry'!Z38=\"\",\"\",'Marks Entry'!Z38)","v":""},"","",{"$f":"IF(AND($B36=\"NSO\",$E36=\"\"),\"\",IF(AND('Marks Entry'!AA38=\"AB\",'Marks Entry'!AB38=\"AB\"),\"AB\",IF(AND('Marks Entry'!AA38=\"ML\",'Marks Entry'!AB38=\"ML\"),\"RE\",IF('Marks Entry'!AA38=\"\",\"\",ROUNDUP(('Marks Entry'!AA38+'Marks Entry'!AB38)*30/100,0)))))","v":""},"",0,0,"","","","",{"$f":"IF('Marks Entry'!AC38=\"\",\"\",'Marks Entry'!AC38)","v":""},{"$f":"IF('Marks Entry'!AE38=\"\",\"\",'Marks Entry'!AE38)","v":""},{"$f":"IF('Marks Entry'!AF38=\"\",\"\",'Marks Entry'!AF38)","v":""},{"$f":"IF('Marks Entry'!AG38=\"\",\"\",'Marks Entry'!AG38)","v":""},"","",{"$f":"IF('Marks Entry'!AH38=\"\",\"\",'Marks Entry'!AH38)","v":""},{"$f":"IF('Marks Entry'!AI38=\"\",\"\",'Marks Entry'!AI38)","v":""},"","",{"$f":"IF(AND($B36=\"NSO\",$E36=\"\"),\"\",IF(AND('Marks Entry'!AJ38=\"AB\",'Marks Entry'!AK38=\"AB\"),\"AB\",IF(AND('Marks Entry'!AJ38=\"ML\",'Marks Entry'!AK38=\"ML\"),\"RE\",IF('Marks Entry'!AJ38=\"\",\"\",ROUNDUP(('Marks Entry'!AJ38+'Marks Entry'!AK38)*30/100,0)))))","v":""},"",0,0,"","","","",{"$f":"IF('Marks Entry'!AL38=\"\",\"\",'Marks Entry'!AL38)","v":""},{"$f":"IF('Marks Entry'!AN38=\"\",\"\",'Marks Entry'!AN38)","v":""},{"$f":"IF('Marks Entry'!AO38=\"\",\"\",'Marks Entry'!AO38)","v":""},{"$f":"IF('Marks Entry'!AP38=\"\",\"\",'Marks Entry'!AP38)","v":""},"","",{"$f":"IF('Marks Entry'!AQ38=\"\",\"\",'Marks Entry'!AQ38)","v":""},{"$f":"IF('Marks Entry'!AR38=\"\",\"\",'Marks Entry'!AR38)","v":""},"","",{"$f":"IF(AND($B36=\"NSO\",$E36=\"\"),\"\",IF(AND('Marks Entry'!AS38=\"AB\",'Marks Entry'!AT38=\"AB\"),\"AB\",IF(AND('Marks Entry'!AS38=\"ML\",'Marks Entry'!AT38=\"ML\"),\"RE\",IF('Marks Entry'!AS38=\"\",\"\",ROUNDUP(('Marks Entry'!AS38+'Marks Entry'!AT38)*30/100,0)))))","v":""},"",0,0,"","","","",{"$f":"IF('Marks Entry'!AU38=\"\",\"\",'Marks Entry'!AU38)","v":""},{"$f":"IF('Marks Entry'!AW38=\"\",\"\",'Marks Entry'!AW38)","v":""},{"$f":"IF('Marks Entry'!AX38=\"\",\"\",'Marks Entry'!AX38)","v":""},{"$f":"IF('Marks Entry'!AY38=\"\",\"\",'Marks Entry'!AY38)","v":""},"","",{"$f":"IF('Marks Entry'!AZ38=\"\",\"\",'Marks Entry'!AZ38)","v":""},{"$f":"IF('Marks Entry'!BA38=\"\",\"\",'Marks Entry'!BA38)","v":""},"","",{"$f":"IF(AND($B36=\"NSO\",$E36=\"\"),\"\",IF(AND('Marks Entry'!BB38=\"AB\",'Marks Entry'!BC38=\"AB\"),\"AB\",IF(AND('Marks Entry'!BB38=\"ML\",'Marks Entry'!BC38=\"ML\"),\"RE\",IF('Marks Entry'!BB38=\"\",\"\",ROUNDUP(('Marks Entry'!BB38+'Marks Entry'!BC38)*30/100,0)))))","v":""},"",0,0,"","","","",0,"","","","","","",0,0,0,0,0,"",{"$f":"IF('Marks Entry'!BD38=\"\",\"\",'Marks Entry'!BD38)","v":""},{"$f":"IF('Marks Entry'!BE38=\"\",\"\",'Marks Entry'!BE38)","v":""},{"$f":"IF('Marks Entry'!BF38=\"\",\"\",'Marks Entry'!BF38)","v":""},"","","","","","","","","","","","","","","","","","","","","","","","","","",{"$f":"IF('Student DATA Entry'!I33=\"\",\"\",'Student DATA Entry'!I33)","v":""},{"$f":"IF('Student DATA Entry'!J33=\"\",\"\",'Student DATA Entry'!J33)","v":""},"      ","      ","      ","              "," ","","","","",""]
[32,{"$f":"IF('Marks Entry'!B39=\"\",\"\",VALUE('Marks Entry'!B39))","v":""},{"$f":"IF('Marks Entry'!C39=\"\",\"\",'Marks Entry'!C39)","v":""},{"$f":"IF('Marks Entry'!D39=\"\",\"\",'Marks Entry'!D39)","v":""},{"$f":"IF('Marks Entry'!E39=\"\",\"\",'Marks Entry'!E39)","v":""},{"$f":"IF('Marks Entry'!F39=\"\",\"\",'Marks Entry'!F39)","v":""},{"$f":"IF('Marks Entry'!G39=\"\",\"\",'Marks Entry'!G39)","v":""},{"$f":"IF('Marks Entry'!H39=\"\",\"\",'Marks Entry'!H39)","v":""},{"$f":"IF('Marks Entry'!I39=\"\",\"\",'Marks Entry'!I39)","v":""},{"$f":"IF('Marks Entry'!J39=\"\",\"\",'Marks Entry'!J39)","v":""},{"$f":"IF('Marks Entry'!K39=\"\",\"\",'Marks Entry'!K39)","v":""},{"$f":"IF('Marks Entry'!L39=\"\",\"\",'Marks Entry'!L39)","v":""},"","",{"$f":"IF('Marks Entry'!M39=\"\",\"\",'Marks Entry'!M39)","v":""},"",{"$f":"IF(AND($B37=\"NSO\",$E37=\"\",O37=\"\"),\"\",IF(AND('Marks Entry'!N39=\"AB\"),\"AB\",IF(AND('Marks Entry'!N39=\"ML\"),\"RE\",IF('Marks Entry'!N39=\"\",\"\",ROUNDUP('Marks Entry'!N39*30/100,0)))))","v":""},"",0,0,"","","","",{"$f":"IF('Marks Entry'!O39=\"\",\"\",'Marks Entry'!O39)","v":""},{"$f":"IF('Marks Entry'!P39=\"\",\"\",'Marks Entry'!P39)","v":""},{"$f":"IF('Marks Entry'!Q39=\"\",\"\",'Marks Entry'!Q39)","v":""},"","",{"$f":"IF('Marks Entry'!R39=\"\",\"\",'Marks Entry'!R39)","v":""},"",{"$f":"IF(AND($B37=\"NSO\",$E37=\"\"),\"\",IF(AND('Marks Entry'!S39=\"AB\"),\"AB\",IF(AND('Marks Entry'!S39=\"ML\"),\"RE\",IF('Marks Entry'!S39=\"\",\"\",ROUNDUP('Marks Entry'!S39*30/100,0)))))","v":""},"",0,0,"","","","",{"$f":"IF('Marks Entry'!T39=\"\",\"\",'Marks Entry'!T39)","v":""},{"$f":"IF('Marks Entry'!V39=\"\",\"\",'Marks Entry'!V39)","v":""},{"$f":"IF('Marks Entry'!W39=\"\",\"\",'Marks Entry'!W39)","v":""},{"$f":"IF('Marks Entry'!X39=\"\",\"\",'Marks Entry'!X39)","v":""},"","",{"$f":"IF('Marks Entry'!Y39=\"\",\"\",'Marks Entry'!Y39)","v":""},{"$f":"IF('Marks Entry'!Z39=\"\",\"\",'Marks Entry'!Z39)","v":""},"","",{"$f":"IF(AND($B37=\"NSO\",$E37=\"\"),\"\",IF(AND('Marks Entry'!AA39=\"AB\",'Marks Entry'!AB39=\"AB\"),\"AB\",IF(AND('Marks Entry'!AA39=\"ML\",'Marks Entry'!AB39=\"ML\"),\"RE\",IF('Marks Entry'!AA39=\"\",\"\",ROUNDUP(('Marks Entry'!AA39+'Marks Entry'!AB39)*30/100,0)))))","v":""},"",0,0,"","","","",{"$f":"IF('Marks Entry'!AC39=\"\",\"\",'Marks Entry'!AC39)","v":""},{"$f":"IF('Marks Entry'!AE39=\"\",\"\",'Marks Entry'!AE39)","v":""},{"$f":"IF('Marks Entry'!AF39=\"\",\"\",'Marks Entry'!AF39)","v":""},{"$f":"IF('Marks Entry'!AG39=\"\",\"\",'Marks Entry'!AG39)","v":""},"","",{"$f":"IF('Marks Entry'!AH39=\"\",\"\",'Marks Entry'!AH39)","v":""},{"$f":"IF('Marks Entry'!AI39=\"\",\"\",'Marks Entry'!AI39)","v":""},"","",{"$f":"IF(AND($B37=\"NSO\",$E37=\"\"),\"\",IF(AND('Marks Entry'!AJ39=\"AB\",'Marks Entry'!AK39=\"AB\"),\"AB\",IF(AND('Marks Entry'!AJ39=\"ML\",'Marks Entry'!AK39=\"ML\"),\"RE\",IF('Marks Entry'!AJ39=\"\",\"\",ROUNDUP(('Marks Entry'!AJ39+'Marks Entry'!AK39)*30/100,0)))))","v":""},"",0,0,"","","","",{"$f":"IF('Marks Entry'!AL39=\"\",\"\",'Marks Entry'!AL39)","v":""},{"$f":"IF('Marks Entry'!AN39=\"\",\"\",'Marks Entry'!AN39)","v":""},{"$f":"IF('Marks Entry'!AO39=\"\",\"\",'Marks Entry'!AO39)","v":""},{"$f":"IF('Marks Entry'!AP39=\"\",\"\",'Marks Entry'!AP39)","v":""},"","",{"$f":"IF('Marks Entry'!AQ39=\"\",\"\",'Marks Entry'!AQ39)","v":""},{"$f":"IF('Marks Entry'!AR39=\"\",\"\",'Marks Entry'!AR39)","v":""},"","",{"$f":"IF(AND($B37=\"NSO\",$E37=\"\"),\"\",IF(AND('Marks Entry'!AS39=\"AB\",'Marks Entry'!AT39=\"AB\"),\"AB\",IF(AND('Marks Entry'!AS39=\"ML\",'Marks Entry'!AT39=\"ML\"),\"RE\",IF('Marks Entry'!AS39=\"\",\"\",ROUNDUP(('Marks Entry'!AS39+'Marks Entry'!AT39)*30/100,0)))))","v":""},"",0,0,"","","","",{"$f":"IF('Marks Entry'!AU39=\"\",\"\",'Marks Entry'!AU39)","v":""},{"$f":"IF('Marks Entry'!AW39=\"\",\"\",'Marks Entry'!AW39)","v":""},{"$f":"IF('Marks Entry'!AX39=\"\",\"\",'Marks Entry'!AX39)","v":""},{"$f":"IF('Marks Entry'!AY39=\"\",\"\",'Marks Entry'!AY39)","v":""},"","",{"$f":"IF('Marks Entry'!AZ39=\"\",\"\",'Marks Entry'!AZ39)","v":""},{"$f":"IF('Marks Entry'!BA39=\"\",\"\",'Marks Entry'!BA39)","v":""},"","",{"$f":"IF(AND($B37=\"NSO\",$E37=\"\"),\"\",IF(AND('Marks Entry'!BB39=\"AB\",'Marks Entry'!BC39=\"AB\"),\"AB\",IF(AND('Marks Entry'!BB39=\"ML\",'Marks Entry'!BC39=\"ML\"),\"RE\",IF('Marks Entry'!BB39=\"\",\"\",ROUNDUP(('Marks Entry'!BB39+'Marks Entry'!BC39)*30/100,0)))))","v":""},"",0,0,"","","","",0,"","","","","","",0,0,0,0,0,"",{"$f":"IF('Marks Entry'!BD39=\"\",\"\",'Marks Entry'!BD39)","v":""},{"$f":"IF('Marks Entry'!BE39=\"\",\"\",'Marks Entry'!BE39)","v":""},{"$f":"IF('Marks Entry'!BF39=\"\",\"\",'Marks Entry'!BF39)","v":""},"","","","","","","","","","","","","","","","","","","","","","","","","","",{"$f":"IF('Student DATA Entry'!I34=\"\",\"\",'Student DATA Entry'!I34)","v":""},{"$f":"IF('Student DATA Entry'!J34=\"\",\"\",'Student DATA Entry'!J34)","v":""},"      ","      ","      ","              "," ","","","","",""]
[33,{"$f":"IF('Marks Entry'!B40=\"\",\"\",VALUE('Marks Entry'!B40))","v":""},{"$f":"IF('Marks Entry'!C40=\"\",\"\",'Marks Entry'!C40)","v":""},{"$f":"IF('Marks Entry'!D40=\"\",\"\",'Marks Entry'!D40)","v":""},{"$f":"IF('Marks Entry'!E40=\"\",\"\",'Marks Entry'!E40)","v":""},{"$f":"IF('Marks Entry'!F40=\"\",\"\",'Marks Entry'!F40)","v":""},{"$f":"IF('Marks Entry'!G40=\"\",\"\",'Marks Entry'!G40)","v":""},{"$f":"IF('Marks Entry'!H40=\"\",\"\",'Marks Entry'!H40)","v":""},{"$f":"IF('Marks Entry'!I40=\"\",\"\",'Marks Entry'!I40)","v":""},{"$f":"IF('Marks Entry'!J40=\"\",\"\",'Marks Entry'!J40)","v":""},{"$f":"IF('Marks Entry'!K40=\"\",\"\",'Marks Entry'!K40)","v":""},{"$f":"IF('Marks Entry'!L40=\"\",\"\",'Marks Entry'!L40)","v":""},"","",{"$f":"IF('Marks Entry'!M40=\"\",\"\",'Marks Entry'!M40)","v":""},"",{"$f":"IF(AND($B38=\"NSO\",$E38=\"\",O38=\"\"),\"\",IF(AND('Marks Entry'!N40=\"AB\"),\"AB\",IF(AND('Marks Entry'!N40=\"ML\"),\"RE\",IF('Marks Entry'!N40=\"\",\"\",ROUNDUP('Marks Entry'!N40*30/100,0)))))","v":""},"",0,0,"","","","",{"$f":"IF('Marks Entry'!O40=\"\",\"\",'Marks Entry'!O40)","v":""},{"$f":"IF('Marks Entry'!P40=\"\",\"\",'Marks Entry'!P40)","v":""},{"$f":"IF('Marks Entry'!Q40=\"\",\"\",'Marks Entry'!Q40)","v":""},"","",{"$f":"IF('Marks Entry'!R40=\"\",\"\",'Marks Entry'!R40)","v":""},"",{"$f":"IF(AND($B38=\"NSO\",$E38=\"\"),\"\",IF(AND('Marks Entry'!S40=\"AB\"),\"AB\",IF(AND('Marks Entry'!S40=\"ML\"),\"RE\",IF('Marks Entry'!S40=\"\",\"\",ROUNDUP('Marks Entry'!S40*30/100,0)))))","v":""},"",0,0,"","","","",{"$f":"IF('Marks Entry'!T40=\"\",\"\",'Marks Entry'!T40)","v":""},{"$f":"IF('Marks Entry'!V40=\"\",\"\",'Marks Entry'!V40)","v":""},{"$f":"IF('Marks Entry'!W40=\"\",\"\",'Marks Entry'!W40)","v":""},{"$f":"IF('Marks Entry'!X40=\"\",\"\",'Marks Entry'!X40)","v":""},"","",{"$f":"IF('Marks Entry'!Y40=\"\",\"\",'Marks Entry'!Y40)","v":""},{"$f":"IF('Marks Entry'!Z40=\"\",\"\",'Marks Entry'!Z40)","v":""},"","",{"$f":"IF(AND($B38=\"NSO\",$E38=\"\"),\"\",IF(AND('Marks Entry'!AA40=\"AB\",'Marks Entry'!AB40=\"AB\"),\"AB\",IF(AND('Marks Entry'!AA40=\"ML\",'Marks Entry'!AB40=\"ML\"),\"RE\",IF('Marks Entry'!AA40=\"\",\"\",ROUNDUP(('Marks Entry'!AA40+'Marks Entry'!AB40)*30/100,0)))))","v":""},"",0,0,"","","","",{"$f":"IF('Marks Entry'!AC40=\"\",\"\",'Marks Entry'!AC40)","v":""},{"$f":"IF('Marks Entry'!AE40=\"\",\"\",'Marks Entry'!AE40)","v":""},{"$f":"IF('Marks Entry'!AF40=\"\",\"\",'Marks Entry'!AF40)","v":""},{"$f":"IF('Marks Entry'!AG40=\"\",\"\",'Marks Entry'!AG40)","v":""},"","",{"$f":"IF('Marks Entry'!AH40=\"\",\"\",'Marks Entry'!AH40)","v":""},{"$f":"IF('Marks Entry'!AI40=\"\",\"\",'Marks Entry'!AI40)","v":""},"","",{"$f":"IF(AND($B38=\"NSO\",$E38=\"\"),\"\",IF(AND('Marks Entry'!AJ40=\"AB\",'Marks Entry'!AK40=\"AB\"),\"AB\",IF(AND('Marks Entry'!AJ40=\"ML\",'Marks Entry'!AK40=\"ML\"),\"RE\",IF('Marks Entry'!AJ40=\"\",\"\",ROUNDUP(('Marks Entry'!AJ40+'Marks Entry'!AK40)*30/100,0)))))","v":""},"",0,0,"","","","",{"$f":"IF('Marks Entry'!AL40=\"\",\"\",'Marks Entry'!AL40)","v":""},{"$f":"IF('Marks Entry'!AN40=\"\",\"\",'Marks Entry'!AN40)","v":""},{"$f":"IF('Marks Entry'!AO40=\"\",\"\",'Marks Entry'!AO40)","v":""},{"$f":"IF('Marks Entry'!AP40=\"\",\"\",'Marks Entry'!AP40)","v":""},"","",{"$f":"IF('Marks Entry'!AQ40=\"\",\"\",'Marks Entry'!AQ40)","v":""},{"$f":"IF('Marks Entry'!AR40=\"\",\"\",'Marks Entry'!AR40)","v":""},"","",{"$f":"IF(AND($B38=\"NSO\",$E38=\"\"),\"\",IF(AND('Marks Entry'!AS40=\"AB\",'Marks Entry'!AT40=\"AB\"),\"AB\",IF(AND('Marks Entry'!AS40=\"ML\",'Marks Entry'!AT40=\"ML\"),\"RE\",IF('Marks Entry'!AS40=\"\",\"\",ROUNDUP(('Marks Entry'!AS40+'Marks Entry'!AT40)*30/100,0)))))","v":""},"",0,0,"","","","",{"$f":"IF('Marks Entry'!AU40=\"\",\"\",'Marks Entry'!AU40)","v":""},{"$f":"IF('Marks Entry'!AW40=\"\",\"\",'Marks Entry'!AW40)","v":""},{"$f":"IF('Marks Entry'!AX40=\"\",\"\",'Marks Entry'!AX40)","v":""},{"$f":"IF('Marks Entry'!AY40=\"\",\"\",'Marks Entry'!AY40)","v":""},"","",{"$f":"IF('Marks Entry'!AZ40=\"\",\"\",'Marks Entry'!AZ40)","v":""},{"$f":"IF('Marks Entry'!BA40=\"\",\"\",'Marks Entry'!BA40)","v":""},"","",{"$f":"IF(AND($B38=\"NSO\",$E38=\"\"),\"\",IF(AND('Marks Entry'!BB40=\"AB\",'Marks Entry'!BC40=\"AB\"),\"AB\",IF(AND('Marks Entry'!BB40=\"ML\",'Marks Entry'!BC40=\"ML\"),\"RE\",IF('Marks Entry'!BB40=\"\",\"\",ROUNDUP(('Marks Entry'!BB40+'Marks Entry'!BC40)*30/100,0)))))","v":""},"",0,0,"","","","",0,"","","","","","",0,0,0,0,0,"",{"$f":"IF('Marks Entry'!BD40=\"\",\"\",'Marks Entry'!BD40)","v":""},{"$f":"IF('Marks Entry'!BE40=\"\",\"\",'Marks Entry'!BE40)","v":""},{"$f":"IF('Marks Entry'!BF40=\"\",\"\",'Marks Entry'!BF40)","v":""},"","","","","","","","","","","","","","","","","","","","","","","","","","",{"$f":"IF('Student DATA Entry'!I35=\"\",\"\",'Student DATA Entry'!I35)","v":""},{"$f":"IF('Student DATA Entry'!J35=\"\",\"\",'Student DATA Entry'!J35)","v":""},"      ","      ","      ","              "," ","","","","",""]
[34,{"$f":"IF('Marks Entry'!B41=\"\",\"\",VALUE('Marks Entry'!B41))","v":""},{"$f":"IF('Marks Entry'!C41=\"\",\"\",'Marks Entry'!C41)","v":""},{"$f":"IF('Marks Entry'!D41=\"\",\"\",'Marks Entry'!D41)","v":""},{"$f":"IF('Marks Entry'!E41=\"\",\"\",'Marks Entry'!E41)","v":""},{"$f":"IF('Marks Entry'!F41=\"\",\"\",'Marks Entry'!F41)","v":""},{"$f":"IF('Marks Entry'!G41=\"\",\"\",'Marks Entry'!G41)","v":""},{"$f":"IF('Marks Entry'!H41=\"\",\"\",'Marks Entry'!H41)","v":""},{"$f":"IF('Marks Entry'!I41=\"\",\"\",'Marks Entry'!I41)","v":""},{"$f":"IF('Marks Entry'!J41=\"\",\"\",'Marks Entry'!J41)","v":""},{"$f":"IF('Marks Entry'!K41=\"\",\"\",'Marks Entry'!K41)","v":""},{"$f":"IF('Marks Entry'!L41=\"\",\"\",'Marks Entry'!L41)","v":""},"","",{"$f":"IF('Marks Entry'!M41=\"\",\"\",'Marks Entry'!M41)","v":""},"",{"$f":"IF(AND($B39=\"NSO\",$E39=\"\",O39=\"\"),\"\",IF(AND('Marks Entry'!N41=\"AB\"),\"AB\",IF(AND('Marks Entry'!N41=\"ML\"),\"RE\",IF('Marks Entry'!N41=\"\",\"\",ROUNDUP('Marks Entry'!N41*30/100,0)))))","v":""},"",0,0,"","","","",{"$f":"IF('Marks Entry'!O41=\"\",\"\",'Marks Entry'!O41)","v":""},{"$f":"IF('Marks Entry'!P41=\"\",\"\",'Marks Entry'!P41)","v":""},{"$f":"IF('Marks Entry'!Q41=\"\",\"\",'Marks Entry'!Q41)","v":""},"","",{"$f":"IF('Marks Entry'!R41=\"\",\"\",'Marks Entry'!R41)","v":""},"",{"$f":"IF(AND($B39=\"NSO\",$E39=\"\"),\"\",IF(AND('Marks Entry'!S41=\"AB\"),\"AB\",IF(AND('Marks Entry'!S41=\"ML\"),\"RE\",IF('Marks Entry'!S41=\"\",\"\",ROUNDUP('Marks Entry'!S41*30/100,0)))))","v":""},"",0,0,"","","","",{"$f":"IF('Marks Entry'!T41=\"\",\"\",'Marks Entry'!T41)","v":""},{"$f":"IF('Marks Entry'!V41=\"\",\"\",'Marks Entry'!V41)","v":""},{"$f":"IF('Marks Entry'!W41=\"\",\"\",'Marks Entry'!W41)","v":""},{"$f":"IF('Marks Entry'!X41=\"\",\"\",'Marks Entry'!X41)","v":""},"","",{"$f":"IF('Marks Entry'!Y41=\"\",\"\",'Marks Entry'!Y41)","v":""},{"$f":"IF('Marks Entry'!Z41=\"\",\"\",'Marks Entry'!Z41)","v":""},"","",{"$f":"IF(AND($B39=\"NSO\",$E39=\"\"),\"\",IF(AND('Marks Entry'!AA41=\"AB\",'Marks Entry'!AB41=\"AB\"),\"AB\",IF(AND('Marks Entry'!AA41=\"ML\",'Marks Entry'!AB41=\"ML\"),\"RE\",IF('Marks Entry'!AA41=\"\",\"\",ROUNDUP(('Marks Entry'!AA41+'Marks Entry'!AB41)*30/100,0)))))","v":""},"",0,0,"","","","",{"$f":"IF('Marks Entry'!AC41=\"\",\"\",'Marks Entry'!AC41)","v":""},{"$f":"IF('Marks Entry'!AE41=\"\",\"\",'Marks Entry'!AE41)","v":""},{"$f":"IF('Marks Entry'!AF41=\"\",\"\",'Marks Entry'!AF41)","v":""},{"$f":"IF('Marks Entry'!AG41=\"\",\"\",'Marks Entry'!AG41)","v":""},"","",{"$f":"IF('Marks Entry'!AH41=\"\",\"\",'Marks Entry'!AH41)","v":""},{"$f":"IF('Marks Entry'!AI41=\"\",\"\",'Marks Entry'!AI41)","v":""},"","",{"$f":"IF(AND($B39=\"NSO\",$E39=\"\"),\"\",IF(AND('Marks Entry'!AJ41=\"AB\",'Marks Entry'!AK41=\"AB\"),\"AB\",IF(AND('Marks Entry'!AJ41=\"ML\",'Marks Entry'!AK41=\"ML\"),\"RE\",IF('Marks Entry'!AJ41=\"\",\"\",ROUNDUP(('Marks Entry'!AJ41+'Marks Entry'!AK41)*30/100,0)))))","v":""},"",0,0,"","","","",{"$f":"IF('Marks Entry'!AL41=\"\",\"\",'Marks Entry'!AL41)","v":""},{"$f":"IF('Marks Entry'!AN41=\"\",\"\",'Marks Entry'!AN41)","v":""},{"$f":"IF('Marks Entry'!AO41=\"\",\"\",'Marks Entry'!AO41)","v":""},{"$f":"IF('Marks Entry'!AP41=\"\",\"\",'Marks Entry'!AP41)","v":""},"","",{"$f":"IF('Marks Entry'!AQ41=\"\",\"\",'Marks Entry'!AQ41)","v":""},{"$f":"IF('Marks Entry'!AR41=\"\",\"\",'Marks Entry'!AR41)","v":""},"","",{"$f":"IF(AND($B39=\"NSO\",$E39=\"\"),\"\",IF(AND('Marks Entry'!AS41=\"AB\",'Marks Entry'!AT41=\"AB\"),\"AB\",IF(AND('Marks Entry'!AS41=\"ML\",'Marks Entry'!AT41=\"ML\"),\"RE\",IF('Marks Entry'!AS41=\"\",\"\",ROUNDUP(('Marks Entry'!AS41+'Marks Entry'!AT41)*30/100,0)))))","v":""},"",0,0,"","","","",{"$f":"IF('Marks Entry'!AU41=\"\",\"\",'Marks Entry'!AU41)","v":""},{"$f":"IF('Marks Entry'!AW41=\"\",\"\",'Marks Entry'!AW41)","v":""},{"$f":"IF('Marks Entry'!AX41=\"\",\"\",'Marks Entry'!AX41)","v":""},{"$f":"IF('Marks Entry'!AY41=\"\",\"\",'Marks Entry'!AY41)","v":""},"","",{"$f":"IF('Marks Entry'!AZ41=\"\",\"\",'Marks Entry'!AZ41)","v":""},{"$f":"IF('Marks Entry'!BA41=\"\",\"\",'Marks Entry'!BA41)","v":""},"","",{"$f":"IF(AND($B39=\"NSO\",$E39=\"\"),\"\",IF(AND('Marks Entry'!BB41=\"AB\",'Marks Entry'!BC41=\"AB\"),\"AB\",IF(AND('Marks Entry'!BB41=\"ML\",'Marks Entry'!BC41=\"ML\"),\"RE\",IF('Marks Entry'!BB41=\"\",\"\",ROUNDUP(('Marks Entry'!BB41+'Marks Entry'!BC41)*30/100,0)))))","v":""},"",0,0,"","","","",0,"","","","","","",0,0,0,0,0,"",{"$f":"IF('Marks Entry'!BD41=\"\",\"\",'Marks Entry'!BD41)","v":""},{"$f":"IF('Marks Entry'!BE41=\"\",\"\",'Marks Entry'!BE41)","v":""},{"$f":"IF('Marks Entry'!BF41=\"\",\"\",'Marks Entry'!BF41)","v":""},"","","","","","","","","","","","","","","","","","","","","","","","","","",{"$f":"IF('Student DATA Entry'!I36=\"\",\"\",'Student DATA Entry'!I36)","v":""},{"$f":"IF('Student DATA Entry'!J36=\"\",\"\",'Student DATA Entry'!J36)","v":""},"      ","      ","      ","              "," ","","","","",""]
[35,{"$f":"IF('Marks Entry'!B42=\"\",\"\",VALUE('Marks Entry'!B42))","v":""},{"$f":"IF('Marks Entry'!C42=\"\",\"\",'Marks Entry'!C42)","v":""},{"$f":"IF('Marks Entry'!D42=\"\",\"\",'Marks Entry'!D42)","v":""},{"$f":"IF('Marks Entry'!E42=\"\",\"\",'Marks Entry'!E42)","v":""},{"$f":"IF('Marks Entry'!F42=\"\",\"\",'Marks Entry'!F42)","v":""},{"$f":"IF('Marks Entry'!G42=\"\",\"\",'Marks Entry'!G42)","v":""},{"$f":"IF('Marks Entry'!H42=\"\",\"\",'Marks Entry'!H42)","v":""},{"$f":"IF('Marks Entry'!I42=\"\",\"\",'Marks Entry'!I42)","v":""},{"$f":"IF('Marks Entry'!J42=\"\",\"\",'Marks Entry'!J42)","v":""},{"$f":"IF('Marks Entry'!K42=\"\",\"\",'Marks Entry'!K42)","v":""},{"$f":"IF('Marks Entry'!L42=\"\",\"\",'Marks Entry'!L42)","v":""},"","",{"$f":"IF('Marks Entry'!M42=\"\",\"\",'Marks Entry'!M42)","v":""},"",{"$f":"IF(AND($B40=\"NSO\",$E40=\"\",O40=\"\"),\"\",IF(AND('Marks Entry'!N42=\"AB\"),\"AB\",IF(AND('Marks Entry'!N42=\"ML\"),\"RE\",IF('Marks Entry'!N42=\"\",\"\",ROUNDUP('Marks Entry'!N42*30/100,0)))))","v":""},"",0,0,"","","","",{"$f":"IF('Marks Entry'!O42=\"\",\"\",'Marks Entry'!O42)","v":""},{"$f":"IF('Marks Entry'!P42=\"\",\"\",'Marks Entry'!P42)","v":""},{"$f":"IF('Marks Entry'!Q42=\"\",\"\",'Marks Entry'!Q42)","v":""},"","",{"$f":"IF('Marks Entry'!R42=\"\",\"\",'Marks Entry'!R42)","v":""},"",{"$f":"IF(AND($B40=\"NSO\",$E40=\"\"),\"\",IF(AND('Marks Entry'!S42=\"AB\"),\"AB\",IF(AND('Marks Entry'!S42=\"ML\"),\"RE\",IF('Marks Entry'!S42=\"\",\"\",ROUNDUP('Marks Entry'!S42*30/100,0)))))","v":""},"",0,0,"","","","",{"$f":"IF('Marks Entry'!T42=\"\",\"\",'Marks Entry'!T42)","v":""},{"$f":"IF('Marks Entry'!V42=\"\",\"\",'Marks Entry'!V42)","v":""},{"$f":"IF('Marks Entry'!W42=\"\",\"\",'Marks Entry'!W42)","v":""},{"$f":"IF('Marks Entry'!X42=\"\",\"\",'Marks Entry'!X42)","v":""},"","",{"$f":"IF('Marks Entry'!Y42=\"\",\"\",'Marks Entry'!Y42)","v":""},{"$f":"IF('Marks Entry'!Z42=\"\",\"\",'Marks Entry'!Z42)","v":""},"","",{"$f":"IF(AND($B40=\"NSO\",$E40=\"\"),\"\",IF(AND('Marks Entry'!AA42=\"AB\",'Marks Entry'!AB42=\"AB\"),\"AB\",IF(AND('Marks Entry'!AA42=\"ML\",'Marks Entry'!AB42=\"ML\"),\"RE\",IF('Marks Entry'!AA42=\"\",\"\",ROUNDUP(('Marks Entry'!AA42+'Marks Entry'!AB42)*30/100,0)))))","v":""},"",0,0,"","","","",{"$f":"IF('Marks Entry'!AC42=\"\",\"\",'Marks Entry'!AC42)","v":""},{"$f":"IF('Marks Entry'!AE42=\"\",\"\",'Marks Entry'!AE42)","v":""},{"$f":"IF('Marks Entry'!AF42=\"\",\"\",'Marks Entry'!AF42)","v":""},{"$f":"IF('Marks Entry'!AG42=\"\",\"\",'Marks Entry'!AG42)","v":""},"","",{"$f":"IF('Marks Entry'!AH42=\"\",\"\",'Marks Entry'!AH42)","v":""},{"$f":"IF('Marks Entry'!AI42=\"\",\"\",'Marks Entry'!AI42)","v":""},"","",{"$f":"IF(AND($B40=\"NSO\",$E40=\"\"),\"\",IF(AND('Marks Entry'!AJ42=\"AB\",'Marks Entry'!AK42=\"AB\"),\"AB\",IF(AND('Marks Entry'!AJ42=\"ML\",'Marks Entry'!AK42=\"ML\"),\"RE\",IF('Marks Entry'!AJ42=\"\",\"\",ROUNDUP(('Marks Entry'!AJ42+'Marks Entry'!AK42)*30/100,0)))))","v":""},"",0,0,"","","","",{"$f":"IF('Marks Entry'!AL42=\"\",\"\",'Marks Entry'!AL42)","v":""},{"$f":"IF('Marks Entry'!AN42=\"\",\"\",'Marks Entry'!AN42)","v":""},{"$f":"IF('Marks Entry'!AO42=\"\",\"\",'Marks Entry'!AO42)","v":""},{"$f":"IF('Marks Entry'!AP42=\"\",\"\",'Marks Entry'!AP42)","v":""},"","",{"$f":"IF('Marks Entry'!AQ42=\"\",\"\",'Marks Entry'!AQ42)","v":""},{"$f":"IF('Marks Entry'!AR42=\"\",\"\",'Marks Entry'!AR42)","v":""},"","",{"$f":"IF(AND($B40=\"NSO\",$E40=\"\"),\"\",IF(AND('Marks Entry'!AS42=\"AB\",'Marks Entry'!AT42=\"AB\"),\"AB\",IF(AND('Marks Entry'!AS42=\"ML\",'Marks Entry'!AT42=\"ML\"),\"RE\",IF('Marks Entry'!AS42=\"\",\"\",ROUNDUP(('Marks Entry'!AS42+'Marks Entry'!AT42)*30/100,0)))))","v":""},"",0,0,"","","","",{"$f":"IF('Marks Entry'!AU42=\"\",\"\",'Marks Entry'!AU42)","v":""},{"$f":"IF('Marks Entry'!AW42=\"\",\"\",'Marks Entry'!AW42)","v":""},{"$f":"IF('Marks Entry'!AX42=\"\",\"\",'Marks Entry'!AX42)","v":""},{"$f":"IF('Marks Entry'!AY42=\"\",\"\",'Marks Entry'!AY42)","v":""},"","",{"$f":"IF('Marks Entry'!AZ42=\"\",\"\",'Marks Entry'!AZ42)","v":""},{"$f":"IF('Marks Entry'!BA42=\"\",\"\",'Marks Entry'!BA42)","v":""},"","",{"$f":"IF(AND($B40=\"NSO\",$E40=\"\"),\"\",IF(AND('Marks Entry'!BB42=\"AB\",'Marks Entry'!BC42=\"AB\"),\"AB\",IF(AND('Marks Entry'!BB42=\"ML\",'Marks Entry'!BC42=\"ML\"),\"RE\",IF('Marks Entry'!BB42=\"\",\"\",ROUNDUP(('Marks Entry'!BB42+'Marks Entry'!BC42)*30/100,0)))))","v":""},"",0,0,"","","","",0,"","","","","","",0,0,0,0,0,"",{"$f":"IF('Marks Entry'!BD42=\"\",\"\",'Marks Entry'!BD42)","v":""},{"$f":"IF('Marks Entry'!BE42=\"\",\"\",'Marks Entry'!BE42)","v":""},{"$f":"IF('Marks Entry'!BF42=\"\",\"\",'Marks Entry'!BF42)","v":""},"","","","","","","","","","","","","","","","","","","","","","","","","","",{"$f":"IF('Student DATA Entry'!I37=\"\",\"\",'Student DATA Entry'!I37)","v":""},{"$f":"IF('Student DATA Entry'!J37=\"\",\"\",'Student DATA Entry'!J37)","v":""},"      ","      ","      ","              "," ","","","","",""]
[36,{"$f":"IF('Marks Entry'!B43=\"\",\"\",VALUE('Marks Entry'!B43))","v":""},{"$f":"IF('Marks Entry'!C43=\"\",\"\",'Marks Entry'!C43)","v":""},{"$f":"IF('Marks Entry'!D43=\"\",\"\",'Marks Entry'!D43)","v":""},{"$f":"IF('Marks Entry'!E43=\"\",\"\",'Marks Entry'!E43)","v":""},{"$f":"IF('Marks Entry'!F43=\"\",\"\",'Marks Entry'!F43)","v":""},{"$f":"IF('Marks Entry'!G43=\"\",\"\",'Marks Entry'!G43)","v":""},{"$f":"IF('Marks Entry'!H43=\"\",\"\",'Marks Entry'!H43)","v":""},{"$f":"IF('Marks Entry'!I43=\"\",\"\",'Marks Entry'!I43)","v":""},{"$f":"IF('Marks Entry'!J43=\"\",\"\",'Marks Entry'!J43)","v":""},{"$f":"IF('Marks Entry'!K43=\"\",\"\",'Marks Entry'!K43)","v":""},{"$f":"IF('Marks Entry'!L43=\"\",\"\",'Marks Entry'!L43)","v":""},"","",{"$f":"IF('Marks Entry'!M43=\"\",\"\",'Marks Entry'!M43)","v":""},"",{"$f":"IF(AND($B41=\"NSO\",$E41=\"\",O41=\"\"),\"\",IF(AND('Marks Entry'!N43=\"AB\"),\"AB\",IF(AND('Marks Entry'!N43=\"ML\"),\"RE\",IF('Marks Entry'!N43=\"\",\"\",ROUNDUP('Marks Entry'!N43*30/100,0)))))","v":""},"",0,0,"","","","",{"$f":"IF('Marks Entry'!O43=\"\",\"\",'Marks Entry'!O43)","v":""},{"$f":"IF('Marks Entry'!P43=\"\",\"\",'Marks Entry'!P43)","v":""},{"$f":"IF('Marks Entry'!Q43=\"\",\"\",'Marks Entry'!Q43)","v":""},"","",{"$f":"IF('Marks Entry'!R43=\"\",\"\",'Marks Entry'!R43)","v":""},"",{"$f":"IF(AND($B41=\"NSO\",$E41=\"\"),\"\",IF(AND('Marks Entry'!S43=\"AB\"),\"AB\",IF(AND('Marks Entry'!S43=\"ML\"),\"RE\",IF('Marks Entry'!S43=\"\",\"\",ROUNDUP('Marks Entry'!S43*30/100,0)))))","v":""},"",0,0,"","","","",{"$f":"IF('Marks Entry'!T43=\"\",\"\",'Marks Entry'!T43)","v":""},{"$f":"IF('Marks Entry'!V43=\"\",\"\",'Marks Entry'!V43)","v":""},{"$f":"IF('Marks Entry'!W43=\"\",\"\",'Marks Entry'!W43)","v":""},{"$f":"IF('Marks Entry'!X43=\"\",\"\",'Marks Entry'!X43)","v":""},"","",{"$f":"IF('Marks Entry'!Y43=\"\",\"\",'Marks Entry'!Y43)","v":""},{"$f":"IF('Marks Entry'!Z43=\"\",\"\",'Marks Entry'!Z43)","v":""},"","",{"$f":"IF(AND($B41=\"NSO\",$E41=\"\"),\"\",IF(AND('Marks Entry'!AA43=\"AB\",'Marks Entry'!AB43=\"AB\"),\"AB\",IF(AND('Marks Entry'!AA43=\"ML\",'Marks Entry'!AB43=\"ML\"),\"RE\",IF('Marks Entry'!AA43=\"\",\"\",ROUNDUP(('Marks Entry'!AA43+'Marks Entry'!AB43)*30/100,0)))))","v":""},"",0,0,"","","","",{"$f":"IF('Marks Entry'!AC43=\"\",\"\",'Marks Entry'!AC43)","v":""},{"$f":"IF('Marks Entry'!AE43=\"\",\"\",'Marks Entry'!AE43)","v":""},{"$f":"IF('Marks Entry'!AF43=\"\",\"\",'Marks Entry'!AF43)","v":""},{"$f":"IF('Marks Entry'!AG43=\"\",\"\",'Marks Entry'!AG43)","v":""},"","",{"$f":"IF('Marks Entry'!AH43=\"\",\"\",'Marks Entry'!AH43)","v":""},{"$f":"IF('Marks Entry'!AI43=\"\",\"\",'Marks Entry'!AI43)","v":""},"","",{"$f":"IF(AND($B41=\"NSO\",$E41=\"\"),\"\",IF(AND('Marks Entry'!AJ43=\"AB\",'Marks Entry'!AK43=\"AB\"),\"AB\",IF(AND('Marks Entry'!AJ43=\"ML\",'Marks Entry'!AK43=\"ML\"),\"RE\",IF('Marks Entry'!AJ43=\"\",\"\",ROUNDUP(('Marks Entry'!AJ43+'Marks Entry'!AK43)*30/100,0)))))","v":""},"",0,0,"","","","",{"$f":"IF('Marks Entry'!AL43=\"\",\"\",'Marks Entry'!AL43)","v":""},{"$f":"IF('Marks Entry'!AN43=\"\",\"\",'Marks Entry'!AN43)","v":""},{"$f":"IF('Marks Entry'!AO43=\"\",\"\",'Marks Entry'!AO43)","v":""},{"$f":"IF('Marks Entry'!AP43=\"\",\"\",'Marks Entry'!AP43)","v":""},"","",{"$f":"IF('Marks Entry'!AQ43=\"\",\"\",'Marks Entry'!AQ43)","v":""},{"$f":"IF('Marks Entry'!AR43=\"\",\"\",'Marks Entry'!AR43)","v":""},"","",{"$f":"IF(AND($B41=\"NSO\",$E41=\"\"),\"\",IF(AND('Marks Entry'!AS43=\"AB\",'Marks Entry'!AT43=\"AB\"),\"AB\",IF(AND('Marks Entry'!AS43=\"ML\",'Marks Entry'!AT43=\"ML\"),\"RE\",IF('Marks Entry'!AS43=\"\",\"\",ROUNDUP(('Marks Entry'!AS43+'Marks Entry'!AT43)*30/100,0)))))","v":""},"",0,0,"","","","",{"$f":"IF('Marks Entry'!AU43=\"\",\"\",'Marks Entry'!AU43)","v":""},{"$f":"IF('Marks Entry'!AW43=\"\",\"\",'Marks Entry'!AW43)","v":""},{"$f":"IF('Marks Entry'!AX43=\"\",\"\",'Marks Entry'!AX43)","v":""},{"$f":"IF('Marks Entry'!AY43=\"\",\"\",'Marks Entry'!AY43)","v":""},"","",{"$f":"IF('Marks Entry'!AZ43=\"\",\"\",'Marks Entry'!AZ43)","v":""},{"$f":"IF('Marks Entry'!BA43=\"\",\"\",'Marks Entry'!BA43)","v":""},"","",{"$f":"IF(AND($B41=\"NSO\",$E41=\"\"),\"\",IF(AND('Marks Entry'!BB43=\"AB\",'Marks Entry'!BC43=\"AB\"),\"AB\",IF(AND('Marks Entry'!BB43=\"ML\",'Marks Entry'!BC43=\"ML\"),\"RE\",IF('Marks Entry'!BB43=\"\",\"\",ROUNDUP(('Marks Entry'!BB43+'Marks Entry'!BC43)*30/100,0)))))","v":""},"",0,0,"","","","",0,"","","","","","",0,0,0,0,0,"",{"$f":"IF('Marks Entry'!BD43=\"\",\"\",'Marks Entry'!BD43)","v":""},{"$f":"IF('Marks Entry'!BE43=\"\",\"\",'Marks Entry'!BE43)","v":""},{"$f":"IF('Marks Entry'!BF43=\"\",\"\",'Marks Entry'!BF43)","v":""},"","","","","","","","","","","","","","","","","","","","","","","","","","",{"$f":"IF('Student DATA Entry'!I38=\"\",\"\",'Student DATA Entry'!I38)","v":""},{"$f":"IF('Student DATA Entry'!J38=\"\",\"\",'Student DATA Entry'!J38)","v":""},"      ","      ","      ","              "," ","","","","",""]
[37,{"$f":"IF('Marks Entry'!B44=\"\",\"\",VALUE('Marks Entry'!B44))","v":""},{"$f":"IF('Marks Entry'!C44=\"\",\"\",'Marks Entry'!C44)","v":""},{"$f":"IF('Marks Entry'!D44=\"\",\"\",'Marks Entry'!D44)","v":""},{"$f":"IF('Marks Entry'!E44=\"\",\"\",'Marks Entry'!E44)","v":""},{"$f":"IF('Marks Entry'!F44=\"\",\"\",'Marks Entry'!F44)","v":""},{"$f":"IF('Marks Entry'!G44=\"\",\"\",'Marks Entry'!G44)","v":""},{"$f":"IF('Marks Entry'!H44=\"\",\"\",'Marks Entry'!H44)","v":""},{"$f":"IF('Marks Entry'!I44=\"\",\"\",'Marks Entry'!I44)","v":""},{"$f":"IF('Marks Entry'!J44=\"\",\"\",'Marks Entry'!J44)","v":""},{"$f":"IF('Marks Entry'!K44=\"\",\"\",'Marks Entry'!K44)","v":""},{"$f":"IF('Marks Entry'!L44=\"\",\"\",'Marks Entry'!L44)","v":""},"","",{"$f":"IF('Marks Entry'!M44=\"\",\"\",'Marks Entry'!M44)","v":""},"",{"$f":"IF(AND($B42=\"NSO\",$E42=\"\",O42=\"\"),\"\",IF(AND('Marks Entry'!N44=\"AB\"),\"AB\",IF(AND('Marks Entry'!N44=\"ML\"),\"RE\",IF('Marks Entry'!N44=\"\",\"\",ROUNDUP('Marks Entry'!N44*30/100,0)))))","v":""},"",0,0,"","","","",{"$f":"IF('Marks Entry'!O44=\"\",\"\",'Marks Entry'!O44)","v":""},{"$f":"IF('Marks Entry'!P44=\"\",\"\",'Marks Entry'!P44)","v":""},{"$f":"IF('Marks Entry'!Q44=\"\",\"\",'Marks Entry'!Q44)","v":""},"","",{"$f":"IF('Marks Entry'!R44=\"\",\"\",'Marks Entry'!R44)","v":""},"",{"$f":"IF(AND($B42=\"NSO\",$E42=\"\"),\"\",IF(AND('Marks Entry'!S44=\"AB\"),\"AB\",IF(AND('Marks Entry'!S44=\"ML\"),\"RE\",IF('Marks Entry'!S44=\"\",\"\",ROUNDUP('Marks Entry'!S44*30/100,0)))))","v":""},"",0,0,"","","","",{"$f":"IF('Marks Entry'!T44=\"\",\"\",'Marks Entry'!T44)","v":""},{"$f":"IF('Marks Entry'!V44=\"\",\"\",'Marks Entry'!V44)","v":""},{"$f":"IF('Marks Entry'!W44=\"\",\"\",'Marks Entry'!W44)","v":""},{"$f":"IF('Marks Entry'!X44=\"\",\"\",'Marks Entry'!X44)","v":""},"","",{"$f":"IF('Marks Entry'!Y44=\"\",\"\",'Marks Entry'!Y44)","v":""},{"$f":"IF('Marks Entry'!Z44=\"\",\"\",'Marks Entry'!Z44)","v":""},"","",{"$f":"IF(AND($B42=\"NSO\",$E42=\"\"),\"\",IF(AND('Marks Entry'!AA44=\"AB\",'Marks Entry'!AB44=\"AB\"),\"AB\",IF(AND('Marks Entry'!AA44=\"ML\",'Marks Entry'!AB44=\"ML\"),\"RE\",IF('Marks Entry'!AA44=\"\",\"\",ROUNDUP(('Marks Entry'!AA44+'Marks Entry'!AB44)*30/100,0)))))","v":""},"",0,0,"","","","",{"$f":"IF('Marks Entry'!AC44=\"\",\"\",'Marks Entry'!AC44)","v":""},{"$f":"IF('Marks Entry'!AE44=\"\",\"\",'Marks Entry'!AE44)","v":""},{"$f":"IF('Marks Entry'!AF44=\"\",\"\",'Marks Entry'!AF44)","v":""},{"$f":"IF('Marks Entry'!AG44=\"\",\"\",'Marks Entry'!AG44)","v":""},"","",{"$f":"IF('Marks Entry'!AH44=\"\",\"\",'Marks Entry'!AH44)","v":""},{"$f":"IF('Marks Entry'!AI44=\"\",\"\",'Marks Entry'!AI44)","v":""},"","",{"$f":"IF(AND($B42=\"NSO\",$E42=\"\"),\"\",IF(AND('Marks Entry'!AJ44=\"AB\",'Marks Entry'!AK44=\"AB\"),\"AB\",IF(AND('Marks Entry'!AJ44=\"ML\",'Marks Entry'!AK44=\"ML\"),\"RE\",IF('Marks Entry'!AJ44=\"\",\"\",ROUNDUP(('Marks Entry'!AJ44+'Marks Entry'!AK44)*30/100,0)))))","v":""},"",0,0,"","","","",{"$f":"IF('Marks Entry'!AL44=\"\",\"\",'Marks Entry'!AL44)","v":""},{"$f":"IF('Marks Entry'!AN44=\"\",\"\",'Marks Entry'!AN44)","v":""},{"$f":"IF('Marks Entry'!AO44=\"\",\"\",'Marks Entry'!AO44)","v":""},{"$f":"IF('Marks Entry'!AP44=\"\",\"\",'Marks Entry'!AP44)","v":""},"","",{"$f":"IF('Marks Entry'!AQ44=\"\",\"\",'Marks Entry'!AQ44)","v":""},{"$f":"IF('Marks Entry'!AR44=\"\",\"\",'Marks Entry'!AR44)","v":""},"","",{"$f":"IF(AND($B42=\"NSO\",$E42=\"\"),\"\",IF(AND('Marks Entry'!AS44=\"AB\",'Marks Entry'!AT44=\"AB\"),\"AB\",IF(AND('Marks Entry'!AS44=\"ML\",'Marks Entry'!AT44=\"ML\"),\"RE\",IF('Marks Entry'!AS44=\"\",\"\",ROUNDUP(('Marks Entry'!AS44+'Marks Entry'!AT44)*30/100,0)))))","v":""},"",0,0,"","","","",{"$f":"IF('Marks Entry'!AU44=\"\",\"\",'Marks Entry'!AU44)","v":""},{"$f":"IF('Marks Entry'!AW44=\"\",\"\",'Marks Entry'!AW44)","v":""},{"$f":"IF('Marks Entry'!AX44=\"\",\"\",'Marks Entry'!AX44)","v":""},{"$f":"IF('Marks Entry'!AY44=\"\",\"\",'Marks Entry'!AY44)","v":""},"","",{"$f":"IF('Marks Entry'!AZ44=\"\",\"\",'Marks Entry'!AZ44)","v":""},{"$f":"IF('Marks Entry'!BA44=\"\",\"\",'Marks Entry'!BA44)","v":""},"","",{"$f":"IF(AND($B42=\"NSO\",$E42=\"\"),\"\",IF(AND('Marks Entry'!BB44=\"AB\",'Marks Entry'!BC44=\"AB\"),\"AB\",IF(AND('Marks Entry'!BB44=\"ML\",'Marks Entry'!BC44=\"ML\"),\"RE\",IF('Marks Entry'!BB44=\"\",\"\",ROUNDUP(('Marks Entry'!BB44+'Marks Entry'!BC44)*30/100,0)))))","v":""},"",0,0,"","","","",0,"","","","","","",0,0,0,0,0,"",{"$f":"IF('Marks Entry'!BD44=\"\",\"\",'Marks Entry'!BD44)","v":""},{"$f":"IF('Marks Entry'!BE44=\"\",\"\",'Marks Entry'!BE44)","v":""},{"$f":"IF('Marks Entry'!BF44=\"\",\"\",'Marks Entry'!BF44)","v":""},"","","","","","","","","","","","","","","","","","","","","","","","","","",{"$f":"IF('Student DATA Entry'!I39=\"\",\"\",'Student DATA Entry'!I39)","v":""},{"$f":"IF('Student DATA Entry'!J39=\"\",\"\",'Student DATA Entry'!J39)","v":""},"      ","      ","      ","              "," ","","","","",""]
[38,{"$f":"IF('Marks Entry'!B45=\"\",\"\",VALUE('Marks Entry'!B45))","v":""},{"$f":"IF('Marks Entry'!C45=\"\",\"\",'Marks Entry'!C45)","v":""},{"$f":"IF('Marks Entry'!D45=\"\",\"\",'Marks Entry'!D45)","v":""},{"$f":"IF('Marks Entry'!E45=\"\",\"\",'Marks Entry'!E45)","v":""},{"$f":"IF('Marks Entry'!F45=\"\",\"\",'Marks Entry'!F45)","v":""},{"$f":"IF('Marks Entry'!G45=\"\",\"\",'Marks Entry'!G45)","v":""},{"$f":"IF('Marks Entry'!H45=\"\",\"\",'Marks Entry'!H45)","v":""},{"$f":"IF('Marks Entry'!I45=\"\",\"\",'Marks Entry'!I45)","v":""},{"$f":"IF('Marks Entry'!J45=\"\",\"\",'Marks Entry'!J45)","v":""},{"$f":"IF('Marks Entry'!K45=\"\",\"\",'Marks Entry'!K45)","v":""},{"$f":"IF('Marks Entry'!L45=\"\",\"\",'Marks Entry'!L45)","v":""},"","",{"$f":"IF('Marks Entry'!M45=\"\",\"\",'Marks Entry'!M45)","v":""},"",{"$f":"IF(AND($B43=\"NSO\",$E43=\"\",O43=\"\"),\"\",IF(AND('Marks Entry'!N45=\"AB\"),\"AB\",IF(AND('Marks Entry'!N45=\"ML\"),\"RE\",IF('Marks Entry'!N45=\"\",\"\",ROUNDUP('Marks Entry'!N45*30/100,0)))))","v":""},"",0,0,"","","","",{"$f":"IF('Marks Entry'!O45=\"\",\"\",'Marks Entry'!O45)","v":""},{"$f":"IF('Marks Entry'!P45=\"\",\"\",'Marks Entry'!P45)","v":""},{"$f":"IF('Marks Entry'!Q45=\"\",\"\",'Marks Entry'!Q45)","v":""},"","",{"$f":"IF('Marks Entry'!R45=\"\",\"\",'Marks Entry'!R45)","v":""},"",{"$f":"IF(AND($B43=\"NSO\",$E43=\"\"),\"\",IF(AND('Marks Entry'!S45=\"AB\"),\"AB\",IF(AND('Marks Entry'!S45=\"ML\"),\"RE\",IF('Marks Entry'!S45=\"\",\"\",ROUNDUP('Marks Entry'!S45*30/100,0)))))","v":""},"",0,0,"","","","",{"$f":"IF('Marks Entry'!T45=\"\",\"\",'Marks Entry'!T45)","v":""},{"$f":"IF('Marks Entry'!V45=\"\",\"\",'Marks Entry'!V45)","v":""},{"$f":"IF('Marks Entry'!W45=\"\",\"\",'Marks Entry'!W45)","v":""},{"$f":"IF('Marks Entry'!X45=\"\",\"\",'Marks Entry'!X45)","v":""},"","",{"$f":"IF('Marks Entry'!Y45=\"\",\"\",'Marks Entry'!Y45)","v":""},{"$f":"IF('Marks Entry'!Z45=\"\",\"\",'Marks Entry'!Z45)","v":""},"","",{"$f":"IF(AND($B43=\"NSO\",$E43=\"\"),\"\",IF(AND('Marks Entry'!AA45=\"AB\",'Marks Entry'!AB45=\"AB\"),\"AB\",IF(AND('Marks Entry'!AA45=\"ML\",'Marks Entry'!AB45=\"ML\"),\"RE\",IF('Marks Entry'!AA45=\"\",\"\",ROUNDUP(('Marks Entry'!AA45+'Marks Entry'!AB45)*30/100,0)))))","v":""},"",0,0,"","","","",{"$f":"IF('Marks Entry'!AC45=\"\",\"\",'Marks Entry'!AC45)","v":""},{"$f":"IF('Marks Entry'!AE45=\"\",\"\",'Marks Entry'!AE45)","v":""},{"$f":"IF('Marks Entry'!AF45=\"\",\"\",'Marks Entry'!AF45)","v":""},{"$f":"IF('Marks Entry'!AG45=\"\",\"\",'Marks Entry'!AG45)","v":""},"","",{"$f":"IF('Marks Entry'!AH45=\"\",\"\",'Marks Entry'!AH45)","v":""},{"$f":"IF('Marks Entry'!AI45=\"\",\"\",'Marks Entry'!AI45)","v":""},"","",{"$f":"IF(AND($B43=\"NSO\",$E43=\"\"),\"\",IF(AND('Marks Entry'!AJ45=\"AB\",'Marks Entry'!AK45=\"AB\"),\"AB\",IF(AND('Marks Entry'!AJ45=\"ML\",'Marks Entry'!AK45=\"ML\"),\"RE\",IF('Marks Entry'!AJ45=\"\",\"\",ROUNDUP(('Marks Entry'!AJ45+'Marks Entry'!AK45)*30/100,0)))))","v":""},"",0,0,"","","","",{"$f":"IF('Marks Entry'!AL45=\"\",\"\",'Marks Entry'!AL45)","v":""},{"$f":"IF('Marks Entry'!AN45=\"\",\"\",'Marks Entry'!AN45)","v":""},{"$f":"IF('Marks Entry'!AO45=\"\",\"\",'Marks Entry'!AO45)","v":""},{"$f":"IF('Marks Entry'!AP45=\"\",\"\",'Marks Entry'!AP45)","v":""},"","",{"$f":"IF('Marks Entry'!AQ45=\"\",\"\",'Marks Entry'!AQ45)","v":""},{"$f":"IF('Marks Entry'!AR45=\"\",\"\",'Marks Entry'!AR45)","v":""},"","",{"$f":"IF(AND($B43=\"NSO\",$E43=\"\"),\"\",IF(AND('Marks Entry'!AS45=\"AB\",'Marks Entry'!AT45=\"AB\"),\"AB\",IF(AND('Marks Entry'!AS45=\"ML\",'Marks Entry'!AT45=\"ML\"),\"RE\",IF('Marks Entry'!AS45=\"\",\"\",ROUNDUP(('Marks Entry'!AS45+'Marks Entry'!AT45)*30/100,0)))))","v":""},"",0,0,"","","","",{"$f":"IF('Marks Entry'!AU45=\"\",\"\",'Marks Entry'!AU45)","v":""},{"$f":"IF('Marks Entry'!AW45=\"\",\"\",'Marks Entry'!AW45)","v":""},{"$f":"IF('Marks Entry'!AX45=\"\",\"\",'Marks Entry'!AX45)","v":""},{"$f":"IF('Marks Entry'!AY45=\"\",\"\",'Marks Entry'!AY45)","v":""},"","",{"$f":"IF('Marks Entry'!AZ45=\"\",\"\",'Marks Entry'!AZ45)","v":""},{"$f":"IF('Marks Entry'!BA45=\"\",\"\",'Marks Entry'!BA45)","v":""},"","",{"$f":"IF(AND($B43=\"NSO\",$E43=\"\"),\"\",IF(AND('Marks Entry'!BB45=\"AB\",'Marks Entry'!BC45=\"AB\"),\"AB\",IF(AND('Marks Entry'!BB45=\"ML\",'Marks Entry'!BC45=\"ML\"),\"RE\",IF('Marks Entry'!BB45=\"\",\"\",ROUNDUP(('Marks Entry'!BB45+'Marks Entry'!BC45)*30/100,0)))))","v":""},"",0,0,"","","","",0,"","","","","","",0,0,0,0,0,"",{"$f":"IF('Marks Entry'!BD45=\"\",\"\",'Marks Entry'!BD45)","v":""},{"$f":"IF('Marks Entry'!BE45=\"\",\"\",'Marks Entry'!BE45)","v":""},{"$f":"IF('Marks Entry'!BF45=\"\",\"\",'Marks Entry'!BF45)","v":""},"","","","","","","","","","","","","","","","","","","","","","","","","","",{"$f":"IF('Student DATA Entry'!I40=\"\",\"\",'Student DATA Entry'!I40)","v":""},{"$f":"IF('Student DATA Entry'!J40=\"\",\"\",'Student DATA Entry'!J40)","v":""},"      ","      ","      ","              "," ","","","","",""]
[39,{"$f":"IF('Marks Entry'!B46=\"\",\"\",VALUE('Marks Entry'!B46))","v":""},{"$f":"IF('Marks Entry'!C46=\"\",\"\",'Marks Entry'!C46)","v":""},{"$f":"IF('Marks Entry'!D46=\"\",\"\",'Marks Entry'!D46)","v":""},{"$f":"IF('Marks Entry'!E46=\"\",\"\",'Marks Entry'!E46)","v":""},{"$f":"IF('Marks Entry'!F46=\"\",\"\",'Marks Entry'!F46)","v":""},{"$f":"IF('Marks Entry'!G46=\"\",\"\",'Marks Entry'!G46)","v":""},{"$f":"IF('Marks Entry'!H46=\"\",\"\",'Marks Entry'!H46)","v":""},{"$f":"IF('Marks Entry'!I46=\"\",\"\",'Marks Entry'!I46)","v":""},{"$f":"IF('Marks Entry'!J46=\"\",\"\",'Marks Entry'!J46)","v":""},{"$f":"IF('Marks Entry'!K46=\"\",\"\",'Marks Entry'!K46)","v":""},{"$f":"IF('Marks Entry'!L46=\"\",\"\",'Marks Entry'!L46)","v":""},"","",{"$f":"IF('Marks Entry'!M46=\"\",\"\",'Marks Entry'!M46)","v":""},"",{"$f":"IF(AND($B44=\"NSO\",$E44=\"\",O44=\"\"),\"\",IF(AND('Marks Entry'!N46=\"AB\"),\"AB\",IF(AND('Marks Entry'!N46=\"ML\"),\"RE\",IF('Marks Entry'!N46=\"\",\"\",ROUNDUP('Marks Entry'!N46*30/100,0)))))","v":""},"",0,0,"","","","",{"$f":"IF('Marks Entry'!O46=\"\",\"\",'Marks Entry'!O46)","v":""},{"$f":"IF('Marks Entry'!P46=\"\",\"\",'Marks Entry'!P46)","v":""},{"$f":"IF('Marks Entry'!Q46=\"\",\"\",'Marks Entry'!Q46)","v":""},"","",{"$f":"IF('Marks Entry'!R46=\"\",\"\",'Marks Entry'!R46)","v":""},"",{"$f":"IF(AND($B44=\"NSO\",$E44=\"\"),\"\",IF(AND('Marks Entry'!S46=\"AB\"),\"AB\",IF(AND('Marks Entry'!S46=\"ML\"),\"RE\",IF('Marks Entry'!S46=\"\",\"\",ROUNDUP('Marks Entry'!S46*30/100,0)))))","v":""},"",0,0,"","","","",{"$f":"IF('Marks Entry'!T46=\"\",\"\",'Marks Entry'!T46)","v":""},{"$f":"IF('Marks Entry'!V46=\"\",\"\",'Marks Entry'!V46)","v":""},{"$f":"IF('Marks Entry'!W46=\"\",\"\",'Marks Entry'!W46)","v":""},{"$f":"IF('Marks Entry'!X46=\"\",\"\",'Marks Entry'!X46)","v":""},"","",{"$f":"IF('Marks Entry'!Y46=\"\",\"\",'Marks Entry'!Y46)","v":""},{"$f":"IF('Marks Entry'!Z46=\"\",\"\",'Marks Entry'!Z46)","v":""},"","",{"$f":"IF(AND($B44=\"NSO\",$E44=\"\"),\"\",IF(AND('Marks Entry'!AA46=\"AB\",'Marks Entry'!AB46=\"AB\"),\"AB\",IF(AND('Marks Entry'!AA46=\"ML\",'Marks Entry'!AB46=\"ML\"),\"RE\",IF('Marks Entry'!AA46=\"\",\"\",ROUNDUP(('Marks Entry'!AA46+'Marks Entry'!AB46)*30/100,0)))))","v":""},"",0,0,"","","","",{"$f":"IF('Marks Entry'!AC46=\"\",\"\",'Marks Entry'!AC46)","v":""},{"$f":"IF('Marks Entry'!AE46=\"\",\"\",'Marks Entry'!AE46)","v":""},{"$f":"IF('Marks Entry'!AF46=\"\",\"\",'Marks Entry'!AF46)","v":""},{"$f":"IF('Marks Entry'!AG46=\"\",\"\",'Marks Entry'!AG46)","v":""},"","",{"$f":"IF('Marks Entry'!AH46=\"\",\"\",'Marks Entry'!AH46)","v":""},{"$f":"IF('Marks Entry'!AI46=\"\",\"\",'Marks Entry'!AI46)","v":""},"","",{"$f":"IF(AND($B44=\"NSO\",$E44=\"\"),\"\",IF(AND('Marks Entry'!AJ46=\"AB\",'Marks Entry'!AK46=\"AB\"),\"AB\",IF(AND('Marks Entry'!AJ46=\"ML\",'Marks Entry'!AK46=\"ML\"),\"RE\",IF('Marks Entry'!AJ46=\"\",\"\",ROUNDUP(('Marks Entry'!AJ46+'Marks Entry'!AK46)*30/100,0)))))","v":""},"",0,0,"","","","",{"$f":"IF('Marks Entry'!AL46=\"\",\"\",'Marks Entry'!AL46)","v":""},{"$f":"IF('Marks Entry'!AN46=\"\",\"\",'Marks Entry'!AN46)","v":""},{"$f":"IF('Marks Entry'!AO46=\"\",\"\",'Marks Entry'!AO46)","v":""},{"$f":"IF('Marks Entry'!AP46=\"\",\"\",'Marks Entry'!AP46)","v":""},"","",{"$f":"IF('Marks Entry'!AQ46=\"\",\"\",'Marks Entry'!AQ46)","v":""},{"$f":"IF('Marks Entry'!AR46=\"\",\"\",'Marks Entry'!AR46)","v":""},"","",{"$f":"IF(AND($B44=\"NSO\",$E44=\"\"),\"\",IF(AND('Marks Entry'!AS46=\"AB\",'Marks Entry'!AT46=\"AB\"),\"AB\",IF(AND('Marks Entry'!AS46=\"ML\",'Marks Entry'!AT46=\"ML\"),\"RE\",IF('Marks Entry'!AS46=\"\",\"\",ROUNDUP(('Marks Entry'!AS46+'Marks Entry'!AT46)*30/100,0)))))","v":""},"",0,0,"","","","",{"$f":"IF('Marks Entry'!AU46=\"\",\"\",'Marks Entry'!AU46)","v":""},{"$f":"IF('Marks Entry'!AW46=\"\",\"\",'Marks Entry'!AW46)","v":""},{"$f":"IF('Marks Entry'!AX46=\"\",\"\",'Marks Entry'!AX46)","v":""},{"$f":"IF('Marks Entry'!AY46=\"\",\"\",'Marks Entry'!AY46)","v":""},"","",{"$f":"IF('Marks Entry'!AZ46=\"\",\"\",'Marks Entry'!AZ46)","v":""},{"$f":"IF('Marks Entry'!BA46=\"\",\"\",'Marks Entry'!BA46)","v":""},"","",{"$f":"IF(AND($B44=\"NSO\",$E44=\"\"),\"\",IF(AND('Marks Entry'!BB46=\"AB\",'Marks Entry'!BC46=\"AB\"),\"AB\",IF(AND('Marks Entry'!BB46=\"ML\",'Marks Entry'!BC46=\"ML\"),\"RE\",IF('Marks Entry'!BB46=\"\",\"\",ROUNDUP(('Marks Entry'!BB46+'Marks Entry'!BC46)*30/100,0)))))","v":""},"",0,0,"","","","",0,"","","","","","",0,0,0,0,0,"",{"$f":"IF('Marks Entry'!BD46=\"\",\"\",'Marks Entry'!BD46)","v":""},{"$f":"IF('Marks Entry'!BE46=\"\",\"\",'Marks Entry'!BE46)","v":""},{"$f":"IF('Marks Entry'!BF46=\"\",\"\",'Marks Entry'!BF46)","v":""},"","","","","","","","","","","","","","","","","","","","","","","","","","",{"$f":"IF('Student DATA Entry'!I41=\"\",\"\",'Student DATA Entry'!I41)","v":""},{"$f":"IF('Student DATA Entry'!J41=\"\",\"\",'Student DATA Entry'!J41)","v":""},"      ","      ","      ","              "," ","","","","",""]
[40,{"$f":"IF('Marks Entry'!B47=\"\",\"\",VALUE('Marks Entry'!B47))","v":""},{"$f":"IF('Marks Entry'!C47=\"\",\"\",'Marks Entry'!C47)","v":""},{"$f":"IF('Marks Entry'!D47=\"\",\"\",'Marks Entry'!D47)","v":""},{"$f":"IF('Marks Entry'!E47=\"\",\"\",'Marks Entry'!E47)","v":""},{"$f":"IF('Marks Entry'!F47=\"\",\"\",'Marks Entry'!F47)","v":""},{"$f":"IF('Marks Entry'!G47=\"\",\"\",'Marks Entry'!G47)","v":""},{"$f":"IF('Marks Entry'!H47=\"\",\"\",'Marks Entry'!H47)","v":""},{"$f":"IF('Marks Entry'!I47=\"\",\"\",'Marks Entry'!I47)","v":""},{"$f":"IF('Marks Entry'!J47=\"\",\"\",'Marks Entry'!J47)","v":""},{"$f":"IF('Marks Entry'!K47=\"\",\"\",'Marks Entry'!K47)","v":""},{"$f":"IF('Marks Entry'!L47=\"\",\"\",'Marks Entry'!L47)","v":""},"","",{"$f":"IF('Marks Entry'!M47=\"\",\"\",'Marks Entry'!M47)","v":""},"",{"$f":"IF(AND($B45=\"NSO\",$E45=\"\",O45=\"\"),\"\",IF(AND('Marks Entry'!N47=\"AB\"),\"AB\",IF(AND('Marks Entry'!N47=\"ML\"),\"RE\",IF('Marks Entry'!N47=\"\",\"\",ROUNDUP('Marks Entry'!N47*30/100,0)))))","v":""},"",0,0,"","","","",{"$f":"IF('Marks Entry'!O47=\"\",\"\",'Marks Entry'!O47)","v":""},{"$f":"IF('Marks Entry'!P47=\"\",\"\",'Marks Entry'!P47)","v":""},{"$f":"IF('Marks Entry'!Q47=\"\",\"\",'Marks Entry'!Q47)","v":""},"","",{"$f":"IF('Marks Entry'!R47=\"\",\"\",'Marks Entry'!R47)","v":""},"",{"$f":"IF(AND($B45=\"NSO\",$E45=\"\"),\"\",IF(AND('Marks Entry'!S47=\"AB\"),\"AB\",IF(AND('Marks Entry'!S47=\"ML\"),\"RE\",IF('Marks Entry'!S47=\"\",\"\",ROUNDUP('Marks Entry'!S47*30/100,0)))))","v":""},"",0,0,"","","","",{"$f":"IF('Marks Entry'!T47=\"\",\"\",'Marks Entry'!T47)","v":""},{"$f":"IF('Marks Entry'!V47=\"\",\"\",'Marks Entry'!V47)","v":""},{"$f":"IF('Marks Entry'!W47=\"\",\"\",'Marks Entry'!W47)","v":""},{"$f":"IF('Marks Entry'!X47=\"\",\"\",'Marks Entry'!X47)","v":""},"","",{"$f":"IF('Marks Entry'!Y47=\"\",\"\",'Marks Entry'!Y47)","v":""},{"$f":"IF('Marks Entry'!Z47=\"\",\"\",'Marks Entry'!Z47)","v":""},"","",{"$f":"IF(AND($B45=\"NSO\",$E45=\"\"),\"\",IF(AND('Marks Entry'!AA47=\"AB\",'Marks Entry'!AB47=\"AB\"),\"AB\",IF(AND('Marks Entry'!AA47=\"ML\",'Marks Entry'!AB47=\"ML\"),\"RE\",IF('Marks Entry'!AA47=\"\",\"\",ROUNDUP(('Marks Entry'!AA47+'Marks Entry'!AB47)*30/100,0)))))","v":""},"",0,0,"","","","",{"$f":"IF('Marks Entry'!AC47=\"\",\"\",'Marks Entry'!AC47)","v":""},{"$f":"IF('Marks Entry'!AE47=\"\",\"\",'Marks Entry'!AE47)","v":""},{"$f":"IF('Marks Entry'!AF47=\"\",\"\",'Marks Entry'!AF47)","v":""},{"$f":"IF('Marks Entry'!AG47=\"\",\"\",'Marks Entry'!AG47)","v":""},"","",{"$f":"IF('Marks Entry'!AH47=\"\",\"\",'Marks Entry'!AH47)","v":""},{"$f":"IF('Marks Entry'!AI47=\"\",\"\",'Marks Entry'!AI47)","v":""},"","",{"$f":"IF(AND($B45=\"NSO\",$E45=\"\"),\"\",IF(AND('Marks Entry'!AJ47=\"AB\",'Marks Entry'!AK47=\"AB\"),\"AB\",IF(AND('Marks Entry'!AJ47=\"ML\",'Marks Entry'!AK47=\"ML\"),\"RE\",IF('Marks Entry'!AJ47=\"\",\"\",ROUNDUP(('Marks Entry'!AJ47+'Marks Entry'!AK47)*30/100,0)))))","v":""},"",0,0,"","","","",{"$f":"IF('Marks Entry'!AL47=\"\",\"\",'Marks Entry'!AL47)","v":""},{"$f":"IF('Marks Entry'!AN47=\"\",\"\",'Marks Entry'!AN47)","v":""},{"$f":"IF('Marks Entry'!AO47=\"\",\"\",'Marks Entry'!AO47)","v":""},{"$f":"IF('Marks Entry'!AP47=\"\",\"\",'Marks Entry'!AP47)","v":""},"","",{"$f":"IF('Marks Entry'!AQ47=\"\",\"\",'Marks Entry'!AQ47)","v":""},{"$f":"IF('Marks Entry'!AR47=\"\",\"\",'Marks Entry'!AR47)","v":""},"","",{"$f":"IF(AND($B45=\"NSO\",$E45=\"\"),\"\",IF(AND('Marks Entry'!AS47=\"AB\",'Marks Entry'!AT47=\"AB\"),\"AB\",IF(AND('Marks Entry'!AS47=\"ML\",'Marks Entry'!AT47=\"ML\"),\"RE\",IF('Marks Entry'!AS47=\"\",\"\",ROUNDUP(('Marks Entry'!AS47+'Marks Entry'!AT47)*30/100,0)))))","v":""},"",0,0,"","","","",{"$f":"IF('Marks Entry'!AU47=\"\",\"\",'Marks Entry'!AU47)","v":""},{"$f":"IF('Marks Entry'!AW47=\"\",\"\",'Marks Entry'!AW47)","v":""},{"$f":"IF('Marks Entry'!AX47=\"\",\"\",'Marks Entry'!AX47)","v":""},{"$f":"IF('Marks Entry'!AY47=\"\",\"\",'Marks Entry'!AY47)","v":""},"","",{"$f":"IF('Marks Entry'!AZ47=\"\",\"\",'Marks Entry'!AZ47)","v":""},{"$f":"IF('Marks Entry'!BA47=\"\",\"\",'Marks Entry'!BA47)","v":""},"","",{"$f":"IF(AND($B45=\"NSO\",$E45=\"\"),\"\",IF(AND('Marks Entry'!BB47=\"AB\",'Marks Entry'!BC47=\"AB\"),\"AB\",IF(AND('Marks Entry'!BB47=\"ML\",'Marks Entry'!BC47=\"ML\"),\"RE\",IF('Marks Entry'!BB47=\"\",\"\",ROUNDUP(('Marks Entry'!BB47+'Marks Entry'!BC47)*30/100,0)))))","v":""},"",0,0,"","","","",0,"","","","","","",0,0,0,0,0,"",{"$f":"IF('Marks Entry'!BD47=\"\",\"\",'Marks Entry'!BD47)","v":""},{"$f":"IF('Marks Entry'!BE47=\"\",\"\",'Marks Entry'!BE47)","v":""},{"$f":"IF('Marks Entry'!BF47=\"\",\"\",'Marks Entry'!BF47)","v":""},"","","","","","","","","","","","","","","","","","","","","","","","","","",{"$f":"IF('Student DATA Entry'!I42=\"\",\"\",'Student DATA Entry'!I42)","v":""},{"$f":"IF('Student DATA Entry'!J42=\"\",\"\",'Student DATA Entry'!J42)","v":""},"      ","      ","      ","              "," ","","","","",""]
[41,{"$f":"IF('Marks Entry'!B48=\"\",\"\",VALUE('Marks Entry'!B48))","v":""},{"$f":"IF('Marks Entry'!C48=\"\",\"\",'Marks Entry'!C48)","v":""},{"$f":"IF('Marks Entry'!D48=\"\",\"\",'Marks Entry'!D48)","v":""},{"$f":"IF('Marks Entry'!E48=\"\",\"\",'Marks Entry'!E48)","v":""},{"$f":"IF('Marks Entry'!F48=\"\",\"\",'Marks Entry'!F48)","v":""},{"$f":"IF('Marks Entry'!G48=\"\",\"\",'Marks Entry'!G48)","v":""},{"$f":"IF('Marks Entry'!H48=\"\",\"\",'Marks Entry'!H48)","v":""},{"$f":"IF('Marks Entry'!I48=\"\",\"\",'Marks Entry'!I48)","v":""},{"$f":"IF('Marks Entry'!J48=\"\",\"\",'Marks Entry'!J48)","v":""},{"$f":"IF('Marks Entry'!K48=\"\",\"\",'Marks Entry'!K48)","v":""},{"$f":"IF('Marks Entry'!L48=\"\",\"\",'Marks Entry'!L48)","v":""},"","",{"$f":"IF('Marks Entry'!M48=\"\",\"\",'Marks Entry'!M48)","v":""},"",{"$f":"IF(AND($B46=\"NSO\",$E46=\"\",O46=\"\"),\"\",IF(AND('Marks Entry'!N48=\"AB\"),\"AB\",IF(AND('Marks Entry'!N48=\"ML\"),\"RE\",IF('Marks Entry'!N48=\"\",\"\",ROUNDUP('Marks Entry'!N48*30/100,0)))))","v":""},"",0,0,"","","","",{"$f":"IF('Marks Entry'!O48=\"\",\"\",'Marks Entry'!O48)","v":""},{"$f":"IF('Marks Entry'!P48=\"\",\"\",'Marks Entry'!P48)","v":""},{"$f":"IF('Marks Entry'!Q48=\"\",\"\",'Marks Entry'!Q48)","v":""},"","",{"$f":"IF('Marks Entry'!R48=\"\",\"\",'Marks Entry'!R48)","v":""},"",{"$f":"IF(AND($B46=\"NSO\",$E46=\"\"),\"\",IF(AND('Marks Entry'!S48=\"AB\"),\"AB\",IF(AND('Marks Entry'!S48=\"ML\"),\"RE\",IF('Marks Entry'!S48=\"\",\"\",ROUNDUP('Marks Entry'!S48*30/100,0)))))","v":""},"",0,0,"","","","",{"$f":"IF('Marks Entry'!T48=\"\",\"\",'Marks Entry'!T48)","v":""},{"$f":"IF('Marks Entry'!V48=\"\",\"\",'Marks Entry'!V48)","v":""},{"$f":"IF('Marks Entry'!W48=\"\",\"\",'Marks Entry'!W48)","v":""},{"$f":"IF('Marks Entry'!X48=\"\",\"\",'Marks Entry'!X48)","v":""},"","",{"$f":"IF('Marks Entry'!Y48=\"\",\"\",'Marks Entry'!Y48)","v":""},{"$f":"IF('Marks Entry'!Z48=\"\",\"\",'Marks Entry'!Z48)","v":""},"","",{"$f":"IF(AND($B46=\"NSO\",$E46=\"\"),\"\",IF(AND('Marks Entry'!AA48=\"AB\",'Marks Entry'!AB48=\"AB\"),\"AB\",IF(AND('Marks Entry'!AA48=\"ML\",'Marks Entry'!AB48=\"ML\"),\"RE\",IF('Marks Entry'!AA48=\"\",\"\",ROUNDUP(('Marks Entry'!AA48+'Marks Entry'!AB48)*30/100,0)))))","v":""},"",0,0,"","","","",{"$f":"IF('Marks Entry'!AC48=\"\",\"\",'Marks Entry'!AC48)","v":""},{"$f":"IF('Marks Entry'!AE48=\"\",\"\",'Marks Entry'!AE48)","v":""},{"$f":"IF('Marks Entry'!AF48=\"\",\"\",'Marks Entry'!AF48)","v":""},{"$f":"IF('Marks Entry'!AG48=\"\",\"\",'Marks Entry'!AG48)","v":""},"","",{"$f":"IF('Marks Entry'!AH48=\"\",\"\",'Marks Entry'!AH48)","v":""},{"$f":"IF('Marks Entry'!AI48=\"\",\"\",'Marks Entry'!AI48)","v":""},"","",{"$f":"IF(AND($B46=\"NSO\",$E46=\"\"),\"\",IF(AND('Marks Entry'!AJ48=\"AB\",'Marks Entry'!AK48=\"AB\"),\"AB\",IF(AND('Marks Entry'!AJ48=\"ML\",'Marks Entry'!AK48=\"ML\"),\"RE\",IF('Marks Entry'!AJ48=\"\",\"\",ROUNDUP(('Marks Entry'!AJ48+'Marks Entry'!AK48)*30/100,0)))))","v":""},"",0,0,"","","","",{"$f":"IF('Marks Entry'!AL48=\"\",\"\",'Marks Entry'!AL48)","v":""},{"$f":"IF('Marks Entry'!AN48=\"\",\"\",'Marks Entry'!AN48)","v":""},{"$f":"IF('Marks Entry'!AO48=\"\",\"\",'Marks Entry'!AO48)","v":""},{"$f":"IF('Marks Entry'!AP48=\"\",\"\",'Marks Entry'!AP48)","v":""},"","",{"$f":"IF('Marks Entry'!AQ48=\"\",\"\",'Marks Entry'!AQ48)","v":""},{"$f":"IF('Marks Entry'!AR48=\"\",\"\",'Marks Entry'!AR48)","v":""},"","",{"$f":"IF(AND($B46=\"NSO\",$E46=\"\"),\"\",IF(AND('Marks Entry'!AS48=\"AB\",'Marks Entry'!AT48=\"AB\"),\"AB\",IF(AND('Marks Entry'!AS48=\"ML\",'Marks Entry'!AT48=\"ML\"),\"RE\",IF('Marks Entry'!AS48=\"\",\"\",ROUNDUP(('Marks Entry'!AS48+'Marks Entry'!AT48)*30/100,0)))))","v":""},"",0,0,"","","","",{"$f":"IF('Marks Entry'!AU48=\"\",\"\",'Marks Entry'!AU48)","v":""},{"$f":"IF('Marks Entry'!AW48=\"\",\"\",'Marks Entry'!AW48)","v":""},{"$f":"IF('Marks Entry'!AX48=\"\",\"\",'Marks Entry'!AX48)","v":""},{"$f":"IF('Marks Entry'!AY48=\"\",\"\",'Marks Entry'!AY48)","v":""},"","",{"$f":"IF('Marks Entry'!AZ48=\"\",\"\",'Marks Entry'!AZ48)","v":""},{"$f":"IF('Marks Entry'!BA48=\"\",\"\",'Marks Entry'!BA48)","v":""},"","",{"$f":"IF(AND($B46=\"NSO\",$E46=\"\"),\"\",IF(AND('Marks Entry'!BB48=\"AB\",'Marks Entry'!BC48=\"AB\"),\"AB\",IF(AND('Marks Entry'!BB48=\"ML\",'Marks Entry'!BC48=\"ML\"),\"RE\",IF('Marks Entry'!BB48=\"\",\"\",ROUNDUP(('Marks Entry'!BB48+'Marks Entry'!BC48)*30/100,0)))))","v":""},"",0,0,"","","","",0,"","","","","","",0,0,0,0,0,"",{"$f":"IF('Marks Entry'!BD48=\"\",\"\",'Marks Entry'!BD48)","v":""},{"$f":"IF('Marks Entry'!BE48=\"\",\"\",'Marks Entry'!BE48)","v":""},{"$f":"IF('Marks Entry'!BF48=\"\",\"\",'Marks Entry'!BF48)","v":""},"","","","","","","","","","","","","","","","","","","","","","","","","","",{"$f":"IF('Student DATA Entry'!I43=\"\",\"\",'Student DATA Entry'!I43)","v":""},{"$f":"IF('Student DATA Entry'!J43=\"\",\"\",'Student DATA Entry'!J43)","v":""},"      ","      ","      ","              "," ","","","","",""]
[42,{"$f":"IF('Marks Entry'!B49=\"\",\"\",VALUE('Marks Entry'!B49))","v":""},{"$f":"IF('Marks Entry'!C49=\"\",\"\",'Marks Entry'!C49)","v":""},{"$f":"IF('Marks Entry'!D49=\"\",\"\",'Marks Entry'!D49)","v":""},{"$f":"IF('Marks Entry'!E49=\"\",\"\",'Marks Entry'!E49)","v":""},{"$f":"IF('Marks Entry'!F49=\"\",\"\",'Marks Entry'!F49)","v":""},{"$f":"IF('Marks Entry'!G49=\"\",\"\",'Marks Entry'!G49)","v":""},{"$f":"IF('Marks Entry'!H49=\"\",\"\",'Marks Entry'!H49)","v":""},{"$f":"IF('Marks Entry'!I49=\"\",\"\",'Marks Entry'!I49)","v":""},{"$f":"IF('Marks Entry'!J49=\"\",\"\",'Marks Entry'!J49)","v":""},{"$f":"IF('Marks Entry'!K49=\"\",\"\",'Marks Entry'!K49)","v":""},{"$f":"IF('Marks Entry'!L49=\"\",\"\",'Marks Entry'!L49)","v":""},"","",{"$f":"IF('Marks Entry'!M49=\"\",\"\",'Marks Entry'!M49)","v":""},"",{"$f":"IF(AND($B47=\"NSO\",$E47=\"\",O47=\"\"),\"\",IF(AND('Marks Entry'!N49=\"AB\"),\"AB\",IF(AND('Marks Entry'!N49=\"ML\"),\"RE\",IF('Marks Entry'!N49=\"\",\"\",ROUNDUP('Marks Entry'!N49*30/100,0)))))","v":""},"",0,0,"","","","",{"$f":"IF('Marks Entry'!O49=\"\",\"\",'Marks Entry'!O49)","v":""},{"$f":"IF('Marks Entry'!P49=\"\",\"\",'Marks Entry'!P49)","v":""},{"$f":"IF('Marks Entry'!Q49=\"\",\"\",'Marks Entry'!Q49)","v":""},"","",{"$f":"IF('Marks Entry'!R49=\"\",\"\",'Marks Entry'!R49)","v":""},"",{"$f":"IF(AND($B47=\"NSO\",$E47=\"\"),\"\",IF(AND('Marks Entry'!S49=\"AB\"),\"AB\",IF(AND('Marks Entry'!S49=\"ML\"),\"RE\",IF('Marks Entry'!S49=\"\",\"\",ROUNDUP('Marks Entry'!S49*30/100,0)))))","v":""},"",0,0,"","","","",{"$f":"IF('Marks Entry'!T49=\"\",\"\",'Marks Entry'!T49)","v":""},{"$f":"IF('Marks Entry'!V49=\"\",\"\",'Marks Entry'!V49)","v":""},{"$f":"IF('Marks Entry'!W49=\"\",\"\",'Marks Entry'!W49)","v":""},{"$f":"IF('Marks Entry'!X49=\"\",\"\",'Marks Entry'!X49)","v":""},"","",{"$f":"IF('Marks Entry'!Y49=\"\",\"\",'Marks Entry'!Y49)","v":""},{"$f":"IF('Marks Entry'!Z49=\"\",\"\",'Marks Entry'!Z49)","v":""},"","",{"$f":"IF(AND($B47=\"NSO\",$E47=\"\"),\"\",IF(AND('Marks Entry'!AA49=\"AB\",'Marks Entry'!AB49=\"AB\"),\"AB\",IF(AND('Marks Entry'!AA49=\"ML\",'Marks Entry'!AB49=\"ML\"),\"RE\",IF('Marks Entry'!AA49=\"\",\"\",ROUNDUP(('Marks Entry'!AA49+'Marks Entry'!AB49)*30/100,0)))))","v":""},"",0,0,"","","","",{"$f":"IF('Marks Entry'!AC49=\"\",\"\",'Marks Entry'!AC49)","v":""},{"$f":"IF('Marks Entry'!AE49=\"\",\"\",'Marks Entry'!AE49)","v":""},{"$f":"IF('Marks Entry'!AF49=\"\",\"\",'Marks Entry'!AF49)","v":""},{"$f":"IF('Marks Entry'!AG49=\"\",\"\",'Marks Entry'!AG49)","v":""},"","",{"$f":"IF('Marks Entry'!AH49=\"\",\"\",'Marks Entry'!AH49)","v":""},{"$f":"IF('Marks Entry'!AI49=\"\",\"\",'Marks Entry'!AI49)","v":""},"","",{"$f":"IF(AND($B47=\"NSO\",$E47=\"\"),\"\",IF(AND('Marks Entry'!AJ49=\"AB\",'Marks Entry'!AK49=\"AB\"),\"AB\",IF(AND('Marks Entry'!AJ49=\"ML\",'Marks Entry'!AK49=\"ML\"),\"RE\",IF('Marks Entry'!AJ49=\"\",\"\",ROUNDUP(('Marks Entry'!AJ49+'Marks Entry'!AK49)*30/100,0)))))","v":""},"",0,0,"","","","",{"$f":"IF('Marks Entry'!AL49=\"\",\"\",'Marks Entry'!AL49)","v":""},{"$f":"IF('Marks Entry'!AN49=\"\",\"\",'Marks Entry'!AN49)","v":""},{"$f":"IF('Marks Entry'!AO49=\"\",\"\",'Marks Entry'!AO49)","v":""},{"$f":"IF('Marks Entry'!AP49=\"\",\"\",'Marks Entry'!AP49)","v":""},"","",{"$f":"IF('Marks Entry'!AQ49=\"\",\"\",'Marks Entry'!AQ49)","v":""},{"$f":"IF('Marks Entry'!AR49=\"\",\"\",'Marks Entry'!AR49)","v":""},"","",{"$f":"IF(AND($B47=\"NSO\",$E47=\"\"),\"\",IF(AND('Marks Entry'!AS49=\"AB\",'Marks Entry'!AT49=\"AB\"),\"AB\",IF(AND('Marks Entry'!AS49=\"ML\",'Marks Entry'!AT49=\"ML\"),\"RE\",IF('Marks Entry'!AS49=\"\",\"\",ROUNDUP(('Marks Entry'!AS49+'Marks Entry'!AT49)*30/100,0)))))","v":""},"",0,0,"","","","",{"$f":"IF('Marks Entry'!AU49=\"\",\"\",'Marks Entry'!AU49)","v":""},{"$f":"IF('Marks Entry'!AW49=\"\",\"\",'Marks Entry'!AW49)","v":""},{"$f":"IF('Marks Entry'!AX49=\"\",\"\",'Marks Entry'!AX49)","v":""},{"$f":"IF('Marks Entry'!AY49=\"\",\"\",'Marks Entry'!AY49)","v":""},"","",{"$f":"IF('Marks Entry'!AZ49=\"\",\"\",'Marks Entry'!AZ49)","v":""},{"$f":"IF('Marks Entry'!BA49=\"\",\"\",'Marks Entry'!BA49)","v":""},"","",{"$f":"IF(AND($B47=\"NSO\",$E47=\"\"),\"\",IF(AND('Marks Entry'!BB49=\"AB\",'Marks Entry'!BC49=\"AB\"),\"AB\",IF(AND('Marks Entry'!BB49=\"ML\",'Marks Entry'!BC49=\"ML\"),\"RE\",IF('Marks Entry'!BB49=\"\",\"\",ROUNDUP(('Marks Entry'!BB49+'Marks Entry'!BC49)*30/100,0)))))","v":""},"",0,0,"","","","",0,"","","","","","",0,0,0,0,0,"",{"$f":"IF('Marks Entry'!BD49=\"\",\"\",'Marks Entry'!BD49)","v":""},{"$f":"IF('Marks Entry'!BE49=\"\",\"\",'Marks Entry'!BE49)","v":""},{"$f":"IF('Marks Entry'!BF49=\"\",\"\",'Marks Entry'!BF49)","v":""},"","","","","","","","","","","","","","","","","","","","","","","","","","",{"$f":"IF('Student DATA Entry'!I44=\"\",\"\",'Student DATA Entry'!I44)","v":""},{"$f":"IF('Student DATA Entry'!J44=\"\",\"\",'Student DATA Entry'!J44)","v":""},"      ","      ","      ","              "," ","","","","",""]
[43,{"$f":"IF('Marks Entry'!B50=\"\",\"\",VALUE('Marks Entry'!B50))","v":""},{"$f":"IF('Marks Entry'!C50=\"\",\"\",'Marks Entry'!C50)","v":""},{"$f":"IF('Marks Entry'!D50=\"\",\"\",'Marks Entry'!D50)","v":""},{"$f":"IF('Marks Entry'!E50=\"\",\"\",'Marks Entry'!E50)","v":""},{"$f":"IF('Marks Entry'!F50=\"\",\"\",'Marks Entry'!F50)","v":""},{"$f":"IF('Marks Entry'!G50=\"\",\"\",'Marks Entry'!G50)","v":""},{"$f":"IF('Marks Entry'!H50=\"\",\"\",'Marks Entry'!H50)","v":""},{"$f":"IF('Marks Entry'!I50=\"\",\"\",'Marks Entry'!I50)","v":""},{"$f":"IF('Marks Entry'!J50=\"\",\"\",'Marks Entry'!J50)","v":""},{"$f":"IF('Marks Entry'!K50=\"\",\"\",'Marks Entry'!K50)","v":""},{"$f":"IF('Marks Entry'!L50=\"\",\"\",'Marks Entry'!L50)","v":""},"","",{"$f":"IF('Marks Entry'!M50=\"\",\"\",'Marks Entry'!M50)","v":""},"",{"$f":"IF(AND($B48=\"NSO\",$E48=\"\",O48=\"\"),\"\",IF(AND('Marks Entry'!N50=\"AB\"),\"AB\",IF(AND('Marks Entry'!N50=\"ML\"),\"RE\",IF('Marks Entry'!N50=\"\",\"\",ROUNDUP('Marks Entry'!N50*30/100,0)))))","v":""},"",0,0,"","","","",{"$f":"IF('Marks Entry'!O50=\"\",\"\",'Marks Entry'!O50)","v":""},{"$f":"IF('Marks Entry'!P50=\"\",\"\",'Marks Entry'!P50)","v":""},{"$f":"IF('Marks Entry'!Q50=\"\",\"\",'Marks Entry'!Q50)","v":""},"","",{"$f":"IF('Marks Entry'!R50=\"\",\"\",'Marks Entry'!R50)","v":""},"",{"$f":"IF(AND($B48=\"NSO\",$E48=\"\"),\"\",IF(AND('Marks Entry'!S50=\"AB\"),\"AB\",IF(AND('Marks Entry'!S50=\"ML\"),\"RE\",IF('Marks Entry'!S50=\"\",\"\",ROUNDUP('Marks Entry'!S50*30/100,0)))))","v":""},"",0,0,"","","","",{"$f":"IF('Marks Entry'!T50=\"\",\"\",'Marks Entry'!T50)","v":""},{"$f":"IF('Marks Entry'!V50=\"\",\"\",'Marks Entry'!V50)","v":""},{"$f":"IF('Marks Entry'!W50=\"\",\"\",'Marks Entry'!W50)","v":""},{"$f":"IF('Marks Entry'!X50=\"\",\"\",'Marks Entry'!X50)","v":""},"","",{"$f":"IF('Marks Entry'!Y50=\"\",\"\",'Marks Entry'!Y50)","v":""},{"$f":"IF('Marks Entry'!Z50=\"\",\"\",'Marks Entry'!Z50)","v":""},"","",{"$f":"IF(AND($B48=\"NSO\",$E48=\"\"),\"\",IF(AND('Marks Entry'!AA50=\"AB\",'Marks Entry'!AB50=\"AB\"),\"AB\",IF(AND('Marks Entry'!AA50=\"ML\",'Marks Entry'!AB50=\"ML\"),\"RE\",IF('Marks Entry'!AA50=\"\",\"\",ROUNDUP(('Marks Entry'!AA50+'Marks Entry'!AB50)*30/100,0)))))","v":""},"",0,0,"","","","",{"$f":"IF('Marks Entry'!AC50=\"\",\"\",'Marks Entry'!AC50)","v":""},{"$f":"IF('Marks Entry'!AE50=\"\",\"\",'Marks Entry'!AE50)","v":""},{"$f":"IF('Marks Entry'!AF50=\"\",\"\",'Marks Entry'!AF50)","v":""},{"$f":"IF('Marks Entry'!AG50=\"\",\"\",'Marks Entry'!AG50)","v":""},"","",{"$f":"IF('Marks Entry'!AH50=\"\",\"\",'Marks Entry'!AH50)","v":""},{"$f":"IF('Marks Entry'!AI50=\"\",\"\",'Marks Entry'!AI50)","v":""},"","",{"$f":"IF(AND($B48=\"NSO\",$E48=\"\"),\"\",IF(AND('Marks Entry'!AJ50=\"AB\",'Marks Entry'!AK50=\"AB\"),\"AB\",IF(AND('Marks Entry'!AJ50=\"ML\",'Marks Entry'!AK50=\"ML\"),\"RE\",IF('Marks Entry'!AJ50=\"\",\"\",ROUNDUP(('Marks Entry'!AJ50+'Marks Entry'!AK50)*30/100,0)))))","v":""},"",0,0,"","","","",{"$f":"IF('Marks Entry'!AL50=\"\",\"\",'Marks Entry'!AL50)","v":""},{"$f":"IF('Marks Entry'!AN50=\"\",\"\",'Marks Entry'!AN50)","v":""},{"$f":"IF('Marks Entry'!AO50=\"\",\"\",'Marks Entry'!AO50)","v":""},{"$f":"IF('Marks Entry'!AP50=\"\",\"\",'Marks Entry'!AP50)","v":""},"","",{"$f":"IF('Marks Entry'!AQ50=\"\",\"\",'Marks Entry'!AQ50)","v":""},{"$f":"IF('Marks Entry'!AR50=\"\",\"\",'Marks Entry'!AR50)","v":""},"","",{"$f":"IF(AND($B48=\"NSO\",$E48=\"\"),\"\",IF(AND('Marks Entry'!AS50=\"AB\",'Marks Entry'!AT50=\"AB\"),\"AB\",IF(AND('Marks Entry'!AS50=\"ML\",'Marks Entry'!AT50=\"ML\"),\"RE\",IF('Marks Entry'!AS50=\"\",\"\",ROUNDUP(('Marks Entry'!AS50+'Marks Entry'!AT50)*30/100,0)))))","v":""},"",0,0,"","","","",{"$f":"IF('Marks Entry'!AU50=\"\",\"\",'Marks Entry'!AU50)","v":""},{"$f":"IF('Marks Entry'!AW50=\"\",\"\",'Marks Entry'!AW50)","v":""},{"$f":"IF('Marks Entry'!AX50=\"\",\"\",'Marks Entry'!AX50)","v":""},{"$f":"IF('Marks Entry'!AY50=\"\",\"\",'Marks Entry'!AY50)","v":""},"","",{"$f":"IF('Marks Entry'!AZ50=\"\",\"\",'Marks Entry'!AZ50)","v":""},{"$f":"IF('Marks Entry'!BA50=\"\",\"\",'Marks Entry'!BA50)","v":""},"","",{"$f":"IF(AND($B48=\"NSO\",$E48=\"\"),\"\",IF(AND('Marks Entry'!BB50=\"AB\",'Marks Entry'!BC50=\"AB\"),\"AB\",IF(AND('Marks Entry'!BB50=\"ML\",'Marks Entry'!BC50=\"ML\"),\"RE\",IF('Marks Entry'!BB50=\"\",\"\",ROUNDUP(('Marks Entry'!BB50+'Marks Entry'!BC50)*30/100,0)))))","v":""},"",0,0,"","","","",0,"","","","","","",0,0,0,0,0,"",{"$f":"IF('Marks Entry'!BD50=\"\",\"\",'Marks Entry'!BD50)","v":""},{"$f":"IF('Marks Entry'!BE50=\"\",\"\",'Marks Entry'!BE50)","v":""},{"$f":"IF('Marks Entry'!BF50=\"\",\"\",'Marks Entry'!BF50)","v":""},"","","","","","","","","","","","","","","","","","","","","","","","","","",{"$f":"IF('Student DATA Entry'!I45=\"\",\"\",'Student DATA Entry'!I45)","v":""},{"$f":"IF('Student DATA Entry'!J45=\"\",\"\",'Student DATA Entry'!J45)","v":""},"      ","      ","      ","              "," ","","","","",""]
[44,{"$f":"IF('Marks Entry'!B51=\"\",\"\",VALUE('Marks Entry'!B51))","v":""},{"$f":"IF('Marks Entry'!C51=\"\",\"\",'Marks Entry'!C51)","v":""},{"$f":"IF('Marks Entry'!D51=\"\",\"\",'Marks Entry'!D51)","v":""},{"$f":"IF('Marks Entry'!E51=\"\",\"\",'Marks Entry'!E51)","v":""},{"$f":"IF('Marks Entry'!F51=\"\",\"\",'Marks Entry'!F51)","v":""},{"$f":"IF('Marks Entry'!G51=\"\",\"\",'Marks Entry'!G51)","v":""},{"$f":"IF('Marks Entry'!H51=\"\",\"\",'Marks Entry'!H51)","v":""},{"$f":"IF('Marks Entry'!I51=\"\",\"\",'Marks Entry'!I51)","v":""},{"$f":"IF('Marks Entry'!J51=\"\",\"\",'Marks Entry'!J51)","v":""},{"$f":"IF('Marks Entry'!K51=\"\",\"\",'Marks Entry'!K51)","v":""},{"$f":"IF('Marks Entry'!L51=\"\",\"\",'Marks Entry'!L51)","v":""},"","",{"$f":"IF('Marks Entry'!M51=\"\",\"\",'Marks Entry'!M51)","v":""},"",{"$f":"IF(AND($B49=\"NSO\",$E49=\"\",O49=\"\"),\"\",IF(AND('Marks Entry'!N51=\"AB\"),\"AB\",IF(AND('Marks Entry'!N51=\"ML\"),\"RE\",IF('Marks Entry'!N51=\"\",\"\",ROUNDUP('Marks Entry'!N51*30/100,0)))))","v":""},"",0,0,"","","","",{"$f":"IF('Marks Entry'!O51=\"\",\"\",'Marks Entry'!O51)","v":""},{"$f":"IF('Marks Entry'!P51=\"\",\"\",'Marks Entry'!P51)","v":""},{"$f":"IF('Marks Entry'!Q51=\"\",\"\",'Marks Entry'!Q51)","v":""},"","",{"$f":"IF('Marks Entry'!R51=\"\",\"\",'Marks Entry'!R51)","v":""},"",{"$f":"IF(AND($B49=\"NSO\",$E49=\"\"),\"\",IF(AND('Marks Entry'!S51=\"AB\"),\"AB\",IF(AND('Marks Entry'!S51=\"ML\"),\"RE\",IF('Marks Entry'!S51=\"\",\"\",ROUNDUP('Marks Entry'!S51*30/100,0)))))","v":""},"",0,0,"","","","",{"$f":"IF('Marks Entry'!T51=\"\",\"\",'Marks Entry'!T51)","v":""},{"$f":"IF('Marks Entry'!V51=\"\",\"\",'Marks Entry'!V51)","v":""},{"$f":"IF('Marks Entry'!W51=\"\",\"\",'Marks Entry'!W51)","v":""},{"$f":"IF('Marks Entry'!X51=\"\",\"\",'Marks Entry'!X51)","v":""},"","",{"$f":"IF('Marks Entry'!Y51=\"\",\"\",'Marks Entry'!Y51)","v":""},{"$f":"IF('Marks Entry'!Z51=\"\",\"\",'Marks Entry'!Z51)","v":""},"","",{"$f":"IF(AND($B49=\"NSO\",$E49=\"\"),\"\",IF(AND('Marks Entry'!AA51=\"AB\",'Marks Entry'!AB51=\"AB\"),\"AB\",IF(AND('Marks Entry'!AA51=\"ML\",'Marks Entry'!AB51=\"ML\"),\"RE\",IF('Marks Entry'!AA51=\"\",\"\",ROUNDUP(('Marks Entry'!AA51+'Marks Entry'!AB51)*30/100,0)))))","v":""},"",0,0,"","","","",{"$f":"IF('Marks Entry'!AC51=\"\",\"\",'Marks Entry'!AC51)","v":""},{"$f":"IF('Marks Entry'!AE51=\"\",\"\",'Marks Entry'!AE51)","v":""},{"$f":"IF('Marks Entry'!AF51=\"\",\"\",'Marks Entry'!AF51)","v":""},{"$f":"IF('Marks Entry'!AG51=\"\",\"\",'Marks Entry'!AG51)","v":""},"","",{"$f":"IF('Marks Entry'!AH51=\"\",\"\",'Marks Entry'!AH51)","v":""},{"$f":"IF('Marks Entry'!AI51=\"\",\"\",'Marks Entry'!AI51)","v":""},"","",{"$f":"IF(AND($B49=\"NSO\",$E49=\"\"),\"\",IF(AND('Marks Entry'!AJ51=\"AB\",'Marks Entry'!AK51=\"AB\"),\"AB\",IF(AND('Marks Entry'!AJ51=\"ML\",'Marks Entry'!AK51=\"ML\"),\"RE\",IF('Marks Entry'!AJ51=\"\",\"\",ROUNDUP(('Marks Entry'!AJ51+'Marks Entry'!AK51)*30/100,0)))))","v":""},"",0,0,"","","","",{"$f":"IF('Marks Entry'!AL51=\"\",\"\",'Marks Entry'!AL51)","v":""},{"$f":"IF('Marks Entry'!AN51=\"\",\"\",'Marks Entry'!AN51)","v":""},{"$f":"IF('Marks Entry'!AO51=\"\",\"\",'Marks Entry'!AO51)","v":""},{"$f":"IF('Marks Entry'!AP51=\"\",\"\",'Marks Entry'!AP51)","v":""},"","",{"$f":"IF('Marks Entry'!AQ51=\"\",\"\",'Marks Entry'!AQ51)","v":""},{"$f":"IF('Marks Entry'!AR51=\"\",\"\",'Marks Entry'!AR51)","v":""},"","",{"$f":"IF(AND($B49=\"NSO\",$E49=\"\"),\"\",IF(AND('Marks Entry'!AS51=\"AB\",'Marks Entry'!AT51=\"AB\"),\"AB\",IF(AND('Marks Entry'!AS51=\"ML\",'Marks Entry'!AT51=\"ML\"),\"RE\",IF('Marks Entry'!AS51=\"\",\"\",ROUNDUP(('Marks Entry'!AS51+'Marks Entry'!AT51)*30/100,0)))))","v":""},"",0,0,"","","","",{"$f":"IF('Marks Entry'!AU51=\"\",\"\",'Marks Entry'!AU51)","v":""},{"$f":"IF('Marks Entry'!AW51=\"\",\"\",'Marks Entry'!AW51)","v":""},{"$f":"IF('Marks Entry'!AX51=\"\",\"\",'Marks Entry'!AX51)","v":""},{"$f":"IF('Marks Entry'!AY51=\"\",\"\",'Marks Entry'!AY51)","v":""},"","",{"$f":"IF('Marks Entry'!AZ51=\"\",\"\",'Marks Entry'!AZ51)","v":""},{"$f":"IF('Marks Entry'!BA51=\"\",\"\",'Marks Entry'!BA51)","v":""},"","",{"$f":"IF(AND($B49=\"NSO\",$E49=\"\"),\"\",IF(AND('Marks Entry'!BB51=\"AB\",'Marks Entry'!BC51=\"AB\"),\"AB\",IF(AND('Marks Entry'!BB51=\"ML\",'Marks Entry'!BC51=\"ML\"),\"RE\",IF('Marks Entry'!BB51=\"\",\"\",ROUNDUP(('Marks Entry'!BB51+'Marks Entry'!BC51)*30/100,0)))))","v":""},"",0,0,"","","","",0,"","","","","","",0,0,0,0,0,"",{"$f":"IF('Marks Entry'!BD51=\"\",\"\",'Marks Entry'!BD51)","v":""},{"$f":"IF('Marks Entry'!BE51=\"\",\"\",'Marks Entry'!BE51)","v":""},{"$f":"IF('Marks Entry'!BF51=\"\",\"\",'Marks Entry'!BF51)","v":""},"","","","","","","","","","","","","","","","","","","","","","","","","","",{"$f":"IF('Student DATA Entry'!I46=\"\",\"\",'Student DATA Entry'!I46)","v":""},{"$f":"IF('Student DATA Entry'!J46=\"\",\"\",'Student DATA Entry'!J46)","v":""},"      ","      ","      ","              "," ","","","","",""]
[45,{"$f":"IF('Marks Entry'!B52=\"\",\"\",VALUE('Marks Entry'!B52))","v":""},{"$f":"IF('Marks Entry'!C52=\"\",\"\",'Marks Entry'!C52)","v":""},{"$f":"IF('Marks Entry'!D52=\"\",\"\",'Marks Entry'!D52)","v":""},{"$f":"IF('Marks Entry'!E52=\"\",\"\",'Marks Entry'!E52)","v":""},{"$f":"IF('Marks Entry'!F52=\"\",\"\",'Marks Entry'!F52)","v":""},{"$f":"IF('Marks Entry'!G52=\"\",\"\",'Marks Entry'!G52)","v":""},{"$f":"IF('Marks Entry'!H52=\"\",\"\",'Marks Entry'!H52)","v":""},{"$f":"IF('Marks Entry'!I52=\"\",\"\",'Marks Entry'!I52)","v":""},{"$f":"IF('Marks Entry'!J52=\"\",\"\",'Marks Entry'!J52)","v":""},{"$f":"IF('Marks Entry'!K52=\"\",\"\",'Marks Entry'!K52)","v":""},{"$f":"IF('Marks Entry'!L52=\"\",\"\",'Marks Entry'!L52)","v":""},"","",{"$f":"IF('Marks Entry'!M52=\"\",\"\",'Marks Entry'!M52)","v":""},"",{"$f":"IF(AND($B50=\"NSO\",$E50=\"\",O50=\"\"),\"\",IF(AND('Marks Entry'!N52=\"AB\"),\"AB\",IF(AND('Marks Entry'!N52=\"ML\"),\"RE\",IF('Marks Entry'!N52=\"\",\"\",ROUNDUP('Marks Entry'!N52*30/100,0)))))","v":""},"",0,0,"","","","",{"$f":"IF('Marks Entry'!O52=\"\",\"\",'Marks Entry'!O52)","v":""},{"$f":"IF('Marks Entry'!P52=\"\",\"\",'Marks Entry'!P52)","v":""},{"$f":"IF('Marks Entry'!Q52=\"\",\"\",'Marks Entry'!Q52)","v":""},"","",{"$f":"IF('Marks Entry'!R52=\"\",\"\",'Marks Entry'!R52)","v":""},"",{"$f":"IF(AND($B50=\"NSO\",$E50=\"\"),\"\",IF(AND('Marks Entry'!S52=\"AB\"),\"AB\",IF(AND('Marks Entry'!S52=\"ML\"),\"RE\",IF('Marks Entry'!S52=\"\",\"\",ROUNDUP('Marks Entry'!S52*30/100,0)))))","v":""},"",0,0,"","","","",{"$f":"IF('Marks Entry'!T52=\"\",\"\",'Marks Entry'!T52)","v":""},{"$f":"IF('Marks Entry'!V52=\"\",\"\",'Marks Entry'!V52)","v":""},{"$f":"IF('Marks Entry'!W52=\"\",\"\",'Marks Entry'!W52)","v":""},{"$f":"IF('Marks Entry'!X52=\"\",\"\",'Marks Entry'!X52)","v":""},"","",{"$f":"IF('Marks Entry'!Y52=\"\",\"\",'Marks Entry'!Y52)","v":""},{"$f":"IF('Marks Entry'!Z52=\"\",\"\",'Marks Entry'!Z52)","v":""},"","",{"$f":"IF(AND($B50=\"NSO\",$E50=\"\"),\"\",IF(AND('Marks Entry'!AA52=\"AB\",'Marks Entry'!AB52=\"AB\"),\"AB\",IF(AND('Marks Entry'!AA52=\"ML\",'Marks Entry'!AB52=\"ML\"),\"RE\",IF('Marks Entry'!AA52=\"\",\"\",ROUNDUP(('Marks Entry'!AA52+'Marks Entry'!AB52)*30/100,0)))))","v":""},"",0,0,"","","","",{"$f":"IF('Marks Entry'!AC52=\"\",\"\",'Marks Entry'!AC52)","v":""},{"$f":"IF('Marks Entry'!AE52=\"\",\"\",'Marks Entry'!AE52)","v":""},{"$f":"IF('Marks Entry'!AF52=\"\",\"\",'Marks Entry'!AF52)","v":""},{"$f":"IF('Marks Entry'!AG52=\"\",\"\",'Marks Entry'!AG52)","v":""},"","",{"$f":"IF('Marks Entry'!AH52=\"\",\"\",'Marks Entry'!AH52)","v":""},{"$f":"IF('Marks Entry'!AI52=\"\",\"\",'Marks Entry'!AI52)","v":""},"","",{"$f":"IF(AND($B50=\"NSO\",$E50=\"\"),\"\",IF(AND('Marks Entry'!AJ52=\"AB\",'Marks Entry'!AK52=\"AB\"),\"AB\",IF(AND('Marks Entry'!AJ52=\"ML\",'Marks Entry'!AK52=\"ML\"),\"RE\",IF('Marks Entry'!AJ52=\"\",\"\",ROUNDUP(('Marks Entry'!AJ52+'Marks Entry'!AK52)*30/100,0)))))","v":""},"",0,0,"","","","",{"$f":"IF('Marks Entry'!AL52=\"\",\"\",'Marks Entry'!AL52)","v":""},{"$f":"IF('Marks Entry'!AN52=\"\",\"\",'Marks Entry'!AN52)","v":""},{"$f":"IF('Marks Entry'!AO52=\"\",\"\",'Marks Entry'!AO52)","v":""},{"$f":"IF('Marks Entry'!AP52=\"\",\"\",'Marks Entry'!AP52)","v":""},"","",{"$f":"IF('Marks Entry'!AQ52=\"\",\"\",'Marks Entry'!AQ52)","v":""},{"$f":"IF('Marks Entry'!AR52=\"\",\"\",'Marks Entry'!AR52)","v":""},"","",{"$f":"IF(AND($B50=\"NSO\",$E50=\"\"),\"\",IF(AND('Marks Entry'!AS52=\"AB\",'Marks Entry'!AT52=\"AB\"),\"AB\",IF(AND('Marks Entry'!AS52=\"ML\",'Marks Entry'!AT52=\"ML\"),\"RE\",IF('Marks Entry'!AS52=\"\",\"\",ROUNDUP(('Marks Entry'!AS52+'Marks Entry'!AT52)*30/100,0)))))","v":""},"",0,0,"","","","",{"$f":"IF('Marks Entry'!AU52=\"\",\"\",'Marks Entry'!AU52)","v":""},{"$f":"IF('Marks Entry'!AW52=\"\",\"\",'Marks Entry'!AW52)","v":""},{"$f":"IF('Marks Entry'!AX52=\"\",\"\",'Marks Entry'!AX52)","v":""},{"$f":"IF('Marks Entry'!AY52=\"\",\"\",'Marks Entry'!AY52)","v":""},"","",{"$f":"IF('Marks Entry'!AZ52=\"\",\"\",'Marks Entry'!AZ52)","v":""},{"$f":"IF('Marks Entry'!BA52=\"\",\"\",'Marks Entry'!BA52)","v":""},"","",{"$f":"IF(AND($B50=\"NSO\",$E50=\"\"),\"\",IF(AND('Marks Entry'!BB52=\"AB\",'Marks Entry'!BC52=\"AB\"),\"AB\",IF(AND('Marks Entry'!BB52=\"ML\",'Marks Entry'!BC52=\"ML\"),\"RE\",IF('Marks Entry'!BB52=\"\",\"\",ROUNDUP(('Marks Entry'!BB52+'Marks Entry'!BC52)*30/100,0)))))","v":""},"",0,0,"","","","",0,"","","","","","",0,0,0,0,0,"",{"$f":"IF('Marks Entry'!BD52=\"\",\"\",'Marks Entry'!BD52)","v":""},{"$f":"IF('Marks Entry'!BE52=\"\",\"\",'Marks Entry'!BE52)","v":""},{"$f":"IF('Marks Entry'!BF52=\"\",\"\",'Marks Entry'!BF52)","v":""},"","","","","","","","","","","","","","","","","","","","","","","","","","",{"$f":"IF('Student DATA Entry'!I47=\"\",\"\",'Student DATA Entry'!I47)","v":""},{"$f":"IF('Student DATA Entry'!J47=\"\",\"\",'Student DATA Entry'!J47)","v":""},"      ","      ","      ","              "," ","","","","",""]
[46,{"$f":"IF('Marks Entry'!B53=\"\",\"\",VALUE('Marks Entry'!B53))","v":""},{"$f":"IF('Marks Entry'!C53=\"\",\"\",'Marks Entry'!C53)","v":""},{"$f":"IF('Marks Entry'!D53=\"\",\"\",'Marks Entry'!D53)","v":""},{"$f":"IF('Marks Entry'!E53=\"\",\"\",'Marks Entry'!E53)","v":""},{"$f":"IF('Marks Entry'!F53=\"\",\"\",'Marks Entry'!F53)","v":""},{"$f":"IF('Marks Entry'!G53=\"\",\"\",'Marks Entry'!G53)","v":""},{"$f":"IF('Marks Entry'!H53=\"\",\"\",'Marks Entry'!H53)","v":""},{"$f":"IF('Marks Entry'!I53=\"\",\"\",'Marks Entry'!I53)","v":""},{"$f":"IF('Marks Entry'!J53=\"\",\"\",'Marks Entry'!J53)","v":""},{"$f":"IF('Marks Entry'!K53=\"\",\"\",'Marks Entry'!K53)","v":""},{"$f":"IF('Marks Entry'!L53=\"\",\"\",'Marks Entry'!L53)","v":""},"","",{"$f":"IF('Marks Entry'!M53=\"\",\"\",'Marks Entry'!M53)","v":""},"",{"$f":"IF(AND($B51=\"NSO\",$E51=\"\",O51=\"\"),\"\",IF(AND('Marks Entry'!N53=\"AB\"),\"AB\",IF(AND('Marks Entry'!N53=\"ML\"),\"RE\",IF('Marks Entry'!N53=\"\",\"\",ROUNDUP('Marks Entry'!N53*30/100,0)))))","v":""},"",0,0,"","","","",{"$f":"IF('Marks Entry'!O53=\"\",\"\",'Marks Entry'!O53)","v":""},{"$f":"IF('Marks Entry'!P53=\"\",\"\",'Marks Entry'!P53)","v":""},{"$f":"IF('Marks Entry'!Q53=\"\",\"\",'Marks Entry'!Q53)","v":""},"","",{"$f":"IF('Marks Entry'!R53=\"\",\"\",'Marks Entry'!R53)","v":""},"",{"$f":"IF(AND($B51=\"NSO\",$E51=\"\"),\"\",IF(AND('Marks Entry'!S53=\"AB\"),\"AB\",IF(AND('Marks Entry'!S53=\"ML\"),\"RE\",IF('Marks Entry'!S53=\"\",\"\",ROUNDUP('Marks Entry'!S53*30/100,0)))))","v":""},"",0,0,"","","","",{"$f":"IF('Marks Entry'!T53=\"\",\"\",'Marks Entry'!T53)","v":""},{"$f":"IF('Marks Entry'!V53=\"\",\"\",'Marks Entry'!V53)","v":""},{"$f":"IF('Marks Entry'!W53=\"\",\"\",'Marks Entry'!W53)","v":""},{"$f":"IF('Marks Entry'!X53=\"\",\"\",'Marks Entry'!X53)","v":""},"","",{"$f":"IF('Marks Entry'!Y53=\"\",\"\",'Marks Entry'!Y53)","v":""},{"$f":"IF('Marks Entry'!Z53=\"\",\"\",'Marks Entry'!Z53)","v":""},"","",{"$f":"IF(AND($B51=\"NSO\",$E51=\"\"),\"\",IF(AND('Marks Entry'!AA53=\"AB\",'Marks Entry'!AB53=\"AB\"),\"AB\",IF(AND('Marks Entry'!AA53=\"ML\",'Marks Entry'!AB53=\"ML\"),\"RE\",IF('Marks Entry'!AA53=\"\",\"\",ROUNDUP(('Marks Entry'!AA53+'Marks Entry'!AB53)*30/100,0)))))","v":""},"",0,0,"","","","",{"$f":"IF('Marks Entry'!AC53=\"\",\"\",'Marks Entry'!AC53)","v":""},{"$f":"IF('Marks Entry'!AE53=\"\",\"\",'Marks Entry'!AE53)","v":""},{"$f":"IF('Marks Entry'!AF53=\"\",\"\",'Marks Entry'!AF53)","v":""},{"$f":"IF('Marks Entry'!AG53=\"\",\"\",'Marks Entry'!AG53)","v":""},"","",{"$f":"IF('Marks Entry'!AH53=\"\",\"\",'Marks Entry'!AH53)","v":""},{"$f":"IF('Marks Entry'!AI53=\"\",\"\",'Marks Entry'!AI53)","v":""},"","",{"$f":"IF(AND($B51=\"NSO\",$E51=\"\"),\"\",IF(AND('Marks Entry'!AJ53=\"AB\",'Marks Entry'!AK53=\"AB\"),\"AB\",IF(AND('Marks Entry'!AJ53=\"ML\",'Marks Entry'!AK53=\"ML\"),\"RE\",IF('Marks Entry'!AJ53=\"\",\"\",ROUNDUP(('Marks Entry'!AJ53+'Marks Entry'!AK53)*30/100,0)))))","v":""},"",0,0,"","","","",{"$f":"IF('Marks Entry'!AL53=\"\",\"\",'Marks Entry'!AL53)","v":""},{"$f":"IF('Marks Entry'!AN53=\"\",\"\",'Marks Entry'!AN53)","v":""},{"$f":"IF('Marks Entry'!AO53=\"\",\"\",'Marks Entry'!AO53)","v":""},{"$f":"IF('Marks Entry'!AP53=\"\",\"\",'Marks Entry'!AP53)","v":""},"","",{"$f":"IF('Marks Entry'!AQ53=\"\",\"\",'Marks Entry'!AQ53)","v":""},{"$f":"IF('Marks Entry'!AR53=\"\",\"\",'Marks Entry'!AR53)","v":""},"","",{"$f":"IF(AND($B51=\"NSO\",$E51=\"\"),\"\",IF(AND('Marks Entry'!AS53=\"AB\",'Marks Entry'!AT53=\"AB\"),\"AB\",IF(AND('Marks Entry'!AS53=\"ML\",'Marks Entry'!AT53=\"ML\"),\"RE\",IF('Marks Entry'!AS53=\"\",\"\",ROUNDUP(('Marks Entry'!AS53+'Marks Entry'!AT53)*30/100,0)))))","v":""},"",0,0,"","","","",{"$f":"IF('Marks Entry'!AU53=\"\",\"\",'Marks Entry'!AU53)","v":""},{"$f":"IF('Marks Entry'!AW53=\"\",\"\",'Marks Entry'!AW53)","v":""},{"$f":"IF('Marks Entry'!AX53=\"\",\"\",'Marks Entry'!AX53)","v":""},{"$f":"IF('Marks Entry'!AY53=\"\",\"\",'Marks Entry'!AY53)","v":""},"","",{"$f":"IF('Marks Entry'!AZ53=\"\",\"\",'Marks Entry'!AZ53)","v":""},{"$f":"IF('Marks Entry'!BA53=\"\",\"\",'Marks Entry'!BA53)","v":""},"","",{"$f":"IF(AND($B51=\"NSO\",$E51=\"\"),\"\",IF(AND('Marks Entry'!BB53=\"AB\",'Marks Entry'!BC53=\"AB\"),\"AB\",IF(AND('Marks Entry'!BB53=\"ML\",'Marks Entry'!BC53=\"ML\"),\"RE\",IF('Marks Entry'!BB53=\"\",\"\",ROUNDUP(('Marks Entry'!BB53+'Marks Entry'!BC53)*30/100,0)))))","v":""},"",0,0,"","","","",0,"","","","","","",0,0,0,0,0,"",{"$f":"IF('Marks Entry'!BD53=\"\",\"\",'Marks Entry'!BD53)","v":""},{"$f":"IF('Marks Entry'!BE53=\"\",\"\",'Marks Entry'!BE53)","v":""},{"$f":"IF('Marks Entry'!BF53=\"\",\"\",'Marks Entry'!BF53)","v":""},"","","","","","","","","","","","","","","","","","","","","","","","","","",{"$f":"IF('Student DATA Entry'!I48=\"\",\"\",'Student DATA Entry'!I48)","v":""},{"$f":"IF('Student DATA Entry'!J48=\"\",\"\",'Student DATA Entry'!J48)","v":""},"      ","      ","      ","              "," ","","","","",""]
[47,{"$f":"IF('Marks Entry'!B54=\"\",\"\",VALUE('Marks Entry'!B54))","v":""},{"$f":"IF('Marks Entry'!C54=\"\",\"\",'Marks Entry'!C54)","v":""},{"$f":"IF('Marks Entry'!D54=\"\",\"\",'Marks Entry'!D54)","v":""},{"$f":"IF('Marks Entry'!E54=\"\",\"\",'Marks Entry'!E54)","v":""},{"$f":"IF('Marks Entry'!F54=\"\",\"\",'Marks Entry'!F54)","v":""},{"$f":"IF('Marks Entry'!G54=\"\",\"\",'Marks Entry'!G54)","v":""},{"$f":"IF('Marks Entry'!H54=\"\",\"\",'Marks Entry'!H54)","v":""},{"$f":"IF('Marks Entry'!I54=\"\",\"\",'Marks Entry'!I54)","v":""},{"$f":"IF('Marks Entry'!J54=\"\",\"\",'Marks Entry'!J54)","v":""},{"$f":"IF('Marks Entry'!K54=\"\",\"\",'Marks Entry'!K54)","v":""},{"$f":"IF('Marks Entry'!L54=\"\",\"\",'Marks Entry'!L54)","v":""},"","",{"$f":"IF('Marks Entry'!M54=\"\",\"\",'Marks Entry'!M54)","v":""},"",{"$f":"IF(AND($B52=\"NSO\",$E52=\"\",O52=\"\"),\"\",IF(AND('Marks Entry'!N54=\"AB\"),\"AB\",IF(AND('Marks Entry'!N54=\"ML\"),\"RE\",IF('Marks Entry'!N54=\"\",\"\",ROUNDUP('Marks Entry'!N54*30/100,0)))))","v":""},"",0,0,"","","","",{"$f":"IF('Marks Entry'!O54=\"\",\"\",'Marks Entry'!O54)","v":""},{"$f":"IF('Marks Entry'!P54=\"\",\"\",'Marks Entry'!P54)","v":""},{"$f":"IF('Marks Entry'!Q54=\"\",\"\",'Marks Entry'!Q54)","v":""},"","",{"$f":"IF('Marks Entry'!R54=\"\",\"\",'Marks Entry'!R54)","v":""},"",{"$f":"IF(AND($B52=\"NSO\",$E52=\"\"),\"\",IF(AND('Marks Entry'!S54=\"AB\"),\"AB\",IF(AND('Marks Entry'!S54=\"ML\"),\"RE\",IF('Marks Entry'!S54=\"\",\"\",ROUNDUP('Marks Entry'!S54*30/100,0)))))","v":""},"",0,0,"","","","",{"$f":"IF('Marks Entry'!T54=\"\",\"\",'Marks Entry'!T54)","v":""},{"$f":"IF('Marks Entry'!V54=\"\",\"\",'Marks Entry'!V54)","v":""},{"$f":"IF('Marks Entry'!W54=\"\",\"\",'Marks Entry'!W54)","v":""},{"$f":"IF('Marks Entry'!X54=\"\",\"\",'Marks Entry'!X54)","v":""},"","",{"$f":"IF('Marks Entry'!Y54=\"\",\"\",'Marks Entry'!Y54)","v":""},{"$f":"IF('Marks Entry'!Z54=\"\",\"\",'Marks Entry'!Z54)","v":""},"","",{"$f":"IF(AND($B52=\"NSO\",$E52=\"\"),\"\",IF(AND('Marks Entry'!AA54=\"AB\",'Marks Entry'!AB54=\"AB\"),\"AB\",IF(AND('Marks Entry'!AA54=\"ML\",'Marks Entry'!AB54=\"ML\"),\"RE\",IF('Marks Entry'!AA54=\"\",\"\",ROUNDUP(('Marks Entry'!AA54+'Marks Entry'!AB54)*30/100,0)))))","v":""},"",0,0,"","","","",{"$f":"IF('Marks Entry'!AC54=\"\",\"\",'Marks Entry'!AC54)","v":""},{"$f":"IF('Marks Entry'!AE54=\"\",\"\",'Marks Entry'!AE54)","v":""},{"$f":"IF('Marks Entry'!AF54=\"\",\"\",'Marks Entry'!AF54)","v":""},{"$f":"IF('Marks Entry'!AG54=\"\",\"\",'Marks Entry'!AG54)","v":""},"","",{"$f":"IF('Marks Entry'!AH54=\"\",\"\",'Marks Entry'!AH54)","v":""},{"$f":"IF('Marks Entry'!AI54=\"\",\"\",'Marks Entry'!AI54)","v":""},"","",{"$f":"IF(AND($B52=\"NSO\",$E52=\"\"),\"\",IF(AND('Marks Entry'!AJ54=\"AB\",'Marks Entry'!AK54=\"AB\"),\"AB\",IF(AND('Marks Entry'!AJ54=\"ML\",'Marks Entry'!AK54=\"ML\"),\"RE\",IF('Marks Entry'!AJ54=\"\",\"\",ROUNDUP(('Marks Entry'!AJ54+'Marks Entry'!AK54)*30/100,0)))))","v":""},"",0,0,"","","","",{"$f":"IF('Marks Entry'!AL54=\"\",\"\",'Marks Entry'!AL54)","v":""},{"$f":"IF('Marks Entry'!AN54=\"\",\"\",'Marks Entry'!AN54)","v":""},{"$f":"IF('Marks Entry'!AO54=\"\",\"\",'Marks Entry'!AO54)","v":""},{"$f":"IF('Marks Entry'!AP54=\"\",\"\",'Marks Entry'!AP54)","v":""},"","",{"$f":"IF('Marks Entry'!AQ54=\"\",\"\",'Marks Entry'!AQ54)","v":""},{"$f":"IF('Marks Entry'!AR54=\"\",\"\",'Marks Entry'!AR54)","v":""},"","",{"$f":"IF(AND($B52=\"NSO\",$E52=\"\"),\"\",IF(AND('Marks Entry'!AS54=\"AB\",'Marks Entry'!AT54=\"AB\"),\"AB\",IF(AND('Marks Entry'!AS54=\"ML\",'Marks Entry'!AT54=\"ML\"),\"RE\",IF('Marks Entry'!AS54=\"\",\"\",ROUNDUP(('Marks Entry'!AS54+'Marks Entry'!AT54)*30/100,0)))))","v":""},"",0,0,"","","","",{"$f":"IF('Marks Entry'!AU54=\"\",\"\",'Marks Entry'!AU54)","v":""},{"$f":"IF('Marks Entry'!AW54=\"\",\"\",'Marks Entry'!AW54)","v":""},{"$f":"IF('Marks Entry'!AX54=\"\",\"\",'Marks Entry'!AX54)","v":""},{"$f":"IF('Marks Entry'!AY54=\"\",\"\",'Marks Entry'!AY54)","v":""},"","",{"$f":"IF('Marks Entry'!AZ54=\"\",\"\",'Marks Entry'!AZ54)","v":""},{"$f":"IF('Marks Entry'!BA54=\"\",\"\",'Marks Entry'!BA54)","v":""},"","",{"$f":"IF(AND($B52=\"NSO\",$E52=\"\"),\"\",IF(AND('Marks Entry'!BB54=\"AB\",'Marks Entry'!BC54=\"AB\"),\"AB\",IF(AND('Marks Entry'!BB54=\"ML\",'Marks Entry'!BC54=\"ML\"),\"RE\",IF('Marks Entry'!BB54=\"\",\"\",ROUNDUP(('Marks Entry'!BB54+'Marks Entry'!BC54)*30/100,0)))))","v":""},"",0,0,"","","","",0,"","","","","","",0,0,0,0,0,"",{"$f":"IF('Marks Entry'!BD54=\"\",\"\",'Marks Entry'!BD54)","v":""},{"$f":"IF('Marks Entry'!BE54=\"\",\"\",'Marks Entry'!BE54)","v":""},{"$f":"IF('Marks Entry'!BF54=\"\",\"\",'Marks Entry'!BF54)","v":""},"","","","","","","","","","","","","","","","","","","","","","","","","","",{"$f":"IF('Student DATA Entry'!I49=\"\",\"\",'Student DATA Entry'!I49)","v":""},{"$f":"IF('Student DATA Entry'!J49=\"\",\"\",'Student DATA Entry'!J49)","v":""},"      ","      ","      ","              "," ","","","","",""]
[48,{"$f":"IF('Marks Entry'!B55=\"\",\"\",VALUE('Marks Entry'!B55))","v":""},{"$f":"IF('Marks Entry'!C55=\"\",\"\",'Marks Entry'!C55)","v":""},{"$f":"IF('Marks Entry'!D55=\"\",\"\",'Marks Entry'!D55)","v":""},{"$f":"IF('Marks Entry'!E55=\"\",\"\",'Marks Entry'!E55)","v":""},{"$f":"IF('Marks Entry'!F55=\"\",\"\",'Marks Entry'!F55)","v":""},{"$f":"IF('Marks Entry'!G55=\"\",\"\",'Marks Entry'!G55)","v":""},{"$f":"IF('Marks Entry'!H55=\"\",\"\",'Marks Entry'!H55)","v":""},{"$f":"IF('Marks Entry'!I55=\"\",\"\",'Marks Entry'!I55)","v":""},{"$f":"IF('Marks Entry'!J55=\"\",\"\",'Marks Entry'!J55)","v":""},{"$f":"IF('Marks Entry'!K55=\"\",\"\",'Marks Entry'!K55)","v":""},{"$f":"IF('Marks Entry'!L55=\"\",\"\",'Marks Entry'!L55)","v":""},"","",{"$f":"IF('Marks Entry'!M55=\"\",\"\",'Marks Entry'!M55)","v":""},"",{"$f":"IF(AND($B53=\"NSO\",$E53=\"\",O53=\"\"),\"\",IF(AND('Marks Entry'!N55=\"AB\"),\"AB\",IF(AND('Marks Entry'!N55=\"ML\"),\"RE\",IF('Marks Entry'!N55=\"\",\"\",ROUNDUP('Marks Entry'!N55*30/100,0)))))","v":""},"",0,0,"","","","",{"$f":"IF('Marks Entry'!O55=\"\",\"\",'Marks Entry'!O55)","v":""},{"$f":"IF('Marks Entry'!P55=\"\",\"\",'Marks Entry'!P55)","v":""},{"$f":"IF('Marks Entry'!Q55=\"\",\"\",'Marks Entry'!Q55)","v":""},"","",{"$f":"IF('Marks Entry'!R55=\"\",\"\",'Marks Entry'!R55)","v":""},"",{"$f":"IF(AND($B53=\"NSO\",$E53=\"\"),\"\",IF(AND('Marks Entry'!S55=\"AB\"),\"AB\",IF(AND('Marks Entry'!S55=\"ML\"),\"RE\",IF('Marks Entry'!S55=\"\",\"\",ROUNDUP('Marks Entry'!S55*30/100,0)))))","v":""},"",0,0,"","","","",{"$f":"IF('Marks Entry'!T55=\"\",\"\",'Marks Entry'!T55)","v":""},{"$f":"IF('Marks Entry'!V55=\"\",\"\",'Marks Entry'!V55)","v":""},{"$f":"IF('Marks Entry'!W55=\"\",\"\",'Marks Entry'!W55)","v":""},{"$f":"IF('Marks Entry'!X55=\"\",\"\",'Marks Entry'!X55)","v":""},"","",{"$f":"IF('Marks Entry'!Y55=\"\",\"\",'Marks Entry'!Y55)","v":""},{"$f":"IF('Marks Entry'!Z55=\"\",\"\",'Marks Entry'!Z55)","v":""},"","",{"$f":"IF(AND($B53=\"NSO\",$E53=\"\"),\"\",IF(AND('Marks Entry'!AA55=\"AB\",'Marks Entry'!AB55=\"AB\"),\"AB\",IF(AND('Marks Entry'!AA55=\"ML\",'Marks Entry'!AB55=\"ML\"),\"RE\",IF('Marks Entry'!AA55=\"\",\"\",ROUNDUP(('Marks Entry'!AA55+'Marks Entry'!AB55)*30/100,0)))))","v":""},"",0,0,"","","","",{"$f":"IF('Marks Entry'!AC55=\"\",\"\",'Marks Entry'!AC55)","v":""},{"$f":"IF('Marks Entry'!AE55=\"\",\"\",'Marks Entry'!AE55)","v":""},{"$f":"IF('Marks Entry'!AF55=\"\",\"\",'Marks Entry'!AF55)","v":""},{"$f":"IF('Marks Entry'!AG55=\"\",\"\",'Marks Entry'!AG55)","v":""},"","",{"$f":"IF('Marks Entry'!AH55=\"\",\"\",'Marks Entry'!AH55)","v":""},{"$f":"IF('Marks Entry'!AI55=\"\",\"\",'Marks Entry'!AI55)","v":""},"","",{"$f":"IF(AND($B53=\"NSO\",$E53=\"\"),\"\",IF(AND('Marks Entry'!AJ55=\"AB\",'Marks Entry'!AK55=\"AB\"),\"AB\",IF(AND('Marks Entry'!AJ55=\"ML\",'Marks Entry'!AK55=\"ML\"),\"RE\",IF('Marks Entry'!AJ55=\"\",\"\",ROUNDUP(('Marks Entry'!AJ55+'Marks Entry'!AK55)*30/100,0)))))","v":""},"",0,0,"","","","",{"$f":"IF('Marks Entry'!AL55=\"\",\"\",'Marks Entry'!AL55)","v":""},{"$f":"IF('Marks Entry'!AN55=\"\",\"\",'Marks Entry'!AN55)","v":""},{"$f":"IF('Marks Entry'!AO55=\"\",\"\",'Marks Entry'!AO55)","v":""},{"$f":"IF('Marks Entry'!AP55=\"\",\"\",'Marks Entry'!AP55)","v":""},"","",{"$f":"IF('Marks Entry'!AQ55=\"\",\"\",'Marks Entry'!AQ55)","v":""},{"$f":"IF('Marks Entry'!AR55=\"\",\"\",'Marks Entry'!AR55)","v":""},"","",{"$f":"IF(AND($B53=\"NSO\",$E53=\"\"),\"\",IF(AND('Marks Entry'!AS55=\"AB\",'Marks Entry'!AT55=\"AB\"),\"AB\",IF(AND('Marks Entry'!AS55=\"ML\",'Marks Entry'!AT55=\"ML\"),\"RE\",IF('Marks Entry'!AS55=\"\",\"\",ROUNDUP(('Marks Entry'!AS55+'Marks Entry'!AT55)*30/100,0)))))","v":""},"",0,0,"","","","",{"$f":"IF('Marks Entry'!AU55=\"\",\"\",'Marks Entry'!AU55)","v":""},{"$f":"IF('Marks Entry'!AW55=\"\",\"\",'Marks Entry'!AW55)","v":""},{"$f":"IF('Marks Entry'!AX55=\"\",\"\",'Marks Entry'!AX55)","v":""},{"$f":"IF('Marks Entry'!AY55=\"\",\"\",'Marks Entry'!AY55)","v":""},"","",{"$f":"IF('Marks Entry'!AZ55=\"\",\"\",'Marks Entry'!AZ55)","v":""},{"$f":"IF('Marks Entry'!BA55=\"\",\"\",'Marks Entry'!BA55)","v":""},"","",{"$f":"IF(AND($B53=\"NSO\",$E53=\"\"),\"\",IF(AND('Marks Entry'!BB55=\"AB\",'Marks Entry'!BC55=\"AB\"),\"AB\",IF(AND('Marks Entry'!BB55=\"ML\",'Marks Entry'!BC55=\"ML\"),\"RE\",IF('Marks Entry'!BB55=\"\",\"\",ROUNDUP(('Marks Entry'!BB55+'Marks Entry'!BC55)*30/100,0)))))","v":""},"",0,0,"","","","",0,"","","","","","",0,0,0,0,0,"",{"$f":"IF('Marks Entry'!BD55=\"\",\"\",'Marks Entry'!BD55)","v":""},{"$f":"IF('Marks Entry'!BE55=\"\",\"\",'Marks Entry'!BE55)","v":""},{"$f":"IF('Marks Entry'!BF55=\"\",\"\",'Marks Entry'!BF55)","v":""},"","","","","","","","","","","","","","","","","","","","","","","","","","",{"$f":"IF('Student DATA Entry'!I50=\"\",\"\",'Student DATA Entry'!I50)","v":""},{"$f":"IF('Student DATA Entry'!J50=\"\",\"\",'Student DATA Entry'!J50)","v":""},"      ","      ","      ","              "," ","","","","",""]
[49,{"$f":"IF('Marks Entry'!B56=\"\",\"\",VALUE('Marks Entry'!B56))","v":""},{"$f":"IF('Marks Entry'!C56=\"\",\"\",'Marks Entry'!C56)","v":""},{"$f":"IF('Marks Entry'!D56=\"\",\"\",'Marks Entry'!D56)","v":""},{"$f":"IF('Marks Entry'!E56=\"\",\"\",'Marks Entry'!E56)","v":""},{"$f":"IF('Marks Entry'!F56=\"\",\"\",'Marks Entry'!F56)","v":""},{"$f":"IF('Marks Entry'!G56=\"\",\"\",'Marks Entry'!G56)","v":""},{"$f":"IF('Marks Entry'!H56=\"\",\"\",'Marks Entry'!H56)","v":""},{"$f":"IF('Marks Entry'!I56=\"\",\"\",'Marks Entry'!I56)","v":""},{"$f":"IF('Marks Entry'!J56=\"\",\"\",'Marks Entry'!J56)","v":""},{"$f":"IF('Marks Entry'!K56=\"\",\"\",'Marks Entry'!K56)","v":""},{"$f":"IF('Marks Entry'!L56=\"\",\"\",'Marks Entry'!L56)","v":""},"","",{"$f":"IF('Marks Entry'!M56=\"\",\"\",'Marks Entry'!M56)","v":""},"",{"$f":"IF(AND($B54=\"NSO\",$E54=\"\",O54=\"\"),\"\",IF(AND('Marks Entry'!N56=\"AB\"),\"AB\",IF(AND('Marks Entry'!N56=\"ML\"),\"RE\",IF('Marks Entry'!N56=\"\",\"\",ROUNDUP('Marks Entry'!N56*30/100,0)))))","v":""},"",0,0,"","","","",{"$f":"IF('Marks Entry'!O56=\"\",\"\",'Marks Entry'!O56)","v":""},{"$f":"IF('Marks Entry'!P56=\"\",\"\",'Marks Entry'!P56)","v":""},{"$f":"IF('Marks Entry'!Q56=\"\",\"\",'Marks Entry'!Q56)","v":""},"","",{"$f":"IF('Marks Entry'!R56=\"\",\"\",'Marks Entry'!R56)","v":""},"",{"$f":"IF(AND($B54=\"NSO\",$E54=\"\"),\"\",IF(AND('Marks Entry'!S56=\"AB\"),\"AB\",IF(AND('Marks Entry'!S56=\"ML\"),\"RE\",IF('Marks Entry'!S56=\"\",\"\",ROUNDUP('Marks Entry'!S56*30/100,0)))))","v":""},"",0,0,"","","","",{"$f":"IF('Marks Entry'!T56=\"\",\"\",'Marks Entry'!T56)","v":""},{"$f":"IF('Marks Entry'!V56=\"\",\"\",'Marks Entry'!V56)","v":""},{"$f":"IF('Marks Entry'!W56=\"\",\"\",'Marks Entry'!W56)","v":""},{"$f":"IF('Marks Entry'!X56=\"\",\"\",'Marks Entry'!X56)","v":""},"","",{"$f":"IF('Marks Entry'!Y56=\"\",\"\",'Marks Entry'!Y56)","v":""},{"$f":"IF('Marks Entry'!Z56=\"\",\"\",'Marks Entry'!Z56)","v":""},"","",{"$f":"IF(AND($B54=\"NSO\",$E54=\"\"),\"\",IF(AND('Marks Entry'!AA56=\"AB\",'Marks Entry'!AB56=\"AB\"),\"AB\",IF(AND('Marks Entry'!AA56=\"ML\",'Marks Entry'!AB56=\"ML\"),\"RE\",IF('Marks Entry'!AA56=\"\",\"\",ROUNDUP(('Marks Entry'!AA56+'Marks Entry'!AB56)*30/100,0)))))","v":""},"",0,0,"","","","",{"$f":"IF('Marks Entry'!AC56=\"\",\"\",'Marks Entry'!AC56)","v":""},{"$f":"IF('Marks Entry'!AE56=\"\",\"\",'Marks Entry'!AE56)","v":""},{"$f":"IF('Marks Entry'!AF56=\"\",\"\",'Marks Entry'!AF56)","v":""},{"$f":"IF('Marks Entry'!AG56=\"\",\"\",'Marks Entry'!AG56)","v":""},"","",{"$f":"IF('Marks Entry'!AH56=\"\",\"\",'Marks Entry'!AH56)","v":""},{"$f":"IF('Marks Entry'!AI56=\"\",\"\",'Marks Entry'!AI56)","v":""},"","",{"$f":"IF(AND($B54=\"NSO\",$E54=\"\"),\"\",IF(AND('Marks Entry'!AJ56=\"AB\",'Marks Entry'!AK56=\"AB\"),\"AB\",IF(AND('Marks Entry'!AJ56=\"ML\",'Marks Entry'!AK56=\"ML\"),\"RE\",IF('Marks Entry'!AJ56=\"\",\"\",ROUNDUP(('Marks Entry'!AJ56+'Marks Entry'!AK56)*30/100,0)))))","v":""},"",0,0,"","","","",{"$f":"IF('Marks Entry'!AL56=\"\",\"\",'Marks Entry'!AL56)","v":""},{"$f":"IF('Marks Entry'!AN56=\"\",\"\",'Marks Entry'!AN56)","v":""},{"$f":"IF('Marks Entry'!AO56=\"\",\"\",'Marks Entry'!AO56)","v":""},{"$f":"IF('Marks Entry'!AP56=\"\",\"\",'Marks Entry'!AP56)","v":""},"","",{"$f":"IF('Marks Entry'!AQ56=\"\",\"\",'Marks Entry'!AQ56)","v":""},{"$f":"IF('Marks Entry'!AR56=\"\",\"\",'Marks Entry'!AR56)","v":""},"","",{"$f":"IF(AND($B54=\"NSO\",$E54=\"\"),\"\",IF(AND('Marks Entry'!AS56=\"AB\",'Marks Entry'!AT56=\"AB\"),\"AB\",IF(AND('Marks Entry'!AS56=\"ML\",'Marks Entry'!AT56=\"ML\"),\"RE\",IF('Marks Entry'!AS56=\"\",\"\",ROUNDUP(('Marks Entry'!AS56+'Marks Entry'!AT56)*30/100,0)))))","v":""},"",0,0,"","","","",{"$f":"IF('Marks Entry'!AU56=\"\",\"\",'Marks Entry'!AU56)","v":""},{"$f":"IF('Marks Entry'!AW56=\"\",\"\",'Marks Entry'!AW56)","v":""},{"$f":"IF('Marks Entry'!AX56=\"\",\"\",'Marks Entry'!AX56)","v":""},{"$f":"IF('Marks Entry'!AY56=\"\",\"\",'Marks Entry'!AY56)","v":""},"","",{"$f":"IF('Marks Entry'!AZ56=\"\",\"\",'Marks Entry'!AZ56)","v":""},{"$f":"IF('Marks Entry'!BA56=\"\",\"\",'Marks Entry'!BA56)","v":""},"","",{"$f":"IF(AND($B54=\"NSO\",$E54=\"\"),\"\",IF(AND('Marks Entry'!BB56=\"AB\",'Marks Entry'!BC56=\"AB\"),\"AB\",IF(AND('Marks Entry'!BB56=\"ML\",'Marks Entry'!BC56=\"ML\"),\"RE\",IF('Marks Entry'!BB56=\"\",\"\",ROUNDUP(('Marks Entry'!BB56+'Marks Entry'!BC56)*30/100,0)))))","v":""},"",0,0,"","","","",0,"","","","","","",0,0,0,0,0,"",{"$f":"IF('Marks Entry'!BD56=\"\",\"\",'Marks Entry'!BD56)","v":""},{"$f":"IF('Marks Entry'!BE56=\"\",\"\",'Marks Entry'!BE56)","v":""},{"$f":"IF('Marks Entry'!BF56=\"\",\"\",'Marks Entry'!BF56)","v":""},"","","","","","","","","","","","","","","","","","","","","","","","","","",{"$f":"IF('Student DATA Entry'!I51=\"\",\"\",'Student DATA Entry'!I51)","v":""},{"$f":"IF('Student DATA Entry'!J51=\"\",\"\",'Student DATA Entry'!J51)","v":""},"      ","      ","      ","              "," ","","","","",""]
[50,{"$f":"IF('Marks Entry'!B57=\"\",\"\",VALUE('Marks Entry'!B57))","v":""},{"$f":"IF('Marks Entry'!C57=\"\",\"\",'Marks Entry'!C57)","v":""},{"$f":"IF('Marks Entry'!D57=\"\",\"\",'Marks Entry'!D57)","v":""},{"$f":"IF('Marks Entry'!E57=\"\",\"\",'Marks Entry'!E57)","v":""},{"$f":"IF('Marks Entry'!F57=\"\",\"\",'Marks Entry'!F57)","v":""},{"$f":"IF('Marks Entry'!G57=\"\",\"\",'Marks Entry'!G57)","v":""},{"$f":"IF('Marks Entry'!H57=\"\",\"\",'Marks Entry'!H57)","v":""},{"$f":"IF('Marks Entry'!I57=\"\",\"\",'Marks Entry'!I57)","v":""},{"$f":"IF('Marks Entry'!J57=\"\",\"\",'Marks Entry'!J57)","v":""},{"$f":"IF('Marks Entry'!K57=\"\",\"\",'Marks Entry'!K57)","v":""},{"$f":"IF('Marks Entry'!L57=\"\",\"\",'Marks Entry'!L57)","v":""},"","",{"$f":"IF('Marks Entry'!M57=\"\",\"\",'Marks Entry'!M57)","v":""},"",{"$f":"IF(AND($B55=\"NSO\",$E55=\"\",O55=\"\"),\"\",IF(AND('Marks Entry'!N57=\"AB\"),\"AB\",IF(AND('Marks Entry'!N57=\"ML\"),\"RE\",IF('Marks Entry'!N57=\"\",\"\",ROUNDUP('Marks Entry'!N57*30/100,0)))))","v":""},"",0,0,"","","","",{"$f":"IF('Marks Entry'!O57=\"\",\"\",'Marks Entry'!O57)","v":""},{"$f":"IF('Marks Entry'!P57=\"\",\"\",'Marks Entry'!P57)","v":""},{"$f":"IF('Marks Entry'!Q57=\"\",\"\",'Marks Entry'!Q57)","v":""},"","",{"$f":"IF('Marks Entry'!R57=\"\",\"\",'Marks Entry'!R57)","v":""},"",{"$f":"IF(AND($B55=\"NSO\",$E55=\"\"),\"\",IF(AND('Marks Entry'!S57=\"AB\"),\"AB\",IF(AND('Marks Entry'!S57=\"ML\"),\"RE\",IF('Marks Entry'!S57=\"\",\"\",ROUNDUP('Marks Entry'!S57*30/100,0)))))","v":""},"",0,0,"","","","",{"$f":"IF('Marks Entry'!T57=\"\",\"\",'Marks Entry'!T57)","v":""},{"$f":"IF('Marks Entry'!V57=\"\",\"\",'Marks Entry'!V57)","v":""},{"$f":"IF('Marks Entry'!W57=\"\",\"\",'Marks Entry'!W57)","v":""},{"$f":"IF('Marks Entry'!X57=\"\",\"\",'Marks Entry'!X57)","v":""},"","",{"$f":"IF('Marks Entry'!Y57=\"\",\"\",'Marks Entry'!Y57)","v":""},{"$f":"IF('Marks Entry'!Z57=\"\",\"\",'Marks Entry'!Z57)","v":""},"","",{"$f":"IF(AND($B55=\"NSO\",$E55=\"\"),\"\",IF(AND('Marks Entry'!AA57=\"AB\",'Marks Entry'!AB57=\"AB\"),\"AB\",IF(AND('Marks Entry'!AA57=\"ML\",'Marks Entry'!AB57=\"ML\"),\"RE\",IF('Marks Entry'!AA57=\"\",\"\",ROUNDUP(('Marks Entry'!AA57+'Marks Entry'!AB57)*30/100,0)))))","v":""},"",0,0,"","","","",{"$f":"IF('Marks Entry'!AC57=\"\",\"\",'Marks Entry'!AC57)","v":""},{"$f":"IF('Marks Entry'!AE57=\"\",\"\",'Marks Entry'!AE57)","v":""},{"$f":"IF('Marks Entry'!AF57=\"\",\"\",'Marks Entry'!AF57)","v":""},{"$f":"IF('Marks Entry'!AG57=\"\",\"\",'Marks Entry'!AG57)","v":""},"","",{"$f":"IF('Marks Entry'!AH57=\"\",\"\",'Marks Entry'!AH57)","v":""},{"$f":"IF('Marks Entry'!AI57=\"\",\"\",'Marks Entry'!AI57)","v":""},"","",{"$f":"IF(AND($B55=\"NSO\",$E55=\"\"),\"\",IF(AND('Marks Entry'!AJ57=\"AB\",'Marks Entry'!AK57=\"AB\"),\"AB\",IF(AND('Marks Entry'!AJ57=\"ML\",'Marks Entry'!AK57=\"ML\"),\"RE\",IF('Marks Entry'!AJ57=\"\",\"\",ROUNDUP(('Marks Entry'!AJ57+'Marks Entry'!AK57)*30/100,0)))))","v":""},"",0,0,"","","","",{"$f":"IF('Marks Entry'!AL57=\"\",\"\",'Marks Entry'!AL57)","v":""},{"$f":"IF('Marks Entry'!AN57=\"\",\"\",'Marks Entry'!AN57)","v":""},{"$f":"IF('Marks Entry'!AO57=\"\",\"\",'Marks Entry'!AO57)","v":""},{"$f":"IF('Marks Entry'!AP57=\"\",\"\",'Marks Entry'!AP57)","v":""},"","",{"$f":"IF('Marks Entry'!AQ57=\"\",\"\",'Marks Entry'!AQ57)","v":""},{"$f":"IF('Marks Entry'!AR57=\"\",\"\",'Marks Entry'!AR57)","v":""},"","",{"$f":"IF(AND($B55=\"NSO\",$E55=\"\"),\"\",IF(AND('Marks Entry'!AS57=\"AB\",'Marks Entry'!AT57=\"AB\"),\"AB\",IF(AND('Marks Entry'!AS57=\"ML\",'Marks Entry'!AT57=\"ML\"),\"RE\",IF('Marks Entry'!AS57=\"\",\"\",ROUNDUP(('Marks Entry'!AS57+'Marks Entry'!AT57)*30/100,0)))))","v":""},"",0,0,"","","","",{"$f":"IF('Marks Entry'!AU57=\"\",\"\",'Marks Entry'!AU57)","v":""},{"$f":"IF('Marks Entry'!AW57=\"\",\"\",'Marks Entry'!AW57)","v":""},{"$f":"IF('Marks Entry'!AX57=\"\",\"\",'Marks Entry'!AX57)","v":""},{"$f":"IF('Marks Entry'!AY57=\"\",\"\",'Marks Entry'!AY57)","v":""},"","",{"$f":"IF('Marks Entry'!AZ57=\"\",\"\",'Marks Entry'!AZ57)","v":""},{"$f":"IF('Marks Entry'!BA57=\"\",\"\",'Marks Entry'!BA57)","v":""},"","",{"$f":"IF(AND($B55=\"NSO\",$E55=\"\"),\"\",IF(AND('Marks Entry'!BB57=\"AB\",'Marks Entry'!BC57=\"AB\"),\"AB\",IF(AND('Marks Entry'!BB57=\"ML\",'Marks Entry'!BC57=\"ML\"),\"RE\",IF('Marks Entry'!BB57=\"\",\"\",ROUNDUP(('Marks Entry'!BB57+'Marks Entry'!BC57)*30/100,0)))))","v":""},"",0,0,"","","","",0,"","","","","","",0,0,0,0,0,"",{"$f":"IF('Marks Entry'!BD57=\"\",\"\",'Marks Entry'!BD57)","v":""},{"$f":"IF('Marks Entry'!BE57=\"\",\"\",'Marks Entry'!BE57)","v":""},{"$f":"IF('Marks Entry'!BF57=\"\",\"\",'Marks Entry'!BF57)","v":""},"","","","","","","","","","","","","","","","","","","","","","","","","","",{"$f":"IF('Student DATA Entry'!I52=\"\",\"\",'Student DATA Entry'!I52)","v":""},{"$f":"IF('Student DATA Entry'!J52=\"\",\"\",'Student DATA Entry'!J52)","v":""},"      ","      ","      ","              "," ","","","","",""]
[51,{"$f":"IF('Marks Entry'!B58=\"\",\"\",VALUE('Marks Entry'!B58))","v":""},{"$f":"IF('Marks Entry'!C58=\"\",\"\",'Marks Entry'!C58)","v":""},{"$f":"IF('Marks Entry'!D58=\"\",\"\",'Marks Entry'!D58)","v":""},{"$f":"IF('Marks Entry'!E58=\"\",\"\",'Marks Entry'!E58)","v":""},{"$f":"IF('Marks Entry'!F58=\"\",\"\",'Marks Entry'!F58)","v":""},{"$f":"IF('Marks Entry'!G58=\"\",\"\",'Marks Entry'!G58)","v":""},{"$f":"IF('Marks Entry'!H58=\"\",\"\",'Marks Entry'!H58)","v":""},{"$f":"IF('Marks Entry'!I58=\"\",\"\",'Marks Entry'!I58)","v":""},{"$f":"IF('Marks Entry'!J58=\"\",\"\",'Marks Entry'!J58)","v":""},{"$f":"IF('Marks Entry'!K58=\"\",\"\",'Marks Entry'!K58)","v":""},{"$f":"IF('Marks Entry'!L58=\"\",\"\",'Marks Entry'!L58)","v":""},"","",{"$f":"IF('Marks Entry'!M58=\"\",\"\",'Marks Entry'!M58)","v":""},"",{"$f":"IF(AND($B56=\"NSO\",$E56=\"\",O56=\"\"),\"\",IF(AND('Marks Entry'!N58=\"AB\"),\"AB\",IF(AND('Marks Entry'!N58=\"ML\"),\"RE\",IF('Marks Entry'!N58=\"\",\"\",ROUNDUP('Marks Entry'!N58*30/100,0)))))","v":""},"",0,0,"","","","",{"$f":"IF('Marks Entry'!O58=\"\",\"\",'Marks Entry'!O58)","v":""},{"$f":"IF('Marks Entry'!P58=\"\",\"\",'Marks Entry'!P58)","v":""},{"$f":"IF('Marks Entry'!Q58=\"\",\"\",'Marks Entry'!Q58)","v":""},"","",{"$f":"IF('Marks Entry'!R58=\"\",\"\",'Marks Entry'!R58)","v":""},"",{"$f":"IF(AND($B56=\"NSO\",$E56=\"\"),\"\",IF(AND('Marks Entry'!S58=\"AB\"),\"AB\",IF(AND('Marks Entry'!S58=\"ML\"),\"RE\",IF('Marks Entry'!S58=\"\",\"\",ROUNDUP('Marks Entry'!S58*30/100,0)))))","v":""},"",0,0,"","","","",{"$f":"IF('Marks Entry'!T58=\"\",\"\",'Marks Entry'!T58)","v":""},{"$f":"IF('Marks Entry'!V58=\"\",\"\",'Marks Entry'!V58)","v":""},{"$f":"IF('Marks Entry'!W58=\"\",\"\",'Marks Entry'!W58)","v":""},{"$f":"IF('Marks Entry'!X58=\"\",\"\",'Marks Entry'!X58)","v":""},"","",{"$f":"IF('Marks Entry'!Y58=\"\",\"\",'Marks Entry'!Y58)","v":""},{"$f":"IF('Marks Entry'!Z58=\"\",\"\",'Marks Entry'!Z58)","v":""},"","",{"$f":"IF(AND($B56=\"NSO\",$E56=\"\"),\"\",IF(AND('Marks Entry'!AA58=\"AB\",'Marks Entry'!AB58=\"AB\"),\"AB\",IF(AND('Marks Entry'!AA58=\"ML\",'Marks Entry'!AB58=\"ML\"),\"RE\",IF('Marks Entry'!AA58=\"\",\"\",ROUNDUP(('Marks Entry'!AA58+'Marks Entry'!AB58)*30/100,0)))))","v":""},"",0,0,"","","","",{"$f":"IF('Marks Entry'!AC58=\"\",\"\",'Marks Entry'!AC58)","v":""},{"$f":"IF('Marks Entry'!AE58=\"\",\"\",'Marks Entry'!AE58)","v":""},{"$f":"IF('Marks Entry'!AF58=\"\",\"\",'Marks Entry'!AF58)","v":""},{"$f":"IF('Marks Entry'!AG58=\"\",\"\",'Marks Entry'!AG58)","v":""},"","",{"$f":"IF('Marks Entry'!AH58=\"\",\"\",'Marks Entry'!AH58)","v":""},{"$f":"IF('Marks Entry'!AI58=\"\",\"\",'Marks Entry'!AI58)","v":""},"","",{"$f":"IF(AND($B56=\"NSO\",$E56=\"\"),\"\",IF(AND('Marks Entry'!AJ58=\"AB\",'Marks Entry'!AK58=\"AB\"),\"AB\",IF(AND('Marks Entry'!AJ58=\"ML\",'Marks Entry'!AK58=\"ML\"),\"RE\",IF('Marks Entry'!AJ58=\"\",\"\",ROUNDUP(('Marks Entry'!AJ58+'Marks Entry'!AK58)*30/100,0)))))","v":""},"",0,0,"","","","",{"$f":"IF('Marks Entry'!AL58=\"\",\"\",'Marks Entry'!AL58)","v":""},{"$f":"IF('Marks Entry'!AN58=\"\",\"\",'Marks Entry'!AN58)","v":""},{"$f":"IF('Marks Entry'!AO58=\"\",\"\",'Marks Entry'!AO58)","v":""},{"$f":"IF('Marks Entry'!AP58=\"\",\"\",'Marks Entry'!AP58)","v":""},"","",{"$f":"IF('Marks Entry'!AQ58=\"\",\"\",'Marks Entry'!AQ58)","v":""},{"$f":"IF('Marks Entry'!AR58=\"\",\"\",'Marks Entry'!AR58)","v":""},"","",{"$f":"IF(AND($B56=\"NSO\",$E56=\"\"),\"\",IF(AND('Marks Entry'!AS58=\"AB\",'Marks Entry'!AT58=\"AB\"),\"AB\",IF(AND('Marks Entry'!AS58=\"ML\",'Marks Entry'!AT58=\"ML\"),\"RE\",IF('Marks Entry'!AS58=\"\",\"\",ROUNDUP(('Marks Entry'!AS58+'Marks Entry'!AT58)*30/100,0)))))","v":""},"",0,0,"","","","",{"$f":"IF('Marks Entry'!AU58=\"\",\"\",'Marks Entry'!AU58)","v":""},{"$f":"IF('Marks Entry'!AW58=\"\",\"\",'Marks Entry'!AW58)","v":""},{"$f":"IF('Marks Entry'!AX58=\"\",\"\",'Marks Entry'!AX58)","v":""},{"$f":"IF('Marks Entry'!AY58=\"\",\"\",'Marks Entry'!AY58)","v":""},"","",{"$f":"IF('Marks Entry'!AZ58=\"\",\"\",'Marks Entry'!AZ58)","v":""},{"$f":"IF('Marks Entry'!BA58=\"\",\"\",'Marks Entry'!BA58)","v":""},"","",{"$f":"IF(AND($B56=\"NSO\",$E56=\"\"),\"\",IF(AND('Marks Entry'!BB58=\"AB\",'Marks Entry'!BC58=\"AB\"),\"AB\",IF(AND('Marks Entry'!BB58=\"ML\",'Marks Entry'!BC58=\"ML\"),\"RE\",IF('Marks Entry'!BB58=\"\",\"\",ROUNDUP(('Marks Entry'!BB58+'Marks Entry'!BC58)*30/100,0)))))","v":""},"",0,0,"","","","",0,"","","","","","",0,0,0,0,0,"",{"$f":"IF('Marks Entry'!BD58=\"\",\"\",'Marks Entry'!BD58)","v":""},{"$f":"IF('Marks Entry'!BE58=\"\",\"\",'Marks Entry'!BE58)","v":""},{"$f":"IF('Marks Entry'!BF58=\"\",\"\",'Marks Entry'!BF58)","v":""},"","","","","","","","","","","","","","","","","","","","","","","","","","",{"$f":"IF('Student DATA Entry'!I53=\"\",\"\",'Student DATA Entry'!I53)","v":""},{"$f":"IF('Student DATA Entry'!J53=\"\",\"\",'Student DATA Entry'!J53)","v":""},"      ","      ","      ","              "," ","","","","",""]
[52,{"$f":"IF('Marks Entry'!B59=\"\",\"\",VALUE('Marks Entry'!B59))","v":""},{"$f":"IF('Marks Entry'!C59=\"\",\"\",'Marks Entry'!C59)","v":""},{"$f":"IF('Marks Entry'!D59=\"\",\"\",'Marks Entry'!D59)","v":""},{"$f":"IF('Marks Entry'!E59=\"\",\"\",'Marks Entry'!E59)","v":""},{"$f":"IF('Marks Entry'!F59=\"\",\"\",'Marks Entry'!F59)","v":""},{"$f":"IF('Marks Entry'!G59=\"\",\"\",'Marks Entry'!G59)","v":""},{"$f":"IF('Marks Entry'!H59=\"\",\"\",'Marks Entry'!H59)","v":""},{"$f":"IF('Marks Entry'!I59=\"\",\"\",'Marks Entry'!I59)","v":""},{"$f":"IF('Marks Entry'!J59=\"\",\"\",'Marks Entry'!J59)","v":""},{"$f":"IF('Marks Entry'!K59=\"\",\"\",'Marks Entry'!K59)","v":""},{"$f":"IF('Marks Entry'!L59=\"\",\"\",'Marks Entry'!L59)","v":""},"","",{"$f":"IF('Marks Entry'!M59=\"\",\"\",'Marks Entry'!M59)","v":""},"",{"$f":"IF(AND($B57=\"NSO\",$E57=\"\",O57=\"\"),\"\",IF(AND('Marks Entry'!N59=\"AB\"),\"AB\",IF(AND('Marks Entry'!N59=\"ML\"),\"RE\",IF('Marks Entry'!N59=\"\",\"\",ROUNDUP('Marks Entry'!N59*30/100,0)))))","v":""},"",0,0,"","","","",{"$f":"IF('Marks Entry'!O59=\"\",\"\",'Marks Entry'!O59)","v":""},{"$f":"IF('Marks Entry'!P59=\"\",\"\",'Marks Entry'!P59)","v":""},{"$f":"IF('Marks Entry'!Q59=\"\",\"\",'Marks Entry'!Q59)","v":""},"","",{"$f":"IF('Marks Entry'!R59=\"\",\"\",'Marks Entry'!R59)","v":""},"",{"$f":"IF(AND($B57=\"NSO\",$E57=\"\"),\"\",IF(AND('Marks Entry'!S59=\"AB\"),\"AB\",IF(AND('Marks Entry'!S59=\"ML\"),\"RE\",IF('Marks Entry'!S59=\"\",\"\",ROUNDUP('Marks Entry'!S59*30/100,0)))))","v":""},"",0,0,"","","","",{"$f":"IF('Marks Entry'!T59=\"\",\"\",'Marks Entry'!T59)","v":""},{"$f":"IF('Marks Entry'!V59=\"\",\"\",'Marks Entry'!V59)","v":""},{"$f":"IF('Marks Entry'!W59=\"\",\"\",'Marks Entry'!W59)","v":""},{"$f":"IF('Marks Entry'!X59=\"\",\"\",'Marks Entry'!X59)","v":""},"","",{"$f":"IF('Marks Entry'!Y59=\"\",\"\",'Marks Entry'!Y59)","v":""},{"$f":"IF('Marks Entry'!Z59=\"\",\"\",'Marks Entry'!Z59)","v":""},"","",{"$f":"IF(AND($B57=\"NSO\",$E57=\"\"),\"\",IF(AND('Marks Entry'!AA59=\"AB\",'Marks Entry'!AB59=\"AB\"),\"AB\",IF(AND('Marks Entry'!AA59=\"ML\",'Marks Entry'!AB59=\"ML\"),\"RE\",IF('Marks Entry'!AA59=\"\",\"\",ROUNDUP(('Marks Entry'!AA59+'Marks Entry'!AB59)*30/100,0)))))","v":""},"",0,0,"","","","",{"$f":"IF('Marks Entry'!AC59=\"\",\"\",'Marks Entry'!AC59)","v":""},{"$f":"IF('Marks Entry'!AE59=\"\",\"\",'Marks Entry'!AE59)","v":""},{"$f":"IF('Marks Entry'!AF59=\"\",\"\",'Marks Entry'!AF59)","v":""},{"$f":"IF('Marks Entry'!AG59=\"\",\"\",'Marks Entry'!AG59)","v":""},"","",{"$f":"IF('Marks Entry'!AH59=\"\",\"\",'Marks Entry'!AH59)","v":""},{"$f":"IF('Marks Entry'!AI59=\"\",\"\",'Marks Entry'!AI59)","v":""},"","",{"$f":"IF(AND($B57=\"NSO\",$E57=\"\"),\"\",IF(AND('Marks Entry'!AJ59=\"AB\",'Marks Entry'!AK59=\"AB\"),\"AB\",IF(AND('Marks Entry'!AJ59=\"ML\",'Marks Entry'!AK59=\"ML\"),\"RE\",IF('Marks Entry'!AJ59=\"\",\"\",ROUNDUP(('Marks Entry'!AJ59+'Marks Entry'!AK59)*30/100,0)))))","v":""},"",0,0,"","","","",{"$f":"IF('Marks Entry'!AL59=\"\",\"\",'Marks Entry'!AL59)","v":""},{"$f":"IF('Marks Entry'!AN59=\"\",\"\",'Marks Entry'!AN59)","v":""},{"$f":"IF('Marks Entry'!AO59=\"\",\"\",'Marks Entry'!AO59)","v":""},{"$f":"IF('Marks Entry'!AP59=\"\",\"\",'Marks Entry'!AP59)","v":""},"","",{"$f":"IF('Marks Entry'!AQ59=\"\",\"\",'Marks Entry'!AQ59)","v":""},{"$f":"IF('Marks Entry'!AR59=\"\",\"\",'Marks Entry'!AR59)","v":""},"","",{"$f":"IF(AND($B57=\"NSO\",$E57=\"\"),\"\",IF(AND('Marks Entry'!AS59=\"AB\",'Marks Entry'!AT59=\"AB\"),\"AB\",IF(AND('Marks Entry'!AS59=\"ML\",'Marks Entry'!AT59=\"ML\"),\"RE\",IF('Marks Entry'!AS59=\"\",\"\",ROUNDUP(('Marks Entry'!AS59+'Marks Entry'!AT59)*30/100,0)))))","v":""},"",0,0,"","","","",{"$f":"IF('Marks Entry'!AU59=\"\",\"\",'Marks Entry'!AU59)","v":""},{"$f":"IF('Marks Entry'!AW59=\"\",\"\",'Marks Entry'!AW59)","v":""},{"$f":"IF('Marks Entry'!AX59=\"\",\"\",'Marks Entry'!AX59)","v":""},{"$f":"IF('Marks Entry'!AY59=\"\",\"\",'Marks Entry'!AY59)","v":""},"","",{"$f":"IF('Marks Entry'!AZ59=\"\",\"\",'Marks Entry'!AZ59)","v":""},{"$f":"IF('Marks Entry'!BA59=\"\",\"\",'Marks Entry'!BA59)","v":""},"","",{"$f":"IF(AND($B57=\"NSO\",$E57=\"\"),\"\",IF(AND('Marks Entry'!BB59=\"AB\",'Marks Entry'!BC59=\"AB\"),\"AB\",IF(AND('Marks Entry'!BB59=\"ML\",'Marks Entry'!BC59=\"ML\"),\"RE\",IF('Marks Entry'!BB59=\"\",\"\",ROUNDUP(('Marks Entry'!BB59+'Marks Entry'!BC59)*30/100,0)))))","v":""},"",0,0,"","","","",0,"","","","","","",0,0,0,0,0,"",{"$f":"IF('Marks Entry'!BD59=\"\",\"\",'Marks Entry'!BD59)","v":""},{"$f":"IF('Marks Entry'!BE59=\"\",\"\",'Marks Entry'!BE59)","v":""},{"$f":"IF('Marks Entry'!BF59=\"\",\"\",'Marks Entry'!BF59)","v":""},"","","","","","","","","","","","","","","","","","","","","","","","","","",{"$f":"IF('Student DATA Entry'!I54=\"\",\"\",'Student DATA Entry'!I54)","v":""},{"$f":"IF('Student DATA Entry'!J54=\"\",\"\",'Student DATA Entry'!J54)","v":""},"      ","      ","      ","              "," ","","","","",""]
[53,{"$f":"IF('Marks Entry'!B60=\"\",\"\",VALUE('Marks Entry'!B60))","v":""},{"$f":"IF('Marks Entry'!C60=\"\",\"\",'Marks Entry'!C60)","v":""},{"$f":"IF('Marks Entry'!D60=\"\",\"\",'Marks Entry'!D60)","v":""},{"$f":"IF('Marks Entry'!E60=\"\",\"\",'Marks Entry'!E60)","v":""},{"$f":"IF('Marks Entry'!F60=\"\",\"\",'Marks Entry'!F60)","v":""},{"$f":"IF('Marks Entry'!G60=\"\",\"\",'Marks Entry'!G60)","v":""},{"$f":"IF('Marks Entry'!H60=\"\",\"\",'Marks Entry'!H60)","v":""},{"$f":"IF('Marks Entry'!I60=\"\",\"\",'Marks Entry'!I60)","v":""},{"$f":"IF('Marks Entry'!J60=\"\",\"\",'Marks Entry'!J60)","v":""},{"$f":"IF('Marks Entry'!K60=\"\",\"\",'Marks Entry'!K60)","v":""},{"$f":"IF('Marks Entry'!L60=\"\",\"\",'Marks Entry'!L60)","v":""},"","",{"$f":"IF('Marks Entry'!M60=\"\",\"\",'Marks Entry'!M60)","v":""},"",{"$f":"IF(AND($B58=\"NSO\",$E58=\"\",O58=\"\"),\"\",IF(AND('Marks Entry'!N60=\"AB\"),\"AB\",IF(AND('Marks Entry'!N60=\"ML\"),\"RE\",IF('Marks Entry'!N60=\"\",\"\",ROUNDUP('Marks Entry'!N60*30/100,0)))))","v":""},"",0,0,"","","","",{"$f":"IF('Marks Entry'!O60=\"\",\"\",'Marks Entry'!O60)","v":""},{"$f":"IF('Marks Entry'!P60=\"\",\"\",'Marks Entry'!P60)","v":""},{"$f":"IF('Marks Entry'!Q60=\"\",\"\",'Marks Entry'!Q60)","v":""},"","",{"$f":"IF('Marks Entry'!R60=\"\",\"\",'Marks Entry'!R60)","v":""},"",{"$f":"IF(AND($B58=\"NSO\",$E58=\"\"),\"\",IF(AND('Marks Entry'!S60=\"AB\"),\"AB\",IF(AND('Marks Entry'!S60=\"ML\"),\"RE\",IF('Marks Entry'!S60=\"\",\"\",ROUNDUP('Marks Entry'!S60*30/100,0)))))","v":""},"",0,0,"","","","",{"$f":"IF('Marks Entry'!T60=\"\",\"\",'Marks Entry'!T60)","v":""},{"$f":"IF('Marks Entry'!V60=\"\",\"\",'Marks Entry'!V60)","v":""},{"$f":"IF('Marks Entry'!W60=\"\",\"\",'Marks Entry'!W60)","v":""},{"$f":"IF('Marks Entry'!X60=\"\",\"\",'Marks Entry'!X60)","v":""},"","",{"$f":"IF('Marks Entry'!Y60=\"\",\"\",'Marks Entry'!Y60)","v":""},{"$f":"IF('Marks Entry'!Z60=\"\",\"\",'Marks Entry'!Z60)","v":""},"","",{"$f":"IF(AND($B58=\"NSO\",$E58=\"\"),\"\",IF(AND('Marks Entry'!AA60=\"AB\",'Marks Entry'!AB60=\"AB\"),\"AB\",IF(AND('Marks Entry'!AA60=\"ML\",'Marks Entry'!AB60=\"ML\"),\"RE\",IF('Marks Entry'!AA60=\"\",\"\",ROUNDUP(('Marks Entry'!AA60+'Marks Entry'!AB60)*30/100,0)))))","v":""},"",0,0,"","","","",{"$f":"IF('Marks Entry'!AC60=\"\",\"\",'Marks Entry'!AC60)","v":""},{"$f":"IF('Marks Entry'!AE60=\"\",\"\",'Marks Entry'!AE60)","v":""},{"$f":"IF('Marks Entry'!AF60=\"\",\"\",'Marks Entry'!AF60)","v":""},{"$f":"IF('Marks Entry'!AG60=\"\",\"\",'Marks Entry'!AG60)","v":""},"","",{"$f":"IF('Marks Entry'!AH60=\"\",\"\",'Marks Entry'!AH60)","v":""},{"$f":"IF('Marks Entry'!AI60=\"\",\"\",'Marks Entry'!AI60)","v":""},"","",{"$f":"IF(AND($B58=\"NSO\",$E58=\"\"),\"\",IF(AND('Marks Entry'!AJ60=\"AB\",'Marks Entry'!AK60=\"AB\"),\"AB\",IF(AND('Marks Entry'!AJ60=\"ML\",'Marks Entry'!AK60=\"ML\"),\"RE\",IF('Marks Entry'!AJ60=\"\",\"\",ROUNDUP(('Marks Entry'!AJ60+'Marks Entry'!AK60)*30/100,0)))))","v":""},"",0,0,"","","","",{"$f":"IF('Marks Entry'!AL60=\"\",\"\",'Marks Entry'!AL60)","v":""},{"$f":"IF('Marks Entry'!AN60=\"\",\"\",'Marks Entry'!AN60)","v":""},{"$f":"IF('Marks Entry'!AO60=\"\",\"\",'Marks Entry'!AO60)","v":""},{"$f":"IF('Marks Entry'!AP60=\"\",\"\",'Marks Entry'!AP60)","v":""},"","",{"$f":"IF('Marks Entry'!AQ60=\"\",\"\",'Marks Entry'!AQ60)","v":""},{"$f":"IF('Marks Entry'!AR60=\"\",\"\",'Marks Entry'!AR60)","v":""},"","",{"$f":"IF(AND($B58=\"NSO\",$E58=\"\"),\"\",IF(AND('Marks Entry'!AS60=\"AB\",'Marks Entry'!AT60=\"AB\"),\"AB\",IF(AND('Marks Entry'!AS60=\"ML\",'Marks Entry'!AT60=\"ML\"),\"RE\",IF('Marks Entry'!AS60=\"\",\"\",ROUNDUP(('Marks Entry'!AS60+'Marks Entry'!AT60)*30/100,0)))))","v":""},"",0,0,"","","","",{"$f":"IF('Marks Entry'!AU60=\"\",\"\",'Marks Entry'!AU60)","v":""},{"$f":"IF('Marks Entry'!AW60=\"\",\"\",'Marks Entry'!AW60)","v":""},{"$f":"IF('Marks Entry'!AX60=\"\",\"\",'Marks Entry'!AX60)","v":""},{"$f":"IF('Marks Entry'!AY60=\"\",\"\",'Marks Entry'!AY60)","v":""},"","",{"$f":"IF('Marks Entry'!AZ60=\"\",\"\",'Marks Entry'!AZ60)","v":""},{"$f":"IF('Marks Entry'!BA60=\"\",\"\",'Marks Entry'!BA60)","v":""},"","",{"$f":"IF(AND($B58=\"NSO\",$E58=\"\"),\"\",IF(AND('Marks Entry'!BB60=\"AB\",'Marks Entry'!BC60=\"AB\"),\"AB\",IF(AND('Marks Entry'!BB60=\"ML\",'Marks Entry'!BC60=\"ML\"),\"RE\",IF('Marks Entry'!BB60=\"\",\"\",ROUNDUP(('Marks Entry'!BB60+'Marks Entry'!BC60)*30/100,0)))))","v":""},"",0,0,"","","","",0,"","","","","","",0,0,0,0,0,"",{"$f":"IF('Marks Entry'!BD60=\"\",\"\",'Marks Entry'!BD60)","v":""},{"$f":"IF('Marks Entry'!BE60=\"\",\"\",'Marks Entry'!BE60)","v":""},{"$f":"IF('Marks Entry'!BF60=\"\",\"\",'Marks Entry'!BF60)","v":""},"","","","","","","","","","","","","","","","","","","","","","","","","","",{"$f":"IF('Student DATA Entry'!I55=\"\",\"\",'Student DATA Entry'!I55)","v":""},{"$f":"IF('Student DATA Entry'!J55=\"\",\"\",'Student DATA Entry'!J55)","v":""},"      ","      ","      ","              "," ","","","","",""]
[54,{"$f":"IF('Marks Entry'!B61=\"\",\"\",VALUE('Marks Entry'!B61))","v":""},{"$f":"IF('Marks Entry'!C61=\"\",\"\",'Marks Entry'!C61)","v":""},{"$f":"IF('Marks Entry'!D61=\"\",\"\",'Marks Entry'!D61)","v":""},{"$f":"IF('Marks Entry'!E61=\"\",\"\",'Marks Entry'!E61)","v":""},{"$f":"IF('Marks Entry'!F61=\"\",\"\",'Marks Entry'!F61)","v":""},{"$f":"IF('Marks Entry'!G61=\"\",\"\",'Marks Entry'!G61)","v":""},{"$f":"IF('Marks Entry'!H61=\"\",\"\",'Marks Entry'!H61)","v":""},{"$f":"IF('Marks Entry'!I61=\"\",\"\",'Marks Entry'!I61)","v":""},{"$f":"IF('Marks Entry'!J61=\"\",\"\",'Marks Entry'!J61)","v":""},{"$f":"IF('Marks Entry'!K61=\"\",\"\",'Marks Entry'!K61)","v":""},{"$f":"IF('Marks Entry'!L61=\"\",\"\",'Marks Entry'!L61)","v":""},"","",{"$f":"IF('Marks Entry'!M61=\"\",\"\",'Marks Entry'!M61)","v":""},"",{"$f":"IF(AND($B59=\"NSO\",$E59=\"\",O59=\"\"),\"\",IF(AND('Marks Entry'!N61=\"AB\"),\"AB\",IF(AND('Marks Entry'!N61=\"ML\"),\"RE\",IF('Marks Entry'!N61=\"\",\"\",ROUNDUP('Marks Entry'!N61*30/100,0)))))","v":""},"",0,0,"","","","",{"$f":"IF('Marks Entry'!O61=\"\",\"\",'Marks Entry'!O61)","v":""},{"$f":"IF('Marks Entry'!P61=\"\",\"\",'Marks Entry'!P61)","v":""},{"$f":"IF('Marks Entry'!Q61=\"\",\"\",'Marks Entry'!Q61)","v":""},"","",{"$f":"IF('Marks Entry'!R61=\"\",\"\",'Marks Entry'!R61)","v":""},"",{"$f":"IF(AND($B59=\"NSO\",$E59=\"\"),\"\",IF(AND('Marks Entry'!S61=\"AB\"),\"AB\",IF(AND('Marks Entry'!S61=\"ML\"),\"RE\",IF('Marks Entry'!S61=\"\",\"\",ROUNDUP('Marks Entry'!S61*30/100,0)))))","v":""},"",0,0,"","","","",{"$f":"IF('Marks Entry'!T61=\"\",\"\",'Marks Entry'!T61)","v":""},{"$f":"IF('Marks Entry'!V61=\"\",\"\",'Marks Entry'!V61)","v":""},{"$f":"IF('Marks Entry'!W61=\"\",\"\",'Marks Entry'!W61)","v":""},{"$f":"IF('Marks Entry'!X61=\"\",\"\",'Marks Entry'!X61)","v":""},"","",{"$f":"IF('Marks Entry'!Y61=\"\",\"\",'Marks Entry'!Y61)","v":""},{"$f":"IF('Marks Entry'!Z61=\"\",\"\",'Marks Entry'!Z61)","v":""},"","",{"$f":"IF(AND($B59=\"NSO\",$E59=\"\"),\"\",IF(AND('Marks Entry'!AA61=\"AB\",'Marks Entry'!AB61=\"AB\"),\"AB\",IF(AND('Marks Entry'!AA61=\"ML\",'Marks Entry'!AB61=\"ML\"),\"RE\",IF('Marks Entry'!AA61=\"\",\"\",ROUNDUP(('Marks Entry'!AA61+'Marks Entry'!AB61)*30/100,0)))))","v":""},"",0,0,"","","","",{"$f":"IF('Marks Entry'!AC61=\"\",\"\",'Marks Entry'!AC61)","v":""},{"$f":"IF('Marks Entry'!AE61=\"\",\"\",'Marks Entry'!AE61)","v":""},{"$f":"IF('Marks Entry'!AF61=\"\",\"\",'Marks Entry'!AF61)","v":""},{"$f":"IF('Marks Entry'!AG61=\"\",\"\",'Marks Entry'!AG61)","v":""},"","",{"$f":"IF('Marks Entry'!AH61=\"\",\"\",'Marks Entry'!AH61)","v":""},{"$f":"IF('Marks Entry'!AI61=\"\",\"\",'Marks Entry'!AI61)","v":""},"","",{"$f":"IF(AND($B59=\"NSO\",$E59=\"\"),\"\",IF(AND('Marks Entry'!AJ61=\"AB\",'Marks Entry'!AK61=\"AB\"),\"AB\",IF(AND('Marks Entry'!AJ61=\"ML\",'Marks Entry'!AK61=\"ML\"),\"RE\",IF('Marks Entry'!AJ61=\"\",\"\",ROUNDUP(('Marks Entry'!AJ61+'Marks Entry'!AK61)*30/100,0)))))","v":""},"",0,0,"","","","",{"$f":"IF('Marks Entry'!AL61=\"\",\"\",'Marks Entry'!AL61)","v":""},{"$f":"IF('Marks Entry'!AN61=\"\",\"\",'Marks Entry'!AN61)","v":""},{"$f":"IF('Marks Entry'!AO61=\"\",\"\",'Marks Entry'!AO61)","v":""},{"$f":"IF('Marks Entry'!AP61=\"\",\"\",'Marks Entry'!AP61)","v":""},"","",{"$f":"IF('Marks Entry'!AQ61=\"\",\"\",'Marks Entry'!AQ61)","v":""},{"$f":"IF('Marks Entry'!AR61=\"\",\"\",'Marks Entry'!AR61)","v":""},"","",{"$f":"IF(AND($B59=\"NSO\",$E59=\"\"),\"\",IF(AND('Marks Entry'!AS61=\"AB\",'Marks Entry'!AT61=\"AB\"),\"AB\",IF(AND('Marks Entry'!AS61=\"ML\",'Marks Entry'!AT61=\"ML\"),\"RE\",IF('Marks Entry'!AS61=\"\",\"\",ROUNDUP(('Marks Entry'!AS61+'Marks Entry'!AT61)*30/100,0)))))","v":""},"",0,0,"","","","",{"$f":"IF('Marks Entry'!AU61=\"\",\"\",'Marks Entry'!AU61)","v":""},{"$f":"IF('Marks Entry'!AW61=\"\",\"\",'Marks Entry'!AW61)","v":""},{"$f":"IF('Marks Entry'!AX61=\"\",\"\",'Marks Entry'!AX61)","v":""},{"$f":"IF('Marks Entry'!AY61=\"\",\"\",'Marks Entry'!AY61)","v":""},"","",{"$f":"IF('Marks Entry'!AZ61=\"\",\"\",'Marks Entry'!AZ61)","v":""},{"$f":"IF('Marks Entry'!BA61=\"\",\"\",'Marks Entry'!BA61)","v":""},"","",{"$f":"IF(AND($B59=\"NSO\",$E59=\"\"),\"\",IF(AND('Marks Entry'!BB61=\"AB\",'Marks Entry'!BC61=\"AB\"),\"AB\",IF(AND('Marks Entry'!BB61=\"ML\",'Marks Entry'!BC61=\"ML\"),\"RE\",IF('Marks Entry'!BB61=\"\",\"\",ROUNDUP(('Marks Entry'!BB61+'Marks Entry'!BC61)*30/100,0)))))","v":""},"",0,0,"","","","",0,"","","","","","",0,0,0,0,0,"",{"$f":"IF('Marks Entry'!BD61=\"\",\"\",'Marks Entry'!BD61)","v":""},{"$f":"IF('Marks Entry'!BE61=\"\",\"\",'Marks Entry'!BE61)","v":""},{"$f":"IF('Marks Entry'!BF61=\"\",\"\",'Marks Entry'!BF61)","v":""},"","","","","","","","","","","","","","","","","","","","","","","","","","",{"$f":"IF('Student DATA Entry'!I56=\"\",\"\",'Student DATA Entry'!I56)","v":""},{"$f":"IF('Student DATA Entry'!J56=\"\",\"\",'Student DATA Entry'!J56)","v":""},"      ","      ","      ","              "," ","","","","",""]
[55,{"$f":"IF('Marks Entry'!B62=\"\",\"\",VALUE('Marks Entry'!B62))","v":""},{"$f":"IF('Marks Entry'!C62=\"\",\"\",'Marks Entry'!C62)","v":""},{"$f":"IF('Marks Entry'!D62=\"\",\"\",'Marks Entry'!D62)","v":""},{"$f":"IF('Marks Entry'!E62=\"\",\"\",'Marks Entry'!E62)","v":""},{"$f":"IF('Marks Entry'!F62=\"\",\"\",'Marks Entry'!F62)","v":""},{"$f":"IF('Marks Entry'!G62=\"\",\"\",'Marks Entry'!G62)","v":""},{"$f":"IF('Marks Entry'!H62=\"\",\"\",'Marks Entry'!H62)","v":""},{"$f":"IF('Marks Entry'!I62=\"\",\"\",'Marks Entry'!I62)","v":""},{"$f":"IF('Marks Entry'!J62=\"\",\"\",'Marks Entry'!J62)","v":""},{"$f":"IF('Marks Entry'!K62=\"\",\"\",'Marks Entry'!K62)","v":""},{"$f":"IF('Marks Entry'!L62=\"\",\"\",'Marks Entry'!L62)","v":""},"","",{"$f":"IF('Marks Entry'!M62=\"\",\"\",'Marks Entry'!M62)","v":""},"",{"$f":"IF(AND($B60=\"NSO\",$E60=\"\",O60=\"\"),\"\",IF(AND('Marks Entry'!N62=\"AB\"),\"AB\",IF(AND('Marks Entry'!N62=\"ML\"),\"RE\",IF('Marks Entry'!N62=\"\",\"\",ROUNDUP('Marks Entry'!N62*30/100,0)))))","v":""},"",0,0,"","","","",{"$f":"IF('Marks Entry'!O62=\"\",\"\",'Marks Entry'!O62)","v":""},{"$f":"IF('Marks Entry'!P62=\"\",\"\",'Marks Entry'!P62)","v":""},{"$f":"IF('Marks Entry'!Q62=\"\",\"\",'Marks Entry'!Q62)","v":""},"","",{"$f":"IF('Marks Entry'!R62=\"\",\"\",'Marks Entry'!R62)","v":""},"",{"$f":"IF(AND($B60=\"NSO\",$E60=\"\"),\"\",IF(AND('Marks Entry'!S62=\"AB\"),\"AB\",IF(AND('Marks Entry'!S62=\"ML\"),\"RE\",IF('Marks Entry'!S62=\"\",\"\",ROUNDUP('Marks Entry'!S62*30/100,0)))))","v":""},"",0,0,"","","","",{"$f":"IF('Marks Entry'!T62=\"\",\"\",'Marks Entry'!T62)","v":""},{"$f":"IF('Marks Entry'!V62=\"\",\"\",'Marks Entry'!V62)","v":""},{"$f":"IF('Marks Entry'!W62=\"\",\"\",'Marks Entry'!W62)","v":""},{"$f":"IF('Marks Entry'!X62=\"\",\"\",'Marks Entry'!X62)","v":""},"","",{"$f":"IF('Marks Entry'!Y62=\"\",\"\",'Marks Entry'!Y62)","v":""},{"$f":"IF('Marks Entry'!Z62=\"\",\"\",'Marks Entry'!Z62)","v":""},"","",{"$f":"IF(AND($B60=\"NSO\",$E60=\"\"),\"\",IF(AND('Marks Entry'!AA62=\"AB\",'Marks Entry'!AB62=\"AB\"),\"AB\",IF(AND('Marks Entry'!AA62=\"ML\",'Marks Entry'!AB62=\"ML\"),\"RE\",IF('Marks Entry'!AA62=\"\",\"\",ROUNDUP(('Marks Entry'!AA62+'Marks Entry'!AB62)*30/100,0)))))","v":""},"",0,0,"","","","",{"$f":"IF('Marks Entry'!AC62=\"\",\"\",'Marks Entry'!AC62)","v":""},{"$f":"IF('Marks Entry'!AE62=\"\",\"\",'Marks Entry'!AE62)","v":""},{"$f":"IF('Marks Entry'!AF62=\"\",\"\",'Marks Entry'!AF62)","v":""},{"$f":"IF('Marks Entry'!AG62=\"\",\"\",'Marks Entry'!AG62)","v":""},"","",{"$f":"IF('Marks Entry'!AH62=\"\",\"\",'Marks Entry'!AH62)","v":""},{"$f":"IF('Marks Entry'!AI62=\"\",\"\",'Marks Entry'!AI62)","v":""},"","",{"$f":"IF(AND($B60=\"NSO\",$E60=\"\"),\"\",IF(AND('Marks Entry'!AJ62=\"AB\",'Marks Entry'!AK62=\"AB\"),\"AB\",IF(AND('Marks Entry'!AJ62=\"ML\",'Marks Entry'!AK62=\"ML\"),\"RE\",IF('Marks Entry'!AJ62=\"\",\"\",ROUNDUP(('Marks Entry'!AJ62+'Marks Entry'!AK62)*30/100,0)))))","v":""},"",0,0,"","","","",{"$f":"IF('Marks Entry'!AL62=\"\",\"\",'Marks Entry'!AL62)","v":""},{"$f":"IF('Marks Entry'!AN62=\"\",\"\",'Marks Entry'!AN62)","v":""},{"$f":"IF('Marks Entry'!AO62=\"\",\"\",'Marks Entry'!AO62)","v":""},{"$f":"IF('Marks Entry'!AP62=\"\",\"\",'Marks Entry'!AP62)","v":""},"","",{"$f":"IF('Marks Entry'!AQ62=\"\",\"\",'Marks Entry'!AQ62)","v":""},{"$f":"IF('Marks Entry'!AR62=\"\",\"\",'Marks Entry'!AR62)","v":""},"","",{"$f":"IF(AND($B60=\"NSO\",$E60=\"\"),\"\",IF(AND('Marks Entry'!AS62=\"AB\",'Marks Entry'!AT62=\"AB\"),\"AB\",IF(AND('Marks Entry'!AS62=\"ML\",'Marks Entry'!AT62=\"ML\"),\"RE\",IF('Marks Entry'!AS62=\"\",\"\",ROUNDUP(('Marks Entry'!AS62+'Marks Entry'!AT62)*30/100,0)))))","v":""},"",0,0,"","","","",{"$f":"IF('Marks Entry'!AU62=\"\",\"\",'Marks Entry'!AU62)","v":""},{"$f":"IF('Marks Entry'!AW62=\"\",\"\",'Marks Entry'!AW62)","v":""},{"$f":"IF('Marks Entry'!AX62=\"\",\"\",'Marks Entry'!AX62)","v":""},{"$f":"IF('Marks Entry'!AY62=\"\",\"\",'Marks Entry'!AY62)","v":""},"","",{"$f":"IF('Marks Entry'!AZ62=\"\",\"\",'Marks Entry'!AZ62)","v":""},{"$f":"IF('Marks Entry'!BA62=\"\",\"\",'Marks Entry'!BA62)","v":""},"","",{"$f":"IF(AND($B60=\"NSO\",$E60=\"\"),\"\",IF(AND('Marks Entry'!BB62=\"AB\",'Marks Entry'!BC62=\"AB\"),\"AB\",IF(AND('Marks Entry'!BB62=\"ML\",'Marks Entry'!BC62=\"ML\"),\"RE\",IF('Marks Entry'!BB62=\"\",\"\",ROUNDUP(('Marks Entry'!BB62+'Marks Entry'!BC62)*30/100,0)))))","v":""},"",0,0,"","","","",0,"","","","","","",0,0,0,0,0,"",{"$f":"IF('Marks Entry'!BD62=\"\",\"\",'Marks Entry'!BD62)","v":""},{"$f":"IF('Marks Entry'!BE62=\"\",\"\",'Marks Entry'!BE62)","v":""},{"$f":"IF('Marks Entry'!BF62=\"\",\"\",'Marks Entry'!BF62)","v":""},"","","","","","","","","","","","","","","","","","","","","","","","","","",{"$f":"IF('Student DATA Entry'!I57=\"\",\"\",'Student DATA Entry'!I57)","v":""},{"$f":"IF('Student DATA Entry'!J57=\"\",\"\",'Student DATA Entry'!J57)","v":""},"      ","      ","      ","              "," ","","","","",""]
[56,{"$f":"IF('Marks Entry'!B63=\"\",\"\",VALUE('Marks Entry'!B63))","v":""},{"$f":"IF('Marks Entry'!C63=\"\",\"\",'Marks Entry'!C63)","v":""},{"$f":"IF('Marks Entry'!D63=\"\",\"\",'Marks Entry'!D63)","v":""},{"$f":"IF('Marks Entry'!E63=\"\",\"\",'Marks Entry'!E63)","v":""},{"$f":"IF('Marks Entry'!F63=\"\",\"\",'Marks Entry'!F63)","v":""},{"$f":"IF('Marks Entry'!G63=\"\",\"\",'Marks Entry'!G63)","v":""},{"$f":"IF('Marks Entry'!H63=\"\",\"\",'Marks Entry'!H63)","v":""},{"$f":"IF('Marks Entry'!I63=\"\",\"\",'Marks Entry'!I63)","v":""},{"$f":"IF('Marks Entry'!J63=\"\",\"\",'Marks Entry'!J63)","v":""},{"$f":"IF('Marks Entry'!K63=\"\",\"\",'Marks Entry'!K63)","v":""},{"$f":"IF('Marks Entry'!L63=\"\",\"\",'Marks Entry'!L63)","v":""},"","",{"$f":"IF('Marks Entry'!M63=\"\",\"\",'Marks Entry'!M63)","v":""},"",{"$f":"IF(AND($B61=\"NSO\",$E61=\"\",O61=\"\"),\"\",IF(AND('Marks Entry'!N63=\"AB\"),\"AB\",IF(AND('Marks Entry'!N63=\"ML\"),\"RE\",IF('Marks Entry'!N63=\"\",\"\",ROUNDUP('Marks Entry'!N63*30/100,0)))))","v":""},"",0,0,"","","","",{"$f":"IF('Marks Entry'!O63=\"\",\"\",'Marks Entry'!O63)","v":""},{"$f":"IF('Marks Entry'!P63=\"\",\"\",'Marks Entry'!P63)","v":""},{"$f":"IF('Marks Entry'!Q63=\"\",\"\",'Marks Entry'!Q63)","v":""},"","",{"$f":"IF('Marks Entry'!R63=\"\",\"\",'Marks Entry'!R63)","v":""},"",{"$f":"IF(AND($B61=\"NSO\",$E61=\"\"),\"\",IF(AND('Marks Entry'!S63=\"AB\"),\"AB\",IF(AND('Marks Entry'!S63=\"ML\"),\"RE\",IF('Marks Entry'!S63=\"\",\"\",ROUNDUP('Marks Entry'!S63*30/100,0)))))","v":""},"",0,0,"","","","",{"$f":"IF('Marks Entry'!T63=\"\",\"\",'Marks Entry'!T63)","v":""},{"$f":"IF('Marks Entry'!V63=\"\",\"\",'Marks Entry'!V63)","v":""},{"$f":"IF('Marks Entry'!W63=\"\",\"\",'Marks Entry'!W63)","v":""},{"$f":"IF('Marks Entry'!X63=\"\",\"\",'Marks Entry'!X63)","v":""},"","",{"$f":"IF('Marks Entry'!Y63=\"\",\"\",'Marks Entry'!Y63)","v":""},{"$f":"IF('Marks Entry'!Z63=\"\",\"\",'Marks Entry'!Z63)","v":""},"","",{"$f":"IF(AND($B61=\"NSO\",$E61=\"\"),\"\",IF(AND('Marks Entry'!AA63=\"AB\",'Marks Entry'!AB63=\"AB\"),\"AB\",IF(AND('Marks Entry'!AA63=\"ML\",'Marks Entry'!AB63=\"ML\"),\"RE\",IF('Marks Entry'!AA63=\"\",\"\",ROUNDUP(('Marks Entry'!AA63+'Marks Entry'!AB63)*30/100,0)))))","v":""},"",0,0,"","","","",{"$f":"IF('Marks Entry'!AC63=\"\",\"\",'Marks Entry'!AC63)","v":""},{"$f":"IF('Marks Entry'!AE63=\"\",\"\",'Marks Entry'!AE63)","v":""},{"$f":"IF('Marks Entry'!AF63=\"\",\"\",'Marks Entry'!AF63)","v":""},{"$f":"IF('Marks Entry'!AG63=\"\",\"\",'Marks Entry'!AG63)","v":""},"","",{"$f":"IF('Marks Entry'!AH63=\"\",\"\",'Marks Entry'!AH63)","v":""},{"$f":"IF('Marks Entry'!AI63=\"\",\"\",'Marks Entry'!AI63)","v":""},"","",{"$f":"IF(AND($B61=\"NSO\",$E61=\"\"),\"\",IF(AND('Marks Entry'!AJ63=\"AB\",'Marks Entry'!AK63=\"AB\"),\"AB\",IF(AND('Marks Entry'!AJ63=\"ML\",'Marks Entry'!AK63=\"ML\"),\"RE\",IF('Marks Entry'!AJ63=\"\",\"\",ROUNDUP(('Marks Entry'!AJ63+'Marks Entry'!AK63)*30/100,0)))))","v":""},"",0,0,"","","","",{"$f":"IF('Marks Entry'!AL63=\"\",\"\",'Marks Entry'!AL63)","v":""},{"$f":"IF('Marks Entry'!AN63=\"\",\"\",'Marks Entry'!AN63)","v":""},{"$f":"IF('Marks Entry'!AO63=\"\",\"\",'Marks Entry'!AO63)","v":""},{"$f":"IF('Marks Entry'!AP63=\"\",\"\",'Marks Entry'!AP63)","v":""},"","",{"$f":"IF('Marks Entry'!AQ63=\"\",\"\",'Marks Entry'!AQ63)","v":""},{"$f":"IF('Marks Entry'!AR63=\"\",\"\",'Marks Entry'!AR63)","v":""},"","",{"$f":"IF(AND($B61=\"NSO\",$E61=\"\"),\"\",IF(AND('Marks Entry'!AS63=\"AB\",'Marks Entry'!AT63=\"AB\"),\"AB\",IF(AND('Marks Entry'!AS63=\"ML\",'Marks Entry'!AT63=\"ML\"),\"RE\",IF('Marks Entry'!AS63=\"\",\"\",ROUNDUP(('Marks Entry'!AS63+'Marks Entry'!AT63)*30/100,0)))))","v":""},"",0,0,"","","","",{"$f":"IF('Marks Entry'!AU63=\"\",\"\",'Marks Entry'!AU63)","v":""},{"$f":"IF('Marks Entry'!AW63=\"\",\"\",'Marks Entry'!AW63)","v":""},{"$f":"IF('Marks Entry'!AX63=\"\",\"\",'Marks Entry'!AX63)","v":""},{"$f":"IF('Marks Entry'!AY63=\"\",\"\",'Marks Entry'!AY63)","v":""},"","",{"$f":"IF('Marks Entry'!AZ63=\"\",\"\",'Marks Entry'!AZ63)","v":""},{"$f":"IF('Marks Entry'!BA63=\"\",\"\",'Marks Entry'!BA63)","v":""},"","",{"$f":"IF(AND($B61=\"NSO\",$E61=\"\"),\"\",IF(AND('Marks Entry'!BB63=\"AB\",'Marks Entry'!BC63=\"AB\"),\"AB\",IF(AND('Marks Entry'!BB63=\"ML\",'Marks Entry'!BC63=\"ML\"),\"RE\",IF('Marks Entry'!BB63=\"\",\"\",ROUNDUP(('Marks Entry'!BB63+'Marks Entry'!BC63)*30/100,0)))))","v":""},"",0,0,"","","","",0,"","","","","","",0,0,0,0,0,"",{"$f":"IF('Marks Entry'!BD63=\"\",\"\",'Marks Entry'!BD63)","v":""},{"$f":"IF('Marks Entry'!BE63=\"\",\"\",'Marks Entry'!BE63)","v":""},{"$f":"IF('Marks Entry'!BF63=\"\",\"\",'Marks Entry'!BF63)","v":""},"","","","","","","","","","","","","","","","","","","","","","","","","","",{"$f":"IF('Student DATA Entry'!I58=\"\",\"\",'Student DATA Entry'!I58)","v":""},{"$f":"IF('Student DATA Entry'!J58=\"\",\"\",'Student DATA Entry'!J58)","v":""},"      ","      ","      ","              "," ","","","","",""]
[57,{"$f":"IF('Marks Entry'!B64=\"\",\"\",VALUE('Marks Entry'!B64))","v":""},{"$f":"IF('Marks Entry'!C64=\"\",\"\",'Marks Entry'!C64)","v":""},{"$f":"IF('Marks Entry'!D64=\"\",\"\",'Marks Entry'!D64)","v":""},{"$f":"IF('Marks Entry'!E64=\"\",\"\",'Marks Entry'!E64)","v":""},{"$f":"IF('Marks Entry'!F64=\"\",\"\",'Marks Entry'!F64)","v":""},{"$f":"IF('Marks Entry'!G64=\"\",\"\",'Marks Entry'!G64)","v":""},{"$f":"IF('Marks Entry'!H64=\"\",\"\",'Marks Entry'!H64)","v":""},{"$f":"IF('Marks Entry'!I64=\"\",\"\",'Marks Entry'!I64)","v":""},{"$f":"IF('Marks Entry'!J64=\"\",\"\",'Marks Entry'!J64)","v":""},{"$f":"IF('Marks Entry'!K64=\"\",\"\",'Marks Entry'!K64)","v":""},{"$f":"IF('Marks Entry'!L64=\"\",\"\",'Marks Entry'!L64)","v":""},"","",{"$f":"IF('Marks Entry'!M64=\"\",\"\",'Marks Entry'!M64)","v":""},"",{"$f":"IF(AND($B62=\"NSO\",$E62=\"\",O62=\"\"),\"\",IF(AND('Marks Entry'!N64=\"AB\"),\"AB\",IF(AND('Marks Entry'!N64=\"ML\"),\"RE\",IF('Marks Entry'!N64=\"\",\"\",ROUNDUP('Marks Entry'!N64*30/100,0)))))","v":""},"",0,0,"","","","",{"$f":"IF('Marks Entry'!O64=\"\",\"\",'Marks Entry'!O64)","v":""},{"$f":"IF('Marks Entry'!P64=\"\",\"\",'Marks Entry'!P64)","v":""},{"$f":"IF('Marks Entry'!Q64=\"\",\"\",'Marks Entry'!Q64)","v":""},"","",{"$f":"IF('Marks Entry'!R64=\"\",\"\",'Marks Entry'!R64)","v":""},"",{"$f":"IF(AND($B62=\"NSO\",$E62=\"\"),\"\",IF(AND('Marks Entry'!S64=\"AB\"),\"AB\",IF(AND('Marks Entry'!S64=\"ML\"),\"RE\",IF('Marks Entry'!S64=\"\",\"\",ROUNDUP('Marks Entry'!S64*30/100,0)))))","v":""},"",0,0,"","","","",{"$f":"IF('Marks Entry'!T64=\"\",\"\",'Marks Entry'!T64)","v":""},{"$f":"IF('Marks Entry'!V64=\"\",\"\",'Marks Entry'!V64)","v":""},{"$f":"IF('Marks Entry'!W64=\"\",\"\",'Marks Entry'!W64)","v":""},{"$f":"IF('Marks Entry'!X64=\"\",\"\",'Marks Entry'!X64)","v":""},"","",{"$f":"IF('Marks Entry'!Y64=\"\",\"\",'Marks Entry'!Y64)","v":""},{"$f":"IF('Marks Entry'!Z64=\"\",\"\",'Marks Entry'!Z64)","v":""},"","",{"$f":"IF(AND($B62=\"NSO\",$E62=\"\"),\"\",IF(AND('Marks Entry'!AA64=\"AB\",'Marks Entry'!AB64=\"AB\"),\"AB\",IF(AND('Marks Entry'!AA64=\"ML\",'Marks Entry'!AB64=\"ML\"),\"RE\",IF('Marks Entry'!AA64=\"\",\"\",ROUNDUP(('Marks Entry'!AA64+'Marks Entry'!AB64)*30/100,0)))))","v":""},"",0,0,"","","","",{"$f":"IF('Marks Entry'!AC64=\"\",\"\",'Marks Entry'!AC64)","v":""},{"$f":"IF('Marks Entry'!AE64=\"\",\"\",'Marks Entry'!AE64)","v":""},{"$f":"IF('Marks Entry'!AF64=\"\",\"\",'Marks Entry'!AF64)","v":""},{"$f":"IF('Marks Entry'!AG64=\"\",\"\",'Marks Entry'!AG64)","v":""},"","",{"$f":"IF('Marks Entry'!AH64=\"\",\"\",'Marks Entry'!AH64)","v":""},{"$f":"IF('Marks Entry'!AI64=\"\",\"\",'Marks Entry'!AI64)","v":""},"","",{"$f":"IF(AND($B62=\"NSO\",$E62=\"\"),\"\",IF(AND('Marks Entry'!AJ64=\"AB\",'Marks Entry'!AK64=\"AB\"),\"AB\",IF(AND('Marks Entry'!AJ64=\"ML\",'Marks Entry'!AK64=\"ML\"),\"RE\",IF('Marks Entry'!AJ64=\"\",\"\",ROUNDUP(('Marks Entry'!AJ64+'Marks Entry'!AK64)*30/100,0)))))","v":""},"",0,0,"","","","",{"$f":"IF('Marks Entry'!AL64=\"\",\"\",'Marks Entry'!AL64)","v":""},{"$f":"IF('Marks Entry'!AN64=\"\",\"\",'Marks Entry'!AN64)","v":""},{"$f":"IF('Marks Entry'!AO64=\"\",\"\",'Marks Entry'!AO64)","v":""},{"$f":"IF('Marks Entry'!AP64=\"\",\"\",'Marks Entry'!AP64)","v":""},"","",{"$f":"IF('Marks Entry'!AQ64=\"\",\"\",'Marks Entry'!AQ64)","v":""},{"$f":"IF('Marks Entry'!AR64=\"\",\"\",'Marks Entry'!AR64)","v":""},"","",{"$f":"IF(AND($B62=\"NSO\",$E62=\"\"),\"\",IF(AND('Marks Entry'!AS64=\"AB\",'Marks Entry'!AT64=\"AB\"),\"AB\",IF(AND('Marks Entry'!AS64=\"ML\",'Marks Entry'!AT64=\"ML\"),\"RE\",IF('Marks Entry'!AS64=\"\",\"\",ROUNDUP(('Marks Entry'!AS64+'Marks Entry'!AT64)*30/100,0)))))","v":""},"",0,0,"","","","",{"$f":"IF('Marks Entry'!AU64=\"\",\"\",'Marks Entry'!AU64)","v":""},{"$f":"IF('Marks Entry'!AW64=\"\",\"\",'Marks Entry'!AW64)","v":""},{"$f":"IF('Marks Entry'!AX64=\"\",\"\",'Marks Entry'!AX64)","v":""},{"$f":"IF('Marks Entry'!AY64=\"\",\"\",'Marks Entry'!AY64)","v":""},"","",{"$f":"IF('Marks Entry'!AZ64=\"\",\"\",'Marks Entry'!AZ64)","v":""},{"$f":"IF('Marks Entry'!BA64=\"\",\"\",'Marks Entry'!BA64)","v":""},"","",{"$f":"IF(AND($B62=\"NSO\",$E62=\"\"),\"\",IF(AND('Marks Entry'!BB64=\"AB\",'Marks Entry'!BC64=\"AB\"),\"AB\",IF(AND('Marks Entry'!BB64=\"ML\",'Marks Entry'!BC64=\"ML\"),\"RE\",IF('Marks Entry'!BB64=\"\",\"\",ROUNDUP(('Marks Entry'!BB64+'Marks Entry'!BC64)*30/100,0)))))","v":""},"",0,0,"","","","",0,"","","","","","",0,0,0,0,0,"",{"$f":"IF('Marks Entry'!BD64=\"\",\"\",'Marks Entry'!BD64)","v":""},{"$f":"IF('Marks Entry'!BE64=\"\",\"\",'Marks Entry'!BE64)","v":""},{"$f":"IF('Marks Entry'!BF64=\"\",\"\",'Marks Entry'!BF64)","v":""},"","","","","","","","","","","","","","","","","","","","","","","","","","",{"$f":"IF('Student DATA Entry'!I59=\"\",\"\",'Student DATA Entry'!I59)","v":""},{"$f":"IF('Student DATA Entry'!J59=\"\",\"\",'Student DATA Entry'!J59)","v":""},"      ","      ","      ","              "," ","","","","",""]
[58,{"$f":"IF('Marks Entry'!B65=\"\",\"\",VALUE('Marks Entry'!B65))","v":""},{"$f":"IF('Marks Entry'!C65=\"\",\"\",'Marks Entry'!C65)","v":""},{"$f":"IF('Marks Entry'!D65=\"\",\"\",'Marks Entry'!D65)","v":""},{"$f":"IF('Marks Entry'!E65=\"\",\"\",'Marks Entry'!E65)","v":""},{"$f":"IF('Marks Entry'!F65=\"\",\"\",'Marks Entry'!F65)","v":""},{"$f":"IF('Marks Entry'!G65=\"\",\"\",'Marks Entry'!G65)","v":""},{"$f":"IF('Marks Entry'!H65=\"\",\"\",'Marks Entry'!H65)","v":""},{"$f":"IF('Marks Entry'!I65=\"\",\"\",'Marks Entry'!I65)","v":""},{"$f":"IF('Marks Entry'!J65=\"\",\"\",'Marks Entry'!J65)","v":""},{"$f":"IF('Marks Entry'!K65=\"\",\"\",'Marks Entry'!K65)","v":""},{"$f":"IF('Marks Entry'!L65=\"\",\"\",'Marks Entry'!L65)","v":""},"","",{"$f":"IF('Marks Entry'!M65=\"\",\"\",'Marks Entry'!M65)","v":""},"",{"$f":"IF(AND($B63=\"NSO\",$E63=\"\",O63=\"\"),\"\",IF(AND('Marks Entry'!N65=\"AB\"),\"AB\",IF(AND('Marks Entry'!N65=\"ML\"),\"RE\",IF('Marks Entry'!N65=\"\",\"\",ROUNDUP('Marks Entry'!N65*30/100,0)))))","v":""},"",0,0,"","","","",{"$f":"IF('Marks Entry'!O65=\"\",\"\",'Marks Entry'!O65)","v":""},{"$f":"IF('Marks Entry'!P65=\"\",\"\",'Marks Entry'!P65)","v":""},{"$f":"IF('Marks Entry'!Q65=\"\",\"\",'Marks Entry'!Q65)","v":""},"","",{"$f":"IF('Marks Entry'!R65=\"\",\"\",'Marks Entry'!R65)","v":""},"",{"$f":"IF(AND($B63=\"NSO\",$E63=\"\"),\"\",IF(AND('Marks Entry'!S65=\"AB\"),\"AB\",IF(AND('Marks Entry'!S65=\"ML\"),\"RE\",IF('Marks Entry'!S65=\"\",\"\",ROUNDUP('Marks Entry'!S65*30/100,0)))))","v":""},"",0,0,"","","","",{"$f":"IF('Marks Entry'!T65=\"\",\"\",'Marks Entry'!T65)","v":""},{"$f":"IF('Marks Entry'!V65=\"\",\"\",'Marks Entry'!V65)","v":""},{"$f":"IF('Marks Entry'!W65=\"\",\"\",'Marks Entry'!W65)","v":""},{"$f":"IF('Marks Entry'!X65=\"\",\"\",'Marks Entry'!X65)","v":""},"","",{"$f":"IF('Marks Entry'!Y65=\"\",\"\",'Marks Entry'!Y65)","v":""},{"$f":"IF('Marks Entry'!Z65=\"\",\"\",'Marks Entry'!Z65)","v":""},"","",{"$f":"IF(AND($B63=\"NSO\",$E63=\"\"),\"\",IF(AND('Marks Entry'!AA65=\"AB\",'Marks Entry'!AB65=\"AB\"),\"AB\",IF(AND('Marks Entry'!AA65=\"ML\",'Marks Entry'!AB65=\"ML\"),\"RE\",IF('Marks Entry'!AA65=\"\",\"\",ROUNDUP(('Marks Entry'!AA65+'Marks Entry'!AB65)*30/100,0)))))","v":""},"",0,0,"","","","",{"$f":"IF('Marks Entry'!AC65=\"\",\"\",'Marks Entry'!AC65)","v":""},{"$f":"IF('Marks Entry'!AE65=\"\",\"\",'Marks Entry'!AE65)","v":""},{"$f":"IF('Marks Entry'!AF65=\"\",\"\",'Marks Entry'!AF65)","v":""},{"$f":"IF('Marks Entry'!AG65=\"\",\"\",'Marks Entry'!AG65)","v":""},"","",{"$f":"IF('Marks Entry'!AH65=\"\",\"\",'Marks Entry'!AH65)","v":""},{"$f":"IF('Marks Entry'!AI65=\"\",\"\",'Marks Entry'!AI65)","v":""},"","",{"$f":"IF(AND($B63=\"NSO\",$E63=\"\"),\"\",IF(AND('Marks Entry'!AJ65=\"AB\",'Marks Entry'!AK65=\"AB\"),\"AB\",IF(AND('Marks Entry'!AJ65=\"ML\",'Marks Entry'!AK65=\"ML\"),\"RE\",IF('Marks Entry'!AJ65=\"\",\"\",ROUNDUP(('Marks Entry'!AJ65+'Marks Entry'!AK65)*30/100,0)))))","v":""},"",0,0,"","","","",{"$f":"IF('Marks Entry'!AL65=\"\",\"\",'Marks Entry'!AL65)","v":""},{"$f":"IF('Marks Entry'!AN65=\"\",\"\",'Marks Entry'!AN65)","v":""},{"$f":"IF('Marks Entry'!AO65=\"\",\"\",'Marks Entry'!AO65)","v":""},{"$f":"IF('Marks Entry'!AP65=\"\",\"\",'Marks Entry'!AP65)","v":""},"","",{"$f":"IF('Marks Entry'!AQ65=\"\",\"\",'Marks Entry'!AQ65)","v":""},{"$f":"IF('Marks Entry'!AR65=\"\",\"\",'Marks Entry'!AR65)","v":""},"","",{"$f":"IF(AND($B63=\"NSO\",$E63=\"\"),\"\",IF(AND('Marks Entry'!AS65=\"AB\",'Marks Entry'!AT65=\"AB\"),\"AB\",IF(AND('Marks Entry'!AS65=\"ML\",'Marks Entry'!AT65=\"ML\"),\"RE\",IF('Marks Entry'!AS65=\"\",\"\",ROUNDUP(('Marks Entry'!AS65+'Marks Entry'!AT65)*30/100,0)))))","v":""},"",0,0,"","","","",{"$f":"IF('Marks Entry'!AU65=\"\",\"\",'Marks Entry'!AU65)","v":""},{"$f":"IF('Marks Entry'!AW65=\"\",\"\",'Marks Entry'!AW65)","v":""},{"$f":"IF('Marks Entry'!AX65=\"\",\"\",'Marks Entry'!AX65)","v":""},{"$f":"IF('Marks Entry'!AY65=\"\",\"\",'Marks Entry'!AY65)","v":""},"","",{"$f":"IF('Marks Entry'!AZ65=\"\",\"\",'Marks Entry'!AZ65)","v":""},{"$f":"IF('Marks Entry'!BA65=\"\",\"\",'Marks Entry'!BA65)","v":""},"","",{"$f":"IF(AND($B63=\"NSO\",$E63=\"\"),\"\",IF(AND('Marks Entry'!BB65=\"AB\",'Marks Entry'!BC65=\"AB\"),\"AB\",IF(AND('Marks Entry'!BB65=\"ML\",'Marks Entry'!BC65=\"ML\"),\"RE\",IF('Marks Entry'!BB65=\"\",\"\",ROUNDUP(('Marks Entry'!BB65+'Marks Entry'!BC65)*30/100,0)))))","v":""},"",0,0,"","","","",0,"","","","","","",0,0,0,0,0,"",{"$f":"IF('Marks Entry'!BD65=\"\",\"\",'Marks Entry'!BD65)","v":""},{"$f":"IF('Marks Entry'!BE65=\"\",\"\",'Marks Entry'!BE65)","v":""},{"$f":"IF('Marks Entry'!BF65=\"\",\"\",'Marks Entry'!BF65)","v":""},"","","","","","","","","","","","","","","","","","","","","","","","","","",{"$f":"IF('Student DATA Entry'!I60=\"\",\"\",'Student DATA Entry'!I60)","v":""},{"$f":"IF('Student DATA Entry'!J60=\"\",\"\",'Student DATA Entry'!J60)","v":""},"      ","      ","      ","              "," ","","","","",""]
[59,{"$f":"IF('Marks Entry'!B66=\"\",\"\",VALUE('Marks Entry'!B66))","v":""},{"$f":"IF('Marks Entry'!C66=\"\",\"\",'Marks Entry'!C66)","v":""},{"$f":"IF('Marks Entry'!D66=\"\",\"\",'Marks Entry'!D66)","v":""},{"$f":"IF('Marks Entry'!E66=\"\",\"\",'Marks Entry'!E66)","v":""},{"$f":"IF('Marks Entry'!F66=\"\",\"\",'Marks Entry'!F66)","v":""},{"$f":"IF('Marks Entry'!G66=\"\",\"\",'Marks Entry'!G66)","v":""},{"$f":"IF('Marks Entry'!H66=\"\",\"\",'Marks Entry'!H66)","v":""},{"$f":"IF('Marks Entry'!I66=\"\",\"\",'Marks Entry'!I66)","v":""},{"$f":"IF('Marks Entry'!J66=\"\",\"\",'Marks Entry'!J66)","v":""},{"$f":"IF('Marks Entry'!K66=\"\",\"\",'Marks Entry'!K66)","v":""},{"$f":"IF('Marks Entry'!L66=\"\",\"\",'Marks Entry'!L66)","v":""},"","",{"$f":"IF('Marks Entry'!M66=\"\",\"\",'Marks Entry'!M66)","v":""},"",{"$f":"IF(AND($B64=\"NSO\",$E64=\"\",O64=\"\"),\"\",IF(AND('Marks Entry'!N66=\"AB\"),\"AB\",IF(AND('Marks Entry'!N66=\"ML\"),\"RE\",IF('Marks Entry'!N66=\"\",\"\",ROUNDUP('Marks Entry'!N66*30/100,0)))))","v":""},"",0,0,"","","","",{"$f":"IF('Marks Entry'!O66=\"\",\"\",'Marks Entry'!O66)","v":""},{"$f":"IF('Marks Entry'!P66=\"\",\"\",'Marks Entry'!P66)","v":""},{"$f":"IF('Marks Entry'!Q66=\"\",\"\",'Marks Entry'!Q66)","v":""},"","",{"$f":"IF('Marks Entry'!R66=\"\",\"\",'Marks Entry'!R66)","v":""},"",{"$f":"IF(AND($B64=\"NSO\",$E64=\"\"),\"\",IF(AND('Marks Entry'!S66=\"AB\"),\"AB\",IF(AND('Marks Entry'!S66=\"ML\"),\"RE\",IF('Marks Entry'!S66=\"\",\"\",ROUNDUP('Marks Entry'!S66*30/100,0)))))","v":""},"",0,0,"","","","",{"$f":"IF('Marks Entry'!T66=\"\",\"\",'Marks Entry'!T66)","v":""},{"$f":"IF('Marks Entry'!V66=\"\",\"\",'Marks Entry'!V66)","v":""},{"$f":"IF('Marks Entry'!W66=\"\",\"\",'Marks Entry'!W66)","v":""},{"$f":"IF('Marks Entry'!X66=\"\",\"\",'Marks Entry'!X66)","v":""},"","",{"$f":"IF('Marks Entry'!Y66=\"\",\"\",'Marks Entry'!Y66)","v":""},{"$f":"IF('Marks Entry'!Z66=\"\",\"\",'Marks Entry'!Z66)","v":""},"","",{"$f":"IF(AND($B64=\"NSO\",$E64=\"\"),\"\",IF(AND('Marks Entry'!AA66=\"AB\",'Marks Entry'!AB66=\"AB\"),\"AB\",IF(AND('Marks Entry'!AA66=\"ML\",'Marks Entry'!AB66=\"ML\"),\"RE\",IF('Marks Entry'!AA66=\"\",\"\",ROUNDUP(('Marks Entry'!AA66+'Marks Entry'!AB66)*30/100,0)))))","v":""},"",0,0,"","","","",{"$f":"IF('Marks Entry'!AC66=\"\",\"\",'Marks Entry'!AC66)","v":""},{"$f":"IF('Marks Entry'!AE66=\"\",\"\",'Marks Entry'!AE66)","v":""},{"$f":"IF('Marks Entry'!AF66=\"\",\"\",'Marks Entry'!AF66)","v":""},{"$f":"IF('Marks Entry'!AG66=\"\",\"\",'Marks Entry'!AG66)","v":""},"","",{"$f":"IF('Marks Entry'!AH66=\"\",\"\",'Marks Entry'!AH66)","v":""},{"$f":"IF('Marks Entry'!AI66=\"\",\"\",'Marks Entry'!AI66)","v":""},"","",{"$f":"IF(AND($B64=\"NSO\",$E64=\"\"),\"\",IF(AND('Marks Entry'!AJ66=\"AB\",'Marks Entry'!AK66=\"AB\"),\"AB\",IF(AND('Marks Entry'!AJ66=\"ML\",'Marks Entry'!AK66=\"ML\"),\"RE\",IF('Marks Entry'!AJ66=\"\",\"\",ROUNDUP(('Marks Entry'!AJ66+'Marks Entry'!AK66)*30/100,0)))))","v":""},"",0,0,"","","","",{"$f":"IF('Marks Entry'!AL66=\"\",\"\",'Marks Entry'!AL66)","v":""},{"$f":"IF('Marks Entry'!AN66=\"\",\"\",'Marks Entry'!AN66)","v":""},{"$f":"IF('Marks Entry'!AO66=\"\",\"\",'Marks Entry'!AO66)","v":""},{"$f":"IF('Marks Entry'!AP66=\"\",\"\",'Marks Entry'!AP66)","v":""},"","",{"$f":"IF('Marks Entry'!AQ66=\"\",\"\",'Marks Entry'!AQ66)","v":""},{"$f":"IF('Marks Entry'!AR66=\"\",\"\",'Marks Entry'!AR66)","v":""},"","",{"$f":"IF(AND($B64=\"NSO\",$E64=\"\"),\"\",IF(AND('Marks Entry'!AS66=\"AB\",'Marks Entry'!AT66=\"AB\"),\"AB\",IF(AND('Marks Entry'!AS66=\"ML\",'Marks Entry'!AT66=\"ML\"),\"RE\",IF('Marks Entry'!AS66=\"\",\"\",ROUNDUP(('Marks Entry'!AS66+'Marks Entry'!AT66)*30/100,0)))))","v":""},"",0,0,"","","","",{"$f":"IF('Marks Entry'!AU66=\"\",\"\",'Marks Entry'!AU66)","v":""},{"$f":"IF('Marks Entry'!AW66=\"\",\"\",'Marks Entry'!AW66)","v":""},{"$f":"IF('Marks Entry'!AX66=\"\",\"\",'Marks Entry'!AX66)","v":""},{"$f":"IF('Marks Entry'!AY66=\"\",\"\",'Marks Entry'!AY66)","v":""},"","",{"$f":"IF('Marks Entry'!AZ66=\"\",\"\",'Marks Entry'!AZ66)","v":""},{"$f":"IF('Marks Entry'!BA66=\"\",\"\",'Marks Entry'!BA66)","v":""},"","",{"$f":"IF(AND($B64=\"NSO\",$E64=\"\"),\"\",IF(AND('Marks Entry'!BB66=\"AB\",'Marks Entry'!BC66=\"AB\"),\"AB\",IF(AND('Marks Entry'!BB66=\"ML\",'Marks Entry'!BC66=\"ML\"),\"RE\",IF('Marks Entry'!BB66=\"\",\"\",ROUNDUP(('Marks Entry'!BB66+'Marks Entry'!BC66)*30/100,0)))))","v":""},"",0,0,"","","","",0,"","","","","","",0,0,0,0,0,"",{"$f":"IF('Marks Entry'!BD66=\"\",\"\",'Marks Entry'!BD66)","v":""},{"$f":"IF('Marks Entry'!BE66=\"\",\"\",'Marks Entry'!BE66)","v":""},{"$f":"IF('Marks Entry'!BF66=\"\",\"\",'Marks Entry'!BF66)","v":""},"","","","","","","","","","","","","","","","","","","","","","","","","","",{"$f":"IF('Student DATA Entry'!I61=\"\",\"\",'Student DATA Entry'!I61)","v":""},{"$f":"IF('Student DATA Entry'!J61=\"\",\"\",'Student DATA Entry'!J61)","v":""},"      ","      ","      ","              "," ","","","","",""]
[60,{"$f":"IF('Marks Entry'!B67=\"\",\"\",VALUE('Marks Entry'!B67))","v":""},{"$f":"IF('Marks Entry'!C67=\"\",\"\",'Marks Entry'!C67)","v":""},{"$f":"IF('Marks Entry'!D67=\"\",\"\",'Marks Entry'!D67)","v":""},{"$f":"IF('Marks Entry'!E67=\"\",\"\",'Marks Entry'!E67)","v":""},{"$f":"IF('Marks Entry'!F67=\"\",\"\",'Marks Entry'!F67)","v":""},{"$f":"IF('Marks Entry'!G67=\"\",\"\",'Marks Entry'!G67)","v":""},{"$f":"IF('Marks Entry'!H67=\"\",\"\",'Marks Entry'!H67)","v":""},{"$f":"IF('Marks Entry'!I67=\"\",\"\",'Marks Entry'!I67)","v":""},{"$f":"IF('Marks Entry'!J67=\"\",\"\",'Marks Entry'!J67)","v":""},{"$f":"IF('Marks Entry'!K67=\"\",\"\",'Marks Entry'!K67)","v":""},{"$f":"IF('Marks Entry'!L67=\"\",\"\",'Marks Entry'!L67)","v":""},"","",{"$f":"IF('Marks Entry'!M67=\"\",\"\",'Marks Entry'!M67)","v":""},"",{"$f":"IF(AND($B65=\"NSO\",$E65=\"\",O65=\"\"),\"\",IF(AND('Marks Entry'!N67=\"AB\"),\"AB\",IF(AND('Marks Entry'!N67=\"ML\"),\"RE\",IF('Marks Entry'!N67=\"\",\"\",ROUNDUP('Marks Entry'!N67*30/100,0)))))","v":""},"",0,0,"","","","",{"$f":"IF('Marks Entry'!O67=\"\",\"\",'Marks Entry'!O67)","v":""},{"$f":"IF('Marks Entry'!P67=\"\",\"\",'Marks Entry'!P67)","v":""},{"$f":"IF('Marks Entry'!Q67=\"\",\"\",'Marks Entry'!Q67)","v":""},"","",{"$f":"IF('Marks Entry'!R67=\"\",\"\",'Marks Entry'!R67)","v":""},"",{"$f":"IF(AND($B65=\"NSO\",$E65=\"\"),\"\",IF(AND('Marks Entry'!S67=\"AB\"),\"AB\",IF(AND('Marks Entry'!S67=\"ML\"),\"RE\",IF('Marks Entry'!S67=\"\",\"\",ROUNDUP('Marks Entry'!S67*30/100,0)))))","v":""},"",0,0,"","","","",{"$f":"IF('Marks Entry'!T67=\"\",\"\",'Marks Entry'!T67)","v":""},{"$f":"IF('Marks Entry'!V67=\"\",\"\",'Marks Entry'!V67)","v":""},{"$f":"IF('Marks Entry'!W67=\"\",\"\",'Marks Entry'!W67)","v":""},{"$f":"IF('Marks Entry'!X67=\"\",\"\",'Marks Entry'!X67)","v":""},"","",{"$f":"IF('Marks Entry'!Y67=\"\",\"\",'Marks Entry'!Y67)","v":""},{"$f":"IF('Marks Entry'!Z67=\"\",\"\",'Marks Entry'!Z67)","v":""},"","",{"$f":"IF(AND($B65=\"NSO\",$E65=\"\"),\"\",IF(AND('Marks Entry'!AA67=\"AB\",'Marks Entry'!AB67=\"AB\"),\"AB\",IF(AND('Marks Entry'!AA67=\"ML\",'Marks Entry'!AB67=\"ML\"),\"RE\",IF('Marks Entry'!AA67=\"\",\"\",ROUNDUP(('Marks Entry'!AA67+'Marks Entry'!AB67)*30/100,0)))))","v":""},"",0,0,"","","","",{"$f":"IF('Marks Entry'!AC67=\"\",\"\",'Marks Entry'!AC67)","v":""},{"$f":"IF('Marks Entry'!AE67=\"\",\"\",'Marks Entry'!AE67)","v":""},{"$f":"IF('Marks Entry'!AF67=\"\",\"\",'Marks Entry'!AF67)","v":""},{"$f":"IF('Marks Entry'!AG67=\"\",\"\",'Marks Entry'!AG67)","v":""},"","",{"$f":"IF('Marks Entry'!AH67=\"\",\"\",'Marks Entry'!AH67)","v":""},{"$f":"IF('Marks Entry'!AI67=\"\",\"\",'Marks Entry'!AI67)","v":""},"","",{"$f":"IF(AND($B65=\"NSO\",$E65=\"\"),\"\",IF(AND('Marks Entry'!AJ67=\"AB\",'Marks Entry'!AK67=\"AB\"),\"AB\",IF(AND('Marks Entry'!AJ67=\"ML\",'Marks Entry'!AK67=\"ML\"),\"RE\",IF('Marks Entry'!AJ67=\"\",\"\",ROUNDUP(('Marks Entry'!AJ67+'Marks Entry'!AK67)*30/100,0)))))","v":""},"",0,0,"","","","",{"$f":"IF('Marks Entry'!AL67=\"\",\"\",'Marks Entry'!AL67)","v":""},{"$f":"IF('Marks Entry'!AN67=\"\",\"\",'Marks Entry'!AN67)","v":""},{"$f":"IF('Marks Entry'!AO67=\"\",\"\",'Marks Entry'!AO67)","v":""},{"$f":"IF('Marks Entry'!AP67=\"\",\"\",'Marks Entry'!AP67)","v":""},"","",{"$f":"IF('Marks Entry'!AQ67=\"\",\"\",'Marks Entry'!AQ67)","v":""},{"$f":"IF('Marks Entry'!AR67=\"\",\"\",'Marks Entry'!AR67)","v":""},"","",{"$f":"IF(AND($B65=\"NSO\",$E65=\"\"),\"\",IF(AND('Marks Entry'!AS67=\"AB\",'Marks Entry'!AT67=\"AB\"),\"AB\",IF(AND('Marks Entry'!AS67=\"ML\",'Marks Entry'!AT67=\"ML\"),\"RE\",IF('Marks Entry'!AS67=\"\",\"\",ROUNDUP(('Marks Entry'!AS67+'Marks Entry'!AT67)*30/100,0)))))","v":""},"",0,0,"","","","",{"$f":"IF('Marks Entry'!AU67=\"\",\"\",'Marks Entry'!AU67)","v":""},{"$f":"IF('Marks Entry'!AW67=\"\",\"\",'Marks Entry'!AW67)","v":""},{"$f":"IF('Marks Entry'!AX67=\"\",\"\",'Marks Entry'!AX67)","v":""},{"$f":"IF('Marks Entry'!AY67=\"\",\"\",'Marks Entry'!AY67)","v":""},"","",{"$f":"IF('Marks Entry'!AZ67=\"\",\"\",'Marks Entry'!AZ67)","v":""},{"$f":"IF('Marks Entry'!BA67=\"\",\"\",'Marks Entry'!BA67)","v":""},"","",{"$f":"IF(AND($B65=\"NSO\",$E65=\"\"),\"\",IF(AND('Marks Entry'!BB67=\"AB\",'Marks Entry'!BC67=\"AB\"),\"AB\",IF(AND('Marks Entry'!BB67=\"ML\",'Marks Entry'!BC67=\"ML\"),\"RE\",IF('Marks Entry'!BB67=\"\",\"\",ROUNDUP(('Marks Entry'!BB67+'Marks Entry'!BC67)*30/100,0)))))","v":""},"",0,0,"","","","",0,"","","","","","",0,0,0,0,0,"",{"$f":"IF('Marks Entry'!BD67=\"\",\"\",'Marks Entry'!BD67)","v":""},{"$f":"IF('Marks Entry'!BE67=\"\",\"\",'Marks Entry'!BE67)","v":""},{"$f":"IF('Marks Entry'!BF67=\"\",\"\",'Marks Entry'!BF67)","v":""},"","","","","","","","","","","","","","","","","","","","","","","","","","",{"$f":"IF('Student DATA Entry'!I62=\"\",\"\",'Student DATA Entry'!I62)","v":""},{"$f":"IF('Student DATA Entry'!J62=\"\",\"\",'Student DATA Entry'!J62)","v":""},"      ","      ","      ","              "," ","","","","",""]
[61,{"$f":"IF('Marks Entry'!B68=\"\",\"\",VALUE('Marks Entry'!B68))","v":""},{"$f":"IF('Marks Entry'!C68=\"\",\"\",'Marks Entry'!C68)","v":""},{"$f":"IF('Marks Entry'!D68=\"\",\"\",'Marks Entry'!D68)","v":""},{"$f":"IF('Marks Entry'!E68=\"\",\"\",'Marks Entry'!E68)","v":""},{"$f":"IF('Marks Entry'!F68=\"\",\"\",'Marks Entry'!F68)","v":""},{"$f":"IF('Marks Entry'!G68=\"\",\"\",'Marks Entry'!G68)","v":""},{"$f":"IF('Marks Entry'!H68=\"\",\"\",'Marks Entry'!H68)","v":""},{"$f":"IF('Marks Entry'!I68=\"\",\"\",'Marks Entry'!I68)","v":""},{"$f":"IF('Marks Entry'!J68=\"\",\"\",'Marks Entry'!J68)","v":""},{"$f":"IF('Marks Entry'!K68=\"\",\"\",'Marks Entry'!K68)","v":""},{"$f":"IF('Marks Entry'!L68=\"\",\"\",'Marks Entry'!L68)","v":""},"","",{"$f":"IF('Marks Entry'!M68=\"\",\"\",'Marks Entry'!M68)","v":""},"",{"$f":"IF(AND($B66=\"NSO\",$E66=\"\",O66=\"\"),\"\",IF(AND('Marks Entry'!N68=\"AB\"),\"AB\",IF(AND('Marks Entry'!N68=\"ML\"),\"RE\",IF('Marks Entry'!N68=\"\",\"\",ROUNDUP('Marks Entry'!N68*30/100,0)))))","v":""},"",0,0,"","","","",{"$f":"IF('Marks Entry'!O68=\"\",\"\",'Marks Entry'!O68)","v":""},{"$f":"IF('Marks Entry'!P68=\"\",\"\",'Marks Entry'!P68)","v":""},{"$f":"IF('Marks Entry'!Q68=\"\",\"\",'Marks Entry'!Q68)","v":""},"","",{"$f":"IF('Marks Entry'!R68=\"\",\"\",'Marks Entry'!R68)","v":""},"",{"$f":"IF(AND($B66=\"NSO\",$E66=\"\"),\"\",IF(AND('Marks Entry'!S68=\"AB\"),\"AB\",IF(AND('Marks Entry'!S68=\"ML\"),\"RE\",IF('Marks Entry'!S68=\"\",\"\",ROUNDUP('Marks Entry'!S68*30/100,0)))))","v":""},"",0,0,"","","","",{"$f":"IF('Marks Entry'!T68=\"\",\"\",'Marks Entry'!T68)","v":""},{"$f":"IF('Marks Entry'!V68=\"\",\"\",'Marks Entry'!V68)","v":""},{"$f":"IF('Marks Entry'!W68=\"\",\"\",'Marks Entry'!W68)","v":""},{"$f":"IF('Marks Entry'!X68=\"\",\"\",'Marks Entry'!X68)","v":""},"","",{"$f":"IF('Marks Entry'!Y68=\"\",\"\",'Marks Entry'!Y68)","v":""},{"$f":"IF('Marks Entry'!Z68=\"\",\"\",'Marks Entry'!Z68)","v":""},"","",{"$f":"IF(AND($B66=\"NSO\",$E66=\"\"),\"\",IF(AND('Marks Entry'!AA68=\"AB\",'Marks Entry'!AB68=\"AB\"),\"AB\",IF(AND('Marks Entry'!AA68=\"ML\",'Marks Entry'!AB68=\"ML\"),\"RE\",IF('Marks Entry'!AA68=\"\",\"\",ROUNDUP(('Marks Entry'!AA68+'Marks Entry'!AB68)*30/100,0)))))","v":""},"",0,0,"","","","",{"$f":"IF('Marks Entry'!AC68=\"\",\"\",'Marks Entry'!AC68)","v":""},{"$f":"IF('Marks Entry'!AE68=\"\",\"\",'Marks Entry'!AE68)","v":""},{"$f":"IF('Marks Entry'!AF68=\"\",\"\",'Marks Entry'!AF68)","v":""},{"$f":"IF('Marks Entry'!AG68=\"\",\"\",'Marks Entry'!AG68)","v":""},"","",{"$f":"IF('Marks Entry'!AH68=\"\",\"\",'Marks Entry'!AH68)","v":""},{"$f":"IF('Marks Entry'!AI68=\"\",\"\",'Marks Entry'!AI68)","v":""},"","",{"$f":"IF(AND($B66=\"NSO\",$E66=\"\"),\"\",IF(AND('Marks Entry'!AJ68=\"AB\",'Marks Entry'!AK68=\"AB\"),\"AB\",IF(AND('Marks Entry'!AJ68=\"ML\",'Marks Entry'!AK68=\"ML\"),\"RE\",IF('Marks Entry'!AJ68=\"\",\"\",ROUNDUP(('Marks Entry'!AJ68+'Marks Entry'!AK68)*30/100,0)))))","v":""},"",0,0,"","","","",{"$f":"IF('Marks Entry'!AL68=\"\",\"\",'Marks Entry'!AL68)","v":""},{"$f":"IF('Marks Entry'!AN68=\"\",\"\",'Marks Entry'!AN68)","v":""},{"$f":"IF('Marks Entry'!AO68=\"\",\"\",'Marks Entry'!AO68)","v":""},{"$f":"IF('Marks Entry'!AP68=\"\",\"\",'Marks Entry'!AP68)","v":""},"","",{"$f":"IF('Marks Entry'!AQ68=\"\",\"\",'Marks Entry'!AQ68)","v":""},{"$f":"IF('Marks Entry'!AR68=\"\",\"\",'Marks Entry'!AR68)","v":""},"","",{"$f":"IF(AND($B66=\"NSO\",$E66=\"\"),\"\",IF(AND('Marks Entry'!AS68=\"AB\",'Marks Entry'!AT68=\"AB\"),\"AB\",IF(AND('Marks Entry'!AS68=\"ML\",'Marks Entry'!AT68=\"ML\"),\"RE\",IF('Marks Entry'!AS68=\"\",\"\",ROUNDUP(('Marks Entry'!AS68+'Marks Entry'!AT68)*30/100,0)))))","v":""},"",0,0,"","","","",{"$f":"IF('Marks Entry'!AU68=\"\",\"\",'Marks Entry'!AU68)","v":""},{"$f":"IF('Marks Entry'!AW68=\"\",\"\",'Marks Entry'!AW68)","v":""},{"$f":"IF('Marks Entry'!AX68=\"\",\"\",'Marks Entry'!AX68)","v":""},{"$f":"IF('Marks Entry'!AY68=\"\",\"\",'Marks Entry'!AY68)","v":""},"","",{"$f":"IF('Marks Entry'!AZ68=\"\",\"\",'Marks Entry'!AZ68)","v":""},{"$f":"IF('Marks Entry'!BA68=\"\",\"\",'Marks Entry'!BA68)","v":""},"","",{"$f":"IF(AND($B66=\"NSO\",$E66=\"\"),\"\",IF(AND('Marks Entry'!BB68=\"AB\",'Marks Entry'!BC68=\"AB\"),\"AB\",IF(AND('Marks Entry'!BB68=\"ML\",'Marks Entry'!BC68=\"ML\"),\"RE\",IF('Marks Entry'!BB68=\"\",\"\",ROUNDUP(('Marks Entry'!BB68+'Marks Entry'!BC68)*30/100,0)))))","v":""},"",0,0,"","","","",0,"","","","","","",0,0,0,0,0,"",{"$f":"IF('Marks Entry'!BD68=\"\",\"\",'Marks Entry'!BD68)","v":""},{"$f":"IF('Marks Entry'!BE68=\"\",\"\",'Marks Entry'!BE68)","v":""},{"$f":"IF('Marks Entry'!BF68=\"\",\"\",'Marks Entry'!BF68)","v":""},"","","","","","","","","","","","","","","","","","","","","","","","","","",{"$f":"IF('Student DATA Entry'!I63=\"\",\"\",'Student DATA Entry'!I63)","v":""},{"$f":"IF('Student DATA Entry'!J63=\"\",\"\",'Student DATA Entry'!J63)","v":""},"      ","      ","      ","              "," ","","","","",""]
[62,{"$f":"IF('Marks Entry'!B69=\"\",\"\",VALUE('Marks Entry'!B69))","v":""},{"$f":"IF('Marks Entry'!C69=\"\",\"\",'Marks Entry'!C69)","v":""},{"$f":"IF('Marks Entry'!D69=\"\",\"\",'Marks Entry'!D69)","v":""},{"$f":"IF('Marks Entry'!E69=\"\",\"\",'Marks Entry'!E69)","v":""},{"$f":"IF('Marks Entry'!F69=\"\",\"\",'Marks Entry'!F69)","v":""},{"$f":"IF('Marks Entry'!G69=\"\",\"\",'Marks Entry'!G69)","v":""},{"$f":"IF('Marks Entry'!H69=\"\",\"\",'Marks Entry'!H69)","v":""},{"$f":"IF('Marks Entry'!I69=\"\",\"\",'Marks Entry'!I69)","v":""},{"$f":"IF('Marks Entry'!J69=\"\",\"\",'Marks Entry'!J69)","v":""},{"$f":"IF('Marks Entry'!K69=\"\",\"\",'Marks Entry'!K69)","v":""},{"$f":"IF('Marks Entry'!L69=\"\",\"\",'Marks Entry'!L69)","v":""},"","",{"$f":"IF('Marks Entry'!M69=\"\",\"\",'Marks Entry'!M69)","v":""},"",{"$f":"IF(AND($B67=\"NSO\",$E67=\"\",O67=\"\"),\"\",IF(AND('Marks Entry'!N69=\"AB\"),\"AB\",IF(AND('Marks Entry'!N69=\"ML\"),\"RE\",IF('Marks Entry'!N69=\"\",\"\",ROUNDUP('Marks Entry'!N69*30/100,0)))))","v":""},"",0,0,"","","","",{"$f":"IF('Marks Entry'!O69=\"\",\"\",'Marks Entry'!O69)","v":""},{"$f":"IF('Marks Entry'!P69=\"\",\"\",'Marks Entry'!P69)","v":""},{"$f":"IF('Marks Entry'!Q69=\"\",\"\",'Marks Entry'!Q69)","v":""},"","",{"$f":"IF('Marks Entry'!R69=\"\",\"\",'Marks Entry'!R69)","v":""},"",{"$f":"IF(AND($B67=\"NSO\",$E67=\"\"),\"\",IF(AND('Marks Entry'!S69=\"AB\"),\"AB\",IF(AND('Marks Entry'!S69=\"ML\"),\"RE\",IF('Marks Entry'!S69=\"\",\"\",ROUNDUP('Marks Entry'!S69*30/100,0)))))","v":""},"",0,0,"","","","",{"$f":"IF('Marks Entry'!T69=\"\",\"\",'Marks Entry'!T69)","v":""},{"$f":"IF('Marks Entry'!V69=\"\",\"\",'Marks Entry'!V69)","v":""},{"$f":"IF('Marks Entry'!W69=\"\",\"\",'Marks Entry'!W69)","v":""},{"$f":"IF('Marks Entry'!X69=\"\",\"\",'Marks Entry'!X69)","v":""},"","",{"$f":"IF('Marks Entry'!Y69=\"\",\"\",'Marks Entry'!Y69)","v":""},{"$f":"IF('Marks Entry'!Z69=\"\",\"\",'Marks Entry'!Z69)","v":""},"","",{"$f":"IF(AND($B67=\"NSO\",$E67=\"\"),\"\",IF(AND('Marks Entry'!AA69=\"AB\",'Marks Entry'!AB69=\"AB\"),\"AB\",IF(AND('Marks Entry'!AA69=\"ML\",'Marks Entry'!AB69=\"ML\"),\"RE\",IF('Marks Entry'!AA69=\"\",\"\",ROUNDUP(('Marks Entry'!AA69+'Marks Entry'!AB69)*30/100,0)))))","v":""},"",0,0,"","","","",{"$f":"IF('Marks Entry'!AC69=\"\",\"\",'Marks Entry'!AC69)","v":""},{"$f":"IF('Marks Entry'!AE69=\"\",\"\",'Marks Entry'!AE69)","v":""},{"$f":"IF('Marks Entry'!AF69=\"\",\"\",'Marks Entry'!AF69)","v":""},{"$f":"IF('Marks Entry'!AG69=\"\",\"\",'Marks Entry'!AG69)","v":""},"","",{"$f":"IF('Marks Entry'!AH69=\"\",\"\",'Marks Entry'!AH69)","v":""},{"$f":"IF('Marks Entry'!AI69=\"\",\"\",'Marks Entry'!AI69)","v":""},"","",{"$f":"IF(AND($B67=\"NSO\",$E67=\"\"),\"\",IF(AND('Marks Entry'!AJ69=\"AB\",'Marks Entry'!AK69=\"AB\"),\"AB\",IF(AND('Marks Entry'!AJ69=\"ML\",'Marks Entry'!AK69=\"ML\"),\"RE\",IF('Marks Entry'!AJ69=\"\",\"\",ROUNDUP(('Marks Entry'!AJ69+'Marks Entry'!AK69)*30/100,0)))))","v":""},"",0,0,"","","","",{"$f":"IF('Marks Entry'!AL69=\"\",\"\",'Marks Entry'!AL69)","v":""},{"$f":"IF('Marks Entry'!AN69=\"\",\"\",'Marks Entry'!AN69)","v":""},{"$f":"IF('Marks Entry'!AO69=\"\",\"\",'Marks Entry'!AO69)","v":""},{"$f":"IF('Marks Entry'!AP69=\"\",\"\",'Marks Entry'!AP69)","v":""},"","",{"$f":"IF('Marks Entry'!AQ69=\"\",\"\",'Marks Entry'!AQ69)","v":""},{"$f":"IF('Marks Entry'!AR69=\"\",\"\",'Marks Entry'!AR69)","v":""},"","",{"$f":"IF(AND($B67=\"NSO\",$E67=\"\"),\"\",IF(AND('Marks Entry'!AS69=\"AB\",'Marks Entry'!AT69=\"AB\"),\"AB\",IF(AND('Marks Entry'!AS69=\"ML\",'Marks Entry'!AT69=\"ML\"),\"RE\",IF('Marks Entry'!AS69=\"\",\"\",ROUNDUP(('Marks Entry'!AS69+'Marks Entry'!AT69)*30/100,0)))))","v":""},"",0,0,"","","","",{"$f":"IF('Marks Entry'!AU69=\"\",\"\",'Marks Entry'!AU69)","v":""},{"$f":"IF('Marks Entry'!AW69=\"\",\"\",'Marks Entry'!AW69)","v":""},{"$f":"IF('Marks Entry'!AX69=\"\",\"\",'Marks Entry'!AX69)","v":""},{"$f":"IF('Marks Entry'!AY69=\"\",\"\",'Marks Entry'!AY69)","v":""},"","",{"$f":"IF('Marks Entry'!AZ69=\"\",\"\",'Marks Entry'!AZ69)","v":""},{"$f":"IF('Marks Entry'!BA69=\"\",\"\",'Marks Entry'!BA69)","v":""},"","",{"$f":"IF(AND($B67=\"NSO\",$E67=\"\"),\"\",IF(AND('Marks Entry'!BB69=\"AB\",'Marks Entry'!BC69=\"AB\"),\"AB\",IF(AND('Marks Entry'!BB69=\"ML\",'Marks Entry'!BC69=\"ML\"),\"RE\",IF('Marks Entry'!BB69=\"\",\"\",ROUNDUP(('Marks Entry'!BB69+'Marks Entry'!BC69)*30/100,0)))))","v":""},"",0,0,"","","","",0,"","","","","","",0,0,0,0,0,"",{"$f":"IF('Marks Entry'!BD69=\"\",\"\",'Marks Entry'!BD69)","v":""},{"$f":"IF('Marks Entry'!BE69=\"\",\"\",'Marks Entry'!BE69)","v":""},{"$f":"IF('Marks Entry'!BF69=\"\",\"\",'Marks Entry'!BF69)","v":""},"","","","","","","","","","","","","","","","","","","","","","","","","","",{"$f":"IF('Student DATA Entry'!I64=\"\",\"\",'Student DATA Entry'!I64)","v":""},{"$f":"IF('Student DATA Entry'!J64=\"\",\"\",'Student DATA Entry'!J64)","v":""},"      ","      ","      ","              "," ","","","","",""]
[63,{"$f":"IF('Marks Entry'!B70=\"\",\"\",VALUE('Marks Entry'!B70))","v":""},{"$f":"IF('Marks Entry'!C70=\"\",\"\",'Marks Entry'!C70)","v":""},{"$f":"IF('Marks Entry'!D70=\"\",\"\",'Marks Entry'!D70)","v":""},{"$f":"IF('Marks Entry'!E70=\"\",\"\",'Marks Entry'!E70)","v":""},{"$f":"IF('Marks Entry'!F70=\"\",\"\",'Marks Entry'!F70)","v":""},{"$f":"IF('Marks Entry'!G70=\"\",\"\",'Marks Entry'!G70)","v":""},{"$f":"IF('Marks Entry'!H70=\"\",\"\",'Marks Entry'!H70)","v":""},{"$f":"IF('Marks Entry'!I70=\"\",\"\",'Marks Entry'!I70)","v":""},{"$f":"IF('Marks Entry'!J70=\"\",\"\",'Marks Entry'!J70)","v":""},{"$f":"IF('Marks Entry'!K70=\"\",\"\",'Marks Entry'!K70)","v":""},{"$f":"IF('Marks Entry'!L70=\"\",\"\",'Marks Entry'!L70)","v":""},"","",{"$f":"IF('Marks Entry'!M70=\"\",\"\",'Marks Entry'!M70)","v":""},"",{"$f":"IF(AND($B68=\"NSO\",$E68=\"\",O68=\"\"),\"\",IF(AND('Marks Entry'!N70=\"AB\"),\"AB\",IF(AND('Marks Entry'!N70=\"ML\"),\"RE\",IF('Marks Entry'!N70=\"\",\"\",ROUNDUP('Marks Entry'!N70*30/100,0)))))","v":""},"",0,0,"","","","",{"$f":"IF('Marks Entry'!O70=\"\",\"\",'Marks Entry'!O70)","v":""},{"$f":"IF('Marks Entry'!P70=\"\",\"\",'Marks Entry'!P70)","v":""},{"$f":"IF('Marks Entry'!Q70=\"\",\"\",'Marks Entry'!Q70)","v":""},"","",{"$f":"IF('Marks Entry'!R70=\"\",\"\",'Marks Entry'!R70)","v":""},"",{"$f":"IF(AND($B68=\"NSO\",$E68=\"\"),\"\",IF(AND('Marks Entry'!S70=\"AB\"),\"AB\",IF(AND('Marks Entry'!S70=\"ML\"),\"RE\",IF('Marks Entry'!S70=\"\",\"\",ROUNDUP('Marks Entry'!S70*30/100,0)))))","v":""},"",0,0,"","","","",{"$f":"IF('Marks Entry'!T70=\"\",\"\",'Marks Entry'!T70)","v":""},{"$f":"IF('Marks Entry'!V70=\"\",\"\",'Marks Entry'!V70)","v":""},{"$f":"IF('Marks Entry'!W70=\"\",\"\",'Marks Entry'!W70)","v":""},{"$f":"IF('Marks Entry'!X70=\"\",\"\",'Marks Entry'!X70)","v":""},"","",{"$f":"IF('Marks Entry'!Y70=\"\",\"\",'Marks Entry'!Y70)","v":""},{"$f":"IF('Marks Entry'!Z70=\"\",\"\",'Marks Entry'!Z70)","v":""},"","",{"$f":"IF(AND($B68=\"NSO\",$E68=\"\"),\"\",IF(AND('Marks Entry'!AA70=\"AB\",'Marks Entry'!AB70=\"AB\"),\"AB\",IF(AND('Marks Entry'!AA70=\"ML\",'Marks Entry'!AB70=\"ML\"),\"RE\",IF('Marks Entry'!AA70=\"\",\"\",ROUNDUP(('Marks Entry'!AA70+'Marks Entry'!AB70)*30/100,0)))))","v":""},"",0,0,"","","","",{"$f":"IF('Marks Entry'!AC70=\"\",\"\",'Marks Entry'!AC70)","v":""},{"$f":"IF('Marks Entry'!AE70=\"\",\"\",'Marks Entry'!AE70)","v":""},{"$f":"IF('Marks Entry'!AF70=\"\",\"\",'Marks Entry'!AF70)","v":""},{"$f":"IF('Marks Entry'!AG70=\"\",\"\",'Marks Entry'!AG70)","v":""},"","",{"$f":"IF('Marks Entry'!AH70=\"\",\"\",'Marks Entry'!AH70)","v":""},{"$f":"IF('Marks Entry'!AI70=\"\",\"\",'Marks Entry'!AI70)","v":""},"","",{"$f":"IF(AND($B68=\"NSO\",$E68=\"\"),\"\",IF(AND('Marks Entry'!AJ70=\"AB\",'Marks Entry'!AK70=\"AB\"),\"AB\",IF(AND('Marks Entry'!AJ70=\"ML\",'Marks Entry'!AK70=\"ML\"),\"RE\",IF('Marks Entry'!AJ70=\"\",\"\",ROUNDUP(('Marks Entry'!AJ70+'Marks Entry'!AK70)*30/100,0)))))","v":""},"",0,0,"","","","",{"$f":"IF('Marks Entry'!AL70=\"\",\"\",'Marks Entry'!AL70)","v":""},{"$f":"IF('Marks Entry'!AN70=\"\",\"\",'Marks Entry'!AN70)","v":""},{"$f":"IF('Marks Entry'!AO70=\"\",\"\",'Marks Entry'!AO70)","v":""},{"$f":"IF('Marks Entry'!AP70=\"\",\"\",'Marks Entry'!AP70)","v":""},"","",{"$f":"IF('Marks Entry'!AQ70=\"\",\"\",'Marks Entry'!AQ70)","v":""},{"$f":"IF('Marks Entry'!AR70=\"\",\"\",'Marks Entry'!AR70)","v":""},"","",{"$f":"IF(AND($B68=\"NSO\",$E68=\"\"),\"\",IF(AND('Marks Entry'!AS70=\"AB\",'Marks Entry'!AT70=\"AB\"),\"AB\",IF(AND('Marks Entry'!AS70=\"ML\",'Marks Entry'!AT70=\"ML\"),\"RE\",IF('Marks Entry'!AS70=\"\",\"\",ROUNDUP(('Marks Entry'!AS70+'Marks Entry'!AT70)*30/100,0)))))","v":""},"",0,0,"","","","",{"$f":"IF('Marks Entry'!AU70=\"\",\"\",'Marks Entry'!AU70)","v":""},{"$f":"IF('Marks Entry'!AW70=\"\",\"\",'Marks Entry'!AW70)","v":""},{"$f":"IF('Marks Entry'!AX70=\"\",\"\",'Marks Entry'!AX70)","v":""},{"$f":"IF('Marks Entry'!AY70=\"\",\"\",'Marks Entry'!AY70)","v":""},"","",{"$f":"IF('Marks Entry'!AZ70=\"\",\"\",'Marks Entry'!AZ70)","v":""},{"$f":"IF('Marks Entry'!BA70=\"\",\"\",'Marks Entry'!BA70)","v":""},"","",{"$f":"IF(AND($B68=\"NSO\",$E68=\"\"),\"\",IF(AND('Marks Entry'!BB70=\"AB\",'Marks Entry'!BC70=\"AB\"),\"AB\",IF(AND('Marks Entry'!BB70=\"ML\",'Marks Entry'!BC70=\"ML\"),\"RE\",IF('Marks Entry'!BB70=\"\",\"\",ROUNDUP(('Marks Entry'!BB70+'Marks Entry'!BC70)*30/100,0)))))","v":""},"",0,0,"","","","",0,"","","","","","",0,0,0,0,0,"",{"$f":"IF('Marks Entry'!BD70=\"\",\"\",'Marks Entry'!BD70)","v":""},{"$f":"IF('Marks Entry'!BE70=\"\",\"\",'Marks Entry'!BE70)","v":""},{"$f":"IF('Marks Entry'!BF70=\"\",\"\",'Marks Entry'!BF70)","v":""},"","","","","","","","","","","","","","","","","","","","","","","","","","",{"$f":"IF('Student DATA Entry'!I65=\"\",\"\",'Student DATA Entry'!I65)","v":""},{"$f":"IF('Student DATA Entry'!J65=\"\",\"\",'Student DATA Entry'!J65)","v":""},"      ","      ","      ","              "," ","","","","",""]
[64,{"$f":"IF('Marks Entry'!B71=\"\",\"\",VALUE('Marks Entry'!B71))","v":""},{"$f":"IF('Marks Entry'!C71=\"\",\"\",'Marks Entry'!C71)","v":""},{"$f":"IF('Marks Entry'!D71=\"\",\"\",'Marks Entry'!D71)","v":""},{"$f":"IF('Marks Entry'!E71=\"\",\"\",'Marks Entry'!E71)","v":""},{"$f":"IF('Marks Entry'!F71=\"\",\"\",'Marks Entry'!F71)","v":""},{"$f":"IF('Marks Entry'!G71=\"\",\"\",'Marks Entry'!G71)","v":""},{"$f":"IF('Marks Entry'!H71=\"\",\"\",'Marks Entry'!H71)","v":""},{"$f":"IF('Marks Entry'!I71=\"\",\"\",'Marks Entry'!I71)","v":""},{"$f":"IF('Marks Entry'!J71=\"\",\"\",'Marks Entry'!J71)","v":""},{"$f":"IF('Marks Entry'!K71=\"\",\"\",'Marks Entry'!K71)","v":""},{"$f":"IF('Marks Entry'!L71=\"\",\"\",'Marks Entry'!L71)","v":""},"","",{"$f":"IF('Marks Entry'!M71=\"\",\"\",'Marks Entry'!M71)","v":""},"",{"$f":"IF(AND($B69=\"NSO\",$E69=\"\",O69=\"\"),\"\",IF(AND('Marks Entry'!N71=\"AB\"),\"AB\",IF(AND('Marks Entry'!N71=\"ML\"),\"RE\",IF('Marks Entry'!N71=\"\",\"\",ROUNDUP('Marks Entry'!N71*30/100,0)))))","v":""},"",0,0,"","","","",{"$f":"IF('Marks Entry'!O71=\"\",\"\",'Marks Entry'!O71)","v":""},{"$f":"IF('Marks Entry'!P71=\"\",\"\",'Marks Entry'!P71)","v":""},{"$f":"IF('Marks Entry'!Q71=\"\",\"\",'Marks Entry'!Q71)","v":""},"","",{"$f":"IF('Marks Entry'!R71=\"\",\"\",'Marks Entry'!R71)","v":""},"",{"$f":"IF(AND($B69=\"NSO\",$E69=\"\"),\"\",IF(AND('Marks Entry'!S71=\"AB\"),\"AB\",IF(AND('Marks Entry'!S71=\"ML\"),\"RE\",IF('Marks Entry'!S71=\"\",\"\",ROUNDUP('Marks Entry'!S71*30/100,0)))))","v":""},"",0,0,"","","","",{"$f":"IF('Marks Entry'!T71=\"\",\"\",'Marks Entry'!T71)","v":""},{"$f":"IF('Marks Entry'!V71=\"\",\"\",'Marks Entry'!V71)","v":""},{"$f":"IF('Marks Entry'!W71=\"\",\"\",'Marks Entry'!W71)","v":""},{"$f":"IF('Marks Entry'!X71=\"\",\"\",'Marks Entry'!X71)","v":""},"","",{"$f":"IF('Marks Entry'!Y71=\"\",\"\",'Marks Entry'!Y71)","v":""},{"$f":"IF('Marks Entry'!Z71=\"\",\"\",'Marks Entry'!Z71)","v":""},"","",{"$f":"IF(AND($B69=\"NSO\",$E69=\"\"),\"\",IF(AND('Marks Entry'!AA71=\"AB\",'Marks Entry'!AB71=\"AB\"),\"AB\",IF(AND('Marks Entry'!AA71=\"ML\",'Marks Entry'!AB71=\"ML\"),\"RE\",IF('Marks Entry'!AA71=\"\",\"\",ROUNDUP(('Marks Entry'!AA71+'Marks Entry'!AB71)*30/100,0)))))","v":""},"",0,0,"","","","",{"$f":"IF('Marks Entry'!AC71=\"\",\"\",'Marks Entry'!AC71)","v":""},{"$f":"IF('Marks Entry'!AE71=\"\",\"\",'Marks Entry'!AE71)","v":""},{"$f":"IF('Marks Entry'!AF71=\"\",\"\",'Marks Entry'!AF71)","v":""},{"$f":"IF('Marks Entry'!AG71=\"\",\"\",'Marks Entry'!AG71)","v":""},"","",{"$f":"IF('Marks Entry'!AH71=\"\",\"\",'Marks Entry'!AH71)","v":""},{"$f":"IF('Marks Entry'!AI71=\"\",\"\",'Marks Entry'!AI71)","v":""},"","",{"$f":"IF(AND($B69=\"NSO\",$E69=\"\"),\"\",IF(AND('Marks Entry'!AJ71=\"AB\",'Marks Entry'!AK71=\"AB\"),\"AB\",IF(AND('Marks Entry'!AJ71=\"ML\",'Marks Entry'!AK71=\"ML\"),\"RE\",IF('Marks Entry'!AJ71=\"\",\"\",ROUNDUP(('Marks Entry'!AJ71+'Marks Entry'!AK71)*30/100,0)))))","v":""},"",0,0,"","","","",{"$f":"IF('Marks Entry'!AL71=\"\",\"\",'Marks Entry'!AL71)","v":""},{"$f":"IF('Marks Entry'!AN71=\"\",\"\",'Marks Entry'!AN71)","v":""},{"$f":"IF('Marks Entry'!AO71=\"\",\"\",'Marks Entry'!AO71)","v":""},{"$f":"IF('Marks Entry'!AP71=\"\",\"\",'Marks Entry'!AP71)","v":""},"","",{"$f":"IF('Marks Entry'!AQ71=\"\",\"\",'Marks Entry'!AQ71)","v":""},{"$f":"IF('Marks Entry'!AR71=\"\",\"\",'Marks Entry'!AR71)","v":""},"","",{"$f":"IF(AND($B69=\"NSO\",$E69=\"\"),\"\",IF(AND('Marks Entry'!AS71=\"AB\",'Marks Entry'!AT71=\"AB\"),\"AB\",IF(AND('Marks Entry'!AS71=\"ML\",'Marks Entry'!AT71=\"ML\"),\"RE\",IF('Marks Entry'!AS71=\"\",\"\",ROUNDUP(('Marks Entry'!AS71+'Marks Entry'!AT71)*30/100,0)))))","v":""},"",0,0,"","","","",{"$f":"IF('Marks Entry'!AU71=\"\",\"\",'Marks Entry'!AU71)","v":""},{"$f":"IF('Marks Entry'!AW71=\"\",\"\",'Marks Entry'!AW71)","v":""},{"$f":"IF('Marks Entry'!AX71=\"\",\"\",'Marks Entry'!AX71)","v":""},{"$f":"IF('Marks Entry'!AY71=\"\",\"\",'Marks Entry'!AY71)","v":""},"","",{"$f":"IF('Marks Entry'!AZ71=\"\",\"\",'Marks Entry'!AZ71)","v":""},{"$f":"IF('Marks Entry'!BA71=\"\",\"\",'Marks Entry'!BA71)","v":""},"","",{"$f":"IF(AND($B69=\"NSO\",$E69=\"\"),\"\",IF(AND('Marks Entry'!BB71=\"AB\",'Marks Entry'!BC71=\"AB\"),\"AB\",IF(AND('Marks Entry'!BB71=\"ML\",'Marks Entry'!BC71=\"ML\"),\"RE\",IF('Marks Entry'!BB71=\"\",\"\",ROUNDUP(('Marks Entry'!BB71+'Marks Entry'!BC71)*30/100,0)))))","v":""},"",0,0,"","","","",0,"","","","","","",0,0,0,0,0,"",{"$f":"IF('Marks Entry'!BD71=\"\",\"\",'Marks Entry'!BD71)","v":""},{"$f":"IF('Marks Entry'!BE71=\"\",\"\",'Marks Entry'!BE71)","v":""},{"$f":"IF('Marks Entry'!BF71=\"\",\"\",'Marks Entry'!BF71)","v":""},"","","","","","","","","","","","","","","","","","","","","","","","","","",{"$f":"IF('Student DATA Entry'!I66=\"\",\"\",'Student DATA Entry'!I66)","v":""},{"$f":"IF('Student DATA Entry'!J66=\"\",\"\",'Student DATA Entry'!J66)","v":""},"      ","      ","      ","              "," ","","","","",""]
[65,{"$f":"IF('Marks Entry'!B72=\"\",\"\",VALUE('Marks Entry'!B72))","v":""},{"$f":"IF('Marks Entry'!C72=\"\",\"\",'Marks Entry'!C72)","v":""},{"$f":"IF('Marks Entry'!D72=\"\",\"\",'Marks Entry'!D72)","v":""},{"$f":"IF('Marks Entry'!E72=\"\",\"\",'Marks Entry'!E72)","v":""},{"$f":"IF('Marks Entry'!F72=\"\",\"\",'Marks Entry'!F72)","v":""},{"$f":"IF('Marks Entry'!G72=\"\",\"\",'Marks Entry'!G72)","v":""},{"$f":"IF('Marks Entry'!H72=\"\",\"\",'Marks Entry'!H72)","v":""},{"$f":"IF('Marks Entry'!I72=\"\",\"\",'Marks Entry'!I72)","v":""},{"$f":"IF('Marks Entry'!J72=\"\",\"\",'Marks Entry'!J72)","v":""},{"$f":"IF('Marks Entry'!K72=\"\",\"\",'Marks Entry'!K72)","v":""},{"$f":"IF('Marks Entry'!L72=\"\",\"\",'Marks Entry'!L72)","v":""},"","",{"$f":"IF('Marks Entry'!M72=\"\",\"\",'Marks Entry'!M72)","v":""},"",{"$f":"IF(AND($B70=\"NSO\",$E70=\"\",O70=\"\"),\"\",IF(AND('Marks Entry'!N72=\"AB\"),\"AB\",IF(AND('Marks Entry'!N72=\"ML\"),\"RE\",IF('Marks Entry'!N72=\"\",\"\",ROUNDUP('Marks Entry'!N72*30/100,0)))))","v":""},"",0,0,"","","","",{"$f":"IF('Marks Entry'!O72=\"\",\"\",'Marks Entry'!O72)","v":""},{"$f":"IF('Marks Entry'!P72=\"\",\"\",'Marks Entry'!P72)","v":""},{"$f":"IF('Marks Entry'!Q72=\"\",\"\",'Marks Entry'!Q72)","v":""},"","",{"$f":"IF('Marks Entry'!R72=\"\",\"\",'Marks Entry'!R72)","v":""},"",{"$f":"IF(AND($B70=\"NSO\",$E70=\"\"),\"\",IF(AND('Marks Entry'!S72=\"AB\"),\"AB\",IF(AND('Marks Entry'!S72=\"ML\"),\"RE\",IF('Marks Entry'!S72=\"\",\"\",ROUNDUP('Marks Entry'!S72*30/100,0)))))","v":""},"",0,0,"","","","",{"$f":"IF('Marks Entry'!T72=\"\",\"\",'Marks Entry'!T72)","v":""},{"$f":"IF('Marks Entry'!V72=\"\",\"\",'Marks Entry'!V72)","v":""},{"$f":"IF('Marks Entry'!W72=\"\",\"\",'Marks Entry'!W72)","v":""},{"$f":"IF('Marks Entry'!X72=\"\",\"\",'Marks Entry'!X72)","v":""},"","",{"$f":"IF('Marks Entry'!Y72=\"\",\"\",'Marks Entry'!Y72)","v":""},{"$f":"IF('Marks Entry'!Z72=\"\",\"\",'Marks Entry'!Z72)","v":""},"","",{"$f":"IF(AND($B70=\"NSO\",$E70=\"\"),\"\",IF(AND('Marks Entry'!AA72=\"AB\",'Marks Entry'!AB72=\"AB\"),\"AB\",IF(AND('Marks Entry'!AA72=\"ML\",'Marks Entry'!AB72=\"ML\"),\"RE\",IF('Marks Entry'!AA72=\"\",\"\",ROUNDUP(('Marks Entry'!AA72+'Marks Entry'!AB72)*30/100,0)))))","v":""},"",0,0,"","","","",{"$f":"IF('Marks Entry'!AC72=\"\",\"\",'Marks Entry'!AC72)","v":""},{"$f":"IF('Marks Entry'!AE72=\"\",\"\",'Marks Entry'!AE72)","v":""},{"$f":"IF('Marks Entry'!AF72=\"\",\"\",'Marks Entry'!AF72)","v":""},{"$f":"IF('Marks Entry'!AG72=\"\",\"\",'Marks Entry'!AG72)","v":""},"","",{"$f":"IF('Marks Entry'!AH72=\"\",\"\",'Marks Entry'!AH72)","v":""},{"$f":"IF('Marks Entry'!AI72=\"\",\"\",'Marks Entry'!AI72)","v":""},"","",{"$f":"IF(AND($B70=\"NSO\",$E70=\"\"),\"\",IF(AND('Marks Entry'!AJ72=\"AB\",'Marks Entry'!AK72=\"AB\"),\"AB\",IF(AND('Marks Entry'!AJ72=\"ML\",'Marks Entry'!AK72=\"ML\"),\"RE\",IF('Marks Entry'!AJ72=\"\",\"\",ROUNDUP(('Marks Entry'!AJ72+'Marks Entry'!AK72)*30/100,0)))))","v":""},"",0,0,"","","","",{"$f":"IF('Marks Entry'!AL72=\"\",\"\",'Marks Entry'!AL72)","v":""},{"$f":"IF('Marks Entry'!AN72=\"\",\"\",'Marks Entry'!AN72)","v":""},{"$f":"IF('Marks Entry'!AO72=\"\",\"\",'Marks Entry'!AO72)","v":""},{"$f":"IF('Marks Entry'!AP72=\"\",\"\",'Marks Entry'!AP72)","v":""},"","",{"$f":"IF('Marks Entry'!AQ72=\"\",\"\",'Marks Entry'!AQ72)","v":""},{"$f":"IF('Marks Entry'!AR72=\"\",\"\",'Marks Entry'!AR72)","v":""},"","",{"$f":"IF(AND($B70=\"NSO\",$E70=\"\"),\"\",IF(AND('Marks Entry'!AS72=\"AB\",'Marks Entry'!AT72=\"AB\"),\"AB\",IF(AND('Marks Entry'!AS72=\"ML\",'Marks Entry'!AT72=\"ML\"),\"RE\",IF('Marks Entry'!AS72=\"\",\"\",ROUNDUP(('Marks Entry'!AS72+'Marks Entry'!AT72)*30/100,0)))))","v":""},"",0,0,"","","","",{"$f":"IF('Marks Entry'!AU72=\"\",\"\",'Marks Entry'!AU72)","v":""},{"$f":"IF('Marks Entry'!AW72=\"\",\"\",'Marks Entry'!AW72)","v":""},{"$f":"IF('Marks Entry'!AX72=\"\",\"\",'Marks Entry'!AX72)","v":""},{"$f":"IF('Marks Entry'!AY72=\"\",\"\",'Marks Entry'!AY72)","v":""},"","",{"$f":"IF('Marks Entry'!AZ72=\"\",\"\",'Marks Entry'!AZ72)","v":""},{"$f":"IF('Marks Entry'!BA72=\"\",\"\",'Marks Entry'!BA72)","v":""},"","",{"$f":"IF(AND($B70=\"NSO\",$E70=\"\"),\"\",IF(AND('Marks Entry'!BB72=\"AB\",'Marks Entry'!BC72=\"AB\"),\"AB\",IF(AND('Marks Entry'!BB72=\"ML\",'Marks Entry'!BC72=\"ML\"),\"RE\",IF('Marks Entry'!BB72=\"\",\"\",ROUNDUP(('Marks Entry'!BB72+'Marks Entry'!BC72)*30/100,0)))))","v":""},"",0,0,"","","","",0,"","","","","","",0,0,0,0,0,"",{"$f":"IF('Marks Entry'!BD72=\"\",\"\",'Marks Entry'!BD72)","v":""},{"$f":"IF('Marks Entry'!BE72=\"\",\"\",'Marks Entry'!BE72)","v":""},{"$f":"IF('Marks Entry'!BF72=\"\",\"\",'Marks Entry'!BF72)","v":""},"","","","","","","","","","","","","","","","","","","","","","","","","","",{"$f":"IF('Student DATA Entry'!I67=\"\",\"\",'Student DATA Entry'!I67)","v":""},{"$f":"IF('Student DATA Entry'!J67=\"\",\"\",'Student DATA Entry'!J67)","v":""},"      ","      ","      ","              "," ","","","","",""]
[66,{"$f":"IF('Marks Entry'!B73=\"\",\"\",VALUE('Marks Entry'!B73))","v":""},{"$f":"IF('Marks Entry'!C73=\"\",\"\",'Marks Entry'!C73)","v":""},{"$f":"IF('Marks Entry'!D73=\"\",\"\",'Marks Entry'!D73)","v":""},{"$f":"IF('Marks Entry'!E73=\"\",\"\",'Marks Entry'!E73)","v":""},{"$f":"IF('Marks Entry'!F73=\"\",\"\",'Marks Entry'!F73)","v":""},{"$f":"IF('Marks Entry'!G73=\"\",\"\",'Marks Entry'!G73)","v":""},{"$f":"IF('Marks Entry'!H73=\"\",\"\",'Marks Entry'!H73)","v":""},{"$f":"IF('Marks Entry'!I73=\"\",\"\",'Marks Entry'!I73)","v":""},{"$f":"IF('Marks Entry'!J73=\"\",\"\",'Marks Entry'!J73)","v":""},{"$f":"IF('Marks Entry'!K73=\"\",\"\",'Marks Entry'!K73)","v":""},{"$f":"IF('Marks Entry'!L73=\"\",\"\",'Marks Entry'!L73)","v":""},{"$f":"IF(AND(J71=\"\",K71=\"\",L71=\"\"),\"\",SUM(J71:L71))","v":""},{"$f":"IF(AND($B71=\"NSO\",$E71=\"\"),\"\",IF(AND(M71=\"AB\"),\"AB\",IF(AND(M71=\"ML\"),\"RE\",IF(AND(M71=\"\"),\"\",ROUNDUP(M71*20/30,0)))))","v":""},{"$f":"IF('Marks Entry'!M73=\"\",\"\",'Marks Entry'!M73)","v":""},{"$f":"IF(AND($B71=\"NSO\",$E71=\"\",O71=\"\"),\"\",IF(AND(O71=\"AB\"),\"AB\",IF(AND(O71=\"ML\"),\"RE\",IF(AND(O71=\"\"),\"\",ROUNDUP(O71*50/70,0)))))","v":""},{"$f":"IF(AND($B71=\"NSO\",$E71=\"\",O71=\"\"),\"\",IF(AND('Marks Entry'!N73=\"AB\"),\"AB\",IF(AND('Marks Entry'!N73=\"ML\"),\"RE\",IF('Marks Entry'!N73=\"\",\"\",ROUNDUP('Marks Entry'!N73*30/100,0)))))","v":""},{"$f":"IF(AND(N71=\"\",P71=\"\",Q71=\"\"),\"\",SUM(N71,P71,Q71))","v":""},{"$f":"COUNTIF(J71:L71,\"NA\")*10","v":0},{"$f":"(COUNTIF(J71:L71,\"ML\")*10)+(COUNTIF(O71,\"ML\")*70)+(COUNTIF(Q71,\"ML\")*100)","v":0},{"$f":"IF(AND($B71=\"NSO\"),\"nso\",IF(AND(J71=\"\",K71=\"\",L71=\"\",O71=\"\",Q71=\"\"),\"\",IF(AND(K71=\"\",L71=\"\",O71=\"\",Q71=\"\"),10-S71-T71,IF(AND(L71=\"\",O71=\"\",Q71=\"\"),20-S71-T71,IF(AND(L71=\"\",Q71=\"\"),90-S71-T71,IF(Q71=\"\",100-S71-T71,100-S71-T71))))))","v":""},{"$f":"IF(AND(OR(J71=\"ab\",J71=\"ml\"),OR(K71=\"ab\",K71=\"ml\"),OR(L71=\"ab\",L71=\"ml\")),\"AB\",IF(AND(OR(J71=\"ab\",J71=\"ml\"),OR(K71=\"ab\",K71=\"ml\"),OR(O71=\"ab\",O71=\"ml\")),\"AB\",IF(AND(OR(J71=\"ab\",J71=\"ml\"),OR(O71=\"ab\",O71=\"ml\"),OR(L71=\"ab\",L71=\"ml\")),\"AB\",IF(AND(OR(O71=\"ab\",O71=\"ml\"),OR(K71=\"ab\",K71=\"ml\"),OR(L71=\"ab\",L71=\"ml\")),\"AB\",\"\"))))","v":""},{"$f":"IF(OR($B71=\"NSO\",$E71=\"\",Q71=\"\"),\"\",IF(AND(P71=\"AB\",Q71=\"ab\"),\"AB\",IF(Q71=\"ML\",\"RE\",IF(AND(R71>=36%*U71),\"P\",IF(AND(R71>=34%*U71,T71=0),\"G2\",IF(AND(R71>=31%*U71,T71=0),\"G1\",IF(R71<=30%*U71,\"F\",\"\")))))))","v":""},{"$f":"IF(OR(W71=\"\",W71=0,W71=\"S\",W71=\"RE\",W71=\"AB\"),W71,IF(R71>=75%*U71,\"D\",IF(R71>=60%*U71,\"I\",IF(R71>=48%*U71,\"II\",IF(R71>=36%*U71,\"III\",IF(R71>=0%*U71,\"P\",W71))))))","v":""},{"$f":"IF('Marks Entry'!O73=\"\",\"\",'Marks Entry'!O73)","v":""},{"$f":"IF('Marks Entry'!P73=\"\",\"\",'Marks Entry'!P73)","v":""},{"$f":"IF('Marks Entry'!Q73=\"\",\"\",'Marks Entry'!Q73)","v":""},{"$f":"IF(AND(Y71=\"\",Z71=\"\",AA71=\"\"),\"\",SUM(Y71:AA71))","v":""},{"$f":"IF(AND($B71=\"NSO\",$E71=\"\",AB71=\"\"),\"\",IF(AND(AB71=\"AB\"),\"AB\",IF(AND(AB71=\"ML\"),\"RE\",IF(AND(AB71=\"\"),\"\",ROUNDUP(AB71*20/30,0)))))","v":""},{"$f":"IF('Marks Entry'!R73=\"\",\"\",'Marks Entry'!R73)","v":""},{"$f":"IF(AND($B71=\"NSO\",$E71=\"\",AD71=\"\"),\"\",IF(AND(AD71=\"AB\"),\"AB\",IF(AND(AD71=\"ML\"),\"RE\",IF(AND(AD71=\"\"),\"\",ROUNDUP(AD71*50/70,0)))))","v":""},{"$f":"IF(AND($B71=\"NSO\",$E71=\"\"),\"\",IF(AND('Marks Entry'!S73=\"AB\"),\"AB\",IF(AND('Marks Entry'!S73=\"ML\"),\"RE\",IF('Marks Entry'!S73=\"\",\"\",ROUNDUP('Marks Entry'!S73*30/100,0)))))","v":""},{"$f":"IF(AND(AC71=\"\",AE71=\"\",AF71=\"\"),\"\",SUM(AC71,AE71,AF71))","v":""},{"$f":"COUNTIF(Y71:AA71,\"NA\")*10","v":0},{"$f":"(COUNTIF(Y71:AA71,\"ML\")*10)+(COUNTIF(AD71,\"ML\")*70)+(COUNTIF(AF71,\"ML\")*100)","v":0},{"$f":"IF(AND($B71=\"NSO\"),\"nso\",IF(AND(Y71=\"\",Z71=\"\",AA71=\"\",AD71=\"\",AF71=\"\"),\"\",IF(AND(Z71=\"\",AA71=\"\",AD71=\"\",AF71=\"\"),10-AH71-AI71,IF(AND(AA71=\"\",AD71=\"\",AF71=\"\"),20-AH71-AI71,IF(AND(AA71=\"\",AF71=\"\"),90-AH71-AI71,IF(AF71=\"\",100-AH71-AI71,100-AH71-AI71))))))","v":""},{"$f":"IF(AND(OR(Y71=\"ab\",Y71=\"ml\"),OR(Z71=\"ab\",Z71=\"ml\"),OR(AA71=\"ab\",AA71=\"ml\")),\"AB\",IF(AND(OR(Y71=\"ab\",Y71=\"ml\"),OR(Z71=\"ab\",Z71=\"ml\"),OR(AD71=\"ab\",AD71=\"ml\")),\"AB\",IF(AND(OR(Y71=\"ab\",Y71=\"ml\"),OR(AD71=\"ab\",AD71=\"ml\"),OR(AA71=\"ab\",AA71=\"ml\")),\"AB\",IF(AND(OR(AD71=\"ab\",AD71=\"ml\"),OR(Z71=\"ab\",Z71=\"ml\"),OR(AA71=\"ab\",AA71=\"ml\")),\"AB\",\"\"))))","v":""},{"$f":"IF(OR($B71=\"NSO\",$E71=\"\",AF71=\"\"),\"\",IF(AND(AE71=\"AB\",AF71=\"ab\"),\"AB\",IF(AF71=\"ML\",\"RE\",IF(AND(AG71>=36%*AJ71),\"P\",IF(AND(AG71>=34%*AJ71,AI71=0),\"G2\",IF(AND(AG71>=31%*AJ71,AI71=0),\"G1\",IF(AG71<=30%*AJ71,\"F\",\"\")))))))","v":""},{"$f":"IF(OR(AL71=\"\",AL71=0,AL71=\"S\",AL71=\"RE\",AL71=\"AB\"),AL71,IF(AG71>=75%*AJ71,\"D\",IF(AG71>=60%*AJ71,\"I\",IF(AG71>=48%*AJ71,\"II\",IF(AG71>=36%*AJ71,\"III\",IF(AG71>=0%*AJ71,\"P\",AL71))))))","v":""},{"$f":"IF('Marks Entry'!T73=\"\",\"\",'Marks Entry'!T73)","v":""},{"$f":"IF('Marks Entry'!V73=\"\",\"\",'Marks Entry'!V73)","v":""},{"$f":"IF('Marks Entry'!W73=\"\",\"\",'Marks Entry'!W73)","v":""},{"$f":"IF('Marks Entry'!X73=\"\",\"\",'Marks Entry'!X73)","v":""},{"$f":"IF(AND(AO71=\"\",AP71=\"\",AQ71=\"\"),\"\",SUM(AO71:AQ71))","v":""},{"$f":"IF(AND($B71=\"NSO\",$E71=\"\",AR71=\"\"),\"\",IF(AND(AR71=\"AB\"),\"AB\",IF(AND(AR71=\"ML\"),\"RE\",IF(AND(AR71=\"\"),\"\",ROUNDUP(AR71*20/30,0)))))","v":""},{"$f":"IF('Marks Entry'!Y73=\"\",\"\",'Marks Entry'!Y73)","v":""},{"$f":"IF('Marks Entry'!Z73=\"\",\"\",'Marks Entry'!Z73)","v":""},{"$f":"IF(AND(AT71=\"\",AU71=\"\"),\"\",IF(AND(AT71=\"AB\",AU71=\"AB\"),\"AB\",IF(AND(AT71=\"ML\",AU71=\"ML\"),\"RE\",SUM(AT71,AU71))))","v":""},{"$f":"IF(AND($B71=\"NSO\",$E71=\"\",AV71=\"\"),\"\",IF(AND(AV71=\"AB\"),\"AB\",IF(AND(AV71=\"ML\"),\"RE\",IF(AND(AV71=\"\"),\"\",ROUNDUP(AV71*50/70,0)))))","v":""},{"$f":"IF(AND($B71=\"NSO\",$E71=\"\"),\"\",IF(AND('Marks Entry'!AA73=\"AB\",'Marks Entry'!AB73=\"AB\"),\"AB\",IF(AND('Marks Entry'!AA73=\"ML\",'Marks Entry'!AB73=\"ML\"),\"RE\",IF('Marks Entry'!AA73=\"\",\"\",ROUNDUP(('Marks Entry'!AA73+'Marks Entry'!AB73)*30/100,0)))))","v":""},{"$f":"IF(AND(AS71=\"\",AW71=\"\",AX71=\"\"),\"\",SUM(AS71,AW71,AX71))","v":""},{"$f":"COUNTIF(AO71:AQ71,\"NA\")*10","v":0},{"$f":"(COUNTIF(AO71:AQ71,\"ML\")*10)+(COUNTIF(AT71,\"ML\")*70)+(COUNTIF(AX71,\"ML\")*100)","v":0},{"$f":"IF(OR($B71=\"NSO\",$B71=0),\"\",IF(AND(AO71=\"\",AP71=\"\",AQ71=\"\",AT71=\"\",AX71=\"\"),\"\",IF(AND(AP71=\"\",AQ71=\"\",AT71=\"\",AX71=\"\"),10-AZ71-BA71,IF(AND(AQ71=\"\",AT71=\"\",AX71=\"\"),20-AZ71-BA71,IF(AND(AQ71=\"\",AX71=\"\"),90-AZ71-BA71,IF(AX71=\"\",100-AZ71-BA71,100-AZ71-BA71))))))","v":""},{"$f":"IF(AND(OR(AO71=\"ab\",AO71=\"ml\"),OR(AP71=\"ab\",AP71=\"ml\"),OR(AQ71=\"ab\",AQ71=\"ml\")),\"AB\",IF(AND(OR(AO71=\"ab\",AO71=\"ml\"),OR(AP71=\"ab\",AP71=\"ml\"),OR(AT71=\"ab\",AT71=\"ml\")),\"AB\",IF(AND(OR(AO71=\"ab\",AO71=\"ml\"),OR(AT71=\"ab\",AT71=\"ml\"),OR(AQ71=\"ab\",AQ71=\"ml\")),\"AB\",IF(AND(OR(AT71=\"ab\",AT71=\"ml\"),OR(AP71=\"ab\",AP71=\"ml\"),OR(AQ71=\"ab\",AQ71=\"ml\")),\"AB\",\"\"))))","v":""},{"$f":"IF(OR($B71=\"NSO\",$E71=\"\",AX71=\"\"),\"\",IF(AND(AW71=\"AB\",AX71=\"ab\"),\"AB\",IF(AX71=\"ML\",\"RE\",IF(AND(AY71>=36%*BB71),\"P\",IF(AND(AY71>=34%*BB71,BA71=0),\"G2\",IF(AND(AY71>=31%*BB71,BA71=0),\"G1\",IF(AY71<=30%*BB71,\"F\",\"\")))))))","v":""},{"$f":"IF(OR(BD71=\"\",BD71=0,BD71=\"S\",BD71=\"RE\",BD71=\"AB\"),BD71,IF(AY71>=75%*BB71,\"D\",IF(AY71>=60%*BB71,\"I\",IF(AY71>=48%*BB71,\"II\",IF(AY71>=36%*BB71,\"III\",IF(AY71>=0%*BB71,\"P\",BD71))))))","v":""},{"$f":"IF('Marks Entry'!AC73=\"\",\"\",'Marks Entry'!AC73)","v":""},{"$f":"IF('Marks Entry'!AE73=\"\",\"\",'Marks Entry'!AE73)","v":""},{"$f":"IF('Marks Entry'!AF73=\"\",\"\",'Marks Entry'!AF73)","v":""},{"$f":"IF('Marks Entry'!AG73=\"\",\"\",'Marks Entry'!AG73)","v":""},{"$f":"IF(AND(BG71=\"\",BH71=\"\",BI71=\"\"),\"\",SUM(BG71:BI71))","v":""},{"$f":"IF(AND($E71=\"NSO\",$E71=\"\",BJ71=\"\"),\"\",IF(AND(BJ71=\"AB\"),\"AB\",IF(AND(BJ71=\"ML\"),\"RE\",IF(AND(BJ71=\"\"),\"\",ROUNDUP(BJ71*20/30,0)))))","v":""},{"$f":"IF('Marks Entry'!AH73=\"\",\"\",'Marks Entry'!AH73)","v":""},{"$f":"IF('Marks Entry'!AI73=\"\",\"\",'Marks Entry'!AI73)","v":""},{"$f":"IF(AND(BL71=\"\",BM71=\"\"),\"\",IF(AND(BL71=\"AB\",BM71=\"AB\"),\"AB\",IF(AND(BL71=\"ML\",BM71=\"ML\"),\"RE\",SUM(BL71,BM71))))","v":""},{"$f":"IF(AND($E71=\"NSO\",$E71=\"\",BN71=\"\"),\"\",IF(AND(BN71=\"AB\"),\"AB\",IF(AND(BN71=\"ML\"),\"RE\",IF(AND(BN71=\"\"),\"\",ROUNDUP(BN71*50/70,0)))))","v":""},{"$f":"IF(AND($B71=\"NSO\",$E71=\"\"),\"\",IF(AND('Marks Entry'!AJ73=\"AB\",'Marks Entry'!AK73=\"AB\"),\"AB\",IF(AND('Marks Entry'!AJ73=\"ML\",'Marks Entry'!AK73=\"ML\"),\"RE\",IF('Marks Entry'!AJ73=\"\",\"\",ROUNDUP(('Marks Entry'!AJ73+'Marks Entry'!AK73)*30/100,0)))))","v":""},{"$f":"IF(AND(BK71=\"\",BO71=\"\",BP71=\"\"),\"\",SUM(BK71,BO71,BP71))","v":""},{"$f":"COUNTIF(BG71:BI71,\"NA\")*10","v":0},{"$f":"(COUNTIF(BG71:BI71,\"ML\")*10)+(COUNTIF(BL71,\"ML\")*70)+(COUNTIF(BP71,\"ML\")*100)","v":0},{"$f":"IF(OR($B71=\"NSO\",$B71=0),\"\",IF(AND(BG71=\"\",BH71=\"\",BI71=\"\",BL71=\"\",BP71=\"\"),\"\",IF(AND(BH71=\"\",BI71=\"\",BL71=\"\",BP71=\"\"),10-BR71-BS71,IF(AND(BI71=\"\",BL71=\"\",BP71=\"\"),20-BR71-BS71,IF(AND(BI71=\"\",BP71=\"\"),90-BR71-BS71,IF(BP71=\"\",100-BR71-BS71,100-BR71-BS71))))))","v":""},{"$f":"IF(AND(OR(BG71=\"ab\",BG71=\"ml\"),OR(BH71=\"ab\",BH71=\"ml\"),OR(BI71=\"ab\",BI71=\"ml\")),\"AB\",IF(AND(OR(BG71=\"ab\",BG71=\"ml\"),OR(BH71=\"ab\",BH71=\"ml\"),OR(BL71=\"ab\",BL71=\"ml\")),\"AB\",IF(AND(OR(BG71=\"ab\",BG71=\"ml\"),OR(BL71=\"ab\",BL71=\"ml\"),OR(BI71=\"ab\",BI71=\"ml\")),\"AB\",IF(AND(OR(BL71=\"ab\",BL71=\"ml\"),OR(BH71=\"ab\",BH71=\"ml\"),OR(BI71=\"ab\",BI71=\"ml\")),\"AB\",\"\"))))","v":""},{"$f":"IF(OR($B71=\"NSO\",$E71=\"\",BP71=\"\"),\"\",IF(AND(BO71=\"AB\",BP71=\"ab\"),\"AB\",IF(BP71=\"ML\",\"RE\",IF(AND(BQ71>=36%*BT71),\"P\",IF(AND(BQ71>=34%*BT71,BS71=0),\"G2\",IF(AND(BQ71>=31%*BT71,BS71=0),\"G1\",IF(BQ71<=30%*BT71,\"F\",\"\")))))))","v":""},{"$f":"IF(OR(BV71=\"\",BV71=0,BV71=\"S\",BV71=\"RE\",BV71=\"AB\"),BV71,IF(BQ71>=75%*BT71,\"D\",IF(BQ71>=60%*BT71,\"I\",IF(BQ71>=48%*BT71,\"II\",IF(BQ71>=36%*BT71,\"III\",IF(BQ71>=0%*BT71,\"P\",BV71))))))","v":""},{"$f":"IF('Marks Entry'!AL73=\"\",\"\",'Marks Entry'!AL73)","v":""},{"$f":"IF('Marks Entry'!AN73=\"\",\"\",'Marks Entry'!AN73)","v":""},{"$f":"IF('Marks Entry'!AO73=\"\",\"\",'Marks Entry'!AO73)","v":""},{"$f":"IF('Marks Entry'!AP73=\"\",\"\",'Marks Entry'!AP73)","v":""},{"$f":"IF(AND(BY71=\"\",BZ71=\"\",CA71=\"\"),\"\",SUM(BY71:CA71))","v":""},{"$f":"IF(AND($E71=\"NSO\",$E71=\"\",CB71=\"\"),\"\",IF(AND(CB71=\"AB\"),\"AB\",IF(AND(CB71=\"ML\"),\"RE\",IF(AND(CB71=\"\"),\"\",ROUNDUP(CB71*20/30,0)))))","v":""},{"$f":"IF('Marks Entry'!AQ73=\"\",\"\",'Marks Entry'!AQ73)","v":""},{"$f":"IF('Marks Entry'!AR73=\"\",\"\",'Marks Entry'!AR73)","v":""},{"$f":"IF(AND(CD71=\"\",CE71=\"\"),\"\",IF(AND(CD71=\"AB\",CE71=\"AB\"),\"AB\",IF(AND(CD71=\"ML\",CE71=\"ML\"),\"RE\",SUM(CD71,CE71))))","v":""},{"$f":"IF(AND($E71=\"NSO\",$E71=\"\",CF71=\"\"),\"\",IF(AND(CF71=\"AB\"),\"AB\",IF(AND(CF71=\"ML\"),\"RE\",IF(AND(CF71=\"\"),\"\",ROUNDUP(CF71*50/70,0)))))","v":""},{"$f":"IF(AND($B71=\"NSO\",$E71=\"\"),\"\",IF(AND('Marks Entry'!AS73=\"AB\",'Marks Entry'!AT73=\"AB\"),\"AB\",IF(AND('Marks Entry'!AS73=\"ML\",'Marks Entry'!AT73=\"ML\"),\"RE\",IF('Marks Entry'!AS73=\"\",\"\",ROUNDUP(('Marks Entry'!AS73+'Marks Entry'!AT73)*30/100,0)))))","v":""},{"$f":"IF(AND(CC71=\"\",CG71=\"\",CH71=\"\"),\"\",SUM(CC71,CG71,CH71))","v":""},{"$f":"COUNTIF(BY71:CA71,\"NA\")*10","v":0},{"$f":"(COUNTIF(BY71:CA71,\"ML\")*10)+(COUNTIF(CD71,\"ML\")*70)+(COUNTIF(CH71,\"ML\")*100)","v":0},{"$f":"IF(OR($B71=\"NSO\",$B71=0),\"\",IF(AND(BY71=\"\",BZ71=\"\",CA71=\"\",CD71=\"\",CH71=\"\"),\"\",IF(AND(BZ71=\"\",CA71=\"\",CD71=\"\",CH71=\"\"),10-CJ71-CK71,IF(AND(CA71=\"\",CD71=\"\",CH71=\"\"),20-CJ71-CK71,IF(AND(CA71=\"\",CH71=\"\"),90-CJ71-CK71,IF(CH71=\"\",100-CJ71-CK71,100-CJ71-CK71))))))","v":""},{"$f":"IF(AND(OR(BY71=\"ab\",BY71=\"ml\"),OR(BZ71=\"ab\",BZ71=\"ml\"),OR(CA71=\"ab\",CA71=\"ml\")),\"AB\",IF(AND(OR(BY71=\"ab\",BY71=\"ml\"),OR(BZ71=\"ab\",BZ71=\"ml\"),OR(CD71=\"ab\",CD71=\"ml\")),\"AB\",IF(AND(OR(BY71=\"ab\",BY71=\"ml\"),OR(CD71=\"ab\",CD71=\"ml\"),OR(CA71=\"ab\",CA71=\"ml\")),\"AB\",IF(AND(OR(CD71=\"ab\",CD71=\"ml\"),OR(BZ71=\"ab\",BZ71=\"ml\"),OR(CA71=\"ab\",CA71=\"ml\")),\"AB\",\"\"))))","v":""},{"$f":"IF(OR($B71=\"NSO\",$E71=\"\",CH71=\"\"),\"\",IF(AND(CG71=\"AB\",CH71=\"ab\"),\"AB\",IF(CH71=\"ML\",\"RE\",IF(AND(CI71>=36%*CL71),\"P\",IF(AND(CI71>=34%*CL71,CK71=0),\"G2\",IF(AND(CI71>=31%*CL71,CK71=0),\"G1\",IF(CI71<=30%*CL71,\"F\",\"\")))))))","v":""},{"$f":"IF(OR(CN71=\"\",CN71=0,CN71=\"S\",CN71=\"RE\",CN71=\"AB\"),CN71,IF(CI71>=75%*CL71,\"D\",IF(CI71>=60%*CL71,\"I\",IF(CI71>=48%*CL71,\"II\",IF(CI71>=36%*CL71,\"III\",IF(CI71>=0%*CL71,\"P\",CN71))))))","v":""},{"$f":"IF('Marks Entry'!AU73=\"\",\"\",'Marks Entry'!AU73)","v":""},{"$f":"IF('Marks Entry'!AW73=\"\",\"\",'Marks Entry'!AW73)","v":""},{"$f":"IF('Marks Entry'!AX73=\"\",\"\",'Marks Entry'!AX73)","v":""},{"$f":"IF('Marks Entry'!AY73=\"\",\"\",'Marks Entry'!AY73)","v":""},{"$f":"IF(AND(CQ71=\"\",CR71=\"\",CS71=\"\"),\"\",SUM(CQ71:CS71))","v":""},{"$f":"IF(AND($E71=\"NSO\",$E71=\"\",CT71=\"\"),\"\",IF(AND(CT71=\"AB\"),\"AB\",IF(AND(CT71=\"ML\"),\"RE\",IF(AND(CT71=\"\"),\"\",ROUNDUP(CT71*20/30,0)))))","v":""},{"$f":"IF('Marks Entry'!AZ73=\"\",\"\",'Marks Entry'!AZ73)","v":""},{"$f":"IF('Marks Entry'!BA73=\"\",\"\",'Marks Entry'!BA73)","v":""},{"$f":"IF(AND(CV71=\"\",CW71=\"\"),\"\",IF(AND(CV71=\"AB\",CW71=\"AB\"),\"AB\",IF(AND(CV71=\"ML\",CW71=\"ML\"),\"RE\",SUM(CV71,CW71))))","v":""},{"$f":"IF(AND($E71=\"NSO\",$E71=\"\",CX71=\"\"),\"\",IF(AND(CX71=\"AB\"),\"AB\",IF(AND(CX71=\"ML\"),\"RE\",IF(AND(CX71=\"\"),\"\",ROUNDUP(CX71*50/70,0)))))","v":""},{"$f":"IF(AND($B71=\"NSO\",$E71=\"\"),\"\",IF(AND('Marks Entry'!BB73=\"AB\",'Marks Entry'!BC73=\"AB\"),\"AB\",IF(AND('Marks Entry'!BB73=\"ML\",'Marks Entry'!BC73=\"ML\"),\"RE\",IF('Marks Entry'!BB73=\"\",\"\",ROUNDUP(('Marks Entry'!BB73+'Marks Entry'!BC73)*30/100,0)))))","v":""},{"$f":"IF(AND(CU71=\"\",CY71=\"\",CZ71=\"\"),\"\",SUM(CU71,CY71,CZ71))","v":""},{"$f":"COUNTIF(CQ71:CS71,\"NA\")*10","v":0},{"$f":"(COUNTIF(CQ71:CS71,\"ML\")*10)+(COUNTIF(CV71,\"ML\")*70)+(COUNTIF(CZ71,\"ML\")*100)","v":0},{"$f":"IF(OR($B71=\"NSO\",$B71=0),\"\",IF(AND(CQ71=\"\",CR71=\"\",CS71=\"\",CV71=\"\",CZ71=\"\"),\"\",IF(AND(CR71=\"\",CS71=\"\",CV71=\"\",CZ71=\"\"),10-DB71-DC71,IF(AND(CS71=\"\",CV71=\"\",CZ71=\"\"),20-DB71-DC71,IF(AND(CS71=\"\",CZ71=\"\"),90-DB71-DC71,IF(CZ71=\"\",100-DB71-DC71,100-DB71-DC71))))))","v":""},{"$f":"IF(AND(OR(CQ71=\"ab\",CQ71=\"ml\"),OR(CR71=\"ab\",CR71=\"ml\"),OR(CS71=\"ab\",CS71=\"ml\")),\"AB\",IF(AND(OR(CQ71=\"ab\",CQ71=\"ml\"),OR(CR71=\"ab\",CR71=\"ml\"),OR(CV71=\"ab\",CV71=\"ml\")),\"AB\",IF(AND(OR(CQ71=\"ab\",CQ71=\"ml\"),OR(CV71=\"ab\",CV71=\"ml\"),OR(CS71=\"ab\",CS71=\"ml\")),\"AB\",IF(AND(OR(CV71=\"ab\",CV71=\"ml\"),OR(CR71=\"ab\",CR71=\"ml\"),OR(CS71=\"ab\",CS71=\"ml\")),\"AB\",\"\"))))","v":""},{"$f":"IF(OR($B71=\"NSO\",$E71=\"\",CZ71=\"\"),\"\",IF(AND(CY71=\"AB\",CZ71=\"ab\"),\"AB\",IF(CZ71=\"ML\",\"RE\",IF(AND(DA71>=36%*DD71),\"P\",IF(AND(DA71>=34%*DD71,DC71=0),\"G2\",IF(AND(DA71>=31%*DD71,DC71=0),\"G1\",IF(DA71<=30%*DD71,\"F\",\"\")))))))","v":""},{"$f":"IF(OR(DF71=\"\",DF71=0,DF71=\"S\",DF71=\"RE\",DF71=\"AB\"),DF71,IF(DA71>=75%*DD71,\"D\",IF(DA71>=60%*DD71,\"I\",IF(DA71>=48%*DD71,\"II\",IF(DA71>=36%*DD71,\"III\",IF(DA71>=0%*DD71,\"P\",DF71))))))","v":""},{"$f":"SUM(T71,S71,AH71,AI71,AZ71,BA71,BR71,BS71,CJ71,CK71,DB71,DC71)","v":0},{"$f":"X71","v":""},{"$f":"AM71","v":""},{"$f":"BE71","v":""},{"$f":"BW71","v":""},{"$f":"CO71","v":""},{"$f":"DG71","v":""},{"$f":"COUNTIF(DI71:DN71,\"F\")","v":0},{"$f":"COUNTIF(DI71:DN71,\"S\")","v":0},{"$f":"COUNTIF(DI71:DN71,\"G1\")","v":0},{"$f":"COUNTIF(DI71:DN71,\"G2\")","v":0},{"$f":"COUNTIF(DI71:DN71,\"RE\")+COUNTIF(DI71:DN71,\"REP\")+COUNTIF(DI71:DN71,\"AB\")","v":0},{"$f":"IF(B71=\"NSO\",\"NSO\",IF(OR(E71=\"\",E71=0,Q71=\"\",AF71=\"\",AX71=\"\",BP71=\"\",CH71=\"\"),\"\",IF(OR(DO71>0,(DP71+DQ71+DR71)>2),\"FAIL\",IF(DS71>0,\"RE-EXAM.\",IF(OR(DP71>0,DQ71>1),\"RE-EXAM.\",IF(AND(DQ71>0,DR71>0),\"SUPPL.\",IF((DQ71+DR71)>0,\"PASS BY GRACE\",\"PASS\")))))))","v":""},{"$f":"IF('Marks Entry'!BD73=\"\",\"\",'Marks Entry'!BD73)","v":""},{"$f":"IF('Marks Entry'!BE73=\"\",\"\",'Marks Entry'!BE73)","v":""},{"$f":"IF('Marks Entry'!BF73=\"\",\"\",'Marks Entry'!BF73)","v":""},{"$f":"IF(AND(DU71=\"\",DV71=\"\",DW71=\"\"),\"\",SUM(DU71:DW71))","v":""},{"$f":"IF(AND(DT71=\"FAIL\",(OR(DI71=\"G1\",DI71=\"G2\",DI71=\"S\",DI71=\"RE\"))),\"F\",IF(AND(DT71=\"RE-EXAM.\",(OR(DI71=\"G1\",DI71=\"G2\",DI71=\"S\"))),\"S\",IF(AND(DT71=\"SUPPL.\",(OR(DI71=\"G1\",DI71=\"G2\"))),\"S\",IF(AND(DT71=\"PASS BY GRACE\",(OR(DI71=\"G1\",DI71=\"G2\"))),\"G\",DI71))))","v":""},{"$f":"IF(DY71=\"G\",ROUNDUP(36%*U71-R71,0),\"\")","v":""},{"$f":"IF(AND(DT71=\"FAIL\",(OR(DJ71=\"G1\",DJ71=\"G2\",DJ71=\"S\",DJ71=\"RE\"))),\"F\",IF(AND(DT71=\"RE-EXAM.\",(OR(DJ71=\"G1\",DJ71=\"G2\",DJ71=\"S\"))),\"S\",IF(AND(DT71=\"SUPPL.\",(OR(DJ71=\"G1\",DJ71=\"G2\"))),\"S\",IF(AND(DT71=\"PASS BY GRACE\",(OR(DJ71=\"G1\",DJ71=\"G2\"))),\"G\",DJ71))))","v":""},{"$f":"IF(EA71=\"G\",ROUNDUP(36%*AK71-AH71,0),\"\")","v":""},{"$f":"IF(AND(DT71=\"FAIL\",(OR(DK71=\"G1\",DK71=\"G2\",DK71=\"S\",DK71=\"RE\"))),\"F\",IF(AND(DT71=\"RE-EXAM.\",(OR(DK71=\"G1\",DK71=\"G2\",DK71=\"S\"))),\"S\",IF(AND(DT71=\"SUPPL.\",(OR(DK71=\"G1\",DK71=\"G2\"))),\"S\",IF(AND(DT71=\"PASS BY GRACE\",(OR(DK71=\"G1\",DK71=\"G2\"))),\"G\",DK71))))","v":""},{"$f":"IF(AN71=1,EC71,\"\")","v":""},{"$f":"IF(AN71=2,EC71,\"\")","v":""},{"$f":"IF(AN71=3,EC71,\"\")","v":""},{"$f":"IF(EC71=\"G\",ROUNDUP(36%*AO71-AK71,0),\"\")","v":""},{"$f":"IF(AND(DT71=\"FAIL\",(OR(DL71=\"G1\",DL71=\"G2\",DL71=\"S\",DL71=\"RE\"))),\"F\",IF(AND(DT71=\"RE-EXAM.\",(OR(DL71=\"G1\",DL71=\"G2\",DL71=\"S\"))),\"S\",IF(AND(DT71=\"SUPPL.\",(OR(DL71=\"G1\",DL71=\"G2\"))),\"S\",IF(AND(DT71=\"PASS BY GRACE\",(OR(DL71=\"G1\",DL71=\"G2\"))),\"G\",DL71))))","v":""},{"$f":"IF(BF71=1,EH71,\"\")","v":""},{"$f":"IF(BF71=2,EH71,\"\")","v":""},{"$f":"IF(BF71=3,EH71,\"\")","v":""},{"$f":"IF(EH71=\"G\",ROUNDUP(36%*AR71-AO71,0),\"\")","v":""},{"$f":"IF(AND(DT71=\"FAIL\",(OR(DM71=\"G1\",DM71=\"G2\",DM71=\"S\",DM71=\"RE\"))),\"F\",IF(AND(DT71=\"RE-EXAM.\",(OR(DM71=\"G1\",DM71=\"G2\",DM71=\"S\"))),\"S\",IF(AND(DT71=\"SUPPL.\",(OR(DM71=\"G1\",DM71=\"G2\"))),\"S\",IF(AND(DT71=\"PASS BY GRACE\",(OR(DM71=\"G1\",DM71=\"G2\"))),\"G\",DM71))))","v":""},{"$f":"IF(BX71=1,EM71,\"\")","v":""},{"$f":"IF(BX71=2,EM71,\"\")","v":""},{"$f":"IF(BX71=3,EM71,\"\")","v":""},{"$f":"IF(EM71=\"G\",ROUNDUP(36%*AW71-AR71,0),\"\")","v":""},{"$f":"IF(AND(DT71=\"FAIL\",(OR(DN71=\"G1\",DN71=\"G2\",DN71=\"S\",DN71=\"RE\"))),\"F\",IF(AND(DT71=\"RE-EXAM.\",(OR(DN71=\"G1\",DN71=\"G2\",DN71=\"S\"))),\"S\",IF(AND(DT71=\"SUPPL.\",(OR(DN71=\"G1\",DN71=\"G2\"))),\"S\",IF(AND(DT71=\"PASS BY GRACE\",(OR(DN71=\"G1\",DN71=\"G2\"))),\"G\",DN71))))","v":""},{"$f":"IF(CP71=1,ER71,\"\")","v":""},{"$f":"IF(CP71=2,ER71,\"\")","v":""},{"$f":"IF(CP71=3,ER71,\"\")","v":""},{"$f":"IF(ER71=\"G\",ROUNDUP(36%*AZ71-AW71,0),\"\")","v":""},{"$f":"IF(OR(DX71=\"\",DX71=0,DX71=\"S\",DX71=\"RE\",DX71=\"AB\"),\"\",IF(DX71>=75%*$DX$5,\"D\",IF(DX71>=60%*$DX$5,\"I\",IF(DX71>=48%*$DX$5,\"II\",IF(DX71>=36%*$DX$5,\"III\",IF(DX71>=0%*$DX$5,\"P\",\"\"))))))","v":""},{"$f":"IF('Student DATA Entry'!I68=\"\",\"\",'Student DATA Entry'!I68)","v":""},{"$f":"IF('Student DATA Entry'!J68=\"\",\"\",'Student DATA Entry'!J68)","v":""},{"$f":"CONCATENATE(IF(DY71=\"F\",$DY$4,\"\"),\" \",IF(EA71=\"F\",$EA$4,\"\"),\" \",IF(EC71=\"F\",$EC$4,\"\"),\" \",IF(EH71=\"F\",$EH$4,\"\"),\" \",IF(EM71=\"F\",$EM$4,\"\"),\" \",IF(ER71=\"F\",$ER$4,\"\"),\" \")","v":"      "},{"$f":"CONCATENATE(IF(DY71=\"S\",$DY$4,\"\"),\" \",IF(EA71=\"S\",$EA$4,\"\"),\" \",IF(EC71=\"S\",$EC$4,\"\"),\" \",IF(EH71=\"S\",$EH$4,\"\"),\" \",IF(EM71=\"S\",$EM$4,\"\"),\" \",IF(ER71=\"S\",$ER$4,\"\"),\" \")","v":"      "},{"$f":"CONCATENATE(IF(DY71=\"G\",$DY$4,\"\"),\" \",IF(EA71=\"G\",$EA$4,\"\"),\" \",IF(EC71=\"G\",$EC$4,\"\"),\" \",IF(EH71=\"G\",$EH$4,\"\"),\" \",IF(EM71=\"G\",$EM$4,\"\"),\" \",IF(ER71=\"G\",$ER$4,\"\"),\" \")","v":"      "},{"$f":"CONCATENATE(IF(DY71=\"D\",$DY$4,\"\"),\" \",IF(EA71=\"D\",$EA$4,\"\"),\" \",IF(ED71=\"D\",$ED$4,\"\"),\" \",IF(EE71=\"D\",$EE$4,\"\"),\" \",IF(EF71=\"D\",$EF$4,\"\"),\" \",IF(EI71=\"D\",$EI$4,\"\"),\" \",IF(EJ71=\"D\",$EJ$4,\"\"),\" \",IF(EK71=\"D\",$EK$4,\"\"),\" \",IF(EN71=\"D\",$EN$4,\"\"),\" \",IF(EO71=\"D\",$EO$4,\"\"),\" \",IF(EP71=\"D\",$EP$4,\"\"),\" \",IF(ET71=\"D\",$ET$4,\"\"),\" \",IF(EU71=\"D\",$EU$4,\"\"),\" \",IF(ES71=\"D\",$ES$4,\"\"),\" \")","v":"              "},{"$f":"IF(E71=\"\",\" \",IF(OR(B71=\"\",B71=\"NSO\"),\" \",\"Promoted to Class 12th\"))","v":" "},{"$f":"IF(AND(FD71=\"\"),\"\",IF(AND(R71=\"\",AG71=\"\",AY71=\"\",BQ71=\"\",CI71=\"\"),\"\",SUM(R71,AG71,AY71,BQ71,CI71)))","v":""},{"$f":"IF(FE71=\"\",\"\",FE71*100/($FE$5-DH71))","v":""},{"$f":"IF(B71=\"NSO\",\"NSO\",IF(FF71=\"\",\"\",IF(AND(FF71>=60,(FD71=\"Promoted to Class 12th\")),\"I\",IF(AND(FF71>=60,(FD71=\"Promoted to Class 12th\")),\"I\",IF(AND(FF71>=48,(FD71=\"Promoted to Class 12th\")),\"II\",IF(AND(FF71>=48,(FD71=\"Promoted to Class 12th\")),\"II\",IF(AND(FF71>=36,(FD71=\"Promoted to Class 12th\")),\"III\",IF(AND(FF71>=0,(FD71=\"Promoted to Class 12th\")),\"P\",\"\"))))))))","v":""},{"$f":"IF(FF71=\"\",\"\",SUMPRODUCT((FF71<FF$6:FF$105)/COUNTIF(FF$6:FF$105,FF$6:FF$105)))","v":""},{"$f":"IF(FG71=\"P\",\"Promoted\",\"\")","v":""}]
[67,{"$f":"IF('Marks Entry'!B74=\"\",\"\",VALUE('Marks Entry'!B74))","v":""},{"$f":"IF('Marks Entry'!C74=\"\",\"\",'Marks Entry'!C74)","v":""},{"$f":"IF('Marks Entry'!D74=\"\",\"\",'Marks Entry'!D74)","v":""},{"$f":"IF('Marks Entry'!E74=\"\",\"\",'Marks Entry'!E74)","v":""},{"$f":"IF('Marks Entry'!F74=\"\",\"\",'Marks Entry'!F74)","v":""},{"$f":"IF('Marks Entry'!G74=\"\",\"\",'Marks Entry'!G74)","v":""},{"$f":"IF('Marks Entry'!H74=\"\",\"\",'Marks Entry'!H74)","v":""},{"$f":"IF('Marks Entry'!I74=\"\",\"\",'Marks Entry'!I74)","v":""},{"$f":"IF('Marks Entry'!J74=\"\",\"\",'Marks Entry'!J74)","v":""},{"$f":"IF('Marks Entry'!K74=\"\",\"\",'Marks Entry'!K74)","v":""},{"$f":"IF('Marks Entry'!L74=\"\",\"\",'Marks Entry'!L74)","v":""},"","",{"$f":"IF('Marks Entry'!M74=\"\",\"\",'Marks Entry'!M74)","v":""},"",{"$f":"IF(AND($B72=\"NSO\",$E72=\"\",O72=\"\"),\"\",IF(AND('Marks Entry'!N74=\"AB\"),\"AB\",IF(AND('Marks Entry'!N74=\"ML\"),\"RE\",IF('Marks Entry'!N74=\"\",\"\",ROUNDUP('Marks Entry'!N74*30/100,0)))))","v":""},"",0,0,"","","","",{"$f":"IF('Marks Entry'!O74=\"\",\"\",'Marks Entry'!O74)","v":""},{"$f":"IF('Marks Entry'!P74=\"\",\"\",'Marks Entry'!P74)","v":""},{"$f":"IF('Marks Entry'!Q74=\"\",\"\",'Marks Entry'!Q74)","v":""},"","",{"$f":"IF('Marks Entry'!R74=\"\",\"\",'Marks Entry'!R74)","v":""},"",{"$f":"IF(AND($B72=\"NSO\",$E72=\"\"),\"\",IF(AND('Marks Entry'!S74=\"AB\"),\"AB\",IF(AND('Marks Entry'!S74=\"ML\"),\"RE\",IF('Marks Entry'!S74=\"\",\"\",ROUNDUP('Marks Entry'!S74*30/100,0)))))","v":""},"",0,0,"","","","",{"$f":"IF('Marks Entry'!T74=\"\",\"\",'Marks Entry'!T74)","v":""},{"$f":"IF('Marks Entry'!V74=\"\",\"\",'Marks Entry'!V74)","v":""},{"$f":"IF('Marks Entry'!W74=\"\",\"\",'Marks Entry'!W74)","v":""},{"$f":"IF('Marks Entry'!X74=\"\",\"\",'Marks Entry'!X74)","v":""},"","",{"$f":"IF('Marks Entry'!Y74=\"\",\"\",'Marks Entry'!Y74)","v":""},{"$f":"IF('Marks Entry'!Z74=\"\",\"\",'Marks Entry'!Z74)","v":""},"","",{"$f":"IF(AND($B72=\"NSO\",$E72=\"\"),\"\",IF(AND('Marks Entry'!AA74=\"AB\",'Marks Entry'!AB74=\"AB\"),\"AB\",IF(AND('Marks Entry'!AA74=\"ML\",'Marks Entry'!AB74=\"ML\"),\"RE\",IF('Marks Entry'!AA74=\"\",\"\",ROUNDUP(('Marks Entry'!AA74+'Marks Entry'!AB74)*30/100,0)))))","v":""},"",0,0,"","","","",{"$f":"IF('Marks Entry'!AC74=\"\",\"\",'Marks Entry'!AC74)","v":""},{"$f":"IF('Marks Entry'!AE74=\"\",\"\",'Marks Entry'!AE74)","v":""},{"$f":"IF('Marks Entry'!AF74=\"\",\"\",'Marks Entry'!AF74)","v":""},{"$f":"IF('Marks Entry'!AG74=\"\",\"\",'Marks Entry'!AG74)","v":""},"","",{"$f":"IF('Marks Entry'!AH74=\"\",\"\",'Marks Entry'!AH74)","v":""},{"$f":"IF('Marks Entry'!AI74=\"\",\"\",'Marks Entry'!AI74)","v":""},"","",{"$f":"IF(AND($B72=\"NSO\",$E72=\"\"),\"\",IF(AND('Marks Entry'!AJ74=\"AB\",'Marks Entry'!AK74=\"AB\"),\"AB\",IF(AND('Marks Entry'!AJ74=\"ML\",'Marks Entry'!AK74=\"ML\"),\"RE\",IF('Marks Entry'!AJ74=\"\",\"\",ROUNDUP(('Marks Entry'!AJ74+'Marks Entry'!AK74)*30/100,0)))))","v":""},"",0,0,"","","","",{"$f":"IF('Marks Entry'!AL74=\"\",\"\",'Marks Entry'!AL74)","v":""},{"$f":"IF('Marks Entry'!AN74=\"\",\"\",'Marks Entry'!AN74)","v":""},{"$f":"IF('Marks Entry'!AO74=\"\",\"\",'Marks Entry'!AO74)","v":""},{"$f":"IF('Marks Entry'!AP74=\"\",\"\",'Marks Entry'!AP74)","v":""},"","",{"$f":"IF('Marks Entry'!AQ74=\"\",\"\",'Marks Entry'!AQ74)","v":""},{"$f":"IF('Marks Entry'!AR74=\"\",\"\",'Marks Entry'!AR74)","v":""},"","",{"$f":"IF(AND($B72=\"NSO\",$E72=\"\"),\"\",IF(AND('Marks Entry'!AS74=\"AB\",'Marks Entry'!AT74=\"AB\"),\"AB\",IF(AND('Marks Entry'!AS74=\"ML\",'Marks Entry'!AT74=\"ML\"),\"RE\",IF('Marks Entry'!AS74=\"\",\"\",ROUNDUP(('Marks Entry'!AS74+'Marks Entry'!AT74)*30/100,0)))))","v":""},"",0,0,"","","","",{"$f":"IF('Marks Entry'!AU74=\"\",\"\",'Marks Entry'!AU74)","v":""},{"$f":"IF('Marks Entry'!AW74=\"\",\"\",'Marks Entry'!AW74)","v":""},{"$f":"IF('Marks Entry'!AX74=\"\",\"\",'Marks Entry'!AX74)","v":""},{"$f":"IF('Marks Entry'!AY74=\"\",\"\",'Marks Entry'!AY74)","v":""},"","",{"$f":"IF('Marks Entry'!AZ74=\"\",\"\",'Marks Entry'!AZ74)","v":""},{"$f":"IF('Marks Entry'!BA74=\"\",\"\",'Marks Entry'!BA74)","v":""},"","",{"$f":"IF(AND($B72=\"NSO\",$E72=\"\"),\"\",IF(AND('Marks Entry'!BB74=\"AB\",'Marks Entry'!BC74=\"AB\"),\"AB\",IF(AND('Marks Entry'!BB74=\"ML\",'Marks Entry'!BC74=\"ML\"),\"RE\",IF('Marks Entry'!BB74=\"\",\"\",ROUNDUP(('Marks Entry'!BB74+'Marks Entry'!BC74)*30/100,0)))))","v":""},"",0,0,"","","","",0,"","","","","","",0,0,0,0,0,"",{"$f":"IF('Marks Entry'!BD74=\"\",\"\",'Marks Entry'!BD74)","v":""},{"$f":"IF('Marks Entry'!BE74=\"\",\"\",'Marks Entry'!BE74)","v":""},{"$f":"IF('Marks Entry'!BF74=\"\",\"\",'Marks Entry'!BF74)","v":""},"","","","","","","","","","","","","","","","","","","","","","","","","","",{"$f":"IF('Student DATA Entry'!I69=\"\",\"\",'Student DATA Entry'!I69)","v":""},{"$f":"IF('Student DATA Entry'!J69=\"\",\"\",'Student DATA Entry'!J69)","v":""},"      ","      ","      ","              "," ","","","","",""]
[68,{"$f":"IF('Marks Entry'!B75=\"\",\"\",VALUE('Marks Entry'!B75))","v":""},{"$f":"IF('Marks Entry'!C75=\"\",\"\",'Marks Entry'!C75)","v":""},{"$f":"IF('Marks Entry'!D75=\"\",\"\",'Marks Entry'!D75)","v":""},{"$f":"IF('Marks Entry'!E75=\"\",\"\",'Marks Entry'!E75)","v":""},{"$f":"IF('Marks Entry'!F75=\"\",\"\",'Marks Entry'!F75)","v":""},{"$f":"IF('Marks Entry'!G75=\"\",\"\",'Marks Entry'!G75)","v":""},{"$f":"IF('Marks Entry'!H75=\"\",\"\",'Marks Entry'!H75)","v":""},{"$f":"IF('Marks Entry'!I75=\"\",\"\",'Marks Entry'!I75)","v":""},{"$f":"IF('Marks Entry'!J75=\"\",\"\",'Marks Entry'!J75)","v":""},{"$f":"IF('Marks Entry'!K75=\"\",\"\",'Marks Entry'!K75)","v":""},{"$f":"IF('Marks Entry'!L75=\"\",\"\",'Marks Entry'!L75)","v":""},"","",{"$f":"IF('Marks Entry'!M75=\"\",\"\",'Marks Entry'!M75)","v":""},"",{"$f":"IF(AND($B73=\"NSO\",$E73=\"\",O73=\"\"),\"\",IF(AND('Marks Entry'!N75=\"AB\"),\"AB\",IF(AND('Marks Entry'!N75=\"ML\"),\"RE\",IF('Marks Entry'!N75=\"\",\"\",ROUNDUP('Marks Entry'!N75*30/100,0)))))","v":""},"",0,0,"","","","",{"$f":"IF('Marks Entry'!O75=\"\",\"\",'Marks Entry'!O75)","v":""},{"$f":"IF('Marks Entry'!P75=\"\",\"\",'Marks Entry'!P75)","v":""},{"$f":"IF('Marks Entry'!Q75=\"\",\"\",'Marks Entry'!Q75)","v":""},"","",{"$f":"IF('Marks Entry'!R75=\"\",\"\",'Marks Entry'!R75)","v":""},"",{"$f":"IF(AND($B73=\"NSO\",$E73=\"\"),\"\",IF(AND('Marks Entry'!S75=\"AB\"),\"AB\",IF(AND('Marks Entry'!S75=\"ML\"),\"RE\",IF('Marks Entry'!S75=\"\",\"\",ROUNDUP('Marks Entry'!S75*30/100,0)))))","v":""},"",0,0,"","","","",{"$f":"IF('Marks Entry'!T75=\"\",\"\",'Marks Entry'!T75)","v":""},{"$f":"IF('Marks Entry'!V75=\"\",\"\",'Marks Entry'!V75)","v":""},{"$f":"IF('Marks Entry'!W75=\"\",\"\",'Marks Entry'!W75)","v":""},{"$f":"IF('Marks Entry'!X75=\"\",\"\",'Marks Entry'!X75)","v":""},"","",{"$f":"IF('Marks Entry'!Y75=\"\",\"\",'Marks Entry'!Y75)","v":""},{"$f":"IF('Marks Entry'!Z75=\"\",\"\",'Marks Entry'!Z75)","v":""},"","",{"$f":"IF(AND($B73=\"NSO\",$E73=\"\"),\"\",IF(AND('Marks Entry'!AA75=\"AB\",'Marks Entry'!AB75=\"AB\"),\"AB\",IF(AND('Marks Entry'!AA75=\"ML\",'Marks Entry'!AB75=\"ML\"),\"RE\",IF('Marks Entry'!AA75=\"\",\"\",ROUNDUP(('Marks Entry'!AA75+'Marks Entry'!AB75)*30/100,0)))))","v":""},"",0,0,"","","","",{"$f":"IF('Marks Entry'!AC75=\"\",\"\",'Marks Entry'!AC75)","v":""},{"$f":"IF('Marks Entry'!AE75=\"\",\"\",'Marks Entry'!AE75)","v":""},{"$f":"IF('Marks Entry'!AF75=\"\",\"\",'Marks Entry'!AF75)","v":""},{"$f":"IF('Marks Entry'!AG75=\"\",\"\",'Marks Entry'!AG75)","v":""},"","",{"$f":"IF('Marks Entry'!AH75=\"\",\"\",'Marks Entry'!AH75)","v":""},{"$f":"IF('Marks Entry'!AI75=\"\",\"\",'Marks Entry'!AI75)","v":""},"","",{"$f":"IF(AND($B73=\"NSO\",$E73=\"\"),\"\",IF(AND('Marks Entry'!AJ75=\"AB\",'Marks Entry'!AK75=\"AB\"),\"AB\",IF(AND('Marks Entry'!AJ75=\"ML\",'Marks Entry'!AK75=\"ML\"),\"RE\",IF('Marks Entry'!AJ75=\"\",\"\",ROUNDUP(('Marks Entry'!AJ75+'Marks Entry'!AK75)*30/100,0)))))","v":""},"",0,0,"","","","",{"$f":"IF('Marks Entry'!AL75=\"\",\"\",'Marks Entry'!AL75)","v":""},{"$f":"IF('Marks Entry'!AN75=\"\",\"\",'Marks Entry'!AN75)","v":""},{"$f":"IF('Marks Entry'!AO75=\"\",\"\",'Marks Entry'!AO75)","v":""},{"$f":"IF('Marks Entry'!AP75=\"\",\"\",'Marks Entry'!AP75)","v":""},"","",{"$f":"IF('Marks Entry'!AQ75=\"\",\"\",'Marks Entry'!AQ75)","v":""},{"$f":"IF('Marks Entry'!AR75=\"\",\"\",'Marks Entry'!AR75)","v":""},"","",{"$f":"IF(AND($B73=\"NSO\",$E73=\"\"),\"\",IF(AND('Marks Entry'!AS75=\"AB\",'Marks Entry'!AT75=\"AB\"),\"AB\",IF(AND('Marks Entry'!AS75=\"ML\",'Marks Entry'!AT75=\"ML\"),\"RE\",IF('Marks Entry'!AS75=\"\",\"\",ROUNDUP(('Marks Entry'!AS75+'Marks Entry'!AT75)*30/100,0)))))","v":""},"",0,0,"","","","",{"$f":"IF('Marks Entry'!AU75=\"\",\"\",'Marks Entry'!AU75)","v":""},{"$f":"IF('Marks Entry'!AW75=\"\",\"\",'Marks Entry'!AW75)","v":""},{"$f":"IF('Marks Entry'!AX75=\"\",\"\",'Marks Entry'!AX75)","v":""},{"$f":"IF('Marks Entry'!AY75=\"\",\"\",'Marks Entry'!AY75)","v":""},"","",{"$f":"IF('Marks Entry'!AZ75=\"\",\"\",'Marks Entry'!AZ75)","v":""},{"$f":"IF('Marks Entry'!BA75=\"\",\"\",'Marks Entry'!BA75)","v":""},"","",{"$f":"IF(AND($B73=\"NSO\",$E73=\"\"),\"\",IF(AND('Marks Entry'!BB75=\"AB\",'Marks Entry'!BC75=\"AB\"),\"AB\",IF(AND('Marks Entry'!BB75=\"ML\",'Marks Entry'!BC75=\"ML\"),\"RE\",IF('Marks Entry'!BB75=\"\",\"\",ROUNDUP(('Marks Entry'!BB75+'Marks Entry'!BC75)*30/100,0)))))","v":""},"",0,0,"","","","",0,"","","","","","",0,0,0,0,0,"",{"$f":"IF('Marks Entry'!BD75=\"\",\"\",'Marks Entry'!BD75)","v":""},{"$f":"IF('Marks Entry'!BE75=\"\",\"\",'Marks Entry'!BE75)","v":""},{"$f":"IF('Marks Entry'!BF75=\"\",\"\",'Marks Entry'!BF75)","v":""},"","","","","","","","","","","","","","","","","","","","","","","","","","",{"$f":"IF('Student DATA Entry'!I70=\"\",\"\",'Student DATA Entry'!I70)","v":""},{"$f":"IF('Student DATA Entry'!J70=\"\",\"\",'Student DATA Entry'!J70)","v":""},"      ","      ","      ","              "," ","","","","",""]
[69,{"$f":"IF('Marks Entry'!B76=\"\",\"\",VALUE('Marks Entry'!B76))","v":""},{"$f":"IF('Marks Entry'!C76=\"\",\"\",'Marks Entry'!C76)","v":""},{"$f":"IF('Marks Entry'!D76=\"\",\"\",'Marks Entry'!D76)","v":""},{"$f":"IF('Marks Entry'!E76=\"\",\"\",'Marks Entry'!E76)","v":""},{"$f":"IF('Marks Entry'!F76=\"\",\"\",'Marks Entry'!F76)","v":""},{"$f":"IF('Marks Entry'!G76=\"\",\"\",'Marks Entry'!G76)","v":""},{"$f":"IF('Marks Entry'!H76=\"\",\"\",'Marks Entry'!H76)","v":""},{"$f":"IF('Marks Entry'!I76=\"\",\"\",'Marks Entry'!I76)","v":""},{"$f":"IF('Marks Entry'!J76=\"\",\"\",'Marks Entry'!J76)","v":""},{"$f":"IF('Marks Entry'!K76=\"\",\"\",'Marks Entry'!K76)","v":""},{"$f":"IF('Marks Entry'!L76=\"\",\"\",'Marks Entry'!L76)","v":""},"","",{"$f":"IF('Marks Entry'!M76=\"\",\"\",'Marks Entry'!M76)","v":""},"",{"$f":"IF(AND($B74=\"NSO\",$E74=\"\",O74=\"\"),\"\",IF(AND('Marks Entry'!N76=\"AB\"),\"AB\",IF(AND('Marks Entry'!N76=\"ML\"),\"RE\",IF('Marks Entry'!N76=\"\",\"\",ROUNDUP('Marks Entry'!N76*30/100,0)))))","v":""},"",0,0,"","","","",{"$f":"IF('Marks Entry'!O76=\"\",\"\",'Marks Entry'!O76)","v":""},{"$f":"IF('Marks Entry'!P76=\"\",\"\",'Marks Entry'!P76)","v":""},{"$f":"IF('Marks Entry'!Q76=\"\",\"\",'Marks Entry'!Q76)","v":""},"","",{"$f":"IF('Marks Entry'!R76=\"\",\"\",'Marks Entry'!R76)","v":""},"",{"$f":"IF(AND($B74=\"NSO\",$E74=\"\"),\"\",IF(AND('Marks Entry'!S76=\"AB\"),\"AB\",IF(AND('Marks Entry'!S76=\"ML\"),\"RE\",IF('Marks Entry'!S76=\"\",\"\",ROUNDUP('Marks Entry'!S76*30/100,0)))))","v":""},"",0,0,"","","","",{"$f":"IF('Marks Entry'!T76=\"\",\"\",'Marks Entry'!T76)","v":""},{"$f":"IF('Marks Entry'!V76=\"\",\"\",'Marks Entry'!V76)","v":""},{"$f":"IF('Marks Entry'!W76=\"\",\"\",'Marks Entry'!W76)","v":""},{"$f":"IF('Marks Entry'!X76=\"\",\"\",'Marks Entry'!X76)","v":""},"","",{"$f":"IF('Marks Entry'!Y76=\"\",\"\",'Marks Entry'!Y76)","v":""},{"$f":"IF('Marks Entry'!Z76=\"\",\"\",'Marks Entry'!Z76)","v":""},"","",{"$f":"IF(AND($B74=\"NSO\",$E74=\"\"),\"\",IF(AND('Marks Entry'!AA76=\"AB\",'Marks Entry'!AB76=\"AB\"),\"AB\",IF(AND('Marks Entry'!AA76=\"ML\",'Marks Entry'!AB76=\"ML\"),\"RE\",IF('Marks Entry'!AA76=\"\",\"\",ROUNDUP(('Marks Entry'!AA76+'Marks Entry'!AB76)*30/100,0)))))","v":""},"",0,0,"","","","",{"$f":"IF('Marks Entry'!AC76=\"\",\"\",'Marks Entry'!AC76)","v":""},{"$f":"IF('Marks Entry'!AE76=\"\",\"\",'Marks Entry'!AE76)","v":""},{"$f":"IF('Marks Entry'!AF76=\"\",\"\",'Marks Entry'!AF76)","v":""},{"$f":"IF('Marks Entry'!AG76=\"\",\"\",'Marks Entry'!AG76)","v":""},"","",{"$f":"IF('Marks Entry'!AH76=\"\",\"\",'Marks Entry'!AH76)","v":""},{"$f":"IF('Marks Entry'!AI76=\"\",\"\",'Marks Entry'!AI76)","v":""},"","",{"$f":"IF(AND($B74=\"NSO\",$E74=\"\"),\"\",IF(AND('Marks Entry'!AJ76=\"AB\",'Marks Entry'!AK76=\"AB\"),\"AB\",IF(AND('Marks Entry'!AJ76=\"ML\",'Marks Entry'!AK76=\"ML\"),\"RE\",IF('Marks Entry'!AJ76=\"\",\"\",ROUNDUP(('Marks Entry'!AJ76+'Marks Entry'!AK76)*30/100,0)))))","v":""},"",0,0,"","","","",{"$f":"IF('Marks Entry'!AL76=\"\",\"\",'Marks Entry'!AL76)","v":""},{"$f":"IF('Marks Entry'!AN76=\"\",\"\",'Marks Entry'!AN76)","v":""},{"$f":"IF('Marks Entry'!AO76=\"\",\"\",'Marks Entry'!AO76)","v":""},{"$f":"IF('Marks Entry'!AP76=\"\",\"\",'Marks Entry'!AP76)","v":""},"","",{"$f":"IF('Marks Entry'!AQ76=\"\",\"\",'Marks Entry'!AQ76)","v":""},{"$f":"IF('Marks Entry'!AR76=\"\",\"\",'Marks Entry'!AR76)","v":""},"","",{"$f":"IF(AND($B74=\"NSO\",$E74=\"\"),\"\",IF(AND('Marks Entry'!AS76=\"AB\",'Marks Entry'!AT76=\"AB\"),\"AB\",IF(AND('Marks Entry'!AS76=\"ML\",'Marks Entry'!AT76=\"ML\"),\"RE\",IF('Marks Entry'!AS76=\"\",\"\",ROUNDUP(('Marks Entry'!AS76+'Marks Entry'!AT76)*30/100,0)))))","v":""},"",0,0,"","","","",{"$f":"IF('Marks Entry'!AU76=\"\",\"\",'Marks Entry'!AU76)","v":""},{"$f":"IF('Marks Entry'!AW76=\"\",\"\",'Marks Entry'!AW76)","v":""},{"$f":"IF('Marks Entry'!AX76=\"\",\"\",'Marks Entry'!AX76)","v":""},{"$f":"IF('Marks Entry'!AY76=\"\",\"\",'Marks Entry'!AY76)","v":""},"","",{"$f":"IF('Marks Entry'!AZ76=\"\",\"\",'Marks Entry'!AZ76)","v":""},{"$f":"IF('Marks Entry'!BA76=\"\",\"\",'Marks Entry'!BA76)","v":""},"","",{"$f":"IF(AND($B74=\"NSO\",$E74=\"\"),\"\",IF(AND('Marks Entry'!BB76=\"AB\",'Marks Entry'!BC76=\"AB\"),\"AB\",IF(AND('Marks Entry'!BB76=\"ML\",'Marks Entry'!BC76=\"ML\"),\"RE\",IF('Marks Entry'!BB76=\"\",\"\",ROUNDUP(('Marks Entry'!BB76+'Marks Entry'!BC76)*30/100,0)))))","v":""},"",0,0,"","","","",0,"","","","","","",0,0,0,0,0,"",{"$f":"IF('Marks Entry'!BD76=\"\",\"\",'Marks Entry'!BD76)","v":""},{"$f":"IF('Marks Entry'!BE76=\"\",\"\",'Marks Entry'!BE76)","v":""},{"$f":"IF('Marks Entry'!BF76=\"\",\"\",'Marks Entry'!BF76)","v":""},"","","","","","","","","","","","","","","","","","","","","","","","","","",{"$f":"IF('Student DATA Entry'!I71=\"\",\"\",'Student DATA Entry'!I71)","v":""},{"$f":"IF('Student DATA Entry'!J71=\"\",\"\",'Student DATA Entry'!J71)","v":""},"      ","      ","      ","              "," ","","","","",""]
[70,{"$f":"IF('Marks Entry'!B77=\"\",\"\",VALUE('Marks Entry'!B77))","v":""},{"$f":"IF('Marks Entry'!C77=\"\",\"\",'Marks Entry'!C77)","v":""},{"$f":"IF('Marks Entry'!D77=\"\",\"\",'Marks Entry'!D77)","v":""},{"$f":"IF('Marks Entry'!E77=\"\",\"\",'Marks Entry'!E77)","v":""},{"$f":"IF('Marks Entry'!F77=\"\",\"\",'Marks Entry'!F77)","v":""},{"$f":"IF('Marks Entry'!G77=\"\",\"\",'Marks Entry'!G77)","v":""},{"$f":"IF('Marks Entry'!H77=\"\",\"\",'Marks Entry'!H77)","v":""},{"$f":"IF('Marks Entry'!I77=\"\",\"\",'Marks Entry'!I77)","v":""},{"$f":"IF('Marks Entry'!J77=\"\",\"\",'Marks Entry'!J77)","v":""},{"$f":"IF('Marks Entry'!K77=\"\",\"\",'Marks Entry'!K77)","v":""},{"$f":"IF('Marks Entry'!L77=\"\",\"\",'Marks Entry'!L77)","v":""},"","",{"$f":"IF('Marks Entry'!M77=\"\",\"\",'Marks Entry'!M77)","v":""},"",{"$f":"IF(AND($B75=\"NSO\",$E75=\"\",O75=\"\"),\"\",IF(AND('Marks Entry'!N77=\"AB\"),\"AB\",IF(AND('Marks Entry'!N77=\"ML\"),\"RE\",IF('Marks Entry'!N77=\"\",\"\",ROUNDUP('Marks Entry'!N77*30/100,0)))))","v":""},"",0,0,"","","","",{"$f":"IF('Marks Entry'!O77=\"\",\"\",'Marks Entry'!O77)","v":""},{"$f":"IF('Marks Entry'!P77=\"\",\"\",'Marks Entry'!P77)","v":""},{"$f":"IF('Marks Entry'!Q77=\"\",\"\",'Marks Entry'!Q77)","v":""},"","",{"$f":"IF('Marks Entry'!R77=\"\",\"\",'Marks Entry'!R77)","v":""},"",{"$f":"IF(AND($B75=\"NSO\",$E75=\"\"),\"\",IF(AND('Marks Entry'!S77=\"AB\"),\"AB\",IF(AND('Marks Entry'!S77=\"ML\"),\"RE\",IF('Marks Entry'!S77=\"\",\"\",ROUNDUP('Marks Entry'!S77*30/100,0)))))","v":""},"",0,0,"","","","",{"$f":"IF('Marks Entry'!T77=\"\",\"\",'Marks Entry'!T77)","v":""},{"$f":"IF('Marks Entry'!V77=\"\",\"\",'Marks Entry'!V77)","v":""},{"$f":"IF('Marks Entry'!W77=\"\",\"\",'Marks Entry'!W77)","v":""},{"$f":"IF('Marks Entry'!X77=\"\",\"\",'Marks Entry'!X77)","v":""},"","",{"$f":"IF('Marks Entry'!Y77=\"\",\"\",'Marks Entry'!Y77)","v":""},{"$f":"IF('Marks Entry'!Z77=\"\",\"\",'Marks Entry'!Z77)","v":""},"","",{"$f":"IF(AND($B75=\"NSO\",$E75=\"\"),\"\",IF(AND('Marks Entry'!AA77=\"AB\",'Marks Entry'!AB77=\"AB\"),\"AB\",IF(AND('Marks Entry'!AA77=\"ML\",'Marks Entry'!AB77=\"ML\"),\"RE\",IF('Marks Entry'!AA77=\"\",\"\",ROUNDUP(('Marks Entry'!AA77+'Marks Entry'!AB77)*30/100,0)))))","v":""},"",0,0,"","","","",{"$f":"IF('Marks Entry'!AC77=\"\",\"\",'Marks Entry'!AC77)","v":""},{"$f":"IF('Marks Entry'!AE77=\"\",\"\",'Marks Entry'!AE77)","v":""},{"$f":"IF('Marks Entry'!AF77=\"\",\"\",'Marks Entry'!AF77)","v":""},{"$f":"IF('Marks Entry'!AG77=\"\",\"\",'Marks Entry'!AG77)","v":""},"","",{"$f":"IF('Marks Entry'!AH77=\"\",\"\",'Marks Entry'!AH77)","v":""},{"$f":"IF('Marks Entry'!AI77=\"\",\"\",'Marks Entry'!AI77)","v":""},"","",{"$f":"IF(AND($B75=\"NSO\",$E75=\"\"),\"\",IF(AND('Marks Entry'!AJ77=\"AB\",'Marks Entry'!AK77=\"AB\"),\"AB\",IF(AND('Marks Entry'!AJ77=\"ML\",'Marks Entry'!AK77=\"ML\"),\"RE\",IF('Marks Entry'!AJ77=\"\",\"\",ROUNDUP(('Marks Entry'!AJ77+'Marks Entry'!AK77)*30/100,0)))))","v":""},"",0,0,"","","","",{"$f":"IF('Marks Entry'!AL77=\"\",\"\",'Marks Entry'!AL77)","v":""},{"$f":"IF('Marks Entry'!AN77=\"\",\"\",'Marks Entry'!AN77)","v":""},{"$f":"IF('Marks Entry'!AO77=\"\",\"\",'Marks Entry'!AO77)","v":""},{"$f":"IF('Marks Entry'!AP77=\"\",\"\",'Marks Entry'!AP77)","v":""},"","",{"$f":"IF('Marks Entry'!AQ77=\"\",\"\",'Marks Entry'!AQ77)","v":""},{"$f":"IF('Marks Entry'!AR77=\"\",\"\",'Marks Entry'!AR77)","v":""},"","",{"$f":"IF(AND($B75=\"NSO\",$E75=\"\"),\"\",IF(AND('Marks Entry'!AS77=\"AB\",'Marks Entry'!AT77=\"AB\"),\"AB\",IF(AND('Marks Entry'!AS77=\"ML\",'Marks Entry'!AT77=\"ML\"),\"RE\",IF('Marks Entry'!AS77=\"\",\"\",ROUNDUP(('Marks Entry'!AS77+'Marks Entry'!AT77)*30/100,0)))))","v":""},"",0,0,"","","","",{"$f":"IF('Marks Entry'!AU77=\"\",\"\",'Marks Entry'!AU77)","v":""},{"$f":"IF('Marks Entry'!AW77=\"\",\"\",'Marks Entry'!AW77)","v":""},{"$f":"IF('Marks Entry'!AX77=\"\",\"\",'Marks Entry'!AX77)","v":""},{"$f":"IF('Marks Entry'!AY77=\"\",\"\",'Marks Entry'!AY77)","v":""},"","",{"$f":"IF('Marks Entry'!AZ77=\"\",\"\",'Marks Entry'!AZ77)","v":""},{"$f":"IF('Marks Entry'!BA77=\"\",\"\",'Marks Entry'!BA77)","v":""},"","",{"$f":"IF(AND($B75=\"NSO\",$E75=\"\"),\"\",IF(AND('Marks Entry'!BB77=\"AB\",'Marks Entry'!BC77=\"AB\"),\"AB\",IF(AND('Marks Entry'!BB77=\"ML\",'Marks Entry'!BC77=\"ML\"),\"RE\",IF('Marks Entry'!BB77=\"\",\"\",ROUNDUP(('Marks Entry'!BB77+'Marks Entry'!BC77)*30/100,0)))))","v":""},"",0,0,"","","","",0,"","","","","","",0,0,0,0,0,"",{"$f":"IF('Marks Entry'!BD77=\"\",\"\",'Marks Entry'!BD77)","v":""},{"$f":"IF('Marks Entry'!BE77=\"\",\"\",'Marks Entry'!BE77)","v":""},{"$f":"IF('Marks Entry'!BF77=\"\",\"\",'Marks Entry'!BF77)","v":""},"","","","","","","","","","","","","","","","","","","","","","","","","","",{"$f":"IF('Student DATA Entry'!I72=\"\",\"\",'Student DATA Entry'!I72)","v":""},{"$f":"IF('Student DATA Entry'!J72=\"\",\"\",'Student DATA Entry'!J72)","v":""},"      ","      ","      ","              "," ","","","","",""]
[71,{"$f":"IF('Marks Entry'!B78=\"\",\"\",VALUE('Marks Entry'!B78))","v":""},{"$f":"IF('Marks Entry'!C78=\"\",\"\",'Marks Entry'!C78)","v":""},{"$f":"IF('Marks Entry'!D78=\"\",\"\",'Marks Entry'!D78)","v":""},{"$f":"IF('Marks Entry'!E78=\"\",\"\",'Marks Entry'!E78)","v":""},{"$f":"IF('Marks Entry'!F78=\"\",\"\",'Marks Entry'!F78)","v":""},{"$f":"IF('Marks Entry'!G78=\"\",\"\",'Marks Entry'!G78)","v":""},{"$f":"IF('Marks Entry'!H78=\"\",\"\",'Marks Entry'!H78)","v":""},{"$f":"IF('Marks Entry'!I78=\"\",\"\",'Marks Entry'!I78)","v":""},{"$f":"IF('Marks Entry'!J78=\"\",\"\",'Marks Entry'!J78)","v":""},{"$f":"IF('Marks Entry'!K78=\"\",\"\",'Marks Entry'!K78)","v":""},{"$f":"IF('Marks Entry'!L78=\"\",\"\",'Marks Entry'!L78)","v":""},"","",{"$f":"IF('Marks Entry'!M78=\"\",\"\",'Marks Entry'!M78)","v":""},"",{"$f":"IF(AND($B76=\"NSO\",$E76=\"\",O76=\"\"),\"\",IF(AND('Marks Entry'!N78=\"AB\"),\"AB\",IF(AND('Marks Entry'!N78=\"ML\"),\"RE\",IF('Marks Entry'!N78=\"\",\"\",ROUNDUP('Marks Entry'!N78*30/100,0)))))","v":""},"",0,0,"","","","",{"$f":"IF('Marks Entry'!O78=\"\",\"\",'Marks Entry'!O78)","v":""},{"$f":"IF('Marks Entry'!P78=\"\",\"\",'Marks Entry'!P78)","v":""},{"$f":"IF('Marks Entry'!Q78=\"\",\"\",'Marks Entry'!Q78)","v":""},"","",{"$f":"IF('Marks Entry'!R78=\"\",\"\",'Marks Entry'!R78)","v":""},"",{"$f":"IF(AND($B76=\"NSO\",$E76=\"\"),\"\",IF(AND('Marks Entry'!S78=\"AB\"),\"AB\",IF(AND('Marks Entry'!S78=\"ML\"),\"RE\",IF('Marks Entry'!S78=\"\",\"\",ROUNDUP('Marks Entry'!S78*30/100,0)))))","v":""},"",0,0,"","","","",{"$f":"IF('Marks Entry'!T78=\"\",\"\",'Marks Entry'!T78)","v":""},{"$f":"IF('Marks Entry'!V78=\"\",\"\",'Marks Entry'!V78)","v":""},{"$f":"IF('Marks Entry'!W78=\"\",\"\",'Marks Entry'!W78)","v":""},{"$f":"IF('Marks Entry'!X78=\"\",\"\",'Marks Entry'!X78)","v":""},"","",{"$f":"IF('Marks Entry'!Y78=\"\",\"\",'Marks Entry'!Y78)","v":""},{"$f":"IF('Marks Entry'!Z78=\"\",\"\",'Marks Entry'!Z78)","v":""},"","",{"$f":"IF(AND($B76=\"NSO\",$E76=\"\"),\"\",IF(AND('Marks Entry'!AA78=\"AB\",'Marks Entry'!AB78=\"AB\"),\"AB\",IF(AND('Marks Entry'!AA78=\"ML\",'Marks Entry'!AB78=\"ML\"),\"RE\",IF('Marks Entry'!AA78=\"\",\"\",ROUNDUP(('Marks Entry'!AA78+'Marks Entry'!AB78)*30/100,0)))))","v":""},"",0,0,"","","","",{"$f":"IF('Marks Entry'!AC78=\"\",\"\",'Marks Entry'!AC78)","v":""},{"$f":"IF('Marks Entry'!AE78=\"\",\"\",'Marks Entry'!AE78)","v":""},{"$f":"IF('Marks Entry'!AF78=\"\",\"\",'Marks Entry'!AF78)","v":""},{"$f":"IF('Marks Entry'!AG78=\"\",\"\",'Marks Entry'!AG78)","v":""},"","",{"$f":"IF('Marks Entry'!AH78=\"\",\"\",'Marks Entry'!AH78)","v":""},{"$f":"IF('Marks Entry'!AI78=\"\",\"\",'Marks Entry'!AI78)","v":""},"","",{"$f":"IF(AND($B76=\"NSO\",$E76=\"\"),\"\",IF(AND('Marks Entry'!AJ78=\"AB\",'Marks Entry'!AK78=\"AB\"),\"AB\",IF(AND('Marks Entry'!AJ78=\"ML\",'Marks Entry'!AK78=\"ML\"),\"RE\",IF('Marks Entry'!AJ78=\"\",\"\",ROUNDUP(('Marks Entry'!AJ78+'Marks Entry'!AK78)*30/100,0)))))","v":""},"",0,0,"","","","",{"$f":"IF('Marks Entry'!AL78=\"\",\"\",'Marks Entry'!AL78)","v":""},{"$f":"IF('Marks Entry'!AN78=\"\",\"\",'Marks Entry'!AN78)","v":""},{"$f":"IF('Marks Entry'!AO78=\"\",\"\",'Marks Entry'!AO78)","v":""},{"$f":"IF('Marks Entry'!AP78=\"\",\"\",'Marks Entry'!AP78)","v":""},"","",{"$f":"IF('Marks Entry'!AQ78=\"\",\"\",'Marks Entry'!AQ78)","v":""},{"$f":"IF('Marks Entry'!AR78=\"\",\"\",'Marks Entry'!AR78)","v":""},"","",{"$f":"IF(AND($B76=\"NSO\",$E76=\"\"),\"\",IF(AND('Marks Entry'!AS78=\"AB\",'Marks Entry'!AT78=\"AB\"),\"AB\",IF(AND('Marks Entry'!AS78=\"ML\",'Marks Entry'!AT78=\"ML\"),\"RE\",IF('Marks Entry'!AS78=\"\",\"\",ROUNDUP(('Marks Entry'!AS78+'Marks Entry'!AT78)*30/100,0)))))","v":""},"",0,0,"","","","",{"$f":"IF('Marks Entry'!AU78=\"\",\"\",'Marks Entry'!AU78)","v":""},{"$f":"IF('Marks Entry'!AW78=\"\",\"\",'Marks Entry'!AW78)","v":""},{"$f":"IF('Marks Entry'!AX78=\"\",\"\",'Marks Entry'!AX78)","v":""},{"$f":"IF('Marks Entry'!AY78=\"\",\"\",'Marks Entry'!AY78)","v":""},"","",{"$f":"IF('Marks Entry'!AZ78=\"\",\"\",'Marks Entry'!AZ78)","v":""},{"$f":"IF('Marks Entry'!BA78=\"\",\"\",'Marks Entry'!BA78)","v":""},"","",{"$f":"IF(AND($B76=\"NSO\",$E76=\"\"),\"\",IF(AND('Marks Entry'!BB78=\"AB\",'Marks Entry'!BC78=\"AB\"),\"AB\",IF(AND('Marks Entry'!BB78=\"ML\",'Marks Entry'!BC78=\"ML\"),\"RE\",IF('Marks Entry'!BB78=\"\",\"\",ROUNDUP(('Marks Entry'!BB78+'Marks Entry'!BC78)*30/100,0)))))","v":""},"",0,0,"","","","",0,"","","","","","",0,0,0,0,0,"",{"$f":"IF('Marks Entry'!BD78=\"\",\"\",'Marks Entry'!BD78)","v":""},{"$f":"IF('Marks Entry'!BE78=\"\",\"\",'Marks Entry'!BE78)","v":""},{"$f":"IF('Marks Entry'!BF78=\"\",\"\",'Marks Entry'!BF78)","v":""},"","","","","","","","","","","","","","","","","","","","","","","","","","",{"$f":"IF('Student DATA Entry'!I73=\"\",\"\",'Student DATA Entry'!I73)","v":""},{"$f":"IF('Student DATA Entry'!J73=\"\",\"\",'Student DATA Entry'!J73)","v":""},"      ","      ","      ","              "," ","","","","",""]
[72,{"$f":"IF('Marks Entry'!B79=\"\",\"\",VALUE('Marks Entry'!B79))","v":""},{"$f":"IF('Marks Entry'!C79=\"\",\"\",'Marks Entry'!C79)","v":""},{"$f":"IF('Marks Entry'!D79=\"\",\"\",'Marks Entry'!D79)","v":""},{"$f":"IF('Marks Entry'!E79=\"\",\"\",'Marks Entry'!E79)","v":""},{"$f":"IF('Marks Entry'!F79=\"\",\"\",'Marks Entry'!F79)","v":""},{"$f":"IF('Marks Entry'!G79=\"\",\"\",'Marks Entry'!G79)","v":""},{"$f":"IF('Marks Entry'!H79=\"\",\"\",'Marks Entry'!H79)","v":""},{"$f":"IF('Marks Entry'!I79=\"\",\"\",'Marks Entry'!I79)","v":""},{"$f":"IF('Marks Entry'!J79=\"\",\"\",'Marks Entry'!J79)","v":""},{"$f":"IF('Marks Entry'!K79=\"\",\"\",'Marks Entry'!K79)","v":""},{"$f":"IF('Marks Entry'!L79=\"\",\"\",'Marks Entry'!L79)","v":""},"","",{"$f":"IF('Marks Entry'!M79=\"\",\"\",'Marks Entry'!M79)","v":""},"",{"$f":"IF(AND($B77=\"NSO\",$E77=\"\",O77=\"\"),\"\",IF(AND('Marks Entry'!N79=\"AB\"),\"AB\",IF(AND('Marks Entry'!N79=\"ML\"),\"RE\",IF('Marks Entry'!N79=\"\",\"\",ROUNDUP('Marks Entry'!N79*30/100,0)))))","v":""},"",0,0,"","","","",{"$f":"IF('Marks Entry'!O79=\"\",\"\",'Marks Entry'!O79)","v":""},{"$f":"IF('Marks Entry'!P79=\"\",\"\",'Marks Entry'!P79)","v":""},{"$f":"IF('Marks Entry'!Q79=\"\",\"\",'Marks Entry'!Q79)","v":""},"","",{"$f":"IF('Marks Entry'!R79=\"\",\"\",'Marks Entry'!R79)","v":""},"",{"$f":"IF(AND($B77=\"NSO\",$E77=\"\"),\"\",IF(AND('Marks Entry'!S79=\"AB\"),\"AB\",IF(AND('Marks Entry'!S79=\"ML\"),\"RE\",IF('Marks Entry'!S79=\"\",\"\",ROUNDUP('Marks Entry'!S79*30/100,0)))))","v":""},"",0,0,"","","","",{"$f":"IF('Marks Entry'!T79=\"\",\"\",'Marks Entry'!T79)","v":""},{"$f":"IF('Marks Entry'!V79=\"\",\"\",'Marks Entry'!V79)","v":""},{"$f":"IF('Marks Entry'!W79=\"\",\"\",'Marks Entry'!W79)","v":""},{"$f":"IF('Marks Entry'!X79=\"\",\"\",'Marks Entry'!X79)","v":""},"","",{"$f":"IF('Marks Entry'!Y79=\"\",\"\",'Marks Entry'!Y79)","v":""},{"$f":"IF('Marks Entry'!Z79=\"\",\"\",'Marks Entry'!Z79)","v":""},"","",{"$f":"IF(AND($B77=\"NSO\",$E77=\"\"),\"\",IF(AND('Marks Entry'!AA79=\"AB\",'Marks Entry'!AB79=\"AB\"),\"AB\",IF(AND('Marks Entry'!AA79=\"ML\",'Marks Entry'!AB79=\"ML\"),\"RE\",IF('Marks Entry'!AA79=\"\",\"\",ROUNDUP(('Marks Entry'!AA79+'Marks Entry'!AB79)*30/100,0)))))","v":""},"",0,0,"","","","",{"$f":"IF('Marks Entry'!AC79=\"\",\"\",'Marks Entry'!AC79)","v":""},{"$f":"IF('Marks Entry'!AE79=\"\",\"\",'Marks Entry'!AE79)","v":""},{"$f":"IF('Marks Entry'!AF79=\"\",\"\",'Marks Entry'!AF79)","v":""},{"$f":"IF('Marks Entry'!AG79=\"\",\"\",'Marks Entry'!AG79)","v":""},"","",{"$f":"IF('Marks Entry'!AH79=\"\",\"\",'Marks Entry'!AH79)","v":""},{"$f":"IF('Marks Entry'!AI79=\"\",\"\",'Marks Entry'!AI79)","v":""},"","",{"$f":"IF(AND($B77=\"NSO\",$E77=\"\"),\"\",IF(AND('Marks Entry'!AJ79=\"AB\",'Marks Entry'!AK79=\"AB\"),\"AB\",IF(AND('Marks Entry'!AJ79=\"ML\",'Marks Entry'!AK79=\"ML\"),\"RE\",IF('Marks Entry'!AJ79=\"\",\"\",ROUNDUP(('Marks Entry'!AJ79+'Marks Entry'!AK79)*30/100,0)))))","v":""},"",0,0,"","","","",{"$f":"IF('Marks Entry'!AL79=\"\",\"\",'Marks Entry'!AL79)","v":""},{"$f":"IF('Marks Entry'!AN79=\"\",\"\",'Marks Entry'!AN79)","v":""},{"$f":"IF('Marks Entry'!AO79=\"\",\"\",'Marks Entry'!AO79)","v":""},{"$f":"IF('Marks Entry'!AP79=\"\",\"\",'Marks Entry'!AP79)","v":""},"","",{"$f":"IF('Marks Entry'!AQ79=\"\",\"\",'Marks Entry'!AQ79)","v":""},{"$f":"IF('Marks Entry'!AR79=\"\",\"\",'Marks Entry'!AR79)","v":""},"","",{"$f":"IF(AND($B77=\"NSO\",$E77=\"\"),\"\",IF(AND('Marks Entry'!AS79=\"AB\",'Marks Entry'!AT79=\"AB\"),\"AB\",IF(AND('Marks Entry'!AS79=\"ML\",'Marks Entry'!AT79=\"ML\"),\"RE\",IF('Marks Entry'!AS79=\"\",\"\",ROUNDUP(('Marks Entry'!AS79+'Marks Entry'!AT79)*30/100,0)))))","v":""},"",0,0,"","","","",{"$f":"IF('Marks Entry'!AU79=\"\",\"\",'Marks Entry'!AU79)","v":""},{"$f":"IF('Marks Entry'!AW79=\"\",\"\",'Marks Entry'!AW79)","v":""},{"$f":"IF('Marks Entry'!AX79=\"\",\"\",'Marks Entry'!AX79)","v":""},{"$f":"IF('Marks Entry'!AY79=\"\",\"\",'Marks Entry'!AY79)","v":""},"","",{"$f":"IF('Marks Entry'!AZ79=\"\",\"\",'Marks Entry'!AZ79)","v":""},{"$f":"IF('Marks Entry'!BA79=\"\",\"\",'Marks Entry'!BA79)","v":""},"","",{"$f":"IF(AND($B77=\"NSO\",$E77=\"\"),\"\",IF(AND('Marks Entry'!BB79=\"AB\",'Marks Entry'!BC79=\"AB\"),\"AB\",IF(AND('Marks Entry'!BB79=\"ML\",'Marks Entry'!BC79=\"ML\"),\"RE\",IF('Marks Entry'!BB79=\"\",\"\",ROUNDUP(('Marks Entry'!BB79+'Marks Entry'!BC79)*30/100,0)))))","v":""},"",0,0,"","","","",0,"","","","","","",0,0,0,0,0,"",{"$f":"IF('Marks Entry'!BD79=\"\",\"\",'Marks Entry'!BD79)","v":""},{"$f":"IF('Marks Entry'!BE79=\"\",\"\",'Marks Entry'!BE79)","v":""},{"$f":"IF('Marks Entry'!BF79=\"\",\"\",'Marks Entry'!BF79)","v":""},"","","","","","","","","","","","","","","","","","","","","","","","","","",{"$f":"IF('Student DATA Entry'!I74=\"\",\"\",'Student DATA Entry'!I74)","v":""},{"$f":"IF('Student DATA Entry'!J74=\"\",\"\",'Student DATA Entry'!J74)","v":""},"      ","      ","      ","              "," ","","","","",""]
[73,{"$f":"IF('Marks Entry'!B80=\"\",\"\",VALUE('Marks Entry'!B80))","v":""},{"$f":"IF('Marks Entry'!C80=\"\",\"\",'Marks Entry'!C80)","v":""},{"$f":"IF('Marks Entry'!D80=\"\",\"\",'Marks Entry'!D80)","v":""},{"$f":"IF('Marks Entry'!E80=\"\",\"\",'Marks Entry'!E80)","v":""},{"$f":"IF('Marks Entry'!F80=\"\",\"\",'Marks Entry'!F80)","v":""},{"$f":"IF('Marks Entry'!G80=\"\",\"\",'Marks Entry'!G80)","v":""},{"$f":"IF('Marks Entry'!H80=\"\",\"\",'Marks Entry'!H80)","v":""},{"$f":"IF('Marks Entry'!I80=\"\",\"\",'Marks Entry'!I80)","v":""},{"$f":"IF('Marks Entry'!J80=\"\",\"\",'Marks Entry'!J80)","v":""},{"$f":"IF('Marks Entry'!K80=\"\",\"\",'Marks Entry'!K80)","v":""},{"$f":"IF('Marks Entry'!L80=\"\",\"\",'Marks Entry'!L80)","v":""},"","",{"$f":"IF('Marks Entry'!M80=\"\",\"\",'Marks Entry'!M80)","v":""},"",{"$f":"IF(AND($B78=\"NSO\",$E78=\"\",O78=\"\"),\"\",IF(AND('Marks Entry'!N80=\"AB\"),\"AB\",IF(AND('Marks Entry'!N80=\"ML\"),\"RE\",IF('Marks Entry'!N80=\"\",\"\",ROUNDUP('Marks Entry'!N80*30/100,0)))))","v":""},"",0,0,"","","","",{"$f":"IF('Marks Entry'!O80=\"\",\"\",'Marks Entry'!O80)","v":""},{"$f":"IF('Marks Entry'!P80=\"\",\"\",'Marks Entry'!P80)","v":""},{"$f":"IF('Marks Entry'!Q80=\"\",\"\",'Marks Entry'!Q80)","v":""},"","",{"$f":"IF('Marks Entry'!R80=\"\",\"\",'Marks Entry'!R80)","v":""},"",{"$f":"IF(AND($B78=\"NSO\",$E78=\"\"),\"\",IF(AND('Marks Entry'!S80=\"AB\"),\"AB\",IF(AND('Marks Entry'!S80=\"ML\"),\"RE\",IF('Marks Entry'!S80=\"\",\"\",ROUNDUP('Marks Entry'!S80*30/100,0)))))","v":""},"",0,0,"","","","",{"$f":"IF('Marks Entry'!T80=\"\",\"\",'Marks Entry'!T80)","v":""},{"$f":"IF('Marks Entry'!V80=\"\",\"\",'Marks Entry'!V80)","v":""},{"$f":"IF('Marks Entry'!W80=\"\",\"\",'Marks Entry'!W80)","v":""},{"$f":"IF('Marks Entry'!X80=\"\",\"\",'Marks Entry'!X80)","v":""},"","",{"$f":"IF('Marks Entry'!Y80=\"\",\"\",'Marks Entry'!Y80)","v":""},{"$f":"IF('Marks Entry'!Z80=\"\",\"\",'Marks Entry'!Z80)","v":""},"","",{"$f":"IF(AND($B78=\"NSO\",$E78=\"\"),\"\",IF(AND('Marks Entry'!AA80=\"AB\",'Marks Entry'!AB80=\"AB\"),\"AB\",IF(AND('Marks Entry'!AA80=\"ML\",'Marks Entry'!AB80=\"ML\"),\"RE\",IF('Marks Entry'!AA80=\"\",\"\",ROUNDUP(('Marks Entry'!AA80+'Marks Entry'!AB80)*30/100,0)))))","v":""},"",0,0,"","","","",{"$f":"IF('Marks Entry'!AC80=\"\",\"\",'Marks Entry'!AC80)","v":""},{"$f":"IF('Marks Entry'!AE80=\"\",\"\",'Marks Entry'!AE80)","v":""},{"$f":"IF('Marks Entry'!AF80=\"\",\"\",'Marks Entry'!AF80)","v":""},{"$f":"IF('Marks Entry'!AG80=\"\",\"\",'Marks Entry'!AG80)","v":""},"","",{"$f":"IF('Marks Entry'!AH80=\"\",\"\",'Marks Entry'!AH80)","v":""},{"$f":"IF('Marks Entry'!AI80=\"\",\"\",'Marks Entry'!AI80)","v":""},"","",{"$f":"IF(AND($B78=\"NSO\",$E78=\"\"),\"\",IF(AND('Marks Entry'!AJ80=\"AB\",'Marks Entry'!AK80=\"AB\"),\"AB\",IF(AND('Marks Entry'!AJ80=\"ML\",'Marks Entry'!AK80=\"ML\"),\"RE\",IF('Marks Entry'!AJ80=\"\",\"\",ROUNDUP(('Marks Entry'!AJ80+'Marks Entry'!AK80)*30/100,0)))))","v":""},"",0,0,"","","","",{"$f":"IF('Marks Entry'!AL80=\"\",\"\",'Marks Entry'!AL80)","v":""},{"$f":"IF('Marks Entry'!AN80=\"\",\"\",'Marks Entry'!AN80)","v":""},{"$f":"IF('Marks Entry'!AO80=\"\",\"\",'Marks Entry'!AO80)","v":""},{"$f":"IF('Marks Entry'!AP80=\"\",\"\",'Marks Entry'!AP80)","v":""},"","",{"$f":"IF('Marks Entry'!AQ80=\"\",\"\",'Marks Entry'!AQ80)","v":""},{"$f":"IF('Marks Entry'!AR80=\"\",\"\",'Marks Entry'!AR80)","v":""},"","",{"$f":"IF(AND($B78=\"NSO\",$E78=\"\"),\"\",IF(AND('Marks Entry'!AS80=\"AB\",'Marks Entry'!AT80=\"AB\"),\"AB\",IF(AND('Marks Entry'!AS80=\"ML\",'Marks Entry'!AT80=\"ML\"),\"RE\",IF('Marks Entry'!AS80=\"\",\"\",ROUNDUP(('Marks Entry'!AS80+'Marks Entry'!AT80)*30/100,0)))))","v":""},"",0,0,"","","","",{"$f":"IF('Marks Entry'!AU80=\"\",\"\",'Marks Entry'!AU80)","v":""},{"$f":"IF('Marks Entry'!AW80=\"\",\"\",'Marks Entry'!AW80)","v":""},{"$f":"IF('Marks Entry'!AX80=\"\",\"\",'Marks Entry'!AX80)","v":""},{"$f":"IF('Marks Entry'!AY80=\"\",\"\",'Marks Entry'!AY80)","v":""},"","",{"$f":"IF('Marks Entry'!AZ80=\"\",\"\",'Marks Entry'!AZ80)","v":""},{"$f":"IF('Marks Entry'!BA80=\"\",\"\",'Marks Entry'!BA80)","v":""},"","",{"$f":"IF(AND($B78=\"NSO\",$E78=\"\"),\"\",IF(AND('Marks Entry'!BB80=\"AB\",'Marks Entry'!BC80=\"AB\"),\"AB\",IF(AND('Marks Entry'!BB80=\"ML\",'Marks Entry'!BC80=\"ML\"),\"RE\",IF('Marks Entry'!BB80=\"\",\"\",ROUNDUP(('Marks Entry'!BB80+'Marks Entry'!BC80)*30/100,0)))))","v":""},"",0,0,"","","","",0,"","","","","","",0,0,0,0,0,"",{"$f":"IF('Marks Entry'!BD80=\"\",\"\",'Marks Entry'!BD80)","v":""},{"$f":"IF('Marks Entry'!BE80=\"\",\"\",'Marks Entry'!BE80)","v":""},{"$f":"IF('Marks Entry'!BF80=\"\",\"\",'Marks Entry'!BF80)","v":""},"","","","","","","","","","","","","","","","","","","","","","","","","","",{"$f":"IF('Student DATA Entry'!I75=\"\",\"\",'Student DATA Entry'!I75)","v":""},{"$f":"IF('Student DATA Entry'!J75=\"\",\"\",'Student DATA Entry'!J75)","v":""},"      ","      ","      ","              "," ","","","","",""]
[74,{"$f":"IF('Marks Entry'!B81=\"\",\"\",VALUE('Marks Entry'!B81))","v":""},{"$f":"IF('Marks Entry'!C81=\"\",\"\",'Marks Entry'!C81)","v":""},{"$f":"IF('Marks Entry'!D81=\"\",\"\",'Marks Entry'!D81)","v":""},{"$f":"IF('Marks Entry'!E81=\"\",\"\",'Marks Entry'!E81)","v":""},{"$f":"IF('Marks Entry'!F81=\"\",\"\",'Marks Entry'!F81)","v":""},{"$f":"IF('Marks Entry'!G81=\"\",\"\",'Marks Entry'!G81)","v":""},{"$f":"IF('Marks Entry'!H81=\"\",\"\",'Marks Entry'!H81)","v":""},{"$f":"IF('Marks Entry'!I81=\"\",\"\",'Marks Entry'!I81)","v":""},{"$f":"IF('Marks Entry'!J81=\"\",\"\",'Marks Entry'!J81)","v":""},{"$f":"IF('Marks Entry'!K81=\"\",\"\",'Marks Entry'!K81)","v":""},{"$f":"IF('Marks Entry'!L81=\"\",\"\",'Marks Entry'!L81)","v":""},"","",{"$f":"IF('Marks Entry'!M81=\"\",\"\",'Marks Entry'!M81)","v":""},"",{"$f":"IF(AND($B79=\"NSO\",$E79=\"\",O79=\"\"),\"\",IF(AND('Marks Entry'!N81=\"AB\"),\"AB\",IF(AND('Marks Entry'!N81=\"ML\"),\"RE\",IF('Marks Entry'!N81=\"\",\"\",ROUNDUP('Marks Entry'!N81*30/100,0)))))","v":""},"",0,0,"","","","",{"$f":"IF('Marks Entry'!O81=\"\",\"\",'Marks Entry'!O81)","v":""},{"$f":"IF('Marks Entry'!P81=\"\",\"\",'Marks Entry'!P81)","v":""},{"$f":"IF('Marks Entry'!Q81=\"\",\"\",'Marks Entry'!Q81)","v":""},"","",{"$f":"IF('Marks Entry'!R81=\"\",\"\",'Marks Entry'!R81)","v":""},"",{"$f":"IF(AND($B79=\"NSO\",$E79=\"\"),\"\",IF(AND('Marks Entry'!S81=\"AB\"),\"AB\",IF(AND('Marks Entry'!S81=\"ML\"),\"RE\",IF('Marks Entry'!S81=\"\",\"\",ROUNDUP('Marks Entry'!S81*30/100,0)))))","v":""},"",0,0,"","","","",{"$f":"IF('Marks Entry'!T81=\"\",\"\",'Marks Entry'!T81)","v":""},{"$f":"IF('Marks Entry'!V81=\"\",\"\",'Marks Entry'!V81)","v":""},{"$f":"IF('Marks Entry'!W81=\"\",\"\",'Marks Entry'!W81)","v":""},{"$f":"IF('Marks Entry'!X81=\"\",\"\",'Marks Entry'!X81)","v":""},"","",{"$f":"IF('Marks Entry'!Y81=\"\",\"\",'Marks Entry'!Y81)","v":""},{"$f":"IF('Marks Entry'!Z81=\"\",\"\",'Marks Entry'!Z81)","v":""},"","",{"$f":"IF(AND($B79=\"NSO\",$E79=\"\"),\"\",IF(AND('Marks Entry'!AA81=\"AB\",'Marks Entry'!AB81=\"AB\"),\"AB\",IF(AND('Marks Entry'!AA81=\"ML\",'Marks Entry'!AB81=\"ML\"),\"RE\",IF('Marks Entry'!AA81=\"\",\"\",ROUNDUP(('Marks Entry'!AA81+'Marks Entry'!AB81)*30/100,0)))))","v":""},"",0,0,"","","","",{"$f":"IF('Marks Entry'!AC81=\"\",\"\",'Marks Entry'!AC81)","v":""},{"$f":"IF('Marks Entry'!AE81=\"\",\"\",'Marks Entry'!AE81)","v":""},{"$f":"IF('Marks Entry'!AF81=\"\",\"\",'Marks Entry'!AF81)","v":""},{"$f":"IF('Marks Entry'!AG81=\"\",\"\",'Marks Entry'!AG81)","v":""},"","",{"$f":"IF('Marks Entry'!AH81=\"\",\"\",'Marks Entry'!AH81)","v":""},{"$f":"IF('Marks Entry'!AI81=\"\",\"\",'Marks Entry'!AI81)","v":""},"","",{"$f":"IF(AND($B79=\"NSO\",$E79=\"\"),\"\",IF(AND('Marks Entry'!AJ81=\"AB\",'Marks Entry'!AK81=\"AB\"),\"AB\",IF(AND('Marks Entry'!AJ81=\"ML\",'Marks Entry'!AK81=\"ML\"),\"RE\",IF('Marks Entry'!AJ81=\"\",\"\",ROUNDUP(('Marks Entry'!AJ81+'Marks Entry'!AK81)*30/100,0)))))","v":""},"",0,0,"","","","",{"$f":"IF('Marks Entry'!AL81=\"\",\"\",'Marks Entry'!AL81)","v":""},{"$f":"IF('Marks Entry'!AN81=\"\",\"\",'Marks Entry'!AN81)","v":""},{"$f":"IF('Marks Entry'!AO81=\"\",\"\",'Marks Entry'!AO81)","v":""},{"$f":"IF('Marks Entry'!AP81=\"\",\"\",'Marks Entry'!AP81)","v":""},"","",{"$f":"IF('Marks Entry'!AQ81=\"\",\"\",'Marks Entry'!AQ81)","v":""},{"$f":"IF('Marks Entry'!AR81=\"\",\"\",'Marks Entry'!AR81)","v":""},"","",{"$f":"IF(AND($B79=\"NSO\",$E79=\"\"),\"\",IF(AND('Marks Entry'!AS81=\"AB\",'Marks Entry'!AT81=\"AB\"),\"AB\",IF(AND('Marks Entry'!AS81=\"ML\",'Marks Entry'!AT81=\"ML\"),\"RE\",IF('Marks Entry'!AS81=\"\",\"\",ROUNDUP(('Marks Entry'!AS81+'Marks Entry'!AT81)*30/100,0)))))","v":""},"",0,0,"","","","",{"$f":"IF('Marks Entry'!AU81=\"\",\"\",'Marks Entry'!AU81)","v":""},{"$f":"IF('Marks Entry'!AW81=\"\",\"\",'Marks Entry'!AW81)","v":""},{"$f":"IF('Marks Entry'!AX81=\"\",\"\",'Marks Entry'!AX81)","v":""},{"$f":"IF('Marks Entry'!AY81=\"\",\"\",'Marks Entry'!AY81)","v":""},"","",{"$f":"IF('Marks Entry'!AZ81=\"\",\"\",'Marks Entry'!AZ81)","v":""},{"$f":"IF('Marks Entry'!BA81=\"\",\"\",'Marks Entry'!BA81)","v":""},"","",{"$f":"IF(AND($B79=\"NSO\",$E79=\"\"),\"\",IF(AND('Marks Entry'!BB81=\"AB\",'Marks Entry'!BC81=\"AB\"),\"AB\",IF(AND('Marks Entry'!BB81=\"ML\",'Marks Entry'!BC81=\"ML\"),\"RE\",IF('Marks Entry'!BB81=\"\",\"\",ROUNDUP(('Marks Entry'!BB81+'Marks Entry'!BC81)*30/100,0)))))","v":""},"",0,0,"","","","",0,"","","","","","",0,0,0,0,0,"",{"$f":"IF('Marks Entry'!BD81=\"\",\"\",'Marks Entry'!BD81)","v":""},{"$f":"IF('Marks Entry'!BE81=\"\",\"\",'Marks Entry'!BE81)","v":""},{"$f":"IF('Marks Entry'!BF81=\"\",\"\",'Marks Entry'!BF81)","v":""},"","","","","","","","","","","","","","","","","","","","","","","","","","",{"$f":"IF('Student DATA Entry'!I76=\"\",\"\",'Student DATA Entry'!I76)","v":""},{"$f":"IF('Student DATA Entry'!J76=\"\",\"\",'Student DATA Entry'!J76)","v":""},"      ","      ","      ","              "," ","","","","",""]
[75,{"$f":"IF('Marks Entry'!B82=\"\",\"\",VALUE('Marks Entry'!B82))","v":""},{"$f":"IF('Marks Entry'!C82=\"\",\"\",'Marks Entry'!C82)","v":""},{"$f":"IF('Marks Entry'!D82=\"\",\"\",'Marks Entry'!D82)","v":""},{"$f":"IF('Marks Entry'!E82=\"\",\"\",'Marks Entry'!E82)","v":""},{"$f":"IF('Marks Entry'!F82=\"\",\"\",'Marks Entry'!F82)","v":""},{"$f":"IF('Marks Entry'!G82=\"\",\"\",'Marks Entry'!G82)","v":""},{"$f":"IF('Marks Entry'!H82=\"\",\"\",'Marks Entry'!H82)","v":""},{"$f":"IF('Marks Entry'!I82=\"\",\"\",'Marks Entry'!I82)","v":""},{"$f":"IF('Marks Entry'!J82=\"\",\"\",'Marks Entry'!J82)","v":""},{"$f":"IF('Marks Entry'!K82=\"\",\"\",'Marks Entry'!K82)","v":""},{"$f":"IF('Marks Entry'!L82=\"\",\"\",'Marks Entry'!L82)","v":""},"","",{"$f":"IF('Marks Entry'!M82=\"\",\"\",'Marks Entry'!M82)","v":""},"",{"$f":"IF(AND($B80=\"NSO\",$E80=\"\",O80=\"\"),\"\",IF(AND('Marks Entry'!N82=\"AB\"),\"AB\",IF(AND('Marks Entry'!N82=\"ML\"),\"RE\",IF('Marks Entry'!N82=\"\",\"\",ROUNDUP('Marks Entry'!N82*30/100,0)))))","v":""},"",0,0,"","","","",{"$f":"IF('Marks Entry'!O82=\"\",\"\",'Marks Entry'!O82)","v":""},{"$f":"IF('Marks Entry'!P82=\"\",\"\",'Marks Entry'!P82)","v":""},{"$f":"IF('Marks Entry'!Q82=\"\",\"\",'Marks Entry'!Q82)","v":""},"","",{"$f":"IF('Marks Entry'!R82=\"\",\"\",'Marks Entry'!R82)","v":""},"",{"$f":"IF(AND($B80=\"NSO\",$E80=\"\"),\"\",IF(AND('Marks Entry'!S82=\"AB\"),\"AB\",IF(AND('Marks Entry'!S82=\"ML\"),\"RE\",IF('Marks Entry'!S82=\"\",\"\",ROUNDUP('Marks Entry'!S82*30/100,0)))))","v":""},"",0,0,"","","","",{"$f":"IF('Marks Entry'!T82=\"\",\"\",'Marks Entry'!T82)","v":""},{"$f":"IF('Marks Entry'!V82=\"\",\"\",'Marks Entry'!V82)","v":""},{"$f":"IF('Marks Entry'!W82=\"\",\"\",'Marks Entry'!W82)","v":""},{"$f":"IF('Marks Entry'!X82=\"\",\"\",'Marks Entry'!X82)","v":""},"","",{"$f":"IF('Marks Entry'!Y82=\"\",\"\",'Marks Entry'!Y82)","v":""},{"$f":"IF('Marks Entry'!Z82=\"\",\"\",'Marks Entry'!Z82)","v":""},"","",{"$f":"IF(AND($B80=\"NSO\",$E80=\"\"),\"\",IF(AND('Marks Entry'!AA82=\"AB\",'Marks Entry'!AB82=\"AB\"),\"AB\",IF(AND('Marks Entry'!AA82=\"ML\",'Marks Entry'!AB82=\"ML\"),\"RE\",IF('Marks Entry'!AA82=\"\",\"\",ROUNDUP(('Marks Entry'!AA82+'Marks Entry'!AB82)*30/100,0)))))","v":""},"",0,0,"","","","",{"$f":"IF('Marks Entry'!AC82=\"\",\"\",'Marks Entry'!AC82)","v":""},{"$f":"IF('Marks Entry'!AE82=\"\",\"\",'Marks Entry'!AE82)","v":""},{"$f":"IF('Marks Entry'!AF82=\"\",\"\",'Marks Entry'!AF82)","v":""},{"$f":"IF('Marks Entry'!AG82=\"\",\"\",'Marks Entry'!AG82)","v":""},"","",{"$f":"IF('Marks Entry'!AH82=\"\",\"\",'Marks Entry'!AH82)","v":""},{"$f":"IF('Marks Entry'!AI82=\"\",\"\",'Marks Entry'!AI82)","v":""},"","",{"$f":"IF(AND($B80=\"NSO\",$E80=\"\"),\"\",IF(AND('Marks Entry'!AJ82=\"AB\",'Marks Entry'!AK82=\"AB\"),\"AB\",IF(AND('Marks Entry'!AJ82=\"ML\",'Marks Entry'!AK82=\"ML\"),\"RE\",IF('Marks Entry'!AJ82=\"\",\"\",ROUNDUP(('Marks Entry'!AJ82+'Marks Entry'!AK82)*30/100,0)))))","v":""},"",0,0,"","","","",{"$f":"IF('Marks Entry'!AL82=\"\",\"\",'Marks Entry'!AL82)","v":""},{"$f":"IF('Marks Entry'!AN82=\"\",\"\",'Marks Entry'!AN82)","v":""},{"$f":"IF('Marks Entry'!AO82=\"\",\"\",'Marks Entry'!AO82)","v":""},{"$f":"IF('Marks Entry'!AP82=\"\",\"\",'Marks Entry'!AP82)","v":""},"","",{"$f":"IF('Marks Entry'!AQ82=\"\",\"\",'Marks Entry'!AQ82)","v":""},{"$f":"IF('Marks Entry'!AR82=\"\",\"\",'Marks Entry'!AR82)","v":""},"","",{"$f":"IF(AND($B80=\"NSO\",$E80=\"\"),\"\",IF(AND('Marks Entry'!AS82=\"AB\",'Marks Entry'!AT82=\"AB\"),\"AB\",IF(AND('Marks Entry'!AS82=\"ML\",'Marks Entry'!AT82=\"ML\"),\"RE\",IF('Marks Entry'!AS82=\"\",\"\",ROUNDUP(('Marks Entry'!AS82+'Marks Entry'!AT82)*30/100,0)))))","v":""},"",0,0,"","","","",{"$f":"IF('Marks Entry'!AU82=\"\",\"\",'Marks Entry'!AU82)","v":""},{"$f":"IF('Marks Entry'!AW82=\"\",\"\",'Marks Entry'!AW82)","v":""},{"$f":"IF('Marks Entry'!AX82=\"\",\"\",'Marks Entry'!AX82)","v":""},{"$f":"IF('Marks Entry'!AY82=\"\",\"\",'Marks Entry'!AY82)","v":""},"","",{"$f":"IF('Marks Entry'!AZ82=\"\",\"\",'Marks Entry'!AZ82)","v":""},{"$f":"IF('Marks Entry'!BA82=\"\",\"\",'Marks Entry'!BA82)","v":""},"","",{"$f":"IF(AND($B80=\"NSO\",$E80=\"\"),\"\",IF(AND('Marks Entry'!BB82=\"AB\",'Marks Entry'!BC82=\"AB\"),\"AB\",IF(AND('Marks Entry'!BB82=\"ML\",'Marks Entry'!BC82=\"ML\"),\"RE\",IF('Marks Entry'!BB82=\"\",\"\",ROUNDUP(('Marks Entry'!BB82+'Marks Entry'!BC82)*30/100,0)))))","v":""},"",0,0,"","","","",0,"","","","","","",0,0,0,0,0,"",{"$f":"IF('Marks Entry'!BD82=\"\",\"\",'Marks Entry'!BD82)","v":""},{"$f":"IF('Marks Entry'!BE82=\"\",\"\",'Marks Entry'!BE82)","v":""},{"$f":"IF('Marks Entry'!BF82=\"\",\"\",'Marks Entry'!BF82)","v":""},"","","","","","","","","","","","","","","","","","","","","","","","","","",{"$f":"IF('Student DATA Entry'!I77=\"\",\"\",'Student DATA Entry'!I77)","v":""},{"$f":"IF('Student DATA Entry'!J77=\"\",\"\",'Student DATA Entry'!J77)","v":""},"      ","      ","      ","              "," ","","","","",""]
[76,{"$f":"IF('Marks Entry'!B83=\"\",\"\",VALUE('Marks Entry'!B83))","v":""},{"$f":"IF('Marks Entry'!C83=\"\",\"\",'Marks Entry'!C83)","v":""},{"$f":"IF('Marks Entry'!D83=\"\",\"\",'Marks Entry'!D83)","v":""},{"$f":"IF('Marks Entry'!E83=\"\",\"\",'Marks Entry'!E83)","v":""},{"$f":"IF('Marks Entry'!F83=\"\",\"\",'Marks Entry'!F83)","v":""},{"$f":"IF('Marks Entry'!G83=\"\",\"\",'Marks Entry'!G83)","v":""},{"$f":"IF('Marks Entry'!H83=\"\",\"\",'Marks Entry'!H83)","v":""},{"$f":"IF('Marks Entry'!I83=\"\",\"\",'Marks Entry'!I83)","v":""},{"$f":"IF('Marks Entry'!J83=\"\",\"\",'Marks Entry'!J83)","v":""},{"$f":"IF('Marks Entry'!K83=\"\",\"\",'Marks Entry'!K83)","v":""},{"$f":"IF('Marks Entry'!L83=\"\",\"\",'Marks Entry'!L83)","v":""},"","",{"$f":"IF('Marks Entry'!M83=\"\",\"\",'Marks Entry'!M83)","v":""},"",{"$f":"IF(AND($B81=\"NSO\",$E81=\"\",O81=\"\"),\"\",IF(AND('Marks Entry'!N83=\"AB\"),\"AB\",IF(AND('Marks Entry'!N83=\"ML\"),\"RE\",IF('Marks Entry'!N83=\"\",\"\",ROUNDUP('Marks Entry'!N83*30/100,0)))))","v":""},"",0,0,"","","","",{"$f":"IF('Marks Entry'!O83=\"\",\"\",'Marks Entry'!O83)","v":""},{"$f":"IF('Marks Entry'!P83=\"\",\"\",'Marks Entry'!P83)","v":""},{"$f":"IF('Marks Entry'!Q83=\"\",\"\",'Marks Entry'!Q83)","v":""},"","",{"$f":"IF('Marks Entry'!R83=\"\",\"\",'Marks Entry'!R83)","v":""},"",{"$f":"IF(AND($B81=\"NSO\",$E81=\"\"),\"\",IF(AND('Marks Entry'!S83=\"AB\"),\"AB\",IF(AND('Marks Entry'!S83=\"ML\"),\"RE\",IF('Marks Entry'!S83=\"\",\"\",ROUNDUP('Marks Entry'!S83*30/100,0)))))","v":""},"",0,0,"","","","",{"$f":"IF('Marks Entry'!T83=\"\",\"\",'Marks Entry'!T83)","v":""},{"$f":"IF('Marks Entry'!V83=\"\",\"\",'Marks Entry'!V83)","v":""},{"$f":"IF('Marks Entry'!W83=\"\",\"\",'Marks Entry'!W83)","v":""},{"$f":"IF('Marks Entry'!X83=\"\",\"\",'Marks Entry'!X83)","v":""},"","",{"$f":"IF('Marks Entry'!Y83=\"\",\"\",'Marks Entry'!Y83)","v":""},{"$f":"IF('Marks Entry'!Z83=\"\",\"\",'Marks Entry'!Z83)","v":""},"","",{"$f":"IF(AND($B81=\"NSO\",$E81=\"\"),\"\",IF(AND('Marks Entry'!AA83=\"AB\",'Marks Entry'!AB83=\"AB\"),\"AB\",IF(AND('Marks Entry'!AA83=\"ML\",'Marks Entry'!AB83=\"ML\"),\"RE\",IF('Marks Entry'!AA83=\"\",\"\",ROUNDUP(('Marks Entry'!AA83+'Marks Entry'!AB83)*30/100,0)))))","v":""},"",0,0,"","","","",{"$f":"IF('Marks Entry'!AC83=\"\",\"\",'Marks Entry'!AC83)","v":""},{"$f":"IF('Marks Entry'!AE83=\"\",\"\",'Marks Entry'!AE83)","v":""},{"$f":"IF('Marks Entry'!AF83=\"\",\"\",'Marks Entry'!AF83)","v":""},{"$f":"IF('Marks Entry'!AG83=\"\",\"\",'Marks Entry'!AG83)","v":""},"","",{"$f":"IF('Marks Entry'!AH83=\"\",\"\",'Marks Entry'!AH83)","v":""},{"$f":"IF('Marks Entry'!AI83=\"\",\"\",'Marks Entry'!AI83)","v":""},"","",{"$f":"IF(AND($B81=\"NSO\",$E81=\"\"),\"\",IF(AND('Marks Entry'!AJ83=\"AB\",'Marks Entry'!AK83=\"AB\"),\"AB\",IF(AND('Marks Entry'!AJ83=\"ML\",'Marks Entry'!AK83=\"ML\"),\"RE\",IF('Marks Entry'!AJ83=\"\",\"\",ROUNDUP(('Marks Entry'!AJ83+'Marks Entry'!AK83)*30/100,0)))))","v":""},"",0,0,"","","","",{"$f":"IF('Marks Entry'!AL83=\"\",\"\",'Marks Entry'!AL83)","v":""},{"$f":"IF('Marks Entry'!AN83=\"\",\"\",'Marks Entry'!AN83)","v":""},{"$f":"IF('Marks Entry'!AO83=\"\",\"\",'Marks Entry'!AO83)","v":""},{"$f":"IF('Marks Entry'!AP83=\"\",\"\",'Marks Entry'!AP83)","v":""},"","",{"$f":"IF('Marks Entry'!AQ83=\"\",\"\",'Marks Entry'!AQ83)","v":""},{"$f":"IF('Marks Entry'!AR83=\"\",\"\",'Marks Entry'!AR83)","v":""},"","",{"$f":"IF(AND($B81=\"NSO\",$E81=\"\"),\"\",IF(AND('Marks Entry'!AS83=\"AB\",'Marks Entry'!AT83=\"AB\"),\"AB\",IF(AND('Marks Entry'!AS83=\"ML\",'Marks Entry'!AT83=\"ML\"),\"RE\",IF('Marks Entry'!AS83=\"\",\"\",ROUNDUP(('Marks Entry'!AS83+'Marks Entry'!AT83)*30/100,0)))))","v":""},"",0,0,"","","","",{"$f":"IF('Marks Entry'!AU83=\"\",\"\",'Marks Entry'!AU83)","v":""},{"$f":"IF('Marks Entry'!AW83=\"\",\"\",'Marks Entry'!AW83)","v":""},{"$f":"IF('Marks Entry'!AX83=\"\",\"\",'Marks Entry'!AX83)","v":""},{"$f":"IF('Marks Entry'!AY83=\"\",\"\",'Marks Entry'!AY83)","v":""},"","",{"$f":"IF('Marks Entry'!AZ83=\"\",\"\",'Marks Entry'!AZ83)","v":""},{"$f":"IF('Marks Entry'!BA83=\"\",\"\",'Marks Entry'!BA83)","v":""},"","",{"$f":"IF(AND($B81=\"NSO\",$E81=\"\"),\"\",IF(AND('Marks Entry'!BB83=\"AB\",'Marks Entry'!BC83=\"AB\"),\"AB\",IF(AND('Marks Entry'!BB83=\"ML\",'Marks Entry'!BC83=\"ML\"),\"RE\",IF('Marks Entry'!BB83=\"\",\"\",ROUNDUP(('Marks Entry'!BB83+'Marks Entry'!BC83)*30/100,0)))))","v":""},"",0,0,"","","","",0,"","","","","","",0,0,0,0,0,"",{"$f":"IF('Marks Entry'!BD83=\"\",\"\",'Marks Entry'!BD83)","v":""},{"$f":"IF('Marks Entry'!BE83=\"\",\"\",'Marks Entry'!BE83)","v":""},{"$f":"IF('Marks Entry'!BF83=\"\",\"\",'Marks Entry'!BF83)","v":""},"","","","","","","","","","","","","","","","","","","","","","","","","","",{"$f":"IF('Student DATA Entry'!I78=\"\",\"\",'Student DATA Entry'!I78)","v":""},{"$f":"IF('Student DATA Entry'!J78=\"\",\"\",'Student DATA Entry'!J78)","v":""},"      ","      ","      ","              "," ","","","","",""]
[77,{"$f":"IF('Marks Entry'!B84=\"\",\"\",VALUE('Marks Entry'!B84))","v":""},{"$f":"IF('Marks Entry'!C84=\"\",\"\",'Marks Entry'!C84)","v":""},{"$f":"IF('Marks Entry'!D84=\"\",\"\",'Marks Entry'!D84)","v":""},{"$f":"IF('Marks Entry'!E84=\"\",\"\",'Marks Entry'!E84)","v":""},{"$f":"IF('Marks Entry'!F84=\"\",\"\",'Marks Entry'!F84)","v":""},{"$f":"IF('Marks Entry'!G84=\"\",\"\",'Marks Entry'!G84)","v":""},{"$f":"IF('Marks Entry'!H84=\"\",\"\",'Marks Entry'!H84)","v":""},{"$f":"IF('Marks Entry'!I84=\"\",\"\",'Marks Entry'!I84)","v":""},{"$f":"IF('Marks Entry'!J84=\"\",\"\",'Marks Entry'!J84)","v":""},{"$f":"IF('Marks Entry'!K84=\"\",\"\",'Marks Entry'!K84)","v":""},{"$f":"IF('Marks Entry'!L84=\"\",\"\",'Marks Entry'!L84)","v":""},"","",{"$f":"IF('Marks Entry'!M84=\"\",\"\",'Marks Entry'!M84)","v":""},"",{"$f":"IF(AND($B82=\"NSO\",$E82=\"\",O82=\"\"),\"\",IF(AND('Marks Entry'!N84=\"AB\"),\"AB\",IF(AND('Marks Entry'!N84=\"ML\"),\"RE\",IF('Marks Entry'!N84=\"\",\"\",ROUNDUP('Marks Entry'!N84*30/100,0)))))","v":""},"",0,0,"","","","",{"$f":"IF('Marks Entry'!O84=\"\",\"\",'Marks Entry'!O84)","v":""},{"$f":"IF('Marks Entry'!P84=\"\",\"\",'Marks Entry'!P84)","v":""},{"$f":"IF('Marks Entry'!Q84=\"\",\"\",'Marks Entry'!Q84)","v":""},"","",{"$f":"IF('Marks Entry'!R84=\"\",\"\",'Marks Entry'!R84)","v":""},"",{"$f":"IF(AND($B82=\"NSO\",$E82=\"\"),\"\",IF(AND('Marks Entry'!S84=\"AB\"),\"AB\",IF(AND('Marks Entry'!S84=\"ML\"),\"RE\",IF('Marks Entry'!S84=\"\",\"\",ROUNDUP('Marks Entry'!S84*30/100,0)))))","v":""},"",0,0,"","","","",{"$f":"IF('Marks Entry'!T84=\"\",\"\",'Marks Entry'!T84)","v":""},{"$f":"IF('Marks Entry'!V84=\"\",\"\",'Marks Entry'!V84)","v":""},{"$f":"IF('Marks Entry'!W84=\"\",\"\",'Marks Entry'!W84)","v":""},{"$f":"IF('Marks Entry'!X84=\"\",\"\",'Marks Entry'!X84)","v":""},"","",{"$f":"IF('Marks Entry'!Y84=\"\",\"\",'Marks Entry'!Y84)","v":""},{"$f":"IF('Marks Entry'!Z84=\"\",\"\",'Marks Entry'!Z84)","v":""},"","",{"$f":"IF(AND($B82=\"NSO\",$E82=\"\"),\"\",IF(AND('Marks Entry'!AA84=\"AB\",'Marks Entry'!AB84=\"AB\"),\"AB\",IF(AND('Marks Entry'!AA84=\"ML\",'Marks Entry'!AB84=\"ML\"),\"RE\",IF('Marks Entry'!AA84=\"\",\"\",ROUNDUP(('Marks Entry'!AA84+'Marks Entry'!AB84)*30/100,0)))))","v":""},"",0,0,"","","","",{"$f":"IF('Marks Entry'!AC84=\"\",\"\",'Marks Entry'!AC84)","v":""},{"$f":"IF('Marks Entry'!AE84=\"\",\"\",'Marks Entry'!AE84)","v":""},{"$f":"IF('Marks Entry'!AF84=\"\",\"\",'Marks Entry'!AF84)","v":""},{"$f":"IF('Marks Entry'!AG84=\"\",\"\",'Marks Entry'!AG84)","v":""},"","",{"$f":"IF('Marks Entry'!AH84=\"\",\"\",'Marks Entry'!AH84)","v":""},{"$f":"IF('Marks Entry'!AI84=\"\",\"\",'Marks Entry'!AI84)","v":""},"","",{"$f":"IF(AND($B82=\"NSO\",$E82=\"\"),\"\",IF(AND('Marks Entry'!AJ84=\"AB\",'Marks Entry'!AK84=\"AB\"),\"AB\",IF(AND('Marks Entry'!AJ84=\"ML\",'Marks Entry'!AK84=\"ML\"),\"RE\",IF('Marks Entry'!AJ84=\"\",\"\",ROUNDUP(('Marks Entry'!AJ84+'Marks Entry'!AK84)*30/100,0)))))","v":""},"",0,0,"","","","",{"$f":"IF('Marks Entry'!AL84=\"\",\"\",'Marks Entry'!AL84)","v":""},{"$f":"IF('Marks Entry'!AN84=\"\",\"\",'Marks Entry'!AN84)","v":""},{"$f":"IF('Marks Entry'!AO84=\"\",\"\",'Marks Entry'!AO84)","v":""},{"$f":"IF('Marks Entry'!AP84=\"\",\"\",'Marks Entry'!AP84)","v":""},"","",{"$f":"IF('Marks Entry'!AQ84=\"\",\"\",'Marks Entry'!AQ84)","v":""},{"$f":"IF('Marks Entry'!AR84=\"\",\"\",'Marks Entry'!AR84)","v":""},"","",{"$f":"IF(AND($B82=\"NSO\",$E82=\"\"),\"\",IF(AND('Marks Entry'!AS84=\"AB\",'Marks Entry'!AT84=\"AB\"),\"AB\",IF(AND('Marks Entry'!AS84=\"ML\",'Marks Entry'!AT84=\"ML\"),\"RE\",IF('Marks Entry'!AS84=\"\",\"\",ROUNDUP(('Marks Entry'!AS84+'Marks Entry'!AT84)*30/100,0)))))","v":""},"",0,0,"","","","",{"$f":"IF('Marks Entry'!AU84=\"\",\"\",'Marks Entry'!AU84)","v":""},{"$f":"IF('Marks Entry'!AW84=\"\",\"\",'Marks Entry'!AW84)","v":""},{"$f":"IF('Marks Entry'!AX84=\"\",\"\",'Marks Entry'!AX84)","v":""},{"$f":"IF('Marks Entry'!AY84=\"\",\"\",'Marks Entry'!AY84)","v":""},"","",{"$f":"IF('Marks Entry'!AZ84=\"\",\"\",'Marks Entry'!AZ84)","v":""},{"$f":"IF('Marks Entry'!BA84=\"\",\"\",'Marks Entry'!BA84)","v":""},"","",{"$f":"IF(AND($B82=\"NSO\",$E82=\"\"),\"\",IF(AND('Marks Entry'!BB84=\"AB\",'Marks Entry'!BC84=\"AB\"),\"AB\",IF(AND('Marks Entry'!BB84=\"ML\",'Marks Entry'!BC84=\"ML\"),\"RE\",IF('Marks Entry'!BB84=\"\",\"\",ROUNDUP(('Marks Entry'!BB84+'Marks Entry'!BC84)*30/100,0)))))","v":""},"",0,0,"","","","",0,"","","","","","",0,0,0,0,0,"",{"$f":"IF('Marks Entry'!BD84=\"\",\"\",'Marks Entry'!BD84)","v":""},{"$f":"IF('Marks Entry'!BE84=\"\",\"\",'Marks Entry'!BE84)","v":""},{"$f":"IF('Marks Entry'!BF84=\"\",\"\",'Marks Entry'!BF84)","v":""},"","","","","","","","","","","","","","","","","","","","","","","","","","",{"$f":"IF('Student DATA Entry'!I79=\"\",\"\",'Student DATA Entry'!I79)","v":""},{"$f":"IF('Student DATA Entry'!J79=\"\",\"\",'Student DATA Entry'!J79)","v":""},"      ","      ","      ","              "," ","","","","",""]
[78,{"$f":"IF('Marks Entry'!B85=\"\",\"\",VALUE('Marks Entry'!B85))","v":""},{"$f":"IF('Marks Entry'!C85=\"\",\"\",'Marks Entry'!C85)","v":""},{"$f":"IF('Marks Entry'!D85=\"\",\"\",'Marks Entry'!D85)","v":""},{"$f":"IF('Marks Entry'!E85=\"\",\"\",'Marks Entry'!E85)","v":""},{"$f":"IF('Marks Entry'!F85=\"\",\"\",'Marks Entry'!F85)","v":""},{"$f":"IF('Marks Entry'!G85=\"\",\"\",'Marks Entry'!G85)","v":""},{"$f":"IF('Marks Entry'!H85=\"\",\"\",'Marks Entry'!H85)","v":""},{"$f":"IF('Marks Entry'!I85=\"\",\"\",'Marks Entry'!I85)","v":""},{"$f":"IF('Marks Entry'!J85=\"\",\"\",'Marks Entry'!J85)","v":""},{"$f":"IF('Marks Entry'!K85=\"\",\"\",'Marks Entry'!K85)","v":""},{"$f":"IF('Marks Entry'!L85=\"\",\"\",'Marks Entry'!L85)","v":""},"","",{"$f":"IF('Marks Entry'!M85=\"\",\"\",'Marks Entry'!M85)","v":""},"",{"$f":"IF(AND($B83=\"NSO\",$E83=\"\",O83=\"\"),\"\",IF(AND('Marks Entry'!N85=\"AB\"),\"AB\",IF(AND('Marks Entry'!N85=\"ML\"),\"RE\",IF('Marks Entry'!N85=\"\",\"\",ROUNDUP('Marks Entry'!N85*30/100,0)))))","v":""},"",0,0,"","","","",{"$f":"IF('Marks Entry'!O85=\"\",\"\",'Marks Entry'!O85)","v":""},{"$f":"IF('Marks Entry'!P85=\"\",\"\",'Marks Entry'!P85)","v":""},{"$f":"IF('Marks Entry'!Q85=\"\",\"\",'Marks Entry'!Q85)","v":""},"","",{"$f":"IF('Marks Entry'!R85=\"\",\"\",'Marks Entry'!R85)","v":""},"",{"$f":"IF(AND($B83=\"NSO\",$E83=\"\"),\"\",IF(AND('Marks Entry'!S85=\"AB\"),\"AB\",IF(AND('Marks Entry'!S85=\"ML\"),\"RE\",IF('Marks Entry'!S85=\"\",\"\",ROUNDUP('Marks Entry'!S85*30/100,0)))))","v":""},"",0,0,"","","","",{"$f":"IF('Marks Entry'!T85=\"\",\"\",'Marks Entry'!T85)","v":""},{"$f":"IF('Marks Entry'!V85=\"\",\"\",'Marks Entry'!V85)","v":""},{"$f":"IF('Marks Entry'!W85=\"\",\"\",'Marks Entry'!W85)","v":""},{"$f":"IF('Marks Entry'!X85=\"\",\"\",'Marks Entry'!X85)","v":""},"","",{"$f":"IF('Marks Entry'!Y85=\"\",\"\",'Marks Entry'!Y85)","v":""},{"$f":"IF('Marks Entry'!Z85=\"\",\"\",'Marks Entry'!Z85)","v":""},"","",{"$f":"IF(AND($B83=\"NSO\",$E83=\"\"),\"\",IF(AND('Marks Entry'!AA85=\"AB\",'Marks Entry'!AB85=\"AB\"),\"AB\",IF(AND('Marks Entry'!AA85=\"ML\",'Marks Entry'!AB85=\"ML\"),\"RE\",IF('Marks Entry'!AA85=\"\",\"\",ROUNDUP(('Marks Entry'!AA85+'Marks Entry'!AB85)*30/100,0)))))","v":""},"",0,0,"","","","",{"$f":"IF('Marks Entry'!AC85=\"\",\"\",'Marks Entry'!AC85)","v":""},{"$f":"IF('Marks Entry'!AE85=\"\",\"\",'Marks Entry'!AE85)","v":""},{"$f":"IF('Marks Entry'!AF85=\"\",\"\",'Marks Entry'!AF85)","v":""},{"$f":"IF('Marks Entry'!AG85=\"\",\"\",'Marks Entry'!AG85)","v":""},"","",{"$f":"IF('Marks Entry'!AH85=\"\",\"\",'Marks Entry'!AH85)","v":""},{"$f":"IF('Marks Entry'!AI85=\"\",\"\",'Marks Entry'!AI85)","v":""},"","",{"$f":"IF(AND($B83=\"NSO\",$E83=\"\"),\"\",IF(AND('Marks Entry'!AJ85=\"AB\",'Marks Entry'!AK85=\"AB\"),\"AB\",IF(AND('Marks Entry'!AJ85=\"ML\",'Marks Entry'!AK85=\"ML\"),\"RE\",IF('Marks Entry'!AJ85=\"\",\"\",ROUNDUP(('Marks Entry'!AJ85+'Marks Entry'!AK85)*30/100,0)))))","v":""},"",0,0,"","","","",{"$f":"IF('Marks Entry'!AL85=\"\",\"\",'Marks Entry'!AL85)","v":""},{"$f":"IF('Marks Entry'!AN85=\"\",\"\",'Marks Entry'!AN85)","v":""},{"$f":"IF('Marks Entry'!AO85=\"\",\"\",'Marks Entry'!AO85)","v":""},{"$f":"IF('Marks Entry'!AP85=\"\",\"\",'Marks Entry'!AP85)","v":""},"","",{"$f":"IF('Marks Entry'!AQ85=\"\",\"\",'Marks Entry'!AQ85)","v":""},{"$f":"IF('Marks Entry'!AR85=\"\",\"\",'Marks Entry'!AR85)","v":""},"","",{"$f":"IF(AND($B83=\"NSO\",$E83=\"\"),\"\",IF(AND('Marks Entry'!AS85=\"AB\",'Marks Entry'!AT85=\"AB\"),\"AB\",IF(AND('Marks Entry'!AS85=\"ML\",'Marks Entry'!AT85=\"ML\"),\"RE\",IF('Marks Entry'!AS85=\"\",\"\",ROUNDUP(('Marks Entry'!AS85+'Marks Entry'!AT85)*30/100,0)))))","v":""},"",0,0,"","","","",{"$f":"IF('Marks Entry'!AU85=\"\",\"\",'Marks Entry'!AU85)","v":""},{"$f":"IF('Marks Entry'!AW85=\"\",\"\",'Marks Entry'!AW85)","v":""},{"$f":"IF('Marks Entry'!AX85=\"\",\"\",'Marks Entry'!AX85)","v":""},{"$f":"IF('Marks Entry'!AY85=\"\",\"\",'Marks Entry'!AY85)","v":""},"","",{"$f":"IF('Marks Entry'!AZ85=\"\",\"\",'Marks Entry'!AZ85)","v":""},{"$f":"IF('Marks Entry'!BA85=\"\",\"\",'Marks Entry'!BA85)","v":""},"","",{"$f":"IF(AND($B83=\"NSO\",$E83=\"\"),\"\",IF(AND('Marks Entry'!BB85=\"AB\",'Marks Entry'!BC85=\"AB\"),\"AB\",IF(AND('Marks Entry'!BB85=\"ML\",'Marks Entry'!BC85=\"ML\"),\"RE\",IF('Marks Entry'!BB85=\"\",\"\",ROUNDUP(('Marks Entry'!BB85+'Marks Entry'!BC85)*30/100,0)))))","v":""},"",0,0,"","","","",0,"","","","","","",0,0,0,0,0,"",{"$f":"IF('Marks Entry'!BD85=\"\",\"\",'Marks Entry'!BD85)","v":""},{"$f":"IF('Marks Entry'!BE85=\"\",\"\",'Marks Entry'!BE85)","v":""},{"$f":"IF('Marks Entry'!BF85=\"\",\"\",'Marks Entry'!BF85)","v":""},"","","","","","","","","","","","","","","","","","","","","","","","","","",{"$f":"IF('Student DATA Entry'!I80=\"\",\"\",'Student DATA Entry'!I80)","v":""},{"$f":"IF('Student DATA Entry'!J80=\"\",\"\",'Student DATA Entry'!J80)","v":""},"      ","      ","      ","              "," ","","","","",""]
[79,{"$f":"IF('Marks Entry'!B86=\"\",\"\",VALUE('Marks Entry'!B86))","v":""},{"$f":"IF('Marks Entry'!C86=\"\",\"\",'Marks Entry'!C86)","v":""},{"$f":"IF('Marks Entry'!D86=\"\",\"\",'Marks Entry'!D86)","v":""},{"$f":"IF('Marks Entry'!E86=\"\",\"\",'Marks Entry'!E86)","v":""},{"$f":"IF('Marks Entry'!F86=\"\",\"\",'Marks Entry'!F86)","v":""},{"$f":"IF('Marks Entry'!G86=\"\",\"\",'Marks Entry'!G86)","v":""},{"$f":"IF('Marks Entry'!H86=\"\",\"\",'Marks Entry'!H86)","v":""},{"$f":"IF('Marks Entry'!I86=\"\",\"\",'Marks Entry'!I86)","v":""},{"$f":"IF('Marks Entry'!J86=\"\",\"\",'Marks Entry'!J86)","v":""},{"$f":"IF('Marks Entry'!K86=\"\",\"\",'Marks Entry'!K86)","v":""},{"$f":"IF('Marks Entry'!L86=\"\",\"\",'Marks Entry'!L86)","v":""},"","",{"$f":"IF('Marks Entry'!M86=\"\",\"\",'Marks Entry'!M86)","v":""},"",{"$f":"IF(AND($B84=\"NSO\",$E84=\"\",O84=\"\"),\"\",IF(AND('Marks Entry'!N86=\"AB\"),\"AB\",IF(AND('Marks Entry'!N86=\"ML\"),\"RE\",IF('Marks Entry'!N86=\"\",\"\",ROUNDUP('Marks Entry'!N86*30/100,0)))))","v":""},"",0,0,"","","","",{"$f":"IF('Marks Entry'!O86=\"\",\"\",'Marks Entry'!O86)","v":""},{"$f":"IF('Marks Entry'!P86=\"\",\"\",'Marks Entry'!P86)","v":""},{"$f":"IF('Marks Entry'!Q86=\"\",\"\",'Marks Entry'!Q86)","v":""},"","",{"$f":"IF('Marks Entry'!R86=\"\",\"\",'Marks Entry'!R86)","v":""},"",{"$f":"IF(AND($B84=\"NSO\",$E84=\"\"),\"\",IF(AND('Marks Entry'!S86=\"AB\"),\"AB\",IF(AND('Marks Entry'!S86=\"ML\"),\"RE\",IF('Marks Entry'!S86=\"\",\"\",ROUNDUP('Marks Entry'!S86*30/100,0)))))","v":""},"",0,0,"","","","",{"$f":"IF('Marks Entry'!T86=\"\",\"\",'Marks Entry'!T86)","v":""},{"$f":"IF('Marks Entry'!V86=\"\",\"\",'Marks Entry'!V86)","v":""},{"$f":"IF('Marks Entry'!W86=\"\",\"\",'Marks Entry'!W86)","v":""},{"$f":"IF('Marks Entry'!X86=\"\",\"\",'Marks Entry'!X86)","v":""},"","",{"$f":"IF('Marks Entry'!Y86=\"\",\"\",'Marks Entry'!Y86)","v":""},{"$f":"IF('Marks Entry'!Z86=\"\",\"\",'Marks Entry'!Z86)","v":""},"","",{"$f":"IF(AND($B84=\"NSO\",$E84=\"\"),\"\",IF(AND('Marks Entry'!AA86=\"AB\",'Marks Entry'!AB86=\"AB\"),\"AB\",IF(AND('Marks Entry'!AA86=\"ML\",'Marks Entry'!AB86=\"ML\"),\"RE\",IF('Marks Entry'!AA86=\"\",\"\",ROUNDUP(('Marks Entry'!AA86+'Marks Entry'!AB86)*30/100,0)))))","v":""},"",0,0,"","","","",{"$f":"IF('Marks Entry'!AC86=\"\",\"\",'Marks Entry'!AC86)","v":""},{"$f":"IF('Marks Entry'!AE86=\"\",\"\",'Marks Entry'!AE86)","v":""},{"$f":"IF('Marks Entry'!AF86=\"\",\"\",'Marks Entry'!AF86)","v":""},{"$f":"IF('Marks Entry'!AG86=\"\",\"\",'Marks Entry'!AG86)","v":""},"","",{"$f":"IF('Marks Entry'!AH86=\"\",\"\",'Marks Entry'!AH86)","v":""},{"$f":"IF('Marks Entry'!AI86=\"\",\"\",'Marks Entry'!AI86)","v":""},"","",{"$f":"IF(AND($B84=\"NSO\",$E84=\"\"),\"\",IF(AND('Marks Entry'!AJ86=\"AB\",'Marks Entry'!AK86=\"AB\"),\"AB\",IF(AND('Marks Entry'!AJ86=\"ML\",'Marks Entry'!AK86=\"ML\"),\"RE\",IF('Marks Entry'!AJ86=\"\",\"\",ROUNDUP(('Marks Entry'!AJ86+'Marks Entry'!AK86)*30/100,0)))))","v":""},"",0,0,"","","","",{"$f":"IF('Marks Entry'!AL86=\"\",\"\",'Marks Entry'!AL86)","v":""},{"$f":"IF('Marks Entry'!AN86=\"\",\"\",'Marks Entry'!AN86)","v":""},{"$f":"IF('Marks Entry'!AO86=\"\",\"\",'Marks Entry'!AO86)","v":""},{"$f":"IF('Marks Entry'!AP86=\"\",\"\",'Marks Entry'!AP86)","v":""},"","",{"$f":"IF('Marks Entry'!AQ86=\"\",\"\",'Marks Entry'!AQ86)","v":""},{"$f":"IF('Marks Entry'!AR86=\"\",\"\",'Marks Entry'!AR86)","v":""},"","",{"$f":"IF(AND($B84=\"NSO\",$E84=\"\"),\"\",IF(AND('Marks Entry'!AS86=\"AB\",'Marks Entry'!AT86=\"AB\"),\"AB\",IF(AND('Marks Entry'!AS86=\"ML\",'Marks Entry'!AT86=\"ML\"),\"RE\",IF('Marks Entry'!AS86=\"\",\"\",ROUNDUP(('Marks Entry'!AS86+'Marks Entry'!AT86)*30/100,0)))))","v":""},"",0,0,"","","","",{"$f":"IF('Marks Entry'!AU86=\"\",\"\",'Marks Entry'!AU86)","v":""},{"$f":"IF('Marks Entry'!AW86=\"\",\"\",'Marks Entry'!AW86)","v":""},{"$f":"IF('Marks Entry'!AX86=\"\",\"\",'Marks Entry'!AX86)","v":""},{"$f":"IF('Marks Entry'!AY86=\"\",\"\",'Marks Entry'!AY86)","v":""},"","",{"$f":"IF('Marks Entry'!AZ86=\"\",\"\",'Marks Entry'!AZ86)","v":""},{"$f":"IF('Marks Entry'!BA86=\"\",\"\",'Marks Entry'!BA86)","v":""},"","",{"$f":"IF(AND($B84=\"NSO\",$E84=\"\"),\"\",IF(AND('Marks Entry'!BB86=\"AB\",'Marks Entry'!BC86=\"AB\"),\"AB\",IF(AND('Marks Entry'!BB86=\"ML\",'Marks Entry'!BC86=\"ML\"),\"RE\",IF('Marks Entry'!BB86=\"\",\"\",ROUNDUP(('Marks Entry'!BB86+'Marks Entry'!BC86)*30/100,0)))))","v":""},"",0,0,"","","","",0,"","","","","","",0,0,0,0,0,"",{"$f":"IF('Marks Entry'!BD86=\"\",\"\",'Marks Entry'!BD86)","v":""},{"$f":"IF('Marks Entry'!BE86=\"\",\"\",'Marks Entry'!BE86)","v":""},{"$f":"IF('Marks Entry'!BF86=\"\",\"\",'Marks Entry'!BF86)","v":""},"","","","","","","","","","","","","","","","","","","","","","","","","","",{"$f":"IF('Student DATA Entry'!I81=\"\",\"\",'Student DATA Entry'!I81)","v":""},{"$f":"IF('Student DATA Entry'!J81=\"\",\"\",'Student DATA Entry'!J81)","v":""},"      ","      ","      ","              "," ","","","","",""]
[80,{"$f":"IF('Marks Entry'!B87=\"\",\"\",VALUE('Marks Entry'!B87))","v":""},{"$f":"IF('Marks Entry'!C87=\"\",\"\",'Marks Entry'!C87)","v":""},{"$f":"IF('Marks Entry'!D87=\"\",\"\",'Marks Entry'!D87)","v":""},{"$f":"IF('Marks Entry'!E87=\"\",\"\",'Marks Entry'!E87)","v":""},{"$f":"IF('Marks Entry'!F87=\"\",\"\",'Marks Entry'!F87)","v":""},{"$f":"IF('Marks Entry'!G87=\"\",\"\",'Marks Entry'!G87)","v":""},{"$f":"IF('Marks Entry'!H87=\"\",\"\",'Marks Entry'!H87)","v":""},{"$f":"IF('Marks Entry'!I87=\"\",\"\",'Marks Entry'!I87)","v":""},{"$f":"IF('Marks Entry'!J87=\"\",\"\",'Marks Entry'!J87)","v":""},{"$f":"IF('Marks Entry'!K87=\"\",\"\",'Marks Entry'!K87)","v":""},{"$f":"IF('Marks Entry'!L87=\"\",\"\",'Marks Entry'!L87)","v":""},"","",{"$f":"IF('Marks Entry'!M87=\"\",\"\",'Marks Entry'!M87)","v":""},"",{"$f":"IF(AND($B85=\"NSO\",$E85=\"\",O85=\"\"),\"\",IF(AND('Marks Entry'!N87=\"AB\"),\"AB\",IF(AND('Marks Entry'!N87=\"ML\"),\"RE\",IF('Marks Entry'!N87=\"\",\"\",ROUNDUP('Marks Entry'!N87*30/100,0)))))","v":""},"",0,0,"","","","",{"$f":"IF('Marks Entry'!O87=\"\",\"\",'Marks Entry'!O87)","v":""},{"$f":"IF('Marks Entry'!P87=\"\",\"\",'Marks Entry'!P87)","v":""},{"$f":"IF('Marks Entry'!Q87=\"\",\"\",'Marks Entry'!Q87)","v":""},"","",{"$f":"IF('Marks Entry'!R87=\"\",\"\",'Marks Entry'!R87)","v":""},"",{"$f":"IF(AND($B85=\"NSO\",$E85=\"\"),\"\",IF(AND('Marks Entry'!S87=\"AB\"),\"AB\",IF(AND('Marks Entry'!S87=\"ML\"),\"RE\",IF('Marks Entry'!S87=\"\",\"\",ROUNDUP('Marks Entry'!S87*30/100,0)))))","v":""},"",0,0,"","","","",{"$f":"IF('Marks Entry'!T87=\"\",\"\",'Marks Entry'!T87)","v":""},{"$f":"IF('Marks Entry'!V87=\"\",\"\",'Marks Entry'!V87)","v":""},{"$f":"IF('Marks Entry'!W87=\"\",\"\",'Marks Entry'!W87)","v":""},{"$f":"IF('Marks Entry'!X87=\"\",\"\",'Marks Entry'!X87)","v":""},"","",{"$f":"IF('Marks Entry'!Y87=\"\",\"\",'Marks Entry'!Y87)","v":""},{"$f":"IF('Marks Entry'!Z87=\"\",\"\",'Marks Entry'!Z87)","v":""},"","",{"$f":"IF(AND($B85=\"NSO\",$E85=\"\"),\"\",IF(AND('Marks Entry'!AA87=\"AB\",'Marks Entry'!AB87=\"AB\"),\"AB\",IF(AND('Marks Entry'!AA87=\"ML\",'Marks Entry'!AB87=\"ML\"),\"RE\",IF('Marks Entry'!AA87=\"\",\"\",ROUNDUP(('Marks Entry'!AA87+'Marks Entry'!AB87)*30/100,0)))))","v":""},"",0,0,"","","","",{"$f":"IF('Marks Entry'!AC87=\"\",\"\",'Marks Entry'!AC87)","v":""},{"$f":"IF('Marks Entry'!AE87=\"\",\"\",'Marks Entry'!AE87)","v":""},{"$f":"IF('Marks Entry'!AF87=\"\",\"\",'Marks Entry'!AF87)","v":""},{"$f":"IF('Marks Entry'!AG87=\"\",\"\",'Marks Entry'!AG87)","v":""},"","",{"$f":"IF('Marks Entry'!AH87=\"\",\"\",'Marks Entry'!AH87)","v":""},{"$f":"IF('Marks Entry'!AI87=\"\",\"\",'Marks Entry'!AI87)","v":""},"","",{"$f":"IF(AND($B85=\"NSO\",$E85=\"\"),\"\",IF(AND('Marks Entry'!AJ87=\"AB\",'Marks Entry'!AK87=\"AB\"),\"AB\",IF(AND('Marks Entry'!AJ87=\"ML\",'Marks Entry'!AK87=\"ML\"),\"RE\",IF('Marks Entry'!AJ87=\"\",\"\",ROUNDUP(('Marks Entry'!AJ87+'Marks Entry'!AK87)*30/100,0)))))","v":""},"",0,0,"","","","",{"$f":"IF('Marks Entry'!AL87=\"\",\"\",'Marks Entry'!AL87)","v":""},{"$f":"IF('Marks Entry'!AN87=\"\",\"\",'Marks Entry'!AN87)","v":""},{"$f":"IF('Marks Entry'!AO87=\"\",\"\",'Marks Entry'!AO87)","v":""},{"$f":"IF('Marks Entry'!AP87=\"\",\"\",'Marks Entry'!AP87)","v":""},"","",{"$f":"IF('Marks Entry'!AQ87=\"\",\"\",'Marks Entry'!AQ87)","v":""},{"$f":"IF('Marks Entry'!AR87=\"\",\"\",'Marks Entry'!AR87)","v":""},"","",{"$f":"IF(AND($B85=\"NSO\",$E85=\"\"),\"\",IF(AND('Marks Entry'!AS87=\"AB\",'Marks Entry'!AT87=\"AB\"),\"AB\",IF(AND('Marks Entry'!AS87=\"ML\",'Marks Entry'!AT87=\"ML\"),\"RE\",IF('Marks Entry'!AS87=\"\",\"\",ROUNDUP(('Marks Entry'!AS87+'Marks Entry'!AT87)*30/100,0)))))","v":""},"",0,0,"","","","",{"$f":"IF('Marks Entry'!AU87=\"\",\"\",'Marks Entry'!AU87)","v":""},{"$f":"IF('Marks Entry'!AW87=\"\",\"\",'Marks Entry'!AW87)","v":""},{"$f":"IF('Marks Entry'!AX87=\"\",\"\",'Marks Entry'!AX87)","v":""},{"$f":"IF('Marks Entry'!AY87=\"\",\"\",'Marks Entry'!AY87)","v":""},"","",{"$f":"IF('Marks Entry'!AZ87=\"\",\"\",'Marks Entry'!AZ87)","v":""},{"$f":"IF('Marks Entry'!BA87=\"\",\"\",'Marks Entry'!BA87)","v":""},"","",{"$f":"IF(AND($B85=\"NSO\",$E85=\"\"),\"\",IF(AND('Marks Entry'!BB87=\"AB\",'Marks Entry'!BC87=\"AB\"),\"AB\",IF(AND('Marks Entry'!BB87=\"ML\",'Marks Entry'!BC87=\"ML\"),\"RE\",IF('Marks Entry'!BB87=\"\",\"\",ROUNDUP(('Marks Entry'!BB87+'Marks Entry'!BC87)*30/100,0)))))","v":""},"",0,0,"","","","",0,"","","","","","",0,0,0,0,0,"",{"$f":"IF('Marks Entry'!BD87=\"\",\"\",'Marks Entry'!BD87)","v":""},{"$f":"IF('Marks Entry'!BE87=\"\",\"\",'Marks Entry'!BE87)","v":""},{"$f":"IF('Marks Entry'!BF87=\"\",\"\",'Marks Entry'!BF87)","v":""},"","","","","","","","","","","","","","","","","","","","","","","","","","",{"$f":"IF('Student DATA Entry'!I82=\"\",\"\",'Student DATA Entry'!I82)","v":""},{"$f":"IF('Student DATA Entry'!J82=\"\",\"\",'Student DATA Entry'!J82)","v":""},"      ","      ","      ","              "," ","","","","",""]
[81,{"$f":"IF('Marks Entry'!B88=\"\",\"\",VALUE('Marks Entry'!B88))","v":""},{"$f":"IF('Marks Entry'!C88=\"\",\"\",'Marks Entry'!C88)","v":""},{"$f":"IF('Marks Entry'!D88=\"\",\"\",'Marks Entry'!D88)","v":""},{"$f":"IF('Marks Entry'!E88=\"\",\"\",'Marks Entry'!E88)","v":""},{"$f":"IF('Marks Entry'!F88=\"\",\"\",'Marks Entry'!F88)","v":""},{"$f":"IF('Marks Entry'!G88=\"\",\"\",'Marks Entry'!G88)","v":""},{"$f":"IF('Marks Entry'!H88=\"\",\"\",'Marks Entry'!H88)","v":""},{"$f":"IF('Marks Entry'!I88=\"\",\"\",'Marks Entry'!I88)","v":""},{"$f":"IF('Marks Entry'!J88=\"\",\"\",'Marks Entry'!J88)","v":""},{"$f":"IF('Marks Entry'!K88=\"\",\"\",'Marks Entry'!K88)","v":""},{"$f":"IF('Marks Entry'!L88=\"\",\"\",'Marks Entry'!L88)","v":""},"","",{"$f":"IF('Marks Entry'!M88=\"\",\"\",'Marks Entry'!M88)","v":""},"",{"$f":"IF(AND($B86=\"NSO\",$E86=\"\",O86=\"\"),\"\",IF(AND('Marks Entry'!N88=\"AB\"),\"AB\",IF(AND('Marks Entry'!N88=\"ML\"),\"RE\",IF('Marks Entry'!N88=\"\",\"\",ROUNDUP('Marks Entry'!N88*30/100,0)))))","v":""},"",0,0,"","","","",{"$f":"IF('Marks Entry'!O88=\"\",\"\",'Marks Entry'!O88)","v":""},{"$f":"IF('Marks Entry'!P88=\"\",\"\",'Marks Entry'!P88)","v":""},{"$f":"IF('Marks Entry'!Q88=\"\",\"\",'Marks Entry'!Q88)","v":""},"","",{"$f":"IF('Marks Entry'!R88=\"\",\"\",'Marks Entry'!R88)","v":""},"",{"$f":"IF(AND($B86=\"NSO\",$E86=\"\"),\"\",IF(AND('Marks Entry'!S88=\"AB\"),\"AB\",IF(AND('Marks Entry'!S88=\"ML\"),\"RE\",IF('Marks Entry'!S88=\"\",\"\",ROUNDUP('Marks Entry'!S88*30/100,0)))))","v":""},"",0,0,"","","","",{"$f":"IF('Marks Entry'!T88=\"\",\"\",'Marks Entry'!T88)","v":""},{"$f":"IF('Marks Entry'!V88=\"\",\"\",'Marks Entry'!V88)","v":""},{"$f":"IF('Marks Entry'!W88=\"\",\"\",'Marks Entry'!W88)","v":""},{"$f":"IF('Marks Entry'!X88=\"\",\"\",'Marks Entry'!X88)","v":""},"","",{"$f":"IF('Marks Entry'!Y88=\"\",\"\",'Marks Entry'!Y88)","v":""},{"$f":"IF('Marks Entry'!Z88=\"\",\"\",'Marks Entry'!Z88)","v":""},"","",{"$f":"IF(AND($B86=\"NSO\",$E86=\"\"),\"\",IF(AND('Marks Entry'!AA88=\"AB\",'Marks Entry'!AB88=\"AB\"),\"AB\",IF(AND('Marks Entry'!AA88=\"ML\",'Marks Entry'!AB88=\"ML\"),\"RE\",IF('Marks Entry'!AA88=\"\",\"\",ROUNDUP(('Marks Entry'!AA88+'Marks Entry'!AB88)*30/100,0)))))","v":""},"",0,0,"","","","",{"$f":"IF('Marks Entry'!AC88=\"\",\"\",'Marks Entry'!AC88)","v":""},{"$f":"IF('Marks Entry'!AE88=\"\",\"\",'Marks Entry'!AE88)","v":""},{"$f":"IF('Marks Entry'!AF88=\"\",\"\",'Marks Entry'!AF88)","v":""},{"$f":"IF('Marks Entry'!AG88=\"\",\"\",'Marks Entry'!AG88)","v":""},"","",{"$f":"IF('Marks Entry'!AH88=\"\",\"\",'Marks Entry'!AH88)","v":""},{"$f":"IF('Marks Entry'!AI88=\"\",\"\",'Marks Entry'!AI88)","v":""},"","",{"$f":"IF(AND($B86=\"NSO\",$E86=\"\"),\"\",IF(AND('Marks Entry'!AJ88=\"AB\",'Marks Entry'!AK88=\"AB\"),\"AB\",IF(AND('Marks Entry'!AJ88=\"ML\",'Marks Entry'!AK88=\"ML\"),\"RE\",IF('Marks Entry'!AJ88=\"\",\"\",ROUNDUP(('Marks Entry'!AJ88+'Marks Entry'!AK88)*30/100,0)))))","v":""},"",0,0,"","","","",{"$f":"IF('Marks Entry'!AL88=\"\",\"\",'Marks Entry'!AL88)","v":""},{"$f":"IF('Marks Entry'!AN88=\"\",\"\",'Marks Entry'!AN88)","v":""},{"$f":"IF('Marks Entry'!AO88=\"\",\"\",'Marks Entry'!AO88)","v":""},{"$f":"IF('Marks Entry'!AP88=\"\",\"\",'Marks Entry'!AP88)","v":""},"","",{"$f":"IF('Marks Entry'!AQ88=\"\",\"\",'Marks Entry'!AQ88)","v":""},{"$f":"IF('Marks Entry'!AR88=\"\",\"\",'Marks Entry'!AR88)","v":""},"","",{"$f":"IF(AND($B86=\"NSO\",$E86=\"\"),\"\",IF(AND('Marks Entry'!AS88=\"AB\",'Marks Entry'!AT88=\"AB\"),\"AB\",IF(AND('Marks Entry'!AS88=\"ML\",'Marks Entry'!AT88=\"ML\"),\"RE\",IF('Marks Entry'!AS88=\"\",\"\",ROUNDUP(('Marks Entry'!AS88+'Marks Entry'!AT88)*30/100,0)))))","v":""},"",0,0,"","","","",{"$f":"IF('Marks Entry'!AU88=\"\",\"\",'Marks Entry'!AU88)","v":""},{"$f":"IF('Marks Entry'!AW88=\"\",\"\",'Marks Entry'!AW88)","v":""},{"$f":"IF('Marks Entry'!AX88=\"\",\"\",'Marks Entry'!AX88)","v":""},{"$f":"IF('Marks Entry'!AY88=\"\",\"\",'Marks Entry'!AY88)","v":""},"","",{"$f":"IF('Marks Entry'!AZ88=\"\",\"\",'Marks Entry'!AZ88)","v":""},{"$f":"IF('Marks Entry'!BA88=\"\",\"\",'Marks Entry'!BA88)","v":""},"","",{"$f":"IF(AND($B86=\"NSO\",$E86=\"\"),\"\",IF(AND('Marks Entry'!BB88=\"AB\",'Marks Entry'!BC88=\"AB\"),\"AB\",IF(AND('Marks Entry'!BB88=\"ML\",'Marks Entry'!BC88=\"ML\"),\"RE\",IF('Marks Entry'!BB88=\"\",\"\",ROUNDUP(('Marks Entry'!BB88+'Marks Entry'!BC88)*30/100,0)))))","v":""},"",0,0,"","","","",0,"","","","","","",0,0,0,0,0,"",{"$f":"IF('Marks Entry'!BD88=\"\",\"\",'Marks Entry'!BD88)","v":""},{"$f":"IF('Marks Entry'!BE88=\"\",\"\",'Marks Entry'!BE88)","v":""},{"$f":"IF('Marks Entry'!BF88=\"\",\"\",'Marks Entry'!BF88)","v":""},"","","","","","","","","","","","","","","","","","","","","","","","","","",{"$f":"IF('Student DATA Entry'!I83=\"\",\"\",'Student DATA Entry'!I83)","v":""},{"$f":"IF('Student DATA Entry'!J83=\"\",\"\",'Student DATA Entry'!J83)","v":""},"      ","      ","      ","              "," ","","","","",""]
[82,{"$f":"IF('Marks Entry'!B89=\"\",\"\",VALUE('Marks Entry'!B89))","v":""},{"$f":"IF('Marks Entry'!C89=\"\",\"\",'Marks Entry'!C89)","v":""},{"$f":"IF('Marks Entry'!D89=\"\",\"\",'Marks Entry'!D89)","v":""},{"$f":"IF('Marks Entry'!E89=\"\",\"\",'Marks Entry'!E89)","v":""},{"$f":"IF('Marks Entry'!F89=\"\",\"\",'Marks Entry'!F89)","v":""},{"$f":"IF('Marks Entry'!G89=\"\",\"\",'Marks Entry'!G89)","v":""},{"$f":"IF('Marks Entry'!H89=\"\",\"\",'Marks Entry'!H89)","v":""},{"$f":"IF('Marks Entry'!I89=\"\",\"\",'Marks Entry'!I89)","v":""},{"$f":"IF('Marks Entry'!J89=\"\",\"\",'Marks Entry'!J89)","v":""},{"$f":"IF('Marks Entry'!K89=\"\",\"\",'Marks Entry'!K89)","v":""},{"$f":"IF('Marks Entry'!L89=\"\",\"\",'Marks Entry'!L89)","v":""},"","",{"$f":"IF('Marks Entry'!M89=\"\",\"\",'Marks Entry'!M89)","v":""},"",{"$f":"IF(AND($B87=\"NSO\",$E87=\"\",O87=\"\"),\"\",IF(AND('Marks Entry'!N89=\"AB\"),\"AB\",IF(AND('Marks Entry'!N89=\"ML\"),\"RE\",IF('Marks Entry'!N89=\"\",\"\",ROUNDUP('Marks Entry'!N89*30/100,0)))))","v":""},"",0,0,"","","","",{"$f":"IF('Marks Entry'!O89=\"\",\"\",'Marks Entry'!O89)","v":""},{"$f":"IF('Marks Entry'!P89=\"\",\"\",'Marks Entry'!P89)","v":""},{"$f":"IF('Marks Entry'!Q89=\"\",\"\",'Marks Entry'!Q89)","v":""},"","",{"$f":"IF('Marks Entry'!R89=\"\",\"\",'Marks Entry'!R89)","v":""},"",{"$f":"IF(AND($B87=\"NSO\",$E87=\"\"),\"\",IF(AND('Marks Entry'!S89=\"AB\"),\"AB\",IF(AND('Marks Entry'!S89=\"ML\"),\"RE\",IF('Marks Entry'!S89=\"\",\"\",ROUNDUP('Marks Entry'!S89*30/100,0)))))","v":""},"",0,0,"","","","",{"$f":"IF('Marks Entry'!T89=\"\",\"\",'Marks Entry'!T89)","v":""},{"$f":"IF('Marks Entry'!V89=\"\",\"\",'Marks Entry'!V89)","v":""},{"$f":"IF('Marks Entry'!W89=\"\",\"\",'Marks Entry'!W89)","v":""},{"$f":"IF('Marks Entry'!X89=\"\",\"\",'Marks Entry'!X89)","v":""},"","",{"$f":"IF('Marks Entry'!Y89=\"\",\"\",'Marks Entry'!Y89)","v":""},{"$f":"IF('Marks Entry'!Z89=\"\",\"\",'Marks Entry'!Z89)","v":""},"","",{"$f":"IF(AND($B87=\"NSO\",$E87=\"\"),\"\",IF(AND('Marks Entry'!AA89=\"AB\",'Marks Entry'!AB89=\"AB\"),\"AB\",IF(AND('Marks Entry'!AA89=\"ML\",'Marks Entry'!AB89=\"ML\"),\"RE\",IF('Marks Entry'!AA89=\"\",\"\",ROUNDUP(('Marks Entry'!AA89+'Marks Entry'!AB89)*30/100,0)))))","v":""},"",0,0,"","","","",{"$f":"IF('Marks Entry'!AC89=\"\",\"\",'Marks Entry'!AC89)","v":""},{"$f":"IF('Marks Entry'!AE89=\"\",\"\",'Marks Entry'!AE89)","v":""},{"$f":"IF('Marks Entry'!AF89=\"\",\"\",'Marks Entry'!AF89)","v":""},{"$f":"IF('Marks Entry'!AG89=\"\",\"\",'Marks Entry'!AG89)","v":""},"","",{"$f":"IF('Marks Entry'!AH89=\"\",\"\",'Marks Entry'!AH89)","v":""},{"$f":"IF('Marks Entry'!AI89=\"\",\"\",'Marks Entry'!AI89)","v":""},"","",{"$f":"IF(AND($B87=\"NSO\",$E87=\"\"),\"\",IF(AND('Marks Entry'!AJ89=\"AB\",'Marks Entry'!AK89=\"AB\"),\"AB\",IF(AND('Marks Entry'!AJ89=\"ML\",'Marks Entry'!AK89=\"ML\"),\"RE\",IF('Marks Entry'!AJ89=\"\",\"\",ROUNDUP(('Marks Entry'!AJ89+'Marks Entry'!AK89)*30/100,0)))))","v":""},"",0,0,"","","","",{"$f":"IF('Marks Entry'!AL89=\"\",\"\",'Marks Entry'!AL89)","v":""},{"$f":"IF('Marks Entry'!AN89=\"\",\"\",'Marks Entry'!AN89)","v":""},{"$f":"IF('Marks Entry'!AO89=\"\",\"\",'Marks Entry'!AO89)","v":""},{"$f":"IF('Marks Entry'!AP89=\"\",\"\",'Marks Entry'!AP89)","v":""},"","",{"$f":"IF('Marks Entry'!AQ89=\"\",\"\",'Marks Entry'!AQ89)","v":""},{"$f":"IF('Marks Entry'!AR89=\"\",\"\",'Marks Entry'!AR89)","v":""},"","",{"$f":"IF(AND($B87=\"NSO\",$E87=\"\"),\"\",IF(AND('Marks Entry'!AS89=\"AB\",'Marks Entry'!AT89=\"AB\"),\"AB\",IF(AND('Marks Entry'!AS89=\"ML\",'Marks Entry'!AT89=\"ML\"),\"RE\",IF('Marks Entry'!AS89=\"\",\"\",ROUNDUP(('Marks Entry'!AS89+'Marks Entry'!AT89)*30/100,0)))))","v":""},"",0,0,"","","","",{"$f":"IF('Marks Entry'!AU89=\"\",\"\",'Marks Entry'!AU89)","v":""},{"$f":"IF('Marks Entry'!AW89=\"\",\"\",'Marks Entry'!AW89)","v":""},{"$f":"IF('Marks Entry'!AX89=\"\",\"\",'Marks Entry'!AX89)","v":""},{"$f":"IF('Marks Entry'!AY89=\"\",\"\",'Marks Entry'!AY89)","v":""},"","",{"$f":"IF('Marks Entry'!AZ89=\"\",\"\",'Marks Entry'!AZ89)","v":""},{"$f":"IF('Marks Entry'!BA89=\"\",\"\",'Marks Entry'!BA89)","v":""},"","",{"$f":"IF(AND($B87=\"NSO\",$E87=\"\"),\"\",IF(AND('Marks Entry'!BB89=\"AB\",'Marks Entry'!BC89=\"AB\"),\"AB\",IF(AND('Marks Entry'!BB89=\"ML\",'Marks Entry'!BC89=\"ML\"),\"RE\",IF('Marks Entry'!BB89=\"\",\"\",ROUNDUP(('Marks Entry'!BB89+'Marks Entry'!BC89)*30/100,0)))))","v":""},"",0,0,"","","","",0,"","","","","","",0,0,0,0,0,"",{"$f":"IF('Marks Entry'!BD89=\"\",\"\",'Marks Entry'!BD89)","v":""},{"$f":"IF('Marks Entry'!BE89=\"\",\"\",'Marks Entry'!BE89)","v":""},{"$f":"IF('Marks Entry'!BF89=\"\",\"\",'Marks Entry'!BF89)","v":""},"","","","","","","","","","","","","","","","","","","","","","","","","","",{"$f":"IF('Student DATA Entry'!I84=\"\",\"\",'Student DATA Entry'!I84)","v":""},{"$f":"IF('Student DATA Entry'!J84=\"\",\"\",'Student DATA Entry'!J84)","v":""},"      ","      ","      ","              "," ","","","","",""]
[83,{"$f":"IF('Marks Entry'!B90=\"\",\"\",VALUE('Marks Entry'!B90))","v":""},{"$f":"IF('Marks Entry'!C90=\"\",\"\",'Marks Entry'!C90)","v":""},{"$f":"IF('Marks Entry'!D90=\"\",\"\",'Marks Entry'!D90)","v":""},{"$f":"IF('Marks Entry'!E90=\"\",\"\",'Marks Entry'!E90)","v":""},{"$f":"IF('Marks Entry'!F90=\"\",\"\",'Marks Entry'!F90)","v":""},{"$f":"IF('Marks Entry'!G90=\"\",\"\",'Marks Entry'!G90)","v":""},{"$f":"IF('Marks Entry'!H90=\"\",\"\",'Marks Entry'!H90)","v":""},{"$f":"IF('Marks Entry'!I90=\"\",\"\",'Marks Entry'!I90)","v":""},{"$f":"IF('Marks Entry'!J90=\"\",\"\",'Marks Entry'!J90)","v":""},{"$f":"IF('Marks Entry'!K90=\"\",\"\",'Marks Entry'!K90)","v":""},{"$f":"IF('Marks Entry'!L90=\"\",\"\",'Marks Entry'!L90)","v":""},"","",{"$f":"IF('Marks Entry'!M90=\"\",\"\",'Marks Entry'!M90)","v":""},"",{"$f":"IF(AND($B88=\"NSO\",$E88=\"\",O88=\"\"),\"\",IF(AND('Marks Entry'!N90=\"AB\"),\"AB\",IF(AND('Marks Entry'!N90=\"ML\"),\"RE\",IF('Marks Entry'!N90=\"\",\"\",ROUNDUP('Marks Entry'!N90*30/100,0)))))","v":""},"",0,0,"","","","",{"$f":"IF('Marks Entry'!O90=\"\",\"\",'Marks Entry'!O90)","v":""},{"$f":"IF('Marks Entry'!P90=\"\",\"\",'Marks Entry'!P90)","v":""},{"$f":"IF('Marks Entry'!Q90=\"\",\"\",'Marks Entry'!Q90)","v":""},"","",{"$f":"IF('Marks Entry'!R90=\"\",\"\",'Marks Entry'!R90)","v":""},"",{"$f":"IF(AND($B88=\"NSO\",$E88=\"\"),\"\",IF(AND('Marks Entry'!S90=\"AB\"),\"AB\",IF(AND('Marks Entry'!S90=\"ML\"),\"RE\",IF('Marks Entry'!S90=\"\",\"\",ROUNDUP('Marks Entry'!S90*30/100,0)))))","v":""},"",0,0,"","","","",{"$f":"IF('Marks Entry'!T90=\"\",\"\",'Marks Entry'!T90)","v":""},{"$f":"IF('Marks Entry'!V90=\"\",\"\",'Marks Entry'!V90)","v":""},{"$f":"IF('Marks Entry'!W90=\"\",\"\",'Marks Entry'!W90)","v":""},{"$f":"IF('Marks Entry'!X90=\"\",\"\",'Marks Entry'!X90)","v":""},"","",{"$f":"IF('Marks Entry'!Y90=\"\",\"\",'Marks Entry'!Y90)","v":""},{"$f":"IF('Marks Entry'!Z90=\"\",\"\",'Marks Entry'!Z90)","v":""},"","",{"$f":"IF(AND($B88=\"NSO\",$E88=\"\"),\"\",IF(AND('Marks Entry'!AA90=\"AB\",'Marks Entry'!AB90=\"AB\"),\"AB\",IF(AND('Marks Entry'!AA90=\"ML\",'Marks Entry'!AB90=\"ML\"),\"RE\",IF('Marks Entry'!AA90=\"\",\"\",ROUNDUP(('Marks Entry'!AA90+'Marks Entry'!AB90)*30/100,0)))))","v":""},"",0,0,"","","","",{"$f":"IF('Marks Entry'!AC90=\"\",\"\",'Marks Entry'!AC90)","v":""},{"$f":"IF('Marks Entry'!AE90=\"\",\"\",'Marks Entry'!AE90)","v":""},{"$f":"IF('Marks Entry'!AF90=\"\",\"\",'Marks Entry'!AF90)","v":""},{"$f":"IF('Marks Entry'!AG90=\"\",\"\",'Marks Entry'!AG90)","v":""},"","",{"$f":"IF('Marks Entry'!AH90=\"\",\"\",'Marks Entry'!AH90)","v":""},{"$f":"IF('Marks Entry'!AI90=\"\",\"\",'Marks Entry'!AI90)","v":""},"","",{"$f":"IF(AND($B88=\"NSO\",$E88=\"\"),\"\",IF(AND('Marks Entry'!AJ90=\"AB\",'Marks Entry'!AK90=\"AB\"),\"AB\",IF(AND('Marks Entry'!AJ90=\"ML\",'Marks Entry'!AK90=\"ML\"),\"RE\",IF('Marks Entry'!AJ90=\"\",\"\",ROUNDUP(('Marks Entry'!AJ90+'Marks Entry'!AK90)*30/100,0)))))","v":""},"",0,0,"","","","",{"$f":"IF('Marks Entry'!AL90=\"\",\"\",'Marks Entry'!AL90)","v":""},{"$f":"IF('Marks Entry'!AN90=\"\",\"\",'Marks Entry'!AN90)","v":""},{"$f":"IF('Marks Entry'!AO90=\"\",\"\",'Marks Entry'!AO90)","v":""},{"$f":"IF('Marks Entry'!AP90=\"\",\"\",'Marks Entry'!AP90)","v":""},"","",{"$f":"IF('Marks Entry'!AQ90=\"\",\"\",'Marks Entry'!AQ90)","v":""},{"$f":"IF('Marks Entry'!AR90=\"\",\"\",'Marks Entry'!AR90)","v":""},"","",{"$f":"IF(AND($B88=\"NSO\",$E88=\"\"),\"\",IF(AND('Marks Entry'!AS90=\"AB\",'Marks Entry'!AT90=\"AB\"),\"AB\",IF(AND('Marks Entry'!AS90=\"ML\",'Marks Entry'!AT90=\"ML\"),\"RE\",IF('Marks Entry'!AS90=\"\",\"\",ROUNDUP(('Marks Entry'!AS90+'Marks Entry'!AT90)*30/100,0)))))","v":""},"",0,0,"","","","",{"$f":"IF('Marks Entry'!AU90=\"\",\"\",'Marks Entry'!AU90)","v":""},{"$f":"IF('Marks Entry'!AW90=\"\",\"\",'Marks Entry'!AW90)","v":""},{"$f":"IF('Marks Entry'!AX90=\"\",\"\",'Marks Entry'!AX90)","v":""},{"$f":"IF('Marks Entry'!AY90=\"\",\"\",'Marks Entry'!AY90)","v":""},"","",{"$f":"IF('Marks Entry'!AZ90=\"\",\"\",'Marks Entry'!AZ90)","v":""},{"$f":"IF('Marks Entry'!BA90=\"\",\"\",'Marks Entry'!BA90)","v":""},"","",{"$f":"IF(AND($B88=\"NSO\",$E88=\"\"),\"\",IF(AND('Marks Entry'!BB90=\"AB\",'Marks Entry'!BC90=\"AB\"),\"AB\",IF(AND('Marks Entry'!BB90=\"ML\",'Marks Entry'!BC90=\"ML\"),\"RE\",IF('Marks Entry'!BB90=\"\",\"\",ROUNDUP(('Marks Entry'!BB90+'Marks Entry'!BC90)*30/100,0)))))","v":""},"",0,0,"","","","",0,"","","","","","",0,0,0,0,0,"",{"$f":"IF('Marks Entry'!BD90=\"\",\"\",'Marks Entry'!BD90)","v":""},{"$f":"IF('Marks Entry'!BE90=\"\",\"\",'Marks Entry'!BE90)","v":""},{"$f":"IF('Marks Entry'!BF90=\"\",\"\",'Marks Entry'!BF90)","v":""},"","","","","","","","","","","","","","","","","","","","","","","","","","",{"$f":"IF('Student DATA Entry'!I85=\"\",\"\",'Student DATA Entry'!I85)","v":""},{"$f":"IF('Student DATA Entry'!J85=\"\",\"\",'Student DATA Entry'!J85)","v":""},"      ","      ","      ","              "," ","","","","",""]
[84,{"$f":"IF('Marks Entry'!B91=\"\",\"\",VALUE('Marks Entry'!B91))","v":""},{"$f":"IF('Marks Entry'!C91=\"\",\"\",'Marks Entry'!C91)","v":""},{"$f":"IF('Marks Entry'!D91=\"\",\"\",'Marks Entry'!D91)","v":""},{"$f":"IF('Marks Entry'!E91=\"\",\"\",'Marks Entry'!E91)","v":""},{"$f":"IF('Marks Entry'!F91=\"\",\"\",'Marks Entry'!F91)","v":""},{"$f":"IF('Marks Entry'!G91=\"\",\"\",'Marks Entry'!G91)","v":""},{"$f":"IF('Marks Entry'!H91=\"\",\"\",'Marks Entry'!H91)","v":""},{"$f":"IF('Marks Entry'!I91=\"\",\"\",'Marks Entry'!I91)","v":""},{"$f":"IF('Marks Entry'!J91=\"\",\"\",'Marks Entry'!J91)","v":""},{"$f":"IF('Marks Entry'!K91=\"\",\"\",'Marks Entry'!K91)","v":""},{"$f":"IF('Marks Entry'!L91=\"\",\"\",'Marks Entry'!L91)","v":""},"","",{"$f":"IF('Marks Entry'!M91=\"\",\"\",'Marks Entry'!M91)","v":""},"",{"$f":"IF(AND($B89=\"NSO\",$E89=\"\",O89=\"\"),\"\",IF(AND('Marks Entry'!N91=\"AB\"),\"AB\",IF(AND('Marks Entry'!N91=\"ML\"),\"RE\",IF('Marks Entry'!N91=\"\",\"\",ROUNDUP('Marks Entry'!N91*30/100,0)))))","v":""},"",0,0,"","","","",{"$f":"IF('Marks Entry'!O91=\"\",\"\",'Marks Entry'!O91)","v":""},{"$f":"IF('Marks Entry'!P91=\"\",\"\",'Marks Entry'!P91)","v":""},{"$f":"IF('Marks Entry'!Q91=\"\",\"\",'Marks Entry'!Q91)","v":""},"","",{"$f":"IF('Marks Entry'!R91=\"\",\"\",'Marks Entry'!R91)","v":""},"",{"$f":"IF(AND($B89=\"NSO\",$E89=\"\"),\"\",IF(AND('Marks Entry'!S91=\"AB\"),\"AB\",IF(AND('Marks Entry'!S91=\"ML\"),\"RE\",IF('Marks Entry'!S91=\"\",\"\",ROUNDUP('Marks Entry'!S91*30/100,0)))))","v":""},"",0,0,"","","","",{"$f":"IF('Marks Entry'!T91=\"\",\"\",'Marks Entry'!T91)","v":""},{"$f":"IF('Marks Entry'!V91=\"\",\"\",'Marks Entry'!V91)","v":""},{"$f":"IF('Marks Entry'!W91=\"\",\"\",'Marks Entry'!W91)","v":""},{"$f":"IF('Marks Entry'!X91=\"\",\"\",'Marks Entry'!X91)","v":""},"","",{"$f":"IF('Marks Entry'!Y91=\"\",\"\",'Marks Entry'!Y91)","v":""},{"$f":"IF('Marks Entry'!Z91=\"\",\"\",'Marks Entry'!Z91)","v":""},"","",{"$f":"IF(AND($B89=\"NSO\",$E89=\"\"),\"\",IF(AND('Marks Entry'!AA91=\"AB\",'Marks Entry'!AB91=\"AB\"),\"AB\",IF(AND('Marks Entry'!AA91=\"ML\",'Marks Entry'!AB91=\"ML\"),\"RE\",IF('Marks Entry'!AA91=\"\",\"\",ROUNDUP(('Marks Entry'!AA91+'Marks Entry'!AB91)*30/100,0)))))","v":""},"",0,0,"","","","",{"$f":"IF('Marks Entry'!AC91=\"\",\"\",'Marks Entry'!AC91)","v":""},{"$f":"IF('Marks Entry'!AE91=\"\",\"\",'Marks Entry'!AE91)","v":""},{"$f":"IF('Marks Entry'!AF91=\"\",\"\",'Marks Entry'!AF91)","v":""},{"$f":"IF('Marks Entry'!AG91=\"\",\"\",'Marks Entry'!AG91)","v":""},"","",{"$f":"IF('Marks Entry'!AH91=\"\",\"\",'Marks Entry'!AH91)","v":""},{"$f":"IF('Marks Entry'!AI91=\"\",\"\",'Marks Entry'!AI91)","v":""},"","",{"$f":"IF(AND($B89=\"NSO\",$E89=\"\"),\"\",IF(AND('Marks Entry'!AJ91=\"AB\",'Marks Entry'!AK91=\"AB\"),\"AB\",IF(AND('Marks Entry'!AJ91=\"ML\",'Marks Entry'!AK91=\"ML\"),\"RE\",IF('Marks Entry'!AJ91=\"\",\"\",ROUNDUP(('Marks Entry'!AJ91+'Marks Entry'!AK91)*30/100,0)))))","v":""},"",0,0,"","","","",{"$f":"IF('Marks Entry'!AL91=\"\",\"\",'Marks Entry'!AL91)","v":""},{"$f":"IF('Marks Entry'!AN91=\"\",\"\",'Marks Entry'!AN91)","v":""},{"$f":"IF('Marks Entry'!AO91=\"\",\"\",'Marks Entry'!AO91)","v":""},{"$f":"IF('Marks Entry'!AP91=\"\",\"\",'Marks Entry'!AP91)","v":""},"","",{"$f":"IF('Marks Entry'!AQ91=\"\",\"\",'Marks Entry'!AQ91)","v":""},{"$f":"IF('Marks Entry'!AR91=\"\",\"\",'Marks Entry'!AR91)","v":""},"","",{"$f":"IF(AND($B89=\"NSO\",$E89=\"\"),\"\",IF(AND('Marks Entry'!AS91=\"AB\",'Marks Entry'!AT91=\"AB\"),\"AB\",IF(AND('Marks Entry'!AS91=\"ML\",'Marks Entry'!AT91=\"ML\"),\"RE\",IF('Marks Entry'!AS91=\"\",\"\",ROUNDUP(('Marks Entry'!AS91+'Marks Entry'!AT91)*30/100,0)))))","v":""},"",0,0,"","","","",{"$f":"IF('Marks Entry'!AU91=\"\",\"\",'Marks Entry'!AU91)","v":""},{"$f":"IF('Marks Entry'!AW91=\"\",\"\",'Marks Entry'!AW91)","v":""},{"$f":"IF('Marks Entry'!AX91=\"\",\"\",'Marks Entry'!AX91)","v":""},{"$f":"IF('Marks Entry'!AY91=\"\",\"\",'Marks Entry'!AY91)","v":""},"","",{"$f":"IF('Marks Entry'!AZ91=\"\",\"\",'Marks Entry'!AZ91)","v":""},{"$f":"IF('Marks Entry'!BA91=\"\",\"\",'Marks Entry'!BA91)","v":""},"","",{"$f":"IF(AND($B89=\"NSO\",$E89=\"\"),\"\",IF(AND('Marks Entry'!BB91=\"AB\",'Marks Entry'!BC91=\"AB\"),\"AB\",IF(AND('Marks Entry'!BB91=\"ML\",'Marks Entry'!BC91=\"ML\"),\"RE\",IF('Marks Entry'!BB91=\"\",\"\",ROUNDUP(('Marks Entry'!BB91+'Marks Entry'!BC91)*30/100,0)))))","v":""},"",0,0,"","","","",0,"","","","","","",0,0,0,0,0,"",{"$f":"IF('Marks Entry'!BD91=\"\",\"\",'Marks Entry'!BD91)","v":""},{"$f":"IF('Marks Entry'!BE91=\"\",\"\",'Marks Entry'!BE91)","v":""},{"$f":"IF('Marks Entry'!BF91=\"\",\"\",'Marks Entry'!BF91)","v":""},"","","","","","","","","","","","","","","","","","","","","","","","","","",{"$f":"IF('Student DATA Entry'!I86=\"\",\"\",'Student DATA Entry'!I86)","v":""},{"$f":"IF('Student DATA Entry'!J86=\"\",\"\",'Student DATA Entry'!J86)","v":""},"      ","      ","      ","              "," ","","","","",""]
[85,{"$f":"IF('Marks Entry'!B92=\"\",\"\",VALUE('Marks Entry'!B92))","v":""},{"$f":"IF('Marks Entry'!C92=\"\",\"\",'Marks Entry'!C92)","v":""},{"$f":"IF('Marks Entry'!D92=\"\",\"\",'Marks Entry'!D92)","v":""},{"$f":"IF('Marks Entry'!E92=\"\",\"\",'Marks Entry'!E92)","v":""},{"$f":"IF('Marks Entry'!F92=\"\",\"\",'Marks Entry'!F92)","v":""},{"$f":"IF('Marks Entry'!G92=\"\",\"\",'Marks Entry'!G92)","v":""},{"$f":"IF('Marks Entry'!H92=\"\",\"\",'Marks Entry'!H92)","v":""},{"$f":"IF('Marks Entry'!I92=\"\",\"\",'Marks Entry'!I92)","v":""},{"$f":"IF('Marks Entry'!J92=\"\",\"\",'Marks Entry'!J92)","v":""},{"$f":"IF('Marks Entry'!K92=\"\",\"\",'Marks Entry'!K92)","v":""},{"$f":"IF('Marks Entry'!L92=\"\",\"\",'Marks Entry'!L92)","v":""},"","",{"$f":"IF('Marks Entry'!M92=\"\",\"\",'Marks Entry'!M92)","v":""},"",{"$f":"IF(AND($B90=\"NSO\",$E90=\"\",O90=\"\"),\"\",IF(AND('Marks Entry'!N92=\"AB\"),\"AB\",IF(AND('Marks Entry'!N92=\"ML\"),\"RE\",IF('Marks Entry'!N92=\"\",\"\",ROUNDUP('Marks Entry'!N92*30/100,0)))))","v":""},"",0,0,"","","","",{"$f":"IF('Marks Entry'!O92=\"\",\"\",'Marks Entry'!O92)","v":""},{"$f":"IF('Marks Entry'!P92=\"\",\"\",'Marks Entry'!P92)","v":""},{"$f":"IF('Marks Entry'!Q92=\"\",\"\",'Marks Entry'!Q92)","v":""},"","",{"$f":"IF('Marks Entry'!R92=\"\",\"\",'Marks Entry'!R92)","v":""},"",{"$f":"IF(AND($B90=\"NSO\",$E90=\"\"),\"\",IF(AND('Marks Entry'!S92=\"AB\"),\"AB\",IF(AND('Marks Entry'!S92=\"ML\"),\"RE\",IF('Marks Entry'!S92=\"\",\"\",ROUNDUP('Marks Entry'!S92*30/100,0)))))","v":""},"",0,0,"","","","",{"$f":"IF('Marks Entry'!T92=\"\",\"\",'Marks Entry'!T92)","v":""},{"$f":"IF('Marks Entry'!V92=\"\",\"\",'Marks Entry'!V92)","v":""},{"$f":"IF('Marks Entry'!W92=\"\",\"\",'Marks Entry'!W92)","v":""},{"$f":"IF('Marks Entry'!X92=\"\",\"\",'Marks Entry'!X92)","v":""},"","",{"$f":"IF('Marks Entry'!Y92=\"\",\"\",'Marks Entry'!Y92)","v":""},{"$f":"IF('Marks Entry'!Z92=\"\",\"\",'Marks Entry'!Z92)","v":""},"","",{"$f":"IF(AND($B90=\"NSO\",$E90=\"\"),\"\",IF(AND('Marks Entry'!AA92=\"AB\",'Marks Entry'!AB92=\"AB\"),\"AB\",IF(AND('Marks Entry'!AA92=\"ML\",'Marks Entry'!AB92=\"ML\"),\"RE\",IF('Marks Entry'!AA92=\"\",\"\",ROUNDUP(('Marks Entry'!AA92+'Marks Entry'!AB92)*30/100,0)))))","v":""},"",0,0,"","","","",{"$f":"IF('Marks Entry'!AC92=\"\",\"\",'Marks Entry'!AC92)","v":""},{"$f":"IF('Marks Entry'!AE92=\"\",\"\",'Marks Entry'!AE92)","v":""},{"$f":"IF('Marks Entry'!AF92=\"\",\"\",'Marks Entry'!AF92)","v":""},{"$f":"IF('Marks Entry'!AG92=\"\",\"\",'Marks Entry'!AG92)","v":""},"","",{"$f":"IF('Marks Entry'!AH92=\"\",\"\",'Marks Entry'!AH92)","v":""},{"$f":"IF('Marks Entry'!AI92=\"\",\"\",'Marks Entry'!AI92)","v":""},"","",{"$f":"IF(AND($B90=\"NSO\",$E90=\"\"),\"\",IF(AND('Marks Entry'!AJ92=\"AB\",'Marks Entry'!AK92=\"AB\"),\"AB\",IF(AND('Marks Entry'!AJ92=\"ML\",'Marks Entry'!AK92=\"ML\"),\"RE\",IF('Marks Entry'!AJ92=\"\",\"\",ROUNDUP(('Marks Entry'!AJ92+'Marks Entry'!AK92)*30/100,0)))))","v":""},"",0,0,"","","","",{"$f":"IF('Marks Entry'!AL92=\"\",\"\",'Marks Entry'!AL92)","v":""},{"$f":"IF('Marks Entry'!AN92=\"\",\"\",'Marks Entry'!AN92)","v":""},{"$f":"IF('Marks Entry'!AO92=\"\",\"\",'Marks Entry'!AO92)","v":""},{"$f":"IF('Marks Entry'!AP92=\"\",\"\",'Marks Entry'!AP92)","v":""},"","",{"$f":"IF('Marks Entry'!AQ92=\"\",\"\",'Marks Entry'!AQ92)","v":""},{"$f":"IF('Marks Entry'!AR92=\"\",\"\",'Marks Entry'!AR92)","v":""},"","",{"$f":"IF(AND($B90=\"NSO\",$E90=\"\"),\"\",IF(AND('Marks Entry'!AS92=\"AB\",'Marks Entry'!AT92=\"AB\"),\"AB\",IF(AND('Marks Entry'!AS92=\"ML\",'Marks Entry'!AT92=\"ML\"),\"RE\",IF('Marks Entry'!AS92=\"\",\"\",ROUNDUP(('Marks Entry'!AS92+'Marks Entry'!AT92)*30/100,0)))))","v":""},"",0,0,"","","","",{"$f":"IF('Marks Entry'!AU92=\"\",\"\",'Marks Entry'!AU92)","v":""},{"$f":"IF('Marks Entry'!AW92=\"\",\"\",'Marks Entry'!AW92)","v":""},{"$f":"IF('Marks Entry'!AX92=\"\",\"\",'Marks Entry'!AX92)","v":""},{"$f":"IF('Marks Entry'!AY92=\"\",\"\",'Marks Entry'!AY92)","v":""},"","",{"$f":"IF('Marks Entry'!AZ92=\"\",\"\",'Marks Entry'!AZ92)","v":""},{"$f":"IF('Marks Entry'!BA92=\"\",\"\",'Marks Entry'!BA92)","v":""},"","",{"$f":"IF(AND($B90=\"NSO\",$E90=\"\"),\"\",IF(AND('Marks Entry'!BB92=\"AB\",'Marks Entry'!BC92=\"AB\"),\"AB\",IF(AND('Marks Entry'!BB92=\"ML\",'Marks Entry'!BC92=\"ML\"),\"RE\",IF('Marks Entry'!BB92=\"\",\"\",ROUNDUP(('Marks Entry'!BB92+'Marks Entry'!BC92)*30/100,0)))))","v":""},"",0,0,"","","","",0,"","","","","","",0,0,0,0,0,"",{"$f":"IF('Marks Entry'!BD92=\"\",\"\",'Marks Entry'!BD92)","v":""},{"$f":"IF('Marks Entry'!BE92=\"\",\"\",'Marks Entry'!BE92)","v":""},{"$f":"IF('Marks Entry'!BF92=\"\",\"\",'Marks Entry'!BF92)","v":""},"","","","","","","","","","","","","","","","","","","","","","","","","","",{"$f":"IF('Student DATA Entry'!I87=\"\",\"\",'Student DATA Entry'!I87)","v":""},{"$f":"IF('Student DATA Entry'!J87=\"\",\"\",'Student DATA Entry'!J87)","v":""},"      ","      ","      ","              "," ","","","","",""]
[86,{"$f":"IF('Marks Entry'!B93=\"\",\"\",VALUE('Marks Entry'!B93))","v":""},{"$f":"IF('Marks Entry'!C93=\"\",\"\",'Marks Entry'!C93)","v":""},{"$f":"IF('Marks Entry'!D93=\"\",\"\",'Marks Entry'!D93)","v":""},{"$f":"IF('Marks Entry'!E93=\"\",\"\",'Marks Entry'!E93)","v":""},{"$f":"IF('Marks Entry'!F93=\"\",\"\",'Marks Entry'!F93)","v":""},{"$f":"IF('Marks Entry'!G93=\"\",\"\",'Marks Entry'!G93)","v":""},{"$f":"IF('Marks Entry'!H93=\"\",\"\",'Marks Entry'!H93)","v":""},{"$f":"IF('Marks Entry'!I93=\"\",\"\",'Marks Entry'!I93)","v":""},{"$f":"IF('Marks Entry'!J93=\"\",\"\",'Marks Entry'!J93)","v":""},{"$f":"IF('Marks Entry'!K93=\"\",\"\",'Marks Entry'!K93)","v":""},{"$f":"IF('Marks Entry'!L93=\"\",\"\",'Marks Entry'!L93)","v":""},"","",{"$f":"IF('Marks Entry'!M93=\"\",\"\",'Marks Entry'!M93)","v":""},"",{"$f":"IF(AND($B91=\"NSO\",$E91=\"\",O91=\"\"),\"\",IF(AND('Marks Entry'!N93=\"AB\"),\"AB\",IF(AND('Marks Entry'!N93=\"ML\"),\"RE\",IF('Marks Entry'!N93=\"\",\"\",ROUNDUP('Marks Entry'!N93*30/100,0)))))","v":""},"",0,0,"","","","",{"$f":"IF('Marks Entry'!O93=\"\",\"\",'Marks Entry'!O93)","v":""},{"$f":"IF('Marks Entry'!P93=\"\",\"\",'Marks Entry'!P93)","v":""},{"$f":"IF('Marks Entry'!Q93=\"\",\"\",'Marks Entry'!Q93)","v":""},"","",{"$f":"IF('Marks Entry'!R93=\"\",\"\",'Marks Entry'!R93)","v":""},"",{"$f":"IF(AND($B91=\"NSO\",$E91=\"\"),\"\",IF(AND('Marks Entry'!S93=\"AB\"),\"AB\",IF(AND('Marks Entry'!S93=\"ML\"),\"RE\",IF('Marks Entry'!S93=\"\",\"\",ROUNDUP('Marks Entry'!S93*30/100,0)))))","v":""},"",0,0,"","","","",{"$f":"IF('Marks Entry'!T93=\"\",\"\",'Marks Entry'!T93)","v":""},{"$f":"IF('Marks Entry'!V93=\"\",\"\",'Marks Entry'!V93)","v":""},{"$f":"IF('Marks Entry'!W93=\"\",\"\",'Marks Entry'!W93)","v":""},{"$f":"IF('Marks Entry'!X93=\"\",\"\",'Marks Entry'!X93)","v":""},"","",{"$f":"IF('Marks Entry'!Y93=\"\",\"\",'Marks Entry'!Y93)","v":""},{"$f":"IF('Marks Entry'!Z93=\"\",\"\",'Marks Entry'!Z93)","v":""},"","",{"$f":"IF(AND($B91=\"NSO\",$E91=\"\"),\"\",IF(AND('Marks Entry'!AA93=\"AB\",'Marks Entry'!AB93=\"AB\"),\"AB\",IF(AND('Marks Entry'!AA93=\"ML\",'Marks Entry'!AB93=\"ML\"),\"RE\",IF('Marks Entry'!AA93=\"\",\"\",ROUNDUP(('Marks Entry'!AA93+'Marks Entry'!AB93)*30/100,0)))))","v":""},"",0,0,"","","","",{"$f":"IF('Marks Entry'!AC93=\"\",\"\",'Marks Entry'!AC93)","v":""},{"$f":"IF('Marks Entry'!AE93=\"\",\"\",'Marks Entry'!AE93)","v":""},{"$f":"IF('Marks Entry'!AF93=\"\",\"\",'Marks Entry'!AF93)","v":""},{"$f":"IF('Marks Entry'!AG93=\"\",\"\",'Marks Entry'!AG93)","v":""},"","",{"$f":"IF('Marks Entry'!AH93=\"\",\"\",'Marks Entry'!AH93)","v":""},{"$f":"IF('Marks Entry'!AI93=\"\",\"\",'Marks Entry'!AI93)","v":""},"","",{"$f":"IF(AND($B91=\"NSO\",$E91=\"\"),\"\",IF(AND('Marks Entry'!AJ93=\"AB\",'Marks Entry'!AK93=\"AB\"),\"AB\",IF(AND('Marks Entry'!AJ93=\"ML\",'Marks Entry'!AK93=\"ML\"),\"RE\",IF('Marks Entry'!AJ93=\"\",\"\",ROUNDUP(('Marks Entry'!AJ93+'Marks Entry'!AK93)*30/100,0)))))","v":""},"",0,0,"","","","",{"$f":"IF('Marks Entry'!AL93=\"\",\"\",'Marks Entry'!AL93)","v":""},{"$f":"IF('Marks Entry'!AN93=\"\",\"\",'Marks Entry'!AN93)","v":""},{"$f":"IF('Marks Entry'!AO93=\"\",\"\",'Marks Entry'!AO93)","v":""},{"$f":"IF('Marks Entry'!AP93=\"\",\"\",'Marks Entry'!AP93)","v":""},"","",{"$f":"IF('Marks Entry'!AQ93=\"\",\"\",'Marks Entry'!AQ93)","v":""},{"$f":"IF('Marks Entry'!AR93=\"\",\"\",'Marks Entry'!AR93)","v":""},"","",{"$f":"IF(AND($B91=\"NSO\",$E91=\"\"),\"\",IF(AND('Marks Entry'!AS93=\"AB\",'Marks Entry'!AT93=\"AB\"),\"AB\",IF(AND('Marks Entry'!AS93=\"ML\",'Marks Entry'!AT93=\"ML\"),\"RE\",IF('Marks Entry'!AS93=\"\",\"\",ROUNDUP(('Marks Entry'!AS93+'Marks Entry'!AT93)*30/100,0)))))","v":""},"",0,0,"","","","",{"$f":"IF('Marks Entry'!AU93=\"\",\"\",'Marks Entry'!AU93)","v":""},{"$f":"IF('Marks Entry'!AW93=\"\",\"\",'Marks Entry'!AW93)","v":""},{"$f":"IF('Marks Entry'!AX93=\"\",\"\",'Marks Entry'!AX93)","v":""},{"$f":"IF('Marks Entry'!AY93=\"\",\"\",'Marks Entry'!AY93)","v":""},"","",{"$f":"IF('Marks Entry'!AZ93=\"\",\"\",'Marks Entry'!AZ93)","v":""},{"$f":"IF('Marks Entry'!BA93=\"\",\"\",'Marks Entry'!BA93)","v":""},"","",{"$f":"IF(AND($B91=\"NSO\",$E91=\"\"),\"\",IF(AND('Marks Entry'!BB93=\"AB\",'Marks Entry'!BC93=\"AB\"),\"AB\",IF(AND('Marks Entry'!BB93=\"ML\",'Marks Entry'!BC93=\"ML\"),\"RE\",IF('Marks Entry'!BB93=\"\",\"\",ROUNDUP(('Marks Entry'!BB93+'Marks Entry'!BC93)*30/100,0)))))","v":""},"",0,0,"","","","",0,"","","","","","",0,0,0,0,0,"",{"$f":"IF('Marks Entry'!BD93=\"\",\"\",'Marks Entry'!BD93)","v":""},{"$f":"IF('Marks Entry'!BE93=\"\",\"\",'Marks Entry'!BE93)","v":""},{"$f":"IF('Marks Entry'!BF93=\"\",\"\",'Marks Entry'!BF93)","v":""},"","","","","","","","","","","","","","","","","","","","","","","","","","",{"$f":"IF('Student DATA Entry'!I88=\"\",\"\",'Student DATA Entry'!I88)","v":""},{"$f":"IF('Student DATA Entry'!J88=\"\",\"\",'Student DATA Entry'!J88)","v":""},"      ","      ","      ","              "," ","","","","",""]
[87,{"$f":"IF('Marks Entry'!B94=\"\",\"\",VALUE('Marks Entry'!B94))","v":""},{"$f":"IF('Marks Entry'!C94=\"\",\"\",'Marks Entry'!C94)","v":""},{"$f":"IF('Marks Entry'!D94=\"\",\"\",'Marks Entry'!D94)","v":""},{"$f":"IF('Marks Entry'!E94=\"\",\"\",'Marks Entry'!E94)","v":""},{"$f":"IF('Marks Entry'!F94=\"\",\"\",'Marks Entry'!F94)","v":""},{"$f":"IF('Marks Entry'!G94=\"\",\"\",'Marks Entry'!G94)","v":""},{"$f":"IF('Marks Entry'!H94=\"\",\"\",'Marks Entry'!H94)","v":""},{"$f":"IF('Marks Entry'!I94=\"\",\"\",'Marks Entry'!I94)","v":""},{"$f":"IF('Marks Entry'!J94=\"\",\"\",'Marks Entry'!J94)","v":""},{"$f":"IF('Marks Entry'!K94=\"\",\"\",'Marks Entry'!K94)","v":""},{"$f":"IF('Marks Entry'!L94=\"\",\"\",'Marks Entry'!L94)","v":""},"","",{"$f":"IF('Marks Entry'!M94=\"\",\"\",'Marks Entry'!M94)","v":""},"",{"$f":"IF(AND($B92=\"NSO\",$E92=\"\",O92=\"\"),\"\",IF(AND('Marks Entry'!N94=\"AB\"),\"AB\",IF(AND('Marks Entry'!N94=\"ML\"),\"RE\",IF('Marks Entry'!N94=\"\",\"\",ROUNDUP('Marks Entry'!N94*30/100,0)))))","v":""},"",0,0,"","","","",{"$f":"IF('Marks Entry'!O94=\"\",\"\",'Marks Entry'!O94)","v":""},{"$f":"IF('Marks Entry'!P94=\"\",\"\",'Marks Entry'!P94)","v":""},{"$f":"IF('Marks Entry'!Q94=\"\",\"\",'Marks Entry'!Q94)","v":""},"","",{"$f":"IF('Marks Entry'!R94=\"\",\"\",'Marks Entry'!R94)","v":""},"",{"$f":"IF(AND($B92=\"NSO\",$E92=\"\"),\"\",IF(AND('Marks Entry'!S94=\"AB\"),\"AB\",IF(AND('Marks Entry'!S94=\"ML\"),\"RE\",IF('Marks Entry'!S94=\"\",\"\",ROUNDUP('Marks Entry'!S94*30/100,0)))))","v":""},"",0,0,"","","","",{"$f":"IF('Marks Entry'!T94=\"\",\"\",'Marks Entry'!T94)","v":""},{"$f":"IF('Marks Entry'!V94=\"\",\"\",'Marks Entry'!V94)","v":""},{"$f":"IF('Marks Entry'!W94=\"\",\"\",'Marks Entry'!W94)","v":""},{"$f":"IF('Marks Entry'!X94=\"\",\"\",'Marks Entry'!X94)","v":""},"","",{"$f":"IF('Marks Entry'!Y94=\"\",\"\",'Marks Entry'!Y94)","v":""},{"$f":"IF('Marks Entry'!Z94=\"\",\"\",'Marks Entry'!Z94)","v":""},"","",{"$f":"IF(AND($B92=\"NSO\",$E92=\"\"),\"\",IF(AND('Marks Entry'!AA94=\"AB\",'Marks Entry'!AB94=\"AB\"),\"AB\",IF(AND('Marks Entry'!AA94=\"ML\",'Marks Entry'!AB94=\"ML\"),\"RE\",IF('Marks Entry'!AA94=\"\",\"\",ROUNDUP(('Marks Entry'!AA94+'Marks Entry'!AB94)*30/100,0)))))","v":""},"",0,0,"","","","",{"$f":"IF('Marks Entry'!AC94=\"\",\"\",'Marks Entry'!AC94)","v":""},{"$f":"IF('Marks Entry'!AE94=\"\",\"\",'Marks Entry'!AE94)","v":""},{"$f":"IF('Marks Entry'!AF94=\"\",\"\",'Marks Entry'!AF94)","v":""},{"$f":"IF('Marks Entry'!AG94=\"\",\"\",'Marks Entry'!AG94)","v":""},"","",{"$f":"IF('Marks Entry'!AH94=\"\",\"\",'Marks Entry'!AH94)","v":""},{"$f":"IF('Marks Entry'!AI94=\"\",\"\",'Marks Entry'!AI94)","v":""},"","",{"$f":"IF(AND($B92=\"NSO\",$E92=\"\"),\"\",IF(AND('Marks Entry'!AJ94=\"AB\",'Marks Entry'!AK94=\"AB\"),\"AB\",IF(AND('Marks Entry'!AJ94=\"ML\",'Marks Entry'!AK94=\"ML\"),\"RE\",IF('Marks Entry'!AJ94=\"\",\"\",ROUNDUP(('Marks Entry'!AJ94+'Marks Entry'!AK94)*30/100,0)))))","v":""},"",0,0,"","","","",{"$f":"IF('Marks Entry'!AL94=\"\",\"\",'Marks Entry'!AL94)","v":""},{"$f":"IF('Marks Entry'!AN94=\"\",\"\",'Marks Entry'!AN94)","v":""},{"$f":"IF('Marks Entry'!AO94=\"\",\"\",'Marks Entry'!AO94)","v":""},{"$f":"IF('Marks Entry'!AP94=\"\",\"\",'Marks Entry'!AP94)","v":""},"","",{"$f":"IF('Marks Entry'!AQ94=\"\",\"\",'Marks Entry'!AQ94)","v":""},{"$f":"IF('Marks Entry'!AR94=\"\",\"\",'Marks Entry'!AR94)","v":""},"","",{"$f":"IF(AND($B92=\"NSO\",$E92=\"\"),\"\",IF(AND('Marks Entry'!AS94=\"AB\",'Marks Entry'!AT94=\"AB\"),\"AB\",IF(AND('Marks Entry'!AS94=\"ML\",'Marks Entry'!AT94=\"ML\"),\"RE\",IF('Marks Entry'!AS94=\"\",\"\",ROUNDUP(('Marks Entry'!AS94+'Marks Entry'!AT94)*30/100,0)))))","v":""},"",0,0,"","","","",{"$f":"IF('Marks Entry'!AU94=\"\",\"\",'Marks Entry'!AU94)","v":""},{"$f":"IF('Marks Entry'!AW94=\"\",\"\",'Marks Entry'!AW94)","v":""},{"$f":"IF('Marks Entry'!AX94=\"\",\"\",'Marks Entry'!AX94)","v":""},{"$f":"IF('Marks Entry'!AY94=\"\",\"\",'Marks Entry'!AY94)","v":""},"","",{"$f":"IF('Marks Entry'!AZ94=\"\",\"\",'Marks Entry'!AZ94)","v":""},{"$f":"IF('Marks Entry'!BA94=\"\",\"\",'Marks Entry'!BA94)","v":""},"","",{"$f":"IF(AND($B92=\"NSO\",$E92=\"\"),\"\",IF(AND('Marks Entry'!BB94=\"AB\",'Marks Entry'!BC94=\"AB\"),\"AB\",IF(AND('Marks Entry'!BB94=\"ML\",'Marks Entry'!BC94=\"ML\"),\"RE\",IF('Marks Entry'!BB94=\"\",\"\",ROUNDUP(('Marks Entry'!BB94+'Marks Entry'!BC94)*30/100,0)))))","v":""},"",0,0,"","","","",0,"","","","","","",0,0,0,0,0,"",{"$f":"IF('Marks Entry'!BD94=\"\",\"\",'Marks Entry'!BD94)","v":""},{"$f":"IF('Marks Entry'!BE94=\"\",\"\",'Marks Entry'!BE94)","v":""},{"$f":"IF('Marks Entry'!BF94=\"\",\"\",'Marks Entry'!BF94)","v":""},"","","","","","","","","","","","","","","","","","","","","","","","","","",{"$f":"IF('Student DATA Entry'!I89=\"\",\"\",'Student DATA Entry'!I89)","v":""},{"$f":"IF('Student DATA Entry'!J89=\"\",\"\",'Student DATA Entry'!J89)","v":""},"      ","      ","      ","              "," ","","","","",""]
[88,{"$f":"IF('Marks Entry'!B95=\"\",\"\",VALUE('Marks Entry'!B95))","v":""},{"$f":"IF('Marks Entry'!C95=\"\",\"\",'Marks Entry'!C95)","v":""},{"$f":"IF('Marks Entry'!D95=\"\",\"\",'Marks Entry'!D95)","v":""},{"$f":"IF('Marks Entry'!E95=\"\",\"\",'Marks Entry'!E95)","v":""},{"$f":"IF('Marks Entry'!F95=\"\",\"\",'Marks Entry'!F95)","v":""},{"$f":"IF('Marks Entry'!G95=\"\",\"\",'Marks Entry'!G95)","v":""},{"$f":"IF('Marks Entry'!H95=\"\",\"\",'Marks Entry'!H95)","v":""},{"$f":"IF('Marks Entry'!I95=\"\",\"\",'Marks Entry'!I95)","v":""},{"$f":"IF('Marks Entry'!J95=\"\",\"\",'Marks Entry'!J95)","v":""},{"$f":"IF('Marks Entry'!K95=\"\",\"\",'Marks Entry'!K95)","v":""},{"$f":"IF('Marks Entry'!L95=\"\",\"\",'Marks Entry'!L95)","v":""},"","",{"$f":"IF('Marks Entry'!M95=\"\",\"\",'Marks Entry'!M95)","v":""},"",{"$f":"IF(AND($B93=\"NSO\",$E93=\"\",O93=\"\"),\"\",IF(AND('Marks Entry'!N95=\"AB\"),\"AB\",IF(AND('Marks Entry'!N95=\"ML\"),\"RE\",IF('Marks Entry'!N95=\"\",\"\",ROUNDUP('Marks Entry'!N95*30/100,0)))))","v":""},"",0,0,"","","","",{"$f":"IF('Marks Entry'!O95=\"\",\"\",'Marks Entry'!O95)","v":""},{"$f":"IF('Marks Entry'!P95=\"\",\"\",'Marks Entry'!P95)","v":""},{"$f":"IF('Marks Entry'!Q95=\"\",\"\",'Marks Entry'!Q95)","v":""},"","",{"$f":"IF('Marks Entry'!R95=\"\",\"\",'Marks Entry'!R95)","v":""},"",{"$f":"IF(AND($B93=\"NSO\",$E93=\"\"),\"\",IF(AND('Marks Entry'!S95=\"AB\"),\"AB\",IF(AND('Marks Entry'!S95=\"ML\"),\"RE\",IF('Marks Entry'!S95=\"\",\"\",ROUNDUP('Marks Entry'!S95*30/100,0)))))","v":""},"",0,0,"","","","",{"$f":"IF('Marks Entry'!T95=\"\",\"\",'Marks Entry'!T95)","v":""},{"$f":"IF('Marks Entry'!V95=\"\",\"\",'Marks Entry'!V95)","v":""},{"$f":"IF('Marks Entry'!W95=\"\",\"\",'Marks Entry'!W95)","v":""},{"$f":"IF('Marks Entry'!X95=\"\",\"\",'Marks Entry'!X95)","v":""},"","",{"$f":"IF('Marks Entry'!Y95=\"\",\"\",'Marks Entry'!Y95)","v":""},{"$f":"IF('Marks Entry'!Z95=\"\",\"\",'Marks Entry'!Z95)","v":""},"","",{"$f":"IF(AND($B93=\"NSO\",$E93=\"\"),\"\",IF(AND('Marks Entry'!AA95=\"AB\",'Marks Entry'!AB95=\"AB\"),\"AB\",IF(AND('Marks Entry'!AA95=\"ML\",'Marks Entry'!AB95=\"ML\"),\"RE\",IF('Marks Entry'!AA95=\"\",\"\",ROUNDUP(('Marks Entry'!AA95+'Marks Entry'!AB95)*30/100,0)))))","v":""},"",0,0,"","","","",{"$f":"IF('Marks Entry'!AC95=\"\",\"\",'Marks Entry'!AC95)","v":""},{"$f":"IF('Marks Entry'!AE95=\"\",\"\",'Marks Entry'!AE95)","v":""},{"$f":"IF('Marks Entry'!AF95=\"\",\"\",'Marks Entry'!AF95)","v":""},{"$f":"IF('Marks Entry'!AG95=\"\",\"\",'Marks Entry'!AG95)","v":""},"","",{"$f":"IF('Marks Entry'!AH95=\"\",\"\",'Marks Entry'!AH95)","v":""},{"$f":"IF('Marks Entry'!AI95=\"\",\"\",'Marks Entry'!AI95)","v":""},"","",{"$f":"IF(AND($B93=\"NSO\",$E93=\"\"),\"\",IF(AND('Marks Entry'!AJ95=\"AB\",'Marks Entry'!AK95=\"AB\"),\"AB\",IF(AND('Marks Entry'!AJ95=\"ML\",'Marks Entry'!AK95=\"ML\"),\"RE\",IF('Marks Entry'!AJ95=\"\",\"\",ROUNDUP(('Marks Entry'!AJ95+'Marks Entry'!AK95)*30/100,0)))))","v":""},"",0,0,"","","","",{"$f":"IF('Marks Entry'!AL95=\"\",\"\",'Marks Entry'!AL95)","v":""},{"$f":"IF('Marks Entry'!AN95=\"\",\"\",'Marks Entry'!AN95)","v":""},{"$f":"IF('Marks Entry'!AO95=\"\",\"\",'Marks Entry'!AO95)","v":""},{"$f":"IF('Marks Entry'!AP95=\"\",\"\",'Marks Entry'!AP95)","v":""},"","",{"$f":"IF('Marks Entry'!AQ95=\"\",\"\",'Marks Entry'!AQ95)","v":""},{"$f":"IF('Marks Entry'!AR95=\"\",\"\",'Marks Entry'!AR95)","v":""},"","",{"$f":"IF(AND($B93=\"NSO\",$E93=\"\"),\"\",IF(AND('Marks Entry'!AS95=\"AB\",'Marks Entry'!AT95=\"AB\"),\"AB\",IF(AND('Marks Entry'!AS95=\"ML\",'Marks Entry'!AT95=\"ML\"),\"RE\",IF('Marks Entry'!AS95=\"\",\"\",ROUNDUP(('Marks Entry'!AS95+'Marks Entry'!AT95)*30/100,0)))))","v":""},"",0,0,"","","","",{"$f":"IF('Marks Entry'!AU95=\"\",\"\",'Marks Entry'!AU95)","v":""},{"$f":"IF('Marks Entry'!AW95=\"\",\"\",'Marks Entry'!AW95)","v":""},{"$f":"IF('Marks Entry'!AX95=\"\",\"\",'Marks Entry'!AX95)","v":""},{"$f":"IF('Marks Entry'!AY95=\"\",\"\",'Marks Entry'!AY95)","v":""},"","",{"$f":"IF('Marks Entry'!AZ95=\"\",\"\",'Marks Entry'!AZ95)","v":""},{"$f":"IF('Marks Entry'!BA95=\"\",\"\",'Marks Entry'!BA95)","v":""},"","",{"$f":"IF(AND($B93=\"NSO\",$E93=\"\"),\"\",IF(AND('Marks Entry'!BB95=\"AB\",'Marks Entry'!BC95=\"AB\"),\"AB\",IF(AND('Marks Entry'!BB95=\"ML\",'Marks Entry'!BC95=\"ML\"),\"RE\",IF('Marks Entry'!BB95=\"\",\"\",ROUNDUP(('Marks Entry'!BB95+'Marks Entry'!BC95)*30/100,0)))))","v":""},"",0,0,"","","","",0,"","","","","","",0,0,0,0,0,"",{"$f":"IF('Marks Entry'!BD95=\"\",\"\",'Marks Entry'!BD95)","v":""},{"$f":"IF('Marks Entry'!BE95=\"\",\"\",'Marks Entry'!BE95)","v":""},{"$f":"IF('Marks Entry'!BF95=\"\",\"\",'Marks Entry'!BF95)","v":""},"","","","","","","","","","","","","","","","","","","","","","","","","","",{"$f":"IF('Student DATA Entry'!I90=\"\",\"\",'Student DATA Entry'!I90)","v":""},{"$f":"IF('Student DATA Entry'!J90=\"\",\"\",'Student DATA Entry'!J90)","v":""},"      ","      ","      ","              "," ","","","","",""]
[89,{"$f":"IF('Marks Entry'!B96=\"\",\"\",VALUE('Marks Entry'!B96))","v":""},{"$f":"IF('Marks Entry'!C96=\"\",\"\",'Marks Entry'!C96)","v":""},{"$f":"IF('Marks Entry'!D96=\"\",\"\",'Marks Entry'!D96)","v":""},{"$f":"IF('Marks Entry'!E96=\"\",\"\",'Marks Entry'!E96)","v":""},{"$f":"IF('Marks Entry'!F96=\"\",\"\",'Marks Entry'!F96)","v":""},{"$f":"IF('Marks Entry'!G96=\"\",\"\",'Marks Entry'!G96)","v":""},{"$f":"IF('Marks Entry'!H96=\"\",\"\",'Marks Entry'!H96)","v":""},{"$f":"IF('Marks Entry'!I96=\"\",\"\",'Marks Entry'!I96)","v":""},{"$f":"IF('Marks Entry'!J96=\"\",\"\",'Marks Entry'!J96)","v":""},{"$f":"IF('Marks Entry'!K96=\"\",\"\",'Marks Entry'!K96)","v":""},{"$f":"IF('Marks Entry'!L96=\"\",\"\",'Marks Entry'!L96)","v":""},"","",{"$f":"IF('Marks Entry'!M96=\"\",\"\",'Marks Entry'!M96)","v":""},"",{"$f":"IF(AND($B94=\"NSO\",$E94=\"\",O94=\"\"),\"\",IF(AND('Marks Entry'!N96=\"AB\"),\"AB\",IF(AND('Marks Entry'!N96=\"ML\"),\"RE\",IF('Marks Entry'!N96=\"\",\"\",ROUNDUP('Marks Entry'!N96*30/100,0)))))","v":""},"",0,0,"","","","",{"$f":"IF('Marks Entry'!O96=\"\",\"\",'Marks Entry'!O96)","v":""},{"$f":"IF('Marks Entry'!P96=\"\",\"\",'Marks Entry'!P96)","v":""},{"$f":"IF('Marks Entry'!Q96=\"\",\"\",'Marks Entry'!Q96)","v":""},"","",{"$f":"IF('Marks Entry'!R96=\"\",\"\",'Marks Entry'!R96)","v":""},"",{"$f":"IF(AND($B94=\"NSO\",$E94=\"\"),\"\",IF(AND('Marks Entry'!S96=\"AB\"),\"AB\",IF(AND('Marks Entry'!S96=\"ML\"),\"RE\",IF('Marks Entry'!S96=\"\",\"\",ROUNDUP('Marks Entry'!S96*30/100,0)))))","v":""},"",0,0,"","","","",{"$f":"IF('Marks Entry'!T96=\"\",\"\",'Marks Entry'!T96)","v":""},{"$f":"IF('Marks Entry'!V96=\"\",\"\",'Marks Entry'!V96)","v":""},{"$f":"IF('Marks Entry'!W96=\"\",\"\",'Marks Entry'!W96)","v":""},{"$f":"IF('Marks Entry'!X96=\"\",\"\",'Marks Entry'!X96)","v":""},"","",{"$f":"IF('Marks Entry'!Y96=\"\",\"\",'Marks Entry'!Y96)","v":""},{"$f":"IF('Marks Entry'!Z96=\"\",\"\",'Marks Entry'!Z96)","v":""},"","",{"$f":"IF(AND($B94=\"NSO\",$E94=\"\"),\"\",IF(AND('Marks Entry'!AA96=\"AB\",'Marks Entry'!AB96=\"AB\"),\"AB\",IF(AND('Marks Entry'!AA96=\"ML\",'Marks Entry'!AB96=\"ML\"),\"RE\",IF('Marks Entry'!AA96=\"\",\"\",ROUNDUP(('Marks Entry'!AA96+'Marks Entry'!AB96)*30/100,0)))))","v":""},"",0,0,"","","","",{"$f":"IF('Marks Entry'!AC96=\"\",\"\",'Marks Entry'!AC96)","v":""},{"$f":"IF('Marks Entry'!AE96=\"\",\"\",'Marks Entry'!AE96)","v":""},{"$f":"IF('Marks Entry'!AF96=\"\",\"\",'Marks Entry'!AF96)","v":""},{"$f":"IF('Marks Entry'!AG96=\"\",\"\",'Marks Entry'!AG96)","v":""},"","",{"$f":"IF('Marks Entry'!AH96=\"\",\"\",'Marks Entry'!AH96)","v":""},{"$f":"IF('Marks Entry'!AI96=\"\",\"\",'Marks Entry'!AI96)","v":""},"","",{"$f":"IF(AND($B94=\"NSO\",$E94=\"\"),\"\",IF(AND('Marks Entry'!AJ96=\"AB\",'Marks Entry'!AK96=\"AB\"),\"AB\",IF(AND('Marks Entry'!AJ96=\"ML\",'Marks Entry'!AK96=\"ML\"),\"RE\",IF('Marks Entry'!AJ96=\"\",\"\",ROUNDUP(('Marks Entry'!AJ96+'Marks Entry'!AK96)*30/100,0)))))","v":""},"",0,0,"","","","",{"$f":"IF('Marks Entry'!AL96=\"\",\"\",'Marks Entry'!AL96)","v":""},{"$f":"IF('Marks Entry'!AN96=\"\",\"\",'Marks Entry'!AN96)","v":""},{"$f":"IF('Marks Entry'!AO96=\"\",\"\",'Marks Entry'!AO96)","v":""},{"$f":"IF('Marks Entry'!AP96=\"\",\"\",'Marks Entry'!AP96)","v":""},"","",{"$f":"IF('Marks Entry'!AQ96=\"\",\"\",'Marks Entry'!AQ96)","v":""},{"$f":"IF('Marks Entry'!AR96=\"\",\"\",'Marks Entry'!AR96)","v":""},"","",{"$f":"IF(AND($B94=\"NSO\",$E94=\"\"),\"\",IF(AND('Marks Entry'!AS96=\"AB\",'Marks Entry'!AT96=\"AB\"),\"AB\",IF(AND('Marks Entry'!AS96=\"ML\",'Marks Entry'!AT96=\"ML\"),\"RE\",IF('Marks Entry'!AS96=\"\",\"\",ROUNDUP(('Marks Entry'!AS96+'Marks Entry'!AT96)*30/100,0)))))","v":""},"",0,0,"","","","",{"$f":"IF('Marks Entry'!AU96=\"\",\"\",'Marks Entry'!AU96)","v":""},{"$f":"IF('Marks Entry'!AW96=\"\",\"\",'Marks Entry'!AW96)","v":""},{"$f":"IF('Marks Entry'!AX96=\"\",\"\",'Marks Entry'!AX96)","v":""},{"$f":"IF('Marks Entry'!AY96=\"\",\"\",'Marks Entry'!AY96)","v":""},"","",{"$f":"IF('Marks Entry'!AZ96=\"\",\"\",'Marks Entry'!AZ96)","v":""},{"$f":"IF('Marks Entry'!BA96=\"\",\"\",'Marks Entry'!BA96)","v":""},"","",{"$f":"IF(AND($B94=\"NSO\",$E94=\"\"),\"\",IF(AND('Marks Entry'!BB96=\"AB\",'Marks Entry'!BC96=\"AB\"),\"AB\",IF(AND('Marks Entry'!BB96=\"ML\",'Marks Entry'!BC96=\"ML\"),\"RE\",IF('Marks Entry'!BB96=\"\",\"\",ROUNDUP(('Marks Entry'!BB96+'Marks Entry'!BC96)*30/100,0)))))","v":""},"",0,0,"","","","",0,"","","","","","",0,0,0,0,0,"",{"$f":"IF('Marks Entry'!BD96=\"\",\"\",'Marks Entry'!BD96)","v":""},{"$f":"IF('Marks Entry'!BE96=\"\",\"\",'Marks Entry'!BE96)","v":""},{"$f":"IF('Marks Entry'!BF96=\"\",\"\",'Marks Entry'!BF96)","v":""},"","","","","","","","","","","","","","","","","","","","","","","","","","",{"$f":"IF('Student DATA Entry'!I91=\"\",\"\",'Student DATA Entry'!I91)","v":""},{"$f":"IF('Student DATA Entry'!J91=\"\",\"\",'Student DATA Entry'!J91)","v":""},"      ","      ","      ","              "," ","","","","",""]
[90,{"$f":"IF('Marks Entry'!B97=\"\",\"\",VALUE('Marks Entry'!B97))","v":""},{"$f":"IF('Marks Entry'!C97=\"\",\"\",'Marks Entry'!C97)","v":""},{"$f":"IF('Marks Entry'!D97=\"\",\"\",'Marks Entry'!D97)","v":""},{"$f":"IF('Marks Entry'!E97=\"\",\"\",'Marks Entry'!E97)","v":""},{"$f":"IF('Marks Entry'!F97=\"\",\"\",'Marks Entry'!F97)","v":""},{"$f":"IF('Marks Entry'!G97=\"\",\"\",'Marks Entry'!G97)","v":""},{"$f":"IF('Marks Entry'!H97=\"\",\"\",'Marks Entry'!H97)","v":""},{"$f":"IF('Marks Entry'!I97=\"\",\"\",'Marks Entry'!I97)","v":""},{"$f":"IF('Marks Entry'!J97=\"\",\"\",'Marks Entry'!J97)","v":""},{"$f":"IF('Marks Entry'!K97=\"\",\"\",'Marks Entry'!K97)","v":""},{"$f":"IF('Marks Entry'!L97=\"\",\"\",'Marks Entry'!L97)","v":""},"","",{"$f":"IF('Marks Entry'!M97=\"\",\"\",'Marks Entry'!M97)","v":""},"",{"$f":"IF(AND($B95=\"NSO\",$E95=\"\",O95=\"\"),\"\",IF(AND('Marks Entry'!N97=\"AB\"),\"AB\",IF(AND('Marks Entry'!N97=\"ML\"),\"RE\",IF('Marks Entry'!N97=\"\",\"\",ROUNDUP('Marks Entry'!N97*30/100,0)))))","v":""},"",0,0,"","","","",{"$f":"IF('Marks Entry'!O97=\"\",\"\",'Marks Entry'!O97)","v":""},{"$f":"IF('Marks Entry'!P97=\"\",\"\",'Marks Entry'!P97)","v":""},{"$f":"IF('Marks Entry'!Q97=\"\",\"\",'Marks Entry'!Q97)","v":""},"","",{"$f":"IF('Marks Entry'!R97=\"\",\"\",'Marks Entry'!R97)","v":""},"",{"$f":"IF(AND($B95=\"NSO\",$E95=\"\"),\"\",IF(AND('Marks Entry'!S97=\"AB\"),\"AB\",IF(AND('Marks Entry'!S97=\"ML\"),\"RE\",IF('Marks Entry'!S97=\"\",\"\",ROUNDUP('Marks Entry'!S97*30/100,0)))))","v":""},"",0,0,"","","","",{"$f":"IF('Marks Entry'!T97=\"\",\"\",'Marks Entry'!T97)","v":""},{"$f":"IF('Marks Entry'!V97=\"\",\"\",'Marks Entry'!V97)","v":""},{"$f":"IF('Marks Entry'!W97=\"\",\"\",'Marks Entry'!W97)","v":""},{"$f":"IF('Marks Entry'!X97=\"\",\"\",'Marks Entry'!X97)","v":""},"","",{"$f":"IF('Marks Entry'!Y97=\"\",\"\",'Marks Entry'!Y97)","v":""},{"$f":"IF('Marks Entry'!Z97=\"\",\"\",'Marks Entry'!Z97)","v":""},"","",{"$f":"IF(AND($B95=\"NSO\",$E95=\"\"),\"\",IF(AND('Marks Entry'!AA97=\"AB\",'Marks Entry'!AB97=\"AB\"),\"AB\",IF(AND('Marks Entry'!AA97=\"ML\",'Marks Entry'!AB97=\"ML\"),\"RE\",IF('Marks Entry'!AA97=\"\",\"\",ROUNDUP(('Marks Entry'!AA97+'Marks Entry'!AB97)*30/100,0)))))","v":""},"",0,0,"","","","",{"$f":"IF('Marks Entry'!AC97=\"\",\"\",'Marks Entry'!AC97)","v":""},{"$f":"IF('Marks Entry'!AE97=\"\",\"\",'Marks Entry'!AE97)","v":""},{"$f":"IF('Marks Entry'!AF97=\"\",\"\",'Marks Entry'!AF97)","v":""},{"$f":"IF('Marks Entry'!AG97=\"\",\"\",'Marks Entry'!AG97)","v":""},"","",{"$f":"IF('Marks Entry'!AH97=\"\",\"\",'Marks Entry'!AH97)","v":""},{"$f":"IF('Marks Entry'!AI97=\"\",\"\",'Marks Entry'!AI97)","v":""},"","",{"$f":"IF(AND($B95=\"NSO\",$E95=\"\"),\"\",IF(AND('Marks Entry'!AJ97=\"AB\",'Marks Entry'!AK97=\"AB\"),\"AB\",IF(AND('Marks Entry'!AJ97=\"ML\",'Marks Entry'!AK97=\"ML\"),\"RE\",IF('Marks Entry'!AJ97=\"\",\"\",ROUNDUP(('Marks Entry'!AJ97+'Marks Entry'!AK97)*30/100,0)))))","v":""},"",0,0,"","","","",{"$f":"IF('Marks Entry'!AL97=\"\",\"\",'Marks Entry'!AL97)","v":""},{"$f":"IF('Marks Entry'!AN97=\"\",\"\",'Marks Entry'!AN97)","v":""},{"$f":"IF('Marks Entry'!AO97=\"\",\"\",'Marks Entry'!AO97)","v":""},{"$f":"IF('Marks Entry'!AP97=\"\",\"\",'Marks Entry'!AP97)","v":""},"","",{"$f":"IF('Marks Entry'!AQ97=\"\",\"\",'Marks Entry'!AQ97)","v":""},{"$f":"IF('Marks Entry'!AR97=\"\",\"\",'Marks Entry'!AR97)","v":""},"","",{"$f":"IF(AND($B95=\"NSO\",$E95=\"\"),\"\",IF(AND('Marks Entry'!AS97=\"AB\",'Marks Entry'!AT97=\"AB\"),\"AB\",IF(AND('Marks Entry'!AS97=\"ML\",'Marks Entry'!AT97=\"ML\"),\"RE\",IF('Marks Entry'!AS97=\"\",\"\",ROUNDUP(('Marks Entry'!AS97+'Marks Entry'!AT97)*30/100,0)))))","v":""},"",0,0,"","","","",{"$f":"IF('Marks Entry'!AU97=\"\",\"\",'Marks Entry'!AU97)","v":""},{"$f":"IF('Marks Entry'!AW97=\"\",\"\",'Marks Entry'!AW97)","v":""},{"$f":"IF('Marks Entry'!AX97=\"\",\"\",'Marks Entry'!AX97)","v":""},{"$f":"IF('Marks Entry'!AY97=\"\",\"\",'Marks Entry'!AY97)","v":""},"","",{"$f":"IF('Marks Entry'!AZ97=\"\",\"\",'Marks Entry'!AZ97)","v":""},{"$f":"IF('Marks Entry'!BA97=\"\",\"\",'Marks Entry'!BA97)","v":""},"","",{"$f":"IF(AND($B95=\"NSO\",$E95=\"\"),\"\",IF(AND('Marks Entry'!BB97=\"AB\",'Marks Entry'!BC97=\"AB\"),\"AB\",IF(AND('Marks Entry'!BB97=\"ML\",'Marks Entry'!BC97=\"ML\"),\"RE\",IF('Marks Entry'!BB97=\"\",\"\",ROUNDUP(('Marks Entry'!BB97+'Marks Entry'!BC97)*30/100,0)))))","v":""},"",0,0,"","","","",0,"","","","","","",0,0,0,0,0,"",{"$f":"IF('Marks Entry'!BD97=\"\",\"\",'Marks Entry'!BD97)","v":""},{"$f":"IF('Marks Entry'!BE97=\"\",\"\",'Marks Entry'!BE97)","v":""},{"$f":"IF('Marks Entry'!BF97=\"\",\"\",'Marks Entry'!BF97)","v":""},"","","","","","","","","","","","","","","","","","","","","","","","","","",{"$f":"IF('Student DATA Entry'!I92=\"\",\"\",'Student DATA Entry'!I92)","v":""},{"$f":"IF('Student DATA Entry'!J92=\"\",\"\",'Student DATA Entry'!J92)","v":""},"      ","      ","      ","              "," ","","","","",""]
[91,{"$f":"IF('Marks Entry'!B98=\"\",\"\",VALUE('Marks Entry'!B98))","v":""},{"$f":"IF('Marks Entry'!C98=\"\",\"\",'Marks Entry'!C98)","v":""},{"$f":"IF('Marks Entry'!D98=\"\",\"\",'Marks Entry'!D98)","v":""},{"$f":"IF('Marks Entry'!E98=\"\",\"\",'Marks Entry'!E98)","v":""},{"$f":"IF('Marks Entry'!F98=\"\",\"\",'Marks Entry'!F98)","v":""},{"$f":"IF('Marks Entry'!G98=\"\",\"\",'Marks Entry'!G98)","v":""},{"$f":"IF('Marks Entry'!H98=\"\",\"\",'Marks Entry'!H98)","v":""},{"$f":"IF('Marks Entry'!I98=\"\",\"\",'Marks Entry'!I98)","v":""},{"$f":"IF('Marks Entry'!J98=\"\",\"\",'Marks Entry'!J98)","v":""},{"$f":"IF('Marks Entry'!K98=\"\",\"\",'Marks Entry'!K98)","v":""},{"$f":"IF('Marks Entry'!L98=\"\",\"\",'Marks Entry'!L98)","v":""},"","",{"$f":"IF('Marks Entry'!M98=\"\",\"\",'Marks Entry'!M98)","v":""},"",{"$f":"IF(AND($B96=\"NSO\",$E96=\"\",O96=\"\"),\"\",IF(AND('Marks Entry'!N98=\"AB\"),\"AB\",IF(AND('Marks Entry'!N98=\"ML\"),\"RE\",IF('Marks Entry'!N98=\"\",\"\",ROUNDUP('Marks Entry'!N98*30/100,0)))))","v":""},"",0,0,"","","","",{"$f":"IF('Marks Entry'!O98=\"\",\"\",'Marks Entry'!O98)","v":""},{"$f":"IF('Marks Entry'!P98=\"\",\"\",'Marks Entry'!P98)","v":""},{"$f":"IF('Marks Entry'!Q98=\"\",\"\",'Marks Entry'!Q98)","v":""},"","",{"$f":"IF('Marks Entry'!R98=\"\",\"\",'Marks Entry'!R98)","v":""},"",{"$f":"IF(AND($B96=\"NSO\",$E96=\"\"),\"\",IF(AND('Marks Entry'!S98=\"AB\"),\"AB\",IF(AND('Marks Entry'!S98=\"ML\"),\"RE\",IF('Marks Entry'!S98=\"\",\"\",ROUNDUP('Marks Entry'!S98*30/100,0)))))","v":""},"",0,0,"","","","",{"$f":"IF('Marks Entry'!T98=\"\",\"\",'Marks Entry'!T98)","v":""},{"$f":"IF('Marks Entry'!V98=\"\",\"\",'Marks Entry'!V98)","v":""},{"$f":"IF('Marks Entry'!W98=\"\",\"\",'Marks Entry'!W98)","v":""},{"$f":"IF('Marks Entry'!X98=\"\",\"\",'Marks Entry'!X98)","v":""},"","",{"$f":"IF('Marks Entry'!Y98=\"\",\"\",'Marks Entry'!Y98)","v":""},{"$f":"IF('Marks Entry'!Z98=\"\",\"\",'Marks Entry'!Z98)","v":""},"","",{"$f":"IF(AND($B96=\"NSO\",$E96=\"\"),\"\",IF(AND('Marks Entry'!AA98=\"AB\",'Marks Entry'!AB98=\"AB\"),\"AB\",IF(AND('Marks Entry'!AA98=\"ML\",'Marks Entry'!AB98=\"ML\"),\"RE\",IF('Marks Entry'!AA98=\"\",\"\",ROUNDUP(('Marks Entry'!AA98+'Marks Entry'!AB98)*30/100,0)))))","v":""},"",0,0,"","","","",{"$f":"IF('Marks Entry'!AC98=\"\",\"\",'Marks Entry'!AC98)","v":""},{"$f":"IF('Marks Entry'!AE98=\"\",\"\",'Marks Entry'!AE98)","v":""},{"$f":"IF('Marks Entry'!AF98=\"\",\"\",'Marks Entry'!AF98)","v":""},{"$f":"IF('Marks Entry'!AG98=\"\",\"\",'Marks Entry'!AG98)","v":""},"","",{"$f":"IF('Marks Entry'!AH98=\"\",\"\",'Marks Entry'!AH98)","v":""},{"$f":"IF('Marks Entry'!AI98=\"\",\"\",'Marks Entry'!AI98)","v":""},"","",{"$f":"IF(AND($B96=\"NSO\",$E96=\"\"),\"\",IF(AND('Marks Entry'!AJ98=\"AB\",'Marks Entry'!AK98=\"AB\"),\"AB\",IF(AND('Marks Entry'!AJ98=\"ML\",'Marks Entry'!AK98=\"ML\"),\"RE\",IF('Marks Entry'!AJ98=\"\",\"\",ROUNDUP(('Marks Entry'!AJ98+'Marks Entry'!AK98)*30/100,0)))))","v":""},"",0,0,"","","","",{"$f":"IF('Marks Entry'!AL98=\"\",\"\",'Marks Entry'!AL98)","v":""},{"$f":"IF('Marks Entry'!AN98=\"\",\"\",'Marks Entry'!AN98)","v":""},{"$f":"IF('Marks Entry'!AO98=\"\",\"\",'Marks Entry'!AO98)","v":""},{"$f":"IF('Marks Entry'!AP98=\"\",\"\",'Marks Entry'!AP98)","v":""},"","",{"$f":"IF('Marks Entry'!AQ98=\"\",\"\",'Marks Entry'!AQ98)","v":""},{"$f":"IF('Marks Entry'!AR98=\"\",\"\",'Marks Entry'!AR98)","v":""},"","",{"$f":"IF(AND($B96=\"NSO\",$E96=\"\"),\"\",IF(AND('Marks Entry'!AS98=\"AB\",'Marks Entry'!AT98=\"AB\"),\"AB\",IF(AND('Marks Entry'!AS98=\"ML\",'Marks Entry'!AT98=\"ML\"),\"RE\",IF('Marks Entry'!AS98=\"\",\"\",ROUNDUP(('Marks Entry'!AS98+'Marks Entry'!AT98)*30/100,0)))))","v":""},"",0,0,"","","","",{"$f":"IF('Marks Entry'!AU98=\"\",\"\",'Marks Entry'!AU98)","v":""},{"$f":"IF('Marks Entry'!AW98=\"\",\"\",'Marks Entry'!AW98)","v":""},{"$f":"IF('Marks Entry'!AX98=\"\",\"\",'Marks Entry'!AX98)","v":""},{"$f":"IF('Marks Entry'!AY98=\"\",\"\",'Marks Entry'!AY98)","v":""},"","",{"$f":"IF('Marks Entry'!AZ98=\"\",\"\",'Marks Entry'!AZ98)","v":""},{"$f":"IF('Marks Entry'!BA98=\"\",\"\",'Marks Entry'!BA98)","v":""},"","",{"$f":"IF(AND($B96=\"NSO\",$E96=\"\"),\"\",IF(AND('Marks Entry'!BB98=\"AB\",'Marks Entry'!BC98=\"AB\"),\"AB\",IF(AND('Marks Entry'!BB98=\"ML\",'Marks Entry'!BC98=\"ML\"),\"RE\",IF('Marks Entry'!BB98=\"\",\"\",ROUNDUP(('Marks Entry'!BB98+'Marks Entry'!BC98)*30/100,0)))))","v":""},"",0,0,"","","","",0,"","","","","","",0,0,0,0,0,"",{"$f":"IF('Marks Entry'!BD98=\"\",\"\",'Marks Entry'!BD98)","v":""},{"$f":"IF('Marks Entry'!BE98=\"\",\"\",'Marks Entry'!BE98)","v":""},{"$f":"IF('Marks Entry'!BF98=\"\",\"\",'Marks Entry'!BF98)","v":""},"","","","","","","","","","","","","","","","","","","","","","","","","","",{"$f":"IF('Student DATA Entry'!I93=\"\",\"\",'Student DATA Entry'!I93)","v":""},{"$f":"IF('Student DATA Entry'!J93=\"\",\"\",'Student DATA Entry'!J93)","v":""},"      ","      ","      ","              "," ","","","","",""]
[92,{"$f":"IF('Marks Entry'!B99=\"\",\"\",VALUE('Marks Entry'!B99))","v":""},{"$f":"IF('Marks Entry'!C99=\"\",\"\",'Marks Entry'!C99)","v":""},{"$f":"IF('Marks Entry'!D99=\"\",\"\",'Marks Entry'!D99)","v":""},{"$f":"IF('Marks Entry'!E99=\"\",\"\",'Marks Entry'!E99)","v":""},{"$f":"IF('Marks Entry'!F99=\"\",\"\",'Marks Entry'!F99)","v":""},{"$f":"IF('Marks Entry'!G99=\"\",\"\",'Marks Entry'!G99)","v":""},{"$f":"IF('Marks Entry'!H99=\"\",\"\",'Marks Entry'!H99)","v":""},{"$f":"IF('Marks Entry'!I99=\"\",\"\",'Marks Entry'!I99)","v":""},{"$f":"IF('Marks Entry'!J99=\"\",\"\",'Marks Entry'!J99)","v":""},{"$f":"IF('Marks Entry'!K99=\"\",\"\",'Marks Entry'!K99)","v":""},{"$f":"IF('Marks Entry'!L99=\"\",\"\",'Marks Entry'!L99)","v":""},"","",{"$f":"IF('Marks Entry'!M99=\"\",\"\",'Marks Entry'!M99)","v":""},"",{"$f":"IF(AND($B97=\"NSO\",$E97=\"\",O97=\"\"),\"\",IF(AND('Marks Entry'!N99=\"AB\"),\"AB\",IF(AND('Marks Entry'!N99=\"ML\"),\"RE\",IF('Marks Entry'!N99=\"\",\"\",ROUNDUP('Marks Entry'!N99*30/100,0)))))","v":""},"",0,0,"","","","",{"$f":"IF('Marks Entry'!O99=\"\",\"\",'Marks Entry'!O99)","v":""},{"$f":"IF('Marks Entry'!P99=\"\",\"\",'Marks Entry'!P99)","v":""},{"$f":"IF('Marks Entry'!Q99=\"\",\"\",'Marks Entry'!Q99)","v":""},"","",{"$f":"IF('Marks Entry'!R99=\"\",\"\",'Marks Entry'!R99)","v":""},"",{"$f":"IF(AND($B97=\"NSO\",$E97=\"\"),\"\",IF(AND('Marks Entry'!S99=\"AB\"),\"AB\",IF(AND('Marks Entry'!S99=\"ML\"),\"RE\",IF('Marks Entry'!S99=\"\",\"\",ROUNDUP('Marks Entry'!S99*30/100,0)))))","v":""},"",0,0,"","","","",{"$f":"IF('Marks Entry'!T99=\"\",\"\",'Marks Entry'!T99)","v":""},{"$f":"IF('Marks Entry'!V99=\"\",\"\",'Marks Entry'!V99)","v":""},{"$f":"IF('Marks Entry'!W99=\"\",\"\",'Marks Entry'!W99)","v":""},{"$f":"IF('Marks Entry'!X99=\"\",\"\",'Marks Entry'!X99)","v":""},"","",{"$f":"IF('Marks Entry'!Y99=\"\",\"\",'Marks Entry'!Y99)","v":""},{"$f":"IF('Marks Entry'!Z99=\"\",\"\",'Marks Entry'!Z99)","v":""},"","",{"$f":"IF(AND($B97=\"NSO\",$E97=\"\"),\"\",IF(AND('Marks Entry'!AA99=\"AB\",'Marks Entry'!AB99=\"AB\"),\"AB\",IF(AND('Marks Entry'!AA99=\"ML\",'Marks Entry'!AB99=\"ML\"),\"RE\",IF('Marks Entry'!AA99=\"\",\"\",ROUNDUP(('Marks Entry'!AA99+'Marks Entry'!AB99)*30/100,0)))))","v":""},"",0,0,"","","","",{"$f":"IF('Marks Entry'!AC99=\"\",\"\",'Marks Entry'!AC99)","v":""},{"$f":"IF('Marks Entry'!AE99=\"\",\"\",'Marks Entry'!AE99)","v":""},{"$f":"IF('Marks Entry'!AF99=\"\",\"\",'Marks Entry'!AF99)","v":""},{"$f":"IF('Marks Entry'!AG99=\"\",\"\",'Marks Entry'!AG99)","v":""},"","",{"$f":"IF('Marks Entry'!AH99=\"\",\"\",'Marks Entry'!AH99)","v":""},{"$f":"IF('Marks Entry'!AI99=\"\",\"\",'Marks Entry'!AI99)","v":""},"","",{"$f":"IF(AND($B97=\"NSO\",$E97=\"\"),\"\",IF(AND('Marks Entry'!AJ99=\"AB\",'Marks Entry'!AK99=\"AB\"),\"AB\",IF(AND('Marks Entry'!AJ99=\"ML\",'Marks Entry'!AK99=\"ML\"),\"RE\",IF('Marks Entry'!AJ99=\"\",\"\",ROUNDUP(('Marks Entry'!AJ99+'Marks Entry'!AK99)*30/100,0)))))","v":""},"",0,0,"","","","",{"$f":"IF('Marks Entry'!AL99=\"\",\"\",'Marks Entry'!AL99)","v":""},{"$f":"IF('Marks Entry'!AN99=\"\",\"\",'Marks Entry'!AN99)","v":""},{"$f":"IF('Marks Entry'!AO99=\"\",\"\",'Marks Entry'!AO99)","v":""},{"$f":"IF('Marks Entry'!AP99=\"\",\"\",'Marks Entry'!AP99)","v":""},"","",{"$f":"IF('Marks Entry'!AQ99=\"\",\"\",'Marks Entry'!AQ99)","v":""},{"$f":"IF('Marks Entry'!AR99=\"\",\"\",'Marks Entry'!AR99)","v":""},"","",{"$f":"IF(AND($B97=\"NSO\",$E97=\"\"),\"\",IF(AND('Marks Entry'!AS99=\"AB\",'Marks Entry'!AT99=\"AB\"),\"AB\",IF(AND('Marks Entry'!AS99=\"ML\",'Marks Entry'!AT99=\"ML\"),\"RE\",IF('Marks Entry'!AS99=\"\",\"\",ROUNDUP(('Marks Entry'!AS99+'Marks Entry'!AT99)*30/100,0)))))","v":""},"",0,0,"","","","",{"$f":"IF('Marks Entry'!AU99=\"\",\"\",'Marks Entry'!AU99)","v":""},{"$f":"IF('Marks Entry'!AW99=\"\",\"\",'Marks Entry'!AW99)","v":""},{"$f":"IF('Marks Entry'!AX99=\"\",\"\",'Marks Entry'!AX99)","v":""},{"$f":"IF('Marks Entry'!AY99=\"\",\"\",'Marks Entry'!AY99)","v":""},"","",{"$f":"IF('Marks Entry'!AZ99=\"\",\"\",'Marks Entry'!AZ99)","v":""},{"$f":"IF('Marks Entry'!BA99=\"\",\"\",'Marks Entry'!BA99)","v":""},"","",{"$f":"IF(AND($B97=\"NSO\",$E97=\"\"),\"\",IF(AND('Marks Entry'!BB99=\"AB\",'Marks Entry'!BC99=\"AB\"),\"AB\",IF(AND('Marks Entry'!BB99=\"ML\",'Marks Entry'!BC99=\"ML\"),\"RE\",IF('Marks Entry'!BB99=\"\",\"\",ROUNDUP(('Marks Entry'!BB99+'Marks Entry'!BC99)*30/100,0)))))","v":""},"",0,0,"","","","",0,"","","","","","",0,0,0,0,0,"",{"$f":"IF('Marks Entry'!BD99=\"\",\"\",'Marks Entry'!BD99)","v":""},{"$f":"IF('Marks Entry'!BE99=\"\",\"\",'Marks Entry'!BE99)","v":""},{"$f":"IF('Marks Entry'!BF99=\"\",\"\",'Marks Entry'!BF99)","v":""},"","","","","","","","","","","","","","","","","","","","","","","","","","",{"$f":"IF('Student DATA Entry'!I94=\"\",\"\",'Student DATA Entry'!I94)","v":""},{"$f":"IF('Student DATA Entry'!J94=\"\",\"\",'Student DATA Entry'!J94)","v":""},"      ","      ","      ","              "," ","","","","",""]
[93,{"$f":"IF('Marks Entry'!B100=\"\",\"\",VALUE('Marks Entry'!B100))","v":""},{"$f":"IF('Marks Entry'!C100=\"\",\"\",'Marks Entry'!C100)","v":""},{"$f":"IF('Marks Entry'!D100=\"\",\"\",'Marks Entry'!D100)","v":""},{"$f":"IF('Marks Entry'!E100=\"\",\"\",'Marks Entry'!E100)","v":""},{"$f":"IF('Marks Entry'!F100=\"\",\"\",'Marks Entry'!F100)","v":""},{"$f":"IF('Marks Entry'!G100=\"\",\"\",'Marks Entry'!G100)","v":""},{"$f":"IF('Marks Entry'!H100=\"\",\"\",'Marks Entry'!H100)","v":""},{"$f":"IF('Marks Entry'!I100=\"\",\"\",'Marks Entry'!I100)","v":""},{"$f":"IF('Marks Entry'!J100=\"\",\"\",'Marks Entry'!J100)","v":""},{"$f":"IF('Marks Entry'!K100=\"\",\"\",'Marks Entry'!K100)","v":""},{"$f":"IF('Marks Entry'!L100=\"\",\"\",'Marks Entry'!L100)","v":""},"","",{"$f":"IF('Marks Entry'!M100=\"\",\"\",'Marks Entry'!M100)","v":""},"",{"$f":"IF(AND($B98=\"NSO\",$E98=\"\",O98=\"\"),\"\",IF(AND('Marks Entry'!N100=\"AB\"),\"AB\",IF(AND('Marks Entry'!N100=\"ML\"),\"RE\",IF('Marks Entry'!N100=\"\",\"\",ROUNDUP('Marks Entry'!N100*30/100,0)))))","v":""},"",0,0,"","","","",{"$f":"IF('Marks Entry'!O100=\"\",\"\",'Marks Entry'!O100)","v":""},{"$f":"IF('Marks Entry'!P100=\"\",\"\",'Marks Entry'!P100)","v":""},{"$f":"IF('Marks Entry'!Q100=\"\",\"\",'Marks Entry'!Q100)","v":""},"","",{"$f":"IF('Marks Entry'!R100=\"\",\"\",'Marks Entry'!R100)","v":""},"",{"$f":"IF(AND($B98=\"NSO\",$E98=\"\"),\"\",IF(AND('Marks Entry'!S100=\"AB\"),\"AB\",IF(AND('Marks Entry'!S100=\"ML\"),\"RE\",IF('Marks Entry'!S100=\"\",\"\",ROUNDUP('Marks Entry'!S100*30/100,0)))))","v":""},"",0,0,"","","","",{"$f":"IF('Marks Entry'!T100=\"\",\"\",'Marks Entry'!T100)","v":""},{"$f":"IF('Marks Entry'!V100=\"\",\"\",'Marks Entry'!V100)","v":""},{"$f":"IF('Marks Entry'!W100=\"\",\"\",'Marks Entry'!W100)","v":""},{"$f":"IF('Marks Entry'!X100=\"\",\"\",'Marks Entry'!X100)","v":""},"","",{"$f":"IF('Marks Entry'!Y100=\"\",\"\",'Marks Entry'!Y100)","v":""},{"$f":"IF('Marks Entry'!Z100=\"\",\"\",'Marks Entry'!Z100)","v":""},"","",{"$f":"IF(AND($B98=\"NSO\",$E98=\"\"),\"\",IF(AND('Marks Entry'!AA100=\"AB\",'Marks Entry'!AB100=\"AB\"),\"AB\",IF(AND('Marks Entry'!AA100=\"ML\",'Marks Entry'!AB100=\"ML\"),\"RE\",IF('Marks Entry'!AA100=\"\",\"\",ROUNDUP(('Marks Entry'!AA100+'Marks Entry'!AB100)*30/100,0)))))","v":""},"",0,0,"","","","",{"$f":"IF('Marks Entry'!AC100=\"\",\"\",'Marks Entry'!AC100)","v":""},{"$f":"IF('Marks Entry'!AE100=\"\",\"\",'Marks Entry'!AE100)","v":""},{"$f":"IF('Marks Entry'!AF100=\"\",\"\",'Marks Entry'!AF100)","v":""},{"$f":"IF('Marks Entry'!AG100=\"\",\"\",'Marks Entry'!AG100)","v":""},"","",{"$f":"IF('Marks Entry'!AH100=\"\",\"\",'Marks Entry'!AH100)","v":""},{"$f":"IF('Marks Entry'!AI100=\"\",\"\",'Marks Entry'!AI100)","v":""},"","",{"$f":"IF(AND($B98=\"NSO\",$E98=\"\"),\"\",IF(AND('Marks Entry'!AJ100=\"AB\",'Marks Entry'!AK100=\"AB\"),\"AB\",IF(AND('Marks Entry'!AJ100=\"ML\",'Marks Entry'!AK100=\"ML\"),\"RE\",IF('Marks Entry'!AJ100=\"\",\"\",ROUNDUP(('Marks Entry'!AJ100+'Marks Entry'!AK100)*30/100,0)))))","v":""},"",0,0,"","","","",{"$f":"IF('Marks Entry'!AL100=\"\",\"\",'Marks Entry'!AL100)","v":""},{"$f":"IF('Marks Entry'!AN100=\"\",\"\",'Marks Entry'!AN100)","v":""},{"$f":"IF('Marks Entry'!AO100=\"\",\"\",'Marks Entry'!AO100)","v":""},{"$f":"IF('Marks Entry'!AP100=\"\",\"\",'Marks Entry'!AP100)","v":""},"","",{"$f":"IF('Marks Entry'!AQ100=\"\",\"\",'Marks Entry'!AQ100)","v":""},{"$f":"IF('Marks Entry'!AR100=\"\",\"\",'Marks Entry'!AR100)","v":""},"","",{"$f":"IF(AND($B98=\"NSO\",$E98=\"\"),\"\",IF(AND('Marks Entry'!AS100=\"AB\",'Marks Entry'!AT100=\"AB\"),\"AB\",IF(AND('Marks Entry'!AS100=\"ML\",'Marks Entry'!AT100=\"ML\"),\"RE\",IF('Marks Entry'!AS100=\"\",\"\",ROUNDUP(('Marks Entry'!AS100+'Marks Entry'!AT100)*30/100,0)))))","v":""},"",0,0,"","","","",{"$f":"IF('Marks Entry'!AU100=\"\",\"\",'Marks Entry'!AU100)","v":""},{"$f":"IF('Marks Entry'!AW100=\"\",\"\",'Marks Entry'!AW100)","v":""},{"$f":"IF('Marks Entry'!AX100=\"\",\"\",'Marks Entry'!AX100)","v":""},{"$f":"IF('Marks Entry'!AY100=\"\",\"\",'Marks Entry'!AY100)","v":""},"","",{"$f":"IF('Marks Entry'!AZ100=\"\",\"\",'Marks Entry'!AZ100)","v":""},{"$f":"IF('Marks Entry'!BA100=\"\",\"\",'Marks Entry'!BA100)","v":""},"","",{"$f":"IF(AND($B98=\"NSO\",$E98=\"\"),\"\",IF(AND('Marks Entry'!BB100=\"AB\",'Marks Entry'!BC100=\"AB\"),\"AB\",IF(AND('Marks Entry'!BB100=\"ML\",'Marks Entry'!BC100=\"ML\"),\"RE\",IF('Marks Entry'!BB100=\"\",\"\",ROUNDUP(('Marks Entry'!BB100+'Marks Entry'!BC100)*30/100,0)))))","v":""},"",0,0,"","","","",0,"","","","","","",0,0,0,0,0,"",{"$f":"IF('Marks Entry'!BD100=\"\",\"\",'Marks Entry'!BD100)","v":""},{"$f":"IF('Marks Entry'!BE100=\"\",\"\",'Marks Entry'!BE100)","v":""},{"$f":"IF('Marks Entry'!BF100=\"\",\"\",'Marks Entry'!BF100)","v":""},"","","","","","","","","","","","","","","","","","","","","","","","","","",{"$f":"IF('Student DATA Entry'!I95=\"\",\"\",'Student DATA Entry'!I95)","v":""},{"$f":"IF('Student DATA Entry'!J95=\"\",\"\",'Student DATA Entry'!J95)","v":""},"      ","      ","      ","              "," ","","","","",""]
[94,{"$f":"IF('Marks Entry'!B101=\"\",\"\",VALUE('Marks Entry'!B101))","v":""},{"$f":"IF('Marks Entry'!C101=\"\",\"\",'Marks Entry'!C101)","v":""},{"$f":"IF('Marks Entry'!D101=\"\",\"\",'Marks Entry'!D101)","v":""},{"$f":"IF('Marks Entry'!E101=\"\",\"\",'Marks Entry'!E101)","v":""},{"$f":"IF('Marks Entry'!F101=\"\",\"\",'Marks Entry'!F101)","v":""},{"$f":"IF('Marks Entry'!G101=\"\",\"\",'Marks Entry'!G101)","v":""},{"$f":"IF('Marks Entry'!H101=\"\",\"\",'Marks Entry'!H101)","v":""},{"$f":"IF('Marks Entry'!I101=\"\",\"\",'Marks Entry'!I101)","v":""},{"$f":"IF('Marks Entry'!J101=\"\",\"\",'Marks Entry'!J101)","v":""},{"$f":"IF('Marks Entry'!K101=\"\",\"\",'Marks Entry'!K101)","v":""},{"$f":"IF('Marks Entry'!L101=\"\",\"\",'Marks Entry'!L101)","v":""},"","",{"$f":"IF('Marks Entry'!M101=\"\",\"\",'Marks Entry'!M101)","v":""},"",{"$f":"IF(AND($B99=\"NSO\",$E99=\"\",O99=\"\"),\"\",IF(AND('Marks Entry'!N101=\"AB\"),\"AB\",IF(AND('Marks Entry'!N101=\"ML\"),\"RE\",IF('Marks Entry'!N101=\"\",\"\",ROUNDUP('Marks Entry'!N101*30/100,0)))))","v":""},"",0,0,"","","","",{"$f":"IF('Marks Entry'!O101=\"\",\"\",'Marks Entry'!O101)","v":""},{"$f":"IF('Marks Entry'!P101=\"\",\"\",'Marks Entry'!P101)","v":""},{"$f":"IF('Marks Entry'!Q101=\"\",\"\",'Marks Entry'!Q101)","v":""},"","",{"$f":"IF('Marks Entry'!R101=\"\",\"\",'Marks Entry'!R101)","v":""},"",{"$f":"IF(AND($B99=\"NSO\",$E99=\"\"),\"\",IF(AND('Marks Entry'!S101=\"AB\"),\"AB\",IF(AND('Marks Entry'!S101=\"ML\"),\"RE\",IF('Marks Entry'!S101=\"\",\"\",ROUNDUP('Marks Entry'!S101*30/100,0)))))","v":""},"",0,0,"","","","",{"$f":"IF('Marks Entry'!T101=\"\",\"\",'Marks Entry'!T101)","v":""},{"$f":"IF('Marks Entry'!V101=\"\",\"\",'Marks Entry'!V101)","v":""},{"$f":"IF('Marks Entry'!W101=\"\",\"\",'Marks Entry'!W101)","v":""},{"$f":"IF('Marks Entry'!X101=\"\",\"\",'Marks Entry'!X101)","v":""},"","",{"$f":"IF('Marks Entry'!Y101=\"\",\"\",'Marks Entry'!Y101)","v":""},{"$f":"IF('Marks Entry'!Z101=\"\",\"\",'Marks Entry'!Z101)","v":""},"","",{"$f":"IF(AND($B99=\"NSO\",$E99=\"\"),\"\",IF(AND('Marks Entry'!AA101=\"AB\",'Marks Entry'!AB101=\"AB\"),\"AB\",IF(AND('Marks Entry'!AA101=\"ML\",'Marks Entry'!AB101=\"ML\"),\"RE\",IF('Marks Entry'!AA101=\"\",\"\",ROUNDUP(('Marks Entry'!AA101+'Marks Entry'!AB101)*30/100,0)))))","v":""},"",0,0,"","","","",{"$f":"IF('Marks Entry'!AC101=\"\",\"\",'Marks Entry'!AC101)","v":""},{"$f":"IF('Marks Entry'!AE101=\"\",\"\",'Marks Entry'!AE101)","v":""},{"$f":"IF('Marks Entry'!AF101=\"\",\"\",'Marks Entry'!AF101)","v":""},{"$f":"IF('Marks Entry'!AG101=\"\",\"\",'Marks Entry'!AG101)","v":""},"","",{"$f":"IF('Marks Entry'!AH101=\"\",\"\",'Marks Entry'!AH101)","v":""},{"$f":"IF('Marks Entry'!AI101=\"\",\"\",'Marks Entry'!AI101)","v":""},"","",{"$f":"IF(AND($B99=\"NSO\",$E99=\"\"),\"\",IF(AND('Marks Entry'!AJ101=\"AB\",'Marks Entry'!AK101=\"AB\"),\"AB\",IF(AND('Marks Entry'!AJ101=\"ML\",'Marks Entry'!AK101=\"ML\"),\"RE\",IF('Marks Entry'!AJ101=\"\",\"\",ROUNDUP(('Marks Entry'!AJ101+'Marks Entry'!AK101)*30/100,0)))))","v":""},"",0,0,"","","","",{"$f":"IF('Marks Entry'!AL101=\"\",\"\",'Marks Entry'!AL101)","v":""},{"$f":"IF('Marks Entry'!AN101=\"\",\"\",'Marks Entry'!AN101)","v":""},{"$f":"IF('Marks Entry'!AO101=\"\",\"\",'Marks Entry'!AO101)","v":""},{"$f":"IF('Marks Entry'!AP101=\"\",\"\",'Marks Entry'!AP101)","v":""},"","",{"$f":"IF('Marks Entry'!AQ101=\"\",\"\",'Marks Entry'!AQ101)","v":""},{"$f":"IF('Marks Entry'!AR101=\"\",\"\",'Marks Entry'!AR101)","v":""},"","",{"$f":"IF(AND($B99=\"NSO\",$E99=\"\"),\"\",IF(AND('Marks Entry'!AS101=\"AB\",'Marks Entry'!AT101=\"AB\"),\"AB\",IF(AND('Marks Entry'!AS101=\"ML\",'Marks Entry'!AT101=\"ML\"),\"RE\",IF('Marks Entry'!AS101=\"\",\"\",ROUNDUP(('Marks Entry'!AS101+'Marks Entry'!AT101)*30/100,0)))))","v":""},"",0,0,"","","","",{"$f":"IF('Marks Entry'!AU101=\"\",\"\",'Marks Entry'!AU101)","v":""},{"$f":"IF('Marks Entry'!AW101=\"\",\"\",'Marks Entry'!AW101)","v":""},{"$f":"IF('Marks Entry'!AX101=\"\",\"\",'Marks Entry'!AX101)","v":""},{"$f":"IF('Marks Entry'!AY101=\"\",\"\",'Marks Entry'!AY101)","v":""},"","",{"$f":"IF('Marks Entry'!AZ101=\"\",\"\",'Marks Entry'!AZ101)","v":""},{"$f":"IF('Marks Entry'!BA101=\"\",\"\",'Marks Entry'!BA101)","v":""},"","",{"$f":"IF(AND($B99=\"NSO\",$E99=\"\"),\"\",IF(AND('Marks Entry'!BB101=\"AB\",'Marks Entry'!BC101=\"AB\"),\"AB\",IF(AND('Marks Entry'!BB101=\"ML\",'Marks Entry'!BC101=\"ML\"),\"RE\",IF('Marks Entry'!BB101=\"\",\"\",ROUNDUP(('Marks Entry'!BB101+'Marks Entry'!BC101)*30/100,0)))))","v":""},"",0,0,"","","","",0,"","","","","","",0,0,0,0,0,"",{"$f":"IF('Marks Entry'!BD101=\"\",\"\",'Marks Entry'!BD101)","v":""},{"$f":"IF('Marks Entry'!BE101=\"\",\"\",'Marks Entry'!BE101)","v":""},{"$f":"IF('Marks Entry'!BF101=\"\",\"\",'Marks Entry'!BF101)","v":""},"","","","","","","","","","","","","","","","","","","","","","","","","","",{"$f":"IF('Student DATA Entry'!I96=\"\",\"\",'Student DATA Entry'!I96)","v":""},{"$f":"IF('Student DATA Entry'!J96=\"\",\"\",'Student DATA Entry'!J96)","v":""},"      ","      ","      ","              "," ","","","","",""]
[95,{"$f":"IF('Marks Entry'!B102=\"\",\"\",VALUE('Marks Entry'!B102))","v":""},{"$f":"IF('Marks Entry'!C102=\"\",\"\",'Marks Entry'!C102)","v":""},{"$f":"IF('Marks Entry'!D102=\"\",\"\",'Marks Entry'!D102)","v":""},{"$f":"IF('Marks Entry'!E102=\"\",\"\",'Marks Entry'!E102)","v":""},{"$f":"IF('Marks Entry'!F102=\"\",\"\",'Marks Entry'!F102)","v":""},{"$f":"IF('Marks Entry'!G102=\"\",\"\",'Marks Entry'!G102)","v":""},{"$f":"IF('Marks Entry'!H102=\"\",\"\",'Marks Entry'!H102)","v":""},{"$f":"IF('Marks Entry'!I102=\"\",\"\",'Marks Entry'!I102)","v":""},{"$f":"IF('Marks Entry'!J102=\"\",\"\",'Marks Entry'!J102)","v":""},{"$f":"IF('Marks Entry'!K102=\"\",\"\",'Marks Entry'!K102)","v":""},{"$f":"IF('Marks Entry'!L102=\"\",\"\",'Marks Entry'!L102)","v":""},"","",{"$f":"IF('Marks Entry'!M102=\"\",\"\",'Marks Entry'!M102)","v":""},"",{"$f":"IF(AND($B100=\"NSO\",$E100=\"\",O100=\"\"),\"\",IF(AND('Marks Entry'!N102=\"AB\"),\"AB\",IF(AND('Marks Entry'!N102=\"ML\"),\"RE\",IF('Marks Entry'!N102=\"\",\"\",ROUNDUP('Marks Entry'!N102*30/100,0)))))","v":""},"",0,0,"","","","",{"$f":"IF('Marks Entry'!O102=\"\",\"\",'Marks Entry'!O102)","v":""},{"$f":"IF('Marks Entry'!P102=\"\",\"\",'Marks Entry'!P102)","v":""},{"$f":"IF('Marks Entry'!Q102=\"\",\"\",'Marks Entry'!Q102)","v":""},"","",{"$f":"IF('Marks Entry'!R102=\"\",\"\",'Marks Entry'!R102)","v":""},"",{"$f":"IF(AND($B100=\"NSO\",$E100=\"\"),\"\",IF(AND('Marks Entry'!S102=\"AB\"),\"AB\",IF(AND('Marks Entry'!S102=\"ML\"),\"RE\",IF('Marks Entry'!S102=\"\",\"\",ROUNDUP('Marks Entry'!S102*30/100,0)))))","v":""},"",0,0,"","","","",{"$f":"IF('Marks Entry'!T102=\"\",\"\",'Marks Entry'!T102)","v":""},{"$f":"IF('Marks Entry'!V102=\"\",\"\",'Marks Entry'!V102)","v":""},{"$f":"IF('Marks Entry'!W102=\"\",\"\",'Marks Entry'!W102)","v":""},{"$f":"IF('Marks Entry'!X102=\"\",\"\",'Marks Entry'!X102)","v":""},"","",{"$f":"IF('Marks Entry'!Y102=\"\",\"\",'Marks Entry'!Y102)","v":""},{"$f":"IF('Marks Entry'!Z102=\"\",\"\",'Marks Entry'!Z102)","v":""},"","",{"$f":"IF(AND($B100=\"NSO\",$E100=\"\"),\"\",IF(AND('Marks Entry'!AA102=\"AB\",'Marks Entry'!AB102=\"AB\"),\"AB\",IF(AND('Marks Entry'!AA102=\"ML\",'Marks Entry'!AB102=\"ML\"),\"RE\",IF('Marks Entry'!AA102=\"\",\"\",ROUNDUP(('Marks Entry'!AA102+'Marks Entry'!AB102)*30/100,0)))))","v":""},"",0,0,"","","","",{"$f":"IF('Marks Entry'!AC102=\"\",\"\",'Marks Entry'!AC102)","v":""},{"$f":"IF('Marks Entry'!AE102=\"\",\"\",'Marks Entry'!AE102)","v":""},{"$f":"IF('Marks Entry'!AF102=\"\",\"\",'Marks Entry'!AF102)","v":""},{"$f":"IF('Marks Entry'!AG102=\"\",\"\",'Marks Entry'!AG102)","v":""},"","",{"$f":"IF('Marks Entry'!AH102=\"\",\"\",'Marks Entry'!AH102)","v":""},{"$f":"IF('Marks Entry'!AI102=\"\",\"\",'Marks Entry'!AI102)","v":""},"","",{"$f":"IF(AND($B100=\"NSO\",$E100=\"\"),\"\",IF(AND('Marks Entry'!AJ102=\"AB\",'Marks Entry'!AK102=\"AB\"),\"AB\",IF(AND('Marks Entry'!AJ102=\"ML\",'Marks Entry'!AK102=\"ML\"),\"RE\",IF('Marks Entry'!AJ102=\"\",\"\",ROUNDUP(('Marks Entry'!AJ102+'Marks Entry'!AK102)*30/100,0)))))","v":""},"",0,0,"","","","",{"$f":"IF('Marks Entry'!AL102=\"\",\"\",'Marks Entry'!AL102)","v":""},{"$f":"IF('Marks Entry'!AN102=\"\",\"\",'Marks Entry'!AN102)","v":""},{"$f":"IF('Marks Entry'!AO102=\"\",\"\",'Marks Entry'!AO102)","v":""},{"$f":"IF('Marks Entry'!AP102=\"\",\"\",'Marks Entry'!AP102)","v":""},"","",{"$f":"IF('Marks Entry'!AQ102=\"\",\"\",'Marks Entry'!AQ102)","v":""},{"$f":"IF('Marks Entry'!AR102=\"\",\"\",'Marks Entry'!AR102)","v":""},"","",{"$f":"IF(AND($B100=\"NSO\",$E100=\"\"),\"\",IF(AND('Marks Entry'!AS102=\"AB\",'Marks Entry'!AT102=\"AB\"),\"AB\",IF(AND('Marks Entry'!AS102=\"ML\",'Marks Entry'!AT102=\"ML\"),\"RE\",IF('Marks Entry'!AS102=\"\",\"\",ROUNDUP(('Marks Entry'!AS102+'Marks Entry'!AT102)*30/100,0)))))","v":""},"",0,0,"","","","",{"$f":"IF('Marks Entry'!AU102=\"\",\"\",'Marks Entry'!AU102)","v":""},{"$f":"IF('Marks Entry'!AW102=\"\",\"\",'Marks Entry'!AW102)","v":""},{"$f":"IF('Marks Entry'!AX102=\"\",\"\",'Marks Entry'!AX102)","v":""},{"$f":"IF('Marks Entry'!AY102=\"\",\"\",'Marks Entry'!AY102)","v":""},"","",{"$f":"IF('Marks Entry'!AZ102=\"\",\"\",'Marks Entry'!AZ102)","v":""},{"$f":"IF('Marks Entry'!BA102=\"\",\"\",'Marks Entry'!BA102)","v":""},"","",{"$f":"IF(AND($B100=\"NSO\",$E100=\"\"),\"\",IF(AND('Marks Entry'!BB102=\"AB\",'Marks Entry'!BC102=\"AB\"),\"AB\",IF(AND('Marks Entry'!BB102=\"ML\",'Marks Entry'!BC102=\"ML\"),\"RE\",IF('Marks Entry'!BB102=\"\",\"\",ROUNDUP(('Marks Entry'!BB102+'Marks Entry'!BC102)*30/100,0)))))","v":""},"",0,0,"","","","",0,"","","","","","",0,0,0,0,0,"",{"$f":"IF('Marks Entry'!BD102=\"\",\"\",'Marks Entry'!BD102)","v":""},{"$f":"IF('Marks Entry'!BE102=\"\",\"\",'Marks Entry'!BE102)","v":""},{"$f":"IF('Marks Entry'!BF102=\"\",\"\",'Marks Entry'!BF102)","v":""},"","","","","","","","","","","","","","","","","","","","","","","","","","",{"$f":"IF('Student DATA Entry'!I97=\"\",\"\",'Student DATA Entry'!I97)","v":""},{"$f":"IF('Student DATA Entry'!J97=\"\",\"\",'Student DATA Entry'!J97)","v":""},"      ","      ","      ","              "," ","","","","",""]
[96,{"$f":"IF('Marks Entry'!B103=\"\",\"\",VALUE('Marks Entry'!B103))","v":""},{"$f":"IF('Marks Entry'!C103=\"\",\"\",'Marks Entry'!C103)","v":""},{"$f":"IF('Marks Entry'!D103=\"\",\"\",'Marks Entry'!D103)","v":""},{"$f":"IF('Marks Entry'!E103=\"\",\"\",'Marks Entry'!E103)","v":""},{"$f":"IF('Marks Entry'!F103=\"\",\"\",'Marks Entry'!F103)","v":""},{"$f":"IF('Marks Entry'!G103=\"\",\"\",'Marks Entry'!G103)","v":""},{"$f":"IF('Marks Entry'!H103=\"\",\"\",'Marks Entry'!H103)","v":""},{"$f":"IF('Marks Entry'!I103=\"\",\"\",'Marks Entry'!I103)","v":""},{"$f":"IF('Marks Entry'!J103=\"\",\"\",'Marks Entry'!J103)","v":""},{"$f":"IF('Marks Entry'!K103=\"\",\"\",'Marks Entry'!K103)","v":""},{"$f":"IF('Marks Entry'!L103=\"\",\"\",'Marks Entry'!L103)","v":""},"","",{"$f":"IF('Marks Entry'!M103=\"\",\"\",'Marks Entry'!M103)","v":""},"",{"$f":"IF(AND($B101=\"NSO\",$E101=\"\",O101=\"\"),\"\",IF(AND('Marks Entry'!N103=\"AB\"),\"AB\",IF(AND('Marks Entry'!N103=\"ML\"),\"RE\",IF('Marks Entry'!N103=\"\",\"\",ROUNDUP('Marks Entry'!N103*30/100,0)))))","v":""},"",0,0,"","","","",{"$f":"IF('Marks Entry'!O103=\"\",\"\",'Marks Entry'!O103)","v":""},{"$f":"IF('Marks Entry'!P103=\"\",\"\",'Marks Entry'!P103)","v":""},{"$f":"IF('Marks Entry'!Q103=\"\",\"\",'Marks Entry'!Q103)","v":""},"","",{"$f":"IF('Marks Entry'!R103=\"\",\"\",'Marks Entry'!R103)","v":""},"",{"$f":"IF(AND($B101=\"NSO\",$E101=\"\"),\"\",IF(AND('Marks Entry'!S103=\"AB\"),\"AB\",IF(AND('Marks Entry'!S103=\"ML\"),\"RE\",IF('Marks Entry'!S103=\"\",\"\",ROUNDUP('Marks Entry'!S103*30/100,0)))))","v":""},"",0,0,"","","","",{"$f":"IF('Marks Entry'!T103=\"\",\"\",'Marks Entry'!T103)","v":""},{"$f":"IF('Marks Entry'!V103=\"\",\"\",'Marks Entry'!V103)","v":""},{"$f":"IF('Marks Entry'!W103=\"\",\"\",'Marks Entry'!W103)","v":""},{"$f":"IF('Marks Entry'!X103=\"\",\"\",'Marks Entry'!X103)","v":""},"","",{"$f":"IF('Marks Entry'!Y103=\"\",\"\",'Marks Entry'!Y103)","v":""},{"$f":"IF('Marks Entry'!Z103=\"\",\"\",'Marks Entry'!Z103)","v":""},"","",{"$f":"IF(AND($B101=\"NSO\",$E101=\"\"),\"\",IF(AND('Marks Entry'!AA103=\"AB\",'Marks Entry'!AB103=\"AB\"),\"AB\",IF(AND('Marks Entry'!AA103=\"ML\",'Marks Entry'!AB103=\"ML\"),\"RE\",IF('Marks Entry'!AA103=\"\",\"\",ROUNDUP(('Marks Entry'!AA103+'Marks Entry'!AB103)*30/100,0)))))","v":""},"",0,0,"","","","",{"$f":"IF('Marks Entry'!AC103=\"\",\"\",'Marks Entry'!AC103)","v":""},{"$f":"IF('Marks Entry'!AE103=\"\",\"\",'Marks Entry'!AE103)","v":""},{"$f":"IF('Marks Entry'!AF103=\"\",\"\",'Marks Entry'!AF103)","v":""},{"$f":"IF('Marks Entry'!AG103=\"\",\"\",'Marks Entry'!AG103)","v":""},"","",{"$f":"IF('Marks Entry'!AH103=\"\",\"\",'Marks Entry'!AH103)","v":""},{"$f":"IF('Marks Entry'!AI103=\"\",\"\",'Marks Entry'!AI103)","v":""},"","",{"$f":"IF(AND($B101=\"NSO\",$E101=\"\"),\"\",IF(AND('Marks Entry'!AJ103=\"AB\",'Marks Entry'!AK103=\"AB\"),\"AB\",IF(AND('Marks Entry'!AJ103=\"ML\",'Marks Entry'!AK103=\"ML\"),\"RE\",IF('Marks Entry'!AJ103=\"\",\"\",ROUNDUP(('Marks Entry'!AJ103+'Marks Entry'!AK103)*30/100,0)))))","v":""},"",0,0,"","","","",{"$f":"IF('Marks Entry'!AL103=\"\",\"\",'Marks Entry'!AL103)","v":""},{"$f":"IF('Marks Entry'!AN103=\"\",\"\",'Marks Entry'!AN103)","v":""},{"$f":"IF('Marks Entry'!AO103=\"\",\"\",'Marks Entry'!AO103)","v":""},{"$f":"IF('Marks Entry'!AP103=\"\",\"\",'Marks Entry'!AP103)","v":""},"","",{"$f":"IF('Marks Entry'!AQ103=\"\",\"\",'Marks Entry'!AQ103)","v":""},{"$f":"IF('Marks Entry'!AR103=\"\",\"\",'Marks Entry'!AR103)","v":""},"","",{"$f":"IF(AND($B101=\"NSO\",$E101=\"\"),\"\",IF(AND('Marks Entry'!AS103=\"AB\",'Marks Entry'!AT103=\"AB\"),\"AB\",IF(AND('Marks Entry'!AS103=\"ML\",'Marks Entry'!AT103=\"ML\"),\"RE\",IF('Marks Entry'!AS103=\"\",\"\",ROUNDUP(('Marks Entry'!AS103+'Marks Entry'!AT103)*30/100,0)))))","v":""},"",0,0,"","","","",{"$f":"IF('Marks Entry'!AU103=\"\",\"\",'Marks Entry'!AU103)","v":""},{"$f":"IF('Marks Entry'!AW103=\"\",\"\",'Marks Entry'!AW103)","v":""},{"$f":"IF('Marks Entry'!AX103=\"\",\"\",'Marks Entry'!AX103)","v":""},{"$f":"IF('Marks Entry'!AY103=\"\",\"\",'Marks Entry'!AY103)","v":""},"","",{"$f":"IF('Marks Entry'!AZ103=\"\",\"\",'Marks Entry'!AZ103)","v":""},{"$f":"IF('Marks Entry'!BA103=\"\",\"\",'Marks Entry'!BA103)","v":""},"","",{"$f":"IF(AND($B101=\"NSO\",$E101=\"\"),\"\",IF(AND('Marks Entry'!BB103=\"AB\",'Marks Entry'!BC103=\"AB\"),\"AB\",IF(AND('Marks Entry'!BB103=\"ML\",'Marks Entry'!BC103=\"ML\"),\"RE\",IF('Marks Entry'!BB103=\"\",\"\",ROUNDUP(('Marks Entry'!BB103+'Marks Entry'!BC103)*30/100,0)))))","v":""},"",0,0,"","","","",0,"","","","","","",0,0,0,0,0,"",{"$f":"IF('Marks Entry'!BD103=\"\",\"\",'Marks Entry'!BD103)","v":""},{"$f":"IF('Marks Entry'!BE103=\"\",\"\",'Marks Entry'!BE103)","v":""},{"$f":"IF('Marks Entry'!BF103=\"\",\"\",'Marks Entry'!BF103)","v":""},"","","","","","","","","","","","","","","","","","","","","","","","","","",{"$f":"IF('Student DATA Entry'!I98=\"\",\"\",'Student DATA Entry'!I98)","v":""},{"$f":"IF('Student DATA Entry'!J98=\"\",\"\",'Student DATA Entry'!J98)","v":""},"      ","      ","      ","              "," ","","","","",""]
[97,{"$f":"IF('Marks Entry'!B104=\"\",\"\",VALUE('Marks Entry'!B104))","v":""},{"$f":"IF('Marks Entry'!C104=\"\",\"\",'Marks Entry'!C104)","v":""},{"$f":"IF('Marks Entry'!D104=\"\",\"\",'Marks Entry'!D104)","v":""},{"$f":"IF('Marks Entry'!E104=\"\",\"\",'Marks Entry'!E104)","v":""},{"$f":"IF('Marks Entry'!F104=\"\",\"\",'Marks Entry'!F104)","v":""},{"$f":"IF('Marks Entry'!G104=\"\",\"\",'Marks Entry'!G104)","v":""},{"$f":"IF('Marks Entry'!H104=\"\",\"\",'Marks Entry'!H104)","v":""},{"$f":"IF('Marks Entry'!I104=\"\",\"\",'Marks Entry'!I104)","v":""},{"$f":"IF('Marks Entry'!J104=\"\",\"\",'Marks Entry'!J104)","v":""},{"$f":"IF('Marks Entry'!K104=\"\",\"\",'Marks Entry'!K104)","v":""},{"$f":"IF('Marks Entry'!L104=\"\",\"\",'Marks Entry'!L104)","v":""},"","",{"$f":"IF('Marks Entry'!M104=\"\",\"\",'Marks Entry'!M104)","v":""},"",{"$f":"IF(AND($B102=\"NSO\",$E102=\"\",O102=\"\"),\"\",IF(AND('Marks Entry'!N104=\"AB\"),\"AB\",IF(AND('Marks Entry'!N104=\"ML\"),\"RE\",IF('Marks Entry'!N104=\"\",\"\",ROUNDUP('Marks Entry'!N104*30/100,0)))))","v":""},"",0,0,"","","","",{"$f":"IF('Marks Entry'!O104=\"\",\"\",'Marks Entry'!O104)","v":""},{"$f":"IF('Marks Entry'!P104=\"\",\"\",'Marks Entry'!P104)","v":""},{"$f":"IF('Marks Entry'!Q104=\"\",\"\",'Marks Entry'!Q104)","v":""},"","",{"$f":"IF('Marks Entry'!R104=\"\",\"\",'Marks Entry'!R104)","v":""},"",{"$f":"IF(AND($B102=\"NSO\",$E102=\"\"),\"\",IF(AND('Marks Entry'!S104=\"AB\"),\"AB\",IF(AND('Marks Entry'!S104=\"ML\"),\"RE\",IF('Marks Entry'!S104=\"\",\"\",ROUNDUP('Marks Entry'!S104*30/100,0)))))","v":""},"",0,0,"","","","",{"$f":"IF('Marks Entry'!T104=\"\",\"\",'Marks Entry'!T104)","v":""},{"$f":"IF('Marks Entry'!V104=\"\",\"\",'Marks Entry'!V104)","v":""},{"$f":"IF('Marks Entry'!W104=\"\",\"\",'Marks Entry'!W104)","v":""},{"$f":"IF('Marks Entry'!X104=\"\",\"\",'Marks Entry'!X104)","v":""},"","",{"$f":"IF('Marks Entry'!Y104=\"\",\"\",'Marks Entry'!Y104)","v":""},{"$f":"IF('Marks Entry'!Z104=\"\",\"\",'Marks Entry'!Z104)","v":""},"","",{"$f":"IF(AND($B102=\"NSO\",$E102=\"\"),\"\",IF(AND('Marks Entry'!AA104=\"AB\",'Marks Entry'!AB104=\"AB\"),\"AB\",IF(AND('Marks Entry'!AA104=\"ML\",'Marks Entry'!AB104=\"ML\"),\"RE\",IF('Marks Entry'!AA104=\"\",\"\",ROUNDUP(('Marks Entry'!AA104+'Marks Entry'!AB104)*30/100,0)))))","v":""},"",0,0,"","","","",{"$f":"IF('Marks Entry'!AC104=\"\",\"\",'Marks Entry'!AC104)","v":""},{"$f":"IF('Marks Entry'!AE104=\"\",\"\",'Marks Entry'!AE104)","v":""},{"$f":"IF('Marks Entry'!AF104=\"\",\"\",'Marks Entry'!AF104)","v":""},{"$f":"IF('Marks Entry'!AG104=\"\",\"\",'Marks Entry'!AG104)","v":""},"","",{"$f":"IF('Marks Entry'!AH104=\"\",\"\",'Marks Entry'!AH104)","v":""},{"$f":"IF('Marks Entry'!AI104=\"\",\"\",'Marks Entry'!AI104)","v":""},"","",{"$f":"IF(AND($B102=\"NSO\",$E102=\"\"),\"\",IF(AND('Marks Entry'!AJ104=\"AB\",'Marks Entry'!AK104=\"AB\"),\"AB\",IF(AND('Marks Entry'!AJ104=\"ML\",'Marks Entry'!AK104=\"ML\"),\"RE\",IF('Marks Entry'!AJ104=\"\",\"\",ROUNDUP(('Marks Entry'!AJ104+'Marks Entry'!AK104)*30/100,0)))))","v":""},"",0,0,"","","","",{"$f":"IF('Marks Entry'!AL104=\"\",\"\",'Marks Entry'!AL104)","v":""},{"$f":"IF('Marks Entry'!AN104=\"\",\"\",'Marks Entry'!AN104)","v":""},{"$f":"IF('Marks Entry'!AO104=\"\",\"\",'Marks Entry'!AO104)","v":""},{"$f":"IF('Marks Entry'!AP104=\"\",\"\",'Marks Entry'!AP104)","v":""},"","",{"$f":"IF('Marks Entry'!AQ104=\"\",\"\",'Marks Entry'!AQ104)","v":""},{"$f":"IF('Marks Entry'!AR104=\"\",\"\",'Marks Entry'!AR104)","v":""},"","",{"$f":"IF(AND($B102=\"NSO\",$E102=\"\"),\"\",IF(AND('Marks Entry'!AS104=\"AB\",'Marks Entry'!AT104=\"AB\"),\"AB\",IF(AND('Marks Entry'!AS104=\"ML\",'Marks Entry'!AT104=\"ML\"),\"RE\",IF('Marks Entry'!AS104=\"\",\"\",ROUNDUP(('Marks Entry'!AS104+'Marks Entry'!AT104)*30/100,0)))))","v":""},"",0,0,"","","","",{"$f":"IF('Marks Entry'!AU104=\"\",\"\",'Marks Entry'!AU104)","v":""},{"$f":"IF('Marks Entry'!AW104=\"\",\"\",'Marks Entry'!AW104)","v":""},{"$f":"IF('Marks Entry'!AX104=\"\",\"\",'Marks Entry'!AX104)","v":""},{"$f":"IF('Marks Entry'!AY104=\"\",\"\",'Marks Entry'!AY104)","v":""},"","",{"$f":"IF('Marks Entry'!AZ104=\"\",\"\",'Marks Entry'!AZ104)","v":""},{"$f":"IF('Marks Entry'!BA104=\"\",\"\",'Marks Entry'!BA104)","v":""},"","",{"$f":"IF(AND($B102=\"NSO\",$E102=\"\"),\"\",IF(AND('Marks Entry'!BB104=\"AB\",'Marks Entry'!BC104=\"AB\"),\"AB\",IF(AND('Marks Entry'!BB104=\"ML\",'Marks Entry'!BC104=\"ML\"),\"RE\",IF('Marks Entry'!BB104=\"\",\"\",ROUNDUP(('Marks Entry'!BB104+'Marks Entry'!BC104)*30/100,0)))))","v":""},"",0,0,"","","","",0,"","","","","","",0,0,0,0,0,"",{"$f":"IF('Marks Entry'!BD104=\"\",\"\",'Marks Entry'!BD104)","v":""},{"$f":"IF('Marks Entry'!BE104=\"\",\"\",'Marks Entry'!BE104)","v":""},{"$f":"IF('Marks Entry'!BF104=\"\",\"\",'Marks Entry'!BF104)","v":""},"","","","","","","","","","","","","","","","","","","","","","","","","","",{"$f":"IF('Student DATA Entry'!I99=\"\",\"\",'Student DATA Entry'!I99)","v":""},{"$f":"IF('Student DATA Entry'!J99=\"\",\"\",'Student DATA Entry'!J99)","v":""},"      ","      ","      ","              "," ","","","","",""]
[98,{"$f":"IF('Marks Entry'!B105=\"\",\"\",VALUE('Marks Entry'!B105))","v":""},{"$f":"IF('Marks Entry'!C105=\"\",\"\",'Marks Entry'!C105)","v":""},{"$f":"IF('Marks Entry'!D105=\"\",\"\",'Marks Entry'!D105)","v":""},{"$f":"IF('Marks Entry'!E105=\"\",\"\",'Marks Entry'!E105)","v":""},{"$f":"IF('Marks Entry'!F105=\"\",\"\",'Marks Entry'!F105)","v":""},{"$f":"IF('Marks Entry'!G105=\"\",\"\",'Marks Entry'!G105)","v":""},{"$f":"IF('Marks Entry'!H105=\"\",\"\",'Marks Entry'!H105)","v":""},{"$f":"IF('Marks Entry'!I105=\"\",\"\",'Marks Entry'!I105)","v":""},{"$f":"IF('Marks Entry'!J105=\"\",\"\",'Marks Entry'!J105)","v":""},{"$f":"IF('Marks Entry'!K105=\"\",\"\",'Marks Entry'!K105)","v":""},{"$f":"IF('Marks Entry'!L105=\"\",\"\",'Marks Entry'!L105)","v":""},"","",{"$f":"IF('Marks Entry'!M105=\"\",\"\",'Marks Entry'!M105)","v":""},"",{"$f":"IF(AND($B103=\"NSO\",$E103=\"\",O103=\"\"),\"\",IF(AND('Marks Entry'!N105=\"AB\"),\"AB\",IF(AND('Marks Entry'!N105=\"ML\"),\"RE\",IF('Marks Entry'!N105=\"\",\"\",ROUNDUP('Marks Entry'!N105*30/100,0)))))","v":""},"",0,0,"","","","",{"$f":"IF('Marks Entry'!O105=\"\",\"\",'Marks Entry'!O105)","v":""},{"$f":"IF('Marks Entry'!P105=\"\",\"\",'Marks Entry'!P105)","v":""},{"$f":"IF('Marks Entry'!Q105=\"\",\"\",'Marks Entry'!Q105)","v":""},"","",{"$f":"IF('Marks Entry'!R105=\"\",\"\",'Marks Entry'!R105)","v":""},"",{"$f":"IF(AND($B103=\"NSO\",$E103=\"\"),\"\",IF(AND('Marks Entry'!S105=\"AB\"),\"AB\",IF(AND('Marks Entry'!S105=\"ML\"),\"RE\",IF('Marks Entry'!S105=\"\",\"\",ROUNDUP('Marks Entry'!S105*30/100,0)))))","v":""},"",0,0,"","","","",{"$f":"IF('Marks Entry'!T105=\"\",\"\",'Marks Entry'!T105)","v":""},{"$f":"IF('Marks Entry'!V105=\"\",\"\",'Marks Entry'!V105)","v":""},{"$f":"IF('Marks Entry'!W105=\"\",\"\",'Marks Entry'!W105)","v":""},{"$f":"IF('Marks Entry'!X105=\"\",\"\",'Marks Entry'!X105)","v":""},"","",{"$f":"IF('Marks Entry'!Y105=\"\",\"\",'Marks Entry'!Y105)","v":""},{"$f":"IF('Marks Entry'!Z105=\"\",\"\",'Marks Entry'!Z105)","v":""},"","",{"$f":"IF(AND($B103=\"NSO\",$E103=\"\"),\"\",IF(AND('Marks Entry'!AA105=\"AB\",'Marks Entry'!AB105=\"AB\"),\"AB\",IF(AND('Marks Entry'!AA105=\"ML\",'Marks Entry'!AB105=\"ML\"),\"RE\",IF('Marks Entry'!AA105=\"\",\"\",ROUNDUP(('Marks Entry'!AA105+'Marks Entry'!AB105)*30/100,0)))))","v":""},"",0,0,"","","","",{"$f":"IF('Marks Entry'!AC105=\"\",\"\",'Marks Entry'!AC105)","v":""},{"$f":"IF('Marks Entry'!AE105=\"\",\"\",'Marks Entry'!AE105)","v":""},{"$f":"IF('Marks Entry'!AF105=\"\",\"\",'Marks Entry'!AF105)","v":""},{"$f":"IF('Marks Entry'!AG105=\"\",\"\",'Marks Entry'!AG105)","v":""},"","",{"$f":"IF('Marks Entry'!AH105=\"\",\"\",'Marks Entry'!AH105)","v":""},{"$f":"IF('Marks Entry'!AI105=\"\",\"\",'Marks Entry'!AI105)","v":""},"","",{"$f":"IF(AND($B103=\"NSO\",$E103=\"\"),\"\",IF(AND('Marks Entry'!AJ105=\"AB\",'Marks Entry'!AK105=\"AB\"),\"AB\",IF(AND('Marks Entry'!AJ105=\"ML\",'Marks Entry'!AK105=\"ML\"),\"RE\",IF('Marks Entry'!AJ105=\"\",\"\",ROUNDUP(('Marks Entry'!AJ105+'Marks Entry'!AK105)*30/100,0)))))","v":""},"",0,0,"","","","",{"$f":"IF('Marks Entry'!AL105=\"\",\"\",'Marks Entry'!AL105)","v":""},{"$f":"IF('Marks Entry'!AN105=\"\",\"\",'Marks Entry'!AN105)","v":""},{"$f":"IF('Marks Entry'!AO105=\"\",\"\",'Marks Entry'!AO105)","v":""},{"$f":"IF('Marks Entry'!AP105=\"\",\"\",'Marks Entry'!AP105)","v":""},"","",{"$f":"IF('Marks Entry'!AQ105=\"\",\"\",'Marks Entry'!AQ105)","v":""},{"$f":"IF('Marks Entry'!AR105=\"\",\"\",'Marks Entry'!AR105)","v":""},"","",{"$f":"IF(AND($B103=\"NSO\",$E103=\"\"),\"\",IF(AND('Marks Entry'!AS105=\"AB\",'Marks Entry'!AT105=\"AB\"),\"AB\",IF(AND('Marks Entry'!AS105=\"ML\",'Marks Entry'!AT105=\"ML\"),\"RE\",IF('Marks Entry'!AS105=\"\",\"\",ROUNDUP(('Marks Entry'!AS105+'Marks Entry'!AT105)*30/100,0)))))","v":""},"",0,0,"","","","",{"$f":"IF('Marks Entry'!AU105=\"\",\"\",'Marks Entry'!AU105)","v":""},{"$f":"IF('Marks Entry'!AW105=\"\",\"\",'Marks Entry'!AW105)","v":""},{"$f":"IF('Marks Entry'!AX105=\"\",\"\",'Marks Entry'!AX105)","v":""},{"$f":"IF('Marks Entry'!AY105=\"\",\"\",'Marks Entry'!AY105)","v":""},"","",{"$f":"IF('Marks Entry'!AZ105=\"\",\"\",'Marks Entry'!AZ105)","v":""},{"$f":"IF('Marks Entry'!BA105=\"\",\"\",'Marks Entry'!BA105)","v":""},"","",{"$f":"IF(AND($B103=\"NSO\",$E103=\"\"),\"\",IF(AND('Marks Entry'!BB105=\"AB\",'Marks Entry'!BC105=\"AB\"),\"AB\",IF(AND('Marks Entry'!BB105=\"ML\",'Marks Entry'!BC105=\"ML\"),\"RE\",IF('Marks Entry'!BB105=\"\",\"\",ROUNDUP(('Marks Entry'!BB105+'Marks Entry'!BC105)*30/100,0)))))","v":""},"",0,0,"","","","",0,"","","","","","",0,0,0,0,0,"",{"$f":"IF('Marks Entry'!BD105=\"\",\"\",'Marks Entry'!BD105)","v":""},{"$f":"IF('Marks Entry'!BE105=\"\",\"\",'Marks Entry'!BE105)","v":""},{"$f":"IF('Marks Entry'!BF105=\"\",\"\",'Marks Entry'!BF105)","v":""},"","","","","","","","","","","","","","","","","","","","","","","","","","",{"$f":"IF('Student DATA Entry'!I100=\"\",\"\",'Student DATA Entry'!I100)","v":""},{"$f":"IF('Student DATA Entry'!J100=\"\",\"\",'Student DATA Entry'!J100)","v":""},"      ","      ","      ","              "," ","","","","",""]
[99,{"$f":"IF('Marks Entry'!B106=\"\",\"\",VALUE('Marks Entry'!B106))","v":""},{"$f":"IF('Marks Entry'!C106=\"\",\"\",'Marks Entry'!C106)","v":""},{"$f":"IF('Marks Entry'!D106=\"\",\"\",'Marks Entry'!D106)","v":""},{"$f":"IF('Marks Entry'!E106=\"\",\"\",'Marks Entry'!E106)","v":""},{"$f":"IF('Marks Entry'!F106=\"\",\"\",'Marks Entry'!F106)","v":""},{"$f":"IF('Marks Entry'!G106=\"\",\"\",'Marks Entry'!G106)","v":""},{"$f":"IF('Marks Entry'!H106=\"\",\"\",'Marks Entry'!H106)","v":""},{"$f":"IF('Marks Entry'!I106=\"\",\"\",'Marks Entry'!I106)","v":""},{"$f":"IF('Marks Entry'!J106=\"\",\"\",'Marks Entry'!J106)","v":""},{"$f":"IF('Marks Entry'!K106=\"\",\"\",'Marks Entry'!K106)","v":""},{"$f":"IF('Marks Entry'!L106=\"\",\"\",'Marks Entry'!L106)","v":""},"","",{"$f":"IF('Marks Entry'!M106=\"\",\"\",'Marks Entry'!M106)","v":""},"",{"$f":"IF(AND($B104=\"NSO\",$E104=\"\",O104=\"\"),\"\",IF(AND('Marks Entry'!N106=\"AB\"),\"AB\",IF(AND('Marks Entry'!N106=\"ML\"),\"RE\",IF('Marks Entry'!N106=\"\",\"\",ROUNDUP('Marks Entry'!N106*30/100,0)))))","v":""},"",0,0,"","","","",{"$f":"IF('Marks Entry'!O106=\"\",\"\",'Marks Entry'!O106)","v":""},{"$f":"IF('Marks Entry'!P106=\"\",\"\",'Marks Entry'!P106)","v":""},{"$f":"IF('Marks Entry'!Q106=\"\",\"\",'Marks Entry'!Q106)","v":""},"","",{"$f":"IF('Marks Entry'!R106=\"\",\"\",'Marks Entry'!R106)","v":""},"",{"$f":"IF(AND($B104=\"NSO\",$E104=\"\"),\"\",IF(AND('Marks Entry'!S106=\"AB\"),\"AB\",IF(AND('Marks Entry'!S106=\"ML\"),\"RE\",IF('Marks Entry'!S106=\"\",\"\",ROUNDUP('Marks Entry'!S106*30/100,0)))))","v":""},"",0,0,"","","","",{"$f":"IF('Marks Entry'!T106=\"\",\"\",'Marks Entry'!T106)","v":""},{"$f":"IF('Marks Entry'!V106=\"\",\"\",'Marks Entry'!V106)","v":""},{"$f":"IF('Marks Entry'!W106=\"\",\"\",'Marks Entry'!W106)","v":""},{"$f":"IF('Marks Entry'!X106=\"\",\"\",'Marks Entry'!X106)","v":""},"","",{"$f":"IF('Marks Entry'!Y106=\"\",\"\",'Marks Entry'!Y106)","v":""},{"$f":"IF('Marks Entry'!Z106=\"\",\"\",'Marks Entry'!Z106)","v":""},"","",{"$f":"IF(AND($B104=\"NSO\",$E104=\"\"),\"\",IF(AND('Marks Entry'!AA106=\"AB\",'Marks Entry'!AB106=\"AB\"),\"AB\",IF(AND('Marks Entry'!AA106=\"ML\",'Marks Entry'!AB106=\"ML\"),\"RE\",IF('Marks Entry'!AA106=\"\",\"\",ROUNDUP(('Marks Entry'!AA106+'Marks Entry'!AB106)*30/100,0)))))","v":""},"",0,0,"","","","",{"$f":"IF('Marks Entry'!AC106=\"\",\"\",'Marks Entry'!AC106)","v":""},{"$f":"IF('Marks Entry'!AE106=\"\",\"\",'Marks Entry'!AE106)","v":""},{"$f":"IF('Marks Entry'!AF106=\"\",\"\",'Marks Entry'!AF106)","v":""},{"$f":"IF('Marks Entry'!AG106=\"\",\"\",'Marks Entry'!AG106)","v":""},"","",{"$f":"IF('Marks Entry'!AH106=\"\",\"\",'Marks Entry'!AH106)","v":""},{"$f":"IF('Marks Entry'!AI106=\"\",\"\",'Marks Entry'!AI106)","v":""},"","",{"$f":"IF(AND($B104=\"NSO\",$E104=\"\"),\"\",IF(AND('Marks Entry'!AJ106=\"AB\",'Marks Entry'!AK106=\"AB\"),\"AB\",IF(AND('Marks Entry'!AJ106=\"ML\",'Marks Entry'!AK106=\"ML\"),\"RE\",IF('Marks Entry'!AJ106=\"\",\"\",ROUNDUP(('Marks Entry'!AJ106+'Marks Entry'!AK106)*30/100,0)))))","v":""},"",0,0,"","","","",{"$f":"IF('Marks Entry'!AL106=\"\",\"\",'Marks Entry'!AL106)","v":""},{"$f":"IF('Marks Entry'!AN106=\"\",\"\",'Marks Entry'!AN106)","v":""},{"$f":"IF('Marks Entry'!AO106=\"\",\"\",'Marks Entry'!AO106)","v":""},{"$f":"IF('Marks Entry'!AP106=\"\",\"\",'Marks Entry'!AP106)","v":""},"","",{"$f":"IF('Marks Entry'!AQ106=\"\",\"\",'Marks Entry'!AQ106)","v":""},{"$f":"IF('Marks Entry'!AR106=\"\",\"\",'Marks Entry'!AR106)","v":""},"","",{"$f":"IF(AND($B104=\"NSO\",$E104=\"\"),\"\",IF(AND('Marks Entry'!AS106=\"AB\",'Marks Entry'!AT106=\"AB\"),\"AB\",IF(AND('Marks Entry'!AS106=\"ML\",'Marks Entry'!AT106=\"ML\"),\"RE\",IF('Marks Entry'!AS106=\"\",\"\",ROUNDUP(('Marks Entry'!AS106+'Marks Entry'!AT106)*30/100,0)))))","v":""},"",0,0,"","","","",{"$f":"IF('Marks Entry'!AU106=\"\",\"\",'Marks Entry'!AU106)","v":""},{"$f":"IF('Marks Entry'!AW106=\"\",\"\",'Marks Entry'!AW106)","v":""},{"$f":"IF('Marks Entry'!AX106=\"\",\"\",'Marks Entry'!AX106)","v":""},{"$f":"IF('Marks Entry'!AY106=\"\",\"\",'Marks Entry'!AY106)","v":""},"","",{"$f":"IF('Marks Entry'!AZ106=\"\",\"\",'Marks Entry'!AZ106)","v":""},{"$f":"IF('Marks Entry'!BA106=\"\",\"\",'Marks Entry'!BA106)","v":""},"","",{"$f":"IF(AND($B104=\"NSO\",$E104=\"\"),\"\",IF(AND('Marks Entry'!BB106=\"AB\",'Marks Entry'!BC106=\"AB\"),\"AB\",IF(AND('Marks Entry'!BB106=\"ML\",'Marks Entry'!BC106=\"ML\"),\"RE\",IF('Marks Entry'!BB106=\"\",\"\",ROUNDUP(('Marks Entry'!BB106+'Marks Entry'!BC106)*30/100,0)))))","v":""},"",0,0,"","","","",0,"","","","","","",0,0,0,0,0,"",{"$f":"IF('Marks Entry'!BD106=\"\",\"\",'Marks Entry'!BD106)","v":""},{"$f":"IF('Marks Entry'!BE106=\"\",\"\",'Marks Entry'!BE106)","v":""},{"$f":"IF('Marks Entry'!BF106=\"\",\"\",'Marks Entry'!BF106)","v":""},"","","","","","","","","","","","","","","","","","","","","","","","","","",{"$f":"IF('Student DATA Entry'!I101=\"\",\"\",'Student DATA Entry'!I101)","v":""},{"$f":"IF('Student DATA Entry'!J101=\"\",\"\",'Student DATA Entry'!J101)","v":""},"      ","      ","      ","              "," ","","","","",""]
[100,{"$f":"IF('Marks Entry'!B107=\"\",\"\",VALUE('Marks Entry'!B107))","v":""},{"$f":"IF('Marks Entry'!C107=\"\",\"\",'Marks Entry'!C107)","v":""},{"$f":"IF('Marks Entry'!D107=\"\",\"\",'Marks Entry'!D107)","v":""},{"$f":"IF('Marks Entry'!E107=\"\",\"\",'Marks Entry'!E107)","v":""},{"$f":"IF('Marks Entry'!F107=\"\",\"\",'Marks Entry'!F107)","v":""},{"$f":"IF('Marks Entry'!G107=\"\",\"\",'Marks Entry'!G107)","v":""},{"$f":"IF('Marks Entry'!H107=\"\",\"\",'Marks Entry'!H107)","v":""},{"$f":"IF('Marks Entry'!I107=\"\",\"\",'Marks Entry'!I107)","v":""},{"$f":"IF('Marks Entry'!J107=\"\",\"\",'Marks Entry'!J107)","v":""},{"$f":"IF('Marks Entry'!K107=\"\",\"\",'Marks Entry'!K107)","v":""},{"$f":"IF('Marks Entry'!L107=\"\",\"\",'Marks Entry'!L107)","v":""},"","",{"$f":"IF('Marks Entry'!M107=\"\",\"\",'Marks Entry'!M107)","v":""},"",{"$f":"IF(AND($B105=\"NSO\",$E105=\"\",O105=\"\"),\"\",IF(AND('Marks Entry'!N107=\"AB\"),\"AB\",IF(AND('Marks Entry'!N107=\"ML\"),\"RE\",IF('Marks Entry'!N107=\"\",\"\",ROUNDUP('Marks Entry'!N107*30/100,0)))))","v":""},"",0,0,"","","","",{"$f":"IF('Marks Entry'!O107=\"\",\"\",'Marks Entry'!O107)","v":""},{"$f":"IF('Marks Entry'!P107=\"\",\"\",'Marks Entry'!P107)","v":""},{"$f":"IF('Marks Entry'!Q107=\"\",\"\",'Marks Entry'!Q107)","v":""},"","",{"$f":"IF('Marks Entry'!R107=\"\",\"\",'Marks Entry'!R107)","v":""},"",{"$f":"IF(AND($B105=\"NSO\",$E105=\"\"),\"\",IF(AND('Marks Entry'!S107=\"AB\"),\"AB\",IF(AND('Marks Entry'!S107=\"ML\"),\"RE\",IF('Marks Entry'!S107=\"\",\"\",ROUNDUP('Marks Entry'!S107*30/100,0)))))","v":""},"",0,0,"","","","",{"$f":"IF('Marks Entry'!T107=\"\",\"\",'Marks Entry'!T107)","v":""},{"$f":"IF('Marks Entry'!V107=\"\",\"\",'Marks Entry'!V107)","v":""},{"$f":"IF('Marks Entry'!W107=\"\",\"\",'Marks Entry'!W107)","v":""},{"$f":"IF('Marks Entry'!X107=\"\",\"\",'Marks Entry'!X107)","v":""},"","",{"$f":"IF('Marks Entry'!Y107=\"\",\"\",'Marks Entry'!Y107)","v":""},{"$f":"IF('Marks Entry'!Z107=\"\",\"\",'Marks Entry'!Z107)","v":""},"","",{"$f":"IF(AND($B105=\"NSO\",$E105=\"\"),\"\",IF(AND('Marks Entry'!AA107=\"AB\",'Marks Entry'!AB107=\"AB\"),\"AB\",IF(AND('Marks Entry'!AA107=\"ML\",'Marks Entry'!AB107=\"ML\"),\"RE\",IF('Marks Entry'!AA107=\"\",\"\",ROUNDUP(('Marks Entry'!AA107+'Marks Entry'!AB107)*30/100,0)))))","v":""},"",0,0,"","","","",{"$f":"IF('Marks Entry'!AC107=\"\",\"\",'Marks Entry'!AC107)","v":""},{"$f":"IF('Marks Entry'!AE107=\"\",\"\",'Marks Entry'!AE107)","v":""},{"$f":"IF('Marks Entry'!AF107=\"\",\"\",'Marks Entry'!AF107)","v":""},{"$f":"IF('Marks Entry'!AG107=\"\",\"\",'Marks Entry'!AG107)","v":""},"","",{"$f":"IF('Marks Entry'!AH107=\"\",\"\",'Marks Entry'!AH107)","v":""},{"$f":"IF('Marks Entry'!AI107=\"\",\"\",'Marks Entry'!AI107)","v":""},"","",{"$f":"IF(AND($B105=\"NSO\",$E105=\"\"),\"\",IF(AND('Marks Entry'!AJ107=\"AB\",'Marks Entry'!AK107=\"AB\"),\"AB\",IF(AND('Marks Entry'!AJ107=\"ML\",'Marks Entry'!AK107=\"ML\"),\"RE\",IF('Marks Entry'!AJ107=\"\",\"\",ROUNDUP(('Marks Entry'!AJ107+'Marks Entry'!AK107)*30/100,0)))))","v":""},"",0,0,"","","","",{"$f":"IF('Marks Entry'!AL107=\"\",\"\",'Marks Entry'!AL107)","v":""},{"$f":"IF('Marks Entry'!AN107=\"\",\"\",'Marks Entry'!AN107)","v":""},{"$f":"IF('Marks Entry'!AO107=\"\",\"\",'Marks Entry'!AO107)","v":""},{"$f":"IF('Marks Entry'!AP107=\"\",\"\",'Marks Entry'!AP107)","v":""},"","",{"$f":"IF('Marks Entry'!AQ107=\"\",\"\",'Marks Entry'!AQ107)","v":""},{"$f":"IF('Marks Entry'!AR107=\"\",\"\",'Marks Entry'!AR107)","v":""},"","",{"$f":"IF(AND($B105=\"NSO\",$E105=\"\"),\"\",IF(AND('Marks Entry'!AS107=\"AB\",'Marks Entry'!AT107=\"AB\"),\"AB\",IF(AND('Marks Entry'!AS107=\"ML\",'Marks Entry'!AT107=\"ML\"),\"RE\",IF('Marks Entry'!AS107=\"\",\"\",ROUNDUP(('Marks Entry'!AS107+'Marks Entry'!AT107)*30/100,0)))))","v":""},"",0,0,"","","","",{"$f":"IF('Marks Entry'!AU107=\"\",\"\",'Marks Entry'!AU107)","v":""},{"$f":"IF('Marks Entry'!AW107=\"\",\"\",'Marks Entry'!AW107)","v":""},{"$f":"IF('Marks Entry'!AX107=\"\",\"\",'Marks Entry'!AX107)","v":""},{"$f":"IF('Marks Entry'!AY107=\"\",\"\",'Marks Entry'!AY107)","v":""},"","",{"$f":"IF('Marks Entry'!AZ107=\"\",\"\",'Marks Entry'!AZ107)","v":""},{"$f":"IF('Marks Entry'!BA107=\"\",\"\",'Marks Entry'!BA107)","v":""},"","",{"$f":"IF(AND($B105=\"NSO\",$E105=\"\"),\"\",IF(AND('Marks Entry'!BB107=\"AB\",'Marks Entry'!BC107=\"AB\"),\"AB\",IF(AND('Marks Entry'!BB107=\"ML\",'Marks Entry'!BC107=\"ML\"),\"RE\",IF('Marks Entry'!BB107=\"\",\"\",ROUNDUP(('Marks Entry'!BB107+'Marks Entry'!BC107)*30/100,0)))))","v":""},"",0,0,"","","","",0,"","","","","","",0,0,0,0,0,"",{"$f":"IF('Marks Entry'!BD107=\"\",\"\",'Marks Entry'!BD107)","v":""},{"$f":"IF('Marks Entry'!BE107=\"\",\"\",'Marks Entry'!BE107)","v":""},{"$f":"IF('Marks Entry'!BF107=\"\",\"\",'Marks Entry'!BF107)","v":""},"","","","","","","","","","","","","","","","","","","","","","","","","","",{"$f":"IF('Student DATA Entry'!I102=\"\",\"\",'Student DATA Entry'!I102)","v":""},{"$f":"IF('Student DATA Entry'!J102=\"\",\"\",'Student DATA Entry'!J102)","v":""},"      ","      ","      ","              "," ","","","","",""]
[]
["Aggregate result of the class",{"$nulls":4},"Subject Name",null,"",null,{"$f":"J1","v":"Com. Hindi"},{"$nulls":14},{"$f":"Y1","v":"Com. English"},{"$nulls":15},"Sub.",null,{"$f":"AO1","v":"POLITICAL SCIENCE"},null,null,{"$f":"AS1","v":""},null,null,{"$f":"AW1","v":"BIOLOGY"},{"$nulls":9},"Sub.",null,{"$f":"BG1","v":"HISTORY"},null,null,{"$f":"BK1","v":""},null,null,{"$f":"BO1","v":""},{"$nulls":9},"Sub.",null,{"$f":"BY1","v":"GEOGRAPHY"},null,null,{"$f":"CC1","v":"HINDI LITERATURE"},null,null,{"$f":"CG1","v":""},{"$nulls":9},"Sub.",null,{"$f":"CQ1","v":"MATHEMATICS"},null,null,{"$f":"CU1","v":"BEAUTY AND HEALTH"},null,null,{"$f":"CY1","v":"ELECTRICALS AND ELECTRONICS"},{"$nulls":22},"Jivan Kausal",{"$nulls":30},"Date of result declaration",null,{"$f":"'Master sheet'!C12","v":"2020-04-10"},"Total appeared",null,null,{"$f":"SUM(FG112,FG113,FG118)","v":15}]
["No. of students appeared",{"$nulls":4},"Name Of Subject Teacher",null,"",null,{"$f":"J2","v":"Mangilal Rangi"},{"$nulls":14},{"$f":"Y2","v":"Mishri lal"},{"$nulls":15},"Sub.T.",null,{"$f":"AO2","v":"Heera lal jat"},null,null,{"$f":"AS2","v":""},null,null,{"$f":"AW2","v":"Kamlesh"},{"$nulls":9},"Sub.T.",null,{"$f":"BG2","v":"Bhagwan singh"},null,null,{"$f":"BK2","v":""},null,null,{"$f":"BO2","v":""},{"$nulls":9},"Sub.T.",null,{"$f":"BY2","v":"Kalyan Singh"},null,null,{"$f":"CC2","v":"Rajiv"},null,null,{"$f":"CG2","v":""},{"$nulls":9},"Sub.T.",null,{"$f":"CQ2","v":"Manhendra patel"},null,null,{"$f":"CU2","v":"mangi lal rangi"},null,null,{"$f":"CY2","v":"Bhalaram "},{"$nulls":53},"Signature of the maker",null,null,"1st Dive ",null,null,{"$f":"COUNTIF(FG6:FG105,\"I\")","v":10}]
["I","II","III","Total","%","No. of students appeared",null,"",null,{"$f":"COUNTA(DY6:DY105)-COUNTIF(DY6:DY105,\"RE\")-COUNTIF(DY6:DY105,\"AB\")-COUNTIF(DY6:DY105,\"\")","v":14},{"$nulls":14},{"$f":"COUNTA(EA6:EA105)-COUNTIF(EA6:EA105,\"RE\")-COUNTIF(EA6:EA105,\"AB\")-COUNTIF(EA6:EA105,\"\")","v":15},{"$nulls":15},"App.",null,{"$f":"COUNTA(ED6:ED105)-COUNTIF(ED6:ED105,\"RE\")-COUNTIF(ED6:ED105,\"AB\")-COUNTIF(ED6:ED105,\"\")","v":15},null,null,{"$f":"COUNTA(EE6:EE105)-COUNTIF(EE6:EE105,\"RE\")-COUNTIF(EE6:EE105,\"AB\")-COUNTIF(EE6:EE105,\"\")","v":0},null,null,{"$f":"COUNTA(EF6:EF105)-COUNTIF(EF6:EF105,\"RE\")-COUNTIF(EF6:EF105,\"AB\")-COUNTIF(EF6:EF105,\"\")","v":0},{"$nulls":9},"App.",null,{"$f":"COUNTA(EI6:EI105)-COUNTIF(EI6:EI105,\"RE\")-COUNTIF(EI6:EI105,\"AB\")-COUNTIF(EI6:EI105,\"\")","v":15},null,null,{"$f":"COUNTA(EJ6:EJ105)-COUNTIF(EJ6:EJ105,\"RE\")-COUNTIF(EJ6:EJ105,\"AB\")-COUNTIF(EJ6:EJ105,\"\")","v":0},null,null,{"$f":"COUNTA(EK6:EK105)-COUNTIF(EK6:EK105,\"RE\")-COUNTIF(EK6:EK105,\"AB\")-COUNTIF(EK6:EK105,\"\")","v":0},{"$nulls":9},"App.",null,{"$f":"COUNTA(EN6:EN105)-COUNTIF(EN6:EN105,\"RE\")-COUNTIF(EN6:EN105,\"AB\")-COUNTIF(EN6:EN105,\"\")","v":11},null,null,{"$f":"COUNTA(EO6:EO105)-COUNTIF(EO6:EO105,\"RE\")-COUNTIF(EO6:EO105,\"AB\")-COUNTIF(EO6:EO105,\"\")","v":4},null,null,{"$f":"COUNTA(EP6:EP105)-COUNTIF(EP6:EP105,\"RE\")-COUNTIF(EP6:EP105,\"AB\")-COUNTIF(EP6:EP105,\"\")","v":0},{"$nulls":9},"App.",null,{"$f":"COUNTA(ES6:ES105)-COUNTIF(ES6:ES105,\"RE\")-COUNTIF(ES6:ES105,\"AB\")-COUNTIF(ES6:ES105,\"\")","v":2},null,null,{"$f":"COUNTA(ET6:ET105)-COUNTIF(ET6:ET105,\"RE\")-COUNTIF(ET6:ET105,\"AB\")-COUNTIF(ET6:ET105,\"\")","v":2},null,null,{"$f":"COUNTA(EU6:EU105)-COUNTIF(EU6:EU105,\"RE\")-COUNTIF(EU6:EU105,\"AB\")-COUNTIF(EU6:EU105,\"\")","v":2},{"$nulls":22},"App.",null,{"$f":"COUNTA(EW6:EW105)-COUNTIF(EW6:EW105,\"RE\")-COUNTIF(EW6:EW105,\"AB\")-COUNTIF(EW6:EW105,\"\")","v":15},{"$nulls":31},"2nd Div.",null,null,{"$f":"COUNTIF(FG6:FG105,\"II\")","v":4}]
[{"$f":"COUNTIF(FG6:FG105,\"I\")+COUNTIF(FG6:FG105,\"D\")","v":10},{"$f":"COUNTIF(FG6:FG105,\"II\")","v":4},{"$f":"COUNTIF(FG6:FG105,\"III\")","v":1},{"$f":"A110+B110+C110","v":15},{"$f":"FG114","v":{"v":100,"d":"100.00"}},"Distinction",null,"",null,{"$f":"COUNTIF(DY6:DY105,\"D\")","v":4},{"$nulls":14},{"$f":"COUNTIF(EA6:EA105,\"D\")","v":1},{"$nulls":15},"D",null,{"$f":"COUNTIF($ED$6:$ED$105,\"D\")","v":12},null,null,{"$f":"COUNTIF($EE$6:$EE$105,\"D\")","v":0},null,null,{"$f":"COUNTIF($EF$6:$EF$105,\"D\")","v":0},{"$nulls":9},"D",null,{"$f":"COUNTIF(EI6:EI105,\"D\")","v":10},null,null,{"$f":"COUNTIF($EJ$6:$EJ$105,\"D\")","v":0},null,null,{"$f":"COUNTIF($EK$6:$EK$105,\"D\")","v":0},{"$nulls":9},"D",null,{"$f":"COUNTIF($EN$6:$EN$105,\"D\")","v":7},null,null,{"$f":"COUNTIF(EO6:EO105,\"D\")","v":3},null,null,{"$f":"COUNTIF(EP6:EP105,\"D\")","v":0},{"$nulls":9},"D",null,{"$f":"COUNTIF(ES6:ES105,\"D\")","v":2},null,null,{"$f":"COUNTIF(ET6:ET105,\"D\")","v":1},null,null,{"$f":"COUNTIF(EU6:EU105,\"D\")","v":1},{"$nulls":22},"D",null,{"$f":"COUNTIF(EW6:EW105,\"D\")","v":8},{"$nulls":28},"Signature of the class teacher",null,{"$f":"CONCATENATE(\"(\",'Master sheet'!C15,\" )\")","v":"(Bhagwan Singh )"},"3rd Div.",null,null,{"$f":"COUNTIF(FG6:FG105,\"III\")","v":1}]
[{"$nulls":5},"1st Dive ",null,"",null,{"$f":"COUNTIF(DY6:DY105,\"i\")","v":2},{"$nulls":14},{"$f":"COUNTIF(EA6:EA105,\"i\")","v":4},{"$nulls":15},"1st",null,{"$f":"COUNTIF($ED$6:$ED$105,\"I\")","v":2},null,null,{"$f":"COUNTIF($EE$6:$EE$105,\"I\")","v":0},null,null,{"$f":"COUNTIF($EF$6:$EF$105,\"I\")","v":0},{"$nulls":9},"1st",null,{"$f":"COUNTIF(EI6:EI105,\"I\")","v":3},null,null,{"$f":"COUNTIF($EJ$6:$EJ$105,\"I\")","v":0},null,null,{"$f":"COUNTIF($EK$6:$EK$105,\"I\")","v":0},{"$nulls":9},"1st",null,{"$f":"COUNTIF($EN$6:$EN$105,\"I\")","v":4},null,null,{"$f":"COUNTIF(EO6:EO105,\"I\")","v":0},null,null,{"$f":"COUNTIF(EP6:EP105,\"I\")","v":0},{"$nulls":9},"1st",null,{"$f":"COUNTIF(ES6:ES105,\"I\")","v":0},null,null,{"$f":"COUNTIF(ET6:ET105,\"I\")","v":1},null,null,{"$f":"COUNTIF(EU6:EU105,\"I\")","v":1},{"$nulls":22},"1st",null,{"$f":"COUNTIF(EW6:EW105,\"I\")","v":7},{"$nulls":31},"Promoted",null,null,{"$f":"COUNTIF(FG6:FG105,\"P\")","v":0}]
["re-exam.",{"$nulls":3},{"$f":"COUNTIF(FG6:FG105,\"RE\")","v":0},"2nd Div.",null,"",null,{"$f":"COUNTIF(DY6:DY105,\"ii\")","v":1},{"$nulls":14},{"$f":"COUNTIF(EA6:EA105,\"ii\")","v":4},{"$nulls":15},"2nd",null,{"$f":"COUNTIF($ED$6:$ED$105,\"II\")","v":1},null,null,{"$f":"COUNTIF($EE$6:$EE$105,\"II\")","v":0},null,null,{"$f":"COUNTIF($EF$6:$EF$105,\"II\")","v":0},{"$nulls":9},"2nd",null,{"$f":"COUNTIF(EI6:EI105,\"II\")","v":1},null,null,{"$f":"COUNTIF($EJ$6:$EJ$105,\"II\")","v":0},null,null,{"$f":"COUNTIF($EK$6:$EK$105,\"II\")","v":0},{"$nulls":9},"2nd",null,{"$f":"COUNTIF($EN$6:$EN$105,\"II\")","v":0},null,null,{"$f":"COUNTIF(EO6:EO105,\"II\")","v":1},null,null,{"$f":"COUNTIF(EP6:EP105,\"II\")","v":0},{"$nulls":9},"2nd",null,{"$f":"COUNTIF(ES6:ES105,\"II\")","v":0},null,null,{"$f":"COUNTIF(ET6:ET105,\"II\")","v":0},null,null,{"$f":"COUNTIF(EU6:EU105,\"II\")","v":0},{"$nulls":22},"2nd",null,{"$f":"COUNTIF(EW6:EW105,\"II\")","v":0},{"$nulls":28},"Signature of the checker",null,{"$f":"CONCATENATE(\"( \",'Master sheet'!C19,\" )\")","v":"( Heeralal Jat )"},"Total Pass",null,null,{"$f":"SUM(FG108:FG111)","v":15}]
["students failed in Main Exam",{"$nulls":3},{"$f":"COUNTIF(FG6:FG105,\"F\")","v":0},"3rd Div.",null,"",null,{"$f":"COUNTIF(DY6:DY105,\"iii\")","v":2},{"$nulls":14},{"$f":"COUNTIF(EA6:EA105,\"iii\")","v":5},{"$nulls":15},"3rd",null,{"$f":"COUNTIF($ED$6:$ED$105,\"III\")","v":0},null,null,{"$f":"COUNTIF($EE$6:$EE$105,\"III\")","v":0},null,null,{"$f":"COUNTIF($EF$6:$EF$105,\"III\")","v":0},{"$nulls":9},"3rd",null,{"$f":"COUNTIF(EI6:EI105,\"III\")","v":1},null,null,{"$f":"COUNTIF($EJ$6:$EJ$105,\"III\")","v":0},null,null,{"$f":"COUNTIF($EK$6:$EK$105,\"III\")","v":0},{"$nulls":9},"3rd",null,{"$f":"COUNTIF($EN$6:$EN$105,\"III\")","v":0},null,null,{"$f":"COUNTIF(EO6:EO105,\"III\")","v":0},null,null,{"$f":"COUNTIF(EP6:EP105,\"III\")","v":0},{"$nulls":9},"3rd",null,{"$f":"COUNTIF(ES6:ES105,\"III\")","v":0},null,null,{"$f":"COUNTIF(ET6:ET105,\"III\")","v":0},null,null,{"$f":"COUNTIF(EU6:EU105,\"III\")","v":0},{"$nulls":22},"3rd",null,{"$f":"COUNTIF(EW6:EW105,\"III\")","v":0},{"$nulls":31},"Failed",null,null,{"$f":"COUNTIF(FD6:FD105,\"FAIL\")","v":0}]
["Pass in Supp./Re-exam",{"$nulls":4},"Promoted",null,"",null,{"$f":"COUNTIF(DY6:DY105,\"P\")","v":5},{"$nulls":14},{"$f":"COUNTIF(EA6:EA105,\"P\")","v":1},{"$nulls":15},"pro.",null,{"$f":"COUNTIF($ED$6:$ED$105,\"P\")","v":0},null,null,{"$f":"COUNTIF($EE$6:$EE$105,\"P\")","v":0},null,null,{"$f":"COUNTIF($EF$6:$EF$105,\"P\")","v":0},{"$nulls":9},"pro.",null,{"$f":"COUNTIF(EI6:EI105,\"P\")","v":0},null,null,{"$f":"COUNTIF($EJ$6:$EJ$105,\"P\")","v":0},null,null,{"$f":"COUNTIF($EK$6:$EK$105,\"P\")","v":0},{"$nulls":9},"pro.",null,{"$f":"COUNTIF($EN$6:$EN$105,\"P\")","v":0},null,null,{"$f":"COUNTIF(EO6:EO105,\"P\")","v":0},null,null,{"$f":"COUNTIF(EP6:EP105,\"P\")","v":0},{"$nulls":9},"pro.",null,{"$f":"COUNTIF(ES6:ES105,\"P\")","v":0},null,null,{"$f":"COUNTIF(ET6:ET105,\"P\")","v":0},null,null,{"$f":"COUNTIF(EU6:EU105,\"P\")","v":0},{"$nulls":22},"pro.",null,{"$f":"COUNTIF(EW6:EW105,\"P\")","v":0},{"$nulls":28},"Signature of the exam. Incharge",null,{"$f":"CONCATENATE(\"( \",'Master sheet'!C18,\" )\")","v":"( Mahendra Patel )"},"Pass %",null,null,{"$f":"IF(FG107=0,0,FG112/FG107*100)","v":{"v":100,"d":"100.00"}}]
["Promoted",{"$nulls":3},{"$f":"COUNTIF(FG6:FG105,\"P\")","v":0},"Total Pass",null,"",null,{"$f":"SUM(J110:X114)","v":14},{"$nulls":14},{"$f":"SUM(Y110:AM114)","v":15},{"$nulls":15},"Total",null,{"$f":"SUM(AQ110:AS114)","v":15},null,null,{"$f":"SUM(AT110:AV114)","v":0},null,null,{"$f":"SUM(AW110:AY114)","v":0},{"$nulls":9},"Total",null,{"$f":"SUM(BI110:BK114)","v":15},null,null,{"$f":"SUM(BL110:BN114)","v":0},null,null,{"$f":"SUM(BO110:BQ114)","v":0},{"$nulls":9},"Total",null,{"$f":"SUM(CA110:CC114)","v":11},null,null,{"$f":"SUM(CD110:CF114)","v":4},null,null,{"$f":"SUM(CG110:CI114)","v":0},{"$nulls":9},"Total",null,{"$f":"SUM(CS110:CU114)","v":2},null,null,{"$f":"SUM(CV110:CX114)","v":2},null,null,{"$f":"SUM(CY110:DA114)","v":2},{"$nulls":22},"Total",null,{"$f":"SUM(DX110:DZ114)","v":15},{"$nulls":31},"Re-Exam",null,null,{"$f":"COUNTIF(DT6:DT105,\"Re-Exam.\")","v":1}]
["NSO",{"$nulls":3},{"$f":"COUNTIF(FG6:FG105,\"NSO\")","v":0},"Failed",null,"",null,{"$f":"COUNTIF(DY6:DY105,\"F\")","v":0},{"$nulls":14},{"$f":"COUNTIF(EA6:EA105,\"F\")","v":0},{"$nulls":15},"Failed",null,{"$f":"COUNTIF($ED$6:$ED$105,\"F\")","v":0},null,null,{"$f":"COUNTIF($EE$6:$EE$105,\"F\")","v":0},null,null,{"$f":"COUNTIF($EF$6:$EF$105,\"F\")","v":0},{"$nulls":9},"Failed",null,{"$f":"COUNTIF(EI6:EI105,\"F\")","v":0},null,null,{"$f":"COUNTIF($EJ$6:$EJ$105,\"F\")","v":0},null,null,{"$f":"COUNTIF($EK$6:$EK$105,\"F\")","v":0},{"$nulls":9},"Failed",null,{"$f":"COUNTIF($EN$6:$EN$105,\"F\")","v":0},null,null,{"$f":"COUNTIF(EO6:EO105,\"F\")","v":0},null,null,{"$f":"COUNTIF(EP6:EP105,\"F\")","v":0},{"$nulls":9},"Failed",null,{"$f":"COUNTIF(ES6:ES105,\"F\")","v":0},null,null,{"$f":"COUNTIF(ET6:ET105,\"F\")","v":0},null,null,{"$f":"COUNTIF(EU6:EU105,\"F\")","v":0},{"$nulls":22},"Failed",null,{"$f":"COUNTIF(EW6:EW105,\"F\")","v":0},{"$nulls":31},"NSO",null,null,{"$f":"COUNTIF(B6:B105,\"nso\")","v":0}]
["Absence",{"$nulls":3},{"$f":"COUNTIF(FG6:FG105,\"AB\")","v":0},"Pass %",null,"",null,{"$f":"IF(J109=0,0,J115/J109*100%)","v":{"v":1,"d":"100.00%"}},{"$nulls":14},{"$f":"IF(Y109=0,0,Y115/Y109*100%)","v":{"v":1,"d":"100.00%"}},{"$nulls":15},"Pass %",null,{"$f":"IF(AQ109=0,0,AQ115/AQ109*100%)","v":{"v":1,"d":"100%"}},null,null,{"$f":"IF(AT109=0,0,AT115/AT109*100%)","v":{"v":0,"d":"0%"}},null,null,{"$f":"IF(AW109=0,0,AW115/AW109*100%)","v":{"v":0,"d":"0%"}},{"$nulls":9},"Pass %",null,{"$f":"IF(BI109=0,0,BI115/BI109*100%)","v":{"v":1,"d":"100%"}},null,null,{"$f":"IF(BL109=0,0,BL115/BL109*100%)","v":{"v":0,"d":"0%"}},null,null,{"$f":"IF(BO109=0,0,BO115/BO109*100%)","v":{"v":0,"d":"0%"}},{"$nulls":9},"Pass %",null,{"$f":"IF(CA109=0,0,CA115/CA109*100%)","v":{"v":1,"d":"100%"}},null,null,{"$f":"IF(CD109=0,0,CD115/CD109*100%)","v":{"v":1,"d":"100%"}},null,null,{"$f":"IF(CG109=0,0,CG115/CG109*100%)","v":{"v":0,"d":"0%"}},{"$nulls":9},"Pass %",null,{"$f":"IF(CS109=0,0,CS115/CS109*100%)","v":{"v":1,"d":"100%"}},null,null,{"$f":"IF(CV109=0,0,CV115/CV109*100%)","v":{"v":1,"d":"100%"}},null,null,{"$f":"IF(CY109=0,0,CY115/CY109*100%)","v":{"v":1,"d":"100%"}},{"$nulls":22},"Pass %",null,{"$f":"IF(DX109=0,0,DX115/DX109*100%)","v":{"v":1,"d":"100%"}},{"$nulls":31},"Total",null,null,{"$f":"FG112+FG113+FG115+FG116","v":16}]
["Total Pass",{"$nulls":3},{"$f":"D110+E114+E115","v":15},"NSO",null,"",null,{"$f":"COUNTIF(U6:U105,\"nso\")","v":0},{"$nulls":14},{"$f":"COUNTIF(AJ6:AJ105,\"nso\")","v":0},{"$nulls":15},"NSO",null,{"$f":"COUNTIFS(B6:B105,\"NSO\",AN6:AN105,1)","v":0},null,null,{"$f":"COUNTIFS(B6:B105,\"NSO\",AN6:AN105,2)","v":0},null,null,{"$f":"COUNTIFS(B6:B105,\"NSO\",AN6:AN105,3)","v":0},{"$nulls":9},"NSO",null,{"$f":"COUNTIFS(B6:B105,\"NSO\",BF6:BF105,1)","v":0},null,null,{"$f":"COUNTIFS(B6:B105,\"NSO\",BF6:BF105,2)","v":0},null,null,{"$f":"COUNTIFS(B6:B105,\"NSO\",BF6:BF105,3)","v":0},{"$nulls":9},"NSO",null,{"$f":"COUNTIFS(B6:B105,\"NSO\",BX6:BX105,1)","v":0},null,null,{"$f":"COUNTIFS(B6:B105,\"NSO\",BX6:BX105,1)","v":0},null,null,{"$f":"COUNTIFS(B6:B105,\"NSO\",BX6:BX105,1)","v":0},{"$nulls":9},"NSO",null,{"$f":"COUNTIFS(B6:B105,\"NSO\",CP6:CP105,1)","v":0},null,null,{"$f":"COUNTIFS(B6:B105,\"NSO\",CP6:CP105,2)","v":0},null,null,{"$f":"COUNTIFS(B6:B105,\"NSO\",CP6:CP105,2)","v":0},{"$nulls":22},"NSO",null,{"$f":"COUNTIF($B$6:$B$105,\"nso\")","v":0},{"$nulls":28},"Signature of the Head of the Institution",null,{"$f":"CONCATENATE(\"( \",'Master sheet'!C16,\" )\")","v":"( MISHRILAL )"}]
["Pass %",{"$nulls":3},{"$f":"E110","v":{"v":100,"d":"100.00"}},"Absence",null,"",null,{"$f":"COUNTIF(DY6:DY105,\"AB\")","v":1},{"$nulls":14},{"$f":"COUNTIF(EA6:EA105,\"AB\")","v":0},{"$nulls":15},"AB",null,{"$f":"COUNTIF($ED$6:$ED$105,\"AB\")","v":0},null,null,{"$f":"COUNTIF($EE$6:$EE$105,\"AB\")","v":0},null,null,{"$f":"COUNTIF($EF$6:$EF$105,\"AB\")","v":0},{"$nulls":9},"AB",null,{"$f":"COUNTIF(EI6:EI105,\"AB\")","v":0},null,null,{"$f":"COUNTIF($EJ$6:$EJ$105,\"AB\")","v":0},null,null,{"$f":"COUNTIF($EK$6:$EK$105,\"AB\")","v":0},{"$nulls":9},"AB",null,{"$f":"COUNTIF($EN$6:$EN$105,\"AB\")","v":0},null,null,{"$f":"COUNTIF(EO6:EO105,\"AB\")","v":0},null,null,{"$f":"COUNTIF(EP6:EP105,\"AB\")","v":0},{"$nulls":9},"AB",null,{"$f":"COUNTIF(ES6:ES105,\"AB\")","v":0},null,null,{"$f":"COUNTIF(ET6:ET105,\"AB\")","v":0},null,null,{"$f":"COUNTIF(EU6:EU105,\"AB\")","v":0},{"$nulls":22},"AB",null,{"$f":"COUNTIF(EW6:EW105,\"AB\")","v":0}]
[{"$nulls":5},"No. of students for re-exam.",null,"",null,{"$f":"COUNTIF(DY6:DY105,\"RE\")","v":0},{"$nulls":14},{"$f":"COUNTIF(EA6:EA105,\"RE\")","v":0},{"$nulls":15},"RE",null,{"$f":"COUNTIF($ED$6:$ED$105,\"RE\")","v":0},null,null,{"$f":"COUNTIF($EE$6:$EE$105,\"RE\")","v":0},null,null,{"$f":"COUNTIF($EF$6:$EF$105,\"RE\")","v":0},{"$nulls":9},"RE",null,{"$f":"COUNTIF(EI6:EI105,\"RE\")","v":0},null,null,{"$f":"COUNTIF($EJ$6:$EJ$105,\"RE\")","v":0},null,null,{"$f":"COUNTIF($EK$6:$EK$105,\"RE\")","v":0},{"$nulls":9},"RE",null,{"$f":"COUNTIF($EN$6:$EN$105,\"RE\")","v":0},null,null,{"$f":"COUNTIF(EO6:EO105,\"RE\")","v":0},null,null,{"$f":"COUNTIF(EP6:EP105,\"RE\")","v":0},{"$nulls":9},"RE",null,{"$f":"COUNTIF(ES6:ES105,\"RE\")","v":0},null,null,{"$f":"COUNTIF(ET6:ET105,\"RE\")","v":0},null,null,{"$f":"COUNTIF(EU6:EU105,\"RE\")","v":0},{"$nulls":22},"RE",null,{"$f":"COUNTIF(EW6:EW105,\"RE\")","v":0}]
[]
[{"$nulls":4},"GO TO THE FIRST ROW",{"$nulls":48},{"$f":"COUNTIFS(B6:B105,\"NSO\",AN6:AN105,1)","v":0}]

{"sheet":"Teacher & Cat. Wise Result","index":6,"n_rows":37,"n_cols":15,"rows_kept":37,"merged":[[0,0,0,14],[1,0,2,4],[1,5,2,9],[1,10,2,12],[1,13,2,14],[20,0,21,14],[23,0,24,14],[25,0,25,5],[25,6,25,7],[25,8,25,9],[25,10,25,12],[25,13,25,14],[26,0,26,1],[27,0,27,1],[28,0,28,1],[29,0,29,1],[30,0,30,1],[31,0,31,1],[32,0,32,1],[33,0,33,1],[34,0,34,1],[35,0,35,1],[36,0,36,1]]}
[{"$f":"CONCATENATE(\"School Name :-\",\"  \",'Master sheet'!C8)","v":"School Name :-  Governt Senior Secondary School INDERWARA"}]
["SUBJECT-WISE RESULT OF THE CLASS",{"$nulls":4},{"$f":"'Marks Entry'!G2","v":"11'A'"},{"$nulls":4},{"$f":"'Marks Entry'!F2","v":"2019-20"}]
[]
["Subject Teacher","Subject","NO. OF SUBJECTS APPEARED","Passed","Percentage","Distinction","1st div","2nd Div","3rd Div","Class Promoted","Failed","AB","Re-Exam","NSO","TOTAL"]
[{"$f":"'Statement of Marks'!J108","v":"Mangilal Rangi"},{"$f":"'Statement of Marks'!J107","v":"Com. Hindi"},{"$f":"'Statement of Marks'!J109","v":14},{"$f":"'Statement of Marks'!J115","v":14},{"$f":"'Statement of Marks'!J117","v":{"v":1,"d":"100%"}},{"$f":"'Statement of Marks'!J110","v":4},{"$f":"'Statement of Marks'!J111","v":2},{"$f":"'Statement of Marks'!J112","v":1},{"$f":"'Statement of Marks'!J113","v":2},{"$f":"'Statement of Marks'!J114","v":5},{"$f":"'Statement of Marks'!J116","v":0},{"$f":"'Statement of Marks'!J119","v":1},{"$f":"'Statement of Marks'!J120","v":0},{"$f":"'Statement of Marks'!J118","v":0},{"$f":"IF(OR(A5=\"\",B5=\"\",C5=\"\"),\"\",D5+K5++L5+M5+N5)","v":15}]
[{"$f":"'Statement of Marks'!Y108","v":"Mishri lal"},{"$f":"'Statement of Marks'!Y107","v":"Com. English"},{"$f":"'Statement of Marks'!Y109","v":15},{"$f":"'Statement of Marks'!Y115","v":15},{"$f":"'Statement of Marks'!Y117","v":{"v":1,"d":"100%"}},{"$f":"'Statement of Marks'!Y110","v":1},{"$f":"'Statement of Marks'!Y111","v":4},{"$f":"'Statement of Marks'!Y112","v":4},{"$f":"'Statement of Marks'!Y113","v":5},{"$f":"'Statement of Marks'!Y114","v":1},{"$f":"'Statement of Marks'!Y116","v":0},{"$f":"'Statement of Marks'!Y119","v":0},{"$f":"'Statement of Marks'!Y120","v":0},{"$f":"'Statement of Marks'!Y118","v":0},{"$f":"IF(OR(A6=\"\",B6=\"\",C6=\"\"),\"\",D6+K6++L6+M6+N6)","v":15}]
[{"$f":"'Statement of Marks'!AQ107","v":"POLITICAL SCIENCE"},{"$f":"'Statement of Marks'!AQ108","v":"Heera lal jat"},{"$f":"'Statement of Marks'!AQ109","v":15},{"$f":"'Statement of Marks'!AQ115","v":15},{"$f":"'Statement of Marks'!AQ117","v":{"v":1,"d":"100%"}},{"$f":"'Statement of Marks'!AQ110","v":12},{"$f":"'Statement of Marks'!AQ111","v":2},{"$f":"'Statement of Marks'!AQ112","v":1},{"$f":"'Statement of Marks'!AQ113","v":0},{"$f":"'Statement of Marks'!AQ114","v":0},{"$f":"'Statement of Marks'!BI116","v":0},{"$f":"'Statement of Marks'!BI119","v":0},{"$f":"'Statement of Marks'!AQ120","v":0},{"$f":"'Statement of Marks'!AQ118","v":0},15]
[{"$f":"'Statement of Marks'!AT107","v":""},{"$f":"'Statement of Marks'!AT108","v":""},{"$f":"'Statement of Marks'!AT109","v":0},{"$f":"'Statement of Marks'!AT115","v":0},{"$f":"'Statement of Marks'!AT117","v":{"v":0,"d":"0%"}},{"$f":"'Statement of Marks'!AT110","v":0},{"$f":"'Statement of Marks'!AT111","v":0},{"$f":"'Statement of Marks'!AT112","v":0},{"$f":"'Statement of Marks'!AT113","v":0},{"$f":"'Statement of Marks'!AT114","v":0},{"$f":"'Statement of Marks'!AT116","v":0},{"$f":"'Statement of Marks'!AT119","v":0},{"$f":"'Statement of Marks'!AT120","v":0},{"$f":"'Statement of Marks'!AT118","v":0},""]
[{"$f":"'Statement of Marks'!AW107","v":"BIOLOGY"},{"$f":"'Statement of Marks'!AW108","v":"Kamlesh"},{"$f":"'Statement of Marks'!AW109","v":0},{"$f":"'Statement of Marks'!AW115","v":0},{"$f":"'Statement of Marks'!AW117","v":{"v":0,"d":"0%"}},{"$f":"'Statement of Marks'!AW110","v":0},{"$f":"'Statement of Marks'!AW111","v":0},{"$f":"'Statement of Marks'!AW112","v":0},{"$f":"'Statement of Marks'!AW113","v":0},{"$f":"'Statement of Marks'!AW114","v":0},{"$f":"'Statement of Marks'!AW116","v":0},{"$f":"'Statement of Marks'!AW119","v":0},{"$f":"'Statement of Marks'!AW120","v":0},{"$f":"'Statement of Marks'!AW118","v":0},0]
[{"$f":"'Statement of Marks'!BI107","v":"HISTORY"},{"$f":"'Statement of Marks'!BI108","v":"Bhagwan singh"},{"$f":"'Statement of Marks'!BI109","v":15},{"$f":"'Statement of Marks'!BI115","v":15},{"$f":"'Statement of Marks'!BI117","v":{"v":1,"d":"100%"}},{"$f":"'Statement of Marks'!BI110","v":10},{"$f":"'Statement of Marks'!BI111","v":3},{"$f":"'Statement of Marks'!BI112","v":1},{"$f":"'Statement of Marks'!BI113","v":1},{"$f":"'Statement of Marks'!BI114","v":0},{"$f":"'Statement of Marks'!BI116","v":0},{"$f":"'Statement of Marks'!BI119","v":0},{"$f":"'Statement of Marks'!BI120","v":0},{"$f":"'Statement of Marks'!BI118","v":0},15]
[{"$f":"'Statement of Marks'!BL107","v":""},{"$f":"'Statement of Marks'!BL108","v":""},{"$f":"'Statement of Marks'!BL109","v":0},{"$f":"'Statement of Marks'!BL115","v":0},{"$f":"'Statement of Marks'!BL117","v":{"v":0,"d":"0%"}},{"$f":"'Statement of Marks'!BL110","v":0},{"$f":"'Statement of Marks'!BL111","v":0},{"$f":"'Statement of Marks'!BL112","v":0},{"$f":"'Statement of Marks'!BL113","v":0},{"$f":"'Statement of Marks'!BL114","v":0},{"$f":"'Statement of Marks'!BL116","v":0},{"$f":"'Statement of Marks'!BL119","v":0},{"$f":"'Statement of Marks'!BL120","v":0},{"$f":"'Statement of Marks'!BL118","v":0},""]
[{"$f":"'Statement of Marks'!BO107","v":""},{"$f":"'Statement of Marks'!BO108","v":""},{"$f":"'Statement of Marks'!BO109","v":0},{"$f":"'Statement of Marks'!BO115","v":0},{"$f":"'Statement of Marks'!BO117","v":{"v":0,"d":"0%"}},{"$f":"'Statement of Marks'!BO110","v":0},{"$f":"'Statement of Marks'!BO111","v":0},{"$f":"'Statement of Marks'!BO112","v":0},{"$f":"'Statement of Marks'!BO113","v":0},{"$f":"'Statement of Marks'!BO114","v":0},{"$f":"'Statement of Marks'!BO116","v":0},{"$f":"'Statement of Marks'!BO119","v":0},{"$f":"'Statement of Marks'!BO120","v":0},{"$f":"'Statement of Marks'!BO118","v":0},""]
[{"$f":"'Statement of Marks'!CA107","v":"GEOGRAPHY"},{"$f":"'Statement of Marks'!CA108","v":"Kalyan Singh"},{"$f":"'Statement of Marks'!CA109","v":11},{"$f":"'Statement of Marks'!CA115","v":11},{"$f":"'Statement of Marks'!CA117","v":{"v":1,"d":"100%"}},{"$f":"'Statement of Marks'!CA110","v":7},{"$f":"'Statement of Marks'!CA111","v":4},{"$f":"'Statement of Marks'!CA112","v":0},{"$f":"'Statement of Marks'!CA113","v":0},{"$f":"'Statement of Marks'!CA114","v":0},{"$f":"'Statement of Marks'!CA116","v":0},{"$f":"'Statement of Marks'!CA119","v":0},{"$f":"'Statement of Marks'!CA120","v":0},{"$f":"'Statement of Marks'!CA118","v":0},11]
[{"$f":"'Statement of Marks'!CD107","v":"HINDI LITERATURE"},{"$f":"'Statement of Marks'!CD108","v":"Rajiv"},{"$f":"'Statement of Marks'!CD109","v":4},{"$f":"'Statement of Marks'!CD115","v":4},{"$f":"'Statement of Marks'!CD117","v":{"v":1,"d":"100%"}},{"$f":"'Statement of Marks'!CD110","v":3},{"$f":"'Statement of Marks'!CD111","v":0},{"$f":"'Statement of Marks'!CD112","v":1},{"$f":"'Statement of Marks'!CD113","v":0},{"$f":"'Statement of Marks'!CD114","v":0},{"$f":"'Statement of Marks'!CD116","v":0},{"$f":"'Statement of Marks'!CD119","v":0},{"$f":"'Statement of Marks'!CD120","v":0},{"$f":"'Statement of Marks'!CD118","v":0},4]
[{"$f":"'Statement of Marks'!CG107","v":""},{"$f":"'Statement of Marks'!CG108","v":""},{"$f":"'Statement of Marks'!CG109","v":0},{"$f":"'Statement of Marks'!CG115","v":0},{"$f":"'Statement of Marks'!CG117","v":{"v":0,"d":"0%"}},{"$f":"'Statement of Marks'!CG110","v":0},{"$f":"'Statement of Marks'!CG111","v":0},{"$f":"'Statement of Marks'!CG112","v":0},{"$f":"'Statement of Marks'!CG113","v":0},{"$f":"'Statement of Marks'!CG114","v":0},{"$f":"'Statement of Marks'!CG116","v":0},{"$f":"'Statement of Marks'!CG119","v":0},{"$f":"'Statement of Marks'!CG120","v":0},{"$f":"'Statement of Marks'!CG118","v":0},""]
[{"$f":"'Statement of Marks'!CS107","v":"MATHEMATICS"},{"$f":"'Statement of Marks'!CS108","v":"Manhendra patel"},{"$f":"'Statement of Marks'!CS109","v":2},{"$f":"'Statement of Marks'!CS115","v":2},{"$f":"'Statement of Marks'!CS117","v":{"v":1,"d":"100%"}},{"$f":"'Statement of Marks'!CS110","v":2},{"$f":"'Statement of Marks'!CS111","v":0},{"$f":"'Statement of Marks'!CS112","v":0},{"$f":"'Statement of Marks'!CS113","v":0},{"$f":"'Statement of Marks'!CS114","v":0},{"$f":"'Statement of Marks'!CS116","v":0},{"$f":"'Statement of Marks'!CS119","v":0},{"$f":"'Statement of Marks'!CS120","v":0},{"$f":"'Statement of Marks'!CS118","v":0},2]
[{"$f":"'Statement of Marks'!CV107","v":"BEAUTY AND HEALTH"},{"$f":"'Statement of Marks'!CV108","v":"mangi lal rangi"},{"$f":"'Statement of Marks'!CV115","v":2},{"$f":"'Statement of Marks'!CV115","v":2},{"$f":"'Statement of Marks'!CV117","v":{"v":1,"d":"100%"}},{"$f":"'Statement of Marks'!CV110","v":1},{"$f":"'Statement of Marks'!CV111","v":1},{"$f":"'Statement of Marks'!CV112","v":0},{"$f":"'Statement of Marks'!CV113","v":0},{"$f":"'Statement of Marks'!CV114","v":0},{"$f":"'Statement of Marks'!CV116","v":0},{"$f":"'Statement of Marks'!CV119","v":0},{"$f":"'Statement of Marks'!CV120","v":0},{"$f":"'Statement of Marks'!CV118","v":0},2]
[{"$f":"'Statement of Marks'!CY107","v":"ELECTRICALS AND ELECTRONICS"},{"$f":"'Statement of Marks'!CY108","v":"Bhalaram "},{"$f":"'Statement of Marks'!CY109","v":2},{"$f":"'Statement of Marks'!CY115","v":2},{"$f":"'Statement of Marks'!CY117","v":{"v":1,"d":"100%"}},{"$f":"'Statement of Marks'!CY110","v":1},{"$f":"'Statement of Marks'!CY111","v":1},{"$f":"'Statement of Marks'!CY112","v":0},{"$f":"'Statement of Marks'!CY113","v":0},{"$f":"'Statement of Marks'!CY114","v":0},{"$f":"'Statement of Marks'!CY116","v":0},{"$f":"'Statement of Marks'!CY119","v":0},{"$f":"'Statement of Marks'!CY120","v":0},{"$f":"'Statement of Marks'!CY118","v":0},2]
[]
[]
["CATEGORY-WISE RESULT WILL SHOW CORRECT RESULTS ONLY AFTER THE DECLARATION OF THE SUPPLEMENTARY EXAM. RESULTS"]
[]
[]
[{"$f":"CONCATENATE(\"School Name :-\",\"  \",'Master sheet'!C8)","v":"School Name :-  Governt Senior Secondary School INDERWARA"}]
[]
["RESULT CATEGORY-WISE",{"$nulls":5},"Class",null,{"$f":"'Marks Entry'!G2","v":"11'A'"},null,"Session",null,null,{"$f":"'Marks Entry'!F2","v":"2019-20"}]
["Details",null,"SC BOYS","SC GIRLS","ST BOYS","ST GIRLS","OBC BOYS","OBC GIRLS","GEN BOYS","GEN GIRLS","MIN BOYS","MIN GIRLS","SBC BOYS","SBC GIRLS","TOTAL"]
["First Division",null,{"$f":"'Result Aggregate'!BK107","v":2},{"$f":"'Result Aggregate'!BL107","v":2},{"$f":"'Result Aggregate'!BM107","v":0},{"$f":"'Result Aggregate'!BN107","v":0},{"$f":"'Result Aggregate'!BO107","v":0},{"$f":"'Result Aggregate'!BP107","v":2},{"$f":"'Result Aggregate'!BQ107","v":3},{"$f":"'Result Aggregate'!BR107","v":0},{"$f":"'Result Aggregate'!BS107","v":0},{"$f":"'Result Aggregate'!BT107","v":0},{"$f":"'Result Aggregate'!BU107","v":1},{"$f":"'Result Aggregate'!BV107","v":0},{"$f":"'Result Aggregate'!BW107","v":10}]
["Second Division",null,{"$f":"'Result Aggregate'!BK108","v":1},{"$f":"'Result Aggregate'!BL108","v":0},{"$f":"'Result Aggregate'!BM108","v":0},{"$f":"'Result Aggregate'!BN108","v":0},{"$f":"'Result Aggregate'!BO108","v":0},{"$f":"'Result Aggregate'!BP108","v":0},{"$f":"'Result Aggregate'!BQ108","v":0},{"$f":"'Result Aggregate'!BR108","v":2},{"$f":"'Result Aggregate'!BS108","v":0},{"$f":"'Result Aggregate'!BT108","v":0},{"$f":"'Result Aggregate'!BU108","v":0},{"$f":"'Result Aggregate'!BV108","v":1},{"$f":"'Result Aggregate'!BW108","v":4}]
["Third Division",null,{"$f":"'Result Aggregate'!BK109","v":0},{"$f":"'Result Aggregate'!BL109","v":0},{"$f":"'Result Aggregate'!BM109","v":0},{"$f":"'Result Aggregate'!BN109","v":0},{"$f":"'Result Aggregate'!BO109","v":0},{"$f":"'Result Aggregate'!BP109","v":0},{"$f":"'Result Aggregate'!BQ109","v":0},{"$f":"'Result Aggregate'!BR109","v":1},{"$f":"'Result Aggregate'!BS109","v":0},{"$f":"'Result Aggregate'!BT109","v":0},{"$f":"'Result Aggregate'!BU109","v":0},{"$f":"'Result Aggregate'!BV109","v":0},{"$f":"'Result Aggregate'!BW109","v":1}]
["Promoted",null,{"$f":"'Result Aggregate'!BK110","v":0},{"$f":"'Result Aggregate'!BL110","v":0},{"$f":"'Result Aggregate'!BM110","v":0},{"$f":"'Result Aggregate'!BN110","v":0},{"$f":"'Result Aggregate'!BO110","v":0},{"$f":"'Result Aggregate'!BP110","v":0},{"$f":"'Result Aggregate'!BQ110","v":0},{"$f":"'Result Aggregate'!BR110","v":0},{"$f":"'Result Aggregate'!BS110","v":0},{"$f":"'Result Aggregate'!BT110","v":0},{"$f":"'Result Aggregate'!BU110","v":0},{"$f":"'Result Aggregate'!BV110","v":0},{"$f":"'Result Aggregate'!BW110","v":0}]
["Total Passed",null,{"$f":"'Result Aggregate'!BK111","v":3},{"$f":"'Result Aggregate'!BL111","v":2},{"$f":"'Result Aggregate'!BM111","v":0},{"$f":"'Result Aggregate'!BN111","v":0},{"$f":"'Result Aggregate'!BO111","v":0},{"$f":"'Result Aggregate'!BP111","v":2},{"$f":"'Result Aggregate'!BQ111","v":3},{"$f":"'Result Aggregate'!BR111","v":3},{"$f":"'Result Aggregate'!BS111","v":0},{"$f":"'Result Aggregate'!BT111","v":0},{"$f":"'Result Aggregate'!BU111","v":1},{"$f":"'Result Aggregate'!BV111","v":1},{"$f":"'Result Aggregate'!BW111","v":15}]
["Re-Exam",null,{"$f":"'Result Aggregate'!BK112","v":0},{"$f":"'Result Aggregate'!BL112","v":0},{"$f":"'Result Aggregate'!BM112","v":0},{"$f":"'Result Aggregate'!BN112","v":0},{"$f":"'Result Aggregate'!BO112","v":0},{"$f":"'Result Aggregate'!BP112","v":0},{"$f":"'Result Aggregate'!BQ112","v":0},{"$f":"'Result Aggregate'!BR112","v":0},{"$f":"'Result Aggregate'!BS112","v":0},{"$f":"'Result Aggregate'!BT112","v":0},{"$f":"'Result Aggregate'!BU112","v":0},{"$f":"'Result Aggregate'!BV112","v":0},{"$f":"'Result Aggregate'!BW112","v":0}]
["No. of students failed",null,{"$f":"'Result Aggregate'!BK113","v":0},{"$f":"'Result Aggregate'!BL113","v":0},{"$f":"'Result Aggregate'!BM113","v":0},{"$f":"'Result Aggregate'!BN113","v":0},{"$f":"'Result Aggregate'!BO113","v":0},{"$f":"'Result Aggregate'!BP113","v":0},{"$f":"'Result Aggregate'!BQ113","v":0},{"$f":"'Result Aggregate'!BR113","v":0},{"$f":"'Result Aggregate'!BS113","v":0},{"$f":"'Result Aggregate'!BT113","v":0},{"$f":"'Result Aggregate'!BU113","v":0},{"$f":"'Result Aggregate'!BV113","v":0},{"$f":"'Result Aggregate'!BW113","v":0}]
["No. of students appeared",null,{"$f":"'Result Aggregate'!BK114","v":3},{"$f":"'Result Aggregate'!BL114","v":2},{"$f":"'Result Aggregate'!BM114","v":0},{"$f":"'Result Aggregate'!BN114","v":0},{"$f":"'Result Aggregate'!BO114","v":0},{"$f":"'Result Aggregate'!BP114","v":2},{"$f":"'Result Aggregate'!BQ114","v":3},{"$f":"'Result Aggregate'!BR114","v":3},{"$f":"'Result Aggregate'!BS114","v":0},{"$f":"'Result Aggregate'!BT114","v":0},{"$f":"'Result Aggregate'!BU114","v":1},{"$f":"'Result Aggregate'!BV114","v":1},{"$f":"'Result Aggregate'!BW114","v":15}]
["Pass percentage",null,{"$f":"'Result Aggregate'!BK115","v":100},{"$f":"'Result Aggregate'!BL115","v":100},{"$f":"'Result Aggregate'!BM115","v":""},{"$f":"'Result Aggregate'!BN115","v":""},{"$f":"'Result Aggregate'!BO115","v":""},{"$f":"'Result Aggregate'!BP115","v":100},{"$f":"'Result Aggregate'!BQ115","v":100},{"$f":"'Result Aggregate'!BR115","v":100},{"$f":"'Result Aggregate'!BS115","v":""},{"$f":"'Result Aggregate'!BT115","v":""},{"$f":"'Result Aggregate'!BU115","v":100},{"$f":"'Result Aggregate'!BV115","v":100},{"$f":"'Result Aggregate'!BW115","v":100}]
["No. of NSO",null,{"$f":"'Result Aggregate'!BK116","v":0},{"$f":"'Result Aggregate'!BL116","v":0},{"$f":"'Result Aggregate'!BM116","v":0},{"$f":"'Result Aggregate'!BN116","v":0},{"$f":"'Result Aggregate'!BO116","v":0},{"$f":"'Result Aggregate'!BP116","v":0},{"$f":"'Result Aggregate'!BQ116","v":0},{"$f":"'Result Aggregate'!BR116","v":0},{"$f":"'Result Aggregate'!BS116","v":0},{"$f":"'Result Aggregate'!BT116","v":0},{"$f":"'Result Aggregate'!BU116","v":0},{"$f":"'Result Aggregate'!BV116","v":0},{"$f":"'Result Aggregate'!BW116","v":0}]

{"sheet":"Result Aggregate","index":7,"n_rows":123,"n_cols":75,"rows_kept":123,"merged":[[0,0,0,9],[0,10,0,15],[0,61,1,74],[1,1,1,2],[1,3,2,3],[1,4,2,4],[1,5,2,5],[1,6,2,6],[1,7,1,8],[1,10,2,10],[1,11,2,11],[1,12,2,12],[1,13,2,13],[1,14,2,14],[1,15,2,15],[103,0,103,15],[103,61,103,74],[104,3,104,4],[104,7,104,8],[104,9,105,11],[104,12,109,15],[104,62,104,74],[105,3,105,4],[105,7,105,8],[106,3,106,4],[106,7,106,8],[106,9,107,11],[107,3,107,4],[107,7,107,8],[108,3,108,4],[108,7,108,8],[108,9,109,11],[109,3,109,4],[109,7,109,8],[110,3,110,4],[110,7,110,8],[110,9,111,11],[110,12,111,15],[111,3,111,4],[111,7,111,8]]}
[{"$f":"CONCATENATE(\"School Name :-\",\"  \",'Master sheet'!C8)","v":"School Name :-  Governt Senior Secondary School INDERWARA"},{"$nulls":9},"Aggregate result of the class",{"$nulls":50},"tkfrokj ifj.kke"]
["Class",{"$f":"'Teacher & Cat. Wise Result'!F2","v":"11'A'"},null,"D.O.B.","Name of Students","Father Name","Mother Name","Session",null,{"$f":"'Marks Entry'!F2","v":"2019-20"},"marks obtained","Percentage","Division","Position in the Class",{"$f":"'Statement of Marks'!FB3","v":"By Grace Subject"},{"$f":"'Statement of Marks'!FI3","v":"Specifications"}]
["Sr. No.","Roll No.","S.R. No.",{"$nulls":4},"Cat.","Gender","Result",{"$nulls":51},{"$f":"'[1]statement of marks'!G4","v":"Nk= @ Nk=k dk uke"},"SC BOYS","SC GIRLS","ST BOYS","ST GIRLS","OBC BOYS","OBC GIRLS","GEN BOYS","GEN GIRLS","MIN BOYS","MIN GIRLS","SBC BOYS","SBC GIRLS","TOTAL"]
[{"$f":"'Statement of Marks'!A6","v":1},{"$f":"IF('Statement of Marks'!B6=\"\",\"\",'Statement of Marks'!B6)","v":1101},{"$f":"IF('Statement of Marks'!C6=\"\",\"\",'Statement of Marks'!C6)","v":1},{"$f":"IF('Statement of Marks'!D6=\"\",\"\",'Statement of Marks'!D6)","v":"10-04-2003"},{"$f":"IF('Statement of Marks'!E6=\"\",\"\",'Statement of Marks'!E6)","v":"AARTI"},{"$f":"IF('Statement of Marks'!F6=\"\",\"\",'Statement of Marks'!F6)","v":"MANGI LAL"},{"$f":"IF('Statement of Marks'!G6=\"\",\"\",'Statement of Marks'!G6)","v":"BHAGAVATI DEVI"},{"$f":"IF('Statement of Marks'!H6=\"\",\"\",'Statement of Marks'!H6)","v":"SC"},{"$f":"IF('Statement of Marks'!I6=\"\",\"\",'Statement of Marks'!I6)","v":"F"},{"$f":"IF('Statement of Marks'!FD6=\"\",\"\",'Statement of Marks'!FD6)","v":"Promoted to Class 12th"},{"$f":"IF('Statement of Marks'!FE6=\"\",\"\",'Statement of Marks'!FE6)","v":420},{"$f":"IF('Statement of Marks'!FF6=\"\",\"\",'Statement of Marks'!FF6)","v":{"v":84,"d":"84.00"}},{"$f":"IF('Statement of Marks'!FG6=\"\",\"\",'Statement of Marks'!FG6)","v":"I"},{"$f":"IF('Statement of Marks'!FH6=\"\",\"\",'Statement of Marks'!FH6)","v":{"v":1.9999999999999964,"d":"2"}},{"$f":"IF('Statement of Marks'!FB6=\"\",\"\",'Statement of Marks'!FB6)","v":"      "},{"$f":"IF('Statement of Marks'!FI6=\"\",\"\",'Statement of Marks'!FI6)","v":""},{"$nulls":45},{"$f":"'Statement of Marks'!E6","v":"AARTI"},{"$f":"IF(AND(H4=\"SC\",I4=\"M\"),M4,\"\")","v":""},{"$f":"IF(AND(H4=\"SC\",I4=\"F\"),M4,\"\")","v":"I"},{"$f":"IF(AND(H4=\"ST\",I4=\"M\"),M4,\"\")","v":""},{"$f":"IF(AND(H4=\"ST\",I4=\"F\"),M4,\"\")","v":""},{"$f":"IF(AND(H4=\"OBC\",I4=\"M\"),M4,\"\")","v":""},{"$f":"IF(AND(H4=\"OBC\",I4=\"F\"),M4,\"\")","v":""},{"$f":"IF(AND(H4=\"GEN\",I4=\"M\"),M4,\"\")","v":""},{"$f":"IF(AND(H4=\"GEN\",I4=\"F\"),M4,\"\")","v":""},{"$f":"IF(AND(H4=\"MIN\",I4=\"M\"),M4,\"\")","v":""},{"$f":"IF(AND(H4=\"MIN\",I4=\"F\"),M4,\"\")","v":""},{"$f":"IF(AND(H4=\"SBC\",I4=\"M\"),M4,\"\")","v":""},{"$f":"IF(AND(H4=\"SBC\",I4=\"F\"),M4,\"\")","v":""}]
[{"$f":"'Statement of Marks'!A7","v":2},{"$f":"IF('Statement of Marks'!B7=\"\",\"\",'Statement of Marks'!B7)","v":1102},{"$f":"IF('Statement of Marks'!C7=\"\",\"\",'Statement of Marks'!C7)","v":107},{"$f":"IF('Statement of Marks'!D7=\"\",\"\",'Statement of Marks'!D7)","v":"11-03-2005"},{"$f":"IF('Statement of Marks'!E7=\"\",\"\",'Statement of Marks'!E7)","v":"ANJU CHOUDHARY"},{"$f":"IF('Statement of Marks'!F7=\"\",\"\",'Statement of Marks'!F7)","v":"FUA RAM"},{"$f":"IF('Statement of Marks'!G7=\"\",\"\",'Statement of Marks'!G7)","v":"CHAMPA DEVI"},{"$f":"IF('Statement of Marks'!H7=\"\",\"\",'Statement of Marks'!H7)","v":"OBC"},{"$f":"IF('Statement of Marks'!I7=\"\",\"\",'Statement of Marks'!I7)","v":"F"},{"$f":"IF('Statement of Marks'!FD7=\"\",\"\",'Statement of Marks'!FD7)","v":"Promoted to Class 12th"},{"$f":"IF('Statement of Marks'!FE7=\"\",\"\",'Statement of Marks'!FE7)","v":421},{"$f":"IF('Statement of Marks'!FF7=\"\",\"\",'Statement of Marks'!FF7)","v":{"v":84.2,"d":"84.20"}},{"$f":"IF('Statement of Marks'!FG7=\"\",\"\",'Statement of Marks'!FG7)","v":"I"},{"$f":"IF('Statement of Marks'!FH7=\"\",\"\",'Statement of Marks'!FH7)","v":{"v":0.9999999999999987,"d":"1"}},{"$f":"IF('Statement of Marks'!FB7=\"\",\"\",'Statement of Marks'!FB7)","v":"      "},{"$f":"IF('Statement of Marks'!FI7=\"\",\"\",'Statement of Marks'!FI7)","v":""},{"$nulls":45},{"$f":"'Statement of Marks'!E7","v":"ANJU CHOUDHARY"},{"$f":"IF(AND(H5=\"SC\",I5=\"M\"),M5,\"\")","v":""},{"$f":"IF(AND(H5=\"SC\",I5=\"F\"),M5,\"\")","v":""},{"$f":"IF(AND(H5=\"ST\",I5=\"M\"),M5,\"\")","v":""},{"$f":"IF(AND(H5=\"ST\",I5=\"F\"),M5,\"\")","v":""},{"$f":"IF(AND(H5=\"OBC\",I5=\"M\"),M5,\"\")","v":""},{"$f":"IF(AND(H5=\"OBC\",I5=\"F\"),M5,\"\")","v":"I"},{"$f":"IF(AND(H5=\"GEN\",I5=\"M\"),M5,\"\")","v":""},{"$f":"IF(AND(H5=\"GEN\",I5=\"F\"),M5,\"\")","v":""},{"$f":"IF(AND(H5=\"MIN\",I5=\"M\"),M5,\"\")","v":""},{"$f":"IF(AND(H5=\"MIN\",I5=\"F\"),M5,\"\")","v":""},{"$f":"IF(AND(H5=\"SBC\",I5=\"M\"),M5,\"\")","v":""},{"$f":"IF(AND(H5=\"SBC\",I5=\"F\"),M5,\"\")","v":""}]
[{"$f":"'Statement of Marks'!A8","v":3},{"$f":"IF('Statement of Marks'!B8=\"\",\"\",'Statement of Marks'!B8)","v":1103},{"$f":"IF('Statement of Marks'!C8=\"\",\"\",'Statement of Marks'!C8)","v":457},{"$f":"IF('Statement of Marks'!D8=\"\",\"\",'Statement of Marks'!D8)","v":"05-08-2004"},{"$f":"IF('Statement of Marks'!E8=\"\",\"\",'Statement of Marks'!E8)","v":"ARUN DEWASI"},{"$f":"IF('Statement of Marks'!F8=\"\",\"\",'Statement of Marks'!F8)","v":"SUJA RAM"},{"$f":"IF('Statement of Marks'!G8=\"\",\"\",'Statement of Marks'!G8)","v":"KANIYA DEVI"},{"$f":"IF('Statement of Marks'!H8=\"\",\"\",'Statement of Marks'!H8)","v":"SBC"},{"$f":"IF('Statement of Marks'!I8=\"\",\"\",'Statement of Marks'!I8)","v":"M"},{"$f":"IF('Statement of Marks'!FD8=\"\",\"\",'Statement of Marks'!FD8)","v":"Promoted to Class 12th"},{"$f":"IF('Statement of Marks'!FE8=\"\",\"\",'Statement of Marks'!FE8)","v":406},{"$f":"IF('Statement of Marks'!FF8=\"\",\"\",'Statement of Marks'!FF8)","v":{"v":81.2,"d":"81.20"}},{"$f":"IF('Statement of Marks'!FG8=\"\",\"\",'Statement of Marks'!FG8)","v":"I"},{"$f":"IF('Statement of Marks'!FH8=\"\",\"\",'Statement of Marks'!FH8)","v":{"v":3.9999999999999964,"d":"4"}},{"$f":"IF('Statement of Marks'!FB8=\"\",\"\",'Statement of Marks'!FB8)","v":"      "},{"$f":"IF('Statement of Marks'!FI8=\"\",\"\",'Statement of Marks'!FI8)","v":""},{"$nulls":45},{"$f":"'Statement of Marks'!E8","v":"ARUN DEWASI"},"","","","","","","","","","","I",""]
[{"$f":"'Statement of Marks'!A9","v":4},{"$f":"IF('Statement of Marks'!B9=\"\",\"\",'Statement of Marks'!B9)","v":1104},{"$f":"IF('Statement of Marks'!C9=\"\",\"\",'Statement of Marks'!C9)","v":234},{"$f":"IF('Statement of Marks'!D9=\"\",\"\",'Statement of Marks'!D9)","v":"08-05-2004"},{"$f":"IF('Statement of Marks'!E9=\"\",\"\",'Statement of Marks'!E9)","v":"BHAVANI SINGH"},{"$f":"IF('Statement of Marks'!F9=\"\",\"\",'Statement of Marks'!F9)","v":"HADMAT SINGH"},{"$f":"IF('Statement of Marks'!G9=\"\",\"\",'Statement of Marks'!G9)","v":"KISHOR KANWAR"},{"$f":"IF('Statement of Marks'!H9=\"\",\"\",'Statement of Marks'!H9)","v":"GEN"},{"$f":"IF('Statement of Marks'!I9=\"\",\"\",'Statement of Marks'!I9)","v":"M"},{"$f":"IF('Statement of Marks'!FD9=\"\",\"\",'Statement of Marks'!FD9)","v":"Promoted to Class 12th"},{"$f":"IF('Statement of Marks'!FE9=\"\",\"\",'Statement of Marks'!FE9)","v":331},{"$f":"IF('Statement of Marks'!FF9=\"\",\"\",'Statement of Marks'!FF9)","v":{"v":66.2,"d":"66.20"}},{"$f":"IF('Statement of Marks'!FG9=\"\",\"\",'Statement of Marks'!FG9)","v":"I"},{"$f":"IF('Statement of Marks'!FH9=\"\",\"\",'Statement of Marks'!FH9)","v":{"v":5.9999999999999964,"d":"6"}},{"$f":"IF('Statement of Marks'!FB9=\"\",\"\",'Statement of Marks'!FB9)","v":"      "},{"$f":"IF('Statement of Marks'!FI9=\"\",\"\",'Statement of Marks'!FI9)","v":""},{"$nulls":45},{"$f":"'Statement of Marks'!E9","v":"BHAVANI SINGH"},"","","","","","","I","","","","",""]
[{"$f":"'Statement of Marks'!A10","v":5},{"$f":"IF('Statement of Marks'!B10=\"\",\"\",'Statement of Marks'!B10)","v":1105},{"$f":"IF('Statement of Marks'!C10=\"\",\"\",'Statement of Marks'!C10)","v":356},{"$f":"IF('Statement of Marks'!D10=\"\",\"\",'Statement of Marks'!D10)","v":"25-03-2003"},{"$f":"IF('Statement of Marks'!E10=\"\",\"\",'Statement of Marks'!E10)","v":"BHAWANA KANWAR"},{"$f":"IF('Statement of Marks'!F10=\"\",\"\",'Statement of Marks'!F10)","v":"DALPAT SINGH"},{"$f":"IF('Statement of Marks'!G10=\"\",\"\",'Statement of Marks'!G10)","v":"SHYAM KANWAR"},{"$f":"IF('Statement of Marks'!H10=\"\",\"\",'Statement of Marks'!H10)","v":"GEN"},{"$f":"IF('Statement of Marks'!I10=\"\",\"\",'Statement of Marks'!I10)","v":"F"},{"$f":"IF('Statement of Marks'!FD10=\"\",\"\",'Statement of Marks'!FD10)","v":"Promoted to Class 12th"},{"$f":"IF('Statement of Marks'!FE10=\"\",\"\",'Statement of Marks'!FE10)","v":281},{"$f":"IF('Statement of Marks'!FF10=\"\",\"\",'Statement of Marks'!FF10)","v":{"v":58.541666666666664,"d":"58.54"}},{"$f":"IF('Statement of Marks'!FG10=\"\",\"\",'Statement of Marks'!FG10)","v":"II"},{"$f":"IF('Statement of Marks'!FH10=\"\",\"\",'Statement of Marks'!FH10)","v":{"v":9.999999999999996,"d":"10"}},{"$f":"IF('Statement of Marks'!FB10=\"\",\"\",'Statement of Marks'!FB10)","v":"      "},{"$f":"IF('Statement of Marks'!FI10=\"\",\"\",'Statement of Marks'!FI10)","v":""},{"$nulls":45},{"$f":"'Statement of Marks'!E10","v":"BHAWANA KANWAR"},"","","","","","","","II","","","",""]
[{"$f":"'Statement of Marks'!A11","v":6},{"$f":"IF('Statement of Marks'!B11=\"\",\"\",'Statement of Marks'!B11)","v":1106},{"$f":"IF('Statement of Marks'!C11=\"\",\"\",'Statement of Marks'!C11)","v":434},{"$f":"IF('Statement of Marks'!D11=\"\",\"\",'Statement of Marks'!D11)","v":"24-10-2003"},{"$f":"IF('Statement of Marks'!E11=\"\",\"\",'Statement of Marks'!E11)","v":"DEEPENDRA SINGH"},{"$f":"IF('Statement of Marks'!F11=\"\",\"\",'Statement of Marks'!F11)","v":"RAVAT VSINGH"},{"$f":"IF('Statement of Marks'!G11=\"\",\"\",'Statement of Marks'!G11)","v":"KAILASH KANWAR"},{"$f":"IF('Statement of Marks'!H11=\"\",\"\",'Statement of Marks'!H11)","v":"GEN"},{"$f":"IF('Statement of Marks'!I11=\"\",\"\",'Statement of Marks'!I11)","v":"M"},{"$f":"IF('Statement of Marks'!FD11=\"\",\"\",'Statement of Marks'!FD11)","v":"Promoted to Class 12th"},{"$f":"IF('Statement of Marks'!FE11=\"\",\"\",'Statement of Marks'!FE11)","v":415},{"$f":"IF('Statement of Marks'!FF11=\"\",\"\",'Statement of Marks'!FF11)","v":{"v":83,"d":"83.00"}},{"$f":"IF('Statement of Marks'!FG11=\"\",\"\",'Statement of Marks'!FG11)","v":"I"},{"$f":"IF('Statement of Marks'!FH11=\"\",\"\",'Statement of Marks'!FH11)","v":{"v":2.9999999999999964,"d":"3"}},{"$f":"IF('Statement of Marks'!FB11=\"\",\"\",'Statement of Marks'!FB11)","v":"      "},{"$f":"IF('Statement of Marks'!FI11=\"\",\"\",'Statement of Marks'!FI11)","v":""},{"$nulls":45},{"$f":"'Statement of Marks'!E11","v":"DEEPENDRA SINGH"},"","","","","","","I","","","","",""]
[{"$f":"'Statement of Marks'!A12","v":7},{"$f":"IF('Statement of Marks'!B12=\"\",\"\",'Statement of Marks'!B12)","v":1107},{"$f":"IF('Statement of Marks'!C12=\"\",\"\",'Statement of Marks'!C12)","v":439},{"$f":"IF('Statement of Marks'!D12=\"\",\"\",'Statement of Marks'!D12)","v":"27-10-2003"},{"$f":"IF('Statement of Marks'!E12=\"\",\"\",'Statement of Marks'!E12)","v":"LOHAR KAJAL"},{"$f":"IF('Statement of Marks'!F12=\"\",\"\",'Statement of Marks'!F12)","v":"MITHA LAL"},{"$f":"IF('Statement of Marks'!G12=\"\",\"\",'Statement of Marks'!G12)","v":"SAVITA"},{"$f":"IF('Statement of Marks'!H12=\"\",\"\",'Statement of Marks'!H12)","v":"OBC"},{"$f":"IF('Statement of Marks'!I12=\"\",\"\",'Statement of Marks'!I12)","v":"F"},{"$f":"IF('Statement of Marks'!FD12=\"\",\"\",'Statement of Marks'!FD12)","v":"Promoted to Class 12th"},{"$f":"IF('Statement of Marks'!FE12=\"\",\"\",'Statement of Marks'!FE12)","v":337},{"$f":"IF('Statement of Marks'!FF12=\"\",\"\",'Statement of Marks'!FF12)","v":{"v":68.77551020408163,"d":"68.78"}},{"$f":"IF('Statement of Marks'!FG12=\"\",\"\",'Statement of Marks'!FG12)","v":"I"},{"$f":"IF('Statement of Marks'!FH12=\"\",\"\",'Statement of Marks'!FH12)","v":{"v":4.9999999999999964,"d":"5"}},{"$f":"IF('Statement of Marks'!FB12=\"\",\"\",'Statement of Marks'!FB12)","v":"      "},{"$f":"IF('Statement of Marks'!FI12=\"\",\"\",'Statement of Marks'!FI12)","v":""},{"$nulls":45},{"$f":"'Statement of Marks'!E12","v":"LOHAR KAJAL"},"","","","","","I","","","","","",""]
[{"$f":"'Statement of Marks'!A13","v":8},{"$f":"IF('Statement of Marks'!B13=\"\",\"\",'Statement of Marks'!B13)","v":1108},{"$f":"IF('Statement of Marks'!C13=\"\",\"\",'Statement of Marks'!C13)","v":438},{"$f":"IF('Statement of Marks'!D13=\"\",\"\",'Statement of Marks'!D13)","v":"03-09-2003"},{"$f":"IF('Statement of Marks'!E13=\"\",\"\",'Statement of Marks'!E13)","v":"MEENA KANWAR"},{"$f":"IF('Statement of Marks'!F13=\"\",\"\",'Statement of Marks'!F13)","v":"CHHATAR SINGH"},{"$f":"IF('Statement of Marks'!G13=\"\",\"\",'Statement of Marks'!G13)","v":"JANGAL KANWAR"},{"$f":"IF('Statement of Marks'!H13=\"\",\"\",'Statement of Marks'!H13)","v":"GEN"},{"$f":"IF('Statement of Marks'!I13=\"\",\"\",'Statement of Marks'!I13)","v":"F"},{"$f":"IF('Statement of Marks'!FD13=\"\",\"\",'Statement of Marks'!FD13)","v":"Promoted to Class 12th"},{"$f":"IF('Statement of Marks'!FE13=\"\",\"\",'Statement of Marks'!FE13)","v":203},{"$f":"IF('Statement of Marks'!FF13=\"\",\"\",'Statement of Marks'!FF13)","v":{"v":40.6,"d":"40.60"}},{"$f":"IF('Statement of Marks'!FG13=\"\",\"\",'Statement of Marks'!FG13)","v":"III"},{"$f":"IF('Statement of Marks'!FH13=\"\",\"\",'Statement of Marks'!FH13)","v":{"v":13.999999999999996,"d":"14"}},{"$f":"IF('Statement of Marks'!FB13=\"\",\"\",'Statement of Marks'!FB13)","v":"      "},{"$f":"IF('Statement of Marks'!FI13=\"\",\"\",'Statement of Marks'!FI13)","v":""},{"$nulls":45},{"$f":"'Statement of Marks'!E13","v":"MEENA KANWAR"},"","","","","","","","III","","","",""]
[{"$f":"'Statement of Marks'!A14","v":9},{"$f":"IF('Statement of Marks'!B14=\"\",\"\",'Statement of Marks'!B14)","v":1109},{"$f":"IF('Statement of Marks'!C14=\"\",\"\",'Statement of Marks'!C14)","v":429},{"$f":"IF('Statement of Marks'!D14=\"\",\"\",'Statement of Marks'!D14)","v":"04-09-2003"},{"$f":"IF('Statement of Marks'!E14=\"\",\"\",'Statement of Marks'!E14)","v":"NARESH KUMAR"},{"$f":"IF('Statement of Marks'!F14=\"\",\"\",'Statement of Marks'!F14)","v":"DHALA RAM "},{"$f":"IF('Statement of Marks'!G14=\"\",\"\",'Statement of Marks'!G14)","v":"SARSVATI "},{"$f":"IF('Statement of Marks'!H14=\"\",\"\",'Statement of Marks'!H14)","v":"SC"},{"$f":"IF('Statement of Marks'!I14=\"\",\"\",'Statement of Marks'!I14)","v":"M"},{"$f":"IF('Statement of Marks'!FD14=\"\",\"\",'Statement of Marks'!FD14)","v":"Promoted to Class 12th"},{"$f":"IF('Statement of Marks'!FE14=\"\",\"\",'Statement of Marks'!FE14)","v":275},{"$f":"IF('Statement of Marks'!FF14=\"\",\"\",'Statement of Marks'!FF14)","v":{"v":55,"d":"55.00"}},{"$f":"IF('Statement of Marks'!FG14=\"\",\"\",'Statement of Marks'!FG14)","v":"II"},{"$f":"IF('Statement of Marks'!FH14=\"\",\"\",'Statement of Marks'!FH14)","v":{"v":10.999999999999996,"d":"11"}},{"$f":"IF('Statement of Marks'!FB14=\"\",\"\",'Statement of Marks'!FB14)","v":"      "},{"$f":"IF('Statement of Marks'!FI14=\"\",\"\",'Statement of Marks'!FI14)","v":""},{"$nulls":45},{"$f":"'Statement of Marks'!E14","v":"NARESH KUMAR"},"II","","","","","","","","","","",""]
[{"$f":"'Statement of Marks'!A15","v":10},{"$f":"IF('Statement of Marks'!B15=\"\",\"\",'Statement of Marks'!B15)","v":1110},{"$f":"IF('Statement of Marks'!C15=\"\",\"\",'Statement of Marks'!C15)","v":428},{"$f":"IF('Statement of Marks'!D15=\"\",\"\",'Statement of Marks'!D15)","v":"12-05-2003"},{"$f":"IF('Statement of Marks'!E15=\"\",\"\",'Statement of Marks'!E15)","v":"PANKAJ KUMAR"},{"$f":"IF('Statement of Marks'!F15=\"\",\"\",'Statement of Marks'!F15)","v":"KUKA RAM"},{"$f":"IF('Statement of Marks'!G15=\"\",\"\",'Statement of Marks'!G15)","v":"FULI DEVI"},{"$f":"IF('Statement of Marks'!H15=\"\",\"\",'Statement of Marks'!H15)","v":"SC"},{"$f":"IF('Statement of Marks'!I15=\"\",\"\",'Statement of Marks'!I15)","v":"M"},{"$f":"IF('Statement of Marks'!FD15=\"\",\"\",'Statement of Marks'!FD15)","v":"Promoted to Class 12th"},{"$f":"IF('Statement of Marks'!FE15=\"\",\"\",'Statement of Marks'!FE15)","v":324},{"$f":"IF('Statement of Marks'!FF15=\"\",\"\",'Statement of Marks'!FF15)","v":{"v":64.8,"d":"64.80"}},{"$f":"IF('Statement of Marks'!FG15=\"\",\"\",'Statement of Marks'!FG15)","v":"I"},{"$f":"IF('Statement of Marks'!FH15=\"\",\"\",'Statement of Marks'!FH15)","v":{"v":7.9999999999999964,"d":"8"}},{"$f":"IF('Statement of Marks'!FB15=\"\",\"\",'Statement of Marks'!FB15)","v":"      "},{"$f":"IF('Statement of Marks'!FI15=\"\",\"\",'Statement of Marks'!FI15)","v":""},{"$nulls":45},{"$f":"'Statement of Marks'!E15","v":"PANKAJ KUMAR"},"I","","","","","","","","","","",""]
[{"$f":"'Statement of Marks'!A16","v":11},{"$f":"IF('Statement of Marks'!B16=\"\",\"\",'Statement of Marks'!B16)","v":1111},{"$f":"IF('Statement of Marks'!C16=\"\",\"\",'Statement of Marks'!C16)","v":117},{"$f":"IF('Statement of Marks'!D16=\"\",\"\",'Statement of Marks'!D16)","v":"07-04-2004"},{"$f":"IF('Statement of Marks'!E16=\"\",\"\",'Statement of Marks'!E16)","v":"PAPIYA DEVI DEVASI"},{"$f":"IF('Statement of Marks'!F16=\"\",\"\",'Statement of Marks'!F16)","v":"FUA RAM"},{"$f":"IF('Statement of Marks'!G16=\"\",\"\",'Statement of Marks'!G16)","v":"DAGRI DEVI"},{"$f":"IF('Statement of Marks'!H16=\"\",\"\",'Statement of Marks'!H16)","v":"SBC"},{"$f":"IF('Statement of Marks'!I16=\"\",\"\",'Statement of Marks'!I16)","v":"F"},{"$f":"IF('Statement of Marks'!FD16=\"\",\"\",'Statement of Marks'!FD16)","v":"Promoted to Class 12th"},{"$f":"IF('Statement of Marks'!FE16=\"\",\"\",'Statement of Marks'!FE16)","v":249},{"$f":"IF('Statement of Marks'!FF16=\"\",\"\",'Statement of Marks'!FF16)","v":{"v":49.8,"d":"49.80"}},{"$f":"IF('Statement of Marks'!FG16=\"\",\"\",'Statement of Marks'!FG16)","v":"II"},{"$f":"IF('Statement of Marks'!FH16=\"\",\"\",'Statement of Marks'!FH16)","v":{"v":12.999999999999996,"d":"13"}},{"$f":"IF('Statement of Marks'!FB16=\"\",\"\",'Statement of Marks'!FB16)","v":"      "},{"$f":"IF('Statement of Marks'!FI16=\"\",\"\",'Statement of Marks'!FI16)","v":""},{"$nulls":45},{"$f":"'Statement of Marks'!E16","v":"PAPIYA DEVI DEVASI"},"","","","","","","","","","","","II"]
[{"$f":"'Statement of Marks'!A17","v":12},{"$f":"IF('Statement of Marks'!B17=\"\",\"\",'Statement of Marks'!B17)","v":1112},{"$f":"IF('Statement of Marks'!C17=\"\",\"\",'Statement of Marks'!C17)","v":463},{"$f":"IF('Statement of Marks'!D17=\"\",\"\",'Statement of Marks'!D17)","v":"05-04-2004"},{"$f":"IF('Statement of Marks'!E17=\"\",\"\",'Statement of Marks'!E17)","v":"PRAVIN KUMAR"},{"$f":"IF('Statement of Marks'!F17=\"\",\"\",'Statement of Marks'!F17)","v":"RUPA RAM"},{"$f":"IF('Statement of Marks'!G17=\"\",\"\",'Statement of Marks'!G17)","v":"PYARI DEVI"},{"$f":"IF('Statement of Marks'!H17=\"\",\"\",'Statement of Marks'!H17)","v":"SC"},{"$f":"IF('Statement of Marks'!I17=\"\",\"\",'Statement of Marks'!I17)","v":"M"},{"$f":"IF('Statement of Marks'!FD17=\"\",\"\",'Statement of Marks'!FD17)","v":"Promoted to Class 12th"},{"$f":"IF('Statement of Marks'!FE17=\"\",\"\",'Statement of Marks'!FE17)","v":329},{"$f":"IF('Statement of Marks'!FF17=\"\",\"\",'Statement of Marks'!FF17)","v":{"v":65.8,"d":"65.80"}},{"$f":"IF('Statement of Marks'!FG17=\"\",\"\",'Statement of Marks'!FG17)","v":"I"},{"$f":"IF('Statement of Marks'!FH17=\"\",\"\",'Statement of Marks'!FH17)","v":{"v":6.9999999999999964,"d":"7"}},{"$f":"IF('Statement of Marks'!FB17=\"\",\"\",'Statement of Marks'!FB17)","v":"      "},{"$f":"IF('Statement of Marks'!FI17=\"\",\"\",'Statement of Marks'!FI17)","v":""},{"$nulls":45},{"$f":"'Statement of Marks'!E17","v":"PRAVIN KUMAR"},"I","","","","","","","","","","",""]
[{"$f":"'Statement of Marks'!A18","v":13},{"$f":"IF('Statement of Marks'!B18=\"\",\"\",'Statement of Marks'!B18)","v":1113},{"$f":"IF('Statement of Marks'!C18=\"\",\"\",'Statement of Marks'!C18)","v":307},{"$f":"IF('Statement of Marks'!D18=\"\",\"\",'Statement of Marks'!D18)","v":"04-05-2002"},{"$f":"IF('Statement of Marks'!E18=\"\",\"\",'Statement of Marks'!E18)","v":"RINKU ANKIYA"},{"$f":"IF('Statement of Marks'!F18=\"\",\"\",'Statement of Marks'!F18)","v":"PRAVEEN KUMAR"},{"$f":"IF('Statement of Marks'!G18=\"\",\"\",'Statement of Marks'!G18)","v":"MANJU DEVI"},{"$f":"IF('Statement of Marks'!H18=\"\",\"\",'Statement of Marks'!H18)","v":"SC"},{"$f":"IF('Statement of Marks'!I18=\"\",\"\",'Statement of Marks'!I18)","v":"F"},{"$f":"IF('Statement of Marks'!FD18=\"\",\"\",'Statement of Marks'!FD18)","v":"Promoted to Class 12th"},{"$f":"IF('Statement of Marks'!FE18=\"\",\"\",'Statement of Marks'!FE18)","v":315},{"$f":"IF('Statement of Marks'!FF18=\"\",\"\",'Statement of Marks'!FF18)","v":{"v":63,"d":"63.00"}},{"$f":"IF('Statement of Marks'!FG18=\"\",\"\",'Statement of Marks'!FG18)","v":"I"},{"$f":"IF('Statement of Marks'!FH18=\"\",\"\",'Statement of Marks'!FH18)","v":{"v":8.999999999999996,"d":"9"}},{"$f":"IF('Statement of Marks'!FB18=\"\",\"\",'Statement of Marks'!FB18)","v":"      "},{"$f":"IF('Statement of Marks'!FI18=\"\",\"\",'Statement of Marks'!FI18)","v":""},{"$nulls":45},{"$f":"'Statement of Marks'!E18","v":"RINKU ANKIYA"},"","I","","","","","","","","","",""]
[{"$f":"'Statement of Marks'!A19","v":14},{"$f":"IF('Statement of Marks'!B19=\"\",\"\",'Statement of Marks'!B19)","v":1114},{"$f":"IF('Statement of Marks'!C19=\"\",\"\",'Statement of Marks'!C19)","v":348},{"$f":"IF('Statement of Marks'!D19=\"\",\"\",'Statement of Marks'!D19)","v":"18-01-2004"},{"$f":"IF('Statement of Marks'!E19=\"\",\"\",'Statement of Marks'!E19)","v":"SUMAN KANWAR"},{"$f":"IF('Statement of Marks'!F19=\"\",\"\",'Statement of Marks'!F19)","v":"DEVI SINGH"},{"$f":"IF('Statement of Marks'!G19=\"\",\"\",'Statement of Marks'!G19)","v":"ANOP KANWAR"},{"$f":"IF('Statement of Marks'!H19=\"\",\"\",'Statement of Marks'!H19)","v":"GEN"},{"$f":"IF('Statement of Marks'!I19=\"\",\"\",'Statement of Marks'!I19)","v":"F"},{"$f":"IF('Statement of Marks'!FD19=\"\",\"\",'Statement of Marks'!FD19)","v":"Promoted to Class 12th"},{"$f":"IF('Statement of Marks'!FE19=\"\",\"\",'Statement of Marks'!FE19)","v":271},{"$f":"IF('Statement of Marks'!FF19=\"\",\"\",'Statement of Marks'!FF19)","v":{"v":54.2,"d":"54.20"}},{"$f":"IF('Statement of Marks'!FG19=\"\",\"\",'Statement of Marks'!FG19)","v":"II"},{"$f":"IF('Statement of Marks'!FH19=\"\",\"\",'Statement of Marks'!FH19)","v":{"v":11.999999999999996,"d":"12"}},{"$f":"IF('Statement of Marks'!FB19=\"\",\"\",'Statement of Marks'!FB19)","v":"      "},{"$f":"IF('Statement of Marks'!FI19=\"\",\"\",'Statement of Marks'!FI19)","v":""},{"$nulls":45},{"$f":"'Statement of Marks'!E19","v":"SUMAN KANWAR"},"","","","","","","","II","","","",""]
[{"$f":"'Statement of Marks'!A20","v":15},{"$f":"IF('Statement of Marks'!B20=\"\",\"\",'Statement of Marks'!B20)","v":1115},{"$f":"IF('Statement of Marks'!C20=\"\",\"\",'Statement of Marks'!C20)","v":466},{"$f":"IF('Statement of Marks'!D20=\"\",\"\",'Statement of Marks'!D20)","v":"10-07-2004"},{"$f":"IF('Statement of Marks'!E20=\"\",\"\",'Statement of Marks'!E20)","v":"YUVRAJ SINGH"},{"$f":"IF('Statement of Marks'!F20=\"\",\"\",'Statement of Marks'!F20)","v":"GANPAT SINGH"},{"$f":"IF('Statement of Marks'!G20=\"\",\"\",'Statement of Marks'!G20)","v":"MUNNA KANWAR"},{"$f":"IF('Statement of Marks'!H20=\"\",\"\",'Statement of Marks'!H20)","v":"GEN"},{"$f":"IF('Statement of Marks'!I20=\"\",\"\",'Statement of Marks'!I20)","v":"M"},{"$f":"IF('Statement of Marks'!FD20=\"\",\"\",'Statement of Marks'!FD20)","v":"Promoted to Class 12th"},{"$f":"IF('Statement of Marks'!FE20=\"\",\"\",'Statement of Marks'!FE20)","v":415},{"$f":"IF('Statement of Marks'!FF20=\"\",\"\",'Statement of Marks'!FF20)","v":{"v":83,"d":"83.00"}},{"$f":"IF('Statement of Marks'!FG20=\"\",\"\",'Statement of Marks'!FG20)","v":"I"},{"$f":"IF('Statement of Marks'!FH20=\"\",\"\",'Statement of Marks'!FH20)","v":{"v":2.9999999999999964,"d":"3"}},{"$f":"IF('Statement of Marks'!FB20=\"\",\"\",'Statement of Marks'!FB20)","v":"      "},{"$f":"IF('Statement of Marks'!FI20=\"\",\"\",'Statement of Marks'!FI20)","v":""},{"$nulls":45},{"$f":"'Statement of Marks'!E20","v":"YUVRAJ SINGH"},"","","","","","","I","","","","",""]
[{"$f":"'Statement of Marks'!A21","v":16},{"$f":"IF('Statement of Marks'!B21=\"\",\"\",'Statement of Marks'!B21)","v":""},{"$f":"IF('Statement of Marks'!C21=\"\",\"\",'Statement of Marks'!C21)","v":""},{"$f":"IF('Statement of Marks'!D21=\"\",\"\",'Statement of Marks'!D21)","v":""},{"$f":"IF('Statement of Marks'!E21=\"\",\"\",'Statement of Marks'!E21)","v":""},{"$f":"IF('Statement of Marks'!F21=\"\",\"\",'Statement of Marks'!F21)","v":""},{"$f":"IF('Statement of Marks'!G21=\"\",\"\",'Statement of Marks'!G21)","v":""},{"$f":"IF('Statement of Marks'!H21=\"\",\"\",'Statement of Marks'!H21)","v":""},{"$f":"IF('Statement of Marks'!I21=\"\",\"\",'Statement of Marks'!I21)","v":""},{"$f":"IF('Statement of Marks'!FD21=\"\",\"\",'Statement of Marks'!FD21)","v":" "},{"$f":"IF('Statement of Marks'!FE21=\"\",\"\",'Statement of Marks'!FE21)","v":""},{"$f":"IF('Statement of Marks'!FF21=\"\",\"\",'Statement of Marks'!FF21)","v":""},{"$f":"IF('Statement of Marks'!FG21=\"\",\"\",'Statement of Marks'!FG21)","v":""},{"$f":"IF('Statement of Marks'!FH21=\"\",\"\",'Statement of Marks'!FH21)","v":""},{"$f":"IF('Statement of Marks'!FB21=\"\",\"\",'Statement of Marks'!FB21)","v":"      "},{"$f":"IF('Statement of Marks'!FI21=\"\",\"\",'Statement of Marks'!FI21)","v":""},{"$nulls":45},{"$f":"'Statement of Marks'!E21","v":""},"","","","","","","","","","","",""]
[{"$f":"'Statement of Marks'!A22","v":17},{"$f":"IF('Statement of Marks'!B22=\"\",\"\",'Statement of Marks'!B22)","v":""},{"$f":"IF('Statement of Marks'!C22=\"\",\"\",'Statement of Marks'!C22)","v":""},{"$f":"IF('Statement of Marks'!D22=\"\",\"\",'Statement of Marks'!D22)","v":""},{"$f":"IF('Statement of Marks'!E22=\"\",\"\",'Statement of Marks'!E22)","v":""},{"$f":"IF('Statement of Marks'!F22=\"\",\"\",'Statement of Marks'!F22)","v":""},{"$f":"IF('Statement of Marks'!G22=\"\",\"\",'Statement of Marks'!G22)","v":""},{"$f":"IF('Statement of Marks'!H22=\"\",\"\",'Statement of Marks'!H22)","v":""},{"$f":"IF('Statement of Marks'!I22=\"\",\"\",'Statement of Marks'!I22)","v":""},{"$f":"IF('Statement of Marks'!FD22=\"\",\"\",'Statement of Marks'!FD22)","v":" "},{"$f":"IF('Statement of Marks'!FE22=\"\",\"\",'Statement of Marks'!FE22)","v":""},{"$f":"IF('Statement of Marks'!FF22=\"\",\"\",'Statement of Marks'!FF22)","v":""},{"$f":"IF('Statement of Marks'!FG22=\"\",\"\",'Statement of Marks'!FG22)","v":""},{"$f":"IF('Statement of Marks'!FH22=\"\",\"\",'Statement of Marks'!FH22)","v":""},{"$f":"IF('Statement of Marks'!FB22=\"\",\"\",'Statement of Marks'!FB22)","v":"      "},{"$f":"IF('Statement of Marks'!FI22=\"\",\"\",'Statement of Marks'!FI22)","v":""},{"$nulls":45},{"$f":"'Statement of Marks'!E22","v":""},"","","","","","","","","","","",""]
[{"$f":"'Statement of Marks'!A23","v":18},{"$f":"IF('Statement of Marks'!B23=\"\",\"\",'Statement of Marks'!B23)","v":""},{"$f":"IF('Statement of Marks'!C23=\"\",\"\",'Statement of Marks'!C23)","v":""},{"$f":"IF('Statement of Marks'!D23=\"\",\"\",'Statement of Marks'!D23)","v":""},{"$f":"IF('Statement of Marks'!E23=\"\",\"\",'Statement of Marks'!E23)","v":""},{"$f":"IF('Statement of Marks'!F23=\"\",\"\",'Statement of Marks'!F23)","v":""},{"$f":"IF('Statement of Marks'!G23=\"\",\"\",'Statement of Marks'!G23)","v":""},{"$f":"IF('Statement of Marks'!H23=\"\",\"\",'Statement of Marks'!H23)","v":""},{"$f":"IF('Statement of Marks'!I23=\"\",\"\",'Statement of Marks'!I23)","v":""},{"$f":"IF('Statement of Marks'!FD23=\"\",\"\",'Statement of Marks'!FD23)","v":" "},{"$f":"IF('Statement of Marks'!FE23=\"\",\"\",'Statement of Marks'!FE23)","v":""},{"$f":"IF('Statement of Marks'!FF23=\"\",\"\",'Statement of Marks'!FF23)","v":""},{"$f":"IF('Statement of Marks'!FG23=\"\",\"\",'Statement of Marks'!FG23)","v":""},{"$f":"IF('Statement of Marks'!FH23=\"\",\"\",'Statement of Marks'!FH23)","v":""},{"$f":"IF('Statement of Marks'!FB23=\"\",\"\",'Statement of Marks'!FB23)","v":"      "},{"$f":"IF('Statement of Marks'!FI23=\"\",\"\",'Statement of Marks'!FI23)","v":""},{"$nulls":45},{"$f":"'Statement of Marks'!E23","v":""},"","","","","","","","","","","",""]
[{"$f":"'Statement of Marks'!A24","v":19},{"$f":"IF('Statement of Marks'!B24=\"\",\"\",'Statement of Marks'!B24)","v":""},{"$f":"IF('Statement of Marks'!C24=\"\",\"\",'Statement of Marks'!C24)","v":""},{"$f":"IF('Statement of Marks'!D24=\"\",\"\",'Statement of Marks'!D24)","v":""},{"$f":"IF('Statement of Marks'!E24=\"\",\"\",'Statement of Marks'!E24)","v":""},{"$f":"IF('Statement of Marks'!F24=\"\",\"\",'Statement of Marks'!F24)","v":""},{"$f":"IF('Statement of Marks'!G24=\"\",\"\",'Statement of Marks'!G24)","v":""},{"$f":"IF('Statement of Marks'!H24=\"\",\"\",'Statement of Marks'!H24)","v":""},{"$f":"IF('Statement of Marks'!I24=\"\",\"\",'Statement of Marks'!I24)","v":""},{"$f":"IF('Statement of Marks'!FD24=\"\",\"\",'Statement of Marks'!FD24)","v":" "},{"$f":"IF('Statement of Marks'!FE24=\"\",\"\",'Statement of Marks'!FE24)","v":""},{"$f":"IF('Statement of Marks'!FF24=\"\",\"\",'Statement of Marks'!FF24)","v":""},{"$f":"IF('Statement of Marks'!FG24=\"\",\"\",'Statement of Marks'!FG24)","v":""},{"$f":"IF('Statement of Marks'!FH24=\"\",\"\",'Statement of Marks'!FH24)","v":""},{"$f":"IF('Statement of Marks'!FB24=\"\",\"\",'Statement of Marks'!FB24)","v":"      "},{"$f":"IF('Statement of Marks'!FI24=\"\",\"\",'Statement of Marks'!FI24)","v":""},{"$nulls":45},{"$f":"'Statement of Marks'!E24","v":""},"","","","","","","","","","","",""]
[{"$f":"'Statement of Marks'!A25","v":20},{"$f":"IF('Statement of Marks'!B25=\"\",\"\",'Statement of Marks'!B25)","v":""},{"$f":"IF('Statement of Marks'!C25=\"\",\"\",'Statement of Marks'!C25)","v":""},{"$f":"IF('Statement of Marks'!D25=\"\",\"\",'Statement of Marks'!D25)","v":""},{"$f":"IF('Statement of Marks'!E25=\"\",\"\",'Statement of Marks'!E25)","v":""},{"$f":"IF('Statement of Marks'!F25=\"\",\"\",'Statement of Marks'!F25)","v":""},{"$f":"IF('Statement of Marks'!G25=\"\",\"\",'Statement of Marks'!G25)","v":""},{"$f":"IF('Statement of Marks'!H25=\"\",\"\",'Statement of Marks'!H25)","v":""},{"$f":"IF('Statement of Marks'!I25=\"\",\"\",'Statement of Marks'!I25)","v":""},{"$f":"IF('Statement of Marks'!FD25=\"\",\"\",'Statement of Marks'!FD25)","v":" "},{"$f":"IF('Statement of Marks'!FE25=\"\",\"\",'Statement of Marks'!FE25)","v":""},{"$f":"IF('Statement of Marks'!FF25=\"\",\"\",'Statement of Marks'!FF25)","v":""},{"$f":"IF('Statement of Marks'!FG25=\"\",\"\",'Statement of Marks'!FG25)","v":""},{"$f":"IF('Statement of Marks'!FH25=\"\",\"\",'Statement of Marks'!FH25)","v":""},{"$f":"IF('Statement of Marks'!FB25=\"\",\"\",'Statement of Marks'!FB25)","v":"      "},{"$f":"IF('Statement of Marks'!FI25=\"\",\"\",'Statement of Marks'!FI25)","v":""},{"$nulls":45},{"$f":"'Statement of Marks'!E25","v":""},"","","","","","","","","","","",""]
[{"$f":"'Statement of Marks'!A26","v":21},{"$f":"IF('Statement of Marks'!B26=\"\",\"\",'Statement of Marks'!B26)","v":""},{"$f":"IF('Statement of Marks'!C26=\"\",\"\",'Statement of Marks'!C26)","v":""},{"$f":"IF('Statement of Marks'!D26=\"\",\"\",'Statement of Marks'!D26)","v":""},{"$f":"IF('Statement of Marks'!E26=\"\",\"\",'Statement of Marks'!E26)","v":""},{"$f":"IF('Statement of Marks'!F26=\"\",\"\",'Statement of Marks'!F26)","v":""},{"$f":"IF('Statement of Marks'!G26=\"\",\"\",'Statement of Marks'!G26)","v":""},{"$f":"IF('Statement of Marks'!H26=\"\",\"\",'Statement of Marks'!H26)","v":""},{"$f":"IF('Statement of Marks'!I26=\"\",\"\",'Statement of Marks'!I26)","v":""},{"$f":"IF('Statement of Marks'!FD26=\"\",\"\",'Statement of Marks'!FD26)","v":" "},{"$f":"IF('Statement of Marks'!FE26=\"\",\"\",'Statement of Marks'!FE26)","v":""},{"$f":"IF('Statement of Marks'!FF26=\"\",\"\",'Statement of Marks'!FF26)","v":""},{"$f":"IF('Statement of Marks'!FG26=\"\",\"\",'Statement of Marks'!FG26)","v":""},{"$f":"IF('Statement of Marks'!FH26=\"\",\"\",'Statement of Marks'!FH26)","v":""},{"$f":"IF('Statement of Marks'!FB26=\"\",\"\",'Statement of Marks'!FB26)","v":"      "},{"$f":"IF('Statement of Marks'!FI26=\"\",\"\",'Statement of Marks'!FI26)","v":""},{"$nulls":45},{"$f":"'Statement of Marks'!E26","v":""},"","","","","","","","","","","",""]
[{"$f":"'Statement of Marks'!A27","v":22},{"$f":"IF('Statement of Marks'!B27=\"\",\"\",'Statement of Marks'!B27)","v":""},{"$f":"IF('Statement of Marks'!C27=\"\",\"\",'Statement of Marks'!C27)","v":""},{"$f":"IF('Statement of Marks'!D27=\"\",\"\",'Statement of Marks'!D27)","v":""},{"$f":"IF('Statement of Marks'!E27=\"\",\"\",'Statement of Marks'!E27)","v":""},{"$f":"IF('Statement of Marks'!F27=\"\",\"\",'Statement of Marks'!F27)","v":""},{"$f":"IF('Statement of Marks'!G27=\"\",\"\",'Statement of Marks'!G27)","v":""},{"$f":"IF('Statement of Marks'!H27=\"\",\"\",'Statement of Marks'!H27)","v":""},{"$f":"IF('Statement of Marks'!I27=\"\",\"\",'Statement of Marks'!I27)","v":""},{"$f":"IF('Statement of Marks'!FD27=\"\",\"\",'Statement of Marks'!FD27)","v":" "},{"$f":"IF('Statement of Marks'!FE27=\"\",\"\",'Statement of Marks'!FE27)","v":""},{"$f":"IF('Statement of Marks'!FF27=\"\",\"\",'Statement of Marks'!FF27)","v":""},{"$f":"IF('Statement of Marks'!FG27=\"\",\"\",'Statement of Marks'!FG27)","v":""},{"$f":"IF('Statement of Marks'!FH27=\"\",\"\",'Statement of Marks'!FH27)","v":""},{"$f":"IF('Statement of Marks'!FB27=\"\",\"\",'Statement of Marks'!FB27)","v":"      "},{"$f":"IF('Statement of Marks'!FI27=\"\",\"\",'Statement of Marks'!FI27)","v":""},{"$nulls":45},{"$f":"'Statement of Marks'!E27","v":""},"","","","","","","","","","","",""]
[{"$f":"'Statement of Marks'!A28","v":23},{"$f":"IF('Statement of Marks'!B28=\"\",\"\",'Statement of Marks'!B28)","v":""},{"$f":"IF('Statement of Marks'!C28=\"\",\"\",'Statement of Marks'!C28)","v":""},{"$f":"IF('Statement of Marks'!D28=\"\",\"\",'Statement of Marks'!D28)","v":""},{"$f":"IF('Statement of Marks'!E28=\"\",\"\",'Statement of Marks'!E28)","v":""},{"$f":"IF('Statement of Marks'!F28=\"\",\"\",'Statement of Marks'!F28)","v":""},{"$f":"IF('Statement of Marks'!G28=\"\",\"\",'Statement of Marks'!G28)","v":""},{"$f":"IF('Statement of Marks'!H28=\"\",\"\",'Statement of Marks'!H28)","v":""},{"$f":"IF('Statement of Marks'!I28=\"\",\"\",'Statement of Marks'!I28)","v":""},{"$f":"IF('Statement of Marks'!FD28=\"\",\"\",'Statement of Marks'!FD28)","v":" "},{"$f":"IF('Statement of Marks'!FE28=\"\",\"\",'Statement of Marks'!FE28)","v":""},{"$f":"IF('Statement of Marks'!FF28=\"\",\"\",'Statement of Marks'!FF28)","v":""},{"$f":"IF('Statement of Marks'!FG28=\"\",\"\",'Statement of Marks'!FG28)","v":""},{"$f":"IF('Statement of Marks'!FH28=\"\",\"\",'Statement of Marks'!FH28)","v":""},{"$f":"IF('Statement of Marks'!FB28=\"\",\"\",'Statement of Marks'!FB28)","v":"      "},{"$f":"IF('Statement of Marks'!FI28=\"\",\"\",'Statement of Marks'!FI28)","v":""},{"$nulls":45},{"$f":"'Statement of Marks'!E28","v":""},"","","","","","","","","","","",""]
[{"$f":"'Statement of Marks'!A29","v":24},{"$f":"IF('Statement of Marks'!B29=\"\",\"\",'Statement of Marks'!B29)","v":""},{"$f":"IF('Statement of Marks'!C29=\"\",\"\",'Statement of Marks'!C29)","v":""},{"$f":"IF('Statement of Marks'!D29=\"\",\"\",'Statement of Marks'!D29)","v":""},{"$f":"IF('Statement of Marks'!E29=\"\",\"\",'Statement of Marks'!E29)","v":""},{"$f":"IF('Statement of Marks'!F29=\"\",\"\",'Statement of Marks'!F29)","v":""},{"$f":"IF('Statement of Marks'!G29=\"\",\"\",'Statement of Marks'!G29)","v":""},{"$f":"IF('Statement of Marks'!H29=\"\",\"\",'Statement of Marks'!H29)","v":""},{"$f":"IF('Statement of Marks'!I29=\"\",\"\",'Statement of Marks'!I29)","v":""},{"$f":"IF('Statement of Marks'!FD29=\"\",\"\",'Statement of Marks'!FD29)","v":" "},{"$f":"IF('Statement of Marks'!FE29=\"\",\"\",'Statement of Marks'!FE29)","v":""},{"$f":"IF('Statement of Marks'!FF29=\"\",\"\",'Statement of Marks'!FF29)","v":""},{"$f":"IF('Statement of Marks'!FG29=\"\",\"\",'Statement of Marks'!FG29)","v":""},{"$f":"IF('Statement of Marks'!FH29=\"\",\"\",'Statement of Marks'!FH29)","v":""},{"$f":"IF('Statement of Marks'!FB29=\"\",\"\",'Statement of Marks'!FB29)","v":"      "},{"$f":"IF('Statement of Marks'!FI29=\"\",\"\",'Statement of Marks'!FI29)","v":""},{"$nulls":45},{"$f":"'Statement of Marks'!E29","v":""},"","","","","","","","","","","",""]
[{"$f":"'Statement of Marks'!A30","v":25},{"$f":"IF('Statement of Marks'!B30=\"\",\"\",'Statement of Marks'!B30)","v":""},{"$f":"IF('Statement of Marks'!C30=\"\",\"\",'Statement of Marks'!C30)","v":""},{"$f":"IF('Statement of Marks'!D30=\"\",\"\",'Statement of Marks'!D30)","v":""},{"$f":"IF('Statement of Marks'!E30=\"\",\"\",'Statement of Marks'!E30)","v":""},{"$f":"IF('Statement of Marks'!F30=\"\",\"\",'Statement of Marks'!F30)","v":""},{"$f":"IF('Statement of Marks'!G30=\"\",\"\",'Statement of Marks'!G30)","v":""},{"$f":"IF('Statement of Marks'!H30=\"\",\"\",'Statement of Marks'!H30)","v":""},{"$f":"IF('Statement of Marks'!I30=\"\",\"\",'Statement of Marks'!I30)","v":""},{"$f":"IF('Statement of Marks'!FD30=\"\",\"\",'Statement of Marks'!FD30)","v":" "},{"$f":"IF('Statement of Marks'!FE30=\"\",\"\",'Statement of Marks'!FE30)","v":""},{"$f":"IF('Statement of Marks'!FF30=\"\",\"\",'Statement of Marks'!FF30)","v":""},{"$f":"IF('Statement of Marks'!FG30=\"\",\"\",'Statement of Marks'!FG30)","v":""},{"$f":"IF('Statement of Marks'!FH30=\"\",\"\",'Statement of Marks'!FH30)","v":""},{"$f":"IF('Statement of Marks'!FB30=\"\",\"\",'Statement of Marks'!FB30)","v":"      "},{"$f":"IF('Statement of Marks'!FI30=\"\",\"\",'Statement of Marks'!FI30)","v":""},{"$nulls":45},{"$f":"'Statement of Marks'!E30","v":""},"","","","","","","","","","","",""]
[{"$f":"'Statement of Marks'!A31","v":26},{"$f":"IF('Statement of Marks'!B31=\"\",\"\",'Statement of Marks'!B31)","v":""},{"$f":"IF('Statement of Marks'!C31=\"\",\"\",'Statement of Marks'!C31)","v":""},{"$f":"IF('Statement of Marks'!D31=\"\",\"\",'Statement of Marks'!D31)","v":""},{"$f":"IF('Statement of Marks'!E31=\"\",\"\",'Statement of Marks'!E31)","v":""},{"$f":"IF('Statement of Marks'!F31=\"\",\"\",'Statement of Marks'!F31)","v":""},{"$f":"IF('Statement of Marks'!G31=\"\",\"\",'Statement of Marks'!G31)","v":""},{"$f":"IF('Statement of Marks'!H31=\"\",\"\",'Statement of Marks'!H31)","v":""},{"$f":"IF('Statement of Marks'!I31=\"\",\"\",'Statement of Marks'!I31)","v":""},{"$f":"IF('Statement of Marks'!FD31=\"\",\"\",'Statement of Marks'!FD31)","v":" "},{"$f":"IF('Statement of Marks'!FE31=\"\",\"\",'Statement of Marks'!FE31)","v":""},{"$f":"IF('Statement of Marks'!FF31=\"\",\"\",'Statement of Marks'!FF31)","v":""},{"$f":"IF('Statement of Marks'!FG31=\"\",\"\",'Statement of Marks'!FG31)","v":""},{"$f":"IF('Statement of Marks'!FH31=\"\",\"\",'Statement of Marks'!FH31)","v":""},{"$f":"IF('Statement of Marks'!FB31=\"\",\"\",'Statement of Marks'!FB31)","v":"      "},{"$f":"IF('Statement of Marks'!FI31=\"\",\"\",'Statement of Marks'!FI31)","v":""},{"$nulls":45},{"$f":"'Statement of Marks'!E31","v":""},"","","","","","","","","","","",""]
[{"$f":"'Statement of Marks'!A32","v":27},{"$f":"IF('Statement of Marks'!B32=\"\",\"\",'Statement of Marks'!B32)","v":""},{"$f":"IF('Statement of Marks'!C32=\"\",\"\",'Statement of Marks'!C32)","v":""},{"$f":"IF('Statement of Marks'!D32=\"\",\"\",'Statement of Marks'!D32)","v":""},{"$f":"IF('Statement of Marks'!E32=\"\",\"\",'Statement of Marks'!E32)","v":""},{"$f":"IF('Statement of Marks'!F32=\"\",\"\",'Statement of Marks'!F32)","v":""},{"$f":"IF('Statement of Marks'!G32=\"\",\"\",'Statement of Marks'!G32)","v":""},{"$f":"IF('Statement of Marks'!H32=\"\",\"\",'Statement of Marks'!H32)","v":""},{"$f":"IF('Statement of Marks'!I32=\"\",\"\",'Statement of Marks'!I32)","v":""},{"$f":"IF('Statement of Marks'!FD32=\"\",\"\",'Statement of Marks'!FD32)","v":" "},{"$f":"IF('Statement of Marks'!FE32=\"\",\"\",'Statement of Marks'!FE32)","v":""},{"$f":"IF('Statement of Marks'!FF32=\"\",\"\",'Statement of Marks'!FF32)","v":""},{"$f":"IF('Statement of Marks'!FG32=\"\",\"\",'Statement of Marks'!FG32)","v":""},{"$f":"IF('Statement of Marks'!FH32=\"\",\"\",'Statement of Marks'!FH32)","v":""},{"$f":"IF('Statement of Marks'!FB32=\"\",\"\",'Statement of Marks'!FB32)","v":"      "},{"$f":"IF('Statement of Marks'!FI32=\"\",\"\",'Statement of Marks'!FI32)","v":""},{"$nulls":45},{"$f":"'Statement of Marks'!E32","v":""},"","","","","","","","","","","",""]
[{"$f":"'Statement of Marks'!A33","v":28},{"$f":"IF('Statement of Marks'!B33=\"\",\"\",'Statement of Marks'!B33)","v":""},{"$f":"IF('Statement of Marks'!C33=\"\",\"\",'Statement of Marks'!C33)","v":""},{"$f":"IF('Statement of Marks'!D33=\"\",\"\",'Statement of Marks'!D33)","v":""},{"$f":"IF('Statement of Marks'!E33=\"\",\"\",'Statement of Marks'!E33)","v":""},{"$f":"IF('Statement of Marks'!F33=\"\",\"\",'Statement of Marks'!F33)","v":""},{"$f":"IF('Statement of Marks'!G33=\"\",\"\",'Statement of Marks'!G33)","v":""},{"$f":"IF('Statement of Marks'!H33=\"\",\"\",'Statement of Marks'!H33)","v":""},{"$f":"IF('Statement of Marks'!I33=\"\",\"\",'Statement of Marks'!I33)","v":""},{"$f":"IF('Statement of Marks'!FD33=\"\",\"\",'Statement of Marks'!FD33)","v":" "},{"$f":"IF('Statement of Marks'!FE33=\"\",\"\",'Statement of Marks'!FE33)","v":""},{"$f":"IF('Statement of Marks'!FF33=\"\",\"\",'Statement of Marks'!FF33)","v":""},{"$f":"IF('Statement of Marks'!FG33=\"\",\"\",'Statement of Marks'!FG33)","v":""},{"$f":"IF('Statement of Marks'!FH33=\"\",\"\",'Statement of Marks'!FH33)","v":""},{"$f":"IF('Statement of Marks'!FB33=\"\",\"\",'Statement of Marks'!FB33)","v":"      "},{"$f":"IF('Statement of Marks'!FI33=\"\",\"\",'Statement of Marks'!FI33)","v":""},{"$nulls":45},{"$f":"'Statement of Marks'!E33","v":""},"","","","","","","","","","","",""]
[{"$f":"'Statement of Marks'!A34","v":29},{"$f":"IF('Statement of Marks'!B34=\"\",\"\",'Statement of Marks'!B34)","v":""},{"$f":"IF('Statement of Marks'!C34=\"\",\"\",'Statement of Marks'!C34)","v":""},{"$f":"IF('Statement of Marks'!D34=\"\",\"\",'Statement of Marks'!D34)","v":""},{"$f":"IF('Statement of Marks'!E34=\"\",\"\",'Statement of Marks'!E34)","v":""},{"$f":"IF('Statement of Marks'!F34=\"\",\"\",'Statement of Marks'!F34)","v":""},{"$f":"IF('Statement of Marks'!G34=\"\",\"\",'Statement of Marks'!G34)","v":""},{"$f":"IF('Statement of Marks'!H34=\"\",\"\",'Statement of Marks'!H34)","v":""},{"$f":"IF('Statement of Marks'!I34=\"\",\"\",'Statement of Marks'!I34)","v":""},{"$f":"IF('Statement of Marks'!FD34=\"\",\"\",'Statement of Marks'!FD34)","v":" "},{"$f":"IF('Statement of Marks'!FE34=\"\",\"\",'Statement of Marks'!FE34)","v":""},{"$f":"IF('Statement of Marks'!FF34=\"\",\"\",'Statement of Marks'!FF34)","v":""},{"$f":"IF('Statement of Marks'!FG34=\"\",\"\",'Statement of Marks'!FG34)","v":""},{"$f":"IF('Statement of Marks'!FH34=\"\",\"\",'Statement of Marks'!FH34)","v":""},{"$f":"IF('Statement of Marks'!FB34=\"\",\"\",'Statement of Marks'!FB34)","v":"      "},{"$f":"IF('Statement of Marks'!FI34=\"\",\"\",'Statement of Marks'!FI34)","v":""},{"$nulls":45},{"$f":"'Statement of Marks'!E34","v":""},"","","","","","","","","","","",""]
[{"$f":"'Statement of Marks'!A35","v":30},{"$f":"IF('Statement of Marks'!B35=\"\",\"\",'Statement of Marks'!B35)","v":""},{"$f":"IF('Statement of Marks'!C35=\"\",\"\",'Statement of Marks'!C35)","v":""},{"$f":"IF('Statement of Marks'!D35=\"\",\"\",'Statement of Marks'!D35)","v":""},{"$f":"IF('Statement of Marks'!E35=\"\",\"\",'Statement of Marks'!E35)","v":""},{"$f":"IF('Statement of Marks'!F35=\"\",\"\",'Statement of Marks'!F35)","v":""},{"$f":"IF('Statement of Marks'!G35=\"\",\"\",'Statement of Marks'!G35)","v":""},{"$f":"IF('Statement of Marks'!H35=\"\",\"\",'Statement of Marks'!H35)","v":""},{"$f":"IF('Statement of Marks'!I35=\"\",\"\",'Statement of Marks'!I35)","v":""},{"$f":"IF('Statement of Marks'!FD35=\"\",\"\",'Statement of Marks'!FD35)","v":" "},{"$f":"IF('Statement of Marks'!FE35=\"\",\"\",'Statement of Marks'!FE35)","v":""},{"$f":"IF('Statement of Marks'!FF35=\"\",\"\",'Statement of Marks'!FF35)","v":""},{"$f":"IF('Statement of Marks'!FG35=\"\",\"\",'Statement of Marks'!FG35)","v":""},{"$f":"IF('Statement of Marks'!FH35=\"\",\"\",'Statement of Marks'!FH35)","v":""},{"$f":"IF('Statement of Marks'!FB35=\"\",\"\",'Statement of Marks'!FB35)","v":"      "},{"$f":"IF('Statement of Marks'!FI35=\"\",\"\",'Statement of Marks'!FI35)","v":""},{"$nulls":45},{"$f":"'Statement of Marks'!E35","v":""},"","","","","","","","","","","",""]
[{"$f":"'Statement of Marks'!A36","v":31},{"$f":"IF('Statement of Marks'!B36=\"\",\"\",'Statement of Marks'!B36)","v":""},{"$f":"IF('Statement of Marks'!C36=\"\",\"\",'Statement of Marks'!C36)","v":""},{"$f":"IF('Statement of Marks'!D36=\"\",\"\",'Statement of Marks'!D36)","v":""},{"$f":"IF('Statement of Marks'!E36=\"\",\"\",'Statement of Marks'!E36)","v":""},{"$f":"IF('Statement of Marks'!F36=\"\",\"\",'Statement of Marks'!F36)","v":""},{"$f":"IF('Statement of Marks'!G36=\"\",\"\",'Statement of Marks'!G36)","v":""},{"$f":"IF('Statement of Marks'!H36=\"\",\"\",'Statement of Marks'!H36)","v":""},{"$f":"IF('Statement of Marks'!I36=\"\",\"\",'Statement of Marks'!I36)","v":""},{"$f":"IF('Statement of Marks'!FD36=\"\",\"\",'Statement of Marks'!FD36)","v":" "},{"$f":"IF('Statement of Marks'!FE36=\"\",\"\",'Statement of Marks'!FE36)","v":""},{"$f":"IF('Statement of Marks'!FF36=\"\",\"\",'Statement of Marks'!FF36)","v":""},{"$f":"IF('Statement of Marks'!FG36=\"\",\"\",'Statement of Marks'!FG36)","v":""},{"$f":"IF('Statement of Marks'!FH36=\"\",\"\",'Statement of Marks'!FH36)","v":""},{"$f":"IF('Statement of Marks'!FB36=\"\",\"\",'Statement of Marks'!FB36)","v":"      "},{"$f":"IF('Statement of Marks'!FI36=\"\",\"\",'Statement of Marks'!FI36)","v":""},{"$nulls":45},{"$f":"'Statement of Marks'!E36","v":""},"","","","","","","","","","","",""]
[{"$f":"'Statement of Marks'!A37","v":32},{"$f":"IF('Statement of Marks'!B37=\"\",\"\",'Statement of Marks'!B37)","v":""},{"$f":"IF('Statement of Marks'!C37=\"\",\"\",'Statement of Marks'!C37)","v":""},{"$f":"IF('Statement of Marks'!D37=\"\",\"\",'Statement of Marks'!D37)","v":""},{"$f":"IF('Statement of Marks'!E37=\"\",\"\",'Statement of Marks'!E37)","v":""},{"$f":"IF('Statement of Marks'!F37=\"\",\"\",'Statement of Marks'!F37)","v":""},{"$f":"IF('Statement of Marks'!G37=\"\",\"\",'Statement of Marks'!G37)","v":""},{"$f":"IF('Statement of Marks'!H37=\"\",\"\",'Statement of Marks'!H37)","v":""},{"$f":"IF('Statement of Marks'!I37=\"\",\"\",'Statement of Marks'!I37)","v":""},{"$f":"IF('Statement of Marks'!FD37=\"\",\"\",'Statement of Marks'!FD37)","v":" "},{"$f":"IF('Statement of Marks'!FE37=\"\",\"\",'Statement of Marks'!FE37)","v":""},{"$f":"IF('Statement of Marks'!FF37=\"\",\"\",'Statement of Marks'!FF37)","v":""},{"$f":"IF('Statement of Marks'!FG37=\"\",\"\",'Statement of Marks'!FG37)","v":""},{"$f":"IF('Statement of Marks'!FH37=\"\",\"\",'Statement of Marks'!FH37)","v":""},{"$f":"IF('Statement of Marks'!FB37=\"\",\"\",'Statement of Marks'!FB37)","v":"      "},{"$f":"IF('Statement of Marks'!FI37=\"\",\"\",'Statement of Marks'!FI37)","v":""},{"$nulls":45},{"$f":"'Statement of Marks'!E37","v":""},"","","","","","","","","","","",""]
[{"$f":"'Statement of Marks'!A38","v":33},{"$f":"IF('Statement of Marks'!B38=\"\",\"\",'Statement of Marks'!B38)","v":""},{"$f":"IF('Statement of Marks'!C38=\"\",\"\",'Statement of Marks'!C38)","v":""},{"$f":"IF('Statement of Marks'!D38=\"\",\"\",'Statement of Marks'!D38)","v":""},{"$f":"IF('Statement of Marks'!E38=\"\",\"\",'Statement of Marks'!E38)","v":""},{"$f":"IF('Statement of Marks'!F38=\"\",\"\",'Statement of Marks'!F38)","v":""},{"$f":"IF('Statement of Marks'!G38=\"\",\"\",'Statement of Marks'!G38)","v":""},{"$f":"IF('Statement of Marks'!H38=\"\",\"\",'Statement of Marks'!H38)","v":""},{"$f":"IF('Statement of Marks'!I38=\"\",\"\",'Statement of Marks'!I38)","v":""},{"$f":"IF('Statement of Marks'!FD38=\"\",\"\",'Statement of Marks'!FD38)","v":" "},{"$f":"IF('Statement of Marks'!FE38=\"\",\"\",'Statement of Marks'!FE38)","v":""},{"$f":"IF('Statement of Marks'!FF38=\"\",\"\",'Statement of Marks'!FF38)","v":""},{"$f":"IF('Statement of Marks'!FG38=\"\",\"\",'Statement of Marks'!FG38)","v":""},{"$f":"IF('Statement of Marks'!FH38=\"\",\"\",'Statement of Marks'!FH38)","v":""},{"$f":"IF('Statement of Marks'!FB38=\"\",\"\",'Statement of Marks'!FB38)","v":"      "},{"$f":"IF('Statement of Marks'!FI38=\"\",\"\",'Statement of Marks'!FI38)","v":""},{"$nulls":45},{"$f":"'Statement of Marks'!E38","v":""},"","","","","","","","","","","",""]
[{"$f":"'Statement of Marks'!A39","v":34},{"$f":"IF('Statement of Marks'!B39=\"\",\"\",'Statement of Marks'!B39)","v":""},{"$f":"IF('Statement of Marks'!C39=\"\",\"\",'Statement of Marks'!C39)","v":""},{"$f":"IF('Statement of Marks'!D39=\"\",\"\",'Statement of Marks'!D39)","v":""},{"$f":"IF('Statement of Marks'!E39=\"\",\"\",'Statement of Marks'!E39)","v":""},{"$f":"IF('Statement of Marks'!F39=\"\",\"\",'Statement of Marks'!F39)","v":""},{"$f":"IF('Statement of Marks'!G39=\"\",\"\",'Statement of Marks'!G39)","v":""},{"$f":"IF('Statement of Marks'!H39=\"\",\"\",'Statement of Marks'!H39)","v":""},{"$f":"IF('Statement of Marks'!I39=\"\",\"\",'Statement of Marks'!I39)","v":""},{"$f":"IF('Statement of Marks'!FD39=\"\",\"\",'Statement of Marks'!FD39)","v":" "},{"$f":"IF('Statement of Marks'!FE39=\"\",\"\",'Statement of Marks'!FE39)","v":""},{"$f":"IF('Statement of Marks'!FF39=\"\",\"\",'Statement of Marks'!FF39)","v":""},{"$f":"IF('Statement of Marks'!FG39=\"\",\"\",'Statement of Marks'!FG39)","v":""},{"$f":"IF('Statement of Marks'!FH39=\"\",\"\",'Statement of Marks'!FH39)","v":""},{"$f":"IF('Statement of Marks'!FB39=\"\",\"\",'Statement of Marks'!FB39)","v":"      "},{"$f":"IF('Statement of Marks'!FI39=\"\",\"\",'Statement of Marks'!FI39)","v":""},{"$nulls":45},{"$f":"'Statement of Marks'!E39","v":""},"","","","","","","","","","","",""]
[{"$f":"'Statement of Marks'!A40","v":35},{"$f":"IF('Statement of Marks'!B40=\"\",\"\",'Statement of Marks'!B40)","v":""},{"$f":"IF('Statement of Marks'!C40=\"\",\"\",'Statement of Marks'!C40)","v":""},{"$f":"IF('Statement of Marks'!D40=\"\",\"\",'Statement of Marks'!D40)","v":""},{"$f":"IF('Statement of Marks'!E40=\"\",\"\",'Statement of Marks'!E40)","v":""},{"$f":"IF('Statement of Marks'!F40=\"\",\"\",'Statement of Marks'!F40)","v":""},{"$f":"IF('Statement of Marks'!G40=\"\",\"\",'Statement of Marks'!G40)","v":""},{"$f":"IF('Statement of Marks'!H40=\"\",\"\",'Statement of Marks'!H40)","v":""},{"$f":"IF('Statement of Marks'!I40=\"\",\"\",'Statement of Marks'!I40)","v":""},{"$f":"IF('Statement of Marks'!FD40=\"\",\"\",'Statement of Marks'!FD40)","v":" "},{"$f":"IF('Statement of Marks'!FE40=\"\",\"\",'Statement of Marks'!FE40)","v":""},{"$f":"IF('Statement of Marks'!FF40=\"\",\"\",'Statement of Marks'!FF40)","v":""},{"$f":"IF('Statement of Marks'!FG40=\"\",\"\",'Statement of Marks'!FG40)","v":""},{"$f":"IF('Statement of Marks'!FH40=\"\",\"\",'Statement of Marks'!FH40)","v":""},{"$f":"IF('Statement of Marks'!FB40=\"\",\"\",'Statement of Marks'!FB40)","v":"      "},{"$f":"IF('Statement of Marks'!FI40=\"\",\"\",'Statement of Marks'!FI40)","v":""},{"$nulls":45},{"$f":"'Statement of Marks'!E40","v":""},"","","","","","","","","","","",""]
[{"$f":"'Statement of Marks'!A41","v":36},{"$f":"IF('Statement of Marks'!B41=\"\",\"\",'Statement of Marks'!B41)","v":""},{"$f":"IF('Statement of Marks'!C41=\"\",\"\",'Statement of Marks'!C41)","v":""},{"$f":"IF('Statement of Marks'!D41=\"\",\"\",'Statement of Marks'!D41)","v":""},{"$f":"IF('Statement of Marks'!E41=\"\",\"\",'Statement of Marks'!E41)","v":""},{"$f":"IF('Statement of Marks'!F41=\"\",\"\",'Statement of Marks'!F41)","v":""},{"$f":"IF('Statement of Marks'!G41=\"\",\"\",'Statement of Marks'!G41)","v":""},{"$f":"IF('Statement of Marks'!H41=\"\",\"\",'Statement of Marks'!H41)","v":""},{"$f":"IF('Statement of Marks'!I41=\"\",\"\",'Statement of Marks'!I41)","v":""},{"$f":"IF('Statement of Marks'!FD41=\"\",\"\",'Statement of Marks'!FD41)","v":" "},{"$f":"IF('Statement of Marks'!FE41=\"\",\"\",'Statement of Marks'!FE41)","v":""},{"$f":"IF('Statement of Marks'!FF41=\"\",\"\",'Statement of Marks'!FF41)","v":""},{"$f":"IF('Statement of Marks'!FG41=\"\",\"\",'Statement of Marks'!FG41)","v":""},{"$f":"IF('Statement of Marks'!FH41=\"\",\"\",'Statement of Marks'!FH41)","v":""},{"$f":"IF('Statement of Marks'!FB41=\"\",\"\",'Statement of Marks'!FB41)","v":"      "},{"$f":"IF('Statement of Marks'!FI41=\"\",\"\",'Statement of Marks'!FI41)","v":""},{"$nulls":45},{"$f":"'Statement of Marks'!E41","v":""},"","","","","","","","","","","",""]
[{"$f":"'Statement of Marks'!A42","v":37},{"$f":"IF('Statement of Marks'!B42=\"\",\"\",'Statement of Marks'!B42)","v":""},{"$f":"IF('Statement of Marks'!C42=\"\",\"\",'Statement of Marks'!C42)","v":""},{"$f":"IF('Statement of Marks'!D42=\"\",\"\",'Statement of Marks'!D42)","v":""},{"$f":"IF('Statement of Marks'!E42=\"\",\"\",'Statement of Marks'!E42)","v":""},{"$f":"IF('Statement of Marks'!F42=\"\",\"\",'Statement of Marks'!F42)","v":""},{"$f":"IF('Statement of Marks'!G42=\"\",\"\",'Statement of Marks'!G42)","v":""},{"$f":"IF('Statement of Marks'!H42=\"\",\"\",'Statement of Marks'!H42)","v":""},{"$f":"IF('Statement of Marks'!I42=\"\",\"\",'Statement of Marks'!I42)","v":""},{"$f":"IF('Statement of Marks'!FD42=\"\",\"\",'Statement of Marks'!FD42)","v":" "},{"$f":"IF('Statement of Marks'!FE42=\"\",\"\",'Statement of Marks'!FE42)","v":""},{"$f":"IF('Statement of Marks'!FF42=\"\",\"\",'Statement of Marks'!FF42)","v":""},{"$f":"IF('Statement of Marks'!FG42=\"\",\"\",'Statement of Marks'!FG42)","v":""},{"$f":"IF('Statement of Marks'!FH42=\"\",\"\",'Statement of Marks'!FH42)","v":""},{"$f":"IF('Statement of Marks'!FB42=\"\",\"\",'Statement of Marks'!FB42)","v":"      "},{"$f":"IF('Statement of Marks'!FI42=\"\",\"\",'Statement of Marks'!FI42)","v":""},{"$nulls":45},{"$f":"'Statement of Marks'!E42","v":""},"","","","","","","","","","","",""]
[{"$f":"'Statement of Marks'!A43","v":38},{"$f":"IF('Statement of Marks'!B43=\"\",\"\",'Statement of Marks'!B43)","v":""},{"$f":"IF('Statement of Marks'!C43=\"\",\"\",'Statement of Marks'!C43)","v":""},{"$f":"IF('Statement of Marks'!D43=\"\",\"\",'Statement of Marks'!D43)","v":""},{"$f":"IF('Statement of Marks'!E43=\"\",\"\",'Statement of Marks'!E43)","v":""},{"$f":"IF('Statement of Marks'!F43=\"\",\"\",'Statement of Marks'!F43)","v":""},{"$f":"IF('Statement of Marks'!G43=\"\",\"\",'Statement of Marks'!G43)","v":""},{"$f":"IF('Statement of Marks'!H43=\"\",\"\",'Statement of Marks'!H43)","v":""},{"$f":"IF('Statement of Marks'!I43=\"\",\"\",'Statement of Marks'!I43)","v":""},{"$f":"IF('Statement of Marks'!FD43=\"\",\"\",'Statement of Marks'!FD43)","v":" "},{"$f":"IF('Statement of Marks'!FE43=\"\",\"\",'Statement of Marks'!FE43)","v":""},{"$f":"IF('Statement of Marks'!FF43=\"\",\"\",'Statement of Marks'!FF43)","v":""},{"$f":"IF('Statement of Marks'!FG43=\"\",\"\",'Statement of Marks'!FG43)","v":""},{"$f":"IF('Statement of Marks'!FH43=\"\",\"\",'Statement of Marks'!FH43)","v":""},{"$f":"IF('Statement of Marks'!FB43=\"\",\"\",'Statement of Marks'!FB43)","v":"      "},{"$f":"IF('Statement of Marks'!FI43=\"\",\"\",'Statement of Marks'!FI43)","v":""},{"$nulls":45},{"$f":"'Statement of Marks'!E43","v":""},"","","","","","","","","","","",""]
[{"$f":"'Statement of Marks'!A44","v":39},{"$f":"IF('Statement of Marks'!B44=\"\",\"\",'Statement of Marks'!B44)","v":""},{"$f":"IF('Statement of Marks'!C44=\"\",\"\",'Statement of Marks'!C44)","v":""},{"$f":"IF('Statement of Marks'!D44=\"\",\"\",'Statement of Marks'!D44)","v":""},{"$f":"IF('Statement of Marks'!E44=\"\",\"\",'Statement of Marks'!E44)","v":""},{"$f":"IF('Statement of Marks'!F44=\"\",\"\",'Statement of Marks'!F44)","v":""},{"$f":"IF('Statement of Marks'!G44=\"\",\"\",'Statement of Marks'!G44)","v":""},{"$f":"IF('Statement of Marks'!H44=\"\",\"\",'Statement of Marks'!H44)","v":""},{"$f":"IF('Statement of Marks'!I44=\"\",\"\",'Statement of Marks'!I44)","v":""},{"$f":"IF('Statement of Marks'!FD44=\"\",\"\",'Statement of Marks'!FD44)","v":" "},{"$f":"IF('Statement of Marks'!FE44=\"\",\"\",'Statement of Marks'!FE44)","v":""},{"$f":"IF('Statement of Marks'!FF44=\"\",\"\",'Statement of Marks'!FF44)","v":""},{"$f":"IF('Statement of Marks'!FG44=\"\",\"\",'Statement of Marks'!FG44)","v":""},{"$f":"IF('Statement of Marks'!FH44=\"\",\"\",'Statement of Marks'!FH44)","v":""},{"$f":"IF('Statement of Marks'!FB44=\"\",\"\",'Statement of Marks'!FB44)","v":"      "},{"$f":"IF('Statement of Marks'!FI44=\"\",\"\",'Statement of Marks'!FI44)","v":""},{"$nulls":45},{"$f":"'Statement of Marks'!E44","v":""},"","","","","","","","","","","",""]
[{"$f":"'Statement of Marks'!A45","v":40},{"$f":"IF('Statement of Marks'!B45=\"\",\"\",'Statement of Marks'!B45)","v":""},{"$f":"IF('Statement of Marks'!C45=\"\",\"\",'Statement of Marks'!C45)","v":""},{"$f":"IF('Statement of Marks'!D45=\"\",\"\",'Statement of Marks'!D45)","v":""},{"$f":"IF('Statement of Marks'!E45=\"\",\"\",'Statement of Marks'!E45)","v":""},{"$f":"IF('Statement of Marks'!F45=\"\",\"\",'Statement of Marks'!F45)","v":""},{"$f":"IF('Statement of Marks'!G45=\"\",\"\",'Statement of Marks'!G45)","v":""},{"$f":"IF('Statement of Marks'!H45=\"\",\"\",'Statement of Marks'!H45)","v":""},{"$f":"IF('Statement of Marks'!I45=\"\",\"\",'Statement of Marks'!I45)","v":""},{"$f":"IF('Statement of Marks'!FD45=\"\",\"\",'Statement of Marks'!FD45)","v":" "},{"$f":"IF('Statement of Marks'!FE45=\"\",\"\",'Statement of Marks'!FE45)","v":""},{"$f":"IF('Statement of Marks'!FF45=\"\",\"\",'Statement of Marks'!FF45)","v":""},{"$f":"IF('Statement of Marks'!FG45=\"\",\"\",'Statement of Marks'!FG45)","v":""},{"$f":"IF('Statement of Marks'!FH45=\"\",\"\",'Statement of Marks'!FH45)","v":""},{"$f":"IF('Statement of Marks'!FB45=\"\",\"\",'Statement of Marks'!FB45)","v":"      "},{"$f":"IF('Statement of Marks'!FI45=\"\",\"\",'Statement of Marks'!FI45)","v":""},{"$nulls":45},{"$f":"'Statement of Marks'!E45","v":""},"","","","","","","","","","","",""]
[{"$f":"'Statement of Marks'!A46","v":41},{"$f":"IF('Statement of Marks'!B46=\"\",\"\",'Statement of Marks'!B46)","v":""},{"$f":"IF('Statement of Marks'!C46=\"\",\"\",'Statement of Marks'!C46)","v":""},{"$f":"IF('Statement of Marks'!D46=\"\",\"\",'Statement of Marks'!D46)","v":""},{"$f":"IF('Statement of Marks'!E46=\"\",\"\",'Statement of Marks'!E46)","v":""},{"$f":"IF('Statement of Marks'!F46=\"\",\"\",'Statement of Marks'!F46)","v":""},{"$f":"IF('Statement of Marks'!G46=\"\",\"\",'Statement of Marks'!G46)","v":""},{"$f":"IF('Statement of Marks'!H46=\"\",\"\",'Statement of Marks'!H46)","v":""},{"$f":"IF('Statement of Marks'!I46=\"\",\"\",'Statement of Marks'!I46)","v":""},{"$f":"IF('Statement of Marks'!FD46=\"\",\"\",'Statement of Marks'!FD46)","v":" "},{"$f":"IF('Statement of Marks'!FE46=\"\",\"\",'Statement of Marks'!FE46)","v":""},{"$f":"IF('Statement of Marks'!FF46=\"\",\"\",'Statement of Marks'!FF46)","v":""},{"$f":"IF('Statement of Marks'!FG46=\"\",\"\",'Statement of Marks'!FG46)","v":""},{"$f":"IF('Statement of Marks'!FH46=\"\",\"\",'Statement of Marks'!FH46)","v":""},{"$f":"IF('Statement of Marks'!FB46=\"\",\"\",'Statement of Marks'!FB46)","v":"      "},{"$f":"IF('Statement of Marks'!FI46=\"\",\"\",'Statement of Marks'!FI46)","v":""},{"$nulls":45},{"$f":"'Statement of Marks'!E46","v":""},"","","","","","","","","","","",""]
[{"$f":"'Statement of Marks'!A47","v":42},{"$f":"IF('Statement of Marks'!B47=\"\",\"\",'Statement of Marks'!B47)","v":""},{"$f":"IF('Statement of Marks'!C47=\"\",\"\",'Statement of Marks'!C47)","v":""},{"$f":"IF('Statement of Marks'!D47=\"\",\"\",'Statement of Marks'!D47)","v":""},{"$f":"IF('Statement of Marks'!E47=\"\",\"\",'Statement of Marks'!E47)","v":""},{"$f":"IF('Statement of Marks'!F47=\"\",\"\",'Statement of Marks'!F47)","v":""},{"$f":"IF('Statement of Marks'!G47=\"\",\"\",'Statement of Marks'!G47)","v":""},{"$f":"IF('Statement of Marks'!H47=\"\",\"\",'Statement of Marks'!H47)","v":""},{"$f":"IF('Statement of Marks'!I47=\"\",\"\",'Statement of Marks'!I47)","v":""},{"$f":"IF('Statement of Marks'!FD47=\"\",\"\",'Statement of Marks'!FD47)","v":" "},{"$f":"IF('Statement of Marks'!FE47=\"\",\"\",'Statement of Marks'!FE47)","v":""},{"$f":"IF('Statement of Marks'!FF47=\"\",\"\",'Statement of Marks'!FF47)","v":""},{"$f":"IF('Statement of Marks'!FG47=\"\",\"\",'Statement of Marks'!FG47)","v":""},{"$f":"IF('Statement of Marks'!FH47=\"\",\"\",'Statement of Marks'!FH47)","v":""},{"$f":"IF('Statement of Marks'!FB47=\"\",\"\",'Statement of Marks'!FB47)","v":"      "},{"$f":"IF('Statement of Marks'!FI47=\"\",\"\",'Statement of Marks'!FI47)","v":""},{"$nulls":45},{"$f":"'Statement of Marks'!E47","v":""},"","","","","","","","","","","",""]
[{"$f":"'Statement of Marks'!A48","v":43},{"$f":"IF('Statement of Marks'!B48=\"\",\"\",'Statement of Marks'!B48)","v":""},{"$f":"IF('Statement of Marks'!C48=\"\",\"\",'Statement of Marks'!C48)","v":""},{"$f":"IF('Statement of Marks'!D48=\"\",\"\",'Statement of Marks'!D48)","v":""},{"$f":"IF('Statement of Marks'!E48=\"\",\"\",'Statement of Marks'!E48)","v":""},{"$f":"IF('Statement of Marks'!F48=\"\",\"\",'Statement of Marks'!F48)","v":""},{"$f":"IF('Statement of Marks'!G48=\"\",\"\",'Statement of Marks'!G48)","v":""},{"$f":"IF('Statement of Marks'!H48=\"\",\"\",'Statement of Marks'!H48)","v":""},{"$f":"IF('Statement of Marks'!I48=\"\",\"\",'Statement of Marks'!I48)","v":""},{"$f":"IF('Statement of Marks'!FD48=\"\",\"\",'Statement of Marks'!FD48)","v":" "},{"$f":"IF('Statement of Marks'!FE48=\"\",\"\",'Statement of Marks'!FE48)","v":""},{"$f":"IF('Statement of Marks'!FF48=\"\",\"\",'Statement of Marks'!FF48)","v":""},{"$f":"IF('Statement of Marks'!FG48=\"\",\"\",'Statement of Marks'!FG48)","v":""},{"$f":"IF('Statement of Marks'!FH48=\"\",\"\",'Statement of Marks'!FH48)","v":""},{"$f":"IF('Statement of Marks'!FB48=\"\",\"\",'Statement of Marks'!FB48)","v":"      "},{"$f":"IF('Statement of Marks'!FI48=\"\",\"\",'Statement of Marks'!FI48)","v":""},{"$nulls":45},{"$f":"'Statement of Marks'!E48","v":""},"","","","","","","","","","","",""]
[{"$f":"'Statement of Marks'!A49","v":44},{"$f":"IF('Statement of Marks'!B49=\"\",\"\",'Statement of Marks'!B49)","v":""},{"$f":"IF('Statement of Marks'!C49=\"\",\"\",'Statement of Marks'!C49)","v":""},{"$f":"IF('Statement of Marks'!D49=\"\",\"\",'Statement of Marks'!D49)","v":""},{"$f":"IF('Statement of Marks'!E49=\"\",\"\",'Statement of Marks'!E49)","v":""},{"$f":"IF('Statement of Marks'!F49=\"\",\"\",'Statement of Marks'!F49)","v":""},{"$f":"IF('Statement of Marks'!G49=\"\",\"\",'Statement of Marks'!G49)","v":""},{"$f":"IF('Statement of Marks'!H49=\"\",\"\",'Statement of Marks'!H49)","v":""},{"$f":"IF('Statement of Marks'!I49=\"\",\"\",'Statement of Marks'!I49)","v":""},{"$f":"IF('Statement of Marks'!FD49=\"\",\"\",'Statement of Marks'!FD49)","v":" "},{"$f":"IF('Statement of Marks'!FE49=\"\",\"\",'Statement of Marks'!FE49)","v":""},{"$f":"IF('Statement of Marks'!FF49=\"\",\"\",'Statement of Marks'!FF49)","v":""},{"$f":"IF('Statement of Marks'!FG49=\"\",\"\",'Statement of Marks'!FG49)","v":""},{"$f":"IF('Statement of Marks'!FH49=\"\",\"\",'Statement of Marks'!FH49)","v":""},{"$f":"IF('Statement of Marks'!FB49=\"\",\"\",'Statement of Marks'!FB49)","v":"      "},{"$f":"IF('Statement of Marks'!FI49=\"\",\"\",'Statement of Marks'!FI49)","v":""},{"$nulls":45},{"$f":"'Statement of Marks'!E49","v":""},"","","","","","","","","","","",""]
[{"$f":"'Statement of Marks'!A50","v":45},{"$f":"IF('Statement of Marks'!B50=\"\",\"\",'Statement of Marks'!B50)","v":""},{"$f":"IF('Statement of Marks'!C50=\"\",\"\",'Statement of Marks'!C50)","v":""},{"$f":"IF('Statement of Marks'!D50=\"\",\"\",'Statement of Marks'!D50)","v":""},{"$f":"IF('Statement of Marks'!E50=\"\",\"\",'Statement of Marks'!E50)","v":""},{"$f":"IF('Statement of Marks'!F50=\"\",\"\",'Statement of Marks'!F50)","v":""},{"$f":"IF('Statement of Marks'!G50=\"\",\"\",'Statement of Marks'!G50)","v":""},{"$f":"IF('Statement of Marks'!H50=\"\",\"\",'Statement of Marks'!H50)","v":""},{"$f":"IF('Statement of Marks'!I50=\"\",\"\",'Statement of Marks'!I50)","v":""},{"$f":"IF('Statement of Marks'!FD50=\"\",\"\",'Statement of Marks'!FD50)","v":" "},{"$f":"IF('Statement of Marks'!FE50=\"\",\"\",'Statement of Marks'!FE50)","v":""},{"$f":"IF('Statement of Marks'!FF50=\"\",\"\",'Statement of Marks'!FF50)","v":""},{"$f":"IF('Statement of Marks'!FG50=\"\",\"\",'Statement of Marks'!FG50)","v":""},{"$f":"IF('Statement of Marks'!FH50=\"\",\"\",'Statement of Marks'!FH50)","v":""},{"$f":"IF('Statement of Marks'!FB50=\"\",\"\",'Statement of Marks'!FB50)","v":"      "},{"$f":"IF('Statement of Marks'!FI50=\"\",\"\",'Statement of Marks'!FI50)","v":""},{"$nulls":45},{"$f":"'Statement of Marks'!E50","v":""},"","","","","","","","","","","",""]
[{"$f":"'Statement of Marks'!A51","v":46},{"$f":"IF('Statement of Marks'!B51=\"\",\"\",'Statement of Marks'!B51)","v":""},{"$f":"IF('Statement of Marks'!C51=\"\",\"\",'Statement of Marks'!C51)","v":""},{"$f":"IF('Statement of Marks'!D51=\"\",\"\",'Statement of Marks'!D51)","v":""},{"$f":"IF('Statement of Marks'!E51=\"\",\"\",'Statement of Marks'!E51)","v":""},{"$f":"IF('Statement of Marks'!F51=\"\",\"\",'Statement of Marks'!F51)","v":""},{"$f":"IF('Statement of Marks'!G51=\"\",\"\",'Statement of Marks'!G51)","v":""},{"$f":"IF('Statement of Marks'!H51=\"\",\"\",'Statement of Marks'!H51)","v":""},{"$f":"IF('Statement of Marks'!I51=\"\",\"\",'Statement of Marks'!I51)","v":""},{"$f":"IF('Statement of Marks'!FD51=\"\",\"\",'Statement of Marks'!FD51)","v":" "},{"$f":"IF('Statement of Marks'!FE51=\"\",\"\",'Statement of Marks'!FE51)","v":""},{"$f":"IF('Statement of Marks'!FF51=\"\",\"\",'Statement of Marks'!FF51)","v":""},{"$f":"IF('Statement of Marks'!FG51=\"\",\"\",'Statement of Marks'!FG51)","v":""},{"$f":"IF('Statement of Marks'!FH51=\"\",\"\",'Statement of Marks'!FH51)","v":""},{"$f":"IF('Statement of Marks'!FB51=\"\",\"\",'Statement of Marks'!FB51)","v":"      "},{"$f":"IF('Statement of Marks'!FI51=\"\",\"\",'Statement of Marks'!FI51)","v":""},{"$nulls":45},{"$f":"'Statement of Marks'!E51","v":""},"","","","","","","","","","","",""]
[{"$f":"'Statement of Marks'!A52","v":47},{"$f":"IF('Statement of Marks'!B52=\"\",\"\",'Statement of Marks'!B52)","v":""},{"$f":"IF('Statement of Marks'!C52=\"\",\"\",'Statement of Marks'!C52)","v":""},{"$f":"IF('Statement of Marks'!D52=\"\",\"\",'Statement of Marks'!D52)","v":""},{"$f":"IF('Statement of Marks'!E52=\"\",\"\",'Statement of Marks'!E52)","v":""},{"$f":"IF('Statement of Marks'!F52=\"\",\"\",'Statement of Marks'!F52)","v":""},{"$f":"IF('Statement of Marks'!G52=\"\",\"\",'Statement of Marks'!G52)","v":""},{"$f":"IF('Statement of Marks'!H52=\"\",\"\",'Statement of Marks'!H52)","v":""},{"$f":"IF('Statement of Marks'!I52=\"\",\"\",'Statement of Marks'!I52)","v":""},{"$f":"IF('Statement of Marks'!FD52=\"\",\"\",'Statement of Marks'!FD52)","v":" "},{"$f":"IF('Statement of Marks'!FE52=\"\",\"\",'Statement of Marks'!FE52)","v":""},{"$f":"IF('Statement of Marks'!FF52=\"\",\"\",'Statement of Marks'!FF52)","v":""},{"$f":"IF('Statement of Marks'!FG52=\"\",\"\",'Statement of Marks'!FG52)","v":""},{"$f":"IF('Statement of Marks'!FH52=\"\",\"\",'Statement of Marks'!FH52)","v":""},{"$f":"IF('Statement of Marks'!FB52=\"\",\"\",'Statement of Marks'!FB52)","v":"      "},{"$f":"IF('Statement of Marks'!FI52=\"\",\"\",'Statement of Marks'!FI52)","v":""},{"$nulls":45},{"$f":"'Statement of Marks'!E52","v":""},"","","","","","","","","","","",""]
[{"$f":"'Statement of Marks'!A53","v":48},{"$f":"IF('Statement of Marks'!B53=\"\",\"\",'Statement of Marks'!B53)","v":""},{"$f":"IF('Statement of Marks'!C53=\"\",\"\",'Statement of Marks'!C53)","v":""},{"$f":"IF('Statement of Marks'!D53=\"\",\"\",'Statement of Marks'!D53)","v":""},{"$f":"IF('Statement of Marks'!E53=\"\",\"\",'Statement of Marks'!E53)","v":""},{"$f":"IF('Statement of Marks'!F53=\"\",\"\",'Statement of Marks'!F53)","v":""},{"$f":"IF('Statement of Marks'!G53=\"\",\"\",'Statement of Marks'!G53)","v":""},{"$f":"IF('Statement of Marks'!H53=\"\",\"\",'Statement of Marks'!H53)","v":""},{"$f":"IF('Statement of Marks'!I53=\"\",\"\",'Statement of Marks'!I53)","v":""},{"$f":"IF('Statement of Marks'!FD53=\"\",\"\",'Statement of Marks'!FD53)","v":" "},{"$f":"IF('Statement of Marks'!FE53=\"\",\"\",'Statement of Marks'!FE53)","v":""},{"$f":"IF('Statement of Marks'!FF53=\"\",\"\",'Statement of Marks'!FF53)","v":""},{"$f":"IF('Statement of Marks'!FG53=\"\",\"\",'Statement of Marks'!FG53)","v":""},{"$f":"IF('Statement of Marks'!FH53=\"\",\"\",'Statement of Marks'!FH53)","v":""},{"$f":"IF('Statement of Marks'!FB53=\"\",\"\",'Statement of Marks'!FB53)","v":"      "},{"$f":"IF('Statement of Marks'!FI53=\"\",\"\",'Statement of Marks'!FI53)","v":""},{"$nulls":45},{"$f":"'Statement of Marks'!E53","v":""},"","","","","","","","","","","",""]
[{"$f":"'Statement of Marks'!A54","v":49},{"$f":"IF('Statement of Marks'!B54=\"\",\"\",'Statement of Marks'!B54)","v":""},{"$f":"IF('Statement of Marks'!C54=\"\",\"\",'Statement of Marks'!C54)","v":""},{"$f":"IF('Statement of Marks'!D54=\"\",\"\",'Statement of Marks'!D54)","v":""},{"$f":"IF('Statement of Marks'!E54=\"\",\"\",'Statement of Marks'!E54)","v":""},{"$f":"IF('Statement of Marks'!F54=\"\",\"\",'Statement of Marks'!F54)","v":""},{"$f":"IF('Statement of Marks'!G54=\"\",\"\",'Statement of Marks'!G54)","v":""},{"$f":"IF('Statement of Marks'!H54=\"\",\"\",'Statement of Marks'!H54)","v":""},{"$f":"IF('Statement of Marks'!I54=\"\",\"\",'Statement of Marks'!I54)","v":""},{"$f":"IF('Statement of Marks'!FD54=\"\",\"\",'Statement of Marks'!FD54)","v":" "},{"$f":"IF('Statement of Marks'!FE54=\"\",\"\",'Statement of Marks'!FE54)","v":""},{"$f":"IF('Statement of Marks'!FF54=\"\",\"\",'Statement of Marks'!FF54)","v":""},{"$f":"IF('Statement of Marks'!FG54=\"\",\"\",'Statement of Marks'!FG54)","v":""},{"$f":"IF('Statement of Marks'!FH54=\"\",\"\",'Statement of Marks'!FH54)","v":""},{"$f":"IF('Statement of Marks'!FB54=\"\",\"\",'Statement of Marks'!FB54)","v":"      "},{"$f":"IF('Statement of Marks'!FI54=\"\",\"\",'Statement of Marks'!FI54)","v":""},{"$nulls":45},{"$f":"'Statement of Marks'!E54","v":""},"","","","","","","","","","","",""]
[{"$f":"'Statement of Marks'!A55","v":50},{"$f":"IF('Statement of Marks'!B55=\"\",\"\",'Statement of Marks'!B55)","v":""},{"$f":"IF('Statement of Marks'!C55=\"\",\"\",'Statement of Marks'!C55)","v":""},{"$f":"IF('Statement of Marks'!D55=\"\",\"\",'Statement of Marks'!D55)","v":""},{"$f":"IF('Statement of Marks'!E55=\"\",\"\",'Statement of Marks'!E55)","v":""},{"$f":"IF('Statement of Marks'!F55=\"\",\"\",'Statement of Marks'!F55)","v":""},{"$f":"IF('Statement of Marks'!G55=\"\",\"\",'Statement of Marks'!G55)","v":""},{"$f":"IF('Statement of Marks'!H55=\"\",\"\",'Statement of Marks'!H55)","v":""},{"$f":"IF('Statement of Marks'!I55=\"\",\"\",'Statement of Marks'!I55)","v":""},{"$f":"IF('Statement of Marks'!FD55=\"\",\"\",'Statement of Marks'!FD55)","v":" "},{"$f":"IF('Statement of Marks'!FE55=\"\",\"\",'Statement of Marks'!FE55)","v":""},{"$f":"IF('Statement of Marks'!FF55=\"\",\"\",'Statement of Marks'!FF55)","v":""},{"$f":"IF('Statement of Marks'!FG55=\"\",\"\",'Statement of Marks'!FG55)","v":""},{"$f":"IF('Statement of Marks'!FH55=\"\",\"\",'Statement of Marks'!FH55)","v":""},{"$f":"IF('Statement of Marks'!FB55=\"\",\"\",'Statement of Marks'!FB55)","v":"      "},{"$f":"IF('Statement of Marks'!FI55=\"\",\"\",'Statement of Marks'!FI55)","v":""},{"$nulls":45},{"$f":"'Statement of Marks'!E55","v":""},"","","","","","","","","","","",""]
[{"$f":"'Statement of Marks'!A56","v":51},{"$f":"IF('Statement of Marks'!B56=\"\",\"\",'Statement of Marks'!B56)","v":""},{"$f":"IF('Statement of Marks'!C56=\"\",\"\",'Statement of Marks'!C56)","v":""},{"$f":"IF('Statement of Marks'!D56=\"\",\"\",'Statement of Marks'!D56)","v":""},{"$f":"IF('Statement of Marks'!E56=\"\",\"\",'Statement of Marks'!E56)","v":""},{"$f":"IF('Statement of Marks'!F56=\"\",\"\",'Statement of Marks'!F56)","v":""},{"$f":"IF('Statement of Marks'!G56=\"\",\"\",'Statement of Marks'!G56)","v":""},{"$f":"IF('Statement of Marks'!H56=\"\",\"\",'Statement of Marks'!H56)","v":""},{"$f":"IF('Statement of Marks'!I56=\"\",\"\",'Statement of Marks'!I56)","v":""},{"$f":"IF('Statement of Marks'!FD56=\"\",\"\",'Statement of Marks'!FD56)","v":" "},{"$f":"IF('Statement of Marks'!FE56=\"\",\"\",'Statement of Marks'!FE56)","v":""},{"$f":"IF('Statement of Marks'!FF56=\"\",\"\",'Statement of Marks'!FF56)","v":""},{"$f":"IF('Statement of Marks'!FG56=\"\",\"\",'Statement of Marks'!FG56)","v":""},{"$f":"IF('Statement of Marks'!FH56=\"\",\"\",'Statement of Marks'!FH56)","v":""},{"$f":"IF('Statement of Marks'!FB56=\"\",\"\",'Statement of Marks'!FB56)","v":"      "},{"$f":"IF('Statement of Marks'!FI56=\"\",\"\",'Statement of Marks'!FI56)","v":""},{"$nulls":45},{"$f":"'Statement of Marks'!E56","v":""},"","","","","","","","","","","",""]
[{"$f":"'Statement of Marks'!A57","v":52},{"$f":"IF('Statement of Marks'!B57=\"\",\"\",'Statement of Marks'!B57)","v":""},{"$f":"IF('Statement of Marks'!C57=\"\",\"\",'Statement of Marks'!C57)","v":""},{"$f":"IF('Statement of Marks'!D57=\"\",\"\",'Statement of Marks'!D57)","v":""},{"$f":"IF('Statement of Marks'!E57=\"\",\"\",'Statement of Marks'!E57)","v":""},{"$f":"IF('Statement of Marks'!F57=\"\",\"\",'Statement of Marks'!F57)","v":""},{"$f":"IF('Statement of Marks'!G57=\"\",\"\",'Statement of Marks'!G57)","v":""},{"$f":"IF('Statement of Marks'!H57=\"\",\"\",'Statement of Marks'!H57)","v":""},{"$f":"IF('Statement of Marks'!I57=\"\",\"\",'Statement of Marks'!I57)","v":""},{"$f":"IF('Statement of Marks'!FD57=\"\",\"\",'Statement of Marks'!FD57)","v":" "},{"$f":"IF('Statement of Marks'!FE57=\"\",\"\",'Statement of Marks'!FE57)","v":""},{"$f":"IF('Statement of Marks'!FF57=\"\",\"\",'Statement of Marks'!FF57)","v":""},{"$f":"IF('Statement of Marks'!FG57=\"\",\"\",'Statement of Marks'!FG57)","v":""},{"$f":"IF('Statement of Marks'!FH57=\"\",\"\",'Statement of Marks'!FH57)","v":""},{"$f":"IF('Statement of Marks'!FB57=\"\",\"\",'Statement of Marks'!FB57)","v":"      "},{"$f":"IF('Statement of Marks'!FI57=\"\",\"\",'Statement of Marks'!FI57)","v":""},{"$nulls":45},{"$f":"'Statement of Marks'!E57","v":""},"","","","","","","","","","","",""]
[{"$f":"'Statement of Marks'!A58","v":53},{"$f":"IF('Statement of Marks'!B58=\"\",\"\",'Statement of Marks'!B58)","v":""},{"$f":"IF('Statement of Marks'!C58=\"\",\"\",'Statement of Marks'!C58)","v":""},{"$f":"IF('Statement of Marks'!D58=\"\",\"\",'Statement of Marks'!D58)","v":""},{"$f":"IF('Statement of Marks'!E58=\"\",\"\",'Statement of Marks'!E58)","v":""},{"$f":"IF('Statement of Marks'!F58=\"\",\"\",'Statement of Marks'!F58)","v":""},{"$f":"IF('Statement of Marks'!G58=\"\",\"\",'Statement of Marks'!G58)","v":""},{"$f":"IF('Statement of Marks'!H58=\"\",\"\",'Statement of Marks'!H58)","v":""},{"$f":"IF('Statement of Marks'!I58=\"\",\"\",'Statement of Marks'!I58)","v":""},{"$f":"IF('Statement of Marks'!FD58=\"\",\"\",'Statement of Marks'!FD58)","v":" "},{"$f":"IF('Statement of Marks'!FE58=\"\",\"\",'Statement of Marks'!FE58)","v":""},{"$f":"IF('Statement of Marks'!FF58=\"\",\"\",'Statement of Marks'!FF58)","v":""},{"$f":"IF('Statement of Marks'!FG58=\"\",\"\",'Statement of Marks'!FG58)","v":""},{"$f":"IF('Statement of Marks'!FH58=\"\",\"\",'Statement of Marks'!FH58)","v":""},{"$f":"IF('Statement of Marks'!FB58=\"\",\"\",'Statement of Marks'!FB58)","v":"      "},{"$f":"IF('Statement of Marks'!FI58=\"\",\"\",'Statement of Marks'!FI58)","v":""},{"$nulls":45},{"$f":"'Statement of Marks'!E58","v":""},"","","","","","","","","","","",""]
[{"$f":"'Statement of Marks'!A59","v":54},{"$f":"IF('Statement of Marks'!B59=\"\",\"\",'Statement of Marks'!B59)","v":""},{"$f":"IF('Statement of Marks'!C59=\"\",\"\",'Statement of Marks'!C59)","v":""},{"$f":"IF('Statement of Marks'!D59=\"\",\"\",'Statement of Marks'!D59)","v":""},{"$f":"IF('Statement of Marks'!E59=\"\",\"\",'Statement of Marks'!E59)","v":""},{"$f":"IF('Statement of Marks'!F59=\"\",\"\",'Statement of Marks'!F59)","v":""},{"$f":"IF('Statement of Marks'!G59=\"\",\"\",'Statement of Marks'!G59)","v":""},{"$f":"IF('Statement of Marks'!H59=\"\",\"\",'Statement of Marks'!H59)","v":""},{"$f":"IF('Statement of Marks'!I59=\"\",\"\",'Statement of Marks'!I59)","v":""},{"$f":"IF('Statement of Marks'!FD59=\"\",\"\",'Statement of Marks'!FD59)","v":" "},{"$f":"IF('Statement of Marks'!FE59=\"\",\"\",'Statement of Marks'!FE59)","v":""},{"$f":"IF('Statement of Marks'!FF59=\"\",\"\",'Statement of Marks'!FF59)","v":""},{"$f":"IF('Statement of Marks'!FG59=\"\",\"\",'Statement of Marks'!FG59)","v":""},{"$f":"IF('Statement of Marks'!FH59=\"\",\"\",'Statement of Marks'!FH59)","v":""},{"$f":"IF('Statement of Marks'!FB59=\"\",\"\",'Statement of Marks'!FB59)","v":"      "},{"$f":"IF('Statement of Marks'!FI59=\"\",\"\",'Statement of Marks'!FI59)","v":""},{"$nulls":45},{"$f":"'Statement of Marks'!E59","v":""},"","","","","","","","","","","",""]
[{"$f":"'Statement of Marks'!A60","v":55},{"$f":"IF('Statement of Marks'!B60=\"\",\"\",'Statement of Marks'!B60)","v":""},{"$f":"IF('Statement of Marks'!C60=\"\",\"\",'Statement of Marks'!C60)","v":""},{"$f":"IF('Statement of Marks'!D60=\"\",\"\",'Statement of Marks'!D60)","v":""},{"$f":"IF('Statement of Marks'!E60=\"\",\"\",'Statement of Marks'!E60)","v":""},{"$f":"IF('Statement of Marks'!F60=\"\",\"\",'Statement of Marks'!F60)","v":""},{"$f":"IF('Statement of Marks'!G60=\"\",\"\",'Statement of Marks'!G60)","v":""},{"$f":"IF('Statement of Marks'!H60=\"\",\"\",'Statement of Marks'!H60)","v":""},{"$f":"IF('Statement of Marks'!I60=\"\",\"\",'Statement of Marks'!I60)","v":""},{"$f":"IF('Statement of Marks'!FD60=\"\",\"\",'Statement of Marks'!FD60)","v":" "},{"$f":"IF('Statement of Marks'!FE60=\"\",\"\",'Statement of Marks'!FE60)","v":""},{"$f":"IF('Statement of Marks'!FF60=\"\",\"\",'Statement of Marks'!FF60)","v":""},{"$f":"IF('Statement of Marks'!FG60=\"\",\"\",'Statement of Marks'!FG60)","v":""},{"$f":"IF('Statement of Marks'!FH60=\"\",\"\",'Statement of Marks'!FH60)","v":""},{"$f":"IF('Statement of Marks'!FB60=\"\",\"\",'Statement of Marks'!FB60)","v":"      "},{"$f":"IF('Statement of Marks'!FI60=\"\",\"\",'Statement of Marks'!FI60)","v":""},{"$nulls":45},{"$f":"'Statement of Marks'!E60","v":""},"","","","","","","","","","","",""]
[{"$f":"'Statement of Marks'!A61","v":56},{"$f":"IF('Statement of Marks'!B61=\"\",\"\",'Statement of Marks'!B61)","v":""},{"$f":"IF('Statement of Marks'!C61=\"\",\"\",'Statement of Marks'!C61)","v":""},{"$f":"IF('Statement of Marks'!D61=\"\",\"\",'Statement of Marks'!D61)","v":""},{"$f":"IF('Statement of Marks'!E61=\"\",\"\",'Statement of Marks'!E61)","v":""},{"$f":"IF('Statement of Marks'!F61=\"\",\"\",'Statement of Marks'!F61)","v":""},{"$f":"IF('Statement of Marks'!G61=\"\",\"\",'Statement of Marks'!G61)","v":""},{"$f":"IF('Statement of Marks'!H61=\"\",\"\",'Statement of Marks'!H61)","v":""},{"$f":"IF('Statement of Marks'!I61=\"\",\"\",'Statement of Marks'!I61)","v":""},{"$f":"IF('Statement of Marks'!FD61=\"\",\"\",'Statement of Marks'!FD61)","v":" "},{"$f":"IF('Statement of Marks'!FE61=\"\",\"\",'Statement of Marks'!FE61)","v":""},{"$f":"IF('Statement of Marks'!FF61=\"\",\"\",'Statement of Marks'!FF61)","v":""},{"$f":"IF('Statement of Marks'!FG61=\"\",\"\",'Statement of Marks'!FG61)","v":""},{"$f":"IF('Statement of Marks'!FH61=\"\",\"\",'Statement of Marks'!FH61)","v":""},{"$f":"IF('Statement of Marks'!FB61=\"\",\"\",'Statement of Marks'!FB61)","v":"      "},{"$f":"IF('Statement of Marks'!FI61=\"\",\"\",'Statement of Marks'!FI61)","v":""},{"$nulls":45},{"$f":"'Statement of Marks'!E61","v":""},"","","","","","","","","","","",""]
[{"$f":"'Statement of Marks'!A62","v":57},{"$f":"IF('Statement of Marks'!B62=\"\",\"\",'Statement of Marks'!B62)","v":""},{"$f":"IF('Statement of Marks'!C62=\"\",\"\",'Statement of Marks'!C62)","v":""},{"$f":"IF('Statement of Marks'!D62=\"\",\"\",'Statement of Marks'!D62)","v":""},{"$f":"IF('Statement of Marks'!E62=\"\",\"\",'Statement of Marks'!E62)","v":""},{"$f":"IF('Statement of Marks'!F62=\"\",\"\",'Statement of Marks'!F62)","v":""},{"$f":"IF('Statement of Marks'!G62=\"\",\"\",'Statement of Marks'!G62)","v":""},{"$f":"IF('Statement of Marks'!H62=\"\",\"\",'Statement of Marks'!H62)","v":""},{"$f":"IF('Statement of Marks'!I62=\"\",\"\",'Statement of Marks'!I62)","v":""},{"$f":"IF('Statement of Marks'!FD62=\"\",\"\",'Statement of Marks'!FD62)","v":" "},{"$f":"IF('Statement of Marks'!FE62=\"\",\"\",'Statement of Marks'!FE62)","v":""},{"$f":"IF('Statement of Marks'!FF62=\"\",\"\",'Statement of Marks'!FF62)","v":""},{"$f":"IF('Statement of Marks'!FG62=\"\",\"\",'Statement of Marks'!FG62)","v":""},{"$f":"IF('Statement of Marks'!FH62=\"\",\"\",'Statement of Marks'!FH62)","v":""},{"$f":"IF('Statement of Marks'!FB62=\"\",\"\",'Statement of Marks'!FB62)","v":"      "},{"$f":"IF('Statement of Marks'!FI62=\"\",\"\",'Statement of Marks'!FI62)","v":""},{"$nulls":45},{"$f":"'Statement of Marks'!E62","v":""},"","","","","","","","","","","",""]
[{"$f":"'Statement of Marks'!A63","v":58},{"$f":"IF('Statement of Marks'!B63=\"\",\"\",'Statement of Marks'!B63)","v":""},{"$f":"IF('Statement of Marks'!C63=\"\",\"\",'Statement of Marks'!C63)","v":""},{"$f":"IF('Statement of Marks'!D63=\"\",\"\",'Statement of Marks'!D63)","v":""},{"$f":"IF('Statement of Marks'!E63=\"\",\"\",'Statement of Marks'!E63)","v":""},{"$f":"IF('Statement of Marks'!F63=\"\",\"\",'Statement of Marks'!F63)","v":""},{"$f":"IF('Statement of Marks'!G63=\"\",\"\",'Statement of Marks'!G63)","v":""},{"$f":"IF('Statement of Marks'!H63=\"\",\"\",'Statement of Marks'!H63)","v":""},{"$f":"IF('Statement of Marks'!I63=\"\",\"\",'Statement of Marks'!I63)","v":""},{"$f":"IF('Statement of Marks'!FD63=\"\",\"\",'Statement of Marks'!FD63)","v":" "},{"$f":"IF('Statement of Marks'!FE63=\"\",\"\",'Statement of Marks'!FE63)","v":""},{"$f":"IF('Statement of Marks'!FF63=\"\",\"\",'Statement of Marks'!FF63)","v":""},{"$f":"IF('Statement of Marks'!FG63=\"\",\"\",'Statement of Marks'!FG63)","v":""},{"$f":"IF('Statement of Marks'!FH63=\"\",\"\",'Statement of Marks'!FH63)","v":""},{"$f":"IF('Statement of Marks'!FB63=\"\",\"\",'Statement of Marks'!FB63)","v":"      "},{"$f":"IF('Statement of Marks'!FI63=\"\",\"\",'Statement of Marks'!FI63)","v":""},{"$nulls":45},{"$f":"'Statement of Marks'!E63","v":""},"","","","","","","","","","","",""]
[{"$f":"'Statement of Marks'!A64","v":59},{"$f":"IF('Statement of Marks'!B64=\"\",\"\",'Statement of Marks'!B64)","v":""},{"$f":"IF('Statement of Marks'!C64=\"\",\"\",'Statement of Marks'!C64)","v":""},{"$f":"IF('Statement of Marks'!D64=\"\",\"\",'Statement of Marks'!D64)","v":""},{"$f":"IF('Statement of Marks'!E64=\"\",\"\",'Statement of Marks'!E64)","v":""},{"$f":"IF('Statement of Marks'!F64=\"\",\"\",'Statement of Marks'!F64)","v":""},{"$f":"IF('Statement of Marks'!G64=\"\",\"\",'Statement of Marks'!G64)","v":""},{"$f":"IF('Statement of Marks'!H64=\"\",\"\",'Statement of Marks'!H64)","v":""},{"$f":"IF('Statement of Marks'!I64=\"\",\"\",'Statement of Marks'!I64)","v":""},{"$f":"IF('Statement of Marks'!FD64=\"\",\"\",'Statement of Marks'!FD64)","v":" "},{"$f":"IF('Statement of Marks'!FE64=\"\",\"\",'Statement of Marks'!FE64)","v":""},{"$f":"IF('Statement of Marks'!FF64=\"\",\"\",'Statement of Marks'!FF64)","v":""},{"$f":"IF('Statement of Marks'!FG64=\"\",\"\",'Statement of Marks'!FG64)","v":""},{"$f":"IF('Statement of Marks'!FH64=\"\",\"\",'Statement of Marks'!FH64)","v":""},{"$f":"IF('Statement of Marks'!FB64=\"\",\"\",'Statement of Marks'!FB64)","v":"      "},{"$f":"IF('Statement of Marks'!FI64=\"\",\"\",'Statement of Marks'!FI64)","v":""},{"$nulls":45},{"$f":"'Statement of Marks'!E64","v":""},"","","","","","","","","","","",""]
[{"$f":"'Statement of Marks'!A65","v":60},{"$f":"IF('Statement of Marks'!B65=\"\",\"\",'Statement of Marks'!B65)","v":""},{"$f":"IF('Statement of Marks'!C65=\"\",\"\",'Statement of Marks'!C65)","v":""},{"$f":"IF('Statement of Marks'!D65=\"\",\"\",'Statement of Marks'!D65)","v":""},{"$f":"IF('Statement of Marks'!E65=\"\",\"\",'Statement of Marks'!E65)","v":""},{"$f":"IF('Statement of Marks'!F65=\"\",\"\",'Statement of Marks'!F65)","v":""},{"$f":"IF('Statement of Marks'!G65=\"\",\"\",'Statement of Marks'!G65)","v":""},{"$f":"IF('Statement of Marks'!H65=\"\",\"\",'Statement of Marks'!H65)","v":""},{"$f":"IF('Statement of Marks'!I65=\"\",\"\",'Statement of Marks'!I65)","v":""},{"$f":"IF('Statement of Marks'!FD65=\"\",\"\",'Statement of Marks'!FD65)","v":" "},{"$f":"IF('Statement of Marks'!FE65=\"\",\"\",'Statement of Marks'!FE65)","v":""},{"$f":"IF('Statement of Marks'!FF65=\"\",\"\",'Statement of Marks'!FF65)","v":""},{"$f":"IF('Statement of Marks'!FG65=\"\",\"\",'Statement of Marks'!FG65)","v":""},{"$f":"IF('Statement of Marks'!FH65=\"\",\"\",'Statement of Marks'!FH65)","v":""},{"$f":"IF('Statement of Marks'!FB65=\"\",\"\",'Statement of Marks'!FB65)","v":"      "},{"$f":"IF('Statement of Marks'!FI65=\"\",\"\",'Statement of Marks'!FI65)","v":""},{"$nulls":45},{"$f":"'Statement of Marks'!E65","v":""},"","","","","","","","","","","",""]
[{"$f":"'Statement of Marks'!A66","v":61},{"$f":"IF('Statement of Marks'!B66=\"\",\"\",'Statement of Marks'!B66)","v":""},{"$f":"IF('Statement of Marks'!C66=\"\",\"\",'Statement of Marks'!C66)","v":""},{"$f":"IF('Statement of Marks'!D66=\"\",\"\",'Statement of Marks'!D66)","v":""},{"$f":"IF('Statement of Marks'!E66=\"\",\"\",'Statement of Marks'!E66)","v":""},{"$f":"IF('Statement of Marks'!F66=\"\",\"\",'Statement of Marks'!F66)","v":""},{"$f":"IF('Statement of Marks'!G66=\"\",\"\",'Statement of Marks'!G66)","v":""},{"$f":"IF('Statement of Marks'!H66=\"\",\"\",'Statement of Marks'!H66)","v":""},{"$f":"IF('Statement of Marks'!I66=\"\",\"\",'Statement of Marks'!I66)","v":""},{"$f":"IF('Statement of Marks'!FD66=\"\",\"\",'Statement of Marks'!FD66)","v":" "},{"$f":"IF('Statement of Marks'!FE66=\"\",\"\",'Statement of Marks'!FE66)","v":""},{"$f":"IF('Statement of Marks'!FF66=\"\",\"\",'Statement of Marks'!FF66)","v":""},{"$f":"IF('Statement of Marks'!FG66=\"\",\"\",'Statement of Marks'!FG66)","v":""},{"$f":"IF('Statement of Marks'!FH66=\"\",\"\",'Statement of Marks'!FH66)","v":""},{"$f":"IF('Statement of Marks'!FB66=\"\",\"\",'Statement of Marks'!FB66)","v":"      "},{"$f":"IF('Statement of Marks'!FI66=\"\",\"\",'Statement of Marks'!FI66)","v":""},{"$nulls":45},{"$f":"'Statement of Marks'!E66","v":""},"","","","","","","","","","","",""]
[{"$f":"'Statement of Marks'!A67","v":62},{"$f":"IF('Statement of Marks'!B67=\"\",\"\",'Statement of Marks'!B67)","v":""},{"$f":"IF('Statement of Marks'!C67=\"\",\"\",'Statement of Marks'!C67)","v":""},{"$f":"IF('Statement of Marks'!D67=\"\",\"\",'Statement of Marks'!D67)","v":""},{"$f":"IF('Statement of Marks'!E67=\"\",\"\",'Statement of Marks'!E67)","v":""},{"$f":"IF('Statement of Marks'!F67=\"\",\"\",'Statement of Marks'!F67)","v":""},{"$f":"IF('Statement of Marks'!G67=\"\",\"\",'Statement of Marks'!G67)","v":""},{"$f":"IF('Statement of Marks'!H67=\"\",\"\",'Statement of Marks'!H67)","v":""},{"$f":"IF('Statement of Marks'!I67=\"\",\"\",'Statement of Marks'!I67)","v":""},{"$f":"IF('Statement of Marks'!FD67=\"\",\"\",'Statement of Marks'!FD67)","v":" "},{"$f":"IF('Statement of Marks'!FE67=\"\",\"\",'Statement of Marks'!FE67)","v":""},{"$f":"IF('Statement of Marks'!FF67=\"\",\"\",'Statement of Marks'!FF67)","v":""},{"$f":"IF('Statement of Marks'!FG67=\"\",\"\",'Statement of Marks'!FG67)","v":""},{"$f":"IF('Statement of Marks'!FH67=\"\",\"\",'Statement of Marks'!FH67)","v":""},{"$f":"IF('Statement of Marks'!FB67=\"\",\"\",'Statement of Marks'!FB67)","v":"      "},{"$f":"IF('Statement of Marks'!FI67=\"\",\"\",'Statement of Marks'!FI67)","v":""},{"$nulls":45},{"$f":"'Statement of Marks'!E67","v":""},"","","","","","","","","","","",""]
[{"$f":"'Statement of Marks'!A68","v":63},{"$f":"IF('Statement of Marks'!B68=\"\",\"\",'Statement of Marks'!B68)","v":""},{"$f":"IF('Statement of Marks'!C68=\"\",\"\",'Statement of Marks'!C68)","v":""},{"$f":"IF('Statement of Marks'!D68=\"\",\"\",'Statement of Marks'!D68)","v":""},{"$f":"IF('Statement of Marks'!E68=\"\",\"\",'Statement of Marks'!E68)","v":""},{"$f":"IF('Statement of Marks'!F68=\"\",\"\",'Statement of Marks'!F68)","v":""},{"$f":"IF('Statement of Marks'!G68=\"\",\"\",'Statement of Marks'!G68)","v":""},{"$f":"IF('Statement of Marks'!H68=\"\",\"\",'Statement of Marks'!H68)","v":""},{"$f":"IF('Statement of Marks'!I68=\"\",\"\",'Statement of Marks'!I68)","v":""},{"$f":"IF('Statement of Marks'!FD68=\"\",\"\",'Statement of Marks'!FD68)","v":" "},{"$f":"IF('Statement of Marks'!FE68=\"\",\"\",'Statement of Marks'!FE68)","v":""},{"$f":"IF('Statement of Marks'!FF68=\"\",\"\",'Statement of Marks'!FF68)","v":""},{"$f":"IF('Statement of Marks'!FG68=\"\",\"\",'Statement of Marks'!FG68)","v":""},{"$f":"IF('Statement of Marks'!FH68=\"\",\"\",'Statement of Marks'!FH68)","v":""},{"$f":"IF('Statement of Marks'!FB68=\"\",\"\",'Statement of Marks'!FB68)","v":"      "},{"$f":"IF('Statement of Marks'!FI68=\"\",\"\",'Statement of Marks'!FI68)","v":""},{"$nulls":45},{"$f":"'Statement of Marks'!E68","v":""},"","","","","","","","","","","",""]
[{"$f":"'Statement of Marks'!A69","v":64},{"$f":"IF('Statement of Marks'!B69=\"\",\"\",'Statement of Marks'!B69)","v":""},{"$f":"IF('Statement of Marks'!C69=\"\",\"\",'Statement of Marks'!C69)","v":""},{"$f":"IF('Statement of Marks'!D69=\"\",\"\",'Statement of Marks'!D69)","v":""},{"$f":"IF('Statement of Marks'!E69=\"\",\"\",'Statement of Marks'!E69)","v":""},{"$f":"IF('Statement of Marks'!F69=\"\",\"\",'Statement of Marks'!F69)","v":""},{"$f":"IF('Statement of Marks'!G69=\"\",\"\",'Statement of Marks'!G69)","v":""},{"$f":"IF('Statement of Marks'!H69=\"\",\"\",'Statement of Marks'!H69)","v":""},{"$f":"IF('Statement of Marks'!I69=\"\",\"\",'Statement of Marks'!I69)","v":""},{"$f":"IF('Statement of Marks'!FD69=\"\",\"\",'Statement of Marks'!FD69)","v":" "},{"$f":"IF('Statement of Marks'!FE69=\"\",\"\",'Statement of Marks'!FE69)","v":""},{"$f":"IF('Statement of Marks'!FF69=\"\",\"\",'Statement of Marks'!FF69)","v":""},{"$f":"IF('Statement of Marks'!FG69=\"\",\"\",'Statement of Marks'!FG69)","v":""},{"$f":"IF('Statement of Marks'!FH69=\"\",\"\",'Statement of Marks'!FH69)","v":""},{"$f":"IF('Statement of Marks'!FB69=\"\",\"\",'Statement of Marks'!FB69)","v":"      "},{"$f":"IF('Statement of Marks'!FI69=\"\",\"\",'Statement of Marks'!FI69)","v":""},{"$nulls":45},{"$f":"'Statement of Marks'!E69","v":""},"","","","","","","","","","","",""]
[{"$f":"'Statement of Marks'!A70","v":65},{"$f":"IF('Statement of Marks'!B70=\"\",\"\",'Statement of Marks'!B70)","v":""},{"$f":"IF('Statement of Marks'!C70=\"\",\"\",'Statement of Marks'!C70)","v":""},{"$f":"IF('Statement of Marks'!D70=\"\",\"\",'Statement of Marks'!D70)","v":""},{"$f":"IF('Statement of Marks'!E70=\"\",\"\",'Statement of Marks'!E70)","v":""},{"$f":"IF('Statement of Marks'!F70=\"\",\"\",'Statement of Marks'!F70)","v":""},{"$f":"IF('Statement of Marks'!G70=\"\",\"\",'Statement of Marks'!G70)","v":""},{"$f":"IF('Statement of Marks'!H70=\"\",\"\",'Statement of Marks'!H70)","v":""},{"$f":"IF('Statement of Marks'!I70=\"\",\"\",'Statement of Marks'!I70)","v":""},{"$f":"IF('Statement of Marks'!FD70=\"\",\"\",'Statement of Marks'!FD70)","v":" "},{"$f":"IF('Statement of Marks'!FE70=\"\",\"\",'Statement of Marks'!FE70)","v":""},{"$f":"IF('Statement of Marks'!FF70=\"\",\"\",'Statement of Marks'!FF70)","v":""},{"$f":"IF('Statement of Marks'!FG70=\"\",\"\",'Statement of Marks'!FG70)","v":""},{"$f":"IF('Statement of Marks'!FH70=\"\",\"\",'Statement of Marks'!FH70)","v":""},{"$f":"IF('Statement of Marks'!FB70=\"\",\"\",'Statement of Marks'!FB70)","v":"      "},{"$f":"IF('Statement of Marks'!FI70=\"\",\"\",'Statement of Marks'!FI70)","v":""},{"$nulls":45},{"$f":"'Statement of Marks'!E70","v":""},"","","","","","","","","","","",""]
[{"$f":"'Statement of Marks'!A71","v":66},{"$f":"IF('Statement of Marks'!B71=\"\",\"\",'Statement of Marks'!B71)","v":""},{"$f":"IF('Statement of Marks'!C71=\"\",\"\",'Statement of Marks'!C71)","v":""},{"$f":"IF('Statement of Marks'!D71=\"\",\"\",'Statement of Marks'!D71)","v":""},{"$f":"IF('Statement of Marks'!E71=\"\",\"\",'Statement of Marks'!E71)","v":""},{"$f":"IF('Statement of Marks'!F71=\"\",\"\",'Statement of Marks'!F71)","v":""},{"$f":"IF('Statement of Marks'!G71=\"\",\"\",'Statement of Marks'!G71)","v":""},{"$f":"IF('Statement of Marks'!H71=\"\",\"\",'Statement of Marks'!H71)","v":""},{"$f":"IF('Statement of Marks'!I71=\"\",\"\",'Statement of Marks'!I71)","v":""},{"$f":"IF('Statement of Marks'!FD71=\"\",\"\",'Statement of Marks'!FD71)","v":" "},{"$f":"IF('Statement of Marks'!FE71=\"\",\"\",'Statement of Marks'!FE71)","v":""},{"$f":"IF('Statement of Marks'!FF71=\"\",\"\",'Statement of Marks'!FF71)","v":""},{"$f":"IF('Statement of Marks'!FG71=\"\",\"\",'Statement of Marks'!FG71)","v":""},{"$f":"IF('Statement of Marks'!FH71=\"\",\"\",'Statement of Marks'!FH71)","v":""},{"$f":"IF('Statement of Marks'!FB71=\"\",\"\",'Statement of Marks'!FB71)","v":"      "},{"$f":"IF('Statement of Marks'!FI71=\"\",\"\",'Statement of Marks'!FI71)","v":""},{"$nulls":45},{"$f":"'Statement of Marks'!E71","v":""},{"$f":"IF(AND(H69=\"SC\",I69=\"M\"),M69,\"\")","v":""},{"$f":"IF(AND(H69=\"SC\",I69=\"F\"),M69,\"\")","v":""},{"$f":"IF(AND(H69=\"ST\",I69=\"M\"),M69,\"\")","v":""},{"$f":"IF(AND(H69=\"ST\",I69=\"F\"),M69,\"\")","v":""},{"$f":"IF(AND(H69=\"OBC\",I69=\"M\"),M69,\"\")","v":""},{"$f":"IF(AND(H69=\"OBC\",I69=\"F\"),M69,\"\")","v":""},{"$f":"IF(AND(H69=\"GEN\",I69=\"M\"),M69,\"\")","v":""},{"$f":"IF(AND(H69=\"GEN\",I69=\"F\"),M69,\"\")","v":""},{"$f":"IF(AND(H69=\"MIN\",I69=\"M\"),M69,\"\")","v":""},{"$f":"IF(AND(H69=\"MIN\",I69=\"F\"),M69,\"\")","v":""},{"$f":"IF(AND(H69=\"SBC\",I69=\"M\"),M69,\"\")","v":""},{"$f":"IF(AND(H69=\"SBC\",I69=\"F\"),M69,\"\")","v":""}]
[{"$f":"'Statement of Marks'!A72","v":67},{"$f":"IF('Statement of Marks'!B72=\"\",\"\",'Statement of Marks'!B72)","v":""},{"$f":"IF('Statement of Marks'!C72=\"\",\"\",'Statement of Marks'!C72)","v":""},{"$f":"IF('Statement of Marks'!D72=\"\",\"\",'Statement of Marks'!D72)","v":""},{"$f":"IF('Statement of Marks'!E72=\"\",\"\",'Statement of Marks'!E72)","v":""},{"$f":"IF('Statement of Marks'!F72=\"\",\"\",'Statement of Marks'!F72)","v":""},{"$f":"IF('Statement of Marks'!G72=\"\",\"\",'Statement of Marks'!G72)","v":""},{"$f":"IF('Statement of Marks'!H72=\"\",\"\",'Statement of Marks'!H72)","v":""},{"$f":"IF('Statement of Marks'!I72=\"\",\"\",'Statement of Marks'!I72)","v":""},{"$f":"IF('Statement of Marks'!FD72=\"\",\"\",'Statement of Marks'!FD72)","v":" "},{"$f":"IF('Statement of Marks'!FE72=\"\",\"\",'Statement of Marks'!FE72)","v":""},{"$f":"IF('Statement of Marks'!FF72=\"\",\"\",'Statement of Marks'!FF72)","v":""},{"$f":"IF('Statement of Marks'!FG72=\"\",\"\",'Statement of Marks'!FG72)","v":""},{"$f":"IF('Statement of Marks'!FH72=\"\",\"\",'Statement of Marks'!FH72)","v":""},{"$f":"IF('Statement of Marks'!FB72=\"\",\"\",'Statement of Marks'!FB72)","v":"      "},{"$f":"IF('Statement of Marks'!FI72=\"\",\"\",'Statement of Marks'!FI72)","v":""},{"$nulls":45},{"$f":"'Statement of Marks'!E72","v":""},"","","","","","","","","","","",""]
[{"$f":"'Statement of Marks'!A73","v":68},{"$f":"IF('Statement of Marks'!B73=\"\",\"\",'Statement of Marks'!B73)","v":""},{"$f":"IF('Statement of Marks'!C73=\"\",\"\",'Statement of Marks'!C73)","v":""},{"$f":"IF('Statement of Marks'!D73=\"\",\"\",'Statement of Marks'!D73)","v":""},{"$f":"IF('Statement of Marks'!E73=\"\",\"\",'Statement of Marks'!E73)","v":""},{"$f":"IF('Statement of Marks'!F73=\"\",\"\",'Statement of Marks'!F73)","v":""},{"$f":"IF('Statement of Marks'!G73=\"\",\"\",'Statement of Marks'!G73)","v":""},{"$f":"IF('Statement of Marks'!H73=\"\",\"\",'Statement of Marks'!H73)","v":""},{"$f":"IF('Statement of Marks'!I73=\"\",\"\",'Statement of Marks'!I73)","v":""},{"$f":"IF('Statement of Marks'!FD73=\"\",\"\",'Statement of Marks'!FD73)","v":" "},{"$f":"IF('Statement of Marks'!FE73=\"\",\"\",'Statement of Marks'!FE73)","v":""},{"$f":"IF('Statement of Marks'!FF73=\"\",\"\",'Statement of Marks'!FF73)","v":""},{"$f":"IF('Statement of Marks'!FG73=\"\",\"\",'Statement of Marks'!FG73)","v":""},{"$f":"IF('Statement of Marks'!FH73=\"\",\"\",'Statement of Marks'!FH73)","v":""},{"$f":"IF('Statement of Marks'!FB73=\"\",\"\",'Statement of Marks'!FB73)","v":"      "},{"$f":"IF('Statement of Marks'!FI73=\"\",\"\",'Statement of Marks'!FI73)","v":""},{"$nulls":45},{"$f":"'Statement of Marks'!E73","v":""},"","","","","","","","","","","",""]
[{"$f":"'Statement of Marks'!A74","v":69},{"$f":"IF('Statement of Marks'!B74=\"\",\"\",'Statement of Marks'!B74)","v":""},{"$f":"IF('Statement of Marks'!C74=\"\",\"\",'Statement of Marks'!C74)","v":""},{"$f":"IF('Statement of Marks'!D74=\"\",\"\",'Statement of Marks'!D74)","v":""},{"$f":"IF('Statement of Marks'!E74=\"\",\"\",'Statement of Marks'!E74)","v":""},{"$f":"IF('Statement of Marks'!F74=\"\",\"\",'Statement of Marks'!F74)","v":""},{"$f":"IF('Statement of Marks'!G74=\"\",\"\",'Statement of Marks'!G74)","v":""},{"$f":"IF('Statement of Marks'!H74=\"\",\"\",'Statement of Marks'!H74)","v":""},{"$f":"IF('Statement of Marks'!I74=\"\",\"\",'Statement of Marks'!I74)","v":""},{"$f":"IF('Statement of Marks'!FD74=\"\",\"\",'Statement of Marks'!FD74)","v":" "},{"$f":"IF('Statement of Marks'!FE74=\"\",\"\",'Statement of Marks'!FE74)","v":""},{"$f":"IF('Statement of Marks'!FF74=\"\",\"\",'Statement of Marks'!FF74)","v":""},{"$f":"IF('Statement of Marks'!FG74=\"\",\"\",'Statement of Marks'!FG74)","v":""},{"$f":"IF('Statement of Marks'!FH74=\"\",\"\",'Statement of Marks'!FH74)","v":""},{"$f":"IF('Statement of Marks'!FB74=\"\",\"\",'Statement of Marks'!FB74)","v":"      "},{"$f":"IF('Statement of Marks'!FI74=\"\",\"\",'Statement of Marks'!FI74)","v":""},{"$nulls":45},{"$f":"'Statement of Marks'!E74","v":""},"","","","","","","","","","","",""]
[{"$f":"'Statement of Marks'!A75","v":70},{"$f":"IF('Statement of Marks'!B75=\"\",\"\",'Statement of Marks'!B75)","v":""},{"$f":"IF('Statement of Marks'!C75=\"\",\"\",'Statement of Marks'!C75)","v":""},{"$f":"IF('Statement of Marks'!D75=\"\",\"\",'Statement of Marks'!D75)","v":""},{"$f":"IF('Statement of Marks'!E75=\"\",\"\",'Statement of Marks'!E75)","v":""},{"$f":"IF('Statement of Marks'!F75=\"\",\"\",'Statement of Marks'!F75)","v":""},{"$f":"IF('Statement of Marks'!G75=\"\",\"\",'Statement of Marks'!G75)","v":""},{"$f":"IF('Statement of Marks'!H75=\"\",\"\",'Statement of Marks'!H75)","v":""},{"$f":"IF('Statement of Marks'!I75=\"\",\"\",'Statement of Marks'!I75)","v":""},{"$f":"IF('Statement of Marks'!FD75=\"\",\"\",'Statement of Marks'!FD75)","v":" "},{"$f":"IF('Statement of Marks'!FE75=\"\",\"\",'Statement of Marks'!FE75)","v":""},{"$f":"IF('Statement of Marks'!FF75=\"\",\"\",'Statement of Marks'!FF75)","v":""},{"$f":"IF('Statement of Marks'!FG75=\"\",\"\",'Statement of Marks'!FG75)","v":""},{"$f":"IF('Statement of Marks'!FH75=\"\",\"\",'Statement of Marks'!FH75)","v":""},{"$f":"IF('Statement of Marks'!FB75=\"\",\"\",'Statement of Marks'!FB75)","v":"      "},{"$f":"IF('Statement of Marks'!FI75=\"\",\"\",'Statement of Marks'!FI75)","v":""},{"$nulls":45},{"$f":"'Statement of Marks'!E75","v":""},"","","","","","","","","","","",""]
[{"$f":"'Statement of Marks'!A76","v":71},{"$f":"IF('Statement of Marks'!B76=\"\",\"\",'Statement of Marks'!B76)","v":""},{"$f":"IF('Statement of Marks'!C76=\"\",\"\",'Statement of Marks'!C76)","v":""},{"$f":"IF('Statement of Marks'!D76=\"\",\"\",'Statement of Marks'!D76)","v":""},{"$f":"IF('Statement of Marks'!E76=\"\",\"\",'Statement of Marks'!E76)","v":""},{"$f":"IF('Statement of Marks'!F76=\"\",\"\",'Statement of Marks'!F76)","v":""},{"$f":"IF('Statement of Marks'!G76=\"\",\"\",'Statement of Marks'!G76)","v":""},{"$f":"IF('Statement of Marks'!H76=\"\",\"\",'Statement of Marks'!H76)","v":""},{"$f":"IF('Statement of Marks'!I76=\"\",\"\",'Statement of Marks'!I76)","v":""},{"$f":"IF('Statement of Marks'!FD76=\"\",\"\",'Statement of Marks'!FD76)","v":" "},{"$f":"IF('Statement of Marks'!FE76=\"\",\"\",'Statement of Marks'!FE76)","v":""},{"$f":"IF('Statement of Marks'!FF76=\"\",\"\",'Statement of Marks'!FF76)","v":""},{"$f":"IF('Statement of Marks'!FG76=\"\",\"\",'Statement of Marks'!FG76)","v":""},{"$f":"IF('Statement of Marks'!FH76=\"\",\"\",'Statement of Marks'!FH76)","v":""},{"$f":"IF('Statement of Marks'!FB76=\"\",\"\",'Statement of Marks'!FB76)","v":"      "},{"$f":"IF('Statement of Marks'!FI76=\"\",\"\",'Statement of Marks'!FI76)","v":""},{"$nulls":45},{"$f":"'Statement of Marks'!E76","v":""},"","","","","","","","","","","",""]
[{"$f":"'Statement of Marks'!A77","v":72},{"$f":"IF('Statement of Marks'!B77=\"\",\"\",'Statement of Marks'!B77)","v":""},{"$f":"IF('Statement of Marks'!C77=\"\",\"\",'Statement of Marks'!C77)","v":""},{"$f":"IF('Statement of Marks'!D77=\"\",\"\",'Statement of Marks'!D77)","v":""},{"$f":"IF('Statement of Marks'!E77=\"\",\"\",'Statement of Marks'!E77)","v":""},{"$f":"IF('Statement of Marks'!F77=\"\",\"\",'Statement of Marks'!F77)","v":""},{"$f":"IF('Statement of Marks'!G77=\"\",\"\",'Statement of Marks'!G77)","v":""},{"$f":"IF('Statement of Marks'!H77=\"\",\"\",'Statement of Marks'!H77)","v":""},{"$f":"IF('Statement of Marks'!I77=\"\",\"\",'Statement of Marks'!I77)","v":""},{"$f":"IF('Statement of Marks'!FD77=\"\",\"\",'Statement of Marks'!FD77)","v":" "},{"$f":"IF('Statement of Marks'!FE77=\"\",\"\",'Statement of Marks'!FE77)","v":""},{"$f":"IF('Statement of Marks'!FF77=\"\",\"\",'Statement of Marks'!FF77)","v":""},{"$f":"IF('Statement of Marks'!FG77=\"\",\"\",'Statement of Marks'!FG77)","v":""},{"$f":"IF('Statement of Marks'!FH77=\"\",\"\",'Statement of Marks'!FH77)","v":""},{"$f":"IF('Statement of Marks'!FB77=\"\",\"\",'Statement of Marks'!FB77)","v":"      "},{"$f":"IF('Statement of Marks'!FI77=\"\",\"\",'Statement of Marks'!FI77)","v":""},{"$nulls":45},{"$f":"'Statement of Marks'!E77","v":""},"","","","","","","","","","","",""]
[{"$f":"'Statement of Marks'!A78","v":73},{"$f":"IF('Statement of Marks'!B78=\"\",\"\",'Statement of Marks'!B78)","v":""},{"$f":"IF('Statement of Marks'!C78=\"\",\"\",'Statement of Marks'!C78)","v":""},{"$f":"IF('Statement of Marks'!D78=\"\",\"\",'Statement of Marks'!D78)","v":""},{"$f":"IF('Statement of Marks'!E78=\"\",\"\",'Statement of Marks'!E78)","v":""},{"$f":"IF('Statement of Marks'!F78=\"\",\"\",'Statement of Marks'!F78)","v":""},{"$f":"IF('Statement of Marks'!G78=\"\",\"\",'Statement of Marks'!G78)","v":""},{"$f":"IF('Statement of Marks'!H78=\"\",\"\",'Statement of Marks'!H78)","v":""},{"$f":"IF('Statement of Marks'!I78=\"\",\"\",'Statement of Marks'!I78)","v":""},{"$f":"IF('Statement of Marks'!FD78=\"\",\"\",'Statement of Marks'!FD78)","v":" "},{"$f":"IF('Statement of Marks'!FE78=\"\",\"\",'Statement of Marks'!FE78)","v":""},{"$f":"IF('Statement of Marks'!FF78=\"\",\"\",'Statement of Marks'!FF78)","v":""},{"$f":"IF('Statement of Marks'!FG78=\"\",\"\",'Statement of Marks'!FG78)","v":""},{"$f":"IF('Statement of Marks'!FH78=\"\",\"\",'Statement of Marks'!FH78)","v":""},{"$f":"IF('Statement of Marks'!FB78=\"\",\"\",'Statement of Marks'!FB78)","v":"      "},{"$f":"IF('Statement of Marks'!FI78=\"\",\"\",'Statement of Marks'!FI78)","v":""},{"$nulls":45},{"$f":"'Statement of Marks'!E78","v":""},"","","","","","","","","","","",""]
[{"$f":"'Statement of Marks'!A79","v":74},{"$f":"IF('Statement of Marks'!B79=\"\",\"\",'Statement of Marks'!B79)","v":""},{"$f":"IF('Statement of Marks'!C79=\"\",\"\",'Statement of Marks'!C79)","v":""},{"$f":"IF('Statement of Marks'!D79=\"\",\"\",'Statement of Marks'!D79)","v":""},{"$f":"IF('Statement of Marks'!E79=\"\",\"\",'Statement of Marks'!E79)","v":""},{"$f":"IF('Statement of Marks'!F79=\"\",\"\",'Statement of Marks'!F79)","v":""},{"$f":"IF('Statement of Marks'!G79=\"\",\"\",'Statement of Marks'!G79)","v":""},{"$f":"IF('Statement of Marks'!H79=\"\",\"\",'Statement of Marks'!H79)","v":""},{"$f":"IF('Statement of Marks'!I79=\"\",\"\",'Statement of Marks'!I79)","v":""},{"$f":"IF('Statement of Marks'!FD79=\"\",\"\",'Statement of Marks'!FD79)","v":" "},{"$f":"IF('Statement of Marks'!FE79=\"\",\"\",'Statement of Marks'!FE79)","v":""},{"$f":"IF('Statement of Marks'!FF79=\"\",\"\",'Statement of Marks'!FF79)","v":""},{"$f":"IF('Statement of Marks'!FG79=\"\",\"\",'Statement of Marks'!FG79)","v":""},{"$f":"IF('Statement of Marks'!FH79=\"\",\"\",'Statement of Marks'!FH79)","v":""},{"$f":"IF('Statement of Marks'!FB79=\"\",\"\",'Statement of Marks'!FB79)","v":"      "},{"$f":"IF('Statement of Marks'!FI79=\"\",\"\",'Statement of Marks'!FI79)","v":""},{"$nulls":45},{"$f":"'Statement of Marks'!E79","v":""},"","","","","","","","","","","",""]
[{"$f":"'Statement of Marks'!A80","v":75},{"$f":"IF('Statement of Marks'!B80=\"\",\"\",'Statement of Marks'!B80)","v":""},{"$f":"IF('Statement of Marks'!C80=\"\",\"\",'Statement of Marks'!C80)","v":""},{"$f":"IF('Statement of Marks'!D80=\"\",\"\",'Statement of Marks'!D80)","v":""},{"$f":"IF('Statement of Marks'!E80=\"\",\"\",'Statement of Marks'!E80)","v":""},{"$f":"IF('Statement of Marks'!F80=\"\",\"\",'Statement of Marks'!F80)","v":""},{"$f":"IF('Statement of Marks'!G80=\"\",\"\",'Statement of Marks'!G80)","v":""},{"$f":"IF('Statement of Marks'!H80=\"\",\"\",'Statement of Marks'!H80)","v":""},{"$f":"IF('Statement of Marks'!I80=\"\",\"\",'Statement of Marks'!I80)","v":""},{"$f":"IF('Statement of Marks'!FD80=\"\",\"\",'Statement of Marks'!FD80)","v":" "},{"$f":"IF('Statement of Marks'!FE80=\"\",\"\",'Statement of Marks'!FE80)","v":""},{"$f":"IF('Statement of Marks'!FF80=\"\",\"\",'Statement of Marks'!FF80)","v":""},{"$f":"IF('Statement of Marks'!FG80=\"\",\"\",'Statement of Marks'!FG80)","v":""},{"$f":"IF('Statement of Marks'!FH80=\"\",\"\",'Statement of Marks'!FH80)","v":""},{"$f":"IF('Statement of Marks'!FB80=\"\",\"\",'Statement of Marks'!FB80)","v":"      "},{"$f":"IF('Statement of Marks'!FI80=\"\",\"\",'Statement of Marks'!FI80)","v":""},{"$nulls":45},{"$f":"'Statement of Marks'!E80","v":""},"","","","","","","","","","","",""]
[{"$f":"'Statement of Marks'!A81","v":76},{"$f":"IF('Statement of Marks'!B81=\"\",\"\",'Statement of Marks'!B81)","v":""},{"$f":"IF('Statement of Marks'!C81=\"\",\"\",'Statement of Marks'!C81)","v":""},{"$f":"IF('Statement of Marks'!D81=\"\",\"\",'Statement of Marks'!D81)","v":""},{"$f":"IF('Statement of Marks'!E81=\"\",\"\",'Statement of Marks'!E81)","v":""},{"$f":"IF('Statement of Marks'!F81=\"\",\"\",'Statement of Marks'!F81)","v":""},{"$f":"IF('Statement of Marks'!G81=\"\",\"\",'Statement of Marks'!G81)","v":""},{"$f":"IF('Statement of Marks'!H81=\"\",\"\",'Statement of Marks'!H81)","v":""},{"$f":"IF('Statement of Marks'!I81=\"\",\"\",'Statement of Marks'!I81)","v":""},{"$f":"IF('Statement of Marks'!FD81=\"\",\"\",'Statement of Marks'!FD81)","v":" "},{"$f":"IF('Statement of Marks'!FE81=\"\",\"\",'Statement of Marks'!FE81)","v":""},{"$f":"IF('Statement of Marks'!FF81=\"\",\"\",'Statement of Marks'!FF81)","v":""},{"$f":"IF('Statement of Marks'!FG81=\"\",\"\",'Statement of Marks'!FG81)","v":""},{"$f":"IF('Statement of Marks'!FH81=\"\",\"\",'Statement of Marks'!FH81)","v":""},{"$f":"IF('Statement of Marks'!FB81=\"\",\"\",'Statement of Marks'!FB81)","v":"      "},{"$f":"IF('Statement of Marks'!FI81=\"\",\"\",'Statement of Marks'!FI81)","v":""},{"$nulls":45},{"$f":"'Statement of Marks'!E81","v":""},"","","","","","","","","","","",""]
[{"$f":"'Statement of Marks'!A82","v":77},{"$f":"IF('Statement of Marks'!B82=\"\",\"\",'Statement of Marks'!B82)","v":""},{"$f":"IF('Statement of Marks'!C82=\"\",\"\",'Statement of Marks'!C82)","v":""},{"$f":"IF('Statement of Marks'!D82=\"\",\"\",'Statement of Marks'!D82)","v":""},{"$f":"IF('Statement of Marks'!E82=\"\",\"\",'Statement of Marks'!E82)","v":""},{"$f":"IF('Statement of Marks'!F82=\"\",\"\",'Statement of Marks'!F82)","v":""},{"$f":"IF('Statement of Marks'!G82=\"\",\"\",'Statement of Marks'!G82)","v":""},{"$f":"IF('Statement of Marks'!H82=\"\",\"\",'Statement of Marks'!H82)","v":""},{"$f":"IF('Statement of Marks'!I82=\"\",\"\",'Statement of Marks'!I82)","v":""},{"$f":"IF('Statement of Marks'!FD82=\"\",\"\",'Statement of Marks'!FD82)","v":" "},{"$f":"IF('Statement of Marks'!FE82=\"\",\"\",'Statement of Marks'!FE82)","v":""},{"$f":"IF('Statement of Marks'!FF82=\"\",\"\",'Statement of Marks'!FF82)","v":""},{"$f":"IF('Statement of Marks'!FG82=\"\",\"\",'Statement of Marks'!FG82)","v":""},{"$f":"IF('Statement of Marks'!FH82=\"\",\"\",'Statement of Marks'!FH82)","v":""},{"$f":"IF('Statement of Marks'!FB82=\"\",\"\",'Statement of Marks'!FB82)","v":"      "},{"$f":"IF('Statement of Marks'!FI82=\"\",\"\",'Statement of Marks'!FI82)","v":""},{"$nulls":45},{"$f":"'Statement of Marks'!E82","v":""},"","","","","","","","","","","",""]
[{"$f":"'Statement of Marks'!A83","v":78},{"$f":"IF('Statement of Marks'!B83=\"\",\"\",'Statement of Marks'!B83)","v":""},{"$f":"IF('Statement of Marks'!C83=\"\",\"\",'Statement of Marks'!C83)","v":""},{"$f":"IF('Statement of Marks'!D83=\"\",\"\",'Statement of Marks'!D83)","v":""},{"$f":"IF('Statement of Marks'!E83=\"\",\"\",'Statement of Marks'!E83)","v":""},{"$f":"IF('Statement of Marks'!F83=\"\",\"\",'Statement of Marks'!F83)","v":""},{"$f":"IF('Statement of Marks'!G83=\"\",\"\",'Statement of Marks'!G83)","v":""},{"$f":"IF('Statement of Marks'!H83=\"\",\"\",'Statement of Marks'!H83)","v":""},{"$f":"IF('Statement of Marks'!I83=\"\",\"\",'Statement of Marks'!I83)","v":""},{"$f":"IF('Statement of Marks'!FD83=\"\",\"\",'Statement of Marks'!FD83)","v":" "},{"$f":"IF('Statement of Marks'!FE83=\"\",\"\",'Statement of Marks'!FE83)","v":""},{"$f":"IF('Statement of Marks'!FF83=\"\",\"\",'Statement of Marks'!FF83)","v":""},{"$f":"IF('Statement of Marks'!FG83=\"\",\"\",'Statement of Marks'!FG83)","v":""},{"$f":"IF('Statement of Marks'!FH83=\"\",\"\",'Statement of Marks'!FH83)","v":""},{"$f":"IF('Statement of Marks'!FB83=\"\",\"\",'Statement of Marks'!FB83)","v":"      "},{"$f":"IF('Statement of Marks'!FI83=\"\",\"\",'Statement of Marks'!FI83)","v":""},{"$nulls":45},{"$f":"'Statement of Marks'!E83","v":""},"","","","","","","","","","","",""]
[{"$f":"'Statement of Marks'!A84","v":79},{"$f":"IF('Statement of Marks'!B84=\"\",\"\",'Statement of Marks'!B84)","v":""},{"$f":"IF('Statement of Marks'!C84=\"\",\"\",'Statement of Marks'!C84)","v":""},{"$f":"IF('Statement of Marks'!D84=\"\",\"\",'Statement of Marks'!D84)","v":""},{"$f":"IF('Statement of Marks'!E84=\"\",\"\",'Statement of Marks'!E84)","v":""},{"$f":"IF('Statement of Marks'!F84=\"\",\"\",'Statement of Marks'!F84)","v":""},{"$f":"IF('Statement of Marks'!G84=\"\",\"\",'Statement of Marks'!G84)","v":""},{"$f":"IF('Statement of Marks'!H84=\"\",\"\",'Statement of Marks'!H84)","v":""},{"$f":"IF('Statement of Marks'!I84=\"\",\"\",'Statement of Marks'!I84)","v":""},{"$f":"IF('Statement of Marks'!FD84=\"\",\"\",'Statement of Marks'!FD84)","v":" "},{"$f":"IF('Statement of Marks'!FE84=\"\",\"\",'Statement of Marks'!FE84)","v":""},{"$f":"IF('Statement of Marks'!FF84=\"\",\"\",'Statement of Marks'!FF84)","v":""},{"$f":"IF('Statement of Marks'!FG84=\"\",\"\",'Statement of Marks'!FG84)","v":""},{"$f":"IF('Statement of Marks'!FH84=\"\",\"\",'Statement of Marks'!FH84)","v":""},{"$f":"IF('Statement of Marks'!FB84=\"\",\"\",'Statement of Marks'!FB84)","v":"      "},{"$f":"IF('Statement of Marks'!FI84=\"\",\"\",'Statement of Marks'!FI84)","v":""},{"$nulls":45},{"$f":"'Statement of Marks'!E84","v":""},"","","","","","","","","","","",""]
[{"$f":"'Statement of Marks'!A85","v":80},{"$f":"IF('Statement of Marks'!B85=\"\",\"\",'Statement of Marks'!B85)","v":""},{"$f":"IF('Statement of Marks'!C85=\"\",\"\",'Statement of Marks'!C85)","v":""},{"$f":"IF('Statement of Marks'!D85=\"\",\"\",'Statement of Marks'!D85)","v":""},{"$f":"IF('Statement of Marks'!E85=\"\",\"\",'Statement of Marks'!E85)","v":""},{"$f":"IF('Statement of Marks'!F85=\"\",\"\",'Statement of Marks'!F85)","v":""},{"$f":"IF('Statement of Marks'!G85=\"\",\"\",'Statement of Marks'!G85)","v":""},{"$f":"IF('Statement of Marks'!H85=\"\",\"\",'Statement of Marks'!H85)","v":""},{"$f":"IF('Statement of Marks'!I85=\"\",\"\",'Statement of Marks'!I85)","v":""},{"$f":"IF('Statement of Marks'!FD85=\"\",\"\",'Statement of Marks'!FD85)","v":" "},{"$f":"IF('Statement of Marks'!FE85=\"\",\"\",'Statement of Marks'!FE85)","v":""},{"$f":"IF('Statement of Marks'!FF85=\"\",\"\",'Statement of Marks'!FF85)","v":""},{"$f":"IF('Statement of Marks'!FG85=\"\",\"\",'Statement of Marks'!FG85)","v":""},{"$f":"IF('Statement of Marks'!FH85=\"\",\"\",'Statement of Marks'!FH85)","v":""},{"$f":"IF('Statement of Marks'!FB85=\"\",\"\",'Statement of Marks'!FB85)","v":"      "},{"$f":"IF('Statement of Marks'!FI85=\"\",\"\",'Statement of Marks'!FI85)","v":""},{"$nulls":45},{"$f":"'Statement of Marks'!E85","v":""},"","","","","","","","","","","",""]
[{"$f":"'Statement of Marks'!A86","v":81},{"$f":"IF('Statement of Marks'!B86=\"\",\"\",'Statement of Marks'!B86)","v":""},{"$f":"IF('Statement of Marks'!C86=\"\",\"\",'Statement of Marks'!C86)","v":""},{"$f":"IF('Statement of Marks'!D86=\"\",\"\",'Statement of Marks'!D86)","v":""},{"$f":"IF('Statement of Marks'!E86=\"\",\"\",'Statement of Marks'!E86)","v":""},{"$f":"IF('Statement of Marks'!F86=\"\",\"\",'Statement of Marks'!F86)","v":""},{"$f":"IF('Statement of Marks'!G86=\"\",\"\",'Statement of Marks'!G86)","v":""},{"$f":"IF('Statement of Marks'!H86=\"\",\"\",'Statement of Marks'!H86)","v":""},{"$f":"IF('Statement of Marks'!I86=\"\",\"\",'Statement of Marks'!I86)","v":""},{"$f":"IF('Statement of Marks'!FD86=\"\",\"\",'Statement of Marks'!FD86)","v":" "},{"$f":"IF('Statement of Marks'!FE86=\"\",\"\",'Statement of Marks'!FE86)","v":""},{"$f":"IF('Statement of Marks'!FF86=\"\",\"\",'Statement of Marks'!FF86)","v":""},{"$f":"IF('Statement of Marks'!FG86=\"\",\"\",'Statement of Marks'!FG86)","v":""},{"$f":"IF('Statement of Marks'!FH86=\"\",\"\",'Statement of Marks'!FH86)","v":""},{"$f":"IF('Statement of Marks'!FB86=\"\",\"\",'Statement of Marks'!FB86)","v":"      "},{"$f":"IF('Statement of Marks'!FI86=\"\",\"\",'Statement of Marks'!FI86)","v":""},{"$nulls":45},{"$f":"'Statement of Marks'!E86","v":""},"","","","","","","","","","","",""]
[{"$f":"'Statement of Marks'!A87","v":82},{"$f":"IF('Statement of Marks'!B87=\"\",\"\",'Statement of Marks'!B87)","v":""},{"$f":"IF('Statement of Marks'!C87=\"\",\"\",'Statement of Marks'!C87)","v":""},{"$f":"IF('Statement of Marks'!D87=\"\",\"\",'Statement of Marks'!D87)","v":""},{"$f":"IF('Statement of Marks'!E87=\"\",\"\",'Statement of Marks'!E87)","v":""},{"$f":"IF('Statement of Marks'!F87=\"\",\"\",'Statement of Marks'!F87)","v":""},{"$f":"IF('Statement of Marks'!G87=\"\",\"\",'Statement of Marks'!G87)","v":""},{"$f":"IF('Statement of Marks'!H87=\"\",\"\",'Statement of Marks'!H87)","v":""},{"$f":"IF('Statement of Marks'!I87=\"\",\"\",'Statement of Marks'!I87)","v":""},{"$f":"IF('Statement of Marks'!FD87=\"\",\"\",'Statement of Marks'!FD87)","v":" "},{"$f":"IF('Statement of Marks'!FE87=\"\",\"\",'Statement of Marks'!FE87)","v":""},{"$f":"IF('Statement of Marks'!FF87=\"\",\"\",'Statement of Marks'!FF87)","v":""},{"$f":"IF('Statement of Marks'!FG87=\"\",\"\",'Statement of Marks'!FG87)","v":""},{"$f":"IF('Statement of Marks'!FH87=\"\",\"\",'Statement of Marks'!FH87)","v":""},{"$f":"IF('Statement of Marks'!FB87=\"\",\"\",'Statement of Marks'!FB87)","v":"      "},{"$f":"IF('Statement of Marks'!FI87=\"\",\"\",'Statement of Marks'!FI87)","v":""},{"$nulls":45},{"$f":"'Statement of Marks'!E87","v":""},"","","","","","","","","","","",""]
[{"$f":"'Statement of Marks'!A88","v":83},{"$f":"IF('Statement of Marks'!B88=\"\",\"\",'Statement of Marks'!B88)","v":""},{"$f":"IF('Statement of Marks'!C88=\"\",\"\",'Statement of Marks'!C88)","v":""},{"$f":"IF('Statement of Marks'!D88=\"\",\"\",'Statement of Marks'!D88)","v":""},{"$f":"IF('Statement of Marks'!E88=\"\",\"\",'Statement of Marks'!E88)","v":""},{"$f":"IF('Statement of Marks'!F88=\"\",\"\",'Statement of Marks'!F88)","v":""},{"$f":"IF('Statement of Marks'!G88=\"\",\"\",'Statement of Marks'!G88)","v":""},{"$f":"IF('Statement of Marks'!H88=\"\",\"\",'Statement of Marks'!H88)","v":""},{"$f":"IF('Statement of Marks'!I88=\"\",\"\",'Statement of Marks'!I88)","v":""},{"$f":"IF('Statement of Marks'!FD88=\"\",\"\",'Statement of Marks'!FD88)","v":" "},{"$f":"IF('Statement of Marks'!FE88=\"\",\"\",'Statement of Marks'!FE88)","v":""},{"$f":"IF('Statement of Marks'!FF88=\"\",\"\",'Statement of Marks'!FF88)","v":""},{"$f":"IF('Statement of Marks'!FG88=\"\",\"\",'Statement of Marks'!FG88)","v":""},{"$f":"IF('Statement of Marks'!FH88=\"\",\"\",'Statement of Marks'!FH88)","v":""},{"$f":"IF('Statement of Marks'!FB88=\"\",\"\",'Statement of Marks'!FB88)","v":"      "},{"$f":"IF('Statement of Marks'!FI88=\"\",\"\",'Statement of Marks'!FI88)","v":""},{"$nulls":45},{"$f":"'Statement of Marks'!E88","v":""},"","","","","","","","","","","",""]
[{"$f":"'Statement of Marks'!A89","v":84},{"$f":"IF('Statement of Marks'!B89=\"\",\"\",'Statement of Marks'!B89)","v":""},{"$f":"IF('Statement of Marks'!C89=\"\",\"\",'Statement of Marks'!C89)","v":""},{"$f":"IF('Statement of Marks'!D89=\"\",\"\",'Statement of Marks'!D89)","v":""},{"$f":"IF('Statement of Marks'!E89=\"\",\"\",'Statement of Marks'!E89)","v":""},{"$f":"IF('Statement of Marks'!F89=\"\",\"\",'Statement of Marks'!F89)","v":""},{"$f":"IF('Statement of Marks'!G89=\"\",\"\",'Statement of Marks'!G89)","v":""},{"$f":"IF('Statement of Marks'!H89=\"\",\"\",'Statement of Marks'!H89)","v":""},{"$f":"IF('Statement of Marks'!I89=\"\",\"\",'Statement of Marks'!I89)","v":""},{"$f":"IF('Statement of Marks'!FD89=\"\",\"\",'Statement of Marks'!FD89)","v":" "},{"$f":"IF('Statement of Marks'!FE89=\"\",\"\",'Statement of Marks'!FE89)","v":""},{"$f":"IF('Statement of Marks'!FF89=\"\",\"\",'Statement of Marks'!FF89)","v":""},{"$f":"IF('Statement of Marks'!FG89=\"\",\"\",'Statement of Marks'!FG89)","v":""},{"$f":"IF('Statement of Marks'!FH89=\"\",\"\",'Statement of Marks'!FH89)","v":""},{"$f":"IF('Statement of Marks'!FB89=\"\",\"\",'Statement of Marks'!FB89)","v":"      "},{"$f":"IF('Statement of Marks'!FI89=\"\",\"\",'Statement of Marks'!FI89)","v":""},{"$nulls":45},{"$f":"'Statement of Marks'!E89","v":""},"","","","","","","","","","","",""]
[{"$f":"'Statement of Marks'!A90","v":85},{"$f":"IF('Statement of Marks'!B90=\"\",\"\",'Statement of Marks'!B90)","v":""},{"$f":"IF('Statement of Marks'!C90=\"\",\"\",'Statement of Marks'!C90)","v":""},{"$f":"IF('Statement of Marks'!D90=\"\",\"\",'Statement of Marks'!D90)","v":""},{"$f":"IF('Statement of Marks'!E90=\"\",\"\",'Statement of Marks'!E90)","v":""},{"$f":"IF('Statement of Marks'!F90=\"\",\"\",'Statement of Marks'!F90)","v":""},{"$f":"IF('Statement of Marks'!G90=\"\",\"\",'Statement of Marks'!G90)","v":""},{"$f":"IF('Statement of Marks'!H90=\"\",\"\",'Statement of Marks'!H90)","v":""},{"$f":"IF('Statement of Marks'!I90=\"\",\"\",'Statement of Marks'!I90)","v":""},{"$f":"IF('Statement of Marks'!FD90=\"\",\"\",'Statement of Marks'!FD90)","v":" "},{"$f":"IF('Statement of Marks'!FE90=\"\",\"\",'Statement of Marks'!FE90)","v":""},{"$f":"IF('Statement of Marks'!FF90=\"\",\"\",'Statement of Marks'!FF90)","v":""},{"$f":"IF('Statement of Marks'!FG90=\"\",\"\",'Statement of Marks'!FG90)","v":""},{"$f":"IF('Statement of Marks'!FH90=\"\",\"\",'Statement of Marks'!FH90)","v":""},{"$f":"IF('Statement of Marks'!FB90=\"\",\"\",'Statement of Marks'!FB90)","v":"      "},{"$f":"IF('Statement of Marks'!FI90=\"\",\"\",'Statement of Marks'!FI90)","v":""},{"$nulls":45},{"$f":"'Statement of Marks'!E90","v":""},"","","","","","","","","","","",""]
[{"$f":"'Statement of Marks'!A91","v":86},{"$f":"IF('Statement of Marks'!B91=\"\",\"\",'Statement of Marks'!B91)","v":""},{"$f":"IF('Statement of Marks'!C91=\"\",\"\",'Statement of Marks'!C91)","v":""},{"$f":"IF('Statement of Marks'!D91=\"\",\"\",'Statement of Marks'!D91)","v":""},{"$f":"IF('Statement of Marks'!E91=\"\",\"\",'Statement of Marks'!E91)","v":""},{"$f":"IF('Statement of Marks'!F91=\"\",\"\",'Statement of Marks'!F91)","v":""},{"$f":"IF('Statement of Marks'!G91=\"\",\"\",'Statement of Marks'!G91)","v":""},{"$f":"IF('Statement of Marks'!H91=\"\",\"\",'Statement of Marks'!H91)","v":""},{"$f":"IF('Statement of Marks'!I91=\"\",\"\",'Statement of Marks'!I91)","v":""},{"$f":"IF('Statement of Marks'!FD91=\"\",\"\",'Statement of Marks'!FD91)","v":" "},{"$f":"IF('Statement of Marks'!FE91=\"\",\"\",'Statement of Marks'!FE91)","v":""},{"$f":"IF('Statement of Marks'!FF91=\"\",\"\",'Statement of Marks'!FF91)","v":""},{"$f":"IF('Statement of Marks'!FG91=\"\",\"\",'Statement of Marks'!FG91)","v":""},{"$f":"IF('Statement of Marks'!FH91=\"\",\"\",'Statement of Marks'!FH91)","v":""},{"$f":"IF('Statement of Marks'!FB91=\"\",\"\",'Statement of Marks'!FB91)","v":"      "},{"$f":"IF('Statement of Marks'!FI91=\"\",\"\",'Statement of Marks'!FI91)","v":""},{"$nulls":45},{"$f":"'Statement of Marks'!E91","v":""},"","","","","","","","","","","",""]
[{"$f":"'Statement of Marks'!A92","v":87},{"$f":"IF('Statement of Marks'!B92=\"\",\"\",'Statement of Marks'!B92)","v":""},{"$f":"IF('Statement of Marks'!C92=\"\",\"\",'Statement of Marks'!C92)","v":""},{"$f":"IF('Statement of Marks'!D92=\"\",\"\",'Statement of Marks'!D92)","v":""},{"$f":"IF('Statement of Marks'!E92=\"\",\"\",'Statement of Marks'!E92)","v":""},{"$f":"IF('Statement of Marks'!F92=\"\",\"\",'Statement of Marks'!F92)","v":""},{"$f":"IF('Statement of Marks'!G92=\"\",\"\",'Statement of Marks'!G92)","v":""},{"$f":"IF('Statement of Marks'!H92=\"\",\"\",'Statement of Marks'!H92)","v":""},{"$f":"IF('Statement of Marks'!I92=\"\",\"\",'Statement of Marks'!I92)","v":""},{"$f":"IF('Statement of Marks'!FD92=\"\",\"\",'Statement of Marks'!FD92)","v":" "},{"$f":"IF('Statement of Marks'!FE92=\"\",\"\",'Statement of Marks'!FE92)","v":""},{"$f":"IF('Statement of Marks'!FF92=\"\",\"\",'Statement of Marks'!FF92)","v":""},{"$f":"IF('Statement of Marks'!FG92=\"\",\"\",'Statement of Marks'!FG92)","v":""},{"$f":"IF('Statement of Marks'!FH92=\"\",\"\",'Statement of Marks'!FH92)","v":""},{"$f":"IF('Statement of Marks'!FB92=\"\",\"\",'Statement of Marks'!FB92)","v":"      "},{"$f":"IF('Statement of Marks'!FI92=\"\",\"\",'Statement of Marks'!FI92)","v":""},{"$nulls":45},{"$f":"'Statement of Marks'!E92","v":""},"","","","","","","","","","","",""]
[{"$f":"'Statement of Marks'!A93","v":88},{"$f":"IF('Statement of Marks'!B93=\"\",\"\",'Statement of Marks'!B93)","v":""},{"$f":"IF('Statement of Marks'!C93=\"\",\"\",'Statement of Marks'!C93)","v":""},{"$f":"IF('Statement of Marks'!D93=\"\",\"\",'Statement of Marks'!D93)","v":""},{"$f":"IF('Statement of Marks'!E93=\"\",\"\",'Statement of Marks'!E93)","v":""},{"$f":"IF('Statement of Marks'!F93=\"\",\"\",'Statement of Marks'!F93)","v":""},{"$f":"IF('Statement of Marks'!G93=\"\",\"\",'Statement of Marks'!G93)","v":""},{"$f":"IF('Statement of Marks'!H93=\"\",\"\",'Statement of Marks'!H93)","v":""},{"$f":"IF('Statement of Marks'!I93=\"\",\"\",'Statement of Marks'!I93)","v":""},{"$f":"IF('Statement of Marks'!FD93=\"\",\"\",'Statement of Marks'!FD93)","v":" "},{"$f":"IF('Statement of Marks'!FE93=\"\",\"\",'Statement of Marks'!FE93)","v":""},{"$f":"IF('Statement of Marks'!FF93=\"\",\"\",'Statement of Marks'!FF93)","v":""},{"$f":"IF('Statement of Marks'!FG93=\"\",\"\",'Statement of Marks'!FG93)","v":""},{"$f":"IF('Statement of Marks'!FH93=\"\",\"\",'Statement of Marks'!FH93)","v":""},{"$f":"IF('Statement of Marks'!FB93=\"\",\"\",'Statement of Marks'!FB93)","v":"      "},{"$f":"IF('Statement of Marks'!FI93=\"\",\"\",'Statement of Marks'!FI93)","v":""},{"$nulls":45},{"$f":"'Statement of Marks'!E93","v":""},"","","","","","","","","","","",""]
[{"$f":"'Statement of Marks'!A94","v":89},{"$f":"IF('Statement of Marks'!B94=\"\",\"\",'Statement of Marks'!B94)","v":""},{"$f":"IF('Statement of Marks'!C94=\"\",\"\",'Statement of Marks'!C94)","v":""},{"$f":"IF('Statement of Marks'!D94=\"\",\"\",'Statement of Marks'!D94)","v":""},{"$f":"IF('Statement of Marks'!E94=\"\",\"\",'Statement of Marks'!E94)","v":""},{"$f":"IF('Statement of Marks'!F94=\"\",\"\",'Statement of Marks'!F94)","v":""},{"$f":"IF('Statement of Marks'!G94=\"\",\"\",'Statement of Marks'!G94)","v":""},{"$f":"IF('Statement of Marks'!H94=\"\",\"\",'Statement of Marks'!H94)","v":""},{"$f":"IF('Statement of Marks'!I94=\"\",\"\",'Statement of Marks'!I94)","v":""},{"$f":"IF('Statement of Marks'!FD94=\"\",\"\",'Statement of Marks'!FD94)","v":" "},{"$f":"IF('Statement of Marks'!FE94=\"\",\"\",'Statement of Marks'!FE94)","v":""},{"$f":"IF('Statement of Marks'!FF94=\"\",\"\",'Statement of Marks'!FF94)","v":""},{"$f":"IF('Statement of Marks'!FG94=\"\",\"\",'Statement of Marks'!FG94)","v":""},{"$f":"IF('Statement of Marks'!FH94=\"\",\"\",'Statement of Marks'!FH94)","v":""},{"$f":"IF('Statement of Marks'!FB94=\"\",\"\",'Statement of Marks'!FB94)","v":"      "},{"$f":"IF('Statement of Marks'!FI94=\"\",\"\",'Statement of Marks'!FI94)","v":""},{"$nulls":45},{"$f":"'Statement of Marks'!E94","v":""},"","","","","","","","","","","",""]
[{"$f":"'Statement of Marks'!A95","v":90},{"$f":"IF('Statement of Marks'!B95=\"\",\"\",'Statement of Marks'!B95)","v":""},{"$f":"IF('Statement of Marks'!C95=\"\",\"\",'Statement of Marks'!C95)","v":""},{"$f":"IF('Statement of Marks'!D95=\"\",\"\",'Statement of Marks'!D95)","v":""},{"$f":"IF('Statement of Marks'!E95=\"\",\"\",'Statement of Marks'!E95)","v":""},{"$f":"IF('Statement of Marks'!F95=\"\",\"\",'Statement of Marks'!F95)","v":""},{"$f":"IF('Statement of Marks'!G95=\"\",\"\",'Statement of Marks'!G95)","v":""},{"$f":"IF('Statement of Marks'!H95=\"\",\"\",'Statement of Marks'!H95)","v":""},{"$f":"IF('Statement of Marks'!I95=\"\",\"\",'Statement of Marks'!I95)","v":""},{"$f":"IF('Statement of Marks'!FD95=\"\",\"\",'Statement of Marks'!FD95)","v":" "},{"$f":"IF('Statement of Marks'!FE95=\"\",\"\",'Statement of Marks'!FE95)","v":""},{"$f":"IF('Statement of Marks'!FF95=\"\",\"\",'Statement of Marks'!FF95)","v":""},{"$f":"IF('Statement of Marks'!FG95=\"\",\"\",'Statement of Marks'!FG95)","v":""},{"$f":"IF('Statement of Marks'!FH95=\"\",\"\",'Statement of Marks'!FH95)","v":""},{"$f":"IF('Statement of Marks'!FB95=\"\",\"\",'Statement of Marks'!FB95)","v":"      "},{"$f":"IF('Statement of Marks'!FI95=\"\",\"\",'Statement of Marks'!FI95)","v":""},{"$nulls":45},{"$f":"'Statement of Marks'!E95","v":""},"","","","","","","","","","","",""]
[{"$f":"'Statement of Marks'!A96","v":91},{"$f":"IF('Statement of Marks'!B96=\"\",\"\",'Statement of Marks'!B96)","v":""},{"$f":"IF('Statement of Marks'!C96=\"\",\"\",'Statement of Marks'!C96)","v":""},{"$f":"IF('Statement of Marks'!D96=\"\",\"\",'Statement of Marks'!D96)","v":""},{"$f":"IF('Statement of Marks'!E96=\"\",\"\",'Statement of Marks'!E96)","v":""},{"$f":"IF('Statement of Marks'!F96=\"\",\"\",'Statement of Marks'!F96)","v":""},{"$f":"IF('Statement of Marks'!G96=\"\",\"\",'Statement of Marks'!G96)","v":""},{"$f":"IF('Statement of Marks'!H96=\"\",\"\",'Statement of Marks'!H96)","v":""},{"$f":"IF('Statement of Marks'!I96=\"\",\"\",'Statement of Marks'!I96)","v":""},{"$f":"IF('Statement of Marks'!FD96=\"\",\"\",'Statement of Marks'!FD96)","v":" "},{"$f":"IF('Statement of Marks'!FE96=\"\",\"\",'Statement of Marks'!FE96)","v":""},{"$f":"IF('Statement of Marks'!FF96=\"\",\"\",'Statement of Marks'!FF96)","v":""},{"$f":"IF('Statement of Marks'!FG96=\"\",\"\",'Statement of Marks'!FG96)","v":""},{"$f":"IF('Statement of Marks'!FH96=\"\",\"\",'Statement of Marks'!FH96)","v":""},{"$f":"IF('Statement of Marks'!FB96=\"\",\"\",'Statement of Marks'!FB96)","v":"      "},{"$f":"IF('Statement of Marks'!FI96=\"\",\"\",'Statement of Marks'!FI96)","v":""},{"$nulls":45},{"$f":"'Statement of Marks'!E96","v":""},"","","","","","","","","","","",""]
[{"$f":"'Statement of Marks'!A97","v":92},{"$f":"IF('Statement of Marks'!B97=\"\",\"\",'Statement of Marks'!B97)","v":""},{"$f":"IF('Statement of Marks'!C97=\"\",\"\",'Statement of Marks'!C97)","v":""},{"$f":"IF('Statement of Marks'!D97=\"\",\"\",'Statement of Marks'!D97)","v":""},{"$f":"IF('Statement of Marks'!E97=\"\",\"\",'Statement of Marks'!E97)","v":""},{"$f":"IF('Statement of Marks'!F97=\"\",\"\",'Statement of Marks'!F97)","v":""},{"$f":"IF('Statement of Marks'!G97=\"\",\"\",'Statement of Marks'!G97)","v":""},{"$f":"IF('Statement of Marks'!H97=\"\",\"\",'Statement of Marks'!H97)","v":""},{"$f":"IF('Statement of Marks'!I97=\"\",\"\",'Statement of Marks'!I97)","v":""},{"$f":"IF('Statement of Marks'!FD97=\"\",\"\",'Statement of Marks'!FD97)","v":" "},{"$f":"IF('Statement of Marks'!FE97=\"\",\"\",'Statement of Marks'!FE97)","v":""},{"$f":"IF('Statement of Marks'!FF97=\"\",\"\",'Statement of Marks'!FF97)","v":""},{"$f":"IF('Statement of Marks'!FG97=\"\",\"\",'Statement of Marks'!FG97)","v":""},{"$f":"IF('Statement of Marks'!FH97=\"\",\"\",'Statement of Marks'!FH97)","v":""},{"$f":"IF('Statement of Marks'!FB97=\"\",\"\",'Statement of Marks'!FB97)","v":"      "},{"$f":"IF('Statement of Marks'!FI97=\"\",\"\",'Statement of Marks'!FI97)","v":""},{"$nulls":45},{"$f":"'Statement of Marks'!E97","v":""},"","","","","","","","","","","",""]
[{"$f":"'Statement of Marks'!A98","v":93},{"$f":"IF('Statement of Marks'!B98=\"\",\"\",'Statement of Marks'!B98)","v":""},{"$f":"IF('Statement of Marks'!C98=\"\",\"\",'Statement of Marks'!C98)","v":""},{"$f":"IF('Statement of Marks'!D98=\"\",\"\",'Statement of Marks'!D98)","v":""},{"$f":"IF('Statement of Marks'!E98=\"\",\"\",'Statement of Marks'!E98)","v":""},{"$f":"IF('Statement of Marks'!F98=\"\",\"\",'Statement of Marks'!F98)","v":""},{"$f":"IF('Statement of Marks'!G98=\"\",\"\",'Statement of Marks'!G98)","v":""},{"$f":"IF('Statement of Marks'!H98=\"\",\"\",'Statement of Marks'!H98)","v":""},{"$f":"IF('Statement of Marks'!I98=\"\",\"\",'Statement of Marks'!I98)","v":""},{"$f":"IF('Statement of Marks'!FD98=\"\",\"\",'Statement of Marks'!FD98)","v":" "},{"$f":"IF('Statement of Marks'!FE98=\"\",\"\",'Statement of Marks'!FE98)","v":""},{"$f":"IF('Statement of Marks'!FF98=\"\",\"\",'Statement of Marks'!FF98)","v":""},{"$f":"IF('Statement of Marks'!FG98=\"\",\"\",'Statement of Marks'!FG98)","v":""},{"$f":"IF('Statement of Marks'!FH98=\"\",\"\",'Statement of Marks'!FH98)","v":""},{"$f":"IF('Statement of Marks'!FB98=\"\",\"\",'Statement of Marks'!FB98)","v":"      "},{"$f":"IF('Statement of Marks'!FI98=\"\",\"\",'Statement of Marks'!FI98)","v":""},{"$nulls":45},{"$f":"'Statement of Marks'!E98","v":""},"","","","","","","","","","","",""]
[{"$f":"'Statement of Marks'!A99","v":94},{"$f":"IF('Statement of Marks'!B99=\"\",\"\",'Statement of Marks'!B99)","v":""},{"$f":"IF('Statement of Marks'!C99=\"\",\"\",'Statement of Marks'!C99)","v":""},{"$f":"IF('Statement of Marks'!D99=\"\",\"\",'Statement of Marks'!D99)","v":""},{"$f":"IF('Statement of Marks'!E99=\"\",\"\",'Statement of Marks'!E99)","v":""},{"$f":"IF('Statement of Marks'!F99=\"\",\"\",'Statement of Marks'!F99)","v":""},{"$f":"IF('Statement of Marks'!G99=\"\",\"\",'Statement of Marks'!G99)","v":""},{"$f":"IF('Statement of Marks'!H99=\"\",\"\",'Statement of Marks'!H99)","v":""},{"$f":"IF('Statement of Marks'!I99=\"\",\"\",'Statement of Marks'!I99)","v":""},{"$f":"IF('Statement of Marks'!FD99=\"\",\"\",'Statement of Marks'!FD99)","v":" "},{"$f":"IF('Statement of Marks'!FE99=\"\",\"\",'Statement of Marks'!FE99)","v":""},{"$f":"IF('Statement of Marks'!FF99=\"\",\"\",'Statement of Marks'!FF99)","v":""},{"$f":"IF('Statement of Marks'!FG99=\"\",\"\",'Statement of Marks'!FG99)","v":""},{"$f":"IF('Statement of Marks'!FH99=\"\",\"\",'Statement of Marks'!FH99)","v":""},{"$f":"IF('Statement of Marks'!FB99=\"\",\"\",'Statement of Marks'!FB99)","v":"      "},{"$f":"IF('Statement of Marks'!FI99=\"\",\"\",'Statement of Marks'!FI99)","v":""},{"$nulls":45},{"$f":"'Statement of Marks'!E99","v":""},"","","","","","","","","","","",""]
[{"$f":"'Statement of Marks'!A100","v":95},{"$f":"IF('Statement of Marks'!B100=\"\",\"\",'Statement of Marks'!B100)","v":""},{"$f":"IF('Statement of Marks'!C100=\"\",\"\",'Statement of Marks'!C100)","v":""},{"$f":"IF('Statement of Marks'!D100=\"\",\"\",'Statement of Marks'!D100)","v":""},{"$f":"IF('Statement of Marks'!E100=\"\",\"\",'Statement of Marks'!E100)","v":""},{"$f":"IF('Statement of Marks'!F100=\"\",\"\",'Statement of Marks'!F100)","v":""},{"$f":"IF('Statement of Marks'!G100=\"\",\"\",'Statement of Marks'!G100)","v":""},{"$f":"IF('Statement of Marks'!H100=\"\",\"\",'Statement of Marks'!H100)","v":""},{"$f":"IF('Statement of Marks'!I100=\"\",\"\",'Statement of Marks'!I100)","v":""},{"$f":"IF('Statement of Marks'!FD100=\"\",\"\",'Statement of Marks'!FD100)","v":" "},{"$f":"IF('Statement of Marks'!FE100=\"\",\"\",'Statement of Marks'!FE100)","v":""},{"$f":"IF('Statement of Marks'!FF100=\"\",\"\",'Statement of Marks'!FF100)","v":""},{"$f":"IF('Statement of Marks'!FG100=\"\",\"\",'Statement of Marks'!FG100)","v":""},{"$f":"IF('Statement of Marks'!FH100=\"\",\"\",'Statement of Marks'!FH100)","v":""},{"$f":"IF('Statement of Marks'!FB100=\"\",\"\",'Statement of Marks'!FB100)","v":"      "},{"$f":"IF('Statement of Marks'!FI100=\"\",\"\",'Statement of Marks'!FI100)","v":""},{"$nulls":45},{"$f":"'Statement of Marks'!E100","v":""},"","","","","","","","","","","",""]
[{"$f":"'Statement of Marks'!A101","v":96},{"$f":"IF('Statement of Marks'!B101=\"\",\"\",'Statement of Marks'!B101)","v":""},{"$f":"IF('Statement of Marks'!C101=\"\",\"\",'Statement of Marks'!C101)","v":""},{"$f":"IF('Statement of Marks'!D101=\"\",\"\",'Statement of Marks'!D101)","v":""},{"$f":"IF('Statement of Marks'!E101=\"\",\"\",'Statement of Marks'!E101)","v":""},{"$f":"IF('Statement of Marks'!F101=\"\",\"\",'Statement of Marks'!F101)","v":""},{"$f":"IF('Statement of Marks'!G101=\"\",\"\",'Statement of Marks'!G101)","v":""},{"$f":"IF('Statement of Marks'!H101=\"\",\"\",'Statement of Marks'!H101)","v":""},{"$f":"IF('Statement of Marks'!I101=\"\",\"\",'Statement of Marks'!I101)","v":""},{"$f":"IF('Statement of Marks'!FD101=\"\",\"\",'Statement of Marks'!FD101)","v":" "},{"$f":"IF('Statement of Marks'!FE101=\"\",\"\",'Statement of Marks'!FE101)","v":""},{"$f":"IF('Statement of Marks'!FF101=\"\",\"\",'Statement of Marks'!FF101)","v":""},{"$f":"IF('Statement of Marks'!FG101=\"\",\"\",'Statement of Marks'!FG101)","v":""},{"$f":"IF('Statement of Marks'!FH101=\"\",\"\",'Statement of Marks'!FH101)","v":""},{"$f":"IF('Statement of Marks'!FB101=\"\",\"\",'Statement of Marks'!FB101)","v":"      "},{"$f":"IF('Statement of Marks'!FI101=\"\",\"\",'Statement of Marks'!FI101)","v":""},{"$nulls":45},{"$f":"'Statement of Marks'!E101","v":""},"","","","","","","","","","","",""]
[{"$f":"'Statement of Marks'!A102","v":97},{"$f":"IF('Statement of Marks'!B102=\"\",\"\",'Statement of Marks'!B102)","v":""},{"$f":"IF('Statement of Marks'!C102=\"\",\"\",'Statement of Marks'!C102)","v":""},{"$f":"IF('Statement of Marks'!D102=\"\",\"\",'Statement of Marks'!D102)","v":""},{"$f":"IF('Statement of Marks'!E102=\"\",\"\",'Statement of Marks'!E102)","v":""},{"$f":"IF('Statement of Marks'!F102=\"\",\"\",'Statement of Marks'!F102)","v":""},{"$f":"IF('Statement of Marks'!G102=\"\",\"\",'Statement of Marks'!G102)","v":""},{"$f":"IF('Statement of Marks'!H102=\"\",\"\",'Statement of Marks'!H102)","v":""},{"$f":"IF('Statement of Marks'!I102=\"\",\"\",'Statement of Marks'!I102)","v":""},{"$f":"IF('Statement of Marks'!FD102=\"\",\"\",'Statement of Marks'!FD102)","v":" "},{"$f":"IF('Statement of Marks'!FE102=\"\",\"\",'Statement of Marks'!FE102)","v":""},{"$f":"IF('Statement of Marks'!FF102=\"\",\"\",'Statement of Marks'!FF102)","v":""},{"$f":"IF('Statement of Marks'!FG102=\"\",\"\",'Statement of Marks'!FG102)","v":""},{"$f":"IF('Statement of Marks'!FH102=\"\",\"\",'Statement of Marks'!FH102)","v":""},{"$f":"IF('Statement of Marks'!FB102=\"\",\"\",'Statement of Marks'!FB102)","v":"      "},{"$f":"IF('Statement of Marks'!FI102=\"\",\"\",'Statement of Marks'!FI102)","v":""},{"$nulls":45},{"$f":"'Statement of Marks'!E102","v":""},"","","","","","","","","","","",""]
[{"$f":"'Statement of Marks'!A103","v":98},{"$f":"IF('Statement of Marks'!B103=\"\",\"\",'Statement of Marks'!B103)","v":""},{"$f":"IF('Statement of Marks'!C103=\"\",\"\",'Statement of Marks'!C103)","v":""},{"$f":"IF('Statement of Marks'!D103=\"\",\"\",'Statement of Marks'!D103)","v":""},{"$f":"IF('Statement of Marks'!E103=\"\",\"\",'Statement of Marks'!E103)","v":""},{"$f":"IF('Statement of Marks'!F103=\"\",\"\",'Statement of Marks'!F103)","v":""},{"$f":"IF('Statement of Marks'!G103=\"\",\"\",'Statement of Marks'!G103)","v":""},{"$f":"IF('Statement of Marks'!H103=\"\",\"\",'Statement of Marks'!H103)","v":""},{"$f":"IF('Statement of Marks'!I103=\"\",\"\",'Statement of Marks'!I103)","v":""},{"$f":"IF('Statement of Marks'!FD103=\"\",\"\",'Statement of Marks'!FD103)","v":" "},{"$f":"IF('Statement of Marks'!FE103=\"\",\"\",'Statement of Marks'!FE103)","v":""},{"$f":"IF('Statement of Marks'!FF103=\"\",\"\",'Statement of Marks'!FF103)","v":""},{"$f":"IF('Statement of Marks'!FG103=\"\",\"\",'Statement of Marks'!FG103)","v":""},{"$f":"IF('Statement of Marks'!FH103=\"\",\"\",'Statement of Marks'!FH103)","v":""},{"$f":"IF('Statement of Marks'!FB103=\"\",\"\",'Statement of Marks'!FB103)","v":"      "},{"$f":"IF('Statement of Marks'!FI103=\"\",\"\",'Statement of Marks'!FI103)","v":""},{"$nulls":45},{"$f":"'Statement of Marks'!E103","v":""},"","","","","","","","","","","",""]
[{"$f":"'Statement of Marks'!A104","v":99},{"$f":"IF('Statement of Marks'!B104=\"\",\"\",'Statement of Marks'!B104)","v":""},{"$f":"IF('Statement of Marks'!C104=\"\",\"\",'Statement of Marks'!C104)","v":""},{"$f":"IF('Statement of Marks'!D104=\"\",\"\",'Statement of Marks'!D104)","v":""},{"$f":"IF('Statement of Marks'!E104=\"\",\"\",'Statement of Marks'!E104)","v":""},{"$f":"IF('Statement of Marks'!F104=\"\",\"\",'Statement of Marks'!F104)","v":""},{"$f":"IF('Statement of Marks'!G104=\"\",\"\",'Statement of Marks'!G104)","v":""},{"$f":"IF('Statement of Marks'!H104=\"\",\"\",'Statement of Marks'!H104)","v":""},{"$f":"IF('Statement of Marks'!I104=\"\",\"\",'Statement of Marks'!I104)","v":""},{"$f":"IF('Statement of Marks'!FD104=\"\",\"\",'Statement of Marks'!FD104)","v":" "},{"$f":"IF('Statement of Marks'!FE104=\"\",\"\",'Statement of Marks'!FE104)","v":""},{"$f":"IF('Statement of Marks'!FF104=\"\",\"\",'Statement of Marks'!FF104)","v":""},{"$f":"IF('Statement of Marks'!FG104=\"\",\"\",'Statement of Marks'!FG104)","v":""},{"$f":"IF('Statement of Marks'!FH104=\"\",\"\",'Statement of Marks'!FH104)","v":""},{"$f":"IF('Statement of Marks'!FB104=\"\",\"\",'Statement of Marks'!FB104)","v":"      "},{"$f":"IF('Statement of Marks'!FI104=\"\",\"\",'Statement of Marks'!FI104)","v":""},{"$nulls":45},{"$f":"'Statement of Marks'!E104","v":""},"","","","","","","","","","","",""]
[{"$f":"'Statement of Marks'!A105","v":100},{"$f":"IF('Statement of Marks'!B105=\"\",\"\",'Statement of Marks'!B105)","v":""},{"$f":"IF('Statement of Marks'!C105=\"\",\"\",'Statement of Marks'!C105)","v":""},{"$f":"IF('Statement of Marks'!D105=\"\",\"\",'Statement of Marks'!D105)","v":""},{"$f":"IF('Statement of Marks'!E105=\"\",\"\",'Statement of Marks'!E105)","v":""},{"$f":"IF('Statement of Marks'!F105=\"\",\"\",'Statement of Marks'!F105)","v":""},{"$f":"IF('Statement of Marks'!G105=\"\",\"\",'Statement of Marks'!G105)","v":""},{"$f":"IF('Statement of Marks'!H105=\"\",\"\",'Statement of Marks'!H105)","v":""},{"$f":"IF('Statement of Marks'!I105=\"\",\"\",'Statement of Marks'!I105)","v":""},{"$f":"IF('Statement of Marks'!FD105=\"\",\"\",'Statement of Marks'!FD105)","v":" "},{"$f":"IF('Statement of Marks'!FE105=\"\",\"\",'Statement of Marks'!FE105)","v":""},{"$f":"IF('Statement of Marks'!FF105=\"\",\"\",'Statement of Marks'!FF105)","v":""},{"$f":"IF('Statement of Marks'!FG105=\"\",\"\",'Statement of Marks'!FG105)","v":""},{"$f":"IF('Statement of Marks'!FH105=\"\",\"\",'Statement of Marks'!FH105)","v":""},{"$f":"IF('Statement of Marks'!FB105=\"\",\"\",'Statement of Marks'!FB105)","v":"      "},{"$f":"IF('Statement of Marks'!FI105=\"\",\"\",'Statement of Marks'!FI105)","v":""},{"$nulls":45},{"$f":"'Statement of Marks'!E105","v":""},"","","","","","","","","","","",""]
[]
[null,".",null,"Details",null,"Main Exam",null,"Total",null,{"$f":"'Statement of Marks'!FA108","v":"Signature of the maker"},{"$nulls":52},{"$f":"BJ1","v":"tkfrokj ifj.kke"}]
[null,".",null,"Appeared",null,{"$f":"COUNTA(C4:C103)-COUNTIF(B4:B103,\"nso\")-COUNTBLANK(C4:C103)","v":15},null,{"$f":"F106","v":15},{"$nulls":54},{"$f":"BK3","v":"SC BOYS"},"SC GIRLS","ST BOYS","ST GIRLS","OBC BOYS","OBC GIRLS","GEN BOYS","GEN GIRLS","MIN BOYS","MIN GIRLS","SBC BOYS","SBC GIRLS","TOTAL"]
[null,".",null,"First Div.",null,{"$f":"COUNTIF(M4:M103,\"I\")","v":10},null,{"$f":"F107","v":10},null,{"$f":"'Statement of Marks'!FA110","v":"Signature of the class teacher"},{"$nulls":51},{"$f":"'Teacher & Cat. Wise Result'!A28","v":"First Division"},{"$f":"COUNTIF(BK4:BK103,\"I\")","v":2},2,0,0,0,2,3,0,0,0,1,0,{"$f":"SUM(BK107:BV107)","v":10}]
[null,".",null,"Second Div.",null,{"$f":"COUNTIF(M4:M103,\"II\")","v":4},null,4,{"$nulls":53},{"$f":"'Teacher & Cat. Wise Result'!A29","v":"Second Division"},{"$f":"COUNTIF(BK4:BK103,\"II\")","v":1},0,0,0,0,0,0,2,0,0,0,1,4]
[null,".",null,"Third Div.",null,{"$f":"COUNTIF(M4:M103,\"III\")","v":1},null,1,null,{"$f":"'Statement of Marks'!FA112","v":"Signature of the checker"},{"$nulls":51},{"$f":"'Teacher & Cat. Wise Result'!A30","v":"Third Division"},{"$f":"COUNTIF(BK4:BK103,\"III\")","v":0},{"$f":"COUNTIF(BL4:BL103,\"III\")","v":0},0,0,0,0,0,1,0,0,0,0,1]
[null,".",null,"Total promotad Class",null,{"$f":"COUNTIF(M4:M103,\"P\")","v":0},null,0,{"$nulls":53},{"$f":"'Teacher & Cat. Wise Result'!A31","v":"Promoted"},{"$f":"COUNTIF(BK4:BK103,\"P\")","v":0},{"$f":"COUNTIF(BL4:BL103,\"P\")","v":0},0,0,0,0,0,0,0,0,0,0,0]
[null,".",null,"total passed",null,{"$f":"SUM(F107:F110)","v":15},null,15,null,{"$f":"'Statement of Marks'!FA114","v":"Signature of the exam. Incharge"},null,null,{"$f":"'Statement of Marks'!FA118","v":"Signature of the Head of the Institution"},{"$nulls":48},{"$f":"'Teacher & Cat. Wise Result'!A32","v":"Total Passed"},{"$f":"SUM(BK107,BK108,BK109,BK110)","v":3},{"$f":"SUM(BL107,BL108,BL109,BL110)","v":2},0,0,0,2,3,3,0,0,1,1,{"$f":"SUM(BW107,BW108,BW109,BW110)","v":15}]
[null,".",null,"Pass Percentage",null,{"$f":"IF(F106=0,\"\",F111/F106*100)","v":{"v":100,"d":"100.00"}},null,{"$f":"SUM(F112,G112)","v":{"v":100,"d":"100.00"}},{"$nulls":53},{"$f":"'Teacher & Cat. Wise Result'!A33","v":"Re-Exam"},{"$f":"COUNTIF(BK4:BK103,\"RE-EXAM.\")","v":0},{"$f":"COUNTIF(BL4:BL103,\"RE-EXAM.\")","v":0},0,0,0,0,0,0,0,0,0,0,{"$f":"SUM(BK112:BV112)","v":0}]
[{"$nulls":61},{"$f":"'Teacher & Cat. Wise Result'!A34","v":"No. of students failed"},{"$f":"COUNTIF(BK4:BK103,\"FAIL\")","v":0},{"$f":"COUNTIF(BL4:BL103,\"FAIL\")","v":0},0,0,0,0,0,0,0,0,0,0,{"$f":"SUM(BK113:BV113)","v":0}]
[{"$nulls":61},{"$f":"'Teacher & Cat. Wise Result'!A35","v":"No. of students appeared"},{"$f":"SUM(BK111:BK113)","v":3},{"$f":"SUM(BL111:BL113)","v":2},0,0,0,2,3,3,0,0,1,1,15]
[{"$nulls":61},{"$f":"'Teacher & Cat. Wise Result'!A36","v":"Pass percentage"},{"$f":"IFERROR(IF(AND(BK111=\"\",BK114=\"\"),\"\",SUM(BK111/BK114*100)),\"\")","v":100},{"$f":"IFERROR(IF(AND(BL111=\"\",BL114=\"\"),\"\",SUM(BL111/BL114*100)),\"\")","v":100},"","","",100,100,100,"","",100,100,{"$f":"IFERROR(IF(AND(BW111=\"\",BW114=\"\"),\"\",SUM(BW111/BW114*100)),\"\")","v":100}]
[{"$nulls":61},{"$f":"'Teacher & Cat. Wise Result'!A37","v":"No. of NSO"},{"$f":"COUNTIF(BK4:BK103,\"NSO\")","v":0},{"$f":"COUNTIF(BL4:BL103,\"NSO\")","v":0},0,0,0,0,0,0,0,0,0,0,{"$f":"SUM(BK116:BV116)","v":0}]
[]
[]
[]
[]
[{"$nulls":61},"iqu% ijh{kk\""]
[{"$nulls":61},"vuqRrh.kZ"]
[{"$nulls":61},"uke i`Fkd"]

{"sheet":"MARKSHEET in Eng","index":8,"n_rows":22,"n_cols":40,"rows_kept":22,"merged":[[0,2,0,15],[1,0,1,17],[1,24,8,26],[2,0,2,1],[2,2,2,4],[2,5,2,6],[2,7,2,8],[2,9,2,10],[2,11,2,13],[2,14,2,16],[3,0,3,2],[3,3,3,11],[3,12,3,13],[3,14,3,17],[4,0,4,2],[4,3,4,11],[4,12,4,13],[4,14,4,17],[5,0,5,2],[5,3,5,11],[5,12,5,13],[5,14,5,17],[6,2,7,2],[6,3,7,3],[6,4,7,4],[6,5,7,5],[6,6,7,6],[6,9,7,9],[6,10,7,10],[6,11,7,11],[6,12,7,13],[6,14,8,14],[6,15,8,15],[6,16,8,17],[7,0,8,1],[8,12,8,13],[9,0,9,1],[9,12,9,13],[9,16,9,17],[10,0,10,1],[10,12,10,13],[10,16,10,17],[11,0,11,1],[11,12,11,13],[11,16,11,17],[12,0,12,1],[12,12,12,13],[12,16,12,17],[13,0,13,1],[13,12,13,13],[13,16,13,17],[14,0,14,17],[15,0,15,1],[15,12,15,13],[15,16,15,17],[16,0,16,1],[16,12,16,13],[16,14,16,17],[17,0,17,1],[17,12,17,13],[17,14,17,17],[18,0,18,1],[18,12,18,13],[18,14,18,16],[19,0,19,2],[19,3,19,4],[19,5,19,6],[19,8,19,9],[19,13,19,15],[19,16,19,17],[20,0,20,3],[20,4,20,8],[20,9,20,12],[20,13,20,17],[21,0,22,3],[21,4,22,8],[21,9,22,12],[21,13,22,17]]}
[null,null,"Progress Report"]
[{"$f":"IF(AND(O4=\"\"),\"\",CONCATENATE(\"School Name :-\",\"  \",'Master sheet'!C8))","v":"School Name :-  Governt Senior Secondary School INDERWARA"},{"$nulls":23},"EIf you want Marksheet of any student 11th Class , you must be write Roll No. in Yellow Colour Cell          Either Move Form Develover Tab Butten"]
["Progress Card",null,{"$f":"IF(AND(O4=\"\"),\"\",'Marks Entry'!F2)","v":"2019-20"},null,null,"Class",null,{"$f":"IF(AND(O4=\"\"),\"\",'Marks Entry'!G2)","v":"11'A'"},null,"Faculty",null,{"$f":"IF(AND(O4=\"\"),\"\",'Master sheet'!C6)","v":"Arts "},null,null,"Section",null,null,{"$f":"IF(AND(O4=\"\"),\"\",'Master sheet'!C7)","v":"A"}]
["Students Name :- ",null,null,{"$f":"IFERROR(VLOOKUP($O$4,'Statement of Marks'!$B$6:'Statement of Marks'!$HA$106,4,0),\"\")","v":"LOHAR KAJAL"},{"$nulls":8},"Roll No.",null,1107]
["Father's Name",null,null,{"$f":"IFERROR(VLOOKUP($O$4,'Statement of Marks'!$B$6:'Statement of Marks'!$HA$106,5,0),\"\")","v":"MITHA LAL"},{"$nulls":8},"S.R. No.",null,{"$f":"IFERROR(VLOOKUP($O$4,'Statement of Marks'!$B$6:'Statement of Marks'!$HA$106,2,0),\"\")","v":439}]
["Mother's Name",null,null,{"$f":"IFERROR(VLOOKUP($O$4,'Statement of Marks'!$B$6:'Statement of Marks'!$HA$106,6,0),\"\")","v":"SAVITA"},{"$nulls":8},"D. O. B.",null,{"$f":"IFERROR(VLOOKUP($O$4,'Statement of Marks'!$B$6:'Statement of Marks'!$HA$106,3,0),\"\")","v":"27-10-2003"}]
["Subject","Test / Exam","First test","Second test","Third test","Test Total","Weightage of Test","Half Yearly Exam TH.","Half Yearly Exam Prac.","Total Half Yearly Exam ","Weightage of H.Y.","Achieved for Overall performance of the student in academic activities","Sub. Total",null,"Sub. Result","Sub. Div.","Distinction Subject"]
["iw.kkZad Ü",{"$nulls":6},50,20]
[null,null,10,10,10,30,20,70,0,70,50,30,100]
[{"$f":"'Teacher & Cat. Wise Result'!B5","v":"Com. Hindi"},null,{"$f":"IFERROR(VLOOKUP($O$4,'Statement of Marks'!$B$6:'Statement of Marks'!$HA$106,9,0),\"\")","v":3},{"$f":"IFERROR(VLOOKUP($O$4,'Statement of Marks'!$B$6:'Statement of Marks'!$HA$106,10,0),\"\")","v":"AB"},{"$f":"IFERROR(VLOOKUP($O$4,'Statement of Marks'!$B$6:'Statement of Marks'!$HA$106,11,0),\"\")","v":"ML"},{"$f":"IFERROR(VLOOKUP($O$4,'Statement of Marks'!$B$6:'Statement of Marks'!$HA$106,12,0),\"\")","v":3},{"$f":"IFERROR(VLOOKUP($O$4,'Statement of Marks'!$B$6:'Statement of Marks'!$HA$106,13,0),\"\")","v":2},{"$f":"IFERROR(VLOOKUP($O$4,'Statement of Marks'!$B$6:'Statement of Marks'!$HA$106,14,0),\"\")","v":5},null,{"$f":"IF(AND(H10=\"\",I10=\"\"),\"\",IF(AND(H10=\"AB\",CB103=\"AB\"),\"AB\",IF(AND(H10=\"ML\",I10=\"ML\"),\"RE\",SUM(H10,I10))))","v":5},{"$f":"IFERROR(VLOOKUP($O$4,'Statement of Marks'!$B$6:'Statement of Marks'!$HA$106,15,0),\"\")","v":4},{"$f":"IFERROR(VLOOKUP($O$4,'Statement of Marks'!$B$6:'Statement of Marks'!$HA$106,16,0),\"\")","v":3},{"$f":"IFERROR(VLOOKUP($O$4,'Statement of Marks'!$B$6:'Statement of Marks'!$HA$106,17,0),\"\")","v":9},null,{"$f":"IFERROR(VLOOKUP($O$4,'Statement of Marks'!$B$6:'Statement of Marks'!$HA$106,22,0),\"\")","v":"F"},{"$f":"IF(M10=\"\",\"\",IF(O10=\"\",\"\",IF(M10>=60%*$M$9,\"I\",IF(M10>=48%*$M$9,\"II\",IF(M10>=36%*$M$9,\"III\",\"G.P.\")))))","v":"G.P."},{"$f":"IF(AND(M10=\"\"),\"\",IF(AND(M10>=75%*$M$9),A10,\"\"))","v":""},{"$nulls":16},{"$f":"IFERROR(VLOOKUP($O$4,'Statement of Marks'!$B$6:'Statement of Marks'!$HA$106,39,0),\"\")","v":1},null,{"$f":"IFERROR(VLOOKUP($O$4,'Statement of Marks'!$B$6:'Statement of Marks'!$HA$106,57,0),\"\")","v":1},null,{"$f":"IFERROR(VLOOKUP($O$4,'Statement of Marks'!$B$6:'Statement of Marks'!$HA$106,75,0),\"\")","v":2},null,{"$f":"IFERROR(VLOOKUP($O$4,'Statement of Marks'!$B$6:'Statement of Marks'!$HA$106,93,0),\"\")","v":""}]
[{"$f":"'Teacher & Cat. Wise Result'!B6","v":"Com. English"},null,{"$f":"IFERROR(VLOOKUP($O$4,'Statement of Marks'!$B$6:'Statement of Marks'!$HA$106,24,0),\"\")","v":7},{"$f":"IFERROR(VLOOKUP($O$4,'Statement of Marks'!$B$6:'Statement of Marks'!$HA$106,25,0),\"\")","v":9},{"$f":"IFERROR(VLOOKUP($O$4,'Statement of Marks'!$B$6:'Statement of Marks'!$HA$106,26,0),\"\")","v":9},{"$f":"IFERROR(VLOOKUP($O$4,'Statement of Marks'!$B$6:'Statement of Marks'!$HA$106,27,0),\"\")","v":25},{"$f":"IFERROR(VLOOKUP($O$4,'Statement of Marks'!$B$6:'Statement of Marks'!$HA$106,28,0),\"\")","v":17},{"$f":"IFERROR(VLOOKUP($O$4,'Statement of Marks'!$B$6:'Statement of Marks'!$HA$106,29,0),\"\")","v":57},null,{"$f":"IF(AND(H11=\"\",I11=\"\"),\"\",IF(AND(H11=\"AB\",CB104=\"AB\"),\"AB\",IF(AND(H11=\"ML\",I11=\"ML\"),\"RE\",SUM(H11,I11))))","v":57},{"$f":"IFERROR(VLOOKUP($O$4,'Statement of Marks'!$B$6:'Statement of Marks'!$HA$106,30,0),\"\")","v":41},{"$f":"IFERROR(VLOOKUP($O$4,'Statement of Marks'!$B$6:'Statement of Marks'!$HA$106,31,0),\"\")","v":6},{"$f":"IFERROR(VLOOKUP($O$4,'Statement of Marks'!$B$6:'Statement of Marks'!$HA$106,32,0),\"\")","v":64},null,{"$f":"IFERROR(VLOOKUP($O$4,'Statement of Marks'!$B$6:'Statement of Marks'!$HA$106,37,0),\"\")","v":"P"},{"$f":"IF(M11=\"\",\"\",IF(O11=\"\",\"\",IF(M11>=60%*$M$9,\"I\",IF(M11>=48%*$M$9,\"II\",IF(M11>=36%*$M$9,\"III\",\"G.P.\")))))","v":"I"},{"$f":"IF(AND(M11=\"\"),\"\",IF(AND(M11>=75%*$M$9),A11,\"\"))","v":""},{"$nulls":16},{"$f":"'Statement of Marks'!AO1","v":"POLITICAL SCIENCE"},null,{"$f":"'Statement of Marks'!BG1","v":"HISTORY"},null,{"$f":"'Statement of Marks'!BY1","v":"GEOGRAPHY"},null,{"$f":"'Statement of Marks'!CQ1","v":"MATHEMATICS"}]
[{"$f":"IF(AH10=1,AH11,IF(AH10=2,AH12,IF(AH10=3,AH13,\"\")))","v":"POLITICAL SCIENCE"},null,{"$f":"IFERROR(VLOOKUP($O$4,'Statement of Marks'!$B$6:'Statement of Marks'!$HA$106,40,0),\"\")","v":7},{"$f":"IFERROR(VLOOKUP($O$4,'Statement of Marks'!$B$6:'Statement of Marks'!$HA$106,41,0),\"\")","v":9},{"$f":"IFERROR(VLOOKUP($O$4,'Statement of Marks'!$B$6:'Statement of Marks'!$HA$106,42,0),\"\")","v":9},{"$f":"IFERROR(VLOOKUP($O$4,'Statement of Marks'!$B$6:'Statement of Marks'!$HA$106,43,0),\"\")","v":25},{"$f":"IFERROR(VLOOKUP($O$4,'Statement of Marks'!$B$6:'Statement of Marks'!$HA$106,44,0),\"\")","v":17},{"$f":"IFERROR(VLOOKUP($O$4,'Statement of Marks'!$B$6:'Statement of Marks'!$HA$106,45,0),\"\")","v":57},{"$f":"IFERROR(VLOOKUP($O$4,'Statement of Marks'!$B$6:'Statement of Marks'!$HA$106,46,0),\"\")","v":""},{"$f":"IF(AND(H12=\"\",I12=\"\"),\"\",IF(AND(H12=\"AB\",CB105=\"AB\"),\"AB\",IF(AND(H12=\"ML\",I12=\"ML\"),\"RE\",SUM(H12,I12))))","v":57},{"$f":"IFERROR(VLOOKUP($O$4,'Statement of Marks'!$B$6:'Statement of Marks'!$HA$106,48,0),\"\")","v":41},{"$f":"IFERROR(VLOOKUP($O$4,'Statement of Marks'!$B$6:'Statement of Marks'!$HA$106,49,0),\"\")","v":30},{"$f":"IFERROR(VLOOKUP($O$4,'Statement of Marks'!$B$6:'Statement of Marks'!$HA$106,50,0),\"\")","v":88},null,{"$f":"IFERROR(VLOOKUP($O$4,'Statement of Marks'!$B$6:'Statement of Marks'!$HA$106,55,0),\"\")","v":"P"},"I","POLITICAL SCIENCE",{"$nulls":16},{"$f":"'Statement of Marks'!AS1","v":""},null,{"$f":"'Statement of Marks'!BK1","v":""},null,{"$f":"'Statement of Marks'!CC1","v":"HINDI LITERATURE"},null,{"$f":"'Statement of Marks'!CU1","v":"BEAUTY AND HEALTH"}]
[{"$f":"IF(AJ10=1,AJ11,IF(AJ10=2,AJ12,IF(AJ10=3,AJ13,\"\")))","v":"HISTORY"},null,{"$f":"IFERROR(VLOOKUP($O$4,'Statement of Marks'!$B$6:'Statement of Marks'!$HA$106,58,0),\"\")","v":7},{"$f":"IFERROR(VLOOKUP($O$4,'Statement of Marks'!$B$6:'Statement of Marks'!$HA$106,59,0),\"\")","v":9},{"$f":"IFERROR(VLOOKUP($O$4,'Statement of Marks'!$B$6:'Statement of Marks'!$HA$106,60,0),\"\")","v":9},{"$f":"IFERROR(VLOOKUP($O$4,'Statement of Marks'!$B$6:'Statement of Marks'!$HA$106,61,0),\"\")","v":25},{"$f":"IFERROR(VLOOKUP($O$4,'Statement of Marks'!$B$6:'Statement of Marks'!$HA$106,62,0),\"\")","v":17},{"$f":"IFERROR(VLOOKUP($O$4,'Statement of Marks'!$B$6:'Statement of Marks'!$HA$106,63,0),\"\")","v":57},{"$f":"IFERROR(VLOOKUP($O$4,'Statement of Marks'!$B$6:'Statement of Marks'!$HA$106,64,0),\"\")","v":""},{"$f":"IF(AND(H13=\"\",I13=\"\"),\"\",IF(AND(H13=\"AB\",CB106=\"AB\"),\"AB\",IF(AND(H13=\"ML\",I13=\"ML\"),\"RE\",SUM(H13,I13))))","v":57},{"$f":"IFERROR(VLOOKUP($O$4,'Statement of Marks'!$B$6:'Statement of Marks'!$HA$106,66,0),\"\")","v":41},{"$f":"IFERROR(VLOOKUP($O$4,'Statement of Marks'!$B$6:'Statement of Marks'!$HA$106,67,0),\"\")","v":30},{"$f":"IFERROR(VLOOKUP($O$4,'Statement of Marks'!$B$6:'Statement of Marks'!$HA$106,68,0),\"\")","v":88},null,{"$f":"IFERROR(VLOOKUP($O$4,'Statement of Marks'!$B$6:'Statement of Marks'!$HA$106,73,0),\"\")","v":"P"},"I","HISTORY",{"$nulls":16},{"$f":"'Statement of Marks'!AW1","v":"BIOLOGY"},{"$nulls":3},{"$f":"'Statement of Marks'!CG1","v":""},null,{"$f":"'Statement of Marks'!CY1","v":"ELECTRICALS AND ELECTRONICS"}]
[{"$f":"IF(AL10=1,AL11,IF(AL10=2,AL12,IF(AL10=3,AL13,\"\")))","v":"HINDI LITERATURE"},null,{"$f":"IFERROR(VLOOKUP($O$4,'Statement of Marks'!$B$6:'Statement of Marks'!$HA$106,76,0),\"\")","v":7},{"$f":"IFERROR(VLOOKUP($O$4,'Statement of Marks'!$B$6:'Statement of Marks'!$HA$106,77,0),\"\")","v":9},{"$f":"IFERROR(VLOOKUP($O$4,'Statement of Marks'!$B$6:'Statement of Marks'!$HA$106,78,0),\"\")","v":9},{"$f":"IFERROR(VLOOKUP($O$4,'Statement of Marks'!$B$6:'Statement of Marks'!$HA$106,79,0),\"\")","v":25},{"$f":"IFERROR(VLOOKUP($O$4,'Statement of Marks'!$B$6:'Statement of Marks'!$HA$106,80,0),\"\")","v":17},{"$f":"IFERROR(VLOOKUP($O$4,'Statement of Marks'!$B$6:'Statement of Marks'!$HA$106,81,0),\"\")","v":57},{"$f":"IFERROR(VLOOKUP($O$4,'Statement of Marks'!$B$6:'Statement of Marks'!$HA$106,82,0),\"\")","v":""},{"$f":"IF(AND(H14=\"\",I14=\"\"),\"\",IF(AND(H14=\"AB\",CB107=\"AB\"),\"AB\",IF(AND(H14=\"ML\",I14=\"ML\"),\"RE\",SUM(H14,I14))))","v":57},{"$f":"IFERROR(VLOOKUP($O$4,'Statement of Marks'!$B$6:'Statement of Marks'!$HA$106,84,0),\"\")","v":41},{"$f":"IFERROR(VLOOKUP($O$4,'Statement of Marks'!$B$6:'Statement of Marks'!$HA$106,85,0),\"\")","v":30},{"$f":"IFERROR(VLOOKUP($O$4,'Statement of Marks'!$B$6:'Statement of Marks'!$HA$106,86,0),\"\")","v":88},null,{"$f":"IFERROR(VLOOKUP($O$4,'Statement of Marks'!$B$6:'Statement of Marks'!$HA$106,91,0),\"\")","v":"P"},"I","HINDI LITERATURE",{"$nulls":18},{"$f":"'Statement of Marks'!BO1","v":""}]
["Aditional Subject"]
[{"$f":"IF(AN10=1,AN11,IF(AN10=2,AN12,IF(AN10=3,AN13,\"\")))","v":""},null,{"$f":"IFERROR(IF(A16=\"\",\"\",VLOOKUP($O$4,'Statement of Marks'!$B$6:'Statement of Marks'!$HA$106,94,0)),\"\")","v":""},{"$f":"IFERROR(IF(A16=\"\",\"\",VLOOKUP($O$4,'Statement of Marks'!$B$6:'Statement of Marks'!$HA$106,95,0)),\"\")","v":""},{"$f":"IFERROR(IF(A16=\"\",\"\",VLOOKUP($O$4,'Statement of Marks'!$B$6:'Statement of Marks'!$HA$106,96,0)),\"\")","v":""},{"$f":"IFERROR(IF(A16=\"\",\"\",VLOOKUP($O$4,'Statement of Marks'!$B$6:'Statement of Marks'!$HA$106,97,0)),\"\")","v":""},{"$f":"IFERROR(IF(A16=\"\",\"\",VLOOKUP($O$4,'Statement of Marks'!$B$6:'Statement of Marks'!$HA$106,98,0)),\"\")","v":""},{"$f":"IFERROR(IF(A16=\"\",\"\",VLOOKUP($O$4,'Statement of Marks'!$B$6:'Statement of Marks'!$HA$106,99,0)),\"\")","v":""},{"$f":"IFERROR(IF(A16=\"\",\"\",VLOOKUP($O$4,'Statement of Marks'!$B$6:'Statement of Marks'!$HA$106,100,0)),\"\")","v":""},{"$f":"IF(AND(H16=\"\",I16=\"\"),\"\",IF(AND(H16=\"AB\",CB107=\"AB\"),\"AB\",IF(AND(H16=\"ML\",I16=\"ML\"),\"RE\",SUM(H16,I16))))","v":""},{"$f":"IFERROR(IF(A16=\"\",\"\",VLOOKUP($O$4,'Statement of Marks'!$B$6:'Statement of Marks'!$HA$106,102,0)),\"\")","v":""},{"$f":"IFERROR(IF(A16=\"\",\"\",VLOOKUP($O$4,'Statement of Marks'!$B$6:'Statement of Marks'!$HA$106,103,0)),\"\")","v":""},{"$f":"IFERROR(IF(A16=\"\",\"\",VLOOKUP($O$4,'Statement of Marks'!$B$6:'Statement of Marks'!$HA$106,104,0)),\"\")","v":""},null,{"$f":"IFERROR(IF(A16=\"\",\"\",VLOOKUP($O$4,'Statement of Marks'!$B$6:'Statement of Marks'!$HA$106,109,0)),\"\")","v":""},{"$f":"IF(M16=\"\",\"\",IF(O16=\"\",\"\",IF(M16>=60%*$M$9,\"I\",IF(M16>=48%*$M$9,\"II\",IF(M16>=36%*$M$9,\"III\",\"G.P.\")))))","v":""},{"$f":"IF(AND(M16=\"\"),\"\",IF(AND(M16>=75%*M9),A16,\"\"))","v":""}]
["Total Marks Obtained",null,{"$f":"IF(AND(O4=\"\"),\"\",IF(AND(C10=\"\",C11=\"\",C12=\"\",C13=\"\",C14=\"\",),\"\",SUM(C10:C14)))","v":31},{"$f":"IF(AND(O4=\"\"),\"\",IF(AND(D10=\"\",D11=\"\",D12=\"\",D13=\"\",D14=\"\",),\"\",SUM(D10:D14)))","v":36},{"$f":"IF(AND(O4=\"\"),\"\",IF(AND(E10=\"\",E11=\"\",E12=\"\",E13=\"\",E14=\"\",),\"\",SUM(E10:E14)))","v":36},{"$f":"IF(AND(O4=\"\"),\"\",IF(AND(F10=\"\",F11=\"\",F12=\"\",F13=\"\",F14=\"\",),\"\",SUM(F10:F14)))","v":103},{"$f":"IF(AND(O4=\"\"),\"\",IF(AND(G10=\"\",G11=\"\",G12=\"\",G13=\"\",G14=\"\",),\"\",SUM(G10:G14)))","v":70},{"$f":"IF(AND(O4=\"\"),\"\",IF(AND(H10=\"\",H11=\"\",H12=\"\",H13=\"\",H14=\"\",),\"\",SUM(H10:H14)))","v":233},{"$f":"IF(AND(O4=\"\"),\"\",IF(AND(I10=\"\",I11=\"\",I12=\"\",I13=\"\",I14=\"\",),\"\",SUM(I10:I14)))","v":0},{"$f":"IF(AND(O4=\"\"),\"\",IF(AND(J10=\"\",J11=\"\",J12=\"\",J13=\"\",J14=\"\",),\"\",SUM(J10:J14)))","v":233},{"$f":"IF(AND(O4=\"\"),\"\",IF(AND(K10=\"\",K11=\"\",K12=\"\",K13=\"\",K14=\"\",),\"\",SUM(K10:K14)))","v":168},{"$f":"IF(AND(O4=\"\"),\"\",IF(AND(L10=\"\",L11=\"\",L12=\"\",L13=\"\",L14=\"\",),\"\",SUM(L10:L14)))","v":99},{"$f":"IF(AND(M10=\"\",M11=\"\",M12=\"\",M13=\"\",M14=\"\"),\"\",SUM(M10:M14))","v":337},null,"Detail Of Exam Result"]
["Total MAX. Marks",null,{"$f":"IF(C17=\"\",\"\",50-(COUNTIF(C10:C14,\"NA\")*10+COUNTIF(C10:C14,\"ML\")*10))","v":50},{"$f":"IF(D17=\"\",\"\",50-(COUNTIF(D10:D14,\"NA\")*10+COUNTIF(D10:D14,\"ML\")*10))","v":50},{"$f":"IF(E17=\"\",\"\",50-(COUNTIF(E10:E14,\"NA\")*10+COUNTIF(E10:E14,\"ML\")*10))","v":40},{"$f":"IF(F17=\"\",\"\",SUM(C18:E18))","v":140},{"$f":"IF(G17=\"\",\"\",ROUND(CEILING((SUM(F18) * 20 / 30),1), 0))","v":94},{"$f":"IF(H17=\"\",\"\",350-(COUNT(I10:I14)*20+COUNTIF(H10:H14,\"NA\")*70+COUNTIF(H10:H14,\"ML\")*70))","v":350},{"$f":"IF(I17=\"\",\"\",COUNT(I10:I14)*20-(COUNTIF(I10:I14,\"NA\")*20+COUNTIF(I10:I14,\"ML\")*20))","v":0},{"$f":"IF(J17=\"\",\"\",COUNT(J10:J14)*70-(COUNTIF(J10:J14,\"NA\")*70+COUNTIF(J10:J14,\"ML\")*70))","v":350},{"$f":"IF(K17=\"\",\"\",ROUND(CEILING((SUM(J18) * 50 / 70),1), 0))","v":250},{"$f":"IF(L17=\"\",\"\",COUNT(L10:L14)*30-(COUNTIF(L10:L14,\"NA\")*30+COUNTIF(L10:L14,\"ML\")*30))","v":150},{"$f":"IF(M17=\"\",\"\",SUM(G18,K18,L18))","v":494},null,{"$f":"IF(AND(M20=\"\"),\"\",\"Promoted to Class 12th\")","v":"Promoted to Class 12th"}]
["Percentage",null,{"$f":"IFERROR(IF(C18=\"\",\"\",C17/C18*100),\"\")","v":{"v":62,"d":"62.00"}},{"$f":"IFERROR(IF(D18=\"\",\"\",D17/D18*100),\"\")","v":{"v":72,"d":"72.00"}},{"v":90,"d":"90.00"},{"$f":"IFERROR(IF(F18=\"\",\"\",F17/F18*100),\"\")","v":{"v":73.57142857142858,"d":"73.57"}},{"$f":"IFERROR(IF(G18=\"\",\"\",G17/G18*100),\"\")","v":{"v":74.46808510638297,"d":"74.47"}},{"$f":"IFERROR(IF(H18=\"\",\"\",H17/H18*100),\"\")","v":{"v":66.57142857142857,"d":"66.57"}},{"$f":"IFERROR(IF(I18=\"\",\"\",I17/I18*100),\"\")","v":""},{"$f":"IFERROR(IF(J18=\"\",\"\",J17/J18*100),\"\")","v":{"v":66.57142857142857,"d":"66.57"}},{"$f":"IFERROR(IF(K18=\"\",\"\",K17/K18*100),\"\")","v":{"v":67.2,"d":"67.20"}},{"$f":"IFERROR(IF(L18=\"\",\"\",L17/L18*100),\"\")","v":{"v":66,"d":"66.00"}},{"$f":"IFERROR(IF(M18=\"\",\"\",M17/M18*100),\"\")","v":{"v":68.21862348178138,"d":"68.22"}},null,{"$f":"'Statement of Marks'!DU2","v":"JEEVAN KAUSHAL"},null,null,{"$f":"IFERROR(VLOOKUP($O$4,'Statement of Marks'!$B$6:'Statement of Marks'!$HA$106,127,0),\"\")","v":73}]
["Date of Res. Declaration",null,null,{"$f":"IF(AND(O4=\"\"),\"\",IF('Master sheet'!C12=\"\",\"\",'Master sheet'!C12))","v":"2020-04-10"},null,"Total Meeting",null,{"$f":"IFERROR(VLOOKUP($O$4,'Student DATA Entry'!A3:'Student DATA Entry'!J102,9,0),\"\")","v":324},"Total Attendance",null,{"$f":"IFERROR(VLOOKUP($O$4,'Student DATA Entry'!A3:'Student DATA Entry'!J102,10,0),\"\")","v":0},"Grade",{"$f":"IFERROR(VLOOKUP($O$4,'Statement of Marks'!$B$6:'Statement of Marks'!$HA$106,162,0),\"\")","v":"I"},"Class Position",null,null,{"$f":"IFERROR(VLOOKUP($O$4,'Statement of Marks'!$B$6:'Statement of Marks'!$HA$106,163,0),\"\")","v":4.9999999999999964}]
["Signature of the class teacher",{"$nulls":3},{"$f":"IF(AND(O4=\"\"),\"\",CONCATENATE(\"( \",'Master sheet'!C15,\" )\"))","v":"( Bhagwan Singh )"},{"$nulls":4},"Signature of the checker",{"$nulls":3},{"$f":"IF(AND(O4=\"\"),\"\",CONCATENATE(\"( \",'Master sheet'!C19,\" )\"))","v":"( Heeralal Jat )"}]
["Signature of the exam. Incharge",{"$nulls":3},{"$f":"IF(AND(O4=\"\"),\"\",CONCATENATE(\"( \",'Master sheet'!C18,\" )\"))","v":"( Mahendra Patel )"},{"$nulls":4},"Signature of the Head of the Institution",{"$nulls":3},{"$f":"IF(AND(O4=\"\"),\"\",CONCATENATE(\"( \",'Master sheet'!C16,\" )\"))","v":"( MISHRILAL )"}]

{"sheet":"MARKSHEET in Hindi","index":9,"n_rows":22,"n_cols":40,"rows_kept":22,"merged":[[0,2,0,15],[1,0,1,17],[1,24,8,26],[2,0,2,1],[2,2,2,4],[2,5,2,6],[2,7,2,8],[2,9,2,10],[2,11,2,13],[2,14,2,16],[3,0,3,2],[3,3,3,11],[3,12,3,13],[3,14,3,17],[4,0,4,2],[4,3,4,11],[4,12,4,13],[4,14,4,17],[5,0,5,2],[5,3,5,11],[5,12,5,13],[5,14,5,17],[6,2,7,2],[6,3,7,3],[6,4,7,4],[6,5,7,5],[6,6,7,6],[6,9,7,9],[6,10,7,10],[6,11,7,11],[6,12,7,13],[6,14,8,14],[6,15,8,15],[6,16,8,17],[7,0,8,1],[8,12,8,13],[9,0,9,1],[9,12,9,13],[9,16,9,17],[10,0,10,1],[10,12,10,13],[10,16,10,17],[11,0,11,1],[11,12,11,13],[11,16,11,17],[12,0,12,1],[12,12,12,13],[12,16,12,17],[13,0,13,1],[13,12,13,13],[13,16,13,17],[14,0,14,17],[15,0,15,1],[15,12,15,13],[15,16,15,17],[16,0,16,1],[16,12,16,13],[16,14,16,17],[17,0,17,1],[17,12,17,13],[17,14,17,17],[18,0,18,1],[18,12,18,13],[18,14,18,16],[19,0,19,2],[19,3,19,4],[19,5,19,6],[19,8,19,9],[19,13,19,15],[19,16,19,17],[20,0,20,3],[20,4,20,8],[20,9,20,12],[20,13,20,17],[21,0,22,3],[21,4,22,8],[21,9,22,12],[21,13,22,17]]}
[null,null,"izxfr i="]
[{"$f":"IF(AND(O4=\"\"),\"\",CONCATENATE(\"fo|ky; dk uke %&\",\"  \",'Master sheet'!C10))","v":"fo|ky; dk uke %&  jktdh; mPp ek/;fed fo|ky; bUnjokM+k] jkuh ¼ikyh"},{"$nulls":23},"EIf you want Marksheet of any student 9th Class , you must be write Roll No. in Yellow Colour Cell          Either Move Form Develover Tab Butten"]
["izxfr i=  l= ",null,{"$f":"IF(AND(O4=\"\"),\"\",'Marks Entry'!F2)","v":"2019-20"},null,null,"d{kk",null,{"$f":"IF(AND(O4=\"\"),\"\",'Marks Entry'!G2)","v":"11'A'"},null,"ladk;",null,{"$f":"IF(AND(O4=\"\"),\"\",'Master sheet'!C6)","v":"Arts "},null,null,"oxZ",null,null,{"$f":"IF(AND(O4=\"\"),\"\",'Master sheet'!C7)","v":"A"}]
["Nk=@Nk=k dk uke%",null,null,{"$f":"IFERROR(VLOOKUP($O$4,'Statement of Marks'!$B$6:'Statement of Marks'!$HA$106,4,0),\"\")","v":"LOHAR KAJAL"},{"$nulls":8},"ukekad%",null,1107]
["firk dk uke%",null,null,{"$f":"IFERROR(VLOOKUP($O$4,'Statement of Marks'!$B$6:'Statement of Marks'!$HA$106,5,0),\"\")","v":"MITHA LAL"},{"$nulls":8},"izos'kkad%",null,{"$f":"IFERROR(VLOOKUP($O$4,'Statement of Marks'!$B$6:'Statement of Marks'!$HA$106,2,0),\"\")","v":439}]
["ekrk dk uke%",null,null,{"$f":"IFERROR(VLOOKUP($O$4,'Statement of Marks'!$B$6:'Statement of Marks'!$HA$106,6,0),\"\")","v":"SAVITA"},{"$nulls":8},"tUe fnukad%",null,{"$f":"IFERROR(VLOOKUP($O$4,'Statement of Marks'!$B$6:'Statement of Marks'!$HA$106,3,0),\"\")","v":"27-10-2003"}]
["fo\"k;%","ij[k@ ijh{kk","izFke","f}rh;","r`rh;","rhu ij[k ;ksx","rhu ij[k dk Hkkjkad","v)Z ok- ijh{kk lS)k-","v)Z ok- ijh{kk izk;kS-","v)Z ok- ijh{kk izk;kS-","v)Z okf\"kZd ds Hkkjkad","lg 'kSf{kd xfrfof/k ,oa l= esa fo|kFkhZ ds lexz izn'ku gsrq izkIrkad","loZ ;ksx izkIRkkad ",null,"fo\"k; ifj.kke","fo\"k; Js.kh","fo'ks\"k ;ksX;rk ds fo\"k;"]
["iw.kkZad Ü",{"$nulls":6},50,20]
[null,null,10,10,10,30,20,70,0,70,50,30,100]
[{"$f":"'Teacher & Cat. Wise Result'!B5","v":"Com. Hindi"},null,{"$f":"IFERROR(VLOOKUP($O$4,'Statement of Marks'!$B$6:'Statement of Marks'!$HA$106,9,0),\"\")","v":3},{"$f":"IFERROR(VLOOKUP($O$4,'Statement of Marks'!$B$6:'Statement of Marks'!$HA$106,10,0),\"\")","v":"AB"},{"$f":"IFERROR(VLOOKUP($O$4,'Statement of Marks'!$B$6:'Statement of Marks'!$HA$106,11,0),\"\")","v":"ML"},{"$f":"IFERROR(VLOOKUP($O$4,'Statement of Marks'!$B$6:'Statement of Marks'!$HA$106,12,0),\"\")","v":3},{"$f":"IFERROR(VLOOKUP($O$4,'Statement of Marks'!$B$6:'Statement of Marks'!$HA$106,13,0),\"\")","v":2},{"$f":"IFERROR(VLOOKUP($O$4,'Statement of Marks'!$B$6:'Statement of Marks'!$HA$106,14,0),\"\")","v":5},null,{"$f":"IF(AND(H10=\"\",I10=\"\"),\"\",IF(AND(H10=\"AB\",CB103=\"AB\"),\"AB\",IF(AND(H10=\"ML\",I10=\"ML\"),\"RE\",SUM(H10,I10))))","v":5},{"$f":"IFERROR(VLOOKUP($O$4,'Statement of Marks'!$B$6:'Statement of Marks'!$HA$106,15,0),\"\")","v":4},{"$f":"IFERROR(VLOOKUP($O$4,'Statement of Marks'!$B$6:'Statement of Marks'!$HA$106,16,0),\"\")","v":3},{"$f":"IFERROR(VLOOKUP($O$4,'Statement of Marks'!$B$6:'Statement of Marks'!$HA$106,17,0),\"\")","v":9},null,{"$f":"IFERROR(VLOOKUP($O$4,'Statement of Marks'!$B$6:'Statement of Marks'!$HA$106,22,0),\"\")","v":"F"},{"$f":"IF(M10=\"\",\"\",IF(O10=\"\",\"\",IF(M10>=60%*$M$9,\"I\",IF(M10>=48%*$M$9,\"II\",IF(M10>=36%*$M$9,\"III\",\"G.P.\")))))","v":"G.P."},{"$f":"IF(AND(M10=\"\"),\"\",IF(AND(M10>=75%*$M$9),A10,\"\"))","v":""},{"$nulls":16},{"$f":"IFERROR(VLOOKUP($O$4,'Statement of Marks'!$B$6:'Statement of Marks'!$HA$106,39,0),\"\")","v":1},null,{"$f":"IFERROR(VLOOKUP($O$4,'Statement of Marks'!$B$6:'Statement of Marks'!$HA$106,57,0),\"\")","v":1},null,{"$f":"IFERROR(VLOOKUP($O$4,'Statement of Marks'!$B$6:'Statement of Marks'!$HA$106,75,0),\"\")","v":2},null,{"$f":"IFERROR(VLOOKUP($O$4,'Statement of Marks'!$B$6:'Statement of Marks'!$HA$106,93,0),\"\")","v":""}]
[{"$f":"'Teacher & Cat. Wise Result'!B6","v":"Com. English"},null,{"$f":"IFERROR(VLOOKUP($O$4,'Statement of Marks'!$B$6:'Statement of Marks'!$HA$106,24,0),\"\")","v":7},{"$f":"IFERROR(VLOOKUP($O$4,'Statement of Marks'!$B$6:'Statement of Marks'!$HA$106,25,0),\"\")","v":9},{"$f":"IFERROR(VLOOKUP($O$4,'Statement of Marks'!$B$6:'Statement of Marks'!$HA$106,26,0),\"\")","v":9},{"$f":"IFERROR(VLOOKUP($O$4,'Statement of Marks'!$B$6:'Statement of Marks'!$HA$106,27,0),\"\")","v":25},{"$f":"IFERROR(VLOOKUP($O$4,'Statement of Marks'!$B$6:'Statement of Marks'!$HA$106,28,0),\"\")","v":17},{"$f":"IFERROR(VLOOKUP($O$4,'Statement of Marks'!$B$6:'Statement of Marks'!$HA$106,29,0),\"\")","v":57},null,{"$f":"IF(AND(H11=\"\",I11=\"\"),\"\",IF(AND(H11=\"AB\",CB104=\"AB\"),\"AB\",IF(AND(H11=\"ML\",I11=\"ML\"),\"RE\",SUM(H11,I11))))","v":57},{"$f":"IFERROR(VLOOKUP($O$4,'Statement of Marks'!$B$6:'Statement of Marks'!$HA$106,30,0),\"\")","v":41},{"$f":"IFERROR(VLOOKUP($O$4,'Statement of Marks'!$B$6:'Statement of Marks'!$HA$106,31,0),\"\")","v":6},{"$f":"IFERROR(VLOOKUP($O$4,'Statement of Marks'!$B$6:'Statement of Marks'!$HA$106,32,0),\"\")","v":64},null,{"$f":"IFERROR(VLOOKUP($O$4,'Statement of Marks'!$B$6:'Statement of Marks'!$HA$106,37,0),\"\")","v":"P"},{"$f":"IF(M11=\"\",\"\",IF(O11=\"\",\"\",IF(M11>=60%*$M$9,\"I\",IF(M11>=48%*$M$9,\"II\",IF(M11>=36%*$M$9,\"III\",\"G.P.\")))))","v":"I"},{"$f":"IF(AND(M11=\"\"),\"\",IF(AND(M11>=75%*$M$9),A11,\"\"))","v":""},{"$nulls":16},{"$f":"'Statement of Marks'!AO1","v":"POLITICAL SCIENCE"},null,{"$f":"'Statement of Marks'!BG1","v":"HISTORY"},null,{"$f":"'Statement of Marks'!BY1","v":"GEOGRAPHY"},null,{"$f":"'Statement of Marks'!CQ1","v":"MATHEMATICS"}]
[{"$f":"IF(AH10=1,AH11,IF(AH10=2,AH12,IF(AH10=3,AH13,\"\")))","v":"POLITICAL SCIENCE"},null,{"$f":"IFERROR(VLOOKUP($O$4,'Statement of Marks'!$B$6:'Statement of Marks'!$HA$106,40,0),\"\")","v":7},{"$f":"IFERROR(VLOOKUP($O$4,'Statement of Marks'!$B$6:'Statement of Marks'!$HA$106,41,0),\"\")","v":9},{"$f":"IFERROR(VLOOKUP($O$4,'Statement of Marks'!$B$6:'Statement of Marks'!$HA$106,42,0),\"\")","v":9},{"$f":"IFERROR(VLOOKUP($O$4,'Statement of Marks'!$B$6:'Statement of Marks'!$HA$106,43,0),\"\")","v":25},{"$f":"IFERROR(VLOOKUP($O$4,'Statement of Marks'!$B$6:'Statement of Marks'!$HA$106,44,0),\"\")","v":17},{"$f":"IFERROR(VLOOKUP($O$4,'Statement of Marks'!$B$6:'Statement of Marks'!$HA$106,45,0),\"\")","v":57},{"$f":"IFERROR(VLOOKUP($O$4,'Statement of Marks'!$B$6:'Statement of Marks'!$HA$106,46,0),\"\")","v":""},{"$f":"IF(AND(H12=\"\",I12=\"\"),\"\",IF(AND(H12=\"AB\",CB105=\"AB\"),\"AB\",IF(AND(H12=\"ML\",I12=\"ML\"),\"RE\",SUM(H12,I12))))","v":57},{"$f":"IFERROR(VLOOKUP($O$4,'Statement of Marks'!$B$6:'Statement of Marks'!$HA$106,48,0),\"\")","v":41},{"$f":"IFERROR(VLOOKUP($O$4,'Statement of Marks'!$B$6:'Statement of Marks'!$HA$106,49,0),\"\")","v":30},{"$f":"IFERROR(VLOOKUP($O$4,'Statement of Marks'!$B$6:'Statement of Marks'!$HA$106,50,0),\"\")","v":88},null,{"$f":"IFERROR(VLOOKUP($O$4,'Statement of Marks'!$B$6:'Statement of Marks'!$HA$106,55,0),\"\")","v":"P"},"I","POLITICAL SCIENCE",{"$nulls":16},{"$f":"'Statement of Marks'!AS1","v":""},null,{"$f":"'Statement of Marks'!BK1","v":""},null,{"$f":"'Statement of Marks'!CC1","v":"HINDI LITERATURE"},null,{"$f":"'Statement of Marks'!CU1","v":"BEAUTY AND HEALTH"}]
[{"$f":"IF(AJ10=1,AJ11,IF(AJ10=2,AJ12,IF(AJ10=3,AJ13,\"\")))","v":"HISTORY"},null,{"$f":"IFERROR(VLOOKUP($O$4,'Statement of Marks'!$B$6:'Statement of Marks'!$HA$106,58,0),\"\")","v":7},{"$f":"IFERROR(VLOOKUP($O$4,'Statement of Marks'!$B$6:'Statement of Marks'!$HA$106,59,0),\"\")","v":9},{"$f":"IFERROR(VLOOKUP($O$4,'Statement of Marks'!$B$6:'Statement of Marks'!$HA$106,60,0),\"\")","v":9},{"$f":"IFERROR(VLOOKUP($O$4,'Statement of Marks'!$B$6:'Statement of Marks'!$HA$106,61,0),\"\")","v":25},{"$f":"IFERROR(VLOOKUP($O$4,'Statement of Marks'!$B$6:'Statement of Marks'!$HA$106,62,0),\"\")","v":17},{"$f":"IFERROR(VLOOKUP($O$4,'Statement of Marks'!$B$6:'Statement of Marks'!$HA$106,63,0),\"\")","v":57},{"$f":"IFERROR(VLOOKUP($O$4,'Statement of Marks'!$B$6:'Statement of Marks'!$HA$106,64,0),\"\")","v":""},{"$f":"IF(AND(H13=\"\",I13=\"\"),\"\",IF(AND(H13=\"AB\",CB106=\"AB\"),\"AB\",IF(AND(H13=\"ML\",I13=\"ML\"),\"RE\",SUM(H13,I13))))","v":57},{"$f":"IFERROR(VLOOKUP($O$4,'Statement of Marks'!$B$6:'Statement of Marks'!$HA$106,66,0),\"\")","v":41},{"$f":"IFERROR(VLOOKUP($O$4,'Statement of Marks'!$B$6:'Statement of Marks'!$HA$106,67,0),\"\")","v":30},{"$f":"IFERROR(VLOOKUP($O$4,'Statement of Marks'!$B$6:'Statement of Marks'!$HA$106,68,0),\"\")","v":88},null,{"$f":"IFERROR(VLOOKUP($O$4,'Statement of Marks'!$B$6:'Statement of Marks'!$HA$106,73,0),\"\")","v":"P"},"I","HISTORY",{"$nulls":16},{"$f":"'Statement of Marks'!AW1","v":"BIOLOGY"},{"$nulls":3},{"$f":"'Statement of Marks'!CG1","v":""},null,{"$f":"'Statement of Marks'!CY1","v":"ELECTRICALS AND ELECTRONICS"}]
[{"$f":"IF(AL10=1,AL11,IF(AL10=2,AL12,IF(AL10=3,AL13,\"\")))","v":"HINDI LITERATURE"},null,{"$f":"IFERROR(VLOOKUP($O$4,'Statement of Marks'!$B$6:'Statement of Marks'!$HA$106,76,0),\"\")","v":7},{"$f":"IFERROR(VLOOKUP($O$4,'Statement of Marks'!$B$6:'Statement of Marks'!$HA$106,77,0),\"\")","v":9},{"$f":"IFERROR(VLOOKUP($O$4,'Statement of Marks'!$B$6:'Statement of Marks'!$HA$106,78,0),\"\")","v":9},{"$f":"IFERROR(VLOOKUP($O$4,'Statement of Marks'!$B$6:'Statement of Marks'!$HA$106,79,0),\"\")","v":25},{"$f":"IFERROR(VLOOKUP($O$4,'Statement of Marks'!$B$6:'Statement of Marks'!$HA$106,80,0),\"\")","v":17},{"$f":"IFERROR(VLOOKUP($O$4,'Statement of Marks'!$B$6:'Statement of Marks'!$HA$106,81,0),\"\")","v":57},{"$f":"IFERROR(VLOOKUP($O$4,'Statement of Marks'!$B$6:'Statement of Marks'!$HA$106,82,0),\"\")","v":""},{"$f":"IF(AND(H14=\"\",I14=\"\"),\"\",IF(AND(H14=\"AB\",CB107=\"AB\"),\"AB\",IF(AND(H14=\"ML\",I14=\"ML\"),\"RE\",SUM(H14,I14))))","v":57},{"$f":"IFERROR(VLOOKUP($O$4,'Statement of Marks'!$B$6:'Statement of Marks'!$HA$106,84,0),\"\")","v":41},{"$f":"IFERROR(VLOOKUP($O$4,'Statement of Marks'!$B$6:'Statement of Marks'!$HA$106,85,0),\"\")","v":30},{"$f":"IFERROR(VLOOKUP($O$4,'Statement of Marks'!$B$6:'Statement of Marks'!$HA$106,86,0),\"\")","v":88},null,{"$f":"IFERROR(VLOOKUP($O$4,'Statement of Marks'!$B$6:'Statement of Marks'!$HA$106,91,0),\"\")","v":"P"},"I","HINDI LITERATURE",{"$nulls":18},{"$f":"'Statement of Marks'!BO1","v":""}]
["vfrfjDr fo\"k;"]
[{"$f":"IF(AN10=1,AN11,IF(AN10=2,AN12,IF(AN10=3,AN13,\"\")))","v":""},null,{"$f":"IFERROR(IF(A16=\"\",\"\",VLOOKUP($O$4,'Statement of Marks'!$B$6:'Statement of Marks'!$HA$106,94,0)),\"\")","v":""},{"$f":"IFERROR(IF(A16=\"\",\"\",VLOOKUP($O$4,'Statement of Marks'!$B$6:'Statement of Marks'!$HA$106,95,0)),\"\")","v":""},{"$f":"IFERROR(IF(A16=\"\",\"\",VLOOKUP($O$4,'Statement of Marks'!$B$6:'Statement of Marks'!$HA$106,96,0)),\"\")","v":""},{"$f":"IFERROR(IF(A16=\"\",\"\",VLOOKUP($O$4,'Statement of Marks'!$B$6:'Statement of Marks'!$HA$106,97,0)),\"\")","v":""},{"$f":"IFERROR(IF(A16=\"\",\"\",VLOOKUP($O$4,'Statement of Marks'!$B$6:'Statement of Marks'!$HA$106,98,0)),\"\")","v":""},{"$f":"IFERROR(IF(A16=\"\",\"\",VLOOKUP($O$4,'Statement of Marks'!$B$6:'Statement of Marks'!$HA$106,99,0)),\"\")","v":""},{"$f":"IFERROR(IF(A16=\"\",\"\",VLOOKUP($O$4,'Statement of Marks'!$B$6:'Statement of Marks'!$HA$106,100,0)),\"\")","v":""},{"$f":"IF(AND(H16=\"\",I16=\"\"),\"\",IF(AND(H16=\"AB\",CB107=\"AB\"),\"AB\",IF(AND(H16=\"ML\",I16=\"ML\"),\"RE\",SUM(H16,I16))))","v":""},{"$f":"IFERROR(IF(A16=\"\",\"\",VLOOKUP($O$4,'Statement of Marks'!$B$6:'Statement of Marks'!$HA$106,102,0)),\"\")","v":""},{"$f":"IFERROR(IF(A16=\"\",\"\",VLOOKUP($O$4,'Statement of Marks'!$B$6:'Statement of Marks'!$HA$106,103,0)),\"\")","v":""},{"$f":"IFERROR(IF(A16=\"\",\"\",VLOOKUP($O$4,'Statement of Marks'!$B$6:'Statement of Marks'!$HA$106,104,0)),\"\")","v":""},null,{"$f":"IFERROR(IF(A16=\"\",\"\",VLOOKUP($O$4,'Statement of Marks'!$B$6:'Statement of Marks'!$HA$106,109,0)),\"\")","v":""},{"$f":"IF(M16=\"\",\"\",IF(O16=\"\",\"\",IF(M16>=60%*$M$9,\"I\",IF(M16>=48%*$M$9,\"II\",IF(M16>=36%*$M$9,\"III\",\"G.P.\")))))","v":""},{"$f":"IF(AND(M16=\"\"),\"\",IF(AND(M16>=75%*M9),A16,\"\"))","v":""}]
[" dqy izkIrkad",null,{"$f":"IF(AND(O4=\"\"),\"\",IF(AND(C10=\"\",C11=\"\",C12=\"\",C13=\"\",C14=\"\",),\"\",SUM(C10:C14)))","v":31},{"$f":"IF(AND(O4=\"\"),\"\",IF(AND(D10=\"\",D11=\"\",D12=\"\",D13=\"\",D14=\"\",),\"\",SUM(D10:D14)))","v":36},{"$f":"IF(AND(O4=\"\"),\"\",IF(AND(E10=\"\",E11=\"\",E12=\"\",E13=\"\",E14=\"\",),\"\",SUM(E10:E14)))","v":36},{"$f":"IF(AND(O4=\"\"),\"\",IF(AND(F10=\"\",F11=\"\",F12=\"\",F13=\"\",F14=\"\",),\"\",SUM(F10:F14)))","v":103},{"$f":"IF(AND(O4=\"\"),\"\",IF(AND(G10=\"\",G11=\"\",G12=\"\",G13=\"\",G14=\"\",),\"\",SUM(G10:G14)))","v":70},{"$f":"IF(AND(O4=\"\"),\"\",IF(AND(H10=\"\",H11=\"\",H12=\"\",H13=\"\",H14=\"\",),\"\",SUM(H10:H14)))","v":233},{"$f":"IF(AND(O4=\"\"),\"\",IF(AND(I10=\"\",I11=\"\",I12=\"\",I13=\"\",I14=\"\",),\"\",SUM(I10:I14)))","v":0},{"$f":"IF(AND(O4=\"\"),\"\",IF(AND(J10=\"\",J11=\"\",J12=\"\",J13=\"\",J14=\"\",),\"\",SUM(J10:J14)))","v":233},{"$f":"IF(AND(O4=\"\"),\"\",IF(AND(K10=\"\",K11=\"\",K12=\"\",K13=\"\",K14=\"\",),\"\",SUM(K10:K14)))","v":168},{"$f":"IF(AND(O4=\"\"),\"\",IF(AND(L10=\"\",L11=\"\",L12=\"\",L13=\"\",L14=\"\",),\"\",SUM(L10:L14)))","v":99},{"$f":"IF(AND(M10=\"\",M11=\"\",M12=\"\",M13=\"\",M14=\"\"),\"\",SUM(M10:M14))","v":337},null,"ijh{kk ifj.kke"]
[" dqy iw.kkZad",null,{"$f":"IF(C17=\"\",\"\",50-(COUNTIF(C10:C14,\"NA\")*10+COUNTIF(C10:C14,\"ML\")*10))","v":50},{"$f":"IF(D17=\"\",\"\",50-(COUNTIF(D10:D14,\"NA\")*10+COUNTIF(D10:D14,\"ML\")*10))","v":50},{"$f":"IF(E17=\"\",\"\",50-(COUNTIF(E10:E14,\"NA\")*10+COUNTIF(E10:E14,\"ML\")*10))","v":40},{"$f":"IF(F17=\"\",\"\",SUM(C18:E18))","v":140},{"$f":"IF(G17=\"\",\"\",ROUND(CEILING((SUM(F18) * 20 / 30),1), 0))","v":94},{"$f":"IF(H17=\"\",\"\",350-(COUNT(I10:I14)*20+COUNTIF(H10:H14,\"NA\")*70+COUNTIF(H10:H14,\"ML\")*70))","v":350},{"$f":"IF(I17=\"\",\"\",COUNT(I10:I14)*20-(COUNTIF(I10:I14,\"NA\")*20+COUNTIF(I10:I14,\"ML\")*20))","v":0},{"$f":"IF(J17=\"\",\"\",COUNT(J10:J14)*70-(COUNTIF(J10:J14,\"NA\")*70+COUNTIF(J10:J14,\"ML\")*70))","v":350},{"$f":"IF(K17=\"\",\"\",ROUND(CEILING((SUM(J18) * 50 / 70),1), 0))","v":250},{"$f":"IF(L17=\"\",\"\",COUNT(L10:L14)*30-(COUNTIF(L10:L14,\"NA\")*30+COUNTIF(L10:L14,\"ML\")*30))","v":150},{"$f":"IF(M17=\"\",\"\",SUM(G18,K18,L18))","v":494},null,{"$f":"IF(AND(M20=\"\"),\"\",\"d{kk 11 esa ØeksUur fd;k x;k\")","v":"d{kk 11 esa ØeksUur fd;k x;k"}]
["izfr'kr",null,{"$f":"IFERROR(IF(C18=\"\",\"\",C17/C18*100),\"\")","v":{"v":62,"d":"62.00"}},{"$f":"IFERROR(IF(D18=\"\",\"\",D17/D18*100),\"\")","v":{"v":72,"d":"72.00"}},{"v":90,"d":"90.00"},{"$f":"IFERROR(IF(F18=\"\",\"\",F17/F18*100),\"\")","v":{"v":73.57142857142858,"d":"73.57"}},{"$f":"IFERROR(IF(G18=\"\",\"\",G17/G18*100),\"\")","v":{"v":74.46808510638297,"d":"74.47"}},{"$f":"IFERROR(IF(H18=\"\",\"\",H17/H18*100),\"\")","v":{"v":66.57142857142857,"d":"66.57"}},{"$f":"IFERROR(IF(I18=\"\",\"\",I17/I18*100),\"\")","v":""},{"$f":"IFERROR(IF(J18=\"\",\"\",J17/J18*100),\"\")","v":{"v":66.57142857142857,"d":"66.57"}},{"$f":"IFERROR(IF(K18=\"\",\"\",K17/K18*100),\"\")","v":{"v":67.2,"d":"67.20"}},{"$f":"IFERROR(IF(L18=\"\",\"\",L17/L18*100),\"\")","v":{"v":66,"d":"66.00"}},{"$f":"IFERROR(IF(M18=\"\",\"\",M17/M18*100),\"\")","v":{"v":68.21862348178138,"d":"68.22"}},null,{"$f":"'Statement of Marks'!DU2","v":"JEEVAN KAUSHAL"},null,null,{"$f":"IFERROR(VLOOKUP($O$4,'Statement of Marks'!$B$6:'Statement of Marks'!$HA$106,127,0),\"\")","v":73}]
["ifj.kke ?kks\"k.kk fnukad",null,null,{"$f":"IF(AND(O4=\"\"),\"\",IF('Master sheet'!C12=\"\",\"\",'Master sheet'!C12))","v":"2020-04-10"},null,"dqy fefVax",null,{"$f":"IFERROR(VLOOKUP($O$4,'Student DATA Entry'!A3:'Student DATA Entry'!J102,9,0),\"\")","v":324},"dqy mi-",null,{"$f":"IFERROR(VLOOKUP($O$4,'Student DATA Entry'!A3:'Student DATA Entry'!J102,10,0),\"\")","v":0},"Js.kh",{"$f":"IFERROR(VLOOKUP($O$4,'Statement of Marks'!$B$6:'Statement of Marks'!$HA$106,162,0),\"\")","v":"I"},"d{kk esa LFkku",null,null,{"$f":"IFERROR(VLOOKUP($O$4,'Statement of Marks'!$B$6:'Statement of Marks'!$HA$106,163,0),\"\")","v":4.9999999999999964}]
["gLrk{kj d{kk/;kid",{"$nulls":3},{"$f":"IF(AND(O4=\"\"),\"\",CONCATENATE(\"( \",'Master sheet'!C15,\" )\"))","v":"( Bhagwan Singh )"},{"$nulls":4},"gLrk{kj tk¡pdrkZ",{"$nulls":3},{"$f":"IF(AND(O4=\"\"),\"\",CONCATENATE(\"( \",'Master sheet'!C19,\" )\"))","v":"( Heeralal Jat )"}]
["gLrk{kj ijh{kk izHkkjh",{"$nulls":3},{"$f":"IF(AND(O4=\"\"),\"\",CONCATENATE(\"( \",'Master sheet'!C18,\" )\"))","v":"( Mahendra Patel )"},{"$nulls":4},"gLrk{kj laLFkk izz/kku",{"$nulls":3},{"$f":"IF(AND(O4=\"\"),\"\",CONCATENATE(\"( \",'Master sheet'!C16,\" )\"))","v":"( MISHRILAL )"}]

{"sheet":"Certificate","index":10,"n_rows":28,"n_cols":17,"rows_kept":28,"merged":[[0,0,0,9],[2,0,2,9],[4,0,4,9],[6,2,6,7],[7,16,16,18],[8,0,8,2],[8,5,8,8],[10,0,10,2],[12,3,12,6],[15,2,15,5],[15,6,15,9],[16,0,16,3],[16,4,16,7],[16,8,16,9],[17,0,17,2],[17,3,17,6],[17,8,17,9],[18,0,18,1],[18,2,18,3],[18,4,18,7],[18,8,18,9],[19,0,19,2],[21,2,21,9],[22,2,22,7],[25,0,25,1],[25,2,25,3],[25,5,25,9],[26,4,26,9],[27,5,27,6],[27,7,27,9]]}
[]
[]
["Rajasthan Govt.  (Education Department)"]
[]
[{"$f":"IF(AND(D9=\"\"),\"-------------------------------------------------------------------------\",CONCATENATE(\"School Name :-\",\"  \",'Master sheet'!C8))","v":"School Name :-  Governt Senior Secondary School INDERWARA"}]
[]
[null,null,"School Promoted Certificate"]
[{"$nulls":16},"EIf you want Class Promoted Certificate of any student 9th Class , you must be write Roll No. in Yellow Colour Cell              Either Move Form Develover Tab Butten          If you want Blank Format , Remove Entry From Yellow Cell."]
["Roll No. :-",null,null,1102,null,"Session :  2019-20"]
[]
["Scholar No. :-",null,null,{"$f":"IFERROR(VLOOKUP($D$9,'Statement of Marks'!$B$6:'Statement of Marks'!$HA$106,2,0),\"----\")","v":107}]
[]
[{"$nulls":3},"Class : 11th"]
[]
[]
[null,null,"This is Certified that",{"$nulls":3},{"$f":"IFERROR(VLOOKUP($D$9,'Statement of Marks'!$B$6:'Statement of Marks'!$HA$106,4,0),\"-------------------------------\")","v":"ANJU CHOUDHARY"}]
["(Stusents's Name) Son/Daughter",{"$nulls":3},{"$f":"IFERROR(VLOOKUP($D$9,'Statement of Marks'!$B$6:'Statement of Marks'!$HA$106,6,0),\"----------------------------------\")","v":"CHAMPA DEVI"},{"$nulls":3},"(Mother Name)"]
[{"$f":"IFERROR(VLOOKUP($D$9,'Statement of Marks'!$B$6:'Statement of Marks'!$HA$106,5,0),\"---------------------------------\")","v":"FUA RAM"},null,null,"(Father Name)   Class",{"$nulls":3},{"$f":"IF(AND(D9=\"\"),\"\",IF(AND('Marks Entry'!G2=\"\"),\"\",'Marks Entry'!G2))","v":"11'A'"},"Date Of Birth"]
[{"$f":"IFERROR(VLOOKUP($D$9,'Statement of Marks'!$B$6:'Statement of Marks'!$HA$106,3,0),\"--------------\")","v":"11-03-2005"},null,"School Name",null,{"$f":"IF(AND(D9=\"\"),\"------------------------------\",IF(AND('Master sheet'!C11=\"\"),\"\",'Master sheet'!C11))","v":"G.S.S.S. Inderwara, Rani"},{"$nulls":3},"Is Promoted "]
["For Next Class 12th."]
[]
[null,null,"This certificate will be valid for qualification/Completion "]
["of class",{"$f":"IF(AND(H18=\"\"),\"------\",H18)","v":"11'A'"},"and admission in the Next Class."]
[]
[]
["Date :",null,{"$f":"IF(AND(D9=\"\"),\"------------\",TODAY())","v":"2020-06-10"},null,null,{"$f":"IF(AND(D9=\"\"),\"\",CONCATENATE(\"( \",'Master sheet'!C16,\" )\"))","v":"( MISHRILAL )"}]
[{"$nulls":4},"Signature of the Head of the Institution"]
[{"$nulls":5},"UDISE Code :",null,{"$f":"IF(AND(D9=\"\"),\"-------------------\",CONCATENATE(\"( \",'Master sheet'!C9,\" )\"))","v":"( 8200303101 )"}]